Workbook

Sheet Orçamento
H2: SERPO
H3: Secretaria de Serviços Públicos e Obras
A4: PLANILHA ORÇAMENTÁRIA | I4: REV. | J4: 46232
A5: OBRA: | B5: IMPLANTAÇÃO DE PRAÇA VOLTADA À CULTURA ROMANI NO JARDIM EUROPA | I5: BDI Obra: | J5: 0.22
A6: LOCAL: | B6: ALAMEDA ITÁLIA ESQUINA COM RUA YUGOSLAVIA - JARDIM EUROPA, SOROCABA/SP | I6: Área (m²): | J6: 235
A8: ITEM | B8: CÓDIGO | C8: REFERÊNCIA | D8: DISCRIMINAÇÃO DO SERVIÇO | E8: UNIDADE | F8: QUANTIDADE | G8: PREÇO UNITÁRIO (S/ BDI) | H8: PREÇO UNITÁRIO (C/ BDI) | I8: PREÇO TOTAL (SEM BDI) | J8: PREÇO TOTAL (COM BDI) | K8: $ sem BDI | L8: $ com BDI | M8: Caso tenha alguma observação no item, escrever abaixo | O8: Conferências
A9: 1 | D9: SERVIÇOS PRELIMINARES | K9: =I29 -> 35224.55 | L9: =J29 -> 42955.56 | M9: OBSERVAÇÃO | N9: =A9 -> 1 | O9: =IF(L9=SUM(L10:L29),"OK","NOK") -> OK
A10: 1.1 | D10: CANTEIRO DE OBRAS | H10: SUBTOTAL | I10: =SUBTOTAL(9,I11:I14) -> 16761.72 | J10: =SUBTOTAL(9,J11:J14) -> 20448.22 | K10: =SUM(I11:I14) -> 16761.72 | L10: =SUM(J11:J14) -> 20448.22
A11: 1.1.1 | B11: 02.08.040 | C11: CDHU | D11: PLACA EM LONA COM IMPRESSÃO DIGITAL E REQUADRO EM METALON | E11: M2 | F11: 6 | G11: 450.11 | H11: =TRUNC(G11*(1+$J$5),2) -> 549.13 | I11: =TRUNC(G11*F11,2) -> 2700.66 | J11: =TRUNC(H11*F11,2) -> 3294.78 | K11: =J11/$J$212 -> 0.018999454
A12: 1.1.2 | B12: 02.01.180 | C12: CDHU | D12: BANHEIRO QUÍMICO MODELO STANDARD, COM MANUTENÇÃO CONFORME EXIGÊNCIAS DA CETESB | E12: UNMES | F12: 4 | G12: 1259.68 | H12: =TRUNC(G12*(1+$J$5),2) -> 1536.8 | I12: =TRUNC(G12*F12,2) -> 5038.72 | J12: =TRUNC(H12*F12,2) -> 6147.2 | K12: =J12/$J$212 -> 0.035448024
A13: 1.1.3 | B13: 02.02.150 | C13: CDHU | D13: LOCAÇÃO DE CONTAINER TIPO DEPÓSITO - ÁREA MÍNIMA DE 13,80 M² | E13: UNMES | F13: 4 | G13: 998.21 | H13: =TRUNC(G13*(1+$J$5),2) -> 1217.81 | I13: =TRUNC(G13*F13,2) -> 3992.84 | J13: =TRUNC(H13*F13,2) -> 4871.24 | K13: =J13/$J$212 -> 0.02809016
A14: 1.1.4 | B14: 01-005-040 | C14: SIURB - EDIF | D14: TELA PARA PROTEÇÃO DE OBRAS, MALHA 2 MM | E14: M2 | F14: 150 | G14: 33.53 | H14: =TRUNC(G14*(1+$J$5),2) -> 40.9 | I14: =TRUNC(G14*F14,2) -> 5029.5 | J14: =TRUNC(H14*F14,2) -> 6135 | K14: =J14/$J$212 -> 0.035377673
A15: 1.2 | D15: LOCAÇÃO DE OBRA | H15: SUBTOTAL | I15: =SUBTOTAL(9,I16:I17) -> 454.18 | J15: =SUBTOTAL(9,J16:J17) -> 552.76 | K15: =SUM(I16:I17) -> 454.18 | L15: =SUM(J16:J17) -> 552.76
A16: 1.2.1 | B16: 02.10.050 | C16: CDHU | D16: LOCAÇÃO PARA MUROS, CERCAS E ALAMBRADOS | E16: M | F16: 14.8 | G16: 1.55 | H16: =TRUNC(G16*(1+$J$5),2) -> 1.89 | I16: =TRUNC(G16*F16,2) -> 22.94 | J16: =TRUNC(H16*F16,2) -> 27.97 | K16: =J16/$J$212 -> 0.00016128989
A17: 1.2.2 | B17: 02.10.060 | C17: CDHU | D17: LOCAÇÃO DE VIAS, CALÇADAS, TANQUES E LAGOAS | E17: M2 | F17: 228.17 | G17: 1.89 | H17: =TRUNC(G17*(1+$J$5),2) -> 2.3 | I17: =TRUNC(G17*F17,2) -> 431.24 | J17: =TRUNC(H17*F17,2) -> 524.79 | K17: =J17/$J$212 -> 0.0030262182
A18: 1.3 | D18: LIMPEZA DO TERRENO | H18: SUBTOTAL | I18: =SUBTOTAL(9,I19:I22) -> 12394 | J18: =SUBTOTAL(9,J19:J22) -> 15105.53 | K18: =SUM(I19:I22) -> 12394 | L18: =SUM(J19:J22) -> 15105.53
A19: 1.3.1 | B19: 98524 | C19: SINAPI | D19: LIMPEZA MANUAL DE VEGETAÇÃO EM TERRENO COM ENXADA. AF_03/2024 | E19: M2 | F19: 432.08 | G19: 6.61 | H19: =TRUNC(G19*(1+$J$5),2) -> 8.06 | I19: =TRUNC(G19*F19,2) -> 2856.04 | J19: =TRUNC(H19*F19,2) -> 3482.56 | K19: =J19/$J$212 -> 0.020082293
A20: 1.3.2 | B20: 100975 | C20: SINAPI | D20: CARGA, MANOBRA E DESCARGA DE SOLOS E MATERIAIS GRANULARES EM CAMINHÃO BASCULANTE 14 M³ - CARGA COM PÁ CARREGADEIRA (CAÇAMBA DE 1,7 A 2,8 M³ / 128 HP) E DESCARGA LIVRE (UNIDADE: M3). AF_02/2026 | E20: M3 | F20: 122.36 | G20: 8.75 | H20: =TRUNC(G20*(1+$J$5),2) -> 10.67 | I20: =TRUNC(G20*F20,2) -> 1070.65 | J20: =TRUNC(H20*F20,2) -> 1305.58 | K20: =J20/$J$212 -> 0.0075286686
A21: 1.3.3 | B21: 95876 | C21: SINAPI | D21: TRANSPORTE COM CAMINHÃO BASCULANTE DE 14 M³, EM VIA URBANA PAVIMENTADA, DMT ATÉ 30 KM (UNIDADE: M3XKM). AF_02/2026 | E21: M3XKM | F21: 1835.4 | G21: 2.53 | H21: =TRUNC(G21*(1+$J$5),2) -> 3.08 | I21: =TRUNC(G21*F21,2) -> 4643.56 | J21: =TRUNC(H21*F21,2) -> 5653.03 | K21: =J21/$J$212 -> 0.032598377
A22: 1.3.4 | B22: 05.09.007 | C22: CDHU | D22: TAXA DE DESTINAÇÃO DE RESÍDUO SÓLIDO EM ATERRO, TIPO SOLO/TERRA | E22: M3 | F22: 122.36 | G22: 31.25 | H22: =TRUNC(G22*(1+$J$5),2) -> 38.12 | I22: =TRUNC(G22*F22,2) -> 3823.75 | J22: =TRUNC(H22*F22,2) -> 4664.36 | K22: =J22/$J$212 -> 0.02689718
A23: 1.4 | D23: TERRAPLANAGEM | H23: SUBTOTAL | I23: =SUBTOTAL(9,I24:I28) -> 5614.65 | J23: =SUBTOTAL(9,J24:J28) -> 6849.05 | K23: =SUM(I24:I28) -> 5614.65 | L23: =SUM(J24:J28) -> 6849.05
A24: 1.4.1 | B24: 06.01.020 | C24: CDHU | D24: ESCAVAÇÃO MANUAL EM SOLO DE 1ª E 2ª CATEGORIA EM CAMPO ABERTO | E24: M3 | F24: 56.35 | G24: 59.75 | H24: =TRUNC(G24*(1+$J$5),2) -> 72.89 | I24: =TRUNC(G24*F24,2) -> 3366.91 | J24: =TRUNC(H24*F24,2) -> 4107.35 | K24: =J24/$J$212 -> 0.023685164
A25: 1.4.2 | B25: 100977 | C25: SINAPI | D25: CARGA, MANOBRA E DESCARGA DE SOLOS E MATERIAIS GRANULARES EM CAMINHÃO BASCULANTE 6 M³ - CARGA COM ESCAVADEIRA HIDRÁULICA (CAÇAMBA DE 1,20 M³ / 155 HP) E DESCARGA LIVRE (UNIDADE: M3). AF_02/2026 | E25: M3 | F25: 70.44 | G25: 8.78 | H25: =TRUNC(G25*(1+$J$5),2) -> 10.71 | I25: =TRUNC(G25*F25,2) -> 618.46 | J25: =TRUNC(H25*F25,2) -> 754.41 | K25: =J25/$J$212 -> 0.0043503293
A26: 1.4.3 | B26: 97914 | C26: SINAPI | D26: TRANSPORTE COM CAMINHÃO BASCULANTE DE 6 M³, EM VIA URBANA PAVIMENTADA, DMT ATÉ 30 KM (UNIDADE: M3XKM). AF_02/2026 | E26: M3XKM | F26: 173.63 | G26: 3.5 | H26: =TRUNC(G26*(1+$J$5),2) -> 4.27 | I26: =TRUNC(G26*F26,2) -> 607.7 | J26: =TRUNC(H26*F26,2) -> 741.4 | K26: =J26/$J$212 -> 0.0042753067
A27: 1.4.4 | B27: 07.12.030 | C27: CDHU | D27: COMPACTAÇÃO DE ATERRO MECANIZADO A 100% PN, SEM FORNECIMENTO DE SOLO EM CAMPO ABERTO | E27: M3 | F27: 58.86 | G27: 12.44 | H27: =TRUNC(G27*(1+$J$5),2) -> 15.17 | I27: =TRUNC(G27*F27,2) -> 732.21 | J27: =TRUNC(H27*F27,2) -> 892.9 | K27: =J27/$J$212 -> 0.0051489363
A28: 1.4.5 | B28: 05.09.007 | C28: CDHU | D28: TAXA DE DESTINAÇÃO DE RESÍDUO SÓLIDO EM ATERRO, TIPO SOLO/TERRA | E28: M3 | F28: 9.26 | G28: 31.25 | H28: =TRUNC(G28*(1+$J$5),2) -> 38.12 | I28: =TRUNC(G28*F28,2) -> 289.37 | J28: =TRUNC(H28*F28,2) -> 352.99 | K28: =J28/$J$212 -> 0.0020355281
H29: TOTAL ITEM | I29: =SUBTOTAL(9,I11:I28) -> 35224.55 | J29: =SUBTOTAL(9,J11:J28) -> 42955.56
A30: 2 | D30: EXECUÇÃO DE PISOS | K30: =I44 -> 32075.45 | L30: =J44 -> 39128.35 | N30: =A30 -> 2 | O30: =IF(L30=SUM(L31:L43),"OK","NOK") -> OK
A31: 2.1 | D31: PISO INTERTRAVADO - PRAÇA | H31: SUBTOTAL | I31: =SUBTOTAL(9,I32:I36) -> 25634.72 | J31: =SUBTOTAL(9,J32:J36) -> 31271.47 | K31: =SUM(I32:I36) -> 25634.72 | L31: =SUM(J32:J36) -> 31271.47
A32: 2.1.1 | B32: 06.01.020 | C32: CDHU | D32: ESCAVAÇÃO MANUAL EM SOLO DE 1ª E 2ª CATEGORIA EM CAMPO ABERTO | E32: M3 | F32: 26.56 | G32: 59.75 | H32: =TRUNC(G32*(1+$J$5),2) -> 72.89 | I32: =TRUNC(G32*F32,2) -> 1586.96 | J32: =TRUNC(H32*F32,2) -> 1935.95 | K32: =J32/$J$212 -> 0.011163717
A33: 2.1.2 | B33: 97084 | C33: SINAPI | D33: COMPACTAÇÃO MECÂNICA DE SOLO PARA EXECUÇÃO DE RADIER, PISO DE CONCRETO OU LAJE SOBRE SOLO, COM COMPACTADOR DE SOLOS TIPO PLACA VIBRATÓRIA. AF_09/2021 | E33: M2 | F33: 166 | G33: 0.95 | H33: =TRUNC(G33*(1+$J$5),2) -> 1.15 | I33: =TRUNC(G33*F33,2) -> 157.7 | J33: =TRUNC(H33*F33,2) -> 190.9 | K33: =J33/$J$212 -> 0.0011008309
A34: 2.1.3 | B34: 11.18.040 | C34: CDHU | D34: LASTRO DE PEDRA BRITADA | E34: M3 | F34: 8.3 | G34: 228.38 | H34: =TRUNC(G34*(1+$J$5),2) -> 278.62 | I34: =TRUNC(G34*F34,2) -> 1895.55 | J34: =TRUNC(H34*F34,2) -> 2312.54 | K34: =J34/$J$212 -> 0.013335335
A35: 2.1.4 | B35: 92396 | C35: SINAPI | D35: EXECUÇÃO DE PASSEIO EM PISO INTERTRAVADO, COM BLOCO RETANGULAR COR NATURAL DE 20 X 10 CM, ESPESSURA 6 CM. AF_10/2022 | E35: M2 | F35: 166 | G35: 113.07 | H35: =TRUNC(G35*(1+$J$5),2) -> 137.94 | I35: =TRUNC(G35*F35,2) -> 18769.62 | J35: =TRUNC(H35*F35,2) -> 22898.04 | K35: =J35/$J$212 -> 0.13204228
A36: 2.1.5 | B36: 54.06.020 | C36: CDHU | D36: GUIA PRÉ-MOLDADA CURVA TIPO PMSP 100 - FCK 25 MPA | E36: M | F36: 47.12 | G36: 68.44 | H36: =TRUNC(G36*(1+$J$5),2) -> 83.49 | I36: =TRUNC(G36*F36,2) -> 3224.89 | J36: =TRUNC(H36*F36,2) -> 3934.04 | K36: =J36/$J$212 -> 0.022685767
A37: 2.2 | D37: CONCRETO - PASSEIO PÚBLICO | H37: SUBTOTAL | I37: =SUBTOTAL(9,I38:I43) -> 6440.73 | J37: =SUBTOTAL(9,J38:J43) -> 7856.88 | K37: =SUM(I38:I43) -> 6440.73 | L37: =SUM(J38:J43) -> 7856.88
A38: 2.2.1 | B38: 06.01.020 | C38: CDHU | D38: ESCAVAÇÃO MANUAL EM SOLO DE 1ª E 2ª CATEGORIA EM CAMPO ABERTO | E38: M3 | F38: 8.08 | G38: 59.75 | H38: =TRUNC(G38*(1+$J$5),2) -> 72.89 | I38: =TRUNC(G38*F38,2) -> 482.78 | J38: =TRUNC(H38*F38,2) -> 588.95 | K38: =J38/$J$212 -> 0.0033961989
A39: 2.2.2 | B39: 97084 | C39: SINAPI | D39: COMPACTAÇÃO MECÂNICA DE SOLO PARA EXECUÇÃO DE RADIER, PISO DE CONCRETO OU LAJE SOBRE SOLO, COM COMPACTADOR DE SOLOS TIPO PLACA VIBRATÓRIA. AF_09/2021 | E39: M2 | F39: 62.17 | G39: 0.95 | H39: =TRUNC(G39*(1+$J$5),2) -> 1.15 | I39: =TRUNC(G39*F39,2) -> 59.06 | J39: =TRUNC(H39*F39,2) -> 71.49 | K39: =J39/$J$212 -> 0.00041224936
A40: 2.2.3 | B40: 11.18.040 | C40: CDHU | D40: LASTRO DE PEDRA BRITADA | E40: M3 | F40: 3.11 | G40: 228.38 | H40: =TRUNC(G40*(1+$J$5),2) -> 278.62 | I40: =TRUNC(G40*F40,2) -> 710.26 | J40: =TRUNC(H40*F40,2) -> 866.5 | K40: =J40/$J$212 -> 0.0049966998
A41: 2.2.4 | B41: 94990 | C41: SINAPI | D41: EXECUÇÃO DE PASSEIO (CALÇADA) OU PISO DE CONCRETO COM CONCRETO MOLDADO IN LOCO, FEITO EM OBRA, ACABAMENTO CONVENCIONAL, NÃO ARMADO. AF_08/2022 | E41: M3 | F41: 4.97 | G41: 827.78 | H41: =TRUNC(G41*(1+$J$5),2) -> 1009.89 | I41: =TRUNC(G41*F41,2) -> 4114.06 | J41: =TRUNC(H41*F41,2) -> 5019.15 | K41: =J41/$J$212 -> 0.028943088
A42: 2.2.5 | B42: 11.20.050 | C42: CDHU | D42: CORTE DE JUNTA DE DILATAÇÃO, COM SERRA DE DISCO DIAMANTADO PARA PISOS | E42: M | F42: 22.8 | G42: 12.03 | H42: =TRUNC(G42*(1+$J$5),2) -> 14.67 | I42: =TRUNC(G42*F42,2) -> 274.28 | J42: =TRUNC(H42*F42,2) -> 334.47 | K42: =J42/$J$212 -> 0.0019287319
...

Sheet Composições Abertas
G2: SERPO
G3: Secretaria de Serviços Públicos e Obras
A4: COMPOSIÇÕES | H4: REV. | I4: 46232
A5: OBRA: | B5: IMPLANTAÇÃO DE PRAÇA VOLTADA À CULTURA ROMANI NO JARDIM EUROPA | H5: BDI Obra: | I5: 0.22
A6: LOCAL: | B6: ALAMEDA ITÁLIA ESQUINA COM RUA YUGOSLAVIA - JARDIM EUROPA, SOROCABA/SP | H6: Área (m²): | I6: 235
A8: TIPO / ITEM | B8: BASE | C8: CÓDIGO / REF. | D8: DESCRIÇÃO | E8: UNID | F8: COEF. / QTD | G8: PREÇO UNIT. | H8: CUSTO TOTAL | I8: CONFERÊNCIA
A9: 1.1.2001 | B9: CDHU | C9: 02.08.1940 | D9: PLACA EM LONA COM IMPRESSÃO DIGITAL E REQUADRO EM METALON | E9: M2 | F9: QTD: 6 | G9: =SUM(H10:H13) -> 450.11 | H9: =TRUNC(G9 * VALUE(SUBSTITUTE(F9,"QTD: ","")), 2) -> 2700.66 | I9: =IF(ROUND(ABS(G9-Orçamento!G11),2)<0.01,"OK","DIVERGENTE") -> OK
A10: INSUMO | B10: CDHU | C10: B.01.000.010144 | D10: SERRALHEIRO | E10: H | F10: 0,5 | G10: 37.91 | H10: =ROUND(F10*G10,2) -> 18.96
A11: INSUMO | B11: CDHU | C11: B.01.000.010145 | D11: AJUDANTE SERRALHEIRO | E11: H | F11: 0,5 | G11: 23.9 | H11: =ROUND(F11*G11,2) -> 11.95
A12: INSUMO | B12: CDHU | C12: N.04.000.039114 | D12: BANNER EM LONA COM IMPRESSÃO DIGITALMENTE, COM BAINHA REFORÇADA E ILHOSES | E12: M2 | F12: 1 | G12: 113.44 | H12: =ROUND(F12*G12,2) -> 113.44
A13: INSUMO | B13: CDHU | C13: N.04.000.039115 | D13: REQUADRO EM METALON PARA BANNER EM LONA IMPRESSO | E13: M | F13: 0,917 | G13: 333.43 | H13: =ROUND(F13*G13,2) -> 305.76
A15: 1.1.2002 | B15: CDHU | C15: 02.01.0180 | D15: BANHEIRO QUÍMICO MODELO STANDARD, COM MANUTENÇÃO CONFORME EXIGÊNCIAS DA CETESB | E15: UNMES | F15: QTD: 4 | G15: =SUM(H16) -> 1259.68 | H15: =TRUNC(G15 * VALUE(SUBSTITUTE(F15,"QTD: ","")), 2) -> 5038.72 | I15: =IF(ROUND(ABS(G15-Orçamento!G12),2)<0.01,"OK","DIVERGENTE") -> OK
A16: INSUMO | B16: CDHU | C16: A.14.000.081900 | D16: BANHEIRO QUÍMICO, MODELO STANDARD, COM LIMPEZA 1 VEZ POR SEMANA E DESCARTE CONFORME EXIGÊNCIAS DA CETESB | E16: UNMES | F16: 1 | G16: 1259.68 | H16: =ROUND(F16*G16,2) -> 1259.68
A18: 1.1.2003 | B18: CDHU | C18: 02.02.0150 | D18: LOCAÇÃO DE CONTAINER TIPO DEPÓSITO - ÁREA MÍNIMA DE 13,80 M² | E18: UNMES | F18: QTD: 4 | G18: =SUM(H19:H22) -> 998.21 | H18: =TRUNC(G18 * VALUE(SUBSTITUTE(F18,"QTD: ","")), 2) -> 3992.84 | I18: =IF(ROUND(ABS(G18-Orçamento!G13),2)<0.01,"OK","DIVERGENTE") -> OK
A19: INSUMO | B19: CDHU | C19: A.12.000.021099 | D19: CONTAINER DEPÓSITO, MÓDULO METÁLICO EM AÇO GALVANIZADO DE 6,0X2,3X2,5M, VÃO LIVRE, PISO DE CONCRETO, CIMENTADO, MADEIRA OU MATERIAL EQUIVALENTE | E19: UNMES | F19: 1 | G19: 900.63 | H19: =ROUND(F19*G19,2) -> 900.63
A20: INSUMO | B20: CDHU | C20: B.01.000.010101 | D20: AJUDANTE GERAL | E20: H | F20: 1,32 | G20: 23.9 | H20: =ROUND(F20*G20,2) -> 31.55
A21: INSUMO | B21: CDHU | C21: B.01.000.010115 | D21: ELETRICISTA | E21: H | F21: 0,99 | G21: 34.83 | H21: =ROUND(F21*G21,2) -> 34.48
A22: INSUMO | B22: CDHU | C22: B.01.000.010116 | D22: AJUDANTE ELETRICISTA | E22: H | F22: 1,32 | G22: 23.9 | H22: =ROUND(F22*G22,2) -> 31.55
A24: 1.1.2004 | B24: SIURB - EDIF | C24: 01-005-040 | D24: TELA PARA PROTEÇÃO DE OBRAS, MALHA 2 MM | E24: M2 | F24: QTD: 150 | G24: 33.53 | H24: =TRUNC(G24 * VALUE(SUBSTITUTE(F24,"QTD: ","")), 2) -> 5029.5 | I24: =IF(ROUND(ABS(G24-Orçamento!G14),2)<0.01,"OK","DIVERGENTE") -> OK
A25: INSUMO | B25: SIURB - EDIF | C25: 2013 | D25: CARPINTEIRO (SGSP) | E25: H | F25: 0,44 | G25: 33.86 | H25: =ROUND(F25*G25,2) -> 14.9
A26: INSUMO | B26: SIURB - EDIF | C26: 2099 | D26: SERVENTE (SGSP) | E26: H | F26: 0,53 | G26: 25.89 | H26: =ROUND(F26*G26,2) -> 13.72
A27: INSUMO | B27: SIURB - EDIF | C27: 11046 | D27: PINUS - PONTALETE DE 3" X 3" - BRUTO | E27: M | F27: 0,06 | G27: 7.58 | H27: =ROUND(F27*G27,2) -> 0.45
A28: INSUMO | B28: SIURB - EDIF | C28: 11066 | D28: PINUS - SARRAFO DE 1" X 4" - BRUTO | E28: M | F28: 0,2 | G28: 3.2 | H28: =ROUND(F28*G28,2) -> 0.64
A29: INSUMO | B29: SIURB - EDIF | C29: 17515 | D29: PREGO 18 X 27 COMUM - POLIDO | E29: Kg | F29: 0,01 | G29: 10.03 | H29: =ROUND(F29*G29,2) -> 0.1
A30: INSUMO | B30: SIURB - EDIF | C30: 38043 | D30: TELA POLIETILENO P/ PROTEÇÃO DE FACHADA-TRAMA 2,2MM | E30: M2 | F30: 1,1 | G30: 3.37 | H30: =ROUND(F30*G30,2) -> 3.71
A32: 1.2.2001 | B32: CDHU | C32: 02.10.1950 | D32: LOCAÇÃO PARA MUROS, CERCAS E ALAMBRADOS | E32: M | F32: QTD: 14,8 | G32: =SUM(H33:H35) -> 1.55 | H32: =TRUNC(G32 * VALUE(SUBSTITUTE(F32,"QTD: ","")), 2) -> 22.94 | I32: =IF(ROUND(ABS(G32-Orçamento!G16),2)<0.01,"OK","DIVERGENTE") -> OK
A33: INSUMO | B33: CDHU | C33: B.01.000.010160 | D33: AJUDANTE DE TOPÓGRAFO | E33: H | F33: 0,012 | G33: 23.9 | H33: =ROUND(F33*G33,2) -> 0.29
A34: INSUMO | B34: CDHU | C34: B.01.000.010185 | D34: TOPOGRAFO | E34: H | F34: 0,004 | G34: 50.21 | H34: =ROUND(F34*G34,2) -> 0.2
A35: INSUMO | B35: CDHU | C35: S.01.000.080352 | D35: VEÍCULO UTILITÁRIO COM CAPACIDADE PARA 9 PESSOAS - 1.600 CC - COND.D | E35: H | F35: 0,01 | G35: 105.87 | H35: =ROUND(F35*G35,2) -> 1.06
A37: 1.2.2002 | B37: CDHU | C37: 02.10.1960 | D37: LOCAÇÃO DE VIAS, CALÇADAS, TANQUES E LAGOAS | E37: M2 | F37: QTD: 228,17 | G37: =SUM(H38:H43) -> 1.89 | H37: =TRUNC(G37 * VALUE(SUBSTITUTE(F37,"QTD: ","")), 2) -> 431.24 | I37: =IF(ROUND(ABS(G37-Orçamento!G17),2)<0.01,"OK","DIVERGENTE") -> OK
A38: INSUMO | B38: CDHU | C38: B.01.000.010160 | D38: AJUDANTE DE TOPÓGRAFO | E38: H | F38: 0,024 | G38: 23.9 | H38: =ROUND(F38*G38,2) -> 0.57
A39: INSUMO | B39: CDHU | C39: B.01.000.010185 | D39: TOPOGRAFO | E39: H | F39: 0,008 | G39: 50.21 | H39: =ROUND(F39*G39,2) -> 0.4
A40: INSUMO | B40: CDHU | C40: D.02.000.021009 | D40: PONTALETE DE CEDRINHO DE 75 MM X 75 MM - 3ª CONSTRUÇÃO | E40: M | F40: 0,0093 | G40: 22.02 | H40: =ROUND(F40*G40,2) -> 0.2
A41: INSUMO | B41: CDHU | C41: E.02.000.026760 | D41: PREGO DIVERSAS BITOLAS (REFERÊNCIA 18 X 27) | E41: KG | F41: 0,001 | G41: 10.22 | H41: =ROUND(F41*G41,2) -> 0.01
A42: INSUMO | B42: CDHU | C42: E.02.000.027025 | D42: ARAME GALVANIZADO Nº 16 BWG | E42: KG | F42: 0,0115 | G42: 15.54 | H42: =ROUND(F42*G42,2) -> 0.18
A43: INSUMO | B43: CDHU | C43: S.01.000.080352 | D43: VEÍCULO UTILITÁRIO COM CAPACIDADE PARA 9 PESSOAS - 1.600 CC - COND.D | E43: H | F43: 0,005 | G43: 105.87 | H43: =ROUND(F43*G43,2) -> 0.53
A45: 1.3.2001 | B45: SINAPI | C45: 98524 | D45: LIMPEZA MANUAL DE VEGETAÇÃO EM TERRENO COM ENXADA. AF_03/2024 | E45: M2 | F45: QTD: 432,08 | G45: =SUM(H46) -> 6.61 | H45: =TRUNC(G45 * VALUE(SUBSTITUTE(F45,"QTD: ","")), 2) -> 2856.04 | I45: =IF(ROUND(ABS(G45-Orçamento!G19),2)<0.01,"OK","DIVERGENTE") -> OK
A46: AUXILIAR (N1) | B46: SINAPI | C46: 88316 | D46: SERVENTE COM ENCARGOS COMPLEMENTARES | E46: H | F46: 0,2132 | G46: 31.04 | H46: =TRUNC(F46*G46,2) -> 6.61 | I46: =IFERROR(IF(ROUND(G46, 2) <> ROUND(VLOOKUP("C"&C46,C:G, 5, FALSE), 2), "VALOR AUXILIAR DIVERGENTE", "OK"), "NÃO ENCONTRADO") -> OK
A48: 1.3.2002 | B48: SINAPI | C48: 100975 | D48: CARGA, MANOBRA E DESCARGA DE SOLOS E MATERIAIS GRANULARES EM CAMINHÃO BASCULANTE 14 M³ - CARGA COM PÁ CARREGADEIRA (CAÇAMBA DE 1,7 A 2,8 M³ / 128 HP) E DESCARGA LIVRE (UNIDADE: M3). AF_02/2026 | E48: M3 | F48: QTD: 122,36 | G48: =SUM(H49:H52) -> 8.75 | H48: =TRUNC(G48 * VALUE(SUBSTITUTE(F48,"QTD: ","")), 2) -> 1070.65 | I48: =IF(ROUND(ABS(G48-Orçamento!G20),2)<0.01,"OK","DIVERGENTE") -> OK
A49: AUXILIAR (N1) | B49: SINAPI | C49: 89877 | D49: CAMINHÃO BASCULANTE 14 M3, COM CAVALO MECÂNICO DE CAPACIDADE MÁXIMA DE TRAÇÃO COMBINADO DE 36000 KG, POTÊNCIA 286 CV, INCLUSIVE SEMIREBOQUE COM CAÇAMBA METÁLICA - CHI DIURNO. AF_12/2014 | E49: CHI | F49: 0,0097073 | G49: 98.62 | H49: =TRUNC(F49*G49,2) -> 0.95 | I49: =IFERROR(IF(ROUND(G49, 2) <> ROUND(VLOOKUP("C"&C49,C:G, 5, FALSE), 2), "VALOR AUXILIAR DIVERGENTE", "OK"), "NÃO ENCONTRADO") -> OK
...

Sheet CRON. AUXILIAR
A1: NÃO ALTERAR ESSA ABA, TRATA-SE DE BASE DE DADOS PARA AS DEMAIS. NÃO É NECESSÁRIA A IMPRESSÃO.
O6: =COLUMN() -> 15 | Q6: =COLUMN() -> 17 | S6: =COLUMN() -> 19 | U6: =COLUMN() -> 21 | W6: =COLUMN() -> 23 | Y6: =COLUMN() -> 25
A8: ITEM | B8: DISCRIMINAÇÃO DO SERVIÇO | C8: 1º MÊS | D8: 2º MÊS | E8: 3º MÊS | F8: 4º MÊS | G8: 5º MÊS | H8: 6º MÊS | I8: UNIDADE | J8: QUANTIDADE TOTAL | K8: PREÇO UNITÁRIO (C/ BDI) | L8: PREÇO TOTAL (COM BDI) | N8: 1º MÊS | P8: 2º MÊS | R8: 3º MÊS | T8: 4º MÊS | V8: 5º MÊS | X8: 6º MÊS | AB8: CONFERÊNCIA
A9: 1 | B9: =VLOOKUP($A9,Orçamento!$A$9:$J$212,4,0) -> SERVIÇOS PRELIMINARES | N9: QTDE | O9: Valor | P9: QTDE | Q9: Valor | R9: QTDE | S9: Valor | T9: QTDE | U9: Valor | V9: QTDE | W9: Valor | X9: QTDE | Y9: Valor
A10: 1.1 | B10: =VLOOKUP($A10,Orçamento!$A$9:$J$212,4,0) -> CANTEIRO DE OBRAS | C10: EVENTO 1 | D10: EVENTO 2 | E10: EVENTO 3 | F10: EVENTO 4 | O10: =SUM(O11:O14) -> 12184.39 | Q10: =SUM(Q11:Q14) -> 2754.61 | S10: =SUM(S11:S14) -> 2754.61 | U10: =SUM(U11:U14) -> 2754.61 | W10: =SUM(W11:W14) -> 0 | Y10: =SUM(Y11:Y14) -> 0
A11: 1.1.1 | B11: =VLOOKUP($A11,Orçamento!$A$9:$J$212,4,0) -> PLACA EM LONA COM IMPRESSÃO DIGITAL E REQUADRO EM METALON | C11: =IF(N11=0,"",CONCATENATE(N11," ",$I11)) -> 6 M2 | D11: =IF(P11=0,"",CONCATENATE(P11," ",$I11)) | E11: =IF(R11=0,"",CONCATENATE(R11," ",$I11)) | F11: =IF(T11=0,"",CONCATENATE(T11," ",$I11)) | G11: =IF(V11=0,"",CONCATENATE(V11," ",$I11)) | H11: =IF(X11=0,"",CONCATENATE(X11," ",$I11)) | I11: =VLOOKUP($A11,Orçamento!$A$9:$J$212,5,0) -> M2 | J11: =VLOOKUP($A11,Orçamento!$A$9:$J$212,6,0) -> 6 | K11: =VLOOKUP($A11,Orçamento!$A$9:$J$212,8,0) -> 549.13 | L11: =VLOOKUP($A11,Orçamento!$A$9:$J$212,10,0) -> 3294.78 | N11: 6 | O11: =IF(N11=0,"",TRUNC($K11*N11,2)) -> 3294.78 | Q11: =IF(P11=0,"",TRUNC($K11*P11,2)) | S11: =IF(R11=0,"",TRUNC($K11*R11,2)) | U11: =IF(T11=0,"",TRUNC($K11*T11,2)) | W11: =IF(V11=0,"",TRUNC($K11*V11,2)) | Y11: =IF(X11=0,"",TRUNC($K11*X11,2)) | AB11: =SUMIF($N$9:$Y$9,$N$9,N11:Y11) -> 6 | AC11: =IF(AB11=J11,"","FALTA") | AD11: =SUMIF($N$9:$Y$9,$O$9,N11:Y11) -> 3294.78 | AE11: =IF(AD11=L11,"","FALTA")
A12: 1.1.2 | B12: =VLOOKUP($A12,Orçamento!$A$9:$J$212,4,0) -> BANHEIRO QUÍMICO MODELO STANDARD, COM MANUTENÇÃO CONFORME EXIGÊNCIAS DA CETESB | C12: =IF(N12=0,"",CONCATENATE(N12," ",$I12)) -> 1 UNMES | D12: =IF(P12=0,"",CONCATENATE(P12," ",$I12)) -> 1 UNMES | E12: =IF(R12=0,"",CONCATENATE(R12," ",$I12)) -> 1 UNMES | F12: =IF(T12=0,"",CONCATENATE(T12," ",$I12)) -> 1 UNMES | G12: =IF(V12=0,"",CONCATENATE(V12," ",$I12)) | H12: =IF(X12=0,"",CONCATENATE(X12," ",$I12)) | I12: =VLOOKUP($A12,Orçamento!$A$9:$J$212,5,0) -> UNMES | J12: =VLOOKUP($A12,Orçamento!$A$9:$J$212,6,0) -> 4 | K12: =VLOOKUP($A12,Orçamento!$A$9:$J$212,8,0) -> 1536.8 | L12: =VLOOKUP($A12,Orçamento!$A$9:$J$212,10,0) -> 6147.2 | N12: =J12/4 -> 1 | O12: =IF(N12=0,"",TRUNC($K12*N12,2)) -> 1536.8 | P12: =J12/4 -> 1 | Q12: =IF(P12=0,"",TRUNC($K12*P12,2)) -> 1536.8 | R12: =J12/4 -> 1 | S12: =IF(R12=0,"",TRUNC($K12*R12,2)) -> 1536.8 | T12: =J12/4 -> 1 | U12: =IF(T12=0,"",TRUNC($K12*T12,2)) -> 1536.8 | W12: =IF(V12=0,"",TRUNC($K12*V12,2)) | Y12: =IF(X12=0,"",TRUNC($K12*X12,2)) | AB12: =SUMIF($N$9:$Y$9,$N$9,N12:Y12) -> 4 | AC12: =IF(AB12=J12,"","FALTA") | AD12: =SUMIF($N$9:$Y$9,$O$9,N12:Y12) -> 6147.2 | AE12: =IF(AD12=L12,"","FALTA")
A13: 1.1.3 | B13: =VLOOKUP($A13,Orçamento!$A$9:$J$212,4,0) -> LOCAÇÃO DE CONTAINER TIPO DEPÓSITO - ÁREA MÍNIMA DE 13,80 M² | C13: =IF(N13=0,"",CONCATENATE(N13," ",$I13)) -> 1 UNMES | D13: =IF(P13=0,"",CONCATENATE(P13," ",$I13)) -> 1 UNMES | E13: =IF(R13=0,"",CONCATENATE(R13," ",$I13)) -> 1 UNMES | F13: =IF(T13=0,"",CONCATENATE(T13," ",$I13)) -> 1 UNMES | G13: =IF(V13=0,"",CONCATENATE(V13," ",$I13)) | H13: =IF(X13=0,"",CONCATENATE(X13," ",$I13)) | I13: =VLOOKUP($A13,Orçamento!$A$9:$J$212,5,0) -> UNMES | J13: =VLOOKUP($A13,Orçamento!$A$9:$J$212,6,0) -> 4 | K13: =VLOOKUP($A13,Orçamento!$A$9:$J$212,8,0) -> 1217.81 | L13: =VLOOKUP($A13,Orçamento!$A$9:$J$212,10,0) -> 4871.24 | N13: =J13/4 -> 1 | O13: =IF(N13=0,"",TRUNC($K13*N13,2)) -> 1217.81 | P13: =J13/4 -> 1 | Q13: =IF(P13=0,"",TRUNC($K13*P13,2)) -> 1217.81 | R13: =J13/4 -> 1 | S13: =IF(R13=0,"",TRUNC($K13*R13,2)) -> 1217.81 | T13: =J13/4 -> 1 | U13: =IF(T13=0,"",TRUNC($K13*T13,2)) -> 1217.81 | W13: =IF(V13=0,"",TRUNC($K13*V13,2)) | Y13: =IF(X13=0,"",TRUNC($K13*X13,2)) | AB13: =SUMIF($N$9:$Y$9,$N$9,N13:Y13) -> 4 | AC13: =IF(AB13=J13,"","FALTA") | AD13: =SUMIF($N$9:$Y$9,$O$9,N13:Y13) -> 4871.24 | AE13: =IF(AD13=L13,"","FALTA")
A14: 1.1.4 | B14: =VLOOKUP($A14,Orçamento!$A$9:$J$212,4,0) -> TELA PARA PROTEÇÃO DE OBRAS, MALHA 2 MM | C14: =IF(N14=0,"",CONCATENATE(N14," ",$I14)) -> 150 M2 | D14: =IF(P14=0,"",CONCATENATE(P14," ",$I14)) | E14: =IF(R14=0,"",CONCATENATE(R14," ",$I14)) | F14: =IF(T14=0,"",CONCATENATE(T14," ",$I14)) | G14: =IF(V14=0,"",CONCATENATE(V14," ",$I14)) | H14: =IF(X14=0,"",CONCATENATE(X14," ",$I14)) | I14: =VLOOKUP($A14,Orçamento!$A$9:$J$212,5,0) -> M2 | J14: =VLOOKUP($A14,Orçamento!$A$9:$J$212,6,0) -> 150 | K14: =VLOOKUP($A14,Orçamento!$A$9:$J$212,8,0) -> 40.9 | L14: =VLOOKUP($A14,Orçamento!$A$9:$J$212,10,0) -> 6135 | N14: =J14 -> 150 | O14: =IF(N14=0,"",TRUNC($K14*N14,2)) -> 6135 | Q14: =IF(P14=0,"",TRUNC($K14*P14,2)) | S14: =IF(R14=0,"",TRUNC($K14*R14,2)) | U14: =IF(T14=0,"",TRUNC($K14*T14,2)) | W14: =IF(V14=0,"",TRUNC($K14*V14,2)) | Y14: =IF(X14=0,"",TRUNC($K14*X14,2)) | AB14: =SUMIF($N$9:$Y$9,$N$9,N14:Y14) -> 150 | AC14: =IF(AB14=J14,"","FALTA") | AD14: =SUMIF($N$9:$Y$9,$O$9,N14:Y14) -> 6135 | AE14: =IF(AD14=L14,"","FALTA")
A16: 1.2 | B16: =VLOOKUP($A16,Orçamento!$A$9:$J$212,4,0) -> LOCAÇÃO DE OBRA | C16: EVENTO 5 | O16: =SUM(O17:O18) -> 552.76 | Q16: =SUM(Q17:Q18) -> 0 | S16: =SUM(S17:S18) -> 0 | U16: =SUM(U17:U18) -> 0 | W16: =SUM(W17:W18) -> 0 | Y16: =SUM(Y17:Y18) -> 0
A17: 1.2.1 | B17: =VLOOKUP($A17,Orçamento!$A$9:$J$212,4,0) -> LOCAÇÃO PARA MUROS, CERCAS E ALAMBRADOS | C17: =IF(N17=0,"",CONCATENATE(N17," ",$I17)) -> 14,8 M | D17: =IF(P17=0,"",CONCATENATE(P17," ",$I17)) | E17: =IF(R17=0,"",CONCATENATE(R17," ",$I17)) | F17: =IF(T17=0,"",CONCATENATE(T17," ",$I17)) | G17: =IF(V17=0,"",CONCATENATE(V17," ",$I17)) | H17: =IF(X17=0,"",CONCATENATE(X17," ",$I17)) | I17: =VLOOKUP($A17,Orçamento!$A$9:$J$212,5,0) -> M | J17: =VLOOKUP($A17,Orçamento!$A$9:$J$212,6,0) -> 14.8 | K17: =VLOOKUP($A17,Orçamento!$A$9:$J$212,8,0) -> 1.89 | L17: =VLOOKUP($A17,Orçamento!$A$9:$J$212,10,0) -> 27.97 | N17: =J17 -> 14.8 | O17: =IF(N17=0,"",TRUNC($K17*N17,2)) -> 27.97 | Q17: =IF(P17=0,"",TRUNC($K17*P17,2)) | S17: =IF(R17=0,"",TRUNC($K17*R17,2)) | U17: =IF(T17=0,"",TRUNC($K17*T17,2)) | W17: =IF(V17=0,"",TRUNC($K17*V17,2)) | Y17: =IF(X17=0,"",TRUNC($K17*X17,2)) | AB17: =SUMIF($N$9:$Y$9,$N$9,N17:Y17) -> 14.8 | AC17: =IF(AB17=J17,"","FALTA") | AD17: =SUMIF($N$9:$Y$9,$O$9,N17:Y17) -> 27.97 | AE17: =IF(AD17=L17,"","FALTA")
A18: 1.2.2 | B18: =VLOOKUP($A18,Orçamento!$A$9:$J$212,4,0) -> LOCAÇÃO DE VIAS, CALÇADAS, TANQUES E LAGOAS | C18: =IF(N18=0,"",CONCATENATE(N18," ",$I18)) -> 228,17 M2 | D18: =IF(P18=0,"",CONCATENATE(P18," ",$I18)) | E18: =IF(R18=0,"",CONCATENATE(R18," ",$I18)) | F18: =IF(T18=0,"",CONCATENATE(T18," ",$I18)) | G18: =IF(V18=0,"",CONCATENATE(V18," ",$I18)) | H18: =IF(X18=0,"",CONCATENATE(X18," ",$I18)) | I18: =VLOOKUP($A18,Orçamento!$A$9:$J$212,5,0) -> M2 | J18: =VLOOKUP($A18,Orçamento!$A$9:$J$212,6,0) -> 228.17 | K18: =VLOOKUP($A18,Orçamento!$A$9:$J$212,8,0) -> 2.3 | L18: =VLOOKUP($A18,Orçamento!$A$9:$J$212,10,0) -> 524.79 | N18: =J18 -> 228.17 | O18: =IF(N18=0,"",TRUNC($K18*N18,2)) -> 524.79 | Q18: =IF(P18=0,"",TRUNC($K18*P18,2)) | S18: =IF(R18=0,"",TRUNC($K18*R18,2)) | U18: =IF(T18=0,"",TRUNC($K18*T18,2)) | W18: =IF(V18=0,"",TRUNC($K18*V18,2)) | Y18: =IF(X18=0,"",TRUNC($K18*X18,2)) | AB18: =SUMIF($N$9:$Y$9,$N$9,N18:Y18) -> 228.17 | AC18: =IF(AB18=J18,"","FALTA") | AD18: =SUMIF($N$9:$Y$9,$O$9,N18:Y18) -> 524.79 | AE18: =IF(AD18=L18,"","FALTA")
A20: 1.3 | B20: =VLOOKUP($A20,Orçamento!$A$9:$J$212,4,0) -> LIMPEZA DO TERRENO | C20: EVENTO 6 | O20: =SUM(O21:O24) -> 15105.53 | Q20: =SUM(Q21:Q24) -> 0 | S20: =SUM(S21:S24) -> 0 | U20: =SUM(U21:U24) -> 0 | W20: =SUM(W21:W24) -> 0 | Y20: =SUM(Y21:Y24) -> 0
A21: 1.3.1 | B21: =VLOOKUP($A21,Orçamento!$A$9:$J$212,4,0) -> LIMPEZA MANUAL DE VEGETAÇÃO EM TERRENO COM ENXADA. AF_03/2024 | C21: =IF(N21=0,"",CONCATENATE(N21," ",$I21)) -> 432,08 M2 | D21: =IF(P21=0,"",CONCATENATE(P21," ",$I21)) | E21: =IF(R21=0,"",CONCATENATE(R21," ",$I21)) | F21: =IF(T21=0,"",CONCATENATE(T21," ",$I21)) | G21: =IF(V21=0,"",CONCATENATE(V21," ",$I21)) | H21: =IF(X21=0,"",CONCATENATE(X21," ",$I21)) | I21: =VLOOKUP($A21,Orçamento!$A$9:$J$212,5,0) -> M2 | J21: =VLOOKUP($A21,Orçamento!$A$9:$J$212,6,0) -> 432.08 | K21: =VLOOKUP($A21,Orçamento!$A$9:$J$212,8,0) -> 8.06 | L21: =VLOOKUP($A21,Orçamento!$A$9:$J$212,10,0) -> 3482.56 | N21: =J21 -> 432.08 | O21: =IF(N21=0,"",TRUNC($K21*N21,2)) -> 3482.56 | Q21: =IF(P21=0,"",TRUNC($K21*P21,2)) | S21: =IF(R21=0,"",TRUNC($K21*R21,2)) | U21: =IF(T21=0,"",TRUNC($K21*T21,2)) | W21: =IF(V21=0,"",TRUNC($K21*V21,2)) | Y21: =IF(X21=0,"",TRUNC($K21*X21,2)) | AB21: =SUMIF($N$9:$Y$9,$N$9,N21:Y21) -> 432.08 | AC21: =IF(AB21=J21,"","FALTA") | AD21: =SUMIF($N$9:$Y$9,$O$9,N21:Y21) -> 3482.56 | AE21: =IF(AD21=L21,"","FALTA")
A22: 1.3.2 | B22: =VLOOKUP($A22,Orçamento!$A$9:$J$212,4,0) -> CARGA, MANOBRA E DESCARGA DE SOLOS E MATERIAIS GRANULARES EM CAMINHÃO BASCULANTE 14 M³ - CARGA COM PÁ CARREGADEIRA (CAÇAMBA DE 1,7 A 2,8 M³ / 128 HP) E DESCARGA LIVRE (UNIDADE: M3). AF_02/2026 | C22: =IF(N22=0,"",CONCATENATE(N22," ",$I22)) -> 122,36 M3 | D22: =IF(P22=0,"",CONCATENATE(P22," ",$I22)) | E22: =IF(R22=0,"",CONCATENATE(R22," ",$I22)) | F22: =IF(T22=0,"",CONCATENATE(T22," ",$I22)) | G22: =IF(V22=0,"",CONCATENATE(V22," ",$I22)) | H22: =IF(X22=0,"",CONCATENATE(X22," ",$I22)) | I22: =VLOOKUP($A22,Orçamento!$A$9:$J$212,5,0) -> M3 | J22: =VLOOKUP($A22,Orçamento!$A$9:$J$212,6,0) -> 122.36 | K22: =VLOOKUP($A22,Orçamento!$A$9:$J$212,8,0) -> 10.67 | L22: =VLOOKUP($A22,Orçamento!$A$9:$J$212,10,0) -> 1305.58 | N22: =J22 -> 122.36 | O22: =IF(N22=0,"",TRUNC($K22*N22,2)) -> 1305.58 | Q22: =IF(P22=0,"",TRUNC($K22*P22,2)) | S22: =IF(R22=0,"",TRUNC($K22*R22,2)) | U22: =IF(T22=0,"",TRUNC($K22*T22,2)) | W22: =IF(V22=0,"",TRUNC($K22*V22,2)) | Y22: =IF(X22=0,"",TRUNC($K22*X22,2)) | AB22: =SUMIF($N$9:$Y$9,$N$9,N22:Y22) -> 122.36 | AC22: =IF(AB22=J22,"","FALTA") | AD22: =SUMIF($N$9:$Y$9,$O$9,N22:Y22) -> 1305.58 | AE22: =IF(AD22=L22,"","FALTA")
A23: 1.3.3 | B23: =VLOOKUP($A23,Orçamento!$A$9:$J$212,4,0) -> TRANSPORTE COM CAMINHÃO BASCULANTE DE 14 M³, EM VIA URBANA PAVIMENTADA, DMT ATÉ 30 KM (UNIDADE: M3XKM). AF_02/2026 | C23: =IF(N23=0,"",CONCATENATE(N23," ",$I23)) -> 1835,4 M3XKM | D23: =IF(P23=0,"",CONCATENATE(P23," ",$I23)) | E23: =IF(R23=0,"",CONCATENATE(R23," ",$I23)) | F23: =IF(T23=0,"",CONCATENATE(T23," ",$I23)) | G23: =IF(V23=0,"",CONCATENATE(V23," ",$I23)) | H23: =IF(X23=0,"",CONCATENATE(X23," ",$I23)) | I23: =VLOOKUP($A23,Orçamento!$A$9:$J$212,5,0) -> M3XKM | J23: =VLOOKUP($A23,Orçamento!$A$9:$J$212,6,0) -> 1835.4 | K23: =VLOOKUP($A23,Orçamento!$A$9:$J$212,8,0) -> 3.08 | L23: =VLOOKUP($A23,Orçamento!$A$9:$J$212,10,0) -> 5653.03 | N23: =J23 -> 1835.4 | O23: =IF(N23=0,"",TRUNC($K23*N23,2)) -> 5653.03 | Q23: =IF(P23=0,"",TRUNC($K23*P23,2)) | S23: =IF(R23=0,"",TRUNC($K23*R23,2)) | U23: =IF(T23=0,"",TRUNC($K23*T23,2)) | W23: =IF(V23=0,"",TRUNC($K23*V23,2)) | Y23: =IF(X23=0,"",TRUNC($K23*X23,2)) | AB23: =SUMIF($N$9:$Y$9,$N$9,N23:Y23) -> 1835.4 | AC23: =IF(AB23=J23,"","FALTA") | AD23: =SUMIF($N$9:$Y$9,$O$9,N23:Y23) -> 5653.03 | AE23: =IF(AD23=L23,"","FALTA")
A24: 1.3.4 | B24: =VLOOKUP($A24,Orçamento!$A$9:$J$212,4,0) -> TAXA DE DESTINAÇÃO DE RESÍDUO SÓLIDO EM ATERRO, TIPO SOLO/TERRA | C24: =IF(N24=0,"",CONCATENATE(N24," ",$I24)) -> 122,36 M3 | D24: =IF(P24=0,"",CONCATENATE(P24," ",$I24)) | E24: =IF(R24=0,"",CONCATENATE(R24," ",$I24)) | F24: =IF(T24=0,"",CONCATENATE(T24," ",$I24)) | G24: =IF(V24=0,"",CONCATENATE(V24," ",$I24)) | H24: =IF(X24=0,"",CONCATENATE(X24," ",$I24)) | I24: =VLOOKUP($A24,Orçamento!$A$9:$J$212,5,0) -> M3 | J24: =VLOOKUP($A24,Orçamento!$A$9:$J$212,6,0) -> 122.36 | K24: =VLOOKUP($A24,Orçamento!$A$9:$J$212,8,0) -> 38.12 | L24: =VLOOKUP($A24,Orçamento!$A$9:$J$212,10,0) -> 4664.36 | N24: =J24 -> 122.36 | O24: =IF(N24=0,"",TRUNC($K24*N24,2)) -> 4664.36 | Q24: =IF(P24=0,"",TRUNC($K24*P24,2)) | S24: =IF(R24=0,"",TRUNC($K24*R24,2)) | U24: =IF(T24=0,"",TRUNC($K24*T24,2)) | W24: =IF(V24=0,"",TRUNC($K24*V24,2)) | Y24: =IF(X24=0,"",TRUNC($K24*X24,2)) | AB24: =SUMIF($N$9:$Y$9,$N$9,N24:Y24) -> 122.36 | AC24: =IF(AB24=J24,"","FALTA") | AD24: =SUMIF($N$9:$Y$9,$O$9,N24:Y24) -> 4664.36 | AE24: =IF(AD24=L24,"","FALTA")
A26: 1.4 | B26: =VLOOKUP($A26,Orçamento!$A$9:$J$212,4,0) -> TERRAPLANAGEM | C26: EVENTO 7 | O26: =SUM(O27:O31) -> 6849.05 | Q26: =SUM(Q27:Q31) -> 0 | S26: =SUM(S27:S31) -> 0 | U26: =SUM(U27:U31) -> 0 | W26: =SUM(W27:W31) -> 0 | Y26: =SUM(Y27:Y31) -> 0
A27: 1.4.1 | B27: =VLOOKUP($A27,Orçamento!$A$9:$J$212,4,0) -> ESCAVAÇÃO MANUAL EM SOLO DE 1ª E 2ª CATEGORIA EM CAMPO ABERTO | C27: =IF(N27=0,"",CONCATENATE(N27," ",$I27)) -> 56,35 M3 | D27: =IF(P27=0,"",CONCATENATE(P27," ",$I27)) | E27: =IF(R27=0,"",CONCATENATE(R27," ",$I27)) | F27: =IF(T27=0,"",CONCATENATE(T27," ",$I27)) | G27: =IF(V27=0,"",CONCATENATE(V27," ",$I27)) | H27: =IF(X27=0,"",CONCATENATE(X27," ",$I27)) | I27: =VLOOKUP($A27,Orçamento!$A$9:$J$212,5,0) -> M3 | J27: =VLOOKUP($A27,Orçamento!$A$9:$J$212,6,0) -> 56.35 | K27: =VLOOKUP($A27,Orçamento!$A$9:$J$212,8,0) -> 72.89 | L27: =VLOOKUP($A27,Orçamento!$A$9:$J$212,10,0) -> 4107.35 | N27: =J27 -> 56.35 | O27: =IF(N27=0,"",TRUNC($K27*N27,2)) -> 4107.35 | Q27: =IF(P27=0,"",TRUNC($K27*P27,2)) | S27: =IF(R27=0,"",TRUNC($K27*R27,2)) | U27: =IF(T27=0,"",TRUNC($K27*T27,2)) | W27: =IF(V27=0,"",TRUNC($K27*V27,2)) | Y27: =IF(X27=0,"",TRUNC($K27*X27,2)) | AB27: =SUMIF($N$9:$Y$9,$N$9,N27:Y27) -> 56.35 | AC27: =IF(AB27=J27,"","FALTA") | AD27: =SUMIF($N$9:$Y$9,$O$9,N27:Y27) -> 4107.35 | AE27: =IF(AD27=L27,"","FALTA")
A28: 1.4.2 | B28: =VLOOKUP($A28,Orçamento!$A$9:$J$212,4,0) -> CARGA, MANOBRA E DESCARGA DE SOLOS E MATERIAIS GRANULARES EM CAMINHÃO BASCULANTE 6 M³ - CARGA COM ESCAVADEIRA HIDRÁULICA (CAÇAMBA DE 1,20 M³ / 155 HP) E DESCARGA LIVRE (UNIDADE: M3). AF_02/2026 | C28: =IF(N28=0,"",CONCATENATE(N28," ",$I28)) -> 70,44 M3 | D28: =IF(P28=0,"",CONCATENATE(P28," ",$I28)) | E28: =IF(R28=0,"",CONCATENATE(R28," ",$I28)) | F28: =IF(T28=0,"",CONCATENATE(T28," ",$I28)) | G28: =IF(V28=0,"",CONCATENATE(V28," ",$I28)) | H28: =IF(X28=0,"",CONCATENATE(X28," ",$I28)) | I28: =VLOOKUP($A28,Orçamento!$A$9:$J$212,5,0) -> M3 | J28: =VLOOKUP($A28,Orçamento!$A$9:$J$212,6,0) -> 70.44 | K28: =VLOOKUP($A28,Orçamento!$A$9:$J$212,8,0) -> 10.71 | L28: =VLOOKUP($A28,Orçamento!$A$9:$J$212,10,0) -> 754.41 | N28: =J28 -> 70.44 | O28: =IF(N28=0,"",TRUNC($K28*N28,2)) -> 754.41 | Q28: =IF(P28=0,"",TRUNC($K28*P28,2)) | S28: =IF(R28=0,"",TRUNC($K28*R28,2)) | U28: =IF(T28=0,"",TRUNC($K28*T28,2)) | W28: =IF(V28=0,"",TRUNC($K28*V28,2)) | Y28: =IF(X28=0,"",TRUNC($K28*X28,2)) | AB28: =SUMIF($N$9:$Y$9,$N$9,N28:Y28) -> 70.44 | AC28: =IF(AB28=J28,"","FALTA") | AD28: =SUMIF($N$9:$Y$9,$O$9,N28:Y28) -> 754.41 | AE28: =IF(AD28=L28,"","FALTA")
A29: 1.4.3 | B29: =VLOOKUP($A29,Orçamento!$A$9:$J$212,4,0) -> TRANSPORTE COM CAMINHÃO BASCULANTE DE 6 M³, EM VIA URBANA PAVIMENTADA, DMT ATÉ 30 KM (UNIDADE: M3XKM). AF_02/2026 | C29: =IF(N29=0,"",CONCATENATE(N29," ",$I29)) -> 173,63 M3XKM | D29: =IF(P29=0,"",CONCATENATE(P29," ",$I29)) | E29: =IF(R29=0,"",CONCATENATE(R29," ",$I29)) | F29: =IF(T29=0,"",CONCATENATE(T29," ",$I29)) | G29: =IF(V29=0,"",CONCATENATE(V29," ",$I29)) | H29: =IF(X29=0,"",CONCATENATE(X29," ",$I29)) | I29: =VLOOKUP($A29,Orçamento!$A$9:$J$212,5,0) -> M3XKM | J29: =VLOOKUP($A29,Orçamento!$A$9:$J$212,6,0) -> 173.63 | K29: =VLOOKUP($A29,Orçamento!$A$9:$J$212,8,0) -> 4.27 | L29: =VLOOKUP($A29,Orçamento!$A$9:$J$212,10,0) -> 741.4 | N29: =J29 -> 173.63 | O29: =IF(N29=0,"",TRUNC($K29*N29,2)) -> 741.4 | Q29: =IF(P29=0,"",TRUNC($K29*P29,2)) | S29: =IF(R29=0,"",TRUNC($K29*R29,2)) | U29: =IF(T29=0,"",TRUNC($K29*T29,2)) | W29: =IF(V29=0,"",TRUNC($K29*V29,2)) | Y29: =IF(X29=0,"",TRUNC($K29*X29,2)) | AB29: =SUMIF($N$9:$Y$9,$N$9,N29:Y29) -> 173.63 | AC29: =IF(AB29=J29,"","FALTA") | AD29: =SUMIF($N$9:$Y$9,$O$9,N29:Y29) -> 741.4 | AE29: =IF(AD29=L29,"","FALTA")
A30: 1.4.4 | B30: =VLOOKUP($A30,Orçamento!$A$9:$J$212,4,0) -> COMPACTAÇÃO DE ATERRO MECANIZADO A 100% PN, SEM FORNECIMENTO DE SOLO EM CAMPO ABERTO | C30: =IF(N30=0,"",CONCATENATE(N30," ",$I30)) -> 58,86 M3 | D30: =IF(P30=0,"",CONCATENATE(P30," ",$I30)) | E30: =IF(R30=0,"",CONCATENATE(R30," ",$I30)) | F30: =IF(T30=0,"",CONCATENATE(T30," ",$I30)) | G30: =IF(V30=0,"",CONCATENATE(V30," ",$I30)) | H30: =IF(X30=0,"",CONCATENATE(X30," ",$I30)) | I30: =VLOOKUP($A30,Orçamento!$A$9:$J$212,5,0) -> M3 | J30: =VLOOKUP($A30,Orçamento!$A$9:$J$212,6,0) -> 58.86 | K30: =VLOOKUP($A30,Orçamento!$A$9:$J$212,8,0) -> 15.17 | L30: =VLOOKUP($A30,Orçamento!$A$9:$J$212,10,0) -> 892.9 | N30: =J30 -> 58.86 | O30: =IF(N30=0,"",TRUNC($K30*N30,2)) -> 892.9 | Q30: =IF(P30=0,"",TRUNC($K30*P30,2)) | S30: =IF(R30=0,"",TRUNC($K30*R30,2)) | U30: =IF(T30=0,"",TRUNC($K30*T30,2)) | W30: =IF(V30=0,"",TRUNC($K30*V30,2)) | Y30: =IF(X30=0,"",TRUNC($K30*X30,2)) | AB30: =SUMIF($N$9:$Y$9,$N$9,N30:Y30) -> 58.86 | AC30: =IF(AB30=J30,"","FALTA") | AD30: =SUMIF($N$9:$Y$9,$O$9,N30:Y30) -> 892.9 | AE30: =IF(AD30=L30,"","FALTA")
A31: 1.4.5 | B31: =VLOOKUP($A31,Orçamento!$A$9:$J$212,4,0) -> TAXA DE DESTINAÇÃO DE RESÍDUO SÓLIDO EM ATERRO, TIPO SOLO/TERRA | C31: =IF(N31=0,"",CONCATENATE(N31," ",$I31)) -> 9,26 M3 | D31: =IF(P31=0,"",CONCATENATE(P31," ",$I31)) | E31: =IF(R31=0,"",CONCATENATE(R31," ",$I31)) | F31: =IF(T31=0,"",CONCATENATE(T31," ",$I31)) | G31: =IF(V31=0,"",CONCATENATE(V31," ",$I31)) | H31: =IF(X31=0,"",CONCATENATE(X31," ",$I31)) | I31: =VLOOKUP($A31,Orçamento!$A$9:$J$212,5,0) -> M3 | J31: =VLOOKUP($A31,Orçamento!$A$9:$J$212,6,0) -> 9.26 | K31: =VLOOKUP($A31,Orçamento!$A$9:$J$212,8,0) -> 38.12 | L31: =VLOOKUP($A31,Orçamento!$A$9:$J$212,10,0) -> 352.99 | N31: =J31 -> 9.26 | O31: =IF(N31=0,"",TRUNC($K31*N31,2)) -> 352.99 | Q31: =IF(P31=0,"",TRUNC($K31*P31,2)) | S31: =IF(R31=0,"",TRUNC($K31*R31,2)) | U31: =IF(T31=0,"",TRUNC($K31*T31,2)) | W31: =IF(V31=0,"",TRUNC($K31*V31,2)) | Y31: =IF(X31=0,"",TRUNC($K31*X31,2)) | AB31: =SUMIF($N$9:$Y$9,$N$9,N31:Y31) -> 9.26 | AC31: =IF(AB31=J31,"","FALTA") | AD31: =SUMIF($N$9:$Y$9,$O$9,N31:Y31) -> 352.99 | AE31: =IF(AD31=L31,"","FALTA")
A33: 2 | B33: =VLOOKUP($A33,Orçamento!$A$9:$J$212,4,0) -> EXECUÇÃO DE PISOS
A34: 2.1 | B34: =VLOOKUP($A34,Orçamento!$A$9:$J$212,4,0) -> PISO INTERTRAVADO - PRAÇA | C34: EVENTO 8 | D34: EVENTO 9 | O34: =SUM(O35:O39) -> 2126.85 | Q34: =SUM(Q35:Q39) -> 29144.62 | S34: =SUM(S35:S39) -> 0 | U34: =SUM(U35:U39) -> 0 | W34: =SUM(W35:W39) -> 0 | Y34: =SUM(Y35:Y39) -> 0
A35: 2.1.1 | B35: =VLOOKUP($A35,Orçamento!$A$9:$J$212,4,0) -> ESCAVAÇÃO MANUAL EM SOLO DE 1ª E 2ª CATEGORIA EM CAMPO ABERTO | C35: =IF(N35=0,"",CONCATENATE(N35," ",$I35)) -> 26,56 M3 | D35: =IF(P35=0,"",CONCATENATE(P35," ",$I35)) | E35: =IF(R35=0,"",CONCATENATE(R35," ",$I35)) | F35: =IF(T35=0,"",CONCATENATE(T35," ",$I35)) | G35: =IF(V35=0,"",CONCATENATE(V35," ",$I35)) | H35: =IF(X35=0,"",CONCATENATE(X35," ",$I35)) | I35: =VLOOKUP($A35,Orçamento!$A$9:$J$212,5,0) -> M3 | J35: =VLOOKUP($A35,Orçamento!$A$9:$J$212,6,0) -> 26.56 | K35: =VLOOKUP($A35,Orçamento!$A$9:$J$212,8,0) -> 72.89 | L35: =VLOOKUP($A35,Orçamento!$A$9:$J$212,10,0) -> 1935.95 | N35: =J35 -> 26.56 | O35: =IF(N35=0,"",TRUNC($K35*N35,2)) -> 1935.95 | Q35: =IF(P35=0,"",TRUNC($K35*P35,2)) | S35: =IF(R35=0,"",TRUNC($K35*R35,2)) | U35: =IF(T35=0,"",TRUNC($K35*T35,2)) | W35: =IF(V35=0,"",TRUNC($K35*V35,2)) | Y35: =IF(X35=0,"",TRUNC($K35*X35,2)) | AB35: =SUMIF($N$9:$Y$9,$N$9,N35:Y35) -> 26.56 | AC35: =IF(AB35=J35,"","FALTA") | AD35: =SUMIF($N$9:$Y$9,$O$9,N35:Y35) -> 1935.95 | AE35: =IF(AD35=L35,"","FALTA")
A36: 2.1.2 | B36: =VLOOKUP($A36,Orçamento!$A$9:$J$212,4,0) -> COMPACTAÇÃO MECÂNICA DE SOLO PARA EXECUÇÃO DE RADIER, PISO DE CONCRETO OU LAJE SOBRE SOLO, COM COMPACTADOR DE SOLOS TIPO PLACA VIBRATÓRIA. AF_09/2021 | C36: =IF(N36=0,"",CONCATENATE(N36," ",$I36)) -> 166 M2 | D36: =IF(P36=0,"",CONCATENATE(P36," ",$I36)) | E36: =IF(R36=0,"",CONCATENATE(R36," ",$I36)) | F36: =IF(T36=0,"",CONCATENATE(T36," ",$I36)) | G36: =IF(V36=0,"",CONCATENATE(V36," ",$I36)) | H36: =IF(X36=0,"",CONCATENATE(X36," ",$I36)) | I36: =VLOOKUP($A36,Orçamento!$A$9:$J$212,5,0) -> M2 | J36: =VLOOKUP($A36,Orçamento!$A$9:$J$212,6,0) -> 166 | K36: =VLOOKUP($A36,Orçamento!$A$9:$J$212,8,0) -> 1.15 | L36: =VLOOKUP($A36,Orçamento!$A$9:$J$212,10,0) -> 190.9 | N36: =J36 -> 166 | O36: =IF(N36=0,"",TRUNC($K36*N36,2)) -> 190.9 | Q36: =IF(P36=0,"",TRUNC($K36*P36,2)) | S36: =IF(R36=0,"",TRUNC($K36*R36,2)) | U36: =IF(T36=0,"",TRUNC($K36*T36,2)) | W36: =IF(V36=0,"",TRUNC($K36*V36,2)) | Y36: =IF(X36=0,"",TRUNC($K36*X36,2)) | AB36: =SUMIF($N$9:$Y$9,$N$9,N36:Y36) -> 166 | AC36: =IF(AB36=J36,"","FALTA") | AD36: =SUMIF($N$9:$Y$9,$O$9,N36:Y36) -> 190.9 | AE36: =IF(AD36=L36,"","FALTA")
A37: 2.1.3 | B37: =VLOOKUP($A37,Orçamento!$A$9:$J$212,4,0) -> LASTRO DE PEDRA BRITADA | C37: =IF(N37=0,"",CONCATENATE(N37," ",$I37)) | D37: =IF(P37=0,"",CONCATENATE(P37," ",$I37)) -> 8,3 M3 | E37: =IF(R37=0,"",CONCATENATE(R37," ",$I37)) | F37: =IF(T37=0,"",CONCATENATE(T37," ",$I37)) | G37: =IF(V37=0,"",CONCATENATE(V37," ",$I37)) | H37: =IF(X37=0,"",CONCATENATE(X37," ",$I37)) | I37: =VLOOKUP($A37,Orçamento!$A$9:$J$212,5,0) -> M3 | J37: =VLOOKUP($A37,Orçamento!$A$9:$J$212,6,0) -> 8.3 | K37: =VLOOKUP($A37,Orçamento!$A$9:$J$212,8,0) -> 278.62 | L37: =VLOOKUP($A37,Orçamento!$A$9:$J$212,10,0) -> 2312.54 | O37: =IF(N37=0,"",TRUNC($K37*N37,2)) | P37: =J37 -> 8.3 | Q37: =IF(P37=0,"",TRUNC($K37*P37,2)) -> 2312.54 | S37: =IF(R37=0,"",TRUNC($K37*R37,2)) | U37: =IF(T37=0,"",TRUNC($K37*T37,2)) | W37: =IF(V37=0,"",TRUNC($K37*V37,2)) | Y37: =IF(X37=0,"",TRUNC($K37*X37,2)) | AB37: =SUMIF($N$9:$Y$9,$N$9,N37:Y37) -> 8.3 | AC37: =IF(AB37=J37,"","FALTA") | AD37: =SUMIF($N$9:$Y$9,$O$9,N37:Y37) -> 2312.54 | AE37: =IF(AD37=L37,"","FALTA")
A38: 2.1.4 | B38: =VLOOKUP($A38,Orçamento!$A$9:$J$212,4,0) -> EXECUÇÃO DE PASSEIO EM PISO INTERTRAVADO, COM BLOCO RETANGULAR COR NATURAL DE 20 X 10 CM, ESPESSURA 6 CM. AF_10/2022 | C38: =IF(N38=0,"",CONCATENATE(N38," ",$I38)) | D38: =IF(P38=0,"",CONCATENATE(P38," ",$I38)) -> 166 M2 | E38: =IF(R38=0,"",CONCATENATE(R38," ",$I38)) | F38: =IF(T38=0,"",CONCATENATE(T38," ",$I38)) | G38: =IF(V38=0,"",CONCATENATE(V38," ",$I38)) | H38: =IF(X38=0,"",CONCATENATE(X38," ",$I38)) | I38: =VLOOKUP($A38,Orçamento!$A$9:$J$212,5,0) -> M2 | J38: =VLOOKUP($A38,Orçamento!$A$9:$J$212,6,0) -> 166 | K38: =VLOOKUP($A38,Orçamento!$A$9:$J$212,8,0) -> 137.94 | L38: =VLOOKUP($A38,Orçamento!$A$9:$J$212,10,0) -> 22898.04 | O38: =IF(N38=0,"",TRUNC($K38*N38,2)) | P38: =J38 -> 166 | Q38: =IF(P38=0,"",TRUNC($K38*P38,2)) -> 22898.04 | S38: =IF(R38=0,"",TRUNC($K38*R38,2)) | U38: =IF(T38=0,"",TRUNC($K38*T38,2)) | W38: =IF(V38=0,"",TRUNC($K38*V38,2)) | Y38: =IF(X38=0,"",TRUNC($K38*X38,2)) | AB38: =SUMIF($N$9:$Y$9,$N$9,N38:Y38) -> 166 | AC38: =IF(AB38=J38,"","FALTA") | AD38: =SUMIF($N$9:$Y$9,$O$9,N38:Y38) -> 22898.04 | AE38: =IF(AD38=L38,"","FALTA")
A39: 2.1.5 | B39: =VLOOKUP($A39,Orçamento!$A$9:$J$212,4,0) -> GUIA PRÉ-MOLDADA CURVA TIPO PMSP 100 - FCK 25 MPA | C39: =IF(N39=0,"",CONCATENATE(N39," ",$I39)) | D39: =IF(P39=0,"",CONCATENATE(P39," ",$I39)) -> 47,12 M | E39: =IF(R39=0,"",CONCATENATE(R39," ",$I39)) | F39: =IF(T39=0,"",CONCATENATE(T39," ",$I39)) | G39: =IF(V39=0,"",CONCATENATE(V39," ",$I39)) | H39: =IF(X39=0,"",CONCATENATE(X39," ",$I39)) | I39: =VLOOKUP($A39,Orçamento!$A$9:$J$212,5,0) -> M | J39: =VLOOKUP($A39,Orçamento!$A$9:$J$212,6,0) -> 47.12 | K39: =VLOOKUP($A39,Orçamento!$A$9:$J$212,8,0) -> 83.49 | L39: =VLOOKUP($A39,Orçamento!$A$9:$J$212,10,0) -> 3934.04 | O39: =IF(N39=0,"",TRUNC($K39*N39,2)) | P39: =J39 -> 47.12 | Q39: =IF(P39=0,"",TRUNC($K39*P39,2)) -> 3934.04 | S39: =IF(R39=0,"",TRUNC($K39*R39,2)) | U39: =IF(T39=0,"",TRUNC($K39*T39,2)) | W39: =IF(V39=0,"",TRUNC($K39*V39,2)) | Y39: =IF(X39=0,"",TRUNC($K39*X39,2)) | AB39: =SUMIF($N$9:$Y$9,$N$9,N39:Y39) -> 47.12 | AC39: =IF(AB39=J39,"","FALTA") | AD39: =SUMIF($N$9:$Y$9,$O$9,N39:Y39) -> 3934.04 | AE39: =IF(AD39=L39,"","FALTA")
A41: 2.2 | B41: =VLOOKUP($A41,Orçamento!$A$9:$J$212,4,0) -> CONCRETO - PASSEIO PÚBLICO | C41: EVENTO 10 | D41: EVENTO 11 | O41: =SUM(O42:O47) -> 660.44 | Q41: =SUM(Q42:Q47) -> 7196.44 | S41: =SUM(S42:S47) -> 0 | U41: =SUM(U42:U47) -> 0 | W41: =SUM(W42:W47) -> 0 | Y41: =SUM(Y42:Y47) -> 0
A42: 2.2.1 | B42: =VLOOKUP($A42,Orçamento!$A$9:$J$212,4,0) -> ESCAVAÇÃO MANUAL EM SOLO DE 1ª E 2ª CATEGORIA EM CAMPO ABERTO | C42: =IF(N42=0,"",CONCATENATE(N42," ",$I42)) -> 8,08 M3 | D42: =IF(P42=0,"",CONCATENATE(P42," ",$I42)) | E42: =IF(R42=0,"",CONCATENATE(R42," ",$I42)) | F42: =IF(T42=0,"",CONCATENATE(T42," ",$I42)) | G42: =IF(V42=0,"",CONCATENATE(V42," ",$I42)) | H42: =IF(X42=0,"",CONCATENATE(X42," ",$I42)) | I42: =VLOOKUP($A42,Orçamento!$A$9:$J$212,5,0) -> M3 | J42: =VLOOKUP($A42,Orçamento!$A$9:$J$212,6,0) -> 8.08 | K42: =VLOOKUP($A42,Orçamento!$A$9:$J$212,8,0) -> 72.89 | L42: =VLOOKUP($A42,Orçamento!$A$9:$J$212,10,0) -> 588.95 | N42: =J42 -> 8.08 | O42: =IF(N42=0,"",TRUNC($K42*N42,2)) -> 588.95 | Q42: =IF(P42=0,"",TRUNC($K42*P42,2)) | S42: =IF(R42=0,"",TRUNC($K42*R42,2)) | U42: =IF(T42=0,"",TRUNC($K42*T42,2)) | W42: =IF(V42=0,"",TRUNC($K42*V42,2)) | Y42: =IF(X42=0,"",TRUNC($K42*X42,2)) | AB42: =SUMIF($N$9:$Y$9,$N$9,N42:Y42) -> 8.08 | AC42: =IF(AB42=J42,"","FALTA") | AD42: =SUMIF($N$9:$Y$9,$O$9,N42:Y42) -> 588.95 | AE42: =IF(AD42=L42,"","FALTA")
A43: 2.2.2 | B43: =VLOOKUP($A43,Orçamento!$A$9:$J$212,4,0) -> COMPACTAÇÃO MECÂNICA DE SOLO PARA EXECUÇÃO DE RADIER, PISO DE CONCRETO OU LAJE SOBRE SOLO, COM COMPACTADOR DE SOLOS TIPO PLACA VIBRATÓRIA. AF_09/2021 | C43: =IF(N43=0,"",CONCATENATE(N43," ",$I43)) -> 62,17 M2 | D43: =IF(P43=0,"",CONCATENATE(P43," ",$I43)) | E43: =IF(R43=0,"",CONCATENATE(R43," ",$I43)) | F43: =IF(T43=0,"",CONCATENATE(T43," ",$I43)) | G43: =IF(V43=0,"",CONCATENATE(V43," ",$I43)) | H43: =IF(X43=0,"",CONCATENATE(X43," ",$I43)) | I43: =VLOOKUP($A43,Orçamento!$A$9:$J$212,5,0) -> M2 | J43: =VLOOKUP($A43,Orçamento!$A$9:$J$212,6,0) -> 62.17 | K43: =VLOOKUP($A43,Orçamento!$A$9:$J$212,8,0) -> 1.15 | L43: =VLOOKUP($A43,Orçamento!$A$9:$J$212,10,0) -> 71.49 | N43: =J43 -> 62.17 | O43: =IF(N43=0,"",TRUNC($K43*N43,2)) -> 71.49 | Q43: =IF(P43=0,"",TRUNC($K43*P43,2)) | S43: =IF(R43=0,"",TRUNC($K43*R43,2)) | U43: =IF(T43=0,"",TRUNC($K43*T43,2)) | W43: =IF(V43=0,"",TRUNC($K43*V43,2)) | Y43: =IF(X43=0,"",TRUNC($K43*X43,2)) | AB43: =SUMIF($N$9:$Y$9,$N$9,N43:Y43) -> 62.17 | AC43: =IF(AB43=J43,"","FALTA") | AD43: =SUMIF($N$9:$Y$9,$O$9,N43:Y43) -> 71.49 | AE43: =IF(AD43=L43,"","FALTA")
A44: 2.2.3 | B44: =VLOOKUP($A44,Orçamento!$A$9:$J$212,4,0) -> LASTRO DE PEDRA BRITADA | C44: =IF(N44=0,"",CONCATENATE(N44," ",$I44)) | D44: =IF(P44=0,"",CONCATENATE(P44," ",$I44)) -> 3,11 M3 | E44: =IF(R44=0,"",CONCATENATE(R44," ",$I44)) | F44: =IF(T44=0,"",CONCATENATE(T44," ",$I44)) | G44: =IF(V44=0,"",CONCATENATE(V44," ",$I44)) | H44: =IF(X44=0,"",CONCATENATE(X44," ",$I44)) | I44: =VLOOKUP($A44,Orçamento!$A$9:$J$212,5,0) -> M3 | J44: =VLOOKUP($A44,Orçamento!$A$9:$J$212,6,0) -> 3.11 | K44: =VLOOKUP($A44,Orçamento!$A$9:$J$212,8,0) -> 278.62 | L44: =VLOOKUP($A44,Orçamento!$A$9:$J$212,10,0) -> 866.5 | O44: =IF(N44=0,"",TRUNC($K44*N44,2)) | P44: =J44 -> 3.11 | Q44: =IF(P44=0,"",TRUNC($K44*P44,2)) -> 866.5 | S44: =IF(R44=0,"",TRUNC($K44*R44,2)) | U44: =IF(T44=0,"",TRUNC($K44*T44,2)) | W44: =IF(V44=0,"",TRUNC($K44*V44,2)) | Y44: =IF(X44=0,"",TRUNC($K44*X44,2)) | AB44: =SUMIF($N$9:$Y$9,$N$9,N44:Y44) -> 3.11 | AC44: =IF(AB44=J44,"","FALTA") | AD44: =SUMIF($N$9:$Y$9,$O$9,N44:Y44) -> 866.5 | AE44: =IF(AD44=L44,"","FALTA")
A45: 2.2.4 | B45: =VLOOKUP($A45,Orçamento!$A$9:$J$212,4,0) -> EXECUÇÃO DE PASSEIO (CALÇADA) OU PISO DE CONCRETO COM CONCRETO MOLDADO IN LOCO, FEITO EM OBRA, ACABAMENTO CONVENCIONAL, NÃO ARMADO. AF_08/2022 | C45: =IF(N45=0,"",CONCATENATE(N45," ",$I45)) | D45: =IF(P45=0,"",CONCATENATE(P45," ",$I45)) -> 4,97 M3 | E45: =IF(R45=0,"",CONCATENATE(R45," ",$I45)) | F45: =IF(T45=0,"",CONCATENATE(T45," ",$I45)) | G45: =IF(V45=0,"",CONCATENATE(V45," ",$I45)) | H45: =IF(X45=0,"",CONCATENATE(X45," ",$I45)) | I45: =VLOOKUP($A45,Orçamento!$A$9:$J$212,5,0) -> M3 | J45: =VLOOKUP($A45,Orçamento!$A$9:$J$212,6,0) -> 4.97 | K45: =VLOOKUP($A45,Orçamento!$A$9:$J$212,8,0) -> 1009.89 | L45: =VLOOKUP($A45,Orçamento!$A$9:$J$212,10,0) -> 5019.15 | O45: =IF(N45=0,"",TRUNC($K45*N45,2)) | P45: =J45 -> 4.97 | Q45: =IF(P45=0,"",TRUNC($K45*P45,2)) -> 5019.15 | S45: =IF(R45=0,"",TRUNC($K45*R45,2)) | U45: =IF(T45=0,"",TRUNC($K45*T45,2)) | W45: =IF(V45=0,"",TRUNC($K45*V45,2)) | Y45: =IF(X45=0,"",TRUNC($K45*X45,2)) | AB45: =SUMIF($N$9:$Y$9,$N$9,N45:Y45) -> 4.97 | AC45: =IF(AB45=J45,"","FALTA") | AD45: =SUMIF($N$9:$Y$9,$O$9,N45:Y45) -> 5019.15 | AE45: =IF(AD45=L45,"","FALTA")
A46: 2.2.5 | B46: =VLOOKUP($A46,Orçamento!$A$9:$J$212,4,0) -> CORTE DE JUNTA DE DILATAÇÃO, COM SERRA DE DISCO DIAMANTADO PARA PISOS | C46: =IF(N46=0,"",CONCATENATE(N46," ",$I46)) | D46: =IF(P46=0,"",CONCATENATE(P46," ",$I46)) -> 22,8 M | E46: =IF(R46=0,"",CONCATENATE(R46," ",$I46)) | F46: =IF(T46=0,"",CONCATENATE(T46," ",$I46)) | G46: =IF(V46=0,"",CONCATENATE(V46," ",$I46)) | H46: =IF(X46=0,"",CONCATENATE(X46," ",$I46)) | I46: =VLOOKUP($A46,Orçamento!$A$9:$J$212,5,0) -> M | J46: =VLOOKUP($A46,Orçamento!$A$9:$J$212,6,0) -> 22.8 | K46: =VLOOKUP($A46,Orçamento!$A$9:$J$212,8,0) -> 14.67 | L46: =VLOOKUP($A46,Orçamento!$A$9:$J$212,10,0) -> 334.47 | O46: =IF(N46=0,"",TRUNC($K46*N46,2)) | P46: =J46 -> 22.8 | Q46: =IF(P46=0,"",TRUNC($K46*P46,2)) -> 334.47 | S46: =IF(R46=0,"",TRUNC($K46*R46,2)) | U46: =IF(T46=0,"",TRUNC($K46*T46,2)) | W46: =IF(V46=0,"",TRUNC($K46*V46,2)) | Y46: =IF(X46=0,"",TRUNC($K46*X46,2)) | AB46: =SUMIF($N$9:$Y$9,$N$9,N46:Y46) -> 22.8 | AC46: =IF(AB46=J46,"","FALTA") | AD46: =SUMIF($N$9:$Y$9,$O$9,N46:Y46) -> 334.47 | AE46: =IF(AD46=L46,"","FALTA")
A47: 2.2.6 | B47: =VLOOKUP($A47,Orçamento!$A$9:$J$212,4,0) -> RAMPA DE ACESSIBILIDADE EM CONCRETO MOLDADO IN LOCO, EM CALÇADA NOVA COM LARGURA MENOR À 3,00 M, FCK 25MPA, COM PISO PODOTÁTIL. AF_03/2024 | C47: =IF(N47=0,"",CONCATENATE(N47," ",$I47)) | D47: =IF(P47=0,"",CONCATENATE(P47," ",$I47)) -> 5,76 M2 | E47: =IF(R47=0,"",CONCATENATE(R47," ",$I47)) | F47: =IF(T47=0,"",CONCATENATE(T47," ",$I47)) | G47: =IF(V47=0,"",CONCATENATE(V47," ",$I47)) | H47: =IF(X47=0,"",CONCATENATE(X47," ",$I47)) | I47: =VLOOKUP($A47,Orçamento!$A$9:$J$212,5,0) -> M2 | J47: =VLOOKUP($A47,Orçamento!$A$9:$J$212,6,0) -> 5.76 | K47: =VLOOKUP($A47,Orçamento!$A$9:$J$212,8,0) -> 169.5 | L47: =VLOOKUP($A47,Orçamento!$A$9:$J$212,10,0) -> 976.32 | O47: =IF(N47=0,"",TRUNC($K47*N47,2)) | P47: =J47 -> 5.76 | Q47: =IF(P47=0,"",TRUNC($K47*P47,2)) -> 976.32 | S47: =IF(R47=0,"",TRUNC($K47*R47,2)) | U47: =IF(T47=0,"",TRUNC($K47*T47,2)) | W47: =IF(V47=0,"",TRUNC($K47*V47,2)) | Y47: =IF(X47=0,"",TRUNC($K47*X47,2)) | AB47: =SUMIF($N$9:$Y$9,$N$9,N47:Y47) -> 5.76 | AC47: =IF(AB47=J47,"","FALTA") | AD47: =SUMIF($N$9:$Y$9,$O$9,N47:Y47) -> 976.32 | AE47: =IF(AD47=L47,"","FALTA")
A49: 3 | B49: =VLOOKUP($A49,Orçamento!$A$9:$J$212,4,0) -> CONTRUÇÃO DE ELEMENTO CENTRAL ELEVADO
A50: 3.1 | B50: =VLOOKUP($A50,Orçamento!$A$9:$J$212,4,0) -> FUNDAÇÃO | C50: EVENTO 12 | D50: EVENTO 13 | O50: =SUM(O51:O55) -> 184.33 | Q50: =SUM(Q51:Q55) -> 1003.37 | S50: =SUM(S51:S55) -> 0 | U50: =SUM(U51:U55) -> 0 | W50: =SUM(W51:W55) -> 0 | Y50: =SUM(Y51:Y55) -> 0
A51: 3.1.1 | B51: =VLOOKUP($A51,Orçamento!$A$9:$J$212,4,0) -> ESCAVAÇÃO MANUAL EM SOLO DE 1ª E 2ª CATEGORIA EM VALA OU CAVA ATÉ 1,5 M | C51: =IF(N51=0,"",CONCATENATE(N51," ",$I51)) -> 1,06 M3 | D51: =IF(P51=0,"",CONCATENATE(P51," ",$I51)) | E51: =IF(R51=0,"",CONCATENATE(R51," ",$I51)) | F51: =IF(T51=0,"",CONCATENATE(T51," ",$I51)) | G51: =IF(V51=0,"",CONCATENATE(V51," ",$I51)) | H51: =IF(X51=0,"",CONCATENATE(X51," ",$I51)) | I51: =VLOOKUP($A51,Orçamento!$A$9:$J$212,5,0) -> M3 | J51: =VLOOKUP($A51,Orçamento!$A$9:$J$212,6,0) -> 1.06 | K51: =VLOOKUP($A51,Orçamento!$A$9:$J$212,8,0) -> 87.47 | L51: =VLOOKUP($A51,Orçamento!$A$9:$J$212,10,0) -> 92.71 | N51: =J51 -> 1.06 | O51: =IF(N51=0,"",TRUNC($K51*N51,2)) -> 92.71 | Q51: =IF(P51=0,"",TRUNC($K51*P51,2)) | S51: =IF(R51=0,"",TRUNC($K51*R51,2)) | U51: =IF(T51=0,"",TRUNC($K51*T51,2)) | W51: =IF(V51=0,"",TRUNC($K51*V51,2)) | Y51: =IF(X51=0,"",TRUNC($K51*X51,2)) | AB51: =SUMIF($N$9:$Y$9,$N$9,N51:Y51) -> 1.06 | AC51: =IF(AB51=J51,"","FALTA") | AD51: =SUMIF($N$9:$Y$9,$O$9,N51:Y51) -> 92.71 | AE51: =IF(AD51=L51,"","FALTA")
...

Sheet CRONOGRAMA
K2: SERPO
J3: Secretaria de Serviços Públicos e Obras
B4: CRONOGRAMA FÍSICO-FINANCEIRO
B5: OBRA: | C5: =Orçamento!B5 -> IMPLANTAÇÃO DE PRAÇA VOLTADA À CULTURA ROMANI NO JARDIM EUROPA | K5: =Orçamento!I4 -> REV. | L5: =Orçamento!J4 -> 46232
B6: LOCAL: | C6: =Orçamento!B6 -> ALAMEDA ITÁLIA ESQUINA COM RUA YUGOSLAVIA - JARDIM EUROPA, SOROCABA/SP | K6: BDI Obra | L6: =Orçamento!J5 -> 0.22
B8: ITEM | C8: ETAPA | D8: PREÇO (SEM BDI) | E8: PREÇO (COM BDI) | F8: % SOBRE O TOTAL | G8: 1º MÊS | H8: 2º MÊS | I8: 3º MÊS | J8: 4º MÊS | K8: 5º MÊS | L8: 6º MÊS | O8: Conferências
B9: 1 | C9: =VLOOKUP($B9,Orçamento!$A$9:$L$212,4,0) -> SERVIÇOS PRELIMINARES | D9: =VLOOKUP($B9,Orçamento!$A$9:$L$212,11,0) -> 35224.55 | E9: =VLOOKUP($B9,Orçamento!$A$9:$L$212,12,0) -> 42955.56 | F9: =E9/$E$68 -> 0.2477046
A10: A | B10: 1.1 | C10: =VLOOKUP($B10,Orçamento!$A$9:$L$212,4,0) -> CANTEIRO DE OBRAS | D10: =VLOOKUP($B10,Orçamento!$A$9:$L$212,11,0) -> 16761.72 | E10: =VLOOKUP($B10,Orçamento!$A$9:$L$212,12,0) -> 20448.22 | F10: =E10/$E$68 -> 0.11791531 | G10: =VLOOKUP($B10,'CRON. AUXILIAR'!$A$9:$Y$220,G$78,0) -> 12184.39 | H10: =VLOOKUP($B10,'CRON. AUXILIAR'!$A$9:$Y$220,H$78,0) -> 2754.61 | I10: =VLOOKUP($B10,'CRON. AUXILIAR'!$A$9:$Y$220,I$78,0) -> 2754.61 | J10: =VLOOKUP($B10,'CRON. AUXILIAR'!$A$9:$Y$220,J$78,0) -> 2754.61 | K10: =VLOOKUP($B10,'CRON. AUXILIAR'!$A$9:$Y$220,K$78,0) -> 0 | L10: =VLOOKUP($B10,'CRON. AUXILIAR'!$A$9:$Y$220,L$78,0) -> 0 | Q10: =SUM(G10:L10) -> 20448.22 | R10: =IF(Q10=E10,"OK","NOK") -> OK
A11: - | G11: =G10/$E10 -> 0.59586556 | H11: =H10/$E10 -> 0.13471148 | I11: =I10/$E10 -> 0.13471148 | J11: =J10/$E10 -> 0.13471148 | K11: =K10/$E10 -> 0 | L11: =L10/$E10 -> 0 | O11: =SUM(G11:L11) -> 1 | P11: =IF(O11=1,"OK","NOK") -> OK
A12: A | B12: 1.2 | C12: =VLOOKUP($B12,Orçamento!$A$9:$L$212,4,0) -> LOCAÇÃO DE OBRA | D12: =VLOOKUP($B12,Orçamento!$A$9:$L$212,11,0) -> 454.18 | E12: =VLOOKUP($B12,Orçamento!$A$9:$L$212,12,0) -> 552.76 | F12: =E12/$E$68 -> 0.0031875081 | G12: =VLOOKUP($B12,'CRON. AUXILIAR'!$A$9:$Y$220,G$78,0) -> 552.76 | H12: =VLOOKUP($B12,'CRON. AUXILIAR'!$A$9:$Y$220,H$78,0) -> 0 | I12: =VLOOKUP($B12,'CRON. AUXILIAR'!$A$9:$Y$220,I$78,0) -> 0 | J12: =VLOOKUP($B12,'CRON. AUXILIAR'!$A$9:$Y$220,J$78,0) -> 0 | K12: =VLOOKUP($B12,'CRON. AUXILIAR'!$A$9:$Y$220,K$78,0) -> 0 | L12: =VLOOKUP($B12,'CRON. AUXILIAR'!$A$9:$Y$220,L$78,0) -> 0 | Q12: =SUM(G12:L12) -> 552.76 | R12: =IF(Q12=E12,"OK","NOK") -> OK
A13: - | G13: =G12/$E12 -> 1 | H13: =H12/$E12 -> 0 | I13: =I12/$E12 -> 0 | J13: =J12/$E12 -> 0 | K13: =K12/$E12 -> 0 | L13: =L12/$E12 -> 0 | O13: =SUM(G13:L13) -> 1 | P13: =IF(O13=1,"OK","NOK") -> OK
A14: A | B14: 1.3 | C14: =VLOOKUP($B14,Orçamento!$A$9:$L$212,4,0) -> LIMPEZA DO TERRENO | D14: =VLOOKUP($B14,Orçamento!$A$9:$L$212,11,0) -> 12394 | E14: =VLOOKUP($B14,Orçamento!$A$9:$L$212,12,0) -> 15105.53 | F14: =E14/$E$68 -> 0.087106519 | G14: =VLOOKUP($B14,'CRON. AUXILIAR'!$A$9:$Y$220,G$78,0) -> 15105.53 | H14: =VLOOKUP($B14,'CRON. AUXILIAR'!$A$9:$Y$220,H$78,0) -> 0 | I14: =VLOOKUP($B14,'CRON. AUXILIAR'!$A$9:$Y$220,I$78,0) -> 0 | J14: =VLOOKUP($B14,'CRON. AUXILIAR'!$A$9:$Y$220,J$78,0) -> 0 | K14: =VLOOKUP($B14,'CRON. AUXILIAR'!$A$9:$Y$220,K$78,0) -> 0 | L14: =VLOOKUP($B14,'CRON. AUXILIAR'!$A$9:$Y$220,L$78,0) -> 0 | Q14: =SUM(G14:L14) -> 15105.53 | R14: =IF(Q14=E14,"OK","NOK") -> OK
A15: - | G15: =G14/$E14 -> 1 | H15: =H14/$E14 -> 0 | I15: =I14/$E14 -> 0 | J15: =J14/$E14 -> 0 | K15: =K14/$E14 -> 0 | L15: =L14/$E14 -> 0 | O15: =SUM(G15:L15) -> 1 | P15: =IF(O15=1,"OK","NOK") -> OK
A16: A | B16: 1.4 | C16: =VLOOKUP($B16,Orçamento!$A$9:$L$212,4,0) -> TERRAPLANAGEM | D16: =VLOOKUP($B16,Orçamento!$A$9:$L$212,11,0) -> 5614.65 | E16: =VLOOKUP($B16,Orçamento!$A$9:$L$212,12,0) -> 6849.05 | F16: =E16/$E$68 -> 0.039495265 | G16: =VLOOKUP($B16,'CRON. AUXILIAR'!$A$9:$Y$220,G$78,0) -> 6849.05 | H16: =VLOOKUP($B16,'CRON. AUXILIAR'!$A$9:$Y$220,H$78,0) -> 0 | I16: =VLOOKUP($B16,'CRON. AUXILIAR'!$A$9:$Y$220,I$78,0) -> 0 | J16: =VLOOKUP($B16,'CRON. AUXILIAR'!$A$9:$Y$220,J$78,0) -> 0 | K16: =VLOOKUP($B16,'CRON. AUXILIAR'!$A$9:$Y$220,K$78,0) -> 0 | L16: =VLOOKUP($B16,'CRON. AUXILIAR'!$A$9:$Y$220,L$78,0) -> 0 | Q16: =SUM(G16:L16) -> 6849.05 | R16: =IF(Q16=E16,"OK","NOK") -> OK
A17: - | G17: =G16/$E16 -> 1 | H17: =H16/$E16 -> 0 | I17: =I16/$E16 -> 0 | J17: =J16/$E16 -> 0 | K17: =K16/$E16 -> 0 | L17: =L16/$E16 -> 0 | O17: =SUM(G17:L17) -> 1 | P17: =IF(O17=1,"OK","NOK") -> OK
B18: 2 | C18: =VLOOKUP($B18,Orçamento!$A$9:$L$212,4,0) -> EXECUÇÃO DE PISOS | D18: =VLOOKUP($B18,Orçamento!$A$9:$L$212,11,0) -> 32075.45 | E18: =VLOOKUP($B18,Orçamento!$A$9:$L$212,12,0) -> 39128.35 | F18: =E18/$E$68 -> 0.22563487
A19: A | B19: 2.1 | C19: =VLOOKUP($B19,Orçamento!$A$9:$L$212,4,0) -> PISO INTERTRAVADO - PRAÇA | D19: =VLOOKUP($B19,Orçamento!$A$9:$L$212,11,0) -> 25634.72 | E19: =VLOOKUP($B19,Orçamento!$A$9:$L$212,12,0) -> 31271.47 | F19: =E19/$E$68 -> 0.18032793 | G19: =VLOOKUP($B19,'CRON. AUXILIAR'!$A$9:$Y$220,G$78,0) -> 2126.85 | H19: =VLOOKUP($B19,'CRON. AUXILIAR'!$A$9:$Y$220,H$78,0) -> 29144.62 | I19: =VLOOKUP($B19,'CRON. AUXILIAR'!$A$9:$Y$220,I$78,0) -> 0 | J19: =VLOOKUP($B19,'CRON. AUXILIAR'!$A$9:$Y$220,J$78,0) -> 0 | K19: =VLOOKUP($B19,'CRON. AUXILIAR'!$A$9:$Y$220,K$78,0) -> 0 | L19: =VLOOKUP($B19,'CRON. AUXILIAR'!$A$9:$Y$220,L$78,0) -> 0 | Q19: =SUM(G19:L19) -> 31271.47 | R19: =IF(Q19=E19,"OK","NOK") -> OK
A20: - | G20: =G19/$E19 -> 0.068012473 | H20: =H19/$E19 -> 0.93198753 | I20: =I19/$E19 -> 0 | J20: =J19/$E19 -> 0 | K20: =K19/$E19 -> 0 | L20: =L19/$E19 -> 0 | O20: =SUM(G20:L20) -> 1 | P20: =IF(O20=1,"OK","NOK") -> OK
A21: A | B21: 2.2 | C21: =VLOOKUP($B21,Orçamento!$A$9:$L$212,4,0) -> CONCRETO - PASSEIO PÚBLICO | D21: =VLOOKUP($B21,Orçamento!$A$9:$L$212,11,0) -> 6440.73 | E21: =VLOOKUP($B21,Orçamento!$A$9:$L$212,12,0) -> 7856.88 | F21: =E21/$E$68 -> 0.045306948 | G21: =VLOOKUP($B21,'CRON. AUXILIAR'!$A$9:$Y$220,G$78,0) -> 660.44 | H21: =VLOOKUP($B21,'CRON. AUXILIAR'!$A$9:$Y$220,H$78,0) -> 7196.44 | I21: =VLOOKUP($B21,'CRON. AUXILIAR'!$A$9:$Y$220,I$78,0) -> 0 | J21: =VLOOKUP($B21,'CRON. AUXILIAR'!$A$9:$Y$220,J$78,0) -> 0 | K21: =VLOOKUP($B21,'CRON. AUXILIAR'!$A$9:$Y$220,K$78,0) -> 0 | L21: =VLOOKUP($B21,'CRON. AUXILIAR'!$A$9:$Y$220,L$78,0) -> 0 | Q21: =SUM(G21:L21) -> 7856.88 | R21: =IF(Q21=E21,"OK","NOK") -> OK
A22: - | G22: =G21/$E21 -> 0.084058812 | H22: =H21/$E21 -> 0.91594119 | I22: =I21/$E21 -> 0 | J22: =J21/$E21 -> 0 | K22: =K21/$E21 -> 0 | L22: =L21/$E21 -> 0 | O22: =SUM(G22:L22) -> 1 | P22: =IF(O22=1,"OK","NOK") -> OK
B23: 3 | C23: =VLOOKUP($B23,Orçamento!$A$9:$L$212,4,0) -> CONTRUÇÃO DE ELEMENTO CENTRAL ELEVADO | D23: =VLOOKUP($B23,Orçamento!$A$9:$L$212,11,0) -> 6358.85 | E23: =VLOOKUP($B23,Orçamento!$A$9:$L$212,12,0) -> 7757.14 | F23: =E23/$E$68 -> 0.044731795
A24: A | B24: 3.1 | C24: =VLOOKUP($B24,Orçamento!$A$9:$L$212,4,0) -> FUNDAÇÃO | D24: =VLOOKUP($B24,Orçamento!$A$9:$L$212,11,0) -> 973.56 | E24: =VLOOKUP($B24,Orçamento!$A$9:$L$212,12,0) -> 1187.7 | F24: =E24/$E$68 -> 0.0068489098 | G24: =VLOOKUP($B24,'CRON. AUXILIAR'!$A$9:$Y$220,G$78,0) -> 184.33 | H24: =VLOOKUP($B24,'CRON. AUXILIAR'!$A$9:$Y$220,H$78,0) -> 1003.37 | I24: =VLOOKUP($B24,'CRON. AUXILIAR'!$A$9:$Y$220,I$78,0) -> 0 | J24: =VLOOKUP($B24,'CRON. AUXILIAR'!$A$9:$Y$220,J$78,0) -> 0 | K24: =VLOOKUP($B24,'CRON. AUXILIAR'!$A$9:$Y$220,K$78,0) -> 0 | L24: =VLOOKUP($B24,'CRON. AUXILIAR'!$A$9:$Y$220,L$78,0) -> 0 | Q24: =SUM(G24:L24) -> 1187.7 | R24: =IF(Q24=E24,"OK","NOK") -> OK
A25: - | G25: =G24/$E24 -> 0.15519912 | H25: =H24/$E24 -> 0.84480088 | I25: =I24/$E24 -> 0 | J25: =J24/$E24 -> 0 | K25: =K24/$E24 -> 0 | L25: =L24/$E24 -> 0 | O25: =SUM(G25:L25) -> 1 | P25: =IF(O25=1,"OK","NOK") -> OK
A26: A | B26: 3.2 | C26: =VLOOKUP($B26,Orçamento!$A$9:$L$212,4,0) -> ALVENARIA | D26: =VLOOKUP($B26,Orçamento!$A$9:$L$212,11,0) -> 2975.72 | E26: =VLOOKUP($B26,Orçamento!$A$9:$L$212,12,0) -> 3630.13 | F26: =E26/$E$68 -> 0.02093326 | G26: =VLOOKUP($B26,'CRON. AUXILIAR'!$A$9:$Y$220,G$78,0) -> 0 | H26: =VLOOKUP($B26,'CRON. AUXILIAR'!$A$9:$Y$220,H$78,0) -> 0 | I26: =VLOOKUP($B26,'CRON. AUXILIAR'!$A$9:$Y$220,I$78,0) -> 2409.04 | J26: =VLOOKUP($B26,'CRON. AUXILIAR'!$A$9:$Y$220,J$78,0) -> 1221.09 | K26: =VLOOKUP($B26,'CRON. AUXILIAR'!$A$9:$Y$220,K$78,0) -> 0 | L26: =VLOOKUP($B26,'CRON. AUXILIAR'!$A$9:$Y$220,L$78,0) -> 0 | Q26: =SUM(G26:L26) -> 3630.13 | R26: =IF(Q26=E26,"OK","NOK") -> OK
A27: - | G27: =G26/$E26 -> 0 | H27: =H26/$E26 -> 0 | I27: =I26/$E26 -> 0.66362362 | J27: =J26/$E26 -> 0.33637638 | K27: =K26/$E26 -> 0 | L27: =L26/$E26 -> 0 | O27: =SUM(G27:L27) -> 1 | P27: =IF(O27=1,"OK","NOK") -> OK
A28: A | B28: 3.3 | C28: =VLOOKUP($B28,Orçamento!$A$9:$L$212,4,0) -> LAJE | D28: =VLOOKUP($B28,Orçamento!$A$9:$L$212,11,0) -> 2409.57 | E28: =VLOOKUP($B28,Orçamento!$A$9:$L$212,12,0) -> 2939.31 | F28: =E28/$E$68 -> 0.016949625 | G28: =VLOOKUP($B28,'CRON. AUXILIAR'!$A$9:$Y$220,G$78,0) -> 0 | H28: =VLOOKUP($B28,'CRON. AUXILIAR'!$A$9:$Y$220,H$78,0) -> 0 | I28: =VLOOKUP($B28,'CRON. AUXILIAR'!$A$9:$Y$220,I$78,0) -> 2318.73 | J28: =VLOOKUP($B28,'CRON. AUXILIAR'!$A$9:$Y$220,J$78,0) -> 620.58 | K28: =VLOOKUP($B28,'CRON. AUXILIAR'!$A$9:$Y$220,K$78,0) -> 0 | L28: =VLOOKUP($B28,'CRON. AUXILIAR'!$A$9:$Y$220,L$78,0) -> 0 | Q28: =SUM(G28:L28) -> 2939.31 | R28: =IF(Q28=E28,"OK","NOK") -> OK
A29: - | G29: =G28/$E28 -> 0 | H29: =H28/$E28 -> 0 | I29: =I28/$E28 -> 0.78886882 | J29: =J28/$E28 -> 0.21113118 | K29: =K28/$E28 -> 0 | L29: =L28/$E28 -> 0 | O29: =SUM(G29:L29) -> 1 | P29: =IF(O29=1,"OK","NOK") -> OK
