Workbook

Sheet Orçamento
H2: SERPO
H3: Serviços Públicos e Obras
A4: PLANILHA ORÇAMENTÁRIA | G4: REV. | J4: 46289
A5: OBRA: | B5: REVITALIZAÇÃO DA PRAÇA LAUDELINO DO AMARAL NO BAIRRO VILA NOVA SOROCABA | G5: BDI Obra: | J5: 0.2354
A6: LOCAL: | B6: PRAÇA LAUDELINO DO AMARAL - VILA NOVA SOROCABA, SOROCABA/SP | G6: Área Principal de Intervenção(m²): | J6: 311.55
A8: ITEM | B8: CÓDIGO | C8: REFERÊNCIA | D8: DISCRIMINAÇÃO DO SERVIÇO | E8: UNIDADE | F8: QUANTIDADE | G8: PREÇO UNITÁRIO (S/ BDI) | H8: PREÇO UNITÁRIO (C/ BDI) | I8: PREÇO TOTAL (SEM BDI) | J8: PREÇO TOTAL (COM BDI) | K8: $ sem BDI | L8: $ com BDI | M8: Caso tenha alguma observação no item, escrever abaixo | O8: Conferências
A9: 1 | D9: SERVIÇOS PRELIMINARES | K9: =I18 -> 17468.67 | L9: =J18 -> 21579.06 | M9: OBSERVAÇÃO | N9: =A9 -> 1 | O9: =IF(L9=SUM(L10:L18),"OK","NOK") -> OK
A10: 1.1 | D10: PLACA E CANTEIRO | H10: SUBTOTAL | I10: =SUBTOTAL(9,I11:I14) -> 17191.83 | J10: =SUBTOTAL(109,J11:J14) -> 21238.17 | K10: =SUM(I11:I14) -> 17191.83 | L10: =SUM(J11:J14) -> 21238.17
A11: 1.1.1 | B11: 02.08.040 | C11: CDHU | D11: PLACA EM LONA COM IMPRESSÃO DIGITAL E REQUADRO EM METALON | E11: M2 | F11: 6 | G11: 450.11 | H11: =TRUNC(G11*(1+$J$5),2) -> 556.06 | I11: =TRUNC(G11*F11,2) -> 2700.66 | J11: =TRUNC(H11*F11,2) -> 3336.36
A12: 1.1.2 | B12: 02.01.180 | C12: CDHU | D12: BANHEIRO QUÍMICO MODELO STANDARD, COM MANUTENÇÃO CONFORME EXIGÊNCIAS DA CETESB | E12: UNMES | F12: 3 | G12: 1259.83 | H12: =TRUNC(G12*(1+$J$5),2) -> 1556.39 | I12: =TRUNC(G12*F12,2) -> 3779.49 | J12: =TRUNC(H12*F12,2) -> 4669.17
A13: 1.1.3 | B13: 02.02.150 | C13: CDHU | D13: LOCAÇÃO DE CONTAINER TIPO DEPÓSITO - ÁREA MÍNIMA DE 13,80 M² | E13: UNMES | F13: 3 | G13: 1010.89 | H13: =TRUNC(G13*(1+$J$5),2) -> 1248.85 | I13: =TRUNC(G13*F13,2) -> 3032.67 | J13: =TRUNC(H13*F13,2) -> 3746.55
A14: 1.1.4 | B14: 01-005-040 | C14: SIURB - EDIF | D14: TELA PARA PROTEÇÃO DE OBRAS, MALHA 2 MM | E14: M2 | F14: 219.84 | G14: 34.93 | H14: =TRUNC(G14*(1+$J$5),2) -> 43.15 | I14: =TRUNC(G14*F14,2) -> 7679.01 | J14: =TRUNC(H14*F14,2) -> 9486.09
A15: 1.2 | D15: LOCAÇÃO DE OBRA | H15: SUBTOTAL | I15: =SUBTOTAL(9,I16:I17) -> 276.84 | J15: =SUBTOTAL(109,J16:J17) -> 340.89 | K15: =SUM(I16:I17) -> 276.84 | L15: =SUM(J16:J17) -> 340.89
A16: 1.2.1 | B16: 02.10.050 | C16: CDHU | D16: LOCAÇÃO PARA MUROS, CERCAS E ALAMBRADOS | E16: M | F16: 149.23 | G16: 1.6 | H16: =TRUNC(G16*(1+$J$5),2) -> 1.97 | I16: =TRUNC(G16*F16,2) -> 238.76 | J16: =TRUNC(H16*F16,2) -> 293.98
A17: 1.2.2 | B17: 02.10.060 | C17: CDHU | D17: LOCAÇÃO DE VIAS, CALÇADAS, TANQUES E LAGOAS | E17: M2 | F17: 19.63 | G17: 1.94 | H17: =TRUNC(G17*(1+$J$5),2) -> 2.39 | I17: =TRUNC(G17*F17,2) -> 38.08 | J17: =TRUNC(H17*F17,2) -> 46.91
H18: TOTAL ITEM | I18: =SUBTOTAL(9,I10:I17) -> 17468.67 | J18: =SUBTOTAL(9,J10:J17) -> 21579.06
A19: 2 | D19: LIMPEZA, TERRAPLENAGEM E DEMOLIÇÕES | K19: =I32 -> 24392.19 | L19: =J32 -> 30119.5 | N19: =A19 -> 2 | O19: =IF(L19=SUM(L20:L31),"OK","NOK") -> OK
A20: 2.1 | D20: LIMPEZA DO TERRENO | H20: SUBTOTAL | I20: =SUBTOTAL(9,I21) -> 305.16 | J20: =SUBTOTAL(9,J21) -> 373.42 | K20: =SUM(I21) -> 305.16 | L20: =SUM(J21) -> 373.42
A21: 2.1.1 | B21: 98525 | C21: SINAPI | D21: LIMPEZA MECANIZADA DE CAMADA VEGETAL, VEGETAÇÃO E PEQUENAS ÁRVORES (DIÂMETRO DE TRONCO MENOR QUE 0,20 M), COM TRATOR DE ESTEIRAS. AF_03/2024 | E21: M2 | F21: 401.53 | G21: 0.76 | H21: =TRUNC(G21*(1+$J$5),2) -> 0.93 | I21: =TRUNC(G21*F21,2) -> 305.16 | J21: =TRUNC(H21*F21,2) -> 373.42
A22: 2.2 | D22: TERRAPLENAGEM | H22: SUBTOTAL | I22: =SUBTOTAL(9,I23:I28) -> 23068.63 | J22: =SUBTOTAL(9,J23:J28) -> 28488 | K22: =SUM(I23:I28) -> 23068.63 | L22: =SUM(J23:J28) -> 28488
A23: 2.2.1 | B23: 06.01.020 | C23: CDHU | D23: ESCAVAÇÃO MANUAL EM SOLO DE 1ª E 2ª CATEGORIA EM CAMPO ABERTO | E23: M3 | F23: 155.71 | G23: 59.75 | H23: =TRUNC(G23*(1+$J$5),2) -> 73.81 | I23: =TRUNC(G23*F23,2) -> 9303.67 | J23: =TRUNC(H23*F23,2) -> 11492.95
A24: 2.2.2 | B24: 06.02.040 | C24: CDHU | D24: ESCAVAÇÃO MANUAL EM SOLO DE 1ª E 2ª CATEGORIA EM VALA OU CAVA ALÉM DE 1,5 M | E24: M3 | F24: 1.98 | G24: 92.73 | H24: =TRUNC(G24*(1+$J$5),2) -> 114.55 | I24: =TRUNC(G24*F24,2) -> 183.6 | J24: =TRUNC(H24*F24,2) -> 226.8
A25: 2.2.3 | B25: 100980 | C25: SINAPI | D25: CARGA, MANOBRA E DESCARGA DE SOLOS E MATERIAIS GRANULARES EM CAMINHÃO BASCULANTE 18 M³ - CARGA COM ESCAVADEIRA HIDRÁULICA (CAÇAMBA DE 1,20 M³ / 155 HP) E DESCARGA LIVRE (UNIDADE: M3). AF_02/2026 | E25: M3 | F25: 222.21 | G25: 6.88 | H25: =TRUNC(G25*(1+$J$5),2) -> 8.49 | I25: =TRUNC(G25*F25,2) -> 1528.8 | J25: =TRUNC(H25*F25,2) -> 1886.56
A26: 2.2.4 | B26: 95877 | C26: SINAPI | D26: TRANSPORTE COM CAMINHÃO BASCULANTE DE 18 M³, EM VIA URBANA PAVIMENTADA, DMT ATÉ 30 KM (UNIDADE: M3XKM). AF_02/2026 | E26: M3XKM | F26: 2222.1 | G26: 2.09 | H26: =TRUNC(G26*(1+$J$5),2) -> 2.58 | I26: =TRUNC(G26*F26,2) -> 4644.18 | J26: =TRUNC(H26*F26,2) -> 5733.01
A27: 2.2.5 | B27: 05.09.007 | C27: CDHU | D27: TAXA DE DESTINAÇÃO DE RESÍDUO SÓLIDO EM ATERRO, TIPO SOLO/TERRA | E27: M3 | F27: 222.21 | G27: 31.37 | H27: =TRUNC(G27*(1+$J$5),2) -> 38.75 | I27: =TRUNC(G27*F27,2) -> 6970.72 | J27: =TRUNC(H27*F27,2) -> 8610.63
A28: 2.2.6 | B28: 97084 | C28: SINAPI | D28: COMPACTAÇÃO MECÂNICA DE SOLO PARA EXECUÇÃO DE RADIER, PISO DE CONCRETO OU LAJE SOBRE SOLO, COM COMPACTADOR DE SOLOS TIPO PLACA VIBRATÓRIA. AF_07/2026 | E28: M2 | F28: 401.53 | G28: 1.09 | H28: =TRUNC(G28*(1+$J$5),2) -> 1.34 | I28: =TRUNC(G28*F28,2) -> 437.66 | J28: =TRUNC(H28*F28,2) -> 538.05
A29: 2.3 | D29: DEMOLIÇÕES | H29: SUBTOTAL | I29: =SUBTOTAL(9,I30:I31) -> 1018.4 | J29: =SUBTOTAL(9,J30:J31) -> 1258.08 | K29: =SUM(I30:I31) -> 1018.4 | L29: =SUM(J30:J31) -> 1258.08
A30: 2.3.1 | B30: 97622 | C30: SINAPI | D30: DEMOLIÇÃO DE ALVENARIA DE BLOCO FURADO, DE FORMA MANUAL, SEM REAPROVEITAMENTO. AF_09/2023 | E30: M3 | F30: 4 | G30: 83.84 | H30: =TRUNC(G30*(1+$J$5),2) -> 103.57 | I30: =TRUNC(G30*F30,2) -> 335.36 | J30: =TRUNC(H30*F30,2) -> 414.28
A31: 2.3.2 | B31: 01-001-007 | C31: SIURB - EDIF | D31: REMOÇÃO DE ENTULHO COM CAÇAMBA METÁLICA, INCLUSIVE CARGA MANUAL E DESCARGA EM BOTA-FORA | E31: M3 | F31: 4 | G31: 170.76 | H31: =TRUNC(G31*(1+$J$5),2) -> 210.95 | I31: =TRUNC(G31*F31,2) -> 683.04 | J31: =TRUNC(H31*F31,2) -> 843.8
H32: TOTAL ITEM | I32: =SUBTOTAL(9,I20:I31) -> 24392.19 | J32: =SUBTOTAL(9,J20:J31) -> 30119.5
A33: 3 | D33: REVITALIZAÇÃO DO PLAYGROUND | K33: =I56 -> 67186.4 | L33: =J56 -> 82998.76 | N33: =A33 -> 3 | O33: =IF(L33=SUM(L34:L55),"OK","NOK") -> OK
A34: 3.1 | D34: RETIRADA E RECOLOCAÇÃO DE BRINQUEDOS | H34: SUBTOTAL | I34: =SUBTOTAL(9,I35:I40) -> 16740.79 | J34: =SUBTOTAL(9,J35:J40) -> 20681.54 | K34: =SUM(I35:I40) -> 16740.79 | L34: =SUM(J35:J40) -> 20681.54
A35: 3.1.1 | B35: C.37 | C35: COMPOSIÇÃO | D35: RETIRADA E REINSTALAÇÃO DE BRINQUEDO CENTOPÉIA (GANGORRA) - ESTRUTURA METÁLICA | E35: UN. | F35: 1 | G35: 6363.36 | H35: =TRUNC(G35*(1+$J$5),2) -> 7861.29 | I35: =TRUNC(G35*F35,2) -> 6363.36 | J35: =TRUNC(H35*F35,2) -> 7861.29
A36: 3.1.2 | B36: C.38 | C36: COMPOSIÇÃO | D36: RETIRADA E REINSTALAÇÃO DE BRINQUEDO CARROSSEL BASE FECHADA - ESTRUTURA METÁLICA | E36: UN. | F36: 1 | G36: 1853.13 | H36: =TRUNC(G36*(1+$J$5),2) -> 2289.35 | I36: =TRUNC(G36*F36,2) -> 1853.13 | J36: =TRUNC(H36*F36,2) -> 2289.35
A37: 3.1.3 | B37: C.39 | C37: COMPOSIÇÃO | D37: RETIRADA E REINSTALAÇÃO DE BRINQUEDO BALANÇO 6 LUGARES - ESTRUTURA METÁLICA | E37: UN. | F37: 1 | G37: 1374.98 | H37: =TRUNC(G37*(1+$J$5),2) -> 1698.65 | I37: =TRUNC(G37*F37,2) -> 1374.98 | J37: =TRUNC(H37*F37,2) -> 1698.65
A38: 3.1.4 | B38: C.40 | C38: COMPOSIÇÃO | D38: RETIRADA E REINSTALAÇÃO DE BRINQUEDO ESCALADA TIPO ARANHA - ESTRUTURA METÁLICA | E38: UN. | F38: 1 | G38: 2874.59 | H38: =TRUNC(G38*(1+$J$5),2) -> 3551.26 | I38: =TRUNC(G38*F38,2) -> 2874.59 | J38: =TRUNC(H38*F38,2) -> 3551.26
A39: 3.1.5 | B39: C.41 | C39: COMPOSIÇÃO | D39: RETIRADA E REINSTALAÇÃO DE BRINQUEDO ESCORREGADOR 4 PRANCHAS TIPO DINOSSAURO - ESTRUTURA METÁLICA | E39: UN. | F39: 1 | G39: 3196.29 | H39: =TRUNC(G39*(1+$J$5),2) -> 3948.69 | I39: =TRUNC(G39*F39,2) -> 3196.29 | J39: =TRUNC(H39*F39,2) -> 3948.69
A40: 3.1.6 | B40: C.42 | C40: COMPOSIÇÃO | D40: RETIRADA E REINSTALAÇÃO DE BRINQUEDO ESCALADA TIPO TRENZINHO - ESTRUTURA METÁLICA | E40: UN. | F40: 1 | G40: 1078.44 | H40: =TRUNC(G40*(1+$J$5),2) -> 1332.3 | I40: =TRUNC(G40*F40,2) -> 1078.44 | J40: =TRUNC(H40*F40,2) -> 1332.3
A41: 3.2 | D41: BASE DOS BRINQUEDOS - TANQUES DE AREIA | H41: SUBTOTAL | I41: =SUBTOTAL(9,I42:I47) -> 40445.2 | J41: =SUBTOTAL(9,J42:J47) -> 49963.05 | K41: =SUM(I42:I47) -> 40445.2 | L41: =SUM(J42:J47) -> 49963.05
A42: 3.2.1 | B42: 08.05.100 | C42: CDHU | D42: DRENO COM PEDRA BRITADA | E42: M3 | F42: 1.98 | G42: 183.38 | H42: =TRUNC(G42*(1+$J$5),2) -> 226.54 | I42: =TRUNC(G42*F42,2) -> 363.09 | J42: =TRUNC(H42*F42,2) -> 448.54
...

Sheet Composições
G2: SERPO
G3: Serviços Públicos e Obras
A4: COMPOSIÇÕES | G4: REV. | I4: 46289
A5: OBRA: | B5: REVITALIZAÇÃO DA PRAÇA LAUDELINO DO AMARAL NO BAIRRO VILA NOVA SOROCABA | G5: BDI Obra: | I5: 0.2354
A6: LOCAL: | B6: PRAÇA LAUDELINO DO AMARAL - VILA NOVA SOROCABA, SOROCABA/SP | G6: Á. Princip. de Interv.(m²): | I6: 311.55
A8: TIPO / ITEM | B8: BASE | C8: CÓDIGO / REF. | D8: DESCRIÇÃO | E8: UNID | F8: COEF. / QTD | G8: PREÇO UNIT. | H8: CUSTO TOTAL | I8: CONFERÊNCIA
A9: 1.1.1 | B9: CDHU | C9: 02.08.040 | D9: PLACA EM LONA COM IMPRESSÃO DIGITAL E REQUADRO EM METALON | E9: M2 | F9: QTD: 6 | G9: =SUM(H10:H13) -> 450.11 | H9: =TRUNC(G9 * VALUE(SUBSTITUTE(F9,"QTD: ","")), 2) -> 2700.66 | I9: =IF(ROUND(ABS(G9-Orçamento!G11),2)<0.01,"OK","DIVERGENTE") -> OK
A10: INSUMO | B10: CDHU | C10: B.01.000.010144 | D10: Serralheiro | E10: H | F10: 0,5 | G10: 37.91 | H10: =ROUND(F10*G10,2) -> 18.96
A11: INSUMO | B11: CDHU | C11: B.01.000.010145 | D11: Ajudante serralheiro | E11: H | F11: 0,5 | G11: 23.9 | H11: =ROUND(F11*G11,2) -> 11.95
A12: INSUMO | B12: CDHU | C12: N.04.000.039114 | D12: Banner em lona com impressão digitalmente, com bainha reforçada e ilhoses | E12: M2 | F12: 1 | G12: 113.44 | H12: =ROUND(F12*G12,2) -> 113.44
A13: INSUMO | B13: CDHU | C13: N.04.000.039115 | D13: Requadro em metalon para banner em lona impresso | E13: M | F13: 0,917 | G13: 333.43 | H13: =ROUND(F13*G13,2) -> 305.76
A15: 1.1.2 | B15: CDHU | C15: 02.01.180 | D15: BANHEIRO QUÍMICO MODELO STANDARD, COM MANUTENÇÃO CONFORME EXIGÊNCIAS DA CETESB | E15: UNMES | F15: QTD: 3 | G15: =SUM(H16) -> 1259.83 | H15: =TRUNC(G15 * VALUE(SUBSTITUTE(F15,"QTD: ","")), 2) -> 3779.49 | I15: =IF(ROUND(ABS(G15-Orçamento!G12),2)<0.01,"OK","DIVERGENTE") -> OK
A16: INSUMO | B16: CDHU | C16: A.14.000.081900 | D16: Banheiro químico, modelo Standard, com limpeza 1 vez por semana e descarte conforme exigências da CETESB | E16: UNMES | F16: 1 | G16: 1259.83 | H16: =ROUND(F16*G16,2) -> 1259.83
A18: 1.1.3 | B18: CDHU | C18: 02.02.150 | D18: LOCAÇÃO DE CONTAINER TIPO DEPÓSITO - ÁREA MÍNIMA DE 13,80 M² | E18: UNMES | F18: QTD: 3 | G18: =SUM(H19:H22) -> 1010.89 | H18: =TRUNC(G18 * VALUE(SUBSTITUTE(F18,"QTD: ","")), 2) -> 3032.67 | I18: =IF(ROUND(ABS(G18-Orçamento!G13),2)<0.01,"OK","DIVERGENTE") -> OK
A19: INSUMO | B19: CDHU | C19: A.12.000.021099 | D19: Container depósito, módulo metálico em aço galvanizado de 6,0x2,3x2,5m, vão livre, piso de concreto, cimentado, madeira ou material equivalente | E19: UNMES | F19: 1 | G19: 913.31 | H19: =ROUND(F19*G19,2) -> 913.31
A20: INSUMO | B20: CDHU | C20: B.01.000.010101 | D20: Ajudante geral | E20: H | F20: 1,32 | G20: 23.9 | H20: =ROUND(F20*G20,2) -> 31.55
A21: INSUMO | B21: CDHU | C21: B.01.000.010115 | D21: Eletricista | E21: H | F21: 0,99 | G21: 34.83 | H21: =ROUND(F21*G21,2) -> 34.48
A22: INSUMO | B22: CDHU | C22: B.01.000.010116 | D22: Ajudante eletricista | E22: H | F22: 1,32 | G22: 23.9 | H22: =ROUND(F22*G22,2) -> 31.55
A24: 1.1.4 | B24: SIURB - EDIF | C24: 01-005-040 | D24: TELA PARA PROTEÇÃO DE OBRAS, MALHA 2 MM | E24: M2 | F24: QTD: 219,84 | G24: =SUM(H25:H30) -> 34.93 | H24: =TRUNC(G24 * VALUE(SUBSTITUTE(F24,"QTD: ","")), 2) -> 7679.01 | I24: =IF(ROUND(ABS(G24-Orçamento!G14),2)<0.01,"OK","DIVERGENTE") -> OK
A25: INSUMO | B25: SIURB - EDIF | C25: 02013 | D25: CARPINTEIRO (SGSP) | E25: H | F25: 0,44 | G25: 35.1 | H25: =ROUND(F25*G25,2) -> 15.44
A26: INSUMO | B26: SIURB - EDIF | C26: 02099 | D26: SERVENTE (SGSP) | E26: H | F26: 0,53 | G26: 27.12 | H26: =ROUND(F26*G26,2) -> 14.37
A27: INSUMO | B27: SIURB - EDIF | C27: 11046 | D27: PINUS - PONTALETE DE 3" X 3" - BRUTO | E27: M | F27: 0,06 | G27: 7.59 | H27: =ROUND(F27*G27,2) -> 0.46
A28: INSUMO | B28: SIURB - EDIF | C28: 11066 | D28: PINUS - SARRAFO DE 1" X 4" - BRUTO | E28: M | F28: 0,2 | G28: 3.2 | H28: =ROUND(F28*G28,2) -> 0.64
A29: INSUMO | B29: SIURB - EDIF | C29: 17515 | D29: PREGO 18 X 27 COMUM - POLIDO | E29: Kg | F29: 0,01 | G29: 10.98 | H29: =ROUND(F29*G29,2) -> 0.11
A30: INSUMO | B30: SIURB - EDIF | C30: 38043 | D30: TELA POLIETILENO P/ PROTEÇÃO DE FACHADA-TRAMA 2,2MM | E30: M2 | F30: 1,1 | G30: 3.55 | H30: =ROUND(F30*G30,2) -> 3.91
A32: 1.2.1 | B32: CDHU | C32: 02.10.050 | D32: LOCAÇÃO PARA MUROS, CERCAS E ALAMBRADOS | E32: M | F32: QTD: 149,23 | G32: =SUM(H33:H35) -> 1.6 | H32: =TRUNC(G32 * VALUE(SUBSTITUTE(F32,"QTD: ","")), 2) -> 238.76 | I32: =IF(ROUND(ABS(G32-Orçamento!G16),2)<0.01,"OK","DIVERGENTE") -> OK
A33: INSUMO | B33: CDHU | C33: B.01.000.010160 | D33: Ajudante de topógrafo | E33: H | F33: 0,012 | G33: 23.9 | H33: =ROUND(F33*G33,2) -> 0.29
A34: INSUMO | B34: CDHU | C34: B.01.000.010185 | D34: Topografo | E34: H | F34: 0,004 | G34: 50.21 | H34: =ROUND(F34*G34,2) -> 0.2
A35: INSUMO | B35: CDHU | C35: S.01.000.080352 | D35: Veículo utilitário com capacidade para 9 pessoas - 1.600 CC - COND.D | E35: H | F35: 0,01 | G35: 111.24 | H35: =ROUND(F35*G35,2) -> 1.11
A37: 1.2.2 | B37: CDHU | C37: 02.10.060 | D37: LOCAÇÃO DE VIAS, CALÇADAS, TANQUES E LAGOAS | E37: M2 | F37: QTD: 19,63 | G37: =SUM(H38:H43) -> 1.94 | H37: =TRUNC(G37 * VALUE(SUBSTITUTE(F37,"QTD: ","")), 2) -> 38.08 | I37: =IF(ROUND(ABS(G37-Orçamento!G17),2)<0.01,"OK","DIVERGENTE") -> OK
A38: INSUMO | B38: CDHU | C38: B.01.000.010160 | D38: Ajudante de topógrafo | E38: H | F38: 0,024 | G38: 23.9 | H38: =ROUND(F38*G38,2) -> 0.57
A39: INSUMO | B39: CDHU | C39: B.01.000.010185 | D39: Topografo | E39: H | F39: 0,008 | G39: 50.21 | H39: =ROUND(F39*G39,2) -> 0.4
A40: INSUMO | B40: CDHU | C40: D.02.000.021009 | D40: Pontalete de cedrinho de 75 mm x 75 mm - 3ª construção | E40: M | F40: 0,0093 | G40: 23.43 | H40: =ROUND(F40*G40,2) -> 0.22
A41: INSUMO | B41: CDHU | C41: E.02.000.026760 | D41: Prego diversas bitolas (referência 18 x 27) | E41: KG | F41: 0,001 | G41: 10.77 | H41: =ROUND(F41*G41,2) -> 0.01
A42: INSUMO | B42: CDHU | C42: E.02.000.027025 | D42: Arame galvanizado nº 16 BWG | E42: KG | F42: 0,0115 | G42: 15.79 | H42: =ROUND(F42*G42,2) -> 0.18
A43: INSUMO | B43: CDHU | C43: S.01.000.080352 | D43: Veículo utilitário com capacidade para 9 pessoas - 1.600 CC - COND.D | E43: H | F43: 0,005 | G43: 111.24 | H43: =ROUND(F43*G43,2) -> 0.56
A45: SUBTOTAL 1 | D45: SUBTOTAL DO GRUPO 1 | H45: =SUMIFS(H8:H44,A8:A44,"1.*",A8:A44,"<>INSUMO",A8:A44,"<>AUXILIAR*") -> 17468.67
A47: 2.1.1 | B47: SINAPI | C47: 98525 | D47: LIMPEZA MECANIZADA DE CAMADA VEGETAL, VEGETAÇÃO E PEQUENAS ÁRVORES (DIÂMETRO DE TRONCO MENOR QUE 0,20 M), COM TRATOR DE ESTEIRAS. AF_03/2024 | E47: M2 | F47: QTD: 401,53 | G47: =SUM(H48:H50) -> 0.76 | H47: =TRUNC(G47 * VALUE(SUBSTITUTE(F47,"QTD: ","")), 2) -> 305.16 | I47: =IF(ROUND(ABS(G47-Orçamento!G21),2)<0.01,"OK","DIVERGENTE") -> OK
A48: AUXILIAR (N1) | B48: SINAPI | C48: 89032 | D48: TRATOR DE ESTEIRAS, POTÊNCIA 100 HP, PESO OPERACIONAL 9,4 T, COM LÂMINA 2,19 M3 - CHP DIURNO. AF_06/2014 | E48: CHP | F48: 0,0017 | G48: 215.94 | H48: =TRUNC(F48*G48,2) -> 0.36 | I48: =IFERROR(IF(ROUND(G48, 2) <> ROUND(VLOOKUP("C"&C48,C:G, 5, FALSE), 2), "VALOR AUXILIAR DIVERGENTE", "OK"), "NÃO ENCONTRADO") -> OK
A49: AUXILIAR (N1) | B49: SINAPI | C49: 89031 | D49: TRATOR DE ESTEIRAS, POTÊNCIA 100 HP, PESO OPERACIONAL 9,4 T, COM LÂMINA 2,19 M3 - CHI DIURNO. AF_06/2014 | E49: CHI | F49: 0,0029 | G49: 88.36 | H49: =TRUNC(F49*G49,2) -> 0.25 | I49: =IFERROR(IF(ROUND(G49, 2) <> ROUND(VLOOKUP("C"&C49,C:G, 5, FALSE), 2), "VALOR AUXILIAR DIVERGENTE", "OK"), "NÃO ENCONTRADO") -> OK
...

Sheet Cron. Auxiliar
A1: NÃO ALTERAR ESSA ABA, TRATA-SE DE BASE DE DADOS PARA AS DEMAIS. NÃO É NECESSÁRIA A IMPRESSÃO.
N6: =COLUMN() -> 14 | P6: =COLUMN() -> 16 | R6: =COLUMN() -> 18 | T6: =COLUMN() -> 20 | V6: =COLUMN() -> 22
A8: ITEM | B8: DISCRIMINAÇÃO DO SERVIÇO | C8: 1º MÊS | D8: 2º MÊS | E8: 3º MÊS | F8: 4º MÊS | G8: 5º MÊS | H8: UNIDADE | I8: QUANTIDADE TOTAL | J8: PREÇO UNITÁRIO (C/ BDI) | K8: PREÇO TOTAL (COM BDI) | M8: 1º MÊS | O8: 2º MÊS | Q8: 3º MÊS | S8: 4º MÊS | U8: 5º MÊS | Y8: CONFERÊNCIA
A9: 1 | B9: =VLOOKUP($A9,Orçamento!$A$9:$J$117,4,0) -> SERVIÇOS PRELIMINARES | M9: QTDE | N9: Valor | O9: QTDE | P9: Valor | Q9: QTDE | R9: Valor | S9: QTDE | T9: Valor | U9: QTDE | V9: Valor
A10: 1.1 | B10: =VLOOKUP($A10,Orçamento!$A$9:$J$117,4,0) -> PLACA E CANTEIRO | C10: EVENTO 1 | D10: EVENTO 2 | E10: EVENTO 3 | N10: =SUM(N11:N14) -> 15627.69 | P10: =SUM(P11:P14) -> 2805.24 | R10: =SUM(R11:R14) -> 2805.24 | T10: =SUM(T11:T14) -> 0 | V10: =SUM(V11:V14) -> 0
A11: 1.1.1 | B11: =VLOOKUP($A11,Orçamento!$A$9:$J$117,4,0) -> PLACA EM LONA COM IMPRESSÃO DIGITAL E REQUADRO EM METALON | C11: =IF(M11=0,"",CONCATENATE(M11," ",$H11)) -> 6 M2 | D11: =IF(O11=0,"",CONCATENATE(O11," ",$H11)) | E11: =IF(Q11=0,"",CONCATENATE(Q11," ",$H11)) | F11: =IF(S11=0,"",CONCATENATE(S11," ",$H11)) | G11: =IF(U11=0,"",CONCATENATE(U11," ",$H11)) | H11: =VLOOKUP($A11,Orçamento!$A$9:$J$117,5,0) -> M2 | I11: =VLOOKUP($A11,Orçamento!$A$9:$J$117,6,0) -> 6 | J11: =VLOOKUP($A11,Orçamento!$A$9:$J$117,8,0) -> 556.06 | K11: =VLOOKUP($A11,Orçamento!$A$9:$J$117,10,0) -> 3336.36 | M11: 6 | N11: =IF(M11=0,"",TRUNC($J11*M11,2)) -> 3336.36 | P11: =IF(O11=0,"",TRUNC($J11*O11,2)) | R11: =IF(Q11=0,"",TRUNC($J11*Q11,2)) | T11: =IF(S11=0,"",TRUNC($J11*S11,2)) | V11: =IF(U11=0,"",TRUNC($J11*U11,2)) | Y11: =SUMIF($M$9:$V$9,$M$9,M11:V11) -> 6 | Z11: =IF(Y11=I11,"","FALTA") | AA11: =SUMIF($M$9:$V$9,$N$9,M11:V11) -> 3336.36 | AB11: =IF(AA11=K11,"","FALTA")
A12: 1.1.2 | B12: =VLOOKUP($A12,Orçamento!$A$9:$J$117,4,0) -> BANHEIRO QUÍMICO MODELO STANDARD, COM MANUTENÇÃO CONFORME EXIGÊNCIAS DA CETESB | C12: =IF(M12=0,"",CONCATENATE(M12," ",$H12)) -> 1 UNMES | D12: =IF(O12=0,"",CONCATENATE(O12," ",$H12)) -> 1 UNMES | E12: =IF(Q12=0,"",CONCATENATE(Q12," ",$H12)) -> 1 UNMES | F12: =IF(S12=0,"",CONCATENATE(S12," ",$H12)) | G12: =IF(U12=0,"",CONCATENATE(U12," ",$H12)) | H12: =VLOOKUP($A12,Orçamento!$A$9:$J$117,5,0) -> UNMES | I12: =VLOOKUP($A12,Orçamento!$A$9:$J$117,6,0) -> 3 | J12: =VLOOKUP($A12,Orçamento!$A$9:$J$117,8,0) -> 1556.39 | K12: =VLOOKUP($A12,Orçamento!$A$9:$J$117,10,0) -> 4669.17 | M12: =I12/3 -> 1 | N12: =IF(M12=0,"",TRUNC($J12*M12,2)) -> 1556.39 | O12: =I12/3 -> 1 | P12: =IF(O12=0,"",TRUNC($J12*O12,2)) -> 1556.39 | Q12: =I12/3 -> 1 | R12: =IF(Q12=0,"",TRUNC($J12*Q12,2)) -> 1556.39 | T12: =IF(S12=0,"",TRUNC($J12*S12,2)) | V12: =IF(U12=0,"",TRUNC($J12*U12,2)) | Y12: =SUMIF($M$9:$V$9,$M$9,M12:V12) -> 3 | Z12: =IF(Y12=I12,"","FALTA") | AA12: =SUMIF($M$9:$V$9,$N$9,M12:V12) -> 4669.17 | AB12: =IF(AA12=K12,"","FALTA")
A13: 1.1.3 | B13: =VLOOKUP($A13,Orçamento!$A$9:$J$117,4,0) -> LOCAÇÃO DE CONTAINER TIPO DEPÓSITO - ÁREA MÍNIMA DE 13,80 M² | C13: =IF(M13=0,"",CONCATENATE(M13," ",$H13)) -> 1 UNMES | D13: =IF(O13=0,"",CONCATENATE(O13," ",$H13)) -> 1 UNMES | E13: =IF(Q13=0,"",CONCATENATE(Q13," ",$H13)) -> 1 UNMES | F13: =IF(S13=0,"",CONCATENATE(S13," ",$H13)) | G13: =IF(U13=0,"",CONCATENATE(U13," ",$H13)) | H13: =VLOOKUP($A13,Orçamento!$A$9:$J$117,5,0) -> UNMES | I13: =VLOOKUP($A13,Orçamento!$A$9:$J$117,6,0) -> 3 | J13: =VLOOKUP($A13,Orçamento!$A$9:$J$117,8,0) -> 1248.85 | K13: =VLOOKUP($A13,Orçamento!$A$9:$J$117,10,0) -> 3746.55 | M13: =I13/3 -> 1 | N13: =IF(M13=0,"",TRUNC($J13*M13,2)) -> 1248.85 | O13: =I13/3 -> 1 | P13: =IF(O13=0,"",TRUNC($J13*O13,2)) -> 1248.85 | Q13: =I13/3 -> 1 | R13: =IF(Q13=0,"",TRUNC($J13*Q13,2)) -> 1248.85 | T13: =IF(S13=0,"",TRUNC($J13*S13,2)) | V13: =IF(U13=0,"",TRUNC($J13*U13,2)) | Y13: =SUMIF($M$9:$V$9,$M$9,M13:V13) -> 3 | Z13: =IF(Y13=I13,"","FALTA") | AA13: =SUMIF($M$9:$V$9,$N$9,M13:V13) -> 3746.55 | AB13: =IF(AA13=K13,"","FALTA")
A14: 1.1.4 | B14: =VLOOKUP($A14,Orçamento!$A$9:$J$117,4,0) -> TELA PARA PROTEÇÃO DE OBRAS, MALHA 2 MM | C14: =IF(M14=0,"",CONCATENATE(M14," ",$H14)) -> 219,84 M2 | D14: =IF(O14=0,"",CONCATENATE(O14," ",$H14)) | E14: =IF(Q14=0,"",CONCATENATE(Q14," ",$H14)) | F14: =IF(S14=0,"",CONCATENATE(S14," ",$H14)) | G14: =IF(U14=0,"",CONCATENATE(U14," ",$H14)) | H14: =VLOOKUP($A14,Orçamento!$A$9:$J$117,5,0) -> M2 | I14: =VLOOKUP($A14,Orçamento!$A$9:$J$117,6,0) -> 219.84 | J14: =VLOOKUP($A14,Orçamento!$A$9:$J$117,8,0) -> 43.15 | K14: =VLOOKUP($A14,Orçamento!$A$9:$J$117,10,0) -> 9486.09 | M14: =I14 -> 219.84 | N14: =IF(M14=0,"",TRUNC($J14*M14,2)) -> 9486.09 | P14: =IF(O14=0,"",TRUNC($J14*O14,2)) | R14: =IF(Q14=0,"",TRUNC($J14*Q14,2)) | T14: =IF(S14=0,"",TRUNC($J14*S14,2)) | V14: =IF(U14=0,"",TRUNC($J14*U14,2)) | Y14: =SUMIF($M$9:$V$9,$M$9,M14:V14) -> 219.84 | Z14: =IF(Y14=I14,"","FALTA") | AA14: =SUMIF($M$9:$V$9,$N$9,M14:V14) -> 9486.09 | AB14: =IF(AA14=K14,"","FALTA")
A16: 1.2 | B16: =VLOOKUP($A16,Orçamento!$A$9:$J$117,4,0) -> LOCAÇÃO DE OBRA | C16: EVENTO 4 | N16: =SUM(N17:N18) -> 340.89 | P16: =SUM(P17:P18) -> 0 | R16: =SUM(R17:R18) -> 0 | T16: =SUM(T17:T18) -> 0 | V16: =SUM(V17:V18) -> 0
A17: 1.2.1 | B17: =VLOOKUP($A17,Orçamento!$A$9:$J$117,4,0) -> LOCAÇÃO PARA MUROS, CERCAS E ALAMBRADOS | C17: =IF(M17=0,"",CONCATENATE(M17," ",$H17)) -> 149,23 M | D17: =IF(O17=0,"",CONCATENATE(O17," ",$H17)) | E17: =IF(Q17=0,"",CONCATENATE(Q17," ",$H17)) | F17: =IF(S17=0,"",CONCATENATE(S17," ",$H17)) | G17: =IF(U17=0,"",CONCATENATE(U17," ",$H17)) | H17: =VLOOKUP($A17,Orçamento!$A$9:$J$117,5,0) -> M | I17: =VLOOKUP($A17,Orçamento!$A$9:$J$117,6,0) -> 149.23 | J17: =VLOOKUP($A17,Orçamento!$A$9:$J$117,8,0) -> 1.97 | K17: =VLOOKUP($A17,Orçamento!$A$9:$J$117,10,0) -> 293.98 | M17: =I17 -> 149.23 | N17: =IF(M17=0,"",TRUNC($J17*M17,2)) -> 293.98 | P17: =IF(O17=0,"",TRUNC($J17*O17,2)) | R17: =IF(Q17=0,"",TRUNC($J17*Q17,2)) | T17: =IF(S17=0,"",TRUNC($J17*S17,2)) | V17: =IF(U17=0,"",TRUNC($J17*U17,2)) | Y17: =SUMIF($M$9:$V$9,$M$9,M17:V17) -> 149.23 | Z17: =IF(Y17=I17,"","FALTA") | AA17: =SUMIF($M$9:$V$9,$N$9,M17:V17) -> 293.98 | AB17: =IF(AA17=K17,"","FALTA")
A18: 1.2.2 | B18: =VLOOKUP($A18,Orçamento!$A$9:$J$117,4,0) -> LOCAÇÃO DE VIAS, CALÇADAS, TANQUES E LAGOAS | C18: =IF(M18=0,"",CONCATENATE(M18," ",$H18)) -> 19,63 M2 | D18: =IF(O18=0,"",CONCATENATE(O18," ",$H18)) | E18: =IF(Q18=0,"",CONCATENATE(Q18," ",$H18)) | F18: =IF(S18=0,"",CONCATENATE(S18," ",$H18)) | G18: =IF(U18=0,"",CONCATENATE(U18," ",$H18)) | H18: =VLOOKUP($A18,Orçamento!$A$9:$J$117,5,0) -> M2 | I18: =VLOOKUP($A18,Orçamento!$A$9:$J$117,6,0) -> 19.63 | J18: =VLOOKUP($A18,Orçamento!$A$9:$J$117,8,0) -> 2.39 | K18: =VLOOKUP($A18,Orçamento!$A$9:$J$117,10,0) -> 46.91 | M18: =I18 -> 19.63 | N18: =IF(M18=0,"",TRUNC($J18*M18,2)) -> 46.91 | P18: =IF(O18=0,"",TRUNC($J18*O18,2)) | R18: =IF(Q18=0,"",TRUNC($J18*Q18,2)) | T18: =IF(S18=0,"",TRUNC($J18*S18,2)) | V18: =IF(U18=0,"",TRUNC($J18*U18,2)) | Y18: =SUMIF($M$9:$V$9,$M$9,M18:V18) -> 19.63 | Z18: =IF(Y18=I18,"","FALTA") | AA18: =SUMIF($M$9:$V$9,$N$9,M18:V18) -> 46.91 | AB18: =IF(AA18=K18,"","FALTA")
A20: 2 | B20: =VLOOKUP($A20,Orçamento!$A$9:$J$117,4,0) -> LIMPEZA, TERRAPLENAGEM E DEMOLIÇÕES
A21: 2.1 | B21: =VLOOKUP($A21,Orçamento!$A$9:$J$117,4,0) -> LIMPEZA DO TERRENO | C21: EVENTO 5 | N21: =SUM(N22) -> 373.42 | P21: =SUM(P22) -> 0 | R21: =SUM(R22) -> 0 | T21: =SUM(T22) -> 0 | V21: =SUM(V22) -> 0
A22: 2.1.1 | B22: =VLOOKUP($A22,Orçamento!$A$9:$J$117,4,0) -> LIMPEZA MECANIZADA DE CAMADA VEGETAL, VEGETAÇÃO E PEQUENAS ÁRVORES (DIÂMETRO DE TRONCO MENOR QUE 0,20 M), COM TRATOR DE ESTEIRAS. AF_03/2024 | C22: =IF(M22=0,"",CONCATENATE(M22," ",$H22)) -> 401,53 M2 | D22: =IF(O22=0,"",CONCATENATE(O22," ",$H22)) | E22: =IF(Q22=0,"",CONCATENATE(Q22," ",$H22)) | F22: =IF(S22=0,"",CONCATENATE(S22," ",$H22)) | G22: =IF(U22=0,"",CONCATENATE(U22," ",$H22)) | H22: =VLOOKUP($A22,Orçamento!$A$9:$J$117,5,0) -> M2 | I22: =VLOOKUP($A22,Orçamento!$A$9:$J$117,6,0) -> 401.53 | J22: =VLOOKUP($A22,Orçamento!$A$9:$J$117,8,0) -> 0.93 | K22: =VLOOKUP($A22,Orçamento!$A$9:$J$117,10,0) -> 373.42 | M22: =I22 -> 401.53 | N22: =IF(M22=0,"",TRUNC($J22*M22,2)) -> 373.42 | P22: =IF(O22=0,"",TRUNC($J22*O22,2)) | R22: =IF(Q22=0,"",TRUNC($J22*Q22,2)) | T22: =IF(S22=0,"",TRUNC($J22*S22,2)) | V22: =IF(U22=0,"",TRUNC($J22*U22,2)) | Y22: =SUMIF($M$9:$V$9,$M$9,M22:V22) -> 401.53 | Z22: =IF(Y22=I22,"","FALTA") | AA22: =SUMIF($M$9:$V$9,$N$9,M22:V22) -> 373.42 | AB22: =IF(AA22=K22,"","FALTA")
A24: 2.2 | B24: =VLOOKUP($A24,Orçamento!$A$9:$J$117,4,0) -> TERRAPLENAGEM | C24: EVENTO 6 | N24: =SUM(N25:N30) -> 28488 | P24: =SUM(P25:P30) -> 0 | R24: =SUM(R25:R30) -> 0 | T24: =SUM(T25:T30) -> 0 | V24: =SUM(V25:V30) -> 0
A25: 2.2.1 | B25: =VLOOKUP($A25,Orçamento!$A$9:$J$117,4,0) -> ESCAVAÇÃO MANUAL EM SOLO DE 1ª E 2ª CATEGORIA EM CAMPO ABERTO | C25: =IF(M25=0,"",CONCATENATE(M25," ",$H25)) -> 155,71 M3 | D25: =IF(O25=0,"",CONCATENATE(O25," ",$H25)) | E25: =IF(Q25=0,"",CONCATENATE(Q25," ",$H25)) | F25: =IF(S25=0,"",CONCATENATE(S25," ",$H25)) | G25: =IF(U25=0,"",CONCATENATE(U25," ",$H25)) | H25: =VLOOKUP($A25,Orçamento!$A$9:$J$117,5,0) -> M3 | I25: =VLOOKUP($A25,Orçamento!$A$9:$J$117,6,0) -> 155.71 | J25: =VLOOKUP($A25,Orçamento!$A$9:$J$117,8,0) -> 73.81 | K25: =VLOOKUP($A25,Orçamento!$A$9:$J$117,10,0) -> 11492.95 | M25: =I25 -> 155.71 | N25: =IF(M25=0,"",TRUNC($J25*M25,2)) -> 11492.95 | P25: =IF(O25=0,"",TRUNC($J25*O25,2)) | R25: =IF(Q25=0,"",TRUNC($J25*Q25,2)) | T25: =IF(S25=0,"",TRUNC($J25*S25,2)) | V25: =IF(U25=0,"",TRUNC($J25*U25,2)) | Y25: =SUMIF($M$9:$V$9,$M$9,M25:V25) -> 155.71 | Z25: =IF(Y25=I25,"","FALTA") | AA25: =SUMIF($M$9:$V$9,$N$9,M25:V25) -> 11492.95 | AB25: =IF(AA25=K25,"","FALTA")
A26: 2.2.2 | B26: =VLOOKUP($A26,Orçamento!$A$9:$J$117,4,0) -> ESCAVAÇÃO MANUAL EM SOLO DE 1ª E 2ª CATEGORIA EM VALA OU CAVA ALÉM DE 1,5 M | C26: =IF(M26=0,"",CONCATENATE(M26," ",$H26)) -> 1,98 M3 | D26: =IF(O26=0,"",CONCATENATE(O26," ",$H26)) | E26: =IF(Q26=0,"",CONCATENATE(Q26," ",$H26)) | F26: =IF(S26=0,"",CONCATENATE(S26," ",$H26)) | G26: =IF(U26=0,"",CONCATENATE(U26," ",$H26)) | H26: =VLOOKUP($A26,Orçamento!$A$9:$J$117,5,0) -> M3 | I26: =VLOOKUP($A26,Orçamento!$A$9:$J$117,6,0) -> 1.98 | J26: =VLOOKUP($A26,Orçamento!$A$9:$J$117,8,0) -> 114.55 | K26: =VLOOKUP($A26,Orçamento!$A$9:$J$117,10,0) -> 226.8 | M26: =I26 -> 1.98 | N26: =IF(M26=0,"",TRUNC($J26*M26,2)) -> 226.8 | P26: =IF(O26=0,"",TRUNC($J26*O26,2)) | R26: =IF(Q26=0,"",TRUNC($J26*Q26,2)) | T26: =IF(S26=0,"",TRUNC($J26*S26,2)) | V26: =IF(U26=0,"",TRUNC($J26*U26,2)) | Y26: =SUMIF($M$9:$V$9,$M$9,M26:V26) -> 1.98 | Z26: =IF(Y26=I26,"","FALTA") | AA26: =SUMIF($M$9:$V$9,$N$9,M26:V26) -> 226.8 | AB26: =IF(AA26=K26,"","FALTA")
A27: 2.2.3 | B27: =VLOOKUP($A27,Orçamento!$A$9:$J$117,4,0) -> CARGA, MANOBRA E DESCARGA DE SOLOS E MATERIAIS GRANULARES EM CAMINHÃO BASCULANTE 18 M³ - CARGA COM ESCAVADEIRA HIDRÁULICA (CAÇAMBA DE 1,20 M³ / 155 HP) E DESCARGA LIVRE (UNIDADE: M3). AF_02/2026 | C27: =IF(M27=0,"",CONCATENATE(M27," ",$H27)) -> 222,21 M3 | D27: =IF(O27=0,"",CONCATENATE(O27," ",$H27)) | E27: =IF(Q27=0,"",CONCATENATE(Q27," ",$H27)) | F27: =IF(S27=0,"",CONCATENATE(S27," ",$H27)) | G27: =IF(U27=0,"",CONCATENATE(U27," ",$H27)) | H27: =VLOOKUP($A27,Orçamento!$A$9:$J$117,5,0) -> M3 | I27: =VLOOKUP($A27,Orçamento!$A$9:$J$117,6,0) -> 222.21 | J27: =VLOOKUP($A27,Orçamento!$A$9:$J$117,8,0) -> 8.49 | K27: =VLOOKUP($A27,Orçamento!$A$9:$J$117,10,0) -> 1886.56 | M27: =I27 -> 222.21 | N27: =IF(M27=0,"",TRUNC($J27*M27,2)) -> 1886.56 | P27: =IF(O27=0,"",TRUNC($J27*O27,2)) | R27: =IF(Q27=0,"",TRUNC($J27*Q27,2)) | T27: =IF(S27=0,"",TRUNC($J27*S27,2)) | V27: =IF(U27=0,"",TRUNC($J27*U27,2)) | Y27: =SUMIF($M$9:$V$9,$M$9,M27:V27) -> 222.21 | Z27: =IF(Y27=I27,"","FALTA") | AA27: =SUMIF($M$9:$V$9,$N$9,M27:V27) -> 1886.56 | AB27: =IF(AA27=K27,"","FALTA")
A28: 2.2.4 | B28: =VLOOKUP($A28,Orçamento!$A$9:$J$117,4,0) -> TRANSPORTE COM CAMINHÃO BASCULANTE DE 18 M³, EM VIA URBANA PAVIMENTADA, DMT ATÉ 30 KM (UNIDADE: M3XKM). AF_02/2026 | C28: =IF(M28=0,"",CONCATENATE(M28," ",$H28)) -> 2222,1 M3XKM | D28: =IF(O28=0,"",CONCATENATE(O28," ",$H28)) | E28: =IF(Q28=0,"",CONCATENATE(Q28," ",$H28)) | F28: =IF(S28=0,"",CONCATENATE(S28," ",$H28)) | G28: =IF(U28=0,"",CONCATENATE(U28," ",$H28)) | H28: =VLOOKUP($A28,Orçamento!$A$9:$J$117,5,0) -> M3XKM | I28: =VLOOKUP($A28,Orçamento!$A$9:$J$117,6,0) -> 2222.1 | J28: =VLOOKUP($A28,Orçamento!$A$9:$J$117,8,0) -> 2.58 | K28: =VLOOKUP($A28,Orçamento!$A$9:$J$117,10,0) -> 5733.01 | M28: =I28 -> 2222.1 | N28: =IF(M28=0,"",TRUNC($J28*M28,2)) -> 5733.01 | P28: =IF(O28=0,"",TRUNC($J28*O28,2)) | R28: =IF(Q28=0,"",TRUNC($J28*Q28,2)) | T28: =IF(S28=0,"",TRUNC($J28*S28,2)) | V28: =IF(U28=0,"",TRUNC($J28*U28,2)) | Y28: =SUMIF($M$9:$V$9,$M$9,M28:V28) -> 2222.1 | Z28: =IF(Y28=I28,"","FALTA") | AA28: =SUMIF($M$9:$V$9,$N$9,M28:V28) -> 5733.01 | AB28: =IF(AA28=K28,"","FALTA")
A29: 2.2.5 | B29: =VLOOKUP($A29,Orçamento!$A$9:$J$117,4,0) -> TAXA DE DESTINAÇÃO DE RESÍDUO SÓLIDO EM ATERRO, TIPO SOLO/TERRA | C29: =IF(M29=0,"",CONCATENATE(M29," ",$H29)) -> 222,21 M3 | D29: =IF(O29=0,"",CONCATENATE(O29," ",$H29)) | E29: =IF(Q29=0,"",CONCATENATE(Q29," ",$H29)) | F29: =IF(S29=0,"",CONCATENATE(S29," ",$H29)) | G29: =IF(U29=0,"",CONCATENATE(U29," ",$H29)) | H29: =VLOOKUP($A29,Orçamento!$A$9:$J$117,5,0) -> M3 | I29: =VLOOKUP($A29,Orçamento!$A$9:$J$117,6,0) -> 222.21 | J29: =VLOOKUP($A29,Orçamento!$A$9:$J$117,8,0) -> 38.75 | K29: =VLOOKUP($A29,Orçamento!$A$9:$J$117,10,0) -> 8610.63 | M29: =I29 -> 222.21 | N29: =IF(M29=0,"",TRUNC($J29*M29,2)) -> 8610.63 | P29: =IF(O29=0,"",TRUNC($J29*O29,2)) | R29: =IF(Q29=0,"",TRUNC($J29*Q29,2)) | T29: =IF(S29=0,"",TRUNC($J29*S29,2)) | V29: =IF(U29=0,"",TRUNC($J29*U29,2)) | Y29: =SUMIF($M$9:$V$9,$M$9,M29:V29) -> 222.21 | Z29: =IF(Y29=I29,"","FALTA") | AA29: =SUMIF($M$9:$V$9,$N$9,M29:V29) -> 8610.63 | AB29: =IF(AA29=K29,"","FALTA")
A30: 2.2.6 | B30: =VLOOKUP($A30,Orçamento!$A$9:$J$117,4,0) -> COMPACTAÇÃO MECÂNICA DE SOLO PARA EXECUÇÃO DE RADIER, PISO DE CONCRETO OU LAJE SOBRE SOLO, COM COMPACTADOR DE SOLOS TIPO PLACA VIBRATÓRIA. AF_07/2026 | C30: =IF(M30=0,"",CONCATENATE(M30," ",$H30)) -> 401,53 M2 | D30: =IF(O30=0,"",CONCATENATE(O30," ",$H30)) | E30: =IF(Q30=0,"",CONCATENATE(Q30," ",$H30)) | F30: =IF(S30=0,"",CONCATENATE(S30," ",$H30)) | G30: =IF(U30=0,"",CONCATENATE(U30," ",$H30)) | H30: =VLOOKUP($A30,Orçamento!$A$9:$J$117,5,0) -> M2 | I30: =VLOOKUP($A30,Orçamento!$A$9:$J$117,6,0) -> 401.53 | J30: =VLOOKUP($A30,Orçamento!$A$9:$J$117,8,0) -> 1.34 | K30: =VLOOKUP($A30,Orçamento!$A$9:$J$117,10,0) -> 538.05 | M30: =I30 -> 401.53 | N30: =IF(M30=0,"",TRUNC($J30*M30,2)) -> 538.05 | P30: =IF(O30=0,"",TRUNC($J30*O30,2)) | R30: =IF(Q30=0,"",TRUNC($J30*Q30,2)) | T30: =IF(S30=0,"",TRUNC($J30*S30,2)) | V30: =IF(U30=0,"",TRUNC($J30*U30,2)) | Y30: =SUMIF($M$9:$V$9,$M$9,M30:V30) -> 401.53 | Z30: =IF(Y30=I30,"","FALTA") | AA30: =SUMIF($M$9:$V$9,$N$9,M30:V30) -> 538.05 | AB30: =IF(AA30=K30,"","FALTA")
A32: 2.3 | B32: =VLOOKUP($A32,Orçamento!$A$9:$J$117,4,0) -> DEMOLIÇÕES | C32: EVENTO 7 | N32: =SUM(N33:N34) -> 1258.08 | P32: =SUM(P33:P34) -> 0 | R32: =SUM(R33:R34) -> 0 | T32: =SUM(T33:T34) -> 0 | V32: =SUM(V33:V34) -> 0
A33: 2.3.1 | B33: =VLOOKUP($A33,Orçamento!$A$9:$J$117,4,0) -> DEMOLIÇÃO DE ALVENARIA DE BLOCO FURADO, DE FORMA MANUAL, SEM REAPROVEITAMENTO. AF_09/2023 | C33: =IF(M33=0,"",CONCATENATE(M33," ",$H33)) -> 4 M3 | D33: =IF(O33=0,"",CONCATENATE(O33," ",$H33)) | E33: =IF(Q33=0,"",CONCATENATE(Q33," ",$H33)) | F33: =IF(S33=0,"",CONCATENATE(S33," ",$H33)) | G33: =IF(U33=0,"",CONCATENATE(U33," ",$H33)) | H33: =VLOOKUP($A33,Orçamento!$A$9:$J$117,5,0) -> M3 | I33: =VLOOKUP($A33,Orçamento!$A$9:$J$117,6,0) -> 4 | J33: =VLOOKUP($A33,Orçamento!$A$9:$J$117,8,0) -> 103.57 | K33: =VLOOKUP($A33,Orçamento!$A$9:$J$117,10,0) -> 414.28 | M33: =I33 -> 4 | N33: =IF(M33=0,"",TRUNC($J33*M33,2)) -> 414.28 | P33: =IF(O33=0,"",TRUNC($J33*O33,2)) | R33: =IF(Q33=0,"",TRUNC($J33*Q33,2)) | T33: =IF(S33=0,"",TRUNC($J33*S33,2)) | V33: =IF(U33=0,"",TRUNC($J33*U33,2)) | Y33: =SUMIF($M$9:$V$9,$M$9,M33:V33) -> 4 | Z33: =IF(Y33=I33,"","FALTA") | AA33: =SUMIF($M$9:$V$9,$N$9,M33:V33) -> 414.28 | AB33: =IF(AA33=K33,"","FALTA")
A34: 2.3.2 | B34: =VLOOKUP($A34,Orçamento!$A$9:$J$117,4,0) -> REMOÇÃO DE ENTULHO COM CAÇAMBA METÁLICA, INCLUSIVE CARGA MANUAL E DESCARGA EM BOTA-FORA | C34: =IF(M34=0,"",CONCATENATE(M34," ",$H34)) -> 4 M3 | D34: =IF(O34=0,"",CONCATENATE(O34," ",$H34)) | E34: =IF(Q34=0,"",CONCATENATE(Q34," ",$H34)) | F34: =IF(S34=0,"",CONCATENATE(S34," ",$H34)) | G34: =IF(U34=0,"",CONCATENATE(U34," ",$H34)) | H34: =VLOOKUP($A34,Orçamento!$A$9:$J$117,5,0) -> M3 | I34: =VLOOKUP($A34,Orçamento!$A$9:$J$117,6,0) -> 4 | J34: =VLOOKUP($A34,Orçamento!$A$9:$J$117,8,0) -> 210.95 | K34: =VLOOKUP($A34,Orçamento!$A$9:$J$117,10,0) -> 843.8 | M34: =I34 -> 4 | N34: =IF(M34=0,"",TRUNC($J34*M34,2)) -> 843.8 | P34: =IF(O34=0,"",TRUNC($J34*O34,2)) | R34: =IF(Q34=0,"",TRUNC($J34*Q34,2)) | T34: =IF(S34=0,"",TRUNC($J34*S34,2)) | V34: =IF(U34=0,"",TRUNC($J34*U34,2)) | Y34: =SUMIF($M$9:$V$9,$M$9,M34:V34) -> 4 | Z34: =IF(Y34=I34,"","FALTA") | AA34: =SUMIF($M$9:$V$9,$N$9,M34:V34) -> 843.8 | AB34: =IF(AA34=K34,"","FALTA")
A36: 3 | B36: =VLOOKUP($A36,Orçamento!$A$9:$J$117,4,0) -> REVITALIZAÇÃO DO PLAYGROUND
A37: 3.1 | B37: =VLOOKUP($A37,Orçamento!$A$9:$J$117,4,0) -> RETIRADA E RECOLOCAÇÃO DE BRINQUEDOS | C37: EVENTO 8 | N37: =SUM(N38:N43) -> 20681.54 | P37: =SUM(P38:P43) -> 0 | R37: =SUM(R38:R43) -> 0 | T37: =SUM(T38:T43) -> 0 | V37: =SUM(V38:V43) -> 0
A38: 3.1.1 | B38: =VLOOKUP($A38,Orçamento!$A$9:$J$117,4,0) -> RETIRADA E REINSTALAÇÃO DE BRINQUEDO CENTOPÉIA (GANGORRA) - ESTRUTURA METÁLICA | C38: =IF(M38=0,"",CONCATENATE(M38," ",$H38)) -> 1 UN. | D38: =IF(O38=0,"",CONCATENATE(O38," ",$H38)) | E38: =IF(Q38=0,"",CONCATENATE(Q38," ",$H38)) | F38: =IF(S38=0,"",CONCATENATE(S38," ",$H38)) | G38: =IF(U38=0,"",CONCATENATE(U38," ",$H38)) | H38: =VLOOKUP($A38,Orçamento!$A$9:$J$117,5,0) -> UN. | I38: =VLOOKUP($A38,Orçamento!$A$9:$J$117,6,0) -> 1 | J38: =VLOOKUP($A38,Orçamento!$A$9:$J$117,8,0) -> 7861.29 | K38: =VLOOKUP($A38,Orçamento!$A$9:$J$117,10,0) -> 7861.29 | M38: =I38 -> 1 | N38: =IF(M38=0,"",TRUNC($J38*M38,2)) -> 7861.29 | P38: =IF(O38=0,"",TRUNC($J38*O38,2)) | R38: =IF(Q38=0,"",TRUNC($J38*Q38,2)) | T38: =IF(S38=0,"",TRUNC($J38*S38,2)) | V38: =IF(U38=0,"",TRUNC($J38*U38,2)) | Y38: =SUMIF($M$9:$V$9,$M$9,M38:V38) -> 1 | Z38: =IF(Y38=I38,"","FALTA") | AA38: =SUMIF($M$9:$V$9,$N$9,M38:V38) -> 7861.29 | AB38: =IF(AA38=K38,"","FALTA")
A39: 3.1.2 | B39: =VLOOKUP($A39,Orçamento!$A$9:$J$117,4,0) -> RETIRADA E REINSTALAÇÃO DE BRINQUEDO CARROSSEL BASE FECHADA - ESTRUTURA METÁLICA | C39: =IF(M39=0,"",CONCATENATE(M39," ",$H39)) -> 1 UN. | D39: =IF(O39=0,"",CONCATENATE(O39," ",$H39)) | E39: =IF(Q39=0,"",CONCATENATE(Q39," ",$H39)) | F39: =IF(S39=0,"",CONCATENATE(S39," ",$H39)) | G39: =IF(U39=0,"",CONCATENATE(U39," ",$H39)) | H39: =VLOOKUP($A39,Orçamento!$A$9:$J$117,5,0) -> UN. | I39: =VLOOKUP($A39,Orçamento!$A$9:$J$117,6,0) -> 1 | J39: =VLOOKUP($A39,Orçamento!$A$9:$J$117,8,0) -> 2289.35 | K39: =VLOOKUP($A39,Orçamento!$A$9:$J$117,10,0) -> 2289.35 | M39: =I39 -> 1 | N39: =IF(M39=0,"",TRUNC($J39*M39,2)) -> 2289.35 | P39: =IF(O39=0,"",TRUNC($J39*O39,2)) | R39: =IF(Q39=0,"",TRUNC($J39*Q39,2)) | T39: =IF(S39=0,"",TRUNC($J39*S39,2)) | V39: =IF(U39=0,"",TRUNC($J39*U39,2)) | Y39: =SUMIF($M$9:$V$9,$M$9,M39:V39) -> 1 | Z39: =IF(Y39=I39,"","FALTA") | AA39: =SUMIF($M$9:$V$9,$N$9,M39:V39) -> 2289.35 | AB39: =IF(AA39=K39,"","FALTA")
A40: 3.1.3 | B40: =VLOOKUP($A40,Orçamento!$A$9:$J$117,4,0) -> RETIRADA E REINSTALAÇÃO DE BRINQUEDO BALANÇO 6 LUGARES - ESTRUTURA METÁLICA | C40: =IF(M40=0,"",CONCATENATE(M40," ",$H40)) -> 1 UN. | D40: =IF(O40=0,"",CONCATENATE(O40," ",$H40)) | E40: =IF(Q40=0,"",CONCATENATE(Q40," ",$H40)) | F40: =IF(S40=0,"",CONCATENATE(S40," ",$H40)) | G40: =IF(U40=0,"",CONCATENATE(U40," ",$H40)) | H40: =VLOOKUP($A40,Orçamento!$A$9:$J$117,5,0) -> UN. | I40: =VLOOKUP($A40,Orçamento!$A$9:$J$117,6,0) -> 1 | J40: =VLOOKUP($A40,Orçamento!$A$9:$J$117,8,0) -> 1698.65 | K40: =VLOOKUP($A40,Orçamento!$A$9:$J$117,10,0) -> 1698.65 | M40: =I40 -> 1 | N40: =IF(M40=0,"",TRUNC($J40*M40,2)) -> 1698.65 | P40: =IF(O40=0,"",TRUNC($J40*O40,2)) | R40: =IF(Q40=0,"",TRUNC($J40*Q40,2)) | T40: =IF(S40=0,"",TRUNC($J40*S40,2)) | V40: =IF(U40=0,"",TRUNC($J40*U40,2)) | Y40: =SUMIF($M$9:$V$9,$M$9,M40:V40) -> 1 | Z40: =IF(Y40=I40,"","FALTA") | AA40: =SUMIF($M$9:$V$9,$N$9,M40:V40) -> 1698.65 | AB40: =IF(AA40=K40,"","FALTA")
A41: 3.1.4 | B41: =VLOOKUP($A41,Orçamento!$A$9:$J$117,4,0) -> RETIRADA E REINSTALAÇÃO DE BRINQUEDO ESCALADA TIPO ARANHA - ESTRUTURA METÁLICA | C41: =IF(M41=0,"",CONCATENATE(M41," ",$H41)) -> 1 UN. | D41: =IF(O41=0,"",CONCATENATE(O41," ",$H41)) | E41: =IF(Q41=0,"",CONCATENATE(Q41," ",$H41)) | F41: =IF(S41=0,"",CONCATENATE(S41," ",$H41)) | G41: =IF(U41=0,"",CONCATENATE(U41," ",$H41)) | H41: =VLOOKUP($A41,Orçamento!$A$9:$J$117,5,0) -> UN. | I41: =VLOOKUP($A41,Orçamento!$A$9:$J$117,6,0) -> 1 | J41: =VLOOKUP($A41,Orçamento!$A$9:$J$117,8,0) -> 3551.26 | K41: =VLOOKUP($A41,Orçamento!$A$9:$J$117,10,0) -> 3551.26 | M41: =I41 -> 1 | N41: =IF(M41=0,"",TRUNC($J41*M41,2)) -> 3551.26 | P41: =IF(O41=0,"",TRUNC($J41*O41,2)) | R41: =IF(Q41=0,"",TRUNC($J41*Q41,2)) | T41: =IF(S41=0,"",TRUNC($J41*S41,2)) | V41: =IF(U41=0,"",TRUNC($J41*U41,2)) | Y41: =SUMIF($M$9:$V$9,$M$9,M41:V41) -> 1 | Z41: =IF(Y41=I41,"","FALTA") | AA41: =SUMIF($M$9:$V$9,$N$9,M41:V41) -> 3551.26 | AB41: =IF(AA41=K41,"","FALTA")
A42: 3.1.5 | B42: =VLOOKUP($A42,Orçamento!$A$9:$J$117,4,0) -> RETIRADA E REINSTALAÇÃO DE BRINQUEDO ESCORREGADOR 4 PRANCHAS TIPO DINOSSAURO - ESTRUTURA METÁLICA | C42: =IF(M42=0,"",CONCATENATE(M42," ",$H42)) -> 1 UN. | D42: =IF(O42=0,"",CONCATENATE(O42," ",$H42)) | E42: =IF(Q42=0,"",CONCATENATE(Q42," ",$H42)) | F42: =IF(S42=0,"",CONCATENATE(S42," ",$H42)) | G42: =IF(U42=0,"",CONCATENATE(U42," ",$H42)) | H42: =VLOOKUP($A42,Orçamento!$A$9:$J$117,5,0) -> UN. | I42: =VLOOKUP($A42,Orçamento!$A$9:$J$117,6,0) -> 1 | J42: =VLOOKUP($A42,Orçamento!$A$9:$J$117,8,0) -> 3948.69 | K42: =VLOOKUP($A42,Orçamento!$A$9:$J$117,10,0) -> 3948.69 | M42: =I42 -> 1 | N42: =IF(M42=0,"",TRUNC($J42*M42,2)) -> 3948.69 | P42: =IF(O42=0,"",TRUNC($J42*O42,2)) | R42: =IF(Q42=0,"",TRUNC($J42*Q42,2)) | T42: =IF(S42=0,"",TRUNC($J42*S42,2)) | V42: =IF(U42=0,"",TRUNC($J42*U42,2)) | Y42: =SUMIF($M$9:$V$9,$M$9,M42:V42) -> 1 | Z42: =IF(Y42=I42,"","FALTA") | AA42: =SUMIF($M$9:$V$9,$N$9,M42:V42) -> 3948.69 | AB42: =IF(AA42=K42,"","FALTA")
A43: 3.1.6 | B43: =VLOOKUP($A43,Orçamento!$A$9:$J$117,4,0) -> RETIRADA E REINSTALAÇÃO DE BRINQUEDO ESCALADA TIPO TRENZINHO - ESTRUTURA METÁLICA | C43: =IF(M43=0,"",CONCATENATE(M43," ",$H43)) -> 1 UN. | D43: =IF(O43=0,"",CONCATENATE(O43," ",$H43)) | E43: =IF(Q43=0,"",CONCATENATE(Q43," ",$H43)) | F43: =IF(S43=0,"",CONCATENATE(S43," ",$H43)) | G43: =IF(U43=0,"",CONCATENATE(U43," ",$H43)) | H43: =VLOOKUP($A43,Orçamento!$A$9:$J$117,5,0) -> UN. | I43: =VLOOKUP($A43,Orçamento!$A$9:$J$117,6,0) -> 1 | J43: =VLOOKUP($A43,Orçamento!$A$9:$J$117,8,0) -> 1332.3 | K43: =VLOOKUP($A43,Orçamento!$A$9:$J$117,10,0) -> 1332.3 | M43: =I43 -> 1 | N43: =IF(M43=0,"",TRUNC($J43*M43,2)) -> 1332.3 | P43: =IF(O43=0,"",TRUNC($J43*O43,2)) | R43: =IF(Q43=0,"",TRUNC($J43*Q43,2)) | T43: =IF(S43=0,"",TRUNC($J43*S43,2)) | V43: =IF(U43=0,"",TRUNC($J43*U43,2)) | Y43: =SUMIF($M$9:$V$9,$M$9,M43:V43) -> 1 | Z43: =IF(Y43=I43,"","FALTA") | AA43: =SUMIF($M$9:$V$9,$N$9,M43:V43) -> 1332.3 | AB43: =IF(AA43=K43,"","FALTA")
A45: 3.2 | B45: =VLOOKUP($A45,Orçamento!$A$9:$J$117,4,0) -> BASE DOS BRINQUEDOS - TANQUES DE AREIA | D45: EVENTO 9 | E45: EVENTO 10 | N45: =SUM(N46:N51) -> 0 | P45: =SUM(P46:P51) -> 19732.61 | R45: =SUM(R46:R51) -> 30230.44 | T45: =SUM(T46:T51) -> 0 | V45: =SUM(V46:V51) -> 0
A46: 3.2.1 | B46: =VLOOKUP($A46,Orçamento!$A$9:$J$117,4,0) -> DRENO COM PEDRA BRITADA | C46: =IF(M46=0,"",CONCATENATE(M46," ",$H46)) | D46: =IF(O46=0,"",CONCATENATE(O46," ",$H46)) -> 1,98 M3 | E46: =IF(Q46=0,"",CONCATENATE(Q46," ",$H46)) | F46: =IF(S46=0,"",CONCATENATE(S46," ",$H46)) | G46: =IF(U46=0,"",CONCATENATE(U46," ",$H46)) | H46: =VLOOKUP($A46,Orçamento!$A$9:$J$117,5,0) -> M3 | I46: =VLOOKUP($A46,Orçamento!$A$9:$J$117,6,0) -> 1.98 | J46: =VLOOKUP($A46,Orçamento!$A$9:$J$117,8,0) -> 226.54 | K46: =VLOOKUP($A46,Orçamento!$A$9:$J$117,10,0) -> 448.54 | N46: =IF(M46=0,"",TRUNC($J46*M46,2)) | O46: =I46 -> 1.98 | P46: =IF(O46=0,"",TRUNC($J46*O46,2)) -> 448.54 | R46: =IF(Q46=0,"",TRUNC($J46*Q46,2)) | T46: =IF(S46=0,"",TRUNC($J46*S46,2)) | V46: =IF(U46=0,"",TRUNC($J46*U46,2)) | Y46: =SUMIF($M$9:$V$9,$M$9,M46:V46) -> 1.98 | Z46: =IF(Y46=I46,"","FALTA") | AA46: =SUMIF($M$9:$V$9,$N$9,M46:V46) -> 448.54 | AB46: =IF(AA46=K46,"","FALTA")
A47: 3.2.2 | B47: =VLOOKUP($A47,Orçamento!$A$9:$J$117,4,0) -> INC.27 - BASE DE CONCRETO FCK=15,00MPA PARA GUIAS, SARJETAS OU SARJETÕES | C47: =IF(M47=0,"",CONCATENATE(M47," ",$H47)) | D47: =IF(O47=0,"",CONCATENATE(O47," ",$H47)) -> 2,24 M3 | E47: =IF(Q47=0,"",CONCATENATE(Q47," ",$H47)) | F47: =IF(S47=0,"",CONCATENATE(S47," ",$H47)) | G47: =IF(U47=0,"",CONCATENATE(U47," ",$H47)) | H47: =VLOOKUP($A47,Orçamento!$A$9:$J$117,5,0) -> M3 | I47: =VLOOKUP($A47,Orçamento!$A$9:$J$117,6,0) -> 2.24 | J47: =VLOOKUP($A47,Orçamento!$A$9:$J$117,8,0) -> 677.97 | K47: =VLOOKUP($A47,Orçamento!$A$9:$J$117,10,0) -> 1518.65 | N47: =IF(M47=0,"",TRUNC($J47*M47,2)) | O47: =I47 -> 2.24 | P47: =IF(O47=0,"",TRUNC($J47*O47,2)) -> 1518.65 | R47: =IF(Q47=0,"",TRUNC($J47*Q47,2)) | T47: =IF(S47=0,"",TRUNC($J47*S47,2)) | V47: =IF(U47=0,"",TRUNC($J47*U47,2)) | Y47: =SUMIF($M$9:$V$9,$M$9,M47:V47) -> 2.24 | Z47: =IF(Y47=I47,"","FALTA") | AA47: =SUMIF($M$9:$V$9,$N$9,M47:V47) -> 1518.65 | AB47: =IF(AA47=K47,"","FALTA")
A48: 3.2.3 | B48: =VLOOKUP($A48,Orçamento!$A$9:$J$117,4,0) -> LASTRO COM MATERIAL GRANULAR, APLICADO EM PISOS OU LAJES SOBRE SOLO, ESPESSURA DE *5 CM*. AF_01/2024 | C48: =IF(M48=0,"",CONCATENATE(M48," ",$H48)) | D48: =IF(O48=0,"",CONCATENATE(O48," ",$H48)) -> 19,09 M3 | E48: =IF(Q48=0,"",CONCATENATE(Q48," ",$H48)) | F48: =IF(S48=0,"",CONCATENATE(S48," ",$H48)) | G48: =IF(U48=0,"",CONCATENATE(U48," ",$H48)) | H48: =VLOOKUP($A48,Orçamento!$A$9:$J$117,5,0) -> M3 | I48: =VLOOKUP($A48,Orçamento!$A$9:$J$117,6,0) -> 19.09 | J48: =VLOOKUP($A48,Orçamento!$A$9:$J$117,8,0) -> 269.47 | K48: =VLOOKUP($A48,Orçamento!$A$9:$J$117,10,0) -> 5144.18 | N48: =IF(M48=0,"",TRUNC($J48*M48,2)) | O48: =I48 -> 19.09 | P48: =IF(O48=0,"",TRUNC($J48*O48,2)) -> 5144.18 | R48: =IF(Q48=0,"",TRUNC($J48*Q48,2)) | T48: =IF(S48=0,"",TRUNC($J48*S48,2)) | V48: =IF(U48=0,"",TRUNC($J48*U48,2)) | Y48: =SUMIF($M$9:$V$9,$M$9,M48:V48) -> 19.09 | Z48: =IF(Y48=I48,"","FALTA") | AA48: =SUMIF($M$9:$V$9,$N$9,M48:V48) -> 5144.18 | AB48: =IF(AA48=K48,"","FALTA")
A49: 3.2.4 | B49: =VLOOKUP($A49,Orçamento!$A$9:$J$117,4,0) -> ASSENTAMENTO DE GUIA (MEIO-FIO) EM TRECHO CURVO, CONFECCIONADA EM CONCRETO PRÉ-FABRICADO, DIMENSÕES 100X15X13X30 CM (COMPRIMENTO X BASE INFERIOR X BASE SUPERIOR X ALTURA). AF_01/2024 | C49: =IF(M49=0,"",CONCATENATE(M49," ",$H49)) | D49: =IF(O49=0,"",CONCATENATE(O49," ",$H49)) -> 149,23 M | E49: =IF(Q49=0,"",CONCATENATE(Q49," ",$H49)) | F49: =IF(S49=0,"",CONCATENATE(S49," ",$H49)) | G49: =IF(U49=0,"",CONCATENATE(U49," ",$H49)) | H49: =VLOOKUP($A49,Orçamento!$A$9:$J$117,5,0) -> M | I49: =VLOOKUP($A49,Orçamento!$A$9:$J$117,6,0) -> 149.23 | J49: =VLOOKUP($A49,Orçamento!$A$9:$J$117,8,0) -> 66.15 | K49: =VLOOKUP($A49,Orçamento!$A$9:$J$117,10,0) -> 9871.56 | N49: =IF(M49=0,"",TRUNC($J49*M49,2)) | O49: =I49 -> 149.23 | P49: =IF(O49=0,"",TRUNC($J49*O49,2)) -> 9871.56 | R49: =IF(Q49=0,"",TRUNC($J49*Q49,2)) | T49: =IF(S49=0,"",TRUNC($J49*S49,2)) | V49: =IF(U49=0,"",TRUNC($J49*U49,2)) | Y49: =SUMIF($M$9:$V$9,$M$9,M49:V49) -> 149.23 | Z49: =IF(Y49=I49,"","FALTA") | AA49: =SUMIF($M$9:$V$9,$N$9,M49:V49) -> 9871.56 | AB49: =IF(AA49=K49,"","FALTA")
A50: 3.2.5 | B50: =VLOOKUP($A50,Orçamento!$A$9:$J$117,4,0) -> IHD.23 - FORNECIMENTO E COLOCAÇÃO DE MANTA GEOTÊXTIL COM RESISTÊNCIA À TRAÇÃO LONGITUDINAL DE 7KN/M E TRAÇÃO TRANSVERSAL DE 6KN/M | C50: =IF(M50=0,"",CONCATENATE(M50," ",$H50)) | D50: =IF(O50=0,"",CONCATENATE(O50," ",$H50)) -> 381,9 M2 | E50: =IF(Q50=0,"",CONCATENATE(Q50," ",$H50)) | F50: =IF(S50=0,"",CONCATENATE(S50," ",$H50)) | G50: =IF(U50=0,"",CONCATENATE(U50," ",$H50)) | H50: =VLOOKUP($A50,Orçamento!$A$9:$J$117,5,0) -> M2 | I50: =VLOOKUP($A50,Orçamento!$A$9:$J$117,6,0) -> 381.9 | J50: =VLOOKUP($A50,Orçamento!$A$9:$J$117,8,0) -> 7.2 | K50: =VLOOKUP($A50,Orçamento!$A$9:$J$117,10,0) -> 2749.68 | N50: =IF(M50=0,"",TRUNC($J50*M50,2)) | O50: =I50 -> 381.9 | P50: =IF(O50=0,"",TRUNC($J50*O50,2)) -> 2749.68 | R50: =IF(Q50=0,"",TRUNC($J50*Q50,2)) | T50: =IF(S50=0,"",TRUNC($J50*S50,2)) | V50: =IF(U50=0,"",TRUNC($J50*U50,2)) | Y50: =SUMIF($M$9:$V$9,$M$9,M50:V50) -> 381.9 | Z50: =IF(Y50=I50,"","FALTA") | AA50: =SUMIF($M$9:$V$9,$N$9,M50:V50) -> 2749.68 | AB50: =IF(AA50=K50,"","FALTA")
A51: 3.2.6 | B51: =VLOOKUP($A51,Orçamento!$A$9:$J$117,4,0) -> RV.11 - TANQUE DE AREIA - GENÉRICO - FORNECIMENTO E APLICAÇÃO DE AREIA LAVADA | C51: =IF(M51=0,"",CONCATENATE(M51," ",$H51)) | D51: =IF(O51=0,"",CONCATENATE(O51," ",$H51)) | E51: =IF(Q51=0,"",CONCATENATE(Q51," ",$H51)) -> 114,57 M3 | F51: =IF(S51=0,"",CONCATENATE(S51," ",$H51)) | G51: =IF(U51=0,"",CONCATENATE(U51," ",$H51)) | H51: =VLOOKUP($A51,Orçamento!$A$9:$J$117,5,0) -> M3 | I51: =VLOOKUP($A51,Orçamento!$A$9:$J$117,6,0) -> 114.57 | J51: =VLOOKUP($A51,Orçamento!$A$9:$J$117,8,0) -> 263.86 | K51: =VLOOKUP($A51,Orçamento!$A$9:$J$117,10,0) -> 30230.44 | N51: =IF(M51=0,"",TRUNC($J51*M51,2)) | P51: =IF(O51=0,"",TRUNC($J51*O51,2)) | Q51: =I51 -> 114.57 | R51: =IF(Q51=0,"",TRUNC($J51*Q51,2)) -> 30230.44 | T51: =IF(S51=0,"",TRUNC($J51*S51,2)) | V51: =IF(U51=0,"",TRUNC($J51*U51,2)) | Y51: =SUMIF($M$9:$V$9,$M$9,M51:V51) -> 114.57 | Z51: =IF(Y51=I51,"","FALTA") | AA51: =SUMIF($M$9:$V$9,$N$9,M51:V51) -> 30230.44 | AB51: =IF(AA51=K51,"","FALTA")
...

Sheet CRONOGRAMA
I2: SERPO
I3: Serviços Públicos e Obras
B4: CRONOGRAMA FÍSICO-FINANCEIRO
B5: OBRA: | C5: =Orçamento!B5 -> REVITALIZAÇÃO DA PRAÇA LAUDELINO DO AMARAL NO BAIRRO VILA NOVA SOROCABA | J5: =Orçamento!G4 -> REV. | K5: =Orçamento!J4 -> 46289
B6: LOCAL: | C6: =Orçamento!B6 -> PRAÇA LAUDELINO DO AMARAL - VILA NOVA SOROCABA, SOROCABA/SP | J6: BDI Obra | K6: =Orçamento!J5 -> 0.2354
B8: ITEM | C8: ETAPA | D8: PREÇO (SEM BDI) | E8: PREÇO (COM BDI) | F8: % SOBRE O TOTAL | G8: 1º MÊS | H8: 2º MÊS | I8: 3º MÊS | J8: 4º MÊS | K8: 5º MÊS | N8: Conferências
B9: 1 | C9: =VLOOKUP($B9,Orçamento!$A$9:$L$117,4,0) -> SERVIÇOS PRELIMINARES | D9: =VLOOKUP($B9,Orçamento!$A$9:$L$117,11,0) -> 17468.67 | E9: =VLOOKUP($B9,Orçamento!$A$9:$L$117,12,0) -> 21579.06 | F9: =E9/$E$60 -> 0.10555234
A10: A | B10: 1.1 | C10: =VLOOKUP($B10,Orçamento!$A$9:$L$117,4,0) -> PLACA E CANTEIRO | D10: =VLOOKUP($B10,Orçamento!$A$9:$L$117,11,0) -> 17191.83 | E10: =VLOOKUP($B10,Orçamento!$A$9:$L$117,12,0) -> 21238.17 | F10: =E10/$E$60 -> 0.1038849 | G10: =VLOOKUP($B10,'Cron. Auxiliar'!$A$9:$V$123,G$82,0) -> 15627.69 | H10: =VLOOKUP($B10,'Cron. Auxiliar'!$A$9:$V$123,H$82,0) -> 2805.24 | I10: =VLOOKUP($B10,'Cron. Auxiliar'!$A$9:$V$123,I$82,0) -> 2805.24 | J10: =VLOOKUP($B10,'Cron. Auxiliar'!$A$9:$V$123,J$82,0) -> 0 | K10: =VLOOKUP($B10,'Cron. Auxiliar'!$A$9:$V$123,K$82,0) -> 0 | P10: =SUM(G10:K10) -> 21238.17 | Q10: =IF(P10=E10,"OK","NOK") -> OK
A11: - | G11: =G10/$E10 -> 0.73583035 | H11: =H10/$E10 -> 0.13208483 | I11: =I10/$E10 -> 0.13208483 | J11: =J10/$E10 -> 0 | K11: =K10/$E10 -> 0 | N11: =SUM(G11:K11) -> 1 | O11: =IF(N11=1,"OK","NOK") -> OK
A12: A | B12: 1.2 | C12: =VLOOKUP($B12,Orçamento!$A$9:$L$117,4,0) -> LOCAÇÃO DE OBRA | D12: =VLOOKUP($B12,Orçamento!$A$9:$L$117,11,0) -> 276.84 | E12: =VLOOKUP($B12,Orçamento!$A$9:$L$117,12,0) -> 340.89 | F12: =E12/$E$60 -> 0.0016674376 | G12: =VLOOKUP($B12,'Cron. Auxiliar'!$A$9:$V$123,G$82,0) -> 340.89 | H12: =VLOOKUP($B12,'Cron. Auxiliar'!$A$9:$V$123,H$82,0) -> 0 | I12: =VLOOKUP($B12,'Cron. Auxiliar'!$A$9:$V$123,I$82,0) -> 0 | J12: =VLOOKUP($B12,'Cron. Auxiliar'!$A$9:$V$123,J$82,0) -> 0 | K12: =VLOOKUP($B12,'Cron. Auxiliar'!$A$9:$V$123,K$82,0) -> 0 | P12: =SUM(G12:K12) -> 340.89 | Q12: =IF(P12=E12,"OK","NOK") -> OK
A13: - | G13: =G12/$E12 -> 1 | H13: =H12/$E12 -> 0 | I13: =I12/$E12 -> 0 | J13: =J12/$E12 -> 0 | K13: =K12/$E12 -> 0 | N13: =SUM(G13:K13) -> 1 | O13: =IF(N13=1,"OK","NOK") -> OK
B14: 2 | C14: =VLOOKUP($B14,Orçamento!$A$9:$L$117,4,0) -> LIMPEZA, TERRAPLENAGEM E DEMOLIÇÕES | D14: =VLOOKUP($B14,Orçamento!$A$9:$L$117,11,0) -> 24392.19 | E14: =VLOOKUP($B14,Orçamento!$A$9:$L$117,12,0) -> 30119.5 | F14: =E14/$E$60 -> 0.14732725
A15: A | B15: 2.1 | C15: =VLOOKUP($B15,Orçamento!$A$9:$L$117,4,0) -> LIMPEZA DO TERRENO | D15: =VLOOKUP($B15,Orçamento!$A$9:$L$117,11,0) -> 305.16 | E15: =VLOOKUP($B15,Orçamento!$A$9:$L$117,12,0) -> 373.42 | F15: =E15/$E$60 -> 0.0018265557 | G15: =VLOOKUP($B15,'Cron. Auxiliar'!$A$9:$V$123,G$82,0) -> 373.42 | H15: =VLOOKUP($B15,'Cron. Auxiliar'!$A$9:$V$123,H$82,0) -> 0 | I15: =VLOOKUP($B15,'Cron. Auxiliar'!$A$9:$V$123,I$82,0) -> 0 | J15: =VLOOKUP($B15,'Cron. Auxiliar'!$A$9:$V$123,J$82,0) -> 0 | K15: =VLOOKUP($B15,'Cron. Auxiliar'!$A$9:$V$123,K$82,0) -> 0 | P15: =SUM(G15:K15) -> 373.42 | Q15: =IF(P15=E15,"OK","NOK") -> OK
A16: - | G16: =G15/$E15 -> 1 | H16: =H15/$E15 -> 0 | I16: =I15/$E15 -> 0 | J16: =J15/$E15 -> 0 | K16: =K15/$E15 -> 0 | N16: =SUM(G16:K16) -> 1 | O16: =IF(N16=1,"OK","NOK") -> OK
A17: A | B17: 2.2 | C17: =VLOOKUP($B17,Orçamento!$A$9:$L$117,4,0) -> TERRAPLENAGEM | D17: =VLOOKUP($B17,Orçamento!$A$9:$L$117,11,0) -> 23068.63 | E17: =VLOOKUP($B17,Orçamento!$A$9:$L$117,12,0) -> 28488 | F17: =E17/$E$60 -> 0.1393469 | G17: =VLOOKUP($B17,'Cron. Auxiliar'!$A$9:$V$123,G$82,0) -> 28488 | H17: =VLOOKUP($B17,'Cron. Auxiliar'!$A$9:$V$123,H$82,0) -> 0 | I17: =VLOOKUP($B17,'Cron. Auxiliar'!$A$9:$V$123,I$82,0) -> 0 | J17: =VLOOKUP($B17,'Cron. Auxiliar'!$A$9:$V$123,J$82,0) -> 0 | K17: =VLOOKUP($B17,'Cron. Auxiliar'!$A$9:$V$123,K$82,0) -> 0 | P17: =SUM(G17:K17) -> 28488 | Q17: =IF(P17=E17,"OK","NOK") -> OK
A18: - | G18: =G17/$E17 -> 1 | H18: =H17/$E17 -> 0 | I18: =I17/$E17 -> 0 | J18: =J17/$E17 -> 0 | K18: =K17/$E17 -> 0 | N18: =SUM(G18:K18) -> 1 | O18: =IF(N18=1,"OK","NOK") -> OK
A19: A | B19: 2.3 | C19: =VLOOKUP($B19,Orçamento!$A$9:$L$117,4,0) -> DEMOLIÇÕES | D19: =VLOOKUP($B19,Orçamento!$A$9:$L$117,11,0) -> 1018.4 | E19: =VLOOKUP($B19,Orçamento!$A$9:$L$117,12,0) -> 1258.08 | F19: =E19/$E$60 -> 0.0061538031 | G19: =VLOOKUP($B19,'Cron. Auxiliar'!$A$9:$V$123,G$82,0) -> 1258.08 | H19: =VLOOKUP($B19,'Cron. Auxiliar'!$A$9:$V$123,H$82,0) -> 0 | I19: =VLOOKUP($B19,'Cron. Auxiliar'!$A$9:$V$123,I$82,0) -> 0 | J19: =VLOOKUP($B19,'Cron. Auxiliar'!$A$9:$V$123,J$82,0) -> 0 | K19: =VLOOKUP($B19,'Cron. Auxiliar'!$A$9:$V$123,K$82,0) -> 0 | P19: =SUM(G19:K19) -> 1258.08 | Q19: =IF(P19=E19,"OK","NOK") -> OK
A20: - | G20: =G19/$E19 -> 1 | H20: =H19/$E19 -> 0 | I20: =I19/$E19 -> 0 | J20: =J19/$E19 -> 0 | K20: =K19/$E19 -> 0 | N20: =SUM(G20:K20) -> 1 | O20: =IF(N20=1,"OK","NOK") -> OK
B21: 3 | C21: =VLOOKUP($B21,Orçamento!$A$9:$L$117,4,0) -> REVITALIZAÇÃO DO PLAYGROUND | D21: =VLOOKUP($B21,Orçamento!$A$9:$L$117,11,0) -> 67186.4 | E21: =VLOOKUP($B21,Orçamento!$A$9:$L$117,12,0) -> 82998.76 | F21: =E21/$E$60 -> 0.40598215
A22: A | B22: 3.1 | C22: =VLOOKUP($B22,Orçamento!$A$9:$L$117,4,0) -> RETIRADA E RECOLOCAÇÃO DE BRINQUEDOS | D22: =VLOOKUP($B22,Orçamento!$A$9:$L$117,11,0) -> 16740.79 | E22: =VLOOKUP($B22,Orçamento!$A$9:$L$117,12,0) -> 20681.54 | F22: =E22/$E$60 -> 0.10116219 | G22: =VLOOKUP($B22,'Cron. Auxiliar'!$A$9:$V$123,G$82,0) -> 20681.54 | H22: =VLOOKUP($B22,'Cron. Auxiliar'!$A$9:$V$123,H$82,0) -> 0 | I22: =VLOOKUP($B22,'Cron. Auxiliar'!$A$9:$V$123,I$82,0) -> 0 | J22: =VLOOKUP($B22,'Cron. Auxiliar'!$A$9:$V$123,J$82,0) -> 0 | K22: =VLOOKUP($B22,'Cron. Auxiliar'!$A$9:$V$123,K$82,0) -> 0 | P22: =SUM(G22:K22) -> 20681.54 | Q22: =IF(P22=E22,"OK","NOK") -> OK
A23: - | G23: =G22/$E22 -> 1 | H23: =H22/$E22 -> 0 | I23: =I22/$E22 -> 0 | J23: =J22/$E22 -> 0 | K23: =K22/$E22 -> 0 | N23: =SUM(G23:K23) -> 1 | O23: =IF(N23=1,"OK","NOK") -> OK
A24: A | B24: 3.2 | C24: =VLOOKUP($B24,Orçamento!$A$9:$L$117,4,0) -> BASE DOS BRINQUEDOS - TANQUES DE AREIA | D24: =VLOOKUP($B24,Orçamento!$A$9:$L$117,11,0) -> 40445.2 | E24: =VLOOKUP($B24,Orçamento!$A$9:$L$117,12,0) -> 49963.05 | F24: =E24/$E$60 -> 0.24439048 | G24: =VLOOKUP($B24,'Cron. Auxiliar'!$A$9:$V$123,G$82,0) -> 0 | H24: =VLOOKUP($B24,'Cron. Auxiliar'!$A$9:$V$123,H$82,0) -> 19732.61 | I24: =VLOOKUP($B24,'Cron. Auxiliar'!$A$9:$V$123,I$82,0) -> 30230.44 | J24: =VLOOKUP($B24,'Cron. Auxiliar'!$A$9:$V$123,J$82,0) -> 0 | K24: =VLOOKUP($B24,'Cron. Auxiliar'!$A$9:$V$123,K$82,0) -> 0 | P24: =SUM(G24:K24) -> 49963.05 | Q24: =IF(P24=E24,"OK","NOK") -> OK
A25: - | G25: =G24/$E24 -> 0 | H25: =H24/$E24 -> 0.39494406 | I25: =I24/$E24 -> 0.60505594 | J25: =J24/$E24 -> 0 | K25: =K24/$E24 -> 0 | N25: =SUM(G25:K25) -> 1 | O25: =IF(N25=1,"OK","NOK") -> OK
A26: A | B26: 3.3 | C26: =VLOOKUP($B26,Orçamento!$A$9:$L$117,4,0) -> EQUIPAMENTOS NOVOS - BRINQUEDO PNE E PLACA | D26: =VLOOKUP($B26,Orçamento!$A$9:$L$117,11,0) -> 10000.41 | E26: =VLOOKUP($B26,Orçamento!$A$9:$L$117,12,0) -> 12354.17 | F26: =E26/$E$60 -> 0.060429488 | G26: =VLOOKUP($B26,'Cron. Auxiliar'!$A$9:$V$123,G$82,0) -> 0 | H26: =VLOOKUP($B26,'Cron. Auxiliar'!$A$9:$V$123,H$82,0) -> 2906.82 | I26: =VLOOKUP($B26,'Cron. Auxiliar'!$A$9:$V$123,I$82,0) -> 9447.35 | J26: =VLOOKUP($B26,'Cron. Auxiliar'!$A$9:$V$123,J$82,0) -> 0 | K26: =VLOOKUP($B26,'Cron. Auxiliar'!$A$9:$V$123,K$82,0) -> 0 | P26: =SUM(G26:K26) -> 12354.17 | Q26: =IF(P26=E26,"OK","NOK") -> OK
A27: - | G27: =G26/$E26 -> 0 | H27: =H26/$E26 -> 0.23529059 | I27: =I26/$E26 -> 0.76470941 | J27: =J26/$E26 -> 0 | K27: =K26/$E26 -> 0 | N27: =SUM(G27:K27) -> 1 | O27: =IF(N27=1,"OK","NOK") -> OK
B28: 4 | C28: =VLOOKUP($B28,Orçamento!$A$9:$L$117,4,0) -> REVITALIZAÇÃO QUIOSQUE | D28: =VLOOKUP($B28,Orçamento!$A$9:$L$117,11,0) -> 7469.18 | E28: =VLOOKUP($B28,Orçamento!$A$9:$L$117,12,0) -> 9225.66 | F28: =E28/$E$60 -> 0.045126618
A29: A | B29: 4.1 | C29: =VLOOKUP($B29,Orçamento!$A$9:$L$117,4,0) -> MOBILIZAÇÃO | D29: =VLOOKUP($B29,Orçamento!$A$9:$L$117,11,0) -> 174.08 | E29: =VLOOKUP($B29,Orçamento!$A$9:$L$117,12,0) -> 215.04 | F29: =E29/$E$60 -> 0.0010518519 | G29: =VLOOKUP($B29,'Cron. Auxiliar'!$A$9:$V$123,G$82,0) -> 0 | H29: =VLOOKUP($B29,'Cron. Auxiliar'!$A$9:$V$123,H$82,0) -> 215.04 | I29: =VLOOKUP($B29,'Cron. Auxiliar'!$A$9:$V$123,I$82,0) -> 0 | J29: =VLOOKUP($B29,'Cron. Auxiliar'!$A$9:$V$123,J$82,0) -> 0 | K29: =VLOOKUP($B29,'Cron. Auxiliar'!$A$9:$V$123,K$82,0) -> 0 | P29: =SUM(G29:K29) -> 215.04 | Q29: =IF(P29=E29,"OK","NOK") -> OK
A30: - | G30: =G29/$E29 -> 0 | H30: =H29/$E29 -> 1 | I30: =I29/$E29 -> 0 | J30: =J29/$E29 -> 0 | K30: =K29/$E29 -> 0 | N30: =SUM(G30:K30) -> 1 | O30: =IF(N30=1,"OK","NOK") -> OK
A31: A | B31: 4.2 | C31: =VLOOKUP($B31,Orçamento!$A$9:$L$117,4,0) -> PINTURA COBERTURA | D31: =VLOOKUP($B31,Orçamento!$A$9:$L$117,11,0) -> 4743.57 | E31: =VLOOKUP($B31,Orçamento!$A$9:$L$117,12,0) -> 5859.85 | F31: =E31/$E$60 -> 0.028663013 | G31: =VLOOKUP($B31,'Cron. Auxiliar'!$A$9:$V$123,G$82,0) -> 0 | H31: =VLOOKUP($B31,'Cron. Auxiliar'!$A$9:$V$123,H$82,0) -> 5859.85 | I31: =VLOOKUP($B31,'Cron. Auxiliar'!$A$9:$V$123,I$82,0) -> 0 | J31: =VLOOKUP($B31,'Cron. Auxiliar'!$A$9:$V$123,J$82,0) -> 0 | K31: =VLOOKUP($B31,'Cron. Auxiliar'!$A$9:$V$123,K$82,0) -> 0 | P31: =SUM(G31:K31) -> 5859.85 | Q31: =IF(P31=E31,"OK","NOK") -> OK
A32: - | G32: =G31/$E31 -> 0 | H32: =H31/$E31 -> 1 | I32: =I31/$E31 -> 0 | J32: =J31/$E31 -> 0 | K32: =K31/$E31 -> 0 | N32: =SUM(G32:K32) -> 1 | O32: =IF(N32=1,"OK","NOK") -> OK
A33: A | B33: 4.3 | C33: =VLOOKUP($B33,Orçamento!$A$9:$L$117,4,0) -> PINTURA EM ALVENARIAS | D33: =VLOOKUP($B33,Orçamento!$A$9:$L$117,11,0) -> 2267.83 | E33: =VLOOKUP($B33,Orçamento!$A$9:$L$117,12,0) -> 2800.85 | F33: =E33/$E$60 -> 0.013700146 | G33: =VLOOKUP($B33,'Cron. Auxiliar'!$A$9:$V$123,G$82,0) -> 0 | H33: =VLOOKUP($B33,'Cron. Auxiliar'!$A$9:$V$123,H$82,0) -> 0 | I33: =VLOOKUP($B33,'Cron. Auxiliar'!$A$9:$V$123,I$82,0) -> 2800.85 | J33: =VLOOKUP($B33,'Cron. Auxiliar'!$A$9:$V$123,J$82,0) -> 0 | K33: =VLOOKUP($B33,'Cron. Auxiliar'!$A$9:$V$123,K$82,0) -> 0 | P33: =SUM(G33:K33) -> 2800.85 | Q33: =IF(P33=E33,"OK","NOK") -> OK
A34: - | G34: =G33/$E33 -> 0 | H34: =H33/$E33 -> 0 | I34: =I33/$E33 -> 1 | J34: =J33/$E33 -> 0 | K34: =K33/$E33 -> 0 | N34: =SUM(G34:K34) -> 1 | O34: =IF(N34=1,"OK","NOK") -> OK
A35: A | B35: 4.4 | C35: =VLOOKUP($B35,Orçamento!$A$9:$L$117,4,0) -> LIMPEZA DO PISO | D35: =VLOOKUP($B35,Orçamento!$A$9:$L$117,11,0) -> 283.7 | E35: =VLOOKUP($B35,Orçamento!$A$9:$L$117,12,0) -> 349.92 | F35: =E35/$E$60 -> 0.0017116072 | G35: =VLOOKUP($B35,'Cron. Auxiliar'!$A$9:$V$123,G$82,0) -> 0 | H35: =VLOOKUP($B35,'Cron. Auxiliar'!$A$9:$V$123,H$82,0) -> 0 | I35: =VLOOKUP($B35,'Cron. Auxiliar'!$A$9:$V$123,I$82,0) -> 349.92 | J35: =VLOOKUP($B35,'Cron. Auxiliar'!$A$9:$V$123,J$82,0) -> 0 | K35: =VLOOKUP($B35,'Cron. Auxiliar'!$A$9:$V$123,K$82,0) -> 0 | P35: =SUM(G35:K35) -> 349.92 | Q35: =IF(P35=E35,"OK","NOK") -> OK
A36: - | G36: =G35/$E35 -> 0 | H36: =H35/$E35 -> 0 | I36: =I35/$E35 -> 1 | J36: =J35/$E35 -> 0 | K36: =K35/$E35 -> 0 | N36: =SUM(G36:K36) -> 1 | O36: =IF(N36=1,"OK","NOK") -> OK
B37: 5 | C37: =VLOOKUP($B37,Orçamento!$A$9:$L$117,4,0) -> REVITALIZAÇÃO CORETO | D37: =VLOOKUP($B37,Orçamento!$A$9:$L$117,11,0) -> 11907.8 | E37: =VLOOKUP($B37,Orçamento!$A$9:$L$117,12,0) -> 14709.11 | F37: =E37/$E$60 -> 0.071948498
A38: A | B38: 5.1 | C38: =VLOOKUP($B38,Orçamento!$A$9:$L$117,4,0) -> MOBILIZAÇÃO | D38: =VLOOKUP($B38,Orçamento!$A$9:$L$117,11,0) -> 261.12 | E38: =VLOOKUP($B38,Orçamento!$A$9:$L$117,12,0) -> 322.56 | F38: =E38/$E$60 -> 0.0015777778 | G38: =VLOOKUP($B38,'Cron. Auxiliar'!$A$9:$V$123,G$82,0) -> 0 | H38: =VLOOKUP($B38,'Cron. Auxiliar'!$A$9:$V$123,H$82,0) -> 322.56 | I38: =VLOOKUP($B38,'Cron. Auxiliar'!$A$9:$V$123,I$82,0) -> 0 | J38: =VLOOKUP($B38,'Cron. Auxiliar'!$A$9:$V$123,J$82,0) -> 0 | K38: =VLOOKUP($B38,'Cron. Auxiliar'!$A$9:$V$123,K$82,0) -> 0 | P38: =SUM(G38:K38) -> 322.56 | Q38: =IF(P38=E38,"OK","NOK") -> OK
A39: - | G39: =G38/$E38 -> 0 | H39: =H38/$E38 -> 1 | I39: =I38/$E38 -> 0 | J39: =J38/$E38 -> 0 | K39: =K38/$E38 -> 0 | N39: =SUM(G39:K39) -> 1 | O39: =IF(N39=1,"OK","NOK") -> OK
A40: A | B40: 5.2 | C40: =VLOOKUP($B40,Orçamento!$A$9:$L$117,4,0) -> PINTURA COBERTURA | D40: =VLOOKUP($B40,Orçamento!$A$9:$L$117,11,0) -> 5530.13 | E40: =VLOOKUP($B40,Orçamento!$A$9:$L$117,12,0) -> 6831.5 | F40: =E40/$E$60 -> 0.033415765 | G40: =VLOOKUP($B40,'Cron. Auxiliar'!$A$9:$V$123,G$82,0) -> 0 | H40: =VLOOKUP($B40,'Cron. Auxiliar'!$A$9:$V$123,H$82,0) -> 6831.5 | I40: =VLOOKUP($B40,'Cron. Auxiliar'!$A$9:$V$123,I$82,0) -> 0 | J40: =VLOOKUP($B40,'Cron. Auxiliar'!$A$9:$V$123,J$82,0) -> 0 | K40: =VLOOKUP($B40,'Cron. Auxiliar'!$A$9:$V$123,K$82,0) -> 0 | P40: =SUM(G40:K40) -> 6831.5 | Q40: =IF(P40=E40,"OK","NOK") -> OK
A41: - | G41: =G40/$E40 -> 0 | H41: =H40/$E40 -> 1 | I41: =I40/$E40 -> 0 | J41: =J40/$E40 -> 0 | K41: =K40/$E40 -> 0 | N41: =SUM(G41:K41) -> 1 | O41: =IF(N41=1,"OK","NOK") -> OK
A42: A | B42: 5.3 | C42: =VLOOKUP($B42,Orçamento!$A$9:$L$117,4,0) -> PINTURA EM ALVENARIAS | D42: =VLOOKUP($B42,Orçamento!$A$9:$L$117,11,0) -> 3688.46 | E42: =VLOOKUP($B42,Orçamento!$A$9:$L$117,12,0) -> 4556.12 | F42: =E42/$E$60 -> 0.022285916 | G42: =VLOOKUP($B42,'Cron. Auxiliar'!$A$9:$V$123,G$82,0) -> 0 | H42: =VLOOKUP($B42,'Cron. Auxiliar'!$A$9:$V$123,H$82,0) -> 1533.34 | I42: =VLOOKUP($B42,'Cron. Auxiliar'!$A$9:$V$123,I$82,0) -> 3022.78 | J42: =VLOOKUP($B42,'Cron. Auxiliar'!$A$9:$V$123,J$82,0) -> 0 | K42: =VLOOKUP($B42,'Cron. Auxiliar'!$A$9:$V$123,K$82,0) -> 0 | P42: =SUM(G42:K42) -> 4556.12 | Q42: =IF(P42=E42,"OK","NOK") -> OK
...
