Workbook

Sheet Orçamento
H2: SERPO
H3: Secretaria de Serviços Públicos e Obras
A4: PLANILHA ORÇAMENTÁRIA | I4: REV. | J4: 46287
A5: OBRA: | B5: REFORMAS NA ÁREA DA PISTA DE SKATE NO CÉU DAS ARTES – LARANJEIRAS | I5: BDI Obra: | J5: 0.2354
A6: LOCAL: | B6: RUA WASHINGTON PENSA, 969 – PARQUE DAS LARANJEIRAS, SOROCABA/SP | I6: Área (m²): | J6: 350
A8: ITEM | B8: CÓDIGO | C8: REFERÊNCIA | D8: DISCRIMINAÇÃO DO SERVIÇO | E8: UNIDADE | F8: QUANTIDADE | G8: PREÇO UNITÁRIO (S/ BDI) | H8: PREÇO UNITÁRIO (C/ BDI) | I8: PREÇO TOTAL (SEM BDI) | J8: PREÇO TOTAL (COM BDI) | K8: $ sem BDI | L8: $ com BDI | M8: Caso tenha alguma observação no item, escrever abaixo | O8: Conferências
A9: 1 | D9: SERVIÇOS PRELIMINARES | K9: =I18 -> 12460.52 | L9: =J18 -> 15393.13 | M9: OBSERVAÇÃO | N9: =A9 -> 1 | O9: =IF(L9=SUM(L10:L18),"OK","NOK") -> OK
A10: 1.1 | D10: CANTEIRO DE OBRAS | H10: SUBTOTAL | I10: =SUBTOTAL(9,I11:I14) -> 12377.08 | J10: =SUBTOTAL(9,J11:J14) -> 15290.38 | K10: =SUM(I11:I14) -> 12377.08 | L10: =SUM(J11:J14) -> 15290.38
A11: 1.1.1 | B11: 02.08.040 | C11: CDHU | D11: Placa em lona com impressão digital e requadro em metalon | E11: M2 | F11: 6 | G11: 450.11 | H11: =TRUNC(G11*(1+$J$5),2) -> 556.06 | I11: =TRUNC(G11*F11,2) -> 2700.66 | J11: =TRUNC(H11*F11,2) -> 3336.36
A12: 1.1.2 | B12: 02.01.180 | C12: CDHU | D12: Banheiro químico modelo Standard, com manutenção conforme exigências da CETESB | E12: UNMES | F12: 3 | G12: 1259.83 | H12: =TRUNC(G12*(1+$J$5),2) -> 1556.39 | I12: =TRUNC(G12*F12,2) -> 3779.49 | J12: =TRUNC(H12*F12,2) -> 4669.17
A13: 1.1.3 | B13: 02.02.150 | C13: CDHU | D13: Locação de container tipo depósito - área mínima de 13,80 m² | E13: UNMES | F13: 3 | G13: 1010.89 | H13: =TRUNC(G13*(1+$J$5),2) -> 1248.85 | I13: =TRUNC(G13*F13,2) -> 3032.67 | J13: =TRUNC(H13*F13,2) -> 3746.55
A14: 1.1.4 | B14: 01-005-040 | C14: SIURB - EDIF | D14: TELA PARA PROTEÇÃO DE OBRAS, MALHA 2 MM | E14: M2 | F14: 82 | G14: 34.93 | H14: =TRUNC(G14*(1+$J$5),2) -> 43.15 | I14: =TRUNC(G14*F14,2) -> 2864.26 | J14: =TRUNC(H14*F14,2) -> 3538.3
A15: 1.2 | D15: LOCAÇÃO DE OBRA | H15: SUBTOTAL | I15: =SUBTOTAL(9,I16:I17) -> 83.44 | J15: =SUBTOTAL(9,J16:J17) -> 102.75 | K15: =SUM(I16:I17) -> 83.44 | L15: =SUM(J16:J17) -> 102.75
A16: 1.2.1 | B16: 02.10.050 | C16: CDHU | D16: Locação para muros, cercas e alambrados | E16: M | F16: 37.35 | G16: 1.6 | H16: =TRUNC(G16*(1+$J$5),2) -> 1.97 | I16: =TRUNC(G16*F16,2) -> 59.76 | J16: =TRUNC(H16*F16,2) -> 73.57
A17: 1.2.2 | B17: 02.10.060 | C17: CDHU | D17: Locação de vias, calçadas, tanques e lagoas | E17: M2 | F17: 12.21 | G17: 1.94 | H17: =TRUNC(G17*(1+$J$5),2) -> 2.39 | I17: =TRUNC(G17*F17,2) -> 23.68 | J17: =TRUNC(H17*F17,2) -> 29.18
H18: TOTAL ITEM | I18: =SUBTOTAL(9,I10:I17) -> 12460.52 | J18: =SUBTOTAL(9,J10:J17) -> 15393.13
A19: 2 | D19: DEMOLIÇÃO E REMOÇÃO | K19: =I24 -> 2287.99 | L19: =J24 -> 2826.2 | N19: =A19 -> 2 | O19: =IF(L19=SUM(L20:L23),"OK","NOK") -> OK
A20: 2.1 | D20: PISO INTERTRAVADO EXISTENTE | H20: SUBTOTAL | I20: =SUBTOTAL(9,I21:I23) -> 2287.99 | J20: =SUBTOTAL(9,J21:J23) -> 2826.2 | K20: =SUM(I21:I23) -> 2287.99 | L20: =SUM(J21:J23) -> 2826.2
A21: 2.1.1 | B21: 97635 | C21: SINAPI | D21: REMOÇÃO DE PISO DE BLOCO INTERTRAVADO OU DE PEDRA PORTUGUESA, DE FORMA MANUAL, COM REAPROVEITAMENTO. AF_09/2023 | E21: M2 | F21: 23.56 | G21: 24.59 | H21: =TRUNC(G21*(1+$J$5),2) -> 30.37 | I21: =TRUNC(G21*F21,2) -> 579.34 | J21: =TRUNC(H21*F21,2) -> 715.51
A22: 2.1.2 | B22: 05.07.060 | C22: CDHU | D22: Remoção de entulho de obra com caçamba metálica - material rejeitado e misturado por vegetação, isopor, manta asfáltica e lã de vidro | E22: M3 | F22: 8.03 | G22: 139.93 | H22: =TRUNC(G22*(1+$J$5),2) -> 172.86 | I22: =TRUNC(G22*F22,2) -> 1123.63 | J22: =TRUNC(H22*F22,2) -> 1388.06
A23: 2.1.3 | B23: 05.09.006 | C23: CDHU | D23: Taxa de destinação de resíduo sólido em aterro, tipo inerte | E23: T | F23: 12.05 | G23: 48.55 | H23: =TRUNC(G23*(1+$J$5),2) -> 59.97 | I23: =TRUNC(G23*F23,2) -> 585.02 | J23: =TRUNC(H23*F23,2) -> 722.63
H24: TOTAL ITEM | I24: =SUBTOTAL(9,I20:I23) -> 2287.99 | J24: =SUBTOTAL(9,J20:J23) -> 2826.2
A25: 3 | D25: FECHAMENTO | K25: =I63 -> 53765.23 | L25: =J63 -> 66418.71 | N25: =A25 -> 3 | O25: =IF(L25=SUM(L26:L62),"OK","NOK") -> OK
A26: 3.1 | D26: INFRAESTRUTURA – ARQUIBANCADA | H26: SUBTOTAL | I26: =SUBTOTAL(9,I27:I37) -> 10077.31 | J26: =SUBTOTAL(9,J27:J37) -> 12448.28 | K26: =SUM(I27:I37) -> 10077.31 | L26: =SUM(J27:J37) -> 12448.28
A27: 3.1.1 | B27: 96525 | C27: SINAPI | D27: ESCAVAÇÃO MECANIZADA PARA VIGA BALDRAME OU SAPATA CORRIDA COM MINI-ESCAVADEIRA (INCLUINDO ESCAVAÇÃO PARA COLOCAÇÃO DE FÔRMAS). AF_01/2024 | E27: M3 | F27: 2.62 | G27: 68.81 | H27: =TRUNC(G27*(1+$J$5),2) -> 85 | I27: =TRUNC(G27*F27,2) -> 180.28 | J27: =TRUNC(H27*F27,2) -> 222.7
A28: 3.1.2 | B28: 101616 | C28: SINAPI | D28: PREPARO DE FUNDO DE VALA COM LARGURA MENOR QUE 1,5 M (ACERTO DO SOLO NATURAL), EM LOCAL COM NÍVEL BAIXO DE INTERFERÊNCIA. AF_01/2026 | E28: M2 | F28: 8.3 | G28: 10.61 | H28: =TRUNC(G28*(1+$J$5),2) -> 13.1 | I28: =TRUNC(G28*F28,2) -> 88.06 | J28: =TRUNC(H28*F28,2) -> 108.73
A29: 3.1.3 | B29: 12.01.021 | C29: CDHU | D29: Broca em concreto armado diâmetro de 20 cm - completa | E29: M | F29: 16 | G29: 75.47 | H29: =TRUNC(G29*(1+$J$5),2) -> 93.23 | I29: =TRUNC(G29*F29,2) -> 1207.52 | J29: =TRUNC(H29*F29,2) -> 1491.68
A30: 3.1.4 | B30: 96621 | C30: SINAPI | D30: LASTRO COM MATERIAL GRANULAR, APLICAÇÃO EM BLOCOS DE COROAMENTO, ESPESSURA DE *5 CM*. AF_01/2024 | E30: M3 | F30: 0.42 | G30: 238.11 | H30: =TRUNC(G30*(1+$J$5),2) -> 294.16 | I30: =TRUNC(G30*F30,2) -> 100 | J30: =TRUNC(H30*F30,2) -> 123.54
A31: 3.1.5 | B31: 96528 | C31: SINAPI | D31: FABRICAÇÃO, MONTAGEM E DESMONTAGEM DE FÔRMA PARA BLOCO DE COROAMENTO, EM MADEIRA SERRADA, E=25 MM, 1 UTILIZAÇÃO. AF_01/2024 | E31: M2 | F31: 5.76 | G31: 172.6 | H31: =TRUNC(G31*(1+$J$5),2) -> 213.23 | I31: =TRUNC(G31*F31,2) -> 994.17 | J31: =TRUNC(H31*F31,2) -> 1228.2
A32: 3.1.6 | B32: 96546 | C32: SINAPI | D32: ARMAÇÃO DE BLOCO UTILIZANDO AÇO CA-50 DE 10 MM - MONTAGEM. AF_01/2024 | E32: KG | F32: 32.33 | G32: 14.23 | H32: =TRUNC(G32*(1+$J$5),2) -> 17.57 | I32: =TRUNC(G32*F32,2) -> 460.05 | J32: =TRUNC(H32*F32,2) -> 568.03
A33: 3.1.7 | B33: 96530 | C33: SINAPI | D33: FABRICAÇÃO, MONTAGEM E DESMONTAGEM DE FÔRMA PARA VIGA BALDRAME, EM MADEIRA SERRADA, E=25 MM, 1 UTILIZAÇÃO. AF_01/2024 | E33: M2 | F33: 17.01 | G33: 156.27 | H33: =TRUNC(G33*(1+$J$5),2) -> 193.05 | I33: =TRUNC(G33*F33,2) -> 2658.15 | J33: =TRUNC(H33*F33,2) -> 3283.78
A34: 3.1.8 | B34: 104919 | C34: SINAPI | D34: ARMAÇÃO DE SAPATA ISOLADA, VIGA BALDRAME E SAPATA CORRIDA UTILIZANDO AÇO CA-50 DE 10 MM - MONTAGEM. AF_01/2024 | E34: KG | F34: 63.82 | G34: 12.46 | H34: =TRUNC(G34*(1+$J$5),2) -> 15.39 | I34: =TRUNC(G34*F34,2) -> 795.19 | J34: =TRUNC(H34*F34,2) -> 982.18
A35: 3.1.9 | B35: 104916 | C35: SINAPI | D35: ARMAÇÃO DE SAPATA ISOLADA, VIGA BALDRAME E SAPATA CORRIDA UTILIZANDO AÇO CA-60 DE 5 MM - MONTAGEM. AF_01/2024 | E35: KG | F35: 23.1 | G35: 18.3 | H35: =TRUNC(G35*(1+$J$5),2) -> 22.6 | I35: =TRUNC(G35*F35,2) -> 422.73 | J35: =TRUNC(H35*F35,2) -> 522.06
A36: 3.1.10 | B36: 96557 | C36: SINAPI | D36: CONCRETAGEM DE BLOCO DE COROAMENTO OU VIGA BALDRAME, FCK 30 MPA, COM USO DE BOMBA - LANÇAMENTO, ADENSAMENTO E ACABAMENTO. AF_01/2024 | E36: M3 | F36: 2.62 | G36: 710.11 | H36: =TRUNC(G36*(1+$J$5),2) -> 877.26 | I36: =TRUNC(G36*F36,2) -> 1860.48 | J36: =TRUNC(H36*F36,2) -> 2298.42
A37: 3.1.11 | B37: 98557 | C37: SINAPI | D37: IMPERMEABILIZAÇÃO DE SUPERFÍCIE COM EMULSÃO ASFÁLTICA, 2 DEMÃOS. AF_09/2023 | E37: M2 | F37: 28 | G37: 46.81 | H37: =TRUNC(G37*(1+$J$5),2) -> 57.82 | I37: =TRUNC(G37*F37,2) -> 1310.68 | J37: =TRUNC(H37*F37,2) -> 1618.96
A38: 3.2 | D38: SUPERESTRUTURA – ARQUIBANCADA | H38: SUBTOTAL | I38: =SUBTOTAL(9,I39:I50) -> 9742.84 | J38: =SUBTOTAL(9,J39:J50) -> 12035.7 | K38: =SUM(I39:I50) -> 9742.84 | L38: =SUM(J39:J50) -> 12035.7
A39: 3.2.1 | B39: 89470 | C39: SINAPI | D39: ALVENARIA DE BLOCOS DE CONCRETO ESTRUTURAL 14X19X39 CM (ESPESSURA 14 CM), FBK = 4,5 MPA, UTILIZANDO COLHER DE PEDREIRO. AF_07/2026 | E39: M2 | F39: 18.74 | G39: 135.61 | H39: =TRUNC(G39*(1+$J$5),2) -> 167.53 | I39: =TRUNC(G39*F39,2) -> 2541.33 | J39: =TRUNC(H39*F39,2) -> 3139.51
A40: 3.2.2 | B40: 89998 | C40: SINAPI | D40: ARMAÇÃO DE CINTA DE ALVENARIA ESTRUTURAL; DIÂMETRO DE 10,0 MM. AF_06/2026 | E40: KG | F40: 9.25 | G40: 10.58 | H40: =TRUNC(G40*(1+$J$5),2) -> 13.07 | I40: =TRUNC(G40*F40,2) -> 97.86 | J40: =TRUNC(H40*F40,2) -> 120.89
A41: 3.2.3 | B41: 90000 | C41: SINAPI | D41: ARMAÇÃO DE VERGA E CONTRAVERGA DE ALVENARIA ESTRUTURAL; DIÂMETRO DE 10,0 MM. AF_06/2026 | E41: KG | F41: 14.49 | G41: 21.97 | H41: =TRUNC(G41*(1+$J$5),2) -> 27.14 | I41: =TRUNC(G41*F41,2) -> 318.34 | J41: =TRUNC(H41*F41,2) -> 393.25
A42: 3.2.4 | B42: 89996 | C42: SINAPI | D42: ARMAÇÃO VERTICAL DE ALVENARIA ESTRUTURAL; DIÂMETRO DE 10,0 MM. AF_06/2026 | E42: KG | F42: 11.83 | G42: 11.09 | H42: =TRUNC(G42*(1+$J$5),2) -> 13.7 | I42: =TRUNC(G42*F42,2) -> 131.19 | J42: =TRUNC(H42*F42,2) -> 162.07
...

Sheet Composições Abertas
G2: SERPO
F3: Secretaria de Serviços Públicos e Obras
A4: CRONOGRAMA FÍSICO-FINANCEIRO
A5: OBRA: | B5: =Orçamento!B5 -> REFORMAS NA ÁREA DA PISTA DE SKATE NO CÉU DAS ARTES – LARANJEIRAS | H5: =Orçamento!I4 -> REV. | I5: =Orçamento!J4 -> 46287
A6: LOCAL: | B6: =Orçamento!B6 -> RUA WASHINGTON PENSA, 969 – PARQUE DAS LARANJEIRAS, SOROCABA/SP | H6: BDI Obra | I6: =Orçamento!J5 -> 0.2354
A8: TIPO / ITEM | B8: BASE | C8: CÓDIGO / REF. | D8: DESCRIÇÃO | E8: UNID | F8: COEF. / QTD | G8: PREÇO UNIT. | H8: CUSTO TOTAL | I8: CONFERÊNCIA
A9: 1.1.1 | B9: CDHU | C9: 02.08.040 | D9: Placa em lona com impressão digital e requadro em metalon | E9: M2 | F9: QTD: 6 | G9: =SUM(H10:H13) -> 450.11 | H9: =TRUNC(G9 * VALUE(SUBSTITUTE(F9,"QTD: ","")), 2) -> 2700.66 | I9: =IF(ROUND(ABS(G9-Orçamento!G11),2)<0.01,"OK","DIVERGENTE") -> OK
A10: INSUMO | B10: CDHU | C10: B.01.000.010144 | D10: Serralheiro | E10: H | F10: 0,5 | G10: 37.91 | H10: =ROUND(F10*G10,2) -> 18.96
A11: INSUMO | B11: CDHU | C11: B.01.000.010145 | D11: Ajudante serralheiro | E11: H | F11: 0,5 | G11: 23.9 | H11: =ROUND(F11*G11,2) -> 11.95
A12: INSUMO | B12: CDHU | C12: N.04.000.039114 | D12: Banner em lona com impressão digitalmente, com bainha reforçada e ilhoses | E12: M2 | F12: 1 | G12: 113.44 | H12: =ROUND(F12*G12,2) -> 113.44
A13: INSUMO | B13: CDHU | C13: N.04.000.039115 | D13: Requadro em metalon para banner em lona impresso | E13: M | F13: 0,917 | G13: 333.43 | H13: =ROUND(F13*G13,2) -> 305.76
A15: 1.1.2 | B15: CDHU | C15: 02.01.180 | D15: Banheiro químico modelo Standard, com manutenção conforme exigências da CETESB | E15: UNMES | F15: QTD: 3 | G15: =SUM(H16) -> 1259.83 | H15: =TRUNC(G15 * VALUE(SUBSTITUTE(F15,"QTD: ","")), 2) -> 3779.49 | I15: =IF(ROUND(ABS(G15-Orçamento!G12),2)<0.01,"OK","DIVERGENTE") -> OK
A16: INSUMO | B16: CDHU | C16: A.14.000.081900 | D16: Banheiro químico, modelo Standard, com limpeza 1 vez por semana e descarte conforme exigências da CETESB | E16: UNMES | F16: 1 | G16: 1259.83 | H16: =ROUND(F16*G16,2) -> 1259.83
A18: 1.1.3 | B18: CDHU | C18: 02.02.150 | D18: Locação de container tipo depósito - área mínima de 13,80 m² | E18: UNMES | F18: QTD: 3 | G18: =SUM(H19:H22) -> 1010.89 | H18: =TRUNC(G18 * VALUE(SUBSTITUTE(F18,"QTD: ","")), 2) -> 3032.67 | I18: =IF(ROUND(ABS(G18-Orçamento!G13),2)<0.01,"OK","DIVERGENTE") -> OK
A19: INSUMO | B19: CDHU | C19: A.12.000.021099 | D19: Container depósito, módulo metálico em aço galvanizado de 6,0x2,3x2,5m, vão livre, piso de concreto, cimentado, madeira ou material equivalente | E19: UNMES | F19: 1 | G19: 913.31 | H19: =ROUND(F19*G19,2) -> 913.31
A20: INSUMO | B20: CDHU | C20: B.01.000.010101 | D20: Ajudante geral | E20: H | F20: 1,32 | G20: 23.9 | H20: =ROUND(F20*G20,2) -> 31.55
A21: INSUMO | B21: CDHU | C21: B.01.000.010115 | D21: Eletricista | E21: H | F21: 0,99 | G21: 34.83 | H21: =ROUND(F21*G21,2) -> 34.48
A22: INSUMO | B22: CDHU | C22: B.01.000.010116 | D22: Ajudante eletricista | E22: H | F22: 1,32 | G22: 23.9 | H22: =ROUND(F22*G22,2) -> 31.55
A24: 1.1.4 | B24: SIURB - EDIF | C24: 01-005-040 | D24: TELA PARA PROTEÇÃO DE OBRAS, MALHA 2 MM | E24: M2 | F24: QTD: 82 | G24: =SUM(H25:H30) -> 34.93 | H24: =TRUNC(G24 * VALUE(SUBSTITUTE(F24,"QTD: ","")), 2) -> 2864.26 | I24: =IF(ROUND(ABS(G24-Orçamento!G14),2)<0.01,"OK","DIVERGENTE") -> OK
A25: INSUMO | B25: SIURB - EDIF | C25: 02013 | D25: CARPINTEIRO (SGSP) | E25: H | F25: 0,44 | G25: 35.1 | H25: =ROUND(F25*G25,2) -> 15.44
A26: INSUMO | B26: SIURB - EDIF | C26: 02099 | D26: SERVENTE (SGSP) | E26: H | F26: 0,53 | G26: 27.12 | H26: =ROUND(F26*G26,2) -> 14.37
A27: INSUMO | B27: SIURB - EDIF | C27: 11046 | D27: PINUS - PONTALETE DE 3" X 3" - BRUTO | E27: M | F27: 0,06 | G27: 7.59 | H27: =ROUND(F27*G27,2) -> 0.46
A28: INSUMO | B28: SIURB - EDIF | C28: 11066 | D28: PINUS - SARRAFO DE 1" X 4" - BRUTO | E28: M | F28: 0,2 | G28: 3.2 | H28: =ROUND(F28*G28,2) -> 0.64
A29: INSUMO | B29: SIURB - EDIF | C29: 17515 | D29: PREGO 18 X 27 COMUM - POLIDO | E29: Kg | F29: 0,01 | G29: 10.98 | H29: =ROUND(F29*G29,2) -> 0.11
A30: INSUMO | B30: SIURB - EDIF | C30: 38043 | D30: TELA POLIETILENO P/ PROTEÇÃO DE FACHADA-TRAMA 2,2MM | E30: M2 | F30: 1,1 | G30: 3.55 | H30: =ROUND(F30*G30,2) -> 3.91
A32: 1.2.1 | B32: CDHU | C32: 02.10.050 | D32: Locação para muros, cercas e alambrados | E32: M | F32: QTD: 37,35 | G32: =SUM(H33:H35) -> 1.6 | H32: =TRUNC(G32 * VALUE(SUBSTITUTE(F32,"QTD: ","")), 2) -> 59.76 | I32: =IF(ROUND(ABS(G32-Orçamento!G16),2)<0.01,"OK","DIVERGENTE") -> OK
A33: INSUMO | B33: CDHU | C33: B.01.000.010160 | D33: Ajudante de topógrafo | E33: H | F33: 0,012 | G33: 23.9 | H33: =ROUND(F33*G33,2) -> 0.29
A34: INSUMO | B34: CDHU | C34: B.01.000.010185 | D34: Topografo | E34: H | F34: 0,004 | G34: 50.21 | H34: =ROUND(F34*G34,2) -> 0.2
A35: INSUMO | B35: CDHU | C35: S.01.000.080352 | D35: Veículo utilitário com capacidade para 9 pessoas - 1.600 CC - COND.D | E35: H | F35: 0,01 | G35: 111.24 | H35: =ROUND(F35*G35,2) -> 1.11
A37: 1.2.2 | B37: CDHU | C37: 02.10.060 | D37: Locação de vias, calçadas, tanques e lagoas | E37: M2 | F37: QTD: 12,21 | G37: =SUM(H38:H43) -> 1.94 | H37: =TRUNC(G37 * VALUE(SUBSTITUTE(F37,"QTD: ","")), 2) -> 23.68 | I37: =IF(ROUND(ABS(G37-Orçamento!G17),2)<0.01,"OK","DIVERGENTE") -> OK
A38: INSUMO | B38: CDHU | C38: B.01.000.010160 | D38: Ajudante de topógrafo | E38: H | F38: 0,024 | G38: 23.9 | H38: =ROUND(F38*G38,2) -> 0.57
A39: INSUMO | B39: CDHU | C39: B.01.000.010185 | D39: Topografo | E39: H | F39: 0,008 | G39: 50.21 | H39: =ROUND(F39*G39,2) -> 0.4
A40: INSUMO | B40: CDHU | C40: D.02.000.021009 | D40: Pontalete de cedrinho de 75 mm x 75 mm - 3ª construção | E40: M | F40: 0,0093 | G40: 23.43 | H40: =ROUND(F40*G40,2) -> 0.22
A41: INSUMO | B41: CDHU | C41: E.02.000.026760 | D41: Prego diversas bitolas (referência 18 x 27) | E41: KG | F41: 0,001 | G41: 10.77 | H41: =ROUND(F41*G41,2) -> 0.01
A42: INSUMO | B42: CDHU | C42: E.02.000.027025 | D42: Arame galvanizado nº 16 BWG | E42: KG | F42: 0,0115 | G42: 15.79 | H42: =ROUND(F42*G42,2) -> 0.18
A43: INSUMO | B43: CDHU | C43: S.01.000.080352 | D43: Veículo utilitário com capacidade para 9 pessoas - 1.600 CC - COND.D | E43: H | F43: 0,005 | G43: 111.24 | H43: =ROUND(F43*G43,2) -> 0.56
A45: SUBTOTAL 1 | D45: SUBTOTAL DO GRUPO 1 | H45: =SUMIFS(H8:H44,A8:A44,"1.*",A8:A44,"<>INSUMO",A8:A44,"<>AUXILIAR*") -> 12460.52
A47: 2.1.1 | B47: SINAPI | C47: 97635 | D47: REMOÇÃO DE PISO DE BLOCO INTERTRAVADO OU DE PEDRA PORTUGUESA, DE FORMA MANUAL, COM REAPROVEITAMENTO. AF_09/2023 | E47: M2 | F47: QTD: 23,56 | G47: =SUM(H48:H49) -> 24.59 | H47: =TRUNC(G47 * VALUE(SUBSTITUTE(F47,"QTD: ","")), 2) -> 579.34 | I47: =IF(ROUND(ABS(G47-Orçamento!G21),2)<0.01,"OK","DIVERGENTE") -> OK
A48: AUXILIAR (N1) | B48: SINAPI | C48: 88316 | D48: SERVENTE COM ENCARGOS COMPLEMENTARES | E48: H | F48: 0,2113 | G48: 32.18 | H48: =TRUNC(F48*G48,2) -> 6.79 | I48: =IFERROR(IF(ROUND(G48, 2) <> ROUND(VLOOKUP("C"&C48,C:G, 5, FALSE), 2), "VALOR AUXILIAR DIVERGENTE", "OK"), "NÃO ENCONTRADO") -> OK
A49: AUXILIAR (N1) | B49: SINAPI | C49: 88260 | D49: CALCETEIRO COM ENCARGOS COMPLEMENTARES | E49: H | F49: 0,4815 | G49: 36.97 | H49: =TRUNC(F49*G49,2) -> 17.8 | I49: =IFERROR(IF(ROUND(G49, 2) <> ROUND(VLOOKUP("C"&C49,C:G, 5, FALSE), 2), "VALOR AUXILIAR DIVERGENTE", "OK"), "NÃO ENCONTRADO") -> OK
...

Sheet CRONOGRAMA
G2: SERPO
G3: Secretaria de Serviços Públicos e Obras
B4: CRONOGRAMA FÍSICO-FINANCEIRO
B5: OBRA: | C5: =Orçamento!B5 -> REFORMAS NA ÁREA DA PISTA DE SKATE NO CÉU DAS ARTES – LARANJEIRAS | H5: =Orçamento!I4 -> REV. | I5: =Orçamento!J4 -> 46287
B6: LOCAL: | C6: =Orçamento!B6 -> RUA WASHINGTON PENSA, 969 – PARQUE DAS LARANJEIRAS, SOROCABA/SP | H6: BDI Obra | I6: =Orçamento!J5 -> 0.2354
B8: ITEM | C8: ETAPA | D8: PREÇO (SEM BDI) | E8: PREÇO (COM BDI) | F8: % SOBRE O TOTAL | G8: 1º MÊS | H8: 2º MÊS | I8: 3º MÊS | L8: Conferências
B9: 1 | C9: =VLOOKUP($B9,Orçamento!$A$9:$L$108,4,0) -> SERVIÇOS PRELIMINARES | D9: =VLOOKUP($B9,Orçamento!$A$9:$L$108,11,0) -> 12460.52 | E9: =VLOOKUP($B9,Orçamento!$A$9:$L$108,12,0) -> 15393.13 | F9: =E9/$E$43 -> 0.14929296
A10: A | B10: 1.1 | C10: =VLOOKUP($B10,Orçamento!$A$9:$L$108,4,0) -> CANTEIRO DE OBRAS | D10: =VLOOKUP($B10,Orçamento!$A$9:$L$108,11,0) -> 12377.08 | E10: =VLOOKUP($B10,Orçamento!$A$9:$L$108,12,0) -> 15290.38 | F10: =E10/$E$43 -> 0.14829642 | G10: =VLOOKUP($B10,CRON.AUXILIAR!$A$9:$P$108,G$63,0) -> 9679.9 | H10: =VLOOKUP($B10,CRON.AUXILIAR!$A$9:$P$108,H$63,0) -> 2805.24 | I10: =VLOOKUP($B10,CRON.AUXILIAR!$A$9:$P$108,I$63,0) -> 2805.24 | N10: =SUM(G10:I10) -> 15290.38 | O10: =IF(N10=E10,"OK","NOK") -> OK
A11: - | G11: =G10/$E10 -> 0.63307125 | H11: =H10/$E10 -> 0.18346437 | I11: =I10/$E10 -> 0.18346437 | L11: =SUM(G11:I11) -> 1 | M11: =IF(L11=1,"OK","NOK") -> OK
A12: A | B12: 1.2 | C12: =VLOOKUP($B12,Orçamento!$A$9:$L$108,4,0) -> LOCAÇÃO DE OBRA | D12: =VLOOKUP($B12,Orçamento!$A$9:$L$108,11,0) -> 83.44 | E12: =VLOOKUP($B12,Orçamento!$A$9:$L$108,12,0) -> 102.75 | F12: =E12/$E$43 -> 0.00099653883 | G12: =VLOOKUP($B12,CRON.AUXILIAR!$A$9:$P$108,G$63,0) -> 102.75 | H12: =VLOOKUP($B12,CRON.AUXILIAR!$A$9:$P$108,H$63,0) -> 0 | I12: =VLOOKUP($B12,CRON.AUXILIAR!$A$9:$P$108,I$63,0) -> 0 | N12: =SUM(G12:I12) -> 102.75 | O12: =IF(N12=E12,"OK","NOK") -> OK
A13: - | G13: =G12/$E12 -> 1 | H13: =H12/$E12 -> 0 | I13: =I12/$E12 -> 0 | L13: =SUM(G13:I13) -> 1 | M13: =IF(L13=1,"OK","NOK") -> OK
B14: 2 | C14: =VLOOKUP($B14,Orçamento!$A$9:$L$108,4,0) -> DEMOLIÇÃO E REMOÇÃO | D14: =VLOOKUP($B14,Orçamento!$A$9:$L$108,11,0) -> 2287.99 | E14: =VLOOKUP($B14,Orçamento!$A$9:$L$108,12,0) -> 2826.2 | F14: =E14/$E$43 -> 0.027410395
A15: A | B15: 2.1 | C15: =VLOOKUP($B15,Orçamento!$A$9:$L$108,4,0) -> PISO INTERTRAVADO EXISTENTE | D15: =VLOOKUP($B15,Orçamento!$A$9:$L$108,11,0) -> 2287.99 | E15: =VLOOKUP($B15,Orçamento!$A$9:$L$108,12,0) -> 2826.2 | F15: =E15/$E$43 -> 0.027410395 | G15: =VLOOKUP($B15,CRON.AUXILIAR!$A$9:$P$108,G$63,0) -> 2826.2 | H15: =VLOOKUP($B15,CRON.AUXILIAR!$A$9:$P$108,H$63,0) -> 0 | I15: =VLOOKUP($B15,CRON.AUXILIAR!$A$9:$P$108,I$63,0) -> 0 | N15: =SUM(G15:I15) -> 2826.2 | O15: =IF(N15=E15,"OK","NOK") -> OK
A16: - | G16: =G15/$E15 -> 1 | H16: =H15/$E15 -> 0 | I16: =I15/$E15 -> 0 | L16: =SUM(G16:I16) -> 1 | M16: =IF(L16=1,"OK","NOK") -> OK
B17: 3 | C17: =VLOOKUP($B17,Orçamento!$A$9:$L$108,4,0) -> FECHAMENTO | D17: =VLOOKUP($B17,Orçamento!$A$9:$L$108,11,0) -> 53765.23 | E17: =VLOOKUP($B17,Orçamento!$A$9:$L$108,12,0) -> 66418.71 | F17: =E17/$E$43 -> 0.64417347
A18: A | B18: 3.1 | C18: =VLOOKUP($B18,Orçamento!$A$9:$L$108,4,0) -> INFRAESTRUTURA – ARQUIBANCADA | D18: =VLOOKUP($B18,Orçamento!$A$9:$L$108,11,0) -> 10077.31 | E18: =VLOOKUP($B18,Orçamento!$A$9:$L$108,12,0) -> 12448.28 | F18: =E18/$E$43 -> 0.12073182 | G18: =VLOOKUP($B18,CRON.AUXILIAR!$A$9:$P$108,G$63,0) -> 12448.28 | H18: =VLOOKUP($B18,CRON.AUXILIAR!$A$9:$P$108,H$63,0) -> 0 | I18: =VLOOKUP($B18,CRON.AUXILIAR!$A$9:$P$108,I$63,0) -> 0 | N18: =SUM(G18:I18) -> 12448.28 | O18: =IF(N18=E18,"OK","NOK") -> OK
A19: - | G19: =G18/$E18 -> 1 | H19: =H18/$E18 -> 0 | I19: =I18/$E18 -> 0 | L19: =SUM(G19:I19) -> 1 | M19: =IF(L19=1,"OK","NOK") -> OK
A20: A | B20: 3.2 | C20: =VLOOKUP($B20,Orçamento!$A$9:$L$108,4,0) -> SUPERESTRUTURA – ARQUIBANCADA | D20: =VLOOKUP($B20,Orçamento!$A$9:$L$108,11,0) -> 9742.84 | E20: =VLOOKUP($B20,Orçamento!$A$9:$L$108,12,0) -> 12035.7 | F20: =E20/$E$43 -> 0.11673034 | G20: =VLOOKUP($B20,CRON.AUXILIAR!$A$9:$P$108,G$63,0) -> 0 | H20: =VLOOKUP($B20,CRON.AUXILIAR!$A$9:$P$108,H$63,0) -> 12035.7 | I20: =VLOOKUP($B20,CRON.AUXILIAR!$A$9:$P$108,I$63,0) -> 0 | N20: =SUM(G20:I20) -> 12035.7 | O20: =IF(N20=E20,"OK","NOK") -> OK
A21: - | G21: =G20/$E20 -> 0 | H21: =H20/$E20 -> 1 | I21: =I20/$E20 -> 0 | L21: =SUM(G21:I21) -> 1 | M21: =IF(L21=1,"OK","NOK") -> OK
A22: A | B22: 3.3 | C22: =VLOOKUP($B22,Orçamento!$A$9:$L$108,4,0) -> REVESTIMENTOS ARGAMASSADOS | D22: =VLOOKUP($B22,Orçamento!$A$9:$L$108,11,0) -> 1146.6 | E22: =VLOOKUP($B22,Orçamento!$A$9:$L$108,12,0) -> 1416.47 | F22: =E22/$E$43 -> 0.013737882 | G22: =VLOOKUP($B22,CRON.AUXILIAR!$A$9:$P$108,G$63,0) -> 0 | H22: =VLOOKUP($B22,CRON.AUXILIAR!$A$9:$P$108,H$63,0) -> 1416.47 | I22: =VLOOKUP($B22,CRON.AUXILIAR!$A$9:$P$108,I$63,0) -> 0 | N22: =SUM(G22:I22) -> 1416.47 | O22: =IF(N22=E22,"OK","NOK") -> OK
A23: - | G23: =G22/$E22 -> 0 | H23: =H22/$E22 -> 1 | I23: =I22/$E22 -> 0 | L23: =SUM(G23:I23) -> 1 | M23: =IF(L23=1,"OK","NOK") -> OK
A24: A | B24: 3.4 | C24: =VLOOKUP($B24,Orçamento!$A$9:$L$108,4,0) -> PINTURA | D24: =VLOOKUP($B24,Orçamento!$A$9:$L$108,11,0) -> 738.67 | E24: =VLOOKUP($B24,Orçamento!$A$9:$L$108,12,0) -> 912.27 | F24: =E24/$E$43 -> 0.00884781 | G24: =VLOOKUP($B24,CRON.AUXILIAR!$A$9:$P$108,G$63,0) -> 0 | H24: =VLOOKUP($B24,CRON.AUXILIAR!$A$9:$P$108,H$63,0) -> 0 | I24: =VLOOKUP($B24,CRON.AUXILIAR!$A$9:$P$108,I$63,0) -> 912.27 | N24: =SUM(G24:I24) -> 912.27 | O24: =IF(N24=E24,"OK","NOK") -> OK
A25: - | G25: =G24/$E24 -> 0 | H25: =H24/$E24 -> 0 | I25: =I24/$E24 -> 1 | L25: =SUM(G25:I25) -> 1 | M25: =IF(L25=1,"OK","NOK") -> OK
A26: A | B26: 3.5 | C26: =VLOOKUP($B26,Orçamento!$A$9:$L$108,4,0) -> ALAMBRADO | D26: =VLOOKUP($B26,Orçamento!$A$9:$L$108,11,0) -> 32059.81 | E26: =VLOOKUP($B26,Orçamento!$A$9:$L$108,12,0) -> 39605.99 | F26: =E26/$E$43 -> 0.38412562 | G26: =VLOOKUP($B26,CRON.AUXILIAR!$A$9:$P$108,G$63,0) -> 0 | H26: =VLOOKUP($B26,CRON.AUXILIAR!$A$9:$P$108,H$63,0) -> 29084.83 | I26: =VLOOKUP($B26,CRON.AUXILIAR!$A$9:$P$108,I$63,0) -> 10521.16 | N26: =SUM(G26:I26) -> 39605.99 | O26: =IF(N26=E26,"OK","NOK") -> OK
A27: - | G27: =G26/$E26 -> 0 | H27: =H26/$E26 -> 0.73435432 | I27: =I26/$E26 -> 0.26564568 | L27: =SUM(G27:I27) -> 1 | M27: =IF(L27=1,"OK","NOK") -> OK
B28: 4 | C28: =VLOOKUP($B28,Orçamento!$A$9:$L$108,4,0) -> REVITALIZAÇÃO E ACESSIBILIDADE | D28: =VLOOKUP($B28,Orçamento!$A$9:$L$108,11,0) -> 9710.73 | E28: =VLOOKUP($B28,Orçamento!$A$9:$L$108,12,0) -> 11994.48 | F28: =E28/$E$43 -> 0.11633056
A29: A | B29: 4.1 | C29: =VLOOKUP($B29,Orçamento!$A$9:$L$108,4,0) -> ACESSIBILIDADE E PROTEÇÃO | D29: =VLOOKUP($B29,Orçamento!$A$9:$L$108,11,0) -> 3246.89 | E29: =VLOOKUP($B29,Orçamento!$A$9:$L$108,12,0) -> 4010.95 | F29: =E29/$E$43 -> 0.0389009 | G29: =VLOOKUP($B29,CRON.AUXILIAR!$A$9:$P$108,G$63,0) -> 0 | H29: =VLOOKUP($B29,CRON.AUXILIAR!$A$9:$P$108,H$63,0) -> 2289.3 | I29: =VLOOKUP($B29,CRON.AUXILIAR!$A$9:$P$108,I$63,0) -> 1721.65 | N29: =SUM(G29:I29) -> 4010.95 | O29: =IF(N29=E29,"OK","NOK") -> OK
A30: - | G30: =G29/$E29 -> 0 | H30: =H29/$E29 -> 0.57076254 | I30: =I29/$E29 -> 0.42923746 | L30: =SUM(G30:I30) -> 1 | M30: =IF(L30=1,"OK","NOK") -> OK
A31: A | B31: 4.2 | C31: =VLOOKUP($B31,Orçamento!$A$9:$L$108,4,0) -> PASSEIO INTERNO | D31: =VLOOKUP($B31,Orçamento!$A$9:$L$108,11,0) -> 1708.48 | E31: =VLOOKUP($B31,Orçamento!$A$9:$L$108,12,0) -> 2110.27 | F31: =E31/$E$43 -> 0.020466822 | G31: =VLOOKUP($B31,CRON.AUXILIAR!$A$9:$P$108,G$63,0) -> 150.41 | H31: =VLOOKUP($B31,CRON.AUXILIAR!$A$9:$P$108,H$63,0) -> 1959.86 | I31: =VLOOKUP($B31,CRON.AUXILIAR!$A$9:$P$108,I$63,0) -> 0 | N31: =SUM(G31:I31) -> 2110.27 | O31: =IF(N31=E31,"OK","NOK") -> OK
A32: - | G32: =G31/$E31 -> 0.07127524 | H32: =H31/$E31 -> 0.92872476 | I32: =I31/$E31 -> 0 | L32: =SUM(G32:I32) -> 1 | M32: =IF(L32=1,"OK","NOK") -> OK
A33: A | B33: 4.3 | C33: =VLOOKUP($B33,Orçamento!$A$9:$L$108,4,0) -> REVITALIZAÇÃO DE OBSTÁCULOS | D33: =VLOOKUP($B33,Orçamento!$A$9:$L$108,11,0) -> 4755.36 | E33: =VLOOKUP($B33,Orçamento!$A$9:$L$108,12,0) -> 5873.26 | F33: =E33/$E$43 -> 0.056962839 | G33: =VLOOKUP($B33,CRON.AUXILIAR!$A$9:$P$108,G$63,0) -> 0 | H33: =VLOOKUP($B33,CRON.AUXILIAR!$A$9:$P$108,H$63,0) -> 5873.26 | I33: =VLOOKUP($B33,CRON.AUXILIAR!$A$9:$P$108,I$63,0) -> 0 | N33: =SUM(G33:I33) -> 5873.26 | O33: =IF(N33=E33,"OK","NOK") -> OK
A34: - | G34: =G33/$E33 -> 0 | H34: =H33/$E33 -> 1 | I34: =I33/$E33 -> 0 | L34: =SUM(G34:I34) -> 1 | M34: =IF(L34=1,"OK","NOK") -> OK
B35: 5 | C35: =VLOOKUP($B35,Orçamento!$A$9:$L$108,4,0) -> ELÉTRICA | D35: =VLOOKUP($B35,Orçamento!$A$9:$L$108,11,0) -> 448.5 | E35: =VLOOKUP($B35,Orçamento!$A$9:$L$108,12,0) -> 554.03 | F35: =E35/$E$43 -> 0.0053733568
A36: A | B36: 5.1 | C36: =VLOOKUP($B36,Orçamento!$A$9:$L$108,4,0) -> POSTES EXISTENTES | D36: =VLOOKUP($B36,Orçamento!$A$9:$L$108,11,0) -> 448.5 | E36: =VLOOKUP($B36,Orçamento!$A$9:$L$108,12,0) -> 554.03 | F36: =E36/$E$43 -> 0.0053733568 | G36: =VLOOKUP($B36,CRON.AUXILIAR!$A$9:$P$108,G$63,0) -> 9.17 | H36: =VLOOKUP($B36,CRON.AUXILIAR!$A$9:$P$108,H$63,0) -> 328.8 | I36: =VLOOKUP($B36,CRON.AUXILIAR!$A$9:$P$108,I$63,0) -> 216.06 | N36: =SUM(G36:I36) -> 554.03 | O36: =IF(N36=E36,"OK","NOK") -> OK
A37: - | G37: =G36/$E36 -> 0.01655145 | H37: =H36/$E36 -> 0.59346967 | I37: =I36/$E36 -> 0.38997888 | L37: =SUM(G37:I37) -> 1 | M37: =IF(L37=1,"OK","NOK") -> OK
B38: 6 | C38: =VLOOKUP($B38,Orçamento!$A$9:$L$108,4,0) -> SERVIÇOS COMPLEMENTARES | D38: =VLOOKUP($B38,Orçamento!$A$9:$L$108,11,0) -> 1977.73 | E38: =VLOOKUP($B38,Orçamento!$A$9:$L$108,12,0) -> 2443.04 | F38: =E38/$E$43 -> 0.02369425
A39: A | B39: 6.1 | C39: =VLOOKUP($B39,Orçamento!$A$9:$L$108,4,0) -> LIMPEZA | D39: =VLOOKUP($B39,Orçamento!$A$9:$L$108,11,0) -> 1977.73 | E39: =VLOOKUP($B39,Orçamento!$A$9:$L$108,12,0) -> 2443.04 | F39: =E39/$E$43 -> 0.02369425 | G39: =VLOOKUP($B39,CRON.AUXILIAR!$A$9:$P$108,G$63,0) -> 0 | H39: =VLOOKUP($B39,CRON.AUXILIAR!$A$9:$P$108,H$63,0) -> 0 | I39: =VLOOKUP($B39,CRON.AUXILIAR!$A$9:$P$108,I$63,0) -> 2443.04 | N39: =SUM(G39:I39) -> 2443.04 | O39: =IF(N39=E39,"OK","NOK") -> OK
A40: - | G40: =G39/$E39 -> 0 | H40: =H39/$E39 -> 0 | I40: =I39/$E39 -> 1 | L40: =SUM(G40:I40) -> 1 | M40: =IF(L40=1,"OK","NOK") -> OK
A41: ** | B41: 7 | C41: =VLOOKUP($B41,Orçamento!$A$9:$L$108,4,0) -> ADMINISTRAÇÃO LOCAL | D41: =VLOOKUP($B41,Orçamento!$A$9:$L$108,11,0) -> 2814.7 | E41: =VLOOKUP($B41,Orçamento!$A$9:$L$108,12,0) -> 3477.28 | F41: =E41/$E$43 -> 0.033725008 | G41: =ROUND($E41*G42,2) -> 880.12 | H41: =ROUND($E41*H42,2) -> 1947.31 | I41: =ROUND($E41*I42,2) -> 649.85 | N41: =SUM(G41:I41) -> 3477.28 | O41: =IF(N41=E41,"OK","NOK") -> OK
G42: =ROUND(G61,6) -> 0.253105 | H42: =ROUND(H61,6) -> 0.560009 | I42: =ROUND(I61,6) -> 0.186886 | L42: =SUM(G42:I42) -> 1 | M42: =IF(L42=1,"OK","NOK") -> OK
...

Sheet CRON.AUXILIAR
A1: NÃO ALTERAR ESSA ABA, TRATA-SE DE BASE DE DADOS PARA AS DEMAIS. NÃO É NECESSÁRIA A IMPRESSÃO. | K1: PREENCHER ESSA TABELA COM AS QUANTIDADES A SEREM EXECUTADAS NO MÊS, A OUTRA PREENCHE AUTOMATICAMENTE
L6: =COLUMN() -> 12 | N6: =COLUMN() -> 14 | P6: =COLUMN() -> 16
A8: ITEM | B8: DISCRIMINAÇÃO DO SERVIÇO | C8: 1º MÊS | D8: 2º MÊS | E8: 3º MÊS | F8: UNIDADE | G8: QUANTIDADE TOTAL | H8: PREÇO UNITÁRIO (C/ BDI) | I8: PREÇO TOTAL (COM BDI) | K8: 1º MÊS | M8: 2º MÊS | O8: 3º MÊS | S8: CONFERÊNCIA
A9: 1 | B9: =VLOOKUP($A9,Orçamento!$A$9:$J$108,4,0) -> SERVIÇOS PRELIMINARES | K9: QTDE | L9: Valor | M9: QTDE | N9: Valor | O9: QTDE | P9: Valor
A10: 1.1 | B10: =VLOOKUP($A10,Orçamento!$A$9:$J$108,4,0) -> CANTEIRO DE OBRAS | C10: EVENTO 1 | D10: EVENTO 2 | E10: EVENTO 3 | L10: =SUM(L11:L14) -> 9679.9 | N10: =SUM(N11:N14) -> 2805.24 | P10: =SUM(P11:P14) -> 2805.24
A11: 1.1.1 | B11: =VLOOKUP($A11,Orçamento!$A$9:$J$108,4,0) -> Placa em lona com impressão digital e requadro em metalon | C11: =IF(K11=0,"",CONCATENATE(K11," ",$F11)) -> 6 M2 | D11: =IF(M11=0,"",CONCATENATE(M11," ",$F11)) | E11: =IF(O11=0,"",CONCATENATE(O11," ",$F11)) | F11: =VLOOKUP($A11,Orçamento!$A$9:$J$108,5,0) -> M2 | G11: =VLOOKUP($A11,Orçamento!$A$9:$J$108,6,0) -> 6 | H11: =VLOOKUP($A11,Orçamento!$A$9:$J$108,8,0) -> 556.06 | I11: =VLOOKUP($A11,Orçamento!$A$9:$J$108,10,0) -> 3336.36 | K11: =G11 -> 6 | L11: =IF(K11=0,"",TRUNC($H11*K11,2)) -> 3336.36 | N11: =IF(M11=0,"",TRUNC($H11*M11,2)) | P11: =IF(O11=0,"",TRUNC($H11*O11,2)) | S11: =SUMIF($K$9:$P$9,$K$9,K11:P11) -> 6 | T11: =IF(S11=G11,"","FALTA") | U11: =SUMIF($K$9:$P$9,$L$9,K11:P11) -> 3336.36 | V11: =IF(U11=I11,"","FALTA")
A12: 1.1.2 | B12: =VLOOKUP($A12,Orçamento!$A$9:$J$108,4,0) -> Banheiro químico modelo Standard, com manutenção conforme exigências da CETESB | C12: =IF(K12=0,"",CONCATENATE(K12," ",$F12)) -> 1 UNMES | D12: =IF(M12=0,"",CONCATENATE(M12," ",$F12)) -> 1 UNMES | E12: =IF(O12=0,"",CONCATENATE(O12," ",$F12)) -> 1 UNMES | F12: =VLOOKUP($A12,Orçamento!$A$9:$J$108,5,0) -> UNMES | G12: =VLOOKUP($A12,Orçamento!$A$9:$J$108,6,0) -> 3 | H12: =VLOOKUP($A12,Orçamento!$A$9:$J$108,8,0) -> 1556.39 | I12: =VLOOKUP($A12,Orçamento!$A$9:$J$108,10,0) -> 4669.17 | K12: =G12/3 -> 1 | L12: =IF(K12=0,"",TRUNC($H12*K12,2)) -> 1556.39 | M12: =G12/3 -> 1 | N12: =IF(M12=0,"",TRUNC($H12*M12,2)) -> 1556.39 | O12: =G12/3 -> 1 | P12: =IF(O12=0,"",TRUNC($H12*O12,2)) -> 1556.39 | S12: =SUMIF($K$9:$P$9,$K$9,K12:P12) -> 3 | T12: =IF(S12=G12,"","FALTA") | U12: =SUMIF($K$9:$P$9,$L$9,K12:P12) -> 4669.17 | V12: =IF(U12=I12,"","FALTA")
A13: 1.1.3 | B13: =VLOOKUP($A13,Orçamento!$A$9:$J$108,4,0) -> Locação de container tipo depósito - área mínima de 13,80 m² | C13: =IF(K13=0,"",CONCATENATE(K13," ",$F13)) -> 1 UNMES | D13: =IF(M13=0,"",CONCATENATE(M13," ",$F13)) -> 1 UNMES | E13: =IF(O13=0,"",CONCATENATE(O13," ",$F13)) -> 1 UNMES | F13: =VLOOKUP($A13,Orçamento!$A$9:$J$108,5,0) -> UNMES | G13: =VLOOKUP($A13,Orçamento!$A$9:$J$108,6,0) -> 3 | H13: =VLOOKUP($A13,Orçamento!$A$9:$J$108,8,0) -> 1248.85 | I13: =VLOOKUP($A13,Orçamento!$A$9:$J$108,10,0) -> 3746.55 | K13: =G13/3 -> 1 | L13: =IF(K13=0,"",TRUNC($H13*K13,2)) -> 1248.85 | M13: =G13/3 -> 1 | N13: =IF(M13=0,"",TRUNC($H13*M13,2)) -> 1248.85 | O13: =G13/3 -> 1 | P13: =IF(O13=0,"",TRUNC($H13*O13,2)) -> 1248.85 | S13: =SUMIF($K$9:$P$9,$K$9,K13:P13) -> 3 | T13: =IF(S13=G13,"","FALTA") | U13: =SUMIF($K$9:$P$9,$L$9,K13:P13) -> 3746.55 | V13: =IF(U13=I13,"","FALTA")
A14: 1.1.4 | B14: =VLOOKUP($A14,Orçamento!$A$9:$J$108,4,0) -> TELA PARA PROTEÇÃO DE OBRAS, MALHA 2 MM | C14: =IF(K14=0,"",CONCATENATE(K14," ",$F14)) -> 82 M2 | D14: =IF(M14=0,"",CONCATENATE(M14," ",$F14)) | E14: =IF(O14=0,"",CONCATENATE(O14," ",$F14)) | F14: =VLOOKUP($A14,Orçamento!$A$9:$J$108,5,0) -> M2 | G14: =VLOOKUP($A14,Orçamento!$A$9:$J$108,6,0) -> 82 | H14: =VLOOKUP($A14,Orçamento!$A$9:$J$108,8,0) -> 43.15 | I14: =VLOOKUP($A14,Orçamento!$A$9:$J$108,10,0) -> 3538.3 | K14: =G14 -> 82 | L14: =IF(K14=0,"",TRUNC($H14*K14,2)) -> 3538.3 | N14: =IF(M14=0,"",TRUNC($H14*M14,2)) | P14: =IF(O14=0,"",TRUNC($H14*O14,2)) | S14: =SUMIF($K$9:$P$9,$K$9,K14:P14) -> 82 | T14: =IF(S14=G14,"","FALTA") | U14: =SUMIF($K$9:$P$9,$L$9,K14:P14) -> 3538.3 | V14: =IF(U14=I14,"","FALTA")
A16: 1.2 | B16: =VLOOKUP($A16,Orçamento!$A$9:$J$108,4,0) -> LOCAÇÃO DE OBRA | C16: EVENTO 4 | L16: =SUM(L17:L18) -> 102.75 | N16: =SUM(N17:N18) -> 0 | P16: =SUM(P17:P18) -> 0
A17: 1.2.1 | B17: =VLOOKUP($A17,Orçamento!$A$9:$J$108,4,0) -> Locação para muros, cercas e alambrados | C17: =IF(K17=0,"",CONCATENATE(K17," ",$F17)) -> 37,35 M | D17: =IF(M17=0,"",CONCATENATE(M17," ",$F17)) | E17: =IF(O17=0,"",CONCATENATE(O17," ",$F17)) | F17: =VLOOKUP($A17,Orçamento!$A$9:$J$108,5,0) -> M | G17: =VLOOKUP($A17,Orçamento!$A$9:$J$108,6,0) -> 37.35 | H17: =VLOOKUP($A17,Orçamento!$A$9:$J$108,8,0) -> 1.97 | I17: =VLOOKUP($A17,Orçamento!$A$9:$J$108,10,0) -> 73.57 | K17: =G17 -> 37.35 | L17: =IF(K17=0,"",TRUNC($H17*K17,2)) -> 73.57 | N17: =IF(M17=0,"",TRUNC($H17*M17,2)) | P17: =IF(O17=0,"",TRUNC($H17*O17,2)) | S17: =SUMIF($K$9:$P$9,$K$9,K17:P17) -> 37.35 | T17: =IF(S17=G17,"","FALTA") | U17: =SUMIF($K$9:$P$9,$L$9,K17:P17) -> 73.57 | V17: =IF(U17=I17,"","FALTA")
A18: 1.2.2 | B18: =VLOOKUP($A18,Orçamento!$A$9:$J$108,4,0) -> Locação de vias, calçadas, tanques e lagoas | C18: =IF(K18=0,"",CONCATENATE(K18," ",$F18)) -> 12,21 M2 | D18: =IF(M18=0,"",CONCATENATE(M18," ",$F18)) | E18: =IF(O18=0,"",CONCATENATE(O18," ",$F18)) | F18: =VLOOKUP($A18,Orçamento!$A$9:$J$108,5,0) -> M2 | G18: =VLOOKUP($A18,Orçamento!$A$9:$J$108,6,0) -> 12.21 | H18: =VLOOKUP($A18,Orçamento!$A$9:$J$108,8,0) -> 2.39 | I18: =VLOOKUP($A18,Orçamento!$A$9:$J$108,10,0) -> 29.18 | K18: =G18 -> 12.21 | L18: =IF(K18=0,"",TRUNC($H18*K18,2)) -> 29.18 | N18: =IF(M18=0,"",TRUNC($H18*M18,2)) | P18: =IF(O18=0,"",TRUNC($H18*O18,2)) | S18: =SUMIF($K$9:$P$9,$K$9,K18:P18) -> 12.21 | T18: =IF(S18=G18,"","FALTA") | U18: =SUMIF($K$9:$P$9,$L$9,K18:P18) -> 29.18 | V18: =IF(U18=I18,"","FALTA")
A20: 2 | B20: =VLOOKUP($A20,Orçamento!$A$9:$J$108,4,0) -> DEMOLIÇÃO E REMOÇÃO
A21: 2.1 | B21: =VLOOKUP($A21,Orçamento!$A$9:$J$108,4,0) -> PISO INTERTRAVADO EXISTENTE | C21: EVENTO 5 | L21: =SUM(L22:L24) -> 2826.2 | N21: =SUM(N22:N24) -> 0 | P21: =SUM(P22:P24) -> 0
A22: 2.1.1 | B22: =VLOOKUP($A22,Orçamento!$A$9:$J$108,4,0) -> REMOÇÃO DE PISO DE BLOCO INTERTRAVADO OU DE PEDRA PORTUGUESA, DE FORMA MANUAL, COM REAPROVEITAMENTO. AF_09/2023 | C22: =IF(K22=0,"",CONCATENATE(K22," ",$F22)) -> 23,56 M2 | D22: =IF(M22=0,"",CONCATENATE(M22," ",$F22)) | E22: =IF(O22=0,"",CONCATENATE(O22," ",$F22)) | F22: =VLOOKUP($A22,Orçamento!$A$9:$J$108,5,0) -> M2 | G22: =VLOOKUP($A22,Orçamento!$A$9:$J$108,6,0) -> 23.56 | H22: =VLOOKUP($A22,Orçamento!$A$9:$J$108,8,0) -> 30.37 | I22: =VLOOKUP($A22,Orçamento!$A$9:$J$108,10,0) -> 715.51 | K22: =G22 -> 23.56 | L22: =IF(K22=0,"",TRUNC($H22*K22,2)) -> 715.51 | N22: =IF(M22=0,"",TRUNC($H22*M22,2)) | P22: =IF(O22=0,"",TRUNC($H22*O22,2)) | S22: =SUMIF($K$9:$P$9,$K$9,K22:P22) -> 23.56 | T22: =IF(S22=G22,"","FALTA") | U22: =SUMIF($K$9:$P$9,$L$9,K22:P22) -> 715.51 | V22: =IF(U22=I22,"","FALTA")
A23: 2.1.2 | B23: =VLOOKUP($A23,Orçamento!$A$9:$J$108,4,0) -> Remoção de entulho de obra com caçamba metálica - material rejeitado e misturado por vegetação, isopor, manta asfáltica e lã de vidro | C23: =IF(K23=0,"",CONCATENATE(K23," ",$F23)) -> 8,03 M3 | D23: =IF(M23=0,"",CONCATENATE(M23," ",$F23)) | E23: =IF(O23=0,"",CONCATENATE(O23," ",$F23)) | F23: =VLOOKUP($A23,Orçamento!$A$9:$J$108,5,0) -> M3 | G23: =VLOOKUP($A23,Orçamento!$A$9:$J$108,6,0) -> 8.03 | H23: =VLOOKUP($A23,Orçamento!$A$9:$J$108,8,0) -> 172.86 | I23: =VLOOKUP($A23,Orçamento!$A$9:$J$108,10,0) -> 1388.06 | K23: =G23 -> 8.03 | L23: =IF(K23=0,"",TRUNC($H23*K23,2)) -> 1388.06 | N23: =IF(M23=0,"",TRUNC($H23*M23,2)) | P23: =IF(O23=0,"",TRUNC($H23*O23,2)) | S23: =SUMIF($K$9:$P$9,$K$9,K23:P23) -> 8.03 | T23: =IF(S23=G23,"","FALTA") | U23: =SUMIF($K$9:$P$9,$L$9,K23:P23) -> 1388.06 | V23: =IF(U23=I23,"","FALTA")
A24: 2.1.3 | B24: =VLOOKUP($A24,Orçamento!$A$9:$J$108,4,0) -> Taxa de destinação de resíduo sólido em aterro, tipo inerte | C24: =IF(K24=0,"",CONCATENATE(K24," ",$F24)) -> 12,05 T | D24: =IF(M24=0,"",CONCATENATE(M24," ",$F24)) | E24: =IF(O24=0,"",CONCATENATE(O24," ",$F24)) | F24: =VLOOKUP($A24,Orçamento!$A$9:$J$108,5,0) -> T | G24: =VLOOKUP($A24,Orçamento!$A$9:$J$108,6,0) -> 12.05 | H24: =VLOOKUP($A24,Orçamento!$A$9:$J$108,8,0) -> 59.97 | I24: =VLOOKUP($A24,Orçamento!$A$9:$J$108,10,0) -> 722.63 | K24: =G24 -> 12.05 | L24: =IF(K24=0,"",TRUNC($H24*K24,2)) -> 722.63 | N24: =IF(M24=0,"",TRUNC($H24*M24,2)) | P24: =IF(O24=0,"",TRUNC($H24*O24,2)) | S24: =SUMIF($K$9:$P$9,$K$9,K24:P24) -> 12.05 | T24: =IF(S24=G24,"","FALTA") | U24: =SUMIF($K$9:$P$9,$L$9,K24:P24) -> 722.63 | V24: =IF(U24=I24,"","FALTA")
A26: 3 | B26: =VLOOKUP($A26,Orçamento!$A$9:$J$108,4,0) -> FECHAMENTO
A27: 3.1 | B27: =VLOOKUP($A27,Orçamento!$A$9:$J$108,4,0) -> INFRAESTRUTURA – ARQUIBANCADA | C27: EVENTO 6 | L27: =SUM(L28:L38) -> 12448.28 | N27: =SUM(N28:N38) -> 0 | P27: =SUM(P28:P38) -> 0
A28: 3.1.1 | B28: =VLOOKUP($A28,Orçamento!$A$9:$J$108,4,0) -> ESCAVAÇÃO MECANIZADA PARA VIGA BALDRAME OU SAPATA CORRIDA COM MINI-ESCAVADEIRA (INCLUINDO ESCAVAÇÃO PARA COLOCAÇÃO DE FÔRMAS). AF_01/2024 | C28: =IF(K28=0,"",CONCATENATE(K28," ",$F28)) -> 2,62 M3 | D28: =IF(M28=0,"",CONCATENATE(M28," ",$F28)) | E28: =IF(O28=0,"",CONCATENATE(O28," ",$F28)) | F28: =VLOOKUP($A28,Orçamento!$A$9:$J$108,5,0) -> M3 | G28: =VLOOKUP($A28,Orçamento!$A$9:$J$108,6,0) -> 2.62 | H28: =VLOOKUP($A28,Orçamento!$A$9:$J$108,8,0) -> 85 | I28: =VLOOKUP($A28,Orçamento!$A$9:$J$108,10,0) -> 222.7 | K28: =G28 -> 2.62 | L28: =IF(K28=0,"",TRUNC($H28*K28,2)) -> 222.7 | N28: =IF(M28=0,"",TRUNC($H28*M28,2)) | P28: =IF(O28=0,"",TRUNC($H28*O28,2)) | S28: =SUMIF($K$9:$P$9,$K$9,K28:P28) -> 2.62 | T28: =IF(S28=G28,"","FALTA") | U28: =SUMIF($K$9:$P$9,$L$9,K28:P28) -> 222.7 | V28: =IF(U28=I28,"","FALTA")
A29: 3.1.2 | B29: =VLOOKUP($A29,Orçamento!$A$9:$J$108,4,0) -> PREPARO DE FUNDO DE VALA COM LARGURA MENOR QUE 1,5 M (ACERTO DO SOLO NATURAL), EM LOCAL COM NÍVEL BAIXO DE INTERFERÊNCIA. AF_01/2026 | C29: =IF(K29=0,"",CONCATENATE(K29," ",$F29)) -> 8,3 M2 | D29: =IF(M29=0,"",CONCATENATE(M29," ",$F29)) | E29: =IF(O29=0,"",CONCATENATE(O29," ",$F29)) | F29: =VLOOKUP($A29,Orçamento!$A$9:$J$108,5,0) -> M2 | G29: =VLOOKUP($A29,Orçamento!$A$9:$J$108,6,0) -> 8.3 | H29: =VLOOKUP($A29,Orçamento!$A$9:$J$108,8,0) -> 13.1 | I29: =VLOOKUP($A29,Orçamento!$A$9:$J$108,10,0) -> 108.73 | K29: =G29 -> 8.3 | L29: =IF(K29=0,"",TRUNC($H29*K29,2)) -> 108.73 | N29: =IF(M29=0,"",TRUNC($H29*M29,2)) | P29: =IF(O29=0,"",TRUNC($H29*O29,2)) | S29: =SUMIF($K$9:$P$9,$K$9,K29:P29) -> 8.3 | T29: =IF(S29=G29,"","FALTA") | U29: =SUMIF($K$9:$P$9,$L$9,K29:P29) -> 108.73 | V29: =IF(U29=I29,"","FALTA")
A30: 3.1.3 | B30: =VLOOKUP($A30,Orçamento!$A$9:$J$108,4,0) -> Broca em concreto armado diâmetro de 20 cm - completa | C30: =IF(K30=0,"",CONCATENATE(K30," ",$F30)) -> 16 M | D30: =IF(M30=0,"",CONCATENATE(M30," ",$F30)) | E30: =IF(O30=0,"",CONCATENATE(O30," ",$F30)) | F30: =VLOOKUP($A30,Orçamento!$A$9:$J$108,5,0) -> M | G30: =VLOOKUP($A30,Orçamento!$A$9:$J$108,6,0) -> 16 | H30: =VLOOKUP($A30,Orçamento!$A$9:$J$108,8,0) -> 93.23 | I30: =VLOOKUP($A30,Orçamento!$A$9:$J$108,10,0) -> 1491.68 | K30: =G30 -> 16 | L30: =IF(K30=0,"",TRUNC($H30*K30,2)) -> 1491.68 | N30: =IF(M30=0,"",TRUNC($H30*M30,2)) | P30: =IF(O30=0,"",TRUNC($H30*O30,2)) | S30: =SUMIF($K$9:$P$9,$K$9,K30:P30) -> 16 | T30: =IF(S30=G30,"","FALTA") | U30: =SUMIF($K$9:$P$9,$L$9,K30:P30) -> 1491.68 | V30: =IF(U30=I30,"","FALTA")
A31: 3.1.4 | B31: =VLOOKUP($A31,Orçamento!$A$9:$J$108,4,0) -> LASTRO COM MATERIAL GRANULAR, APLICAÇÃO EM BLOCOS DE COROAMENTO, ESPESSURA DE *5 CM*. AF_01/2024 | C31: =IF(K31=0,"",CONCATENATE(K31," ",$F31)) -> 0,42 M3 | D31: =IF(M31=0,"",CONCATENATE(M31," ",$F31)) | E31: =IF(O31=0,"",CONCATENATE(O31," ",$F31)) | F31: =VLOOKUP($A31,Orçamento!$A$9:$J$108,5,0) -> M3 | G31: =VLOOKUP($A31,Orçamento!$A$9:$J$108,6,0) -> 0.42 | H31: =VLOOKUP($A31,Orçamento!$A$9:$J$108,8,0) -> 294.16 | I31: =VLOOKUP($A31,Orçamento!$A$9:$J$108,10,0) -> 123.54 | K31: =G31 -> 0.42 | L31: =IF(K31=0,"",TRUNC($H31*K31,2)) -> 123.54 | N31: =IF(M31=0,"",TRUNC($H31*M31,2)) | P31: =IF(O31=0,"",TRUNC($H31*O31,2)) | S31: =SUMIF($K$9:$P$9,$K$9,K31:P31) -> 0.42 | T31: =IF(S31=G31,"","FALTA") | U31: =SUMIF($K$9:$P$9,$L$9,K31:P31) -> 123.54 | V31: =IF(U31=I31,"","FALTA")
A32: 3.1.5 | B32: =VLOOKUP($A32,Orçamento!$A$9:$J$108,4,0) -> FABRICAÇÃO, MONTAGEM E DESMONTAGEM DE FÔRMA PARA BLOCO DE COROAMENTO, EM MADEIRA SERRADA, E=25 MM, 1 UTILIZAÇÃO. AF_01/2024 | C32: =IF(K32=0,"",CONCATENATE(K32," ",$F32)) -> 5,76 M2 | D32: =IF(M32=0,"",CONCATENATE(M32," ",$F32)) | E32: =IF(O32=0,"",CONCATENATE(O32," ",$F32)) | F32: =VLOOKUP($A32,Orçamento!$A$9:$J$108,5,0) -> M2 | G32: =VLOOKUP($A32,Orçamento!$A$9:$J$108,6,0) -> 5.76 | H32: =VLOOKUP($A32,Orçamento!$A$9:$J$108,8,0) -> 213.23 | I32: =VLOOKUP($A32,Orçamento!$A$9:$J$108,10,0) -> 1228.2 | K32: =G32 -> 5.76 | L32: =IF(K32=0,"",TRUNC($H32*K32,2)) -> 1228.2 | N32: =IF(M32=0,"",TRUNC($H32*M32,2)) | P32: =IF(O32=0,"",TRUNC($H32*O32,2)) | S32: =SUMIF($K$9:$P$9,$K$9,K32:P32) -> 5.76 | T32: =IF(S32=G32,"","FALTA") | U32: =SUMIF($K$9:$P$9,$L$9,K32:P32) -> 1228.2 | V32: =IF(U32=I32,"","FALTA")
A33: 3.1.6 | B33: =VLOOKUP($A33,Orçamento!$A$9:$J$108,4,0) -> ARMAÇÃO DE BLOCO UTILIZANDO AÇO CA-50 DE 10 MM - MONTAGEM. AF_01/2024 | C33: =IF(K33=0,"",CONCATENATE(K33," ",$F33)) -> 32,33 KG | D33: =IF(M33=0,"",CONCATENATE(M33," ",$F33)) | E33: =IF(O33=0,"",CONCATENATE(O33," ",$F33)) | F33: =VLOOKUP($A33,Orçamento!$A$9:$J$108,5,0) -> KG | G33: =VLOOKUP($A33,Orçamento!$A$9:$J$108,6,0) -> 32.33 | H33: =VLOOKUP($A33,Orçamento!$A$9:$J$108,8,0) -> 17.57 | I33: =VLOOKUP($A33,Orçamento!$A$9:$J$108,10,0) -> 568.03 | K33: =G33 -> 32.33 | L33: =IF(K33=0,"",TRUNC($H33*K33,2)) -> 568.03 | N33: =IF(M33=0,"",TRUNC($H33*M33,2)) | P33: =IF(O33=0,"",TRUNC($H33*O33,2)) | S33: =SUMIF($K$9:$P$9,$K$9,K33:P33) -> 32.33 | T33: =IF(S33=G33,"","FALTA") | U33: =SUMIF($K$9:$P$9,$L$9,K33:P33) -> 568.03 | V33: =IF(U33=I33,"","FALTA")
A34: 3.1.7 | B34: =VLOOKUP($A34,Orçamento!$A$9:$J$108,4,0) -> FABRICAÇÃO, MONTAGEM E DESMONTAGEM DE FÔRMA PARA VIGA BALDRAME, EM MADEIRA SERRADA, E=25 MM, 1 UTILIZAÇÃO. AF_01/2024 | C34: =IF(K34=0,"",CONCATENATE(K34," ",$F34)) -> 17,01 M2 | D34: =IF(M34=0,"",CONCATENATE(M34," ",$F34)) | E34: =IF(O34=0,"",CONCATENATE(O34," ",$F34)) | F34: =VLOOKUP($A34,Orçamento!$A$9:$J$108,5,0) -> M2 | G34: =VLOOKUP($A34,Orçamento!$A$9:$J$108,6,0) -> 17.01 | H34: =VLOOKUP($A34,Orçamento!$A$9:$J$108,8,0) -> 193.05 | I34: =VLOOKUP($A34,Orçamento!$A$9:$J$108,10,0) -> 3283.78 | K34: =G34 -> 17.01 | L34: =IF(K34=0,"",TRUNC($H34*K34,2)) -> 3283.78 | N34: =IF(M34=0,"",TRUNC($H34*M34,2)) | P34: =IF(O34=0,"",TRUNC($H34*O34,2)) | S34: =SUMIF($K$9:$P$9,$K$9,K34:P34) -> 17.01 | T34: =IF(S34=G34,"","FALTA") | U34: =SUMIF($K$9:$P$9,$L$9,K34:P34) -> 3283.78 | V34: =IF(U34=I34,"","FALTA")
A35: 3.1.8 | B35: =VLOOKUP($A35,Orçamento!$A$9:$J$108,4,0) -> ARMAÇÃO DE SAPATA ISOLADA, VIGA BALDRAME E SAPATA CORRIDA UTILIZANDO AÇO CA-50 DE 10 MM - MONTAGEM. AF_01/2024 | C35: =IF(K35=0,"",CONCATENATE(K35," ",$F35)) -> 63,82 KG | D35: =IF(M35=0,"",CONCATENATE(M35," ",$F35)) | E35: =IF(O35=0,"",CONCATENATE(O35," ",$F35)) | F35: =VLOOKUP($A35,Orçamento!$A$9:$J$108,5,0) -> KG | G35: =VLOOKUP($A35,Orçamento!$A$9:$J$108,6,0) -> 63.82 | H35: =VLOOKUP($A35,Orçamento!$A$9:$J$108,8,0) -> 15.39 | I35: =VLOOKUP($A35,Orçamento!$A$9:$J$108,10,0) -> 982.18 | K35: =G35 -> 63.82 | L35: =IF(K35=0,"",TRUNC($H35*K35,2)) -> 982.18 | N35: =IF(M35=0,"",TRUNC($H35*M35,2)) | P35: =IF(O35=0,"",TRUNC($H35*O35,2)) | S35: =SUMIF($K$9:$P$9,$K$9,K35:P35) -> 63.82 | T35: =IF(S35=G35,"","FALTA") | U35: =SUMIF($K$9:$P$9,$L$9,K35:P35) -> 982.18 | V35: =IF(U35=I35,"","FALTA")
A36: 3.1.9 | B36: =VLOOKUP($A36,Orçamento!$A$9:$J$108,4,0) -> ARMAÇÃO DE SAPATA ISOLADA, VIGA BALDRAME E SAPATA CORRIDA UTILIZANDO AÇO CA-60 DE 5 MM - MONTAGEM. AF_01/2024 | C36: =IF(K36=0,"",CONCATENATE(K36," ",$F36)) -> 23,1 KG | D36: =IF(M36=0,"",CONCATENATE(M36," ",$F36)) | E36: =IF(O36=0,"",CONCATENATE(O36," ",$F36)) | F36: =VLOOKUP($A36,Orçamento!$A$9:$J$108,5,0) -> KG | G36: =VLOOKUP($A36,Orçamento!$A$9:$J$108,6,0) -> 23.1 | H36: =VLOOKUP($A36,Orçamento!$A$9:$J$108,8,0) -> 22.6 | I36: =VLOOKUP($A36,Orçamento!$A$9:$J$108,10,0) -> 522.06 | K36: =G36 -> 23.1 | L36: =IF(K36=0,"",TRUNC($H36*K36,2)) -> 522.06 | N36: =IF(M36=0,"",TRUNC($H36*M36,2)) | P36: =IF(O36=0,"",TRUNC($H36*O36,2)) | S36: =SUMIF($K$9:$P$9,$K$9,K36:P36) -> 23.1 | T36: =IF(S36=G36,"","FALTA") | U36: =SUMIF($K$9:$P$9,$L$9,K36:P36) -> 522.06 | V36: =IF(U36=I36,"","FALTA")
A37: 3.1.10 | B37: =VLOOKUP($A37,Orçamento!$A$9:$J$108,4,0) -> CONCRETAGEM DE BLOCO DE COROAMENTO OU VIGA BALDRAME, FCK 30 MPA, COM USO DE BOMBA - LANÇAMENTO, ADENSAMENTO E ACABAMENTO. AF_01/2024 | C37: =IF(K37=0,"",CONCATENATE(K37," ",$F37)) -> 2,62 M3 | D37: =IF(M37=0,"",CONCATENATE(M37," ",$F37)) | E37: =IF(O37=0,"",CONCATENATE(O37," ",$F37)) | F37: =VLOOKUP($A37,Orçamento!$A$9:$J$108,5,0) -> M3 | G37: =VLOOKUP($A37,Orçamento!$A$9:$J$108,6,0) -> 2.62 | H37: =VLOOKUP($A37,Orçamento!$A$9:$J$108,8,0) -> 877.26 | I37: =VLOOKUP($A37,Orçamento!$A$9:$J$108,10,0) -> 2298.42 | K37: =G37 -> 2.62 | L37: =IF(K37=0,"",TRUNC($H37*K37,2)) -> 2298.42 | N37: =IF(M37=0,"",TRUNC($H37*M37,2)) | P37: =IF(O37=0,"",TRUNC($H37*O37,2)) | S37: =SUMIF($K$9:$P$9,$K$9,K37:P37) -> 2.62 | T37: =IF(S37=G37,"","FALTA") | U37: =SUMIF($K$9:$P$9,$L$9,K37:P37) -> 2298.42 | V37: =IF(U37=I37,"","FALTA")
A38: 3.1.11 | B38: =VLOOKUP($A38,Orçamento!$A$9:$J$108,4,0) -> IMPERMEABILIZAÇÃO DE SUPERFÍCIE COM EMULSÃO ASFÁLTICA, 2 DEMÃOS. AF_09/2023 | C38: =IF(K38=0,"",CONCATENATE(K38," ",$F38)) -> 28 M2 | D38: =IF(M38=0,"",CONCATENATE(M38," ",$F38)) | E38: =IF(O38=0,"",CONCATENATE(O38," ",$F38)) | F38: =VLOOKUP($A38,Orçamento!$A$9:$J$108,5,0) -> M2 | G38: =VLOOKUP($A38,Orçamento!$A$9:$J$108,6,0) -> 28 | H38: =VLOOKUP($A38,Orçamento!$A$9:$J$108,8,0) -> 57.82 | I38: =VLOOKUP($A38,Orçamento!$A$9:$J$108,10,0) -> 1618.96 | K38: =G38 -> 28 | L38: =IF(K38=0,"",TRUNC($H38*K38,2)) -> 1618.96 | N38: =IF(M38=0,"",TRUNC($H38*M38,2)) | P38: =IF(O38=0,"",TRUNC($H38*O38,2)) | S38: =SUMIF($K$9:$P$9,$K$9,K38:P38) -> 28 | T38: =IF(S38=G38,"","FALTA") | U38: =SUMIF($K$9:$P$9,$L$9,K38:P38) -> 1618.96 | V38: =IF(U38=I38,"","FALTA")
A40: 3.2 | B40: =VLOOKUP($A40,Orçamento!$A$9:$J$108,4,0) -> SUPERESTRUTURA – ARQUIBANCADA | D40: EVENTO 7 | E40: EVENTO 8 | L40: =SUM(L41:L56) -> 0 | N40: =SUM(N41:N52) -> 12035.7 | P40: =SUM(P41:P56) -> 0
A41: 3.2.1 | B41: =VLOOKUP($A41,Orçamento!$A$9:$J$108,4,0) -> ALVENARIA DE BLOCOS DE CONCRETO ESTRUTURAL 14X19X39 CM (ESPESSURA 14 CM), FBK = 4,5 MPA, UTILIZANDO COLHER DE PEDREIRO. AF_07/2026 | C41: =IF(K41=0,"",CONCATENATE(K41," ",$F41)) | D41: =IF(M41=0,"",CONCATENATE(M41," ",$F41)) -> 18,74 M2 | E41: =IF(O41=0,"",CONCATENATE(O41," ",$F41)) | F41: =VLOOKUP($A41,Orçamento!$A$9:$J$108,5,0) -> M2 | G41: =VLOOKUP($A41,Orçamento!$A$9:$J$108,6,0) -> 18.74 | H41: =VLOOKUP($A41,Orçamento!$A$9:$J$108,8,0) -> 167.53 | I41: =VLOOKUP($A41,Orçamento!$A$9:$J$108,10,0) -> 3139.51 | L41: =IF(K41=0,"",TRUNC($H41*K41,2)) | M41: =G41 -> 18.74 | N41: =IF(M41=0,"",TRUNC($H41*M41,2)) -> 3139.51 | P41: =IF(O41=0,"",TRUNC($H41*O41,2)) | S41: =SUMIF($K$9:$P$9,$K$9,K41:P41) -> 18.74 | T41: =IF(S41=G41,"","FALTA") | U41: =SUMIF($K$9:$P$9,$L$9,K41:P41) -> 3139.51 | V41: =IF(U41=I41,"","FALTA")
A42: 3.2.2 | B42: =VLOOKUP($A42,Orçamento!$A$9:$J$108,4,0) -> ARMAÇÃO DE CINTA DE ALVENARIA ESTRUTURAL; DIÂMETRO DE 10,0 MM. AF_06/2026 | C42: =IF(K42=0,"",CONCATENATE(K42," ",$F42)) | D42: =IF(M42=0,"",CONCATENATE(M42," ",$F42)) -> 9,25 KG | E42: =IF(O42=0,"",CONCATENATE(O42," ",$F42)) | F42: =VLOOKUP($A42,Orçamento!$A$9:$J$108,5,0) -> KG | G42: =VLOOKUP($A42,Orçamento!$A$9:$J$108,6,0) -> 9.25 | H42: =VLOOKUP($A42,Orçamento!$A$9:$J$108,8,0) -> 13.07 | I42: =VLOOKUP($A42,Orçamento!$A$9:$J$108,10,0) -> 120.89 | L42: =IF(K42=0,"",TRUNC($H42*K42,2)) | M42: =G42 -> 9.25 | N42: =IF(M42=0,"",TRUNC($H42*M42,2)) -> 120.89 | P42: =IF(O42=0,"",TRUNC($H42*O42,2)) | S42: =SUMIF($K$9:$P$9,$K$9,K42:P42) -> 9.25 | T42: =IF(S42=G42,"","FALTA") | U42: =SUMIF($K$9:$P$9,$L$9,K42:P42) -> 120.89 | V42: =IF(U42=I42,"","FALTA")
A43: 3.2.3 | B43: =VLOOKUP($A43,Orçamento!$A$9:$J$108,4,0) -> ARMAÇÃO DE VERGA E CONTRAVERGA DE ALVENARIA ESTRUTURAL; DIÂMETRO DE 10,0 MM. AF_06/2026 | C43: =IF(K43=0,"",CONCATENATE(K43," ",$F43)) | D43: =IF(M43=0,"",CONCATENATE(M43," ",$F43)) -> 14,49 KG | E43: =IF(O43=0,"",CONCATENATE(O43," ",$F43)) | F43: =VLOOKUP($A43,Orçamento!$A$9:$J$108,5,0) -> KG | G43: =VLOOKUP($A43,Orçamento!$A$9:$J$108,6,0) -> 14.49 | H43: =VLOOKUP($A43,Orçamento!$A$9:$J$108,8,0) -> 27.14 | I43: =VLOOKUP($A43,Orçamento!$A$9:$J$108,10,0) -> 393.25 | L43: =IF(K43=0,"",TRUNC($H43*K43,2)) | M43: =G43 -> 14.49 | N43: =IF(M43=0,"",TRUNC($H43*M43,2)) -> 393.25 | P43: =IF(O43=0,"",TRUNC($H43*O43,2)) | S43: =SUMIF($K$9:$P$9,$K$9,K43:P43) -> 14.49 | T43: =IF(S43=G43,"","FALTA") | U43: =SUMIF($K$9:$P$9,$L$9,K43:P43) -> 393.25 | V43: =IF(U43=I43,"","FALTA")
A44: 3.2.4 | B44: =VLOOKUP($A44,Orçamento!$A$9:$J$108,4,0) -> ARMAÇÃO VERTICAL DE ALVENARIA ESTRUTURAL; DIÂMETRO DE 10,0 MM. AF_06/2026 | C44: =IF(K44=0,"",CONCATENATE(K44," ",$F44)) | D44: =IF(M44=0,"",CONCATENATE(M44," ",$F44)) -> 11,83 KG | E44: =IF(O44=0,"",CONCATENATE(O44," ",$F44)) | F44: =VLOOKUP($A44,Orçamento!$A$9:$J$108,5,0) -> KG | G44: =VLOOKUP($A44,Orçamento!$A$9:$J$108,6,0) -> 11.83 | H44: =VLOOKUP($A44,Orçamento!$A$9:$J$108,8,0) -> 13.7 | I44: =VLOOKUP($A44,Orçamento!$A$9:$J$108,10,0) -> 162.07 | L44: =IF(K44=0,"",TRUNC($H44*K44,2)) | M44: =G44 -> 11.83 | N44: =IF(M44=0,"",TRUNC($H44*M44,2)) -> 162.07 | P44: =IF(O44=0,"",TRUNC($H44*O44,2)) | S44: =SUMIF($K$9:$P$9,$K$9,K44:P44) -> 11.83 | T44: =IF(S44=G44,"","FALTA") | U44: =SUMIF($K$9:$P$9,$L$9,K44:P44) -> 162.07 | V44: =IF(U44=I44,"","FALTA")
A45: 3.2.5 | B45: =VLOOKUP($A45,Orçamento!$A$9:$J$108,4,0) -> GRAUTEAMENTO DE CINTA INTERMEDIÁRIA OU DE CONTRAVERGA EM ALVENARIA ESTRUTURAL, FGK = 20 MPA. AF_06/2026 | C45: =IF(K45=0,"",CONCATENATE(K45," ",$F45)) | D45: =IF(M45=0,"",CONCATENATE(M45," ",$F45)) -> 0,17 M3 | E45: =IF(O45=0,"",CONCATENATE(O45," ",$F45)) | F45: =VLOOKUP($A45,Orçamento!$A$9:$J$108,5,0) -> M3 | G45: =VLOOKUP($A45,Orçamento!$A$9:$J$108,6,0) -> 0.17 | H45: =VLOOKUP($A45,Orçamento!$A$9:$J$108,8,0) -> 2137.41 | I45: =VLOOKUP($A45,Orçamento!$A$9:$J$108,10,0) -> 363.35 | L45: =IF(K45=0,"",TRUNC($H45*K45,2)) | M45: =G45 -> 0.17 | N45: =IF(M45=0,"",TRUNC($H45*M45,2)) -> 363.35 | P45: =IF(O45=0,"",TRUNC($H45*O45,2)) | S45: =SUMIF($K$9:$P$9,$K$9,K45:P45) -> 0.17 | T45: =IF(S45=G45,"","FALTA") | U45: =SUMIF($K$9:$P$9,$L$9,K45:P45) -> 363.35 | V45: =IF(U45=I45,"","FALTA")
A46: 3.2.6 | B46: =VLOOKUP($A46,Orçamento!$A$9:$J$108,4,0) -> GRAUTEAMENTO DE CINTA SUPERIOR OU DE VERGA EM ALVENARIA ESTRUTURAL, FGK = 20 MPA. AF_06/2026 | C46: =IF(K46=0,"",CONCATENATE(K46," ",$F46)) | D46: =IF(M46=0,"",CONCATENATE(M46," ",$F46)) -> 0,27 M3 | E46: =IF(O46=0,"",CONCATENATE(O46," ",$F46)) | F46: =VLOOKUP($A46,Orçamento!$A$9:$J$108,5,0) -> M3 | G46: =VLOOKUP($A46,Orçamento!$A$9:$J$108,6,0) -> 0.27 | H46: =VLOOKUP($A46,Orçamento!$A$9:$J$108,8,0) -> 1403.36 | I46: =VLOOKUP($A46,Orçamento!$A$9:$J$108,10,0) -> 378.9 | L46: =IF(K46=0,"",TRUNC($H46*K46,2)) | M46: =G46 -> 0.27 | N46: =IF(M46=0,"",TRUNC($H46*M46,2)) -> 378.9 | P46: =IF(O46=0,"",TRUNC($H46*O46,2)) | S46: =SUMIF($K$9:$P$9,$K$9,K46:P46) -> 0.27 | T46: =IF(S46=G46,"","FALTA") | U46: =SUMIF($K$9:$P$9,$L$9,K46:P46) -> 378.9 | V46: =IF(U46=I46,"","FALTA")
A47: 3.2.7 | B47: =VLOOKUP($A47,Orçamento!$A$9:$J$108,4,0) -> GRAUTEAMENTO VERTICAL EM ALVENARIA ESTRUTURAL, FGK = 20 MPA. AF_06/2026 | C47: =IF(K47=0,"",CONCATENATE(K47," ",$F47)) | D47: =IF(M47=0,"",CONCATENATE(M47," ",$F47)) -> 0,13 M3 | E47: =IF(O47=0,"",CONCATENATE(O47," ",$F47)) | F47: =VLOOKUP($A47,Orçamento!$A$9:$J$108,5,0) -> M3 | G47: =VLOOKUP($A47,Orçamento!$A$9:$J$108,6,0) -> 0.13 | H47: =VLOOKUP($A47,Orçamento!$A$9:$J$108,8,0) -> 1489.94 | I47: =VLOOKUP($A47,Orçamento!$A$9:$J$108,10,0) -> 193.69 | L47: =IF(K47=0,"",TRUNC($H47*K47,2)) | M47: =G47 -> 0.13 | N47: =IF(M47=0,"",TRUNC($H47*M47,2)) -> 193.69 | P47: =IF(O47=0,"",TRUNC($H47*O47,2)) | S47: =SUMIF($K$9:$P$9,$K$9,K47:P47) -> 0.13 | T47: =IF(S47=G47,"","FALTA") | U47: =SUMIF($K$9:$P$9,$L$9,K47:P47) -> 193.69 | V47: =IF(U47=I47,"","FALTA")
A48: 3.2.8 | B48: =VLOOKUP($A48,Orçamento!$A$9:$J$108,4,0) -> MONTAGEM E DESMONTAGEM DE FÔRMA DE LAJE MACIÇA, PÉ-DIREITO SIMPLES, EM CHAPA DE MADEIRA COMPENSADA RESINADA, 2 UTILIZAÇÕES. AF_09/2020 | C48: =IF(K48=0,"",CONCATENATE(K48," ",$F48)) | D48: =IF(M48=0,"",CONCATENATE(M48," ",$F48)) -> 17,76 M2 | E48: =IF(O48=0,"",CONCATENATE(O48," ",$F48)) | F48: =VLOOKUP($A48,Orçamento!$A$9:$J$108,5,0) -> M2 | G48: =VLOOKUP($A48,Orçamento!$A$9:$J$108,6,0) -> 17.76 | H48: =VLOOKUP($A48,Orçamento!$A$9:$J$108,8,0) -> 86.35 | I48: =VLOOKUP($A48,Orçamento!$A$9:$J$108,10,0) -> 1533.57 | L48: =IF(K48=0,"",TRUNC($H48*K48,2)) | M48: =G48 -> 17.76 | N48: =IF(M48=0,"",TRUNC($H48*M48,2)) -> 1533.57 | P48: =IF(O48=0,"",TRUNC($H48*O48,2)) | S48: =SUMIF($K$9:$P$9,$K$9,K48:P48) -> 17.76 | T48: =IF(S48=G48,"","FALTA") | U48: =SUMIF($K$9:$P$9,$L$9,K48:P48) -> 1533.57 | V48: =IF(U48=I48,"","FALTA")
A49: 3.2.9 | B49: =VLOOKUP($A49,Orçamento!$A$9:$J$108,4,0) -> ARMAÇÃO DE LAJE DE ESTRUTURA CONVENCIONAL DE CONCRETO ARMADO UTILIZANDO AÇO CA-50 DE 8,0 MM - MONTAGEM. AF_06/2022 | C49: =IF(K49=0,"",CONCATENATE(K49," ",$F49)) | D49: =IF(M49=0,"",CONCATENATE(M49," ",$F49)) -> 132,52 KG | E49: =IF(O49=0,"",CONCATENATE(O49," ",$F49)) | F49: =VLOOKUP($A49,Orçamento!$A$9:$J$108,5,0) -> KG | G49: =VLOOKUP($A49,Orçamento!$A$9:$J$108,6,0) -> 132.52 | H49: =VLOOKUP($A49,Orçamento!$A$9:$J$108,8,0) -> 13.55 | I49: =VLOOKUP($A49,Orçamento!$A$9:$J$108,10,0) -> 1795.64 | L49: =IF(K49=0,"",TRUNC($H49*K49,2)) | M49: =G49 -> 132.52 | N49: =IF(M49=0,"",TRUNC($H49*M49,2)) -> 1795.64 | P49: =IF(O49=0,"",TRUNC($H49*O49,2)) | S49: =SUMIF($K$9:$P$9,$K$9,K49:P49) -> 132.52 | T49: =IF(S49=G49,"","FALTA") | U49: =SUMIF($K$9:$P$9,$L$9,K49:P49) -> 1795.64 | V49: =IF(U49=I49,"","FALTA")
...
