Workbook

Sheet Orçamento
A4: PLANILHA ORÇAMENTÁRIA | I4: REV. | J4: 46287
A5: OBRA: | B5: REVITALIZAÇÃO DE PLAYGROUND NO PARQUE DA VILA FORMOSA | I5: BDI Obra: | J5: 0.2354
A6: LOCAL: | B6: RUA ARTHUR CAGLIARI, S/Nº - VILA FORMOSA, SOROCABA/SP | I6: Área (m²): | J6: 900
A8: ITEM | B8: CÓDIGO | C8: REFERÊNCIA | D8: DISCRIMINAÇÃO DO SERVIÇO | E8: UNIDADE | F8: QUANTIDADE | G8: PREÇO UNITÁRIO (S/ BDI) | H8: PREÇO UNITÁRIO (C/ BDI) | I8: PREÇO TOTAL (SEM BDI) | J8: PREÇO TOTAL (COM BDI) | K8: $ sem BDI | L8: $ com BDI | M8: Caso tenha alguma observação no item, escrever abaixo | O8: Conferências
A9: 1 | D9: SERVIÇOS PRELIMINARES | K9: =I25 -> 36727.54 | L9: =J25 -> 45354.32 | M9: OBSERVAÇÃO | N9: =A9 -> 1 | O9: =IF(L9=SUM(L10:L25),"OK","NOK") -> OK
A10: 1.1 | D10: CANTEIRO DE OBRAS | H10: SUBTOTAL | I10: =SUBTOTAL(9,I11:I14) -> 12656.52 | J10: =SUBTOTAL(9,J11:J14) -> 15635.58 | K10: =SUM(I11:I14) -> 12656.52 | L10: =SUM(J11:J14) -> 15635.58
A11: 1.1.1 | B11: 02.08.040 | C11: CDHU | D11: PLACA EM LONA COM IMPRESSÃO DIGITAL E REQUADRO EM METALON | E11: M2 | F11: 6 | G11: 450.11 | H11: =TRUNC(G11*(1+$J$5),2) -> 556.06 | I11: =TRUNC(G11*F11,2) -> 2700.66 | J11: =TRUNC(H11*F11,2) -> 3336.36
A12: 1.1.2 | B12: 02.01.180 | C12: CDHU | D12: BANHEIRO QUÍMICO MODELO STANDARD, COM MANUTENÇÃO CONFORME EXIGÊNCIAS DA CETESB | E12: UNMES | F12: 3 | G12: 1259.83 | H12: =TRUNC(G12*(1+$J$5),2) -> 1556.39 | I12: =TRUNC(G12*F12,2) -> 3779.49 | J12: =TRUNC(H12*F12,2) -> 4669.17
A13: 1.1.3 | B13: 02.02.150 | C13: CDHU | D13: LOCAÇÃO DE CONTAINER TIPO DEPÓSITO - ÁREA MÍNIMA DE 13,80 M² | E13: UNMES | F13: 3 | G13: 1010.89 | H13: =TRUNC(G13*(1+$J$5),2) -> 1248.85 | I13: =TRUNC(G13*F13,2) -> 3032.67 | J13: =TRUNC(H13*F13,2) -> 3746.55
A14: 1.1.4 | B14: 01-005-040 | C14: SIURB - EDIF | D14: TELA PARA PROTEÇÃO DE OBRAS, MALHA 2 MM | E14: M2 | F14: 90 | G14: 34.93 | H14: =TRUNC(G14*(1+$J$5),2) -> 43.15 | I14: =TRUNC(G14*F14,2) -> 3143.7 | J14: =TRUNC(H14*F14,2) -> 3883.5
A15: 1.2 | D15: LIMPEZA DO TERRENO | H15: SUBTOTAL | I15: =SUBTOTAL(9,I16:I20) -> 20952.91 | J15: =SUBTOTAL(9,J16:J20) -> 25869.37 | K15: =SUM(I16:I20) -> 20952.91 | L15: =SUM(J16:J20) -> 25869.37
A16: 1.2.1 | B16: 98525 | C16: SINAPI | D16: LIMPEZA MECANIZADA DE CAMADA VEGETAL, VEGETAÇÃO E PEQUENAS ÁRVORES (DIÂMETRO DE TRONCO MENOR QUE 0,20 M), COM TRATOR DE ESTEIRAS. AF_03/2024 | E16: M2 | F16: 900 | G16: 0.76 | H16: =TRUNC(G16*(1+$J$5),2) -> 0.93 | I16: =TRUNC(G16*F16,2) -> 684 | J16: =TRUNC(H16*F16,2) -> 837
A17: 1.2.2 | B17: 06.01.020 | C17: CDHU | D17: ESCAVAÇÃO MANUAL EM SOLO DE 1ª E 2ª CATEGORIA EM CAMPO ABERTO | E17: M3 | F17: 135 | G17: 59.75 | H17: =TRUNC(G17*(1+$J$5),2) -> 73.81 | I17: =TRUNC(G17*F17,2) -> 8066.25 | J17: =TRUNC(H17*F17,2) -> 9964.35
A18: 1.2.3 | B18: 100980 | C18: SINAPI | D18: CARGA, MANOBRA E DESCARGA DE SOLOS E MATERIAIS GRANULARES EM CAMINHÃO BASCULANTE 18 M³ - CARGA COM ESCAVADEIRA HIDRÁULICA (CAÇAMBA DE 1,20 M³ / 155 HP) E DESCARGA LIVRE (UNIDADE: M3). AF_02/2026 | E18: M3 | F18: 199.26 | G18: 6.88 | H18: =TRUNC(G18*(1+$J$5),2) -> 8.49 | I18: =TRUNC(G18*F18,2) -> 1370.9 | J18: =TRUNC(H18*F18,2) -> 1691.71
A19: 1.2.4 | B19: 95877 | C19: SINAPI | D19: TRANSPORTE COM CAMINHÃO BASCULANTE DE 18 M³, EM VIA URBANA PAVIMENTADA, DMT ATÉ 30 KM (UNIDADE: M3XKM). AF_02/2026 | E19: M3XKM | F19: 2191.86 | G19: 2.09 | H19: =TRUNC(G19*(1+$J$5),2) -> 2.58 | I19: =TRUNC(G19*F19,2) -> 4580.98 | J19: =TRUNC(H19*F19,2) -> 5654.99
A20: 1.2.5 | B20: 05.09.007 | C20: CDHU | D20: TAXA DE DESTINAÇÃO DE RESÍDUO SÓLIDO EM ATERRO, TIPO SOLO/TERRA | E20: M3 | F20: 199.26 | G20: 31.37 | H20: =TRUNC(G20*(1+$J$5),2) -> 38.75 | I20: =TRUNC(G20*F20,2) -> 6250.78 | J20: =TRUNC(H20*F20,2) -> 7721.32
A21: 1.3 | D21: RETIRADA DE ENTULHOS | H21: SUBTOTAL | I21: =SUBTOTAL(9,I22:I24) -> 3118.11 | J21: =SUBTOTAL(9,J22:J24) -> 3849.37 | K21: =SUM(I22:I24) -> 3118.11 | L21: =SUM(J22:J24) -> 3849.37
A22: 1.3.1 | B22: 04.02.140 | C22: CDHU | D22: RETIRADA DE ESTRUTURA METÁLICA | E22: KG | F22: 896.96 | G22: 2.56 | H22: =TRUNC(G22*(1+$J$5),2) -> 3.16 | I22: =TRUNC(G22*F22,2) -> 2296.21 | J22: =TRUNC(H22*F22,2) -> 2834.39
A23: 1.3.2 | B23: 04.02.030 | C23: CDHU | D23: RETIRADA DE PEÇAS LINEARES EM MADEIRA COM SEÇÃO SUPERIOR A 60 CM² | E23: M | F23: 51 | G23: 5.3 | H23: =TRUNC(G23*(1+$J$5),2) -> 6.54 | I23: =TRUNC(G23*F23,2) -> 270.3 | J23: =TRUNC(H23*F23,2) -> 333.54
A24: 1.3.3 | B24: 05.07.050 | C24: CDHU | D24: REMOÇÃO DE ENTULHO DE OBRA COM CAÇAMBA METÁLICA - MATERIAL VOLUMOSO E MISTURADO POR ALVENARIA, TERRA, MADEIRA, PAPEL, PLÁSTICO E METAL | E24: M3 | F24: 4 | G24: 137.9 | H24: =TRUNC(G24*(1+$J$5),2) -> 170.36 | I24: =TRUNC(G24*F24,2) -> 551.6 | J24: =TRUNC(H24*F24,2) -> 681.44
H25: TOTAL ITEM | I25: =SUBTOTAL(9,I10:I24) -> 36727.54 | J25: =SUBTOTAL(9,J10:J24) -> 45354.32
A26: 2 | D26: PLAYGROUND EXISTENTE | K26: =I41 -> 71157.34 | L26: =J41 -> 87896.8 | N26: =A26 -> 2 | O26: =IF(L26=SUM(L27:L40),"OK","NOK") -> OK
A27: 2.1 | D27: REVITALIZAÇÃO DOS BRINQUEDOS EXISTENTES | H27: SUBTOTAL | I27: =SUBTOTAL(9,I28:I33) -> 29611.2 | J27: =SUBTOTAL(9,J28:J33) -> 36577.81 | K27: =SUM(I28:I33) -> 29611.2 | L27: =SUM(J28:J33) -> 36577.81
A28: 2.1.1 | B28: 24.20.090 | C28: CDHU | D28: SOLDA MIG EM ESQUADRIAS METÁLICAS | E28: M | F28: 57.3 | G28: 57.39 | H28: =TRUNC(G28*(1+$J$5),2) -> 70.89 | I28: =TRUNC(G28*F28,2) -> 3288.44 | J28: =TRUNC(H28*F28,2) -> 4061.99
A29: 2.1.2 | B29: 32.09.020 | C29: CDHU | D29: CHAPA DE AÇO EM BITOLAS MEDIAS | E29: KG | F29: 24.75 | G29: 24.93 | H29: =TRUNC(G29*(1+$J$5),2) -> 30.79 | I29: =TRUNC(G29*F29,2) -> 617.01 | J29: =TRUNC(H29*F29,2) -> 762.05
A30: 2.1.3 | B30: 15.03.140 | C30: CDHU | D30: FORNECIMENTO E MONTAGEM DE ESTRUTURA TUBULAR EM AÇO ASTM-A572 GRAU 50, SEM PINTURA | E30: KG | F30: 122.15 | G30: 31.53 | H30: =TRUNC(G30*(1+$J$5),2) -> 38.95 | I30: =TRUNC(G30*F30,2) -> 3851.38 | J30: =TRUNC(H30*F30,2) -> 4757.74
A31: 2.1.4 | B31: 100717 | C31: SINAPI | D31: LIXAMENTO MANUAL EM SUPERFÍCIES METÁLICAS EM OBRA. AF_01/2020 | E31: M2 | F31: 142.19 | G31: 12.79 | H31: =TRUNC(G31*(1+$J$5),2) -> 15.8 | I31: =TRUNC(G31*F31,2) -> 1818.61 | J31: =TRUNC(H31*F31,2) -> 2246.6
A32: 2.1.5 | B32: 33.11.050 | C32: CDHU | D32: ESMALTE À BASE ÁGUA EM SUPERFÍCIE METÁLICA, INCLUSIVE PREPARO | E32: M2 | F32: 361.16 | G32: 55.3 | H32: =TRUNC(G32*(1+$J$5),2) -> 68.31 | I32: =TRUNC(G32*F32,2) -> 19972.14 | J32: =TRUNC(H32*F32,2) -> 24670.83
A33: 2.1.6 | B33: 17-003-065 | C33: SIURB - EDIF | D33: TELA DE NYLON PARA COBERTURA DE QUADRA | E33: M2 | F33: 2.4 | G33: 26.51 | H33: =TRUNC(G33*(1+$J$5),2) -> 32.75 | I33: =TRUNC(G33*F33,2) -> 63.62 | J33: =TRUNC(H33*F33,2) -> 78.6
A34: 2.2 | D34: RECOMPOSIÇÃO DO TANQUE DE AREIA | H34: SUBTOTAL | I34: =SUBTOTAL(9,I35) -> 28834.65 | J34: =SUBTOTAL(9,J35) -> 35621.1 | K34: =SUM(I35) -> 28834.65 | L34: =SUM(J35) -> 35621.1
A35: 2.2.1 | B35: 18-013-046 | C35: SIURB - EDIF | D35: RV.11 - TANQUE DE AREIA - GENÉRICO - FORNECIMENTO E APLICAÇÃO DE AREIA LAVADA | E35: M3 | F35: 135 | G35: 213.59 | H35: =TRUNC(G35*(1+$J$5),2) -> 263.86 | I35: =TRUNC(G35*F35,2) -> 28834.65 | J35: =TRUNC(H35*F35,2) -> 35621.1
A36: 2.3 | D36: EQUIPAMENTOS NOVOS | H36: SUBTOTAL | I36: =SUBTOTAL(9,I37:I38) -> 9769.39 | J36: =SUBTOTAL(9,J37:J38) -> 12069.09 | K36: =SUM(I37:I38) -> 9769.39 | L36: =SUM(J37:J38) -> 12069.09
A37: 2.3.1 | B37: 103195 | C37: SINAPI | D37: INSTALAÇÃO DE PLACA ORIENTATIVA SOBRE EXERCÍCIOS, 2,00M X 1,00M, EM TUBO DE AÇO CARBONO - PARA ACADEMIA AO AR LIVRE / ACADEMIA DA TERCEIRA IDADE - ATI, INSTALADO SOBRE SOLO. AF_10/2021 | E37: UN | F37: 1 | G37: 2222.25 | H37: =TRUNC(G37*(1+$J$5),2) -> 2745.36 | I37: =TRUNC(G37*F37,2) -> 2222.25 | J37: =TRUNC(H37*F37,2) -> 2745.36
A38: 2.3.2 | B38: 17-003-063 | C38: SIURB - EDIF | D38: TABELA PARA BASQUETE, ENGLOBANDO DESDE FUNDAÇÃO ATÉ A CESTA DE NYLON | E38: UN | F38: 1 | G38: 7547.14 | H38: =TRUNC(G38*(1+$J$5),2) -> 9323.73 | I38: =TRUNC(G38*F38,2) -> 7547.14 | J38: =TRUNC(H38*F38,2) -> 9323.73
A39: 2.4 | D39: LIMPEZA DO PISO | H39: SUBTOTAL | I39: =SUBTOTAL(9,I40) -> 2942.1 | J39: =SUBTOTAL(9,J40) -> 3628.8 | K39: =SUM(I40) -> 2942.1 | L39: =SUM(J40) -> 3628.8
A40: 2.4.1 | B40: 03-040-005 | C40: SIURB - EDIF | D40: LIMPEZA DE SUPERFÍCIES COM HIDROJATEAMENTO | E40: M2 | F40: 630 | G40: 4.67 | H40: =TRUNC(G40*(1+$J$5),2) -> 5.76 | I40: =TRUNC(G40*F40,2) -> 2942.1 | J40: =TRUNC(H40*F40,2) -> 3628.8
H41: TOTAL ITEM | I41: =SUBTOTAL(9,I27:I40) -> 71157.34 | J41: =SUBTOTAL(9,J27:J40) -> 87896.8
A42: 3 | D42: REVITALIZAÇÕES DO ENTORNO | K42: =I56 -> 21992.71 | L42: =J56 -> 27164.97 | N42: =A42 -> 3 | O42: =IF(L42=SUM(L43:L55),"OK","NOK") -> OK
A43: 3.1 | D43: ACADEMIA AO AR LIVRE | H43: SUBTOTAL | I43: =SUBTOTAL(9,I44:I45) -> 2950.77 | J43: =SUBTOTAL(9,J44:J45) -> 3643.92 | K43: =SUM(I44:I45) -> 2950.77 | L43: =SUM(J44:J45) -> 3643.92
A44: 3.1.1 | B44: 103195 | C44: SINAPI | D44: INSTALAÇÃO DE PLACA ORIENTATIVA SOBRE EXERCÍCIOS, 2,00M X 1,00M, EM TUBO DE AÇO CARBONO - PARA ACADEMIA AO AR LIVRE / ACADEMIA DA TERCEIRA IDADE - ATI, INSTALADO SOBRE SOLO. AF_10/2021 | E44: UN | F44: 1 | G44: 2222.25 | H44: =TRUNC(G44*(1+$J$5),2) -> 2745.36 | I44: =TRUNC(G44*F44,2) -> 2222.25 | J44: =TRUNC(H44*F44,2) -> 2745.36
...

Sheet Composições Abertas
A4: COMPOSIÇÕES | H4: REV. | I4: =Orçamento!J4 -> 46287
A5: OBRA: | B5: =Orçamento!B5 -> REVITALIZAÇÃO DE PLAYGROUND NO PARQUE DA VILA FORMOSA | H5: BDI Obra: | I5: =Orçamento!J5 -> 0.2354
A6: LOCAL: | B6: =Orçamento!B6 -> RUA ARTHUR CAGLIARI, S/Nº - VILA FORMOSA, SOROCABA/SP | H6: Área (m²): | I6: =Orçamento!J6 -> 900
A8: TIPO / ITEM | B8: BASE | C8: CÓDIGO / REF. | D8: DESCRIÇÃO | E8: UNID | F8: COEF. / QTD | G8: PREÇO UNIT. | H8: CUSTO TOTAL | I8: CONFERÊNCIA
A9: 1.1.1 | B9: CDHU | C9: 02.08.040 | D9: PLACA EM LONA COM IMPRESSÃO DIGITAL E REQUADRO EM METALON | E9: M2 | F9: QTD: 6 | G9: =SUM(H10:H13) -> 450.11 | H9: =TRUNC(G9 * VALUE(SUBSTITUTE(F9,"QTD: ","")), 2) -> 2700.66 | I9: =IF(ROUND(ABS(G9-Orçamento!G11),2)<0.01,"OK","DIVERGENTE") -> OK
A10: INSUMO | B10: CDHU | C10: B.01.000.010144 | D10: SERRALHEIRO | E10: H | F10: 0,5 | G10: 37.91 | H10: =ROUND(F10*G10,2) -> 18.96
A11: INSUMO | B11: CDHU | C11: B.01.000.010145 | D11: AJUDANTE SERRALHEIRO | E11: H | F11: 0,5 | G11: 23.9 | H11: =ROUND(F11*G11,2) -> 11.95
A12: INSUMO | B12: CDHU | C12: N.04.000.039114 | D12: BANNER EM LONA COM IMPRESSÃO DIGITALMENTE, COM BAINHA REFORÇADA E ILHOSES | E12: M2 | F12: 1 | G12: 113.44 | H12: =ROUND(F12*G12,2) -> 113.44
A13: INSUMO | B13: CDHU | C13: N.04.000.039115 | D13: REQUADRO EM METALON PARA BANNER EM LONA IMPRESSO | E13: M | F13: 0,917 | G13: 333.43 | H13: =ROUND(F13*G13,2) -> 305.76
A15: 1.1.2 | B15: CDHU | C15: 02.01.180 | D15: BANHEIRO QUÍMICO MODELO STANDARD, COM MANUTENÇÃO CONFORME EXIGÊNCIAS DA CETESB | E15: UNMES | F15: QTD: 3 | G15: =SUM(H16) -> 1259.83 | H15: =TRUNC(G15 * VALUE(SUBSTITUTE(F15,"QTD: ","")), 2) -> 3779.49 | I15: =IF(ROUND(ABS(G15-Orçamento!G12),2)<0.01,"OK","DIVERGENTE") -> OK
A16: INSUMO | B16: CDHU | C16: A.14.000.081900 | D16: BANHEIRO QUÍMICO, MODELO STANDARD, COM LIMPEZA 1 VEZ POR SEMANA E DESCARTE CONFORME EXIGÊNCIAS DA CETESB | E16: UNMES | F16: 1 | G16: 1259.83 | H16: =ROUND(F16*G16,2) -> 1259.83
A18: 1.1.3 | B18: CDHU | C18: 02.02.150 | D18: LOCAÇÃO DE CONTAINER TIPO DEPÓSITO - ÁREA MÍNIMA DE 13,80 M² | E18: UNMES | F18: QTD: 3 | G18: =SUM(H19:H22) -> 1010.89 | H18: =TRUNC(G18 * VALUE(SUBSTITUTE(F18,"QTD: ","")), 2) -> 3032.67 | I18: =IF(ROUND(ABS(G18-Orçamento!G13),2)<0.01,"OK","DIVERGENTE") -> OK
A19: INSUMO | B19: CDHU | C19: A.12.000.021099 | D19: CONTAINER DEPÓSITO, MÓDULO METÁLICO EM AÇO GALVANIZADO DE 6,0X2,3X2,5M, VÃO LIVRE, PISO DE CONCRETO, CIMENTADO, MADEIRA OU MATERIAL EQUIVALENTE | E19: UNMES | F19: 1 | G19: 913.31 | H19: =ROUND(F19*G19,2) -> 913.31
A20: INSUMO | B20: CDHU | C20: B.01.000.010101 | D20: AJUDANTE GERAL | E20: H | F20: 1,32 | G20: 23.9 | H20: =ROUND(F20*G20,2) -> 31.55
A21: INSUMO | B21: CDHU | C21: B.01.000.010115 | D21: ELETRICISTA | E21: H | F21: 0,99 | G21: 34.83 | H21: =ROUND(F21*G21,2) -> 34.48
A22: INSUMO | B22: CDHU | C22: B.01.000.010116 | D22: AJUDANTE ELETRICISTA | E22: H | F22: 1,32 | G22: 23.9 | H22: =ROUND(F22*G22,2) -> 31.55
A24: 1.1.4 | B24: SIURB - EDIF | C24: 01-005-040 | D24: TELA PARA PROTEÇÃO DE OBRAS, MALHA 2 MM | E24: M2 | F24: QTD: 90 | G24: =SUM(H25:H30) -> 34.93 | H24: =TRUNC(G24 * VALUE(SUBSTITUTE(F24,"QTD: ","")), 2) -> 3143.7 | I24: =IF(ROUND(ABS(G24-Orçamento!G14),2)<0.01,"OK","DIVERGENTE") -> OK
A25: INSUMO | B25: SIURB - EDIF | C25: 02013 | D25: CARPINTEIRO (SGSP) | E25: H | F25: 0,44 | G25: 35.1 | H25: =ROUND(F25*G25,2) -> 15.44
A26: INSUMO | B26: SIURB - EDIF | C26: 02099 | D26: SERVENTE (SGSP) | E26: H | F26: 0,53 | G26: 27.12 | H26: =ROUND(F26*G26,2) -> 14.37
A27: INSUMO | B27: SIURB - EDIF | C27: 11046 | D27: PINUS - PONTALETE DE 3" X 3" - BRUTO | E27: M | F27: 0,06 | G27: 7.59 | H27: =ROUND(F27*G27,2) -> 0.46
A28: INSUMO | B28: SIURB - EDIF | C28: 11066 | D28: PINUS - SARRAFO DE 1" X 4" - BRUTO | E28: M | F28: 0,2 | G28: 3.2 | H28: =ROUND(F28*G28,2) -> 0.64
A29: INSUMO | B29: SIURB - EDIF | C29: 17515 | D29: PREGO 18 X 27 COMUM - POLIDO | E29: Kg | F29: 0,01 | G29: 10.98 | H29: =ROUND(F29*G29,2) -> 0.11
A30: INSUMO | B30: SIURB - EDIF | C30: 38043 | D30: TELA POLIETILENO P/ PROTEÇÃO DE FACHADA-TRAMA 2,2MM | E30: M2 | F30: 1,1 | G30: 3.55 | H30: =ROUND(F30*G30,2) -> 3.91
A32: 1.2.1 | B32: SINAPI | C32: 98525 | D32: LIMPEZA MECANIZADA DE CAMADA VEGETAL, VEGETAÇÃO E PEQUENAS ÁRVORES (DIÂMETRO DE TRONCO MENOR QUE 0,20 M), COM TRATOR DE ESTEIRAS. AF_03/2024 | E32: M2 | F32: QTD: 900 | G32: =SUM(H33:H35) -> 0.76 | H32: =TRUNC(G32 * VALUE(SUBSTITUTE(F32,"QTD: ","")), 2) -> 684 | I32: =IF(ROUND(ABS(G32-Orçamento!G16),2)<0.01,"OK","DIVERGENTE") -> OK
A33: AUXILIAR (N1) | B33: SINAPI | C33: 89032 | D33: TRATOR DE ESTEIRAS, POTÊNCIA 100 HP, PESO OPERACIONAL 9,4 T, COM LÂMINA 2,19 M3 - CHP DIURNO. AF_06/2014 | E33: CHP | F33: 0,0017 | G33: 215.94 | H33: =TRUNC(F33*G33,2) -> 0.36 | I33: =IFERROR(IF(ROUND(G33, 2) <> ROUND(VLOOKUP("C"&C33,C:G, 5, FALSE), 2), "VALOR AUXILIAR DIVERGENTE", "OK"), "NÃO ENCONTRADO") -> OK
A34: AUXILIAR (N1) | B34: SINAPI | C34: 89031 | D34: TRATOR DE ESTEIRAS, POTÊNCIA 100 HP, PESO OPERACIONAL 9,4 T, COM LÂMINA 2,19 M3 - CHI DIURNO. AF_06/2014 | E34: CHI | F34: 0,0029 | G34: 88.36 | H34: =TRUNC(F34*G34,2) -> 0.25 | I34: =IFERROR(IF(ROUND(G34, 2) <> ROUND(VLOOKUP("C"&C34,C:G, 5, FALSE), 2), "VALOR AUXILIAR DIVERGENTE", "OK"), "NÃO ENCONTRADO") -> OK
A35: AUXILIAR (N1) | B35: SINAPI | C35: 88441 | D35: JARDINEIRO COM ENCARGOS COMPLEMENTARES | E35: H | F35: 0,0046 | G35: 33.53 | H35: =TRUNC(F35*G35,2) -> 0.15 | I35: =IFERROR(IF(ROUND(G35, 2) <> ROUND(VLOOKUP("C"&C35,C:G, 5, FALSE), 2), "VALOR AUXILIAR DIVERGENTE", "OK"), "NÃO ENCONTRADO") -> OK
A37: 1.2.2 | B37: CDHU | C37: 06.01.020 | D37: ESCAVAÇÃO MANUAL EM SOLO DE 1ª E 2ª CATEGORIA EM CAMPO ABERTO | E37: M3 | F37: QTD: 135 | G37: =SUM(H38) -> 59.75 | H37: =TRUNC(G37 * VALUE(SUBSTITUTE(F37,"QTD: ","")), 2) -> 8066.25 | I37: =IF(ROUND(ABS(G37-Orçamento!G17),2)<0.01,"OK","DIVERGENTE") -> OK
A38: INSUMO | B38: CDHU | C38: B.01.000.010146 | D38: SERVENTE | E38: H | F38: 2,5 | G38: 23.9 | H38: =ROUND(F38*G38,2) -> 59.75
A40: 1.2.3 | B40: SINAPI | C40: 100980 | D40: CARGA, MANOBRA E DESCARGA DE SOLOS E MATERIAIS GRANULARES EM CAMINHÃO BASCULANTE 18 M³ - CARGA COM ESCAVADEIRA HIDRÁULICA (CAÇAMBA DE 1,20 M³ / 155 HP) E DESCARGA LIVRE (UNIDADE: M3). AF_02/2026 | E40: M3 | F40: QTD: 199,26 | G40: =SUM(H41:H44) -> 6.88 | H40: =TRUNC(G40 * VALUE(SUBSTITUTE(F40,"QTD: ","")), 2) -> 1370.9 | I40: =IF(ROUND(ABS(G40-Orçamento!G18),2)<0.01,"OK","DIVERGENTE") -> OK
A41: AUXILIAR (N1) | B41: SINAPI | C41: 89884 | D41: CAMINHÃO BASCULANTE 18 M3, COM CAVALO MECÂNICO DE CAPACIDADE MÁXIMA DE TRAÇÃO COMBINADO DE 45000 KG, POTÊNCIA 330 CV, INCLUSIVE SEMIREBOQUE COM CAÇAMBA METÁLICA - CHI DIURNO. AF_12/2014 | E41: CHI | F41: 0,0071014 | G41: 104.24 | H41: =TRUNC(F41*G41,2) -> 0.74 | I41: =IFERROR(IF(ROUND(G41, 2) <> ROUND(VLOOKUP("C"&C41,C:G, 5, FALSE), 2), "VALOR AUXILIAR DIVERGENTE", "OK"), "NÃO ENCONTRADO") -> OK
A42: AUXILIAR (N1) | B42: SINAPI | C42: 89883 | D42: CAMINHÃO BASCULANTE 18 M3, COM CAVALO MECÂNICO DE CAPACIDADE MÁXIMA DE TRAÇÃO COMBINADO DE 45000 KG, POTÊNCIA 330 CV, INCLUSIVE SEMIREBOQUE COM CAÇAMBA METÁLICA - CHP DIURNO. AF_12/2014 | E42: CHP | F42: 0,0110732 | G42: 396.81 | H42: =TRUNC(F42*G42,2) -> 4.39 | I42: =IFERROR(IF(ROUND(G42, 2) <> ROUND(VLOOKUP("C"&C42,C:G, 5, FALSE), 2), "VALOR AUXILIAR DIVERGENTE", "OK"), "NÃO ENCONTRADO") -> OK
A43: AUXILIAR (N1) | B43: SINAPI | C43: 88908 | D43: ESCAVADEIRA HIDRÁULICA SOBRE ESTEIRAS, CAÇAMBA 1,20 M3, PESO OPERACIONAL 21 T, POTÊNCIA BRUTA 155 HP - CHI DIURNO. AF_06/2014 | E43: CHI | F43: 0,0053852 | G43: 115.87 | H43: =TRUNC(F43*G43,2) -> 0.62 | I43: =IFERROR(IF(ROUND(G43, 2) <> ROUND(VLOOKUP("C"&C43,C:G, 5, FALSE), 2), "VALOR AUXILIAR DIVERGENTE", "OK"), "NÃO ENCONTRADO") -> OK
A44: AUXILIAR (N1) | B44: SINAPI | C44: 88907 | D44: ESCAVADEIRA HIDRÁULICA SOBRE ESTEIRAS, CAÇAMBA 1,20 M3, PESO OPERACIONAL 21 T, POTÊNCIA BRUTA 155 HP - CHP DIURNO. AF_06/2014 | E44: CHP | F44: 0,0040582 | G44: 280.43 | H44: =TRUNC(F44*G44,2) -> 1.13 | I44: =IFERROR(IF(ROUND(G44, 2) <> ROUND(VLOOKUP("C"&C44,C:G, 5, FALSE), 2), "VALOR AUXILIAR DIVERGENTE", "OK"), "NÃO ENCONTRADO") -> OK
A46: 1.2.4 | B46: SINAPI | C46: 95877 | D46: TRANSPORTE COM CAMINHÃO BASCULANTE DE 18 M³, EM VIA URBANA PAVIMENTADA, DMT ATÉ 30 KM (UNIDADE: M3XKM). AF_02/2026 | E46: M3XKM | F46: QTD: 2191,86 | G46: =SUM(H47:H48) -> 2.09 | H46: =TRUNC(G46 * VALUE(SUBSTITUTE(F46,"QTD: ","")), 2) -> 4580.98 | I46: =IF(ROUND(ABS(G46-Orçamento!G19),2)<0.01,"OK","DIVERGENTE") -> OK
A47: AUXILIAR (N1) | B47: SINAPI | C47: 89884 | D47: CAMINHÃO BASCULANTE 18 M3, COM CAVALO MECÂNICO DE CAPACIDADE MÁXIMA DE TRAÇÃO COMBINADO DE 45000 KG, POTÊNCIA 330 CV, INCLUSIVE SEMIREBOQUE COM CAÇAMBA METÁLICA - CHI DIURNO. AF_12/2014 | E47: CHI | F47: 0,0018152 | G47: 104.24 | H47: =TRUNC(F47*G47,2) -> 0.18 | I47: =IFERROR(IF(ROUND(G47, 2) <> ROUND(VLOOKUP("C"&C47,C:G, 5, FALSE), 2), "VALOR AUXILIAR DIVERGENTE", "OK"), "NÃO ENCONTRADO") -> OK
A48: AUXILIAR (N1) | B48: SINAPI | C48: 89883 | D48: CAMINHÃO BASCULANTE 18 M3, COM CAVALO MECÂNICO DE CAPACIDADE MÁXIMA DE TRAÇÃO COMBINADO DE 45000 KG, POTÊNCIA 330 CV, INCLUSIVE SEMIREBOQUE COM CAÇAMBA METÁLICA - CHP DIURNO. AF_12/2014 | E48: CHP | F48: 0,0048309 | G48: 396.81 | H48: =TRUNC(F48*G48,2) -> 1.91 | I48: =IFERROR(IF(ROUND(G48, 2) <> ROUND(VLOOKUP("C"&C48,C:G, 5, FALSE), 2), "VALOR AUXILIAR DIVERGENTE", "OK"), "NÃO ENCONTRADO") -> OK
A50: 1.2.5 | B50: CDHU | C50: 05.09.007 | D50: TAXA DE DESTINAÇÃO DE RESÍDUO SÓLIDO EM ATERRO, TIPO SOLO/TERRA | E50: M3 | F50: QTD: 199,26 | G50: =SUM(H51) -> 31.37 | H50: =TRUNC(G50 * VALUE(SUBSTITUTE(F50,"QTD: ","")), 2) -> 6250.78 | I50: =IF(ROUND(ABS(G50-Orçamento!G20),2)<0.01,"OK","DIVERGENTE") -> OK
A51: INSUMO | B51: CDHU | C51: A.05.000.020306 | D51: TAXA DE DESTINAÇÃO DE RESÍDUO SÓLIDO EM ATERRO, TIPO SOLO/TERRA | E51: M3 | F51: 1 | G51: 31.37 | H51: =ROUND(F51*G51,2) -> 31.37
A53: 1.3.1 | B53: CDHU | C53: 04.02.140 | D53: RETIRADA DE ESTRUTURA METÁLICA | E53: KG | F53: QTD: 896,96 | G53: =SUM(H54) -> 2.56 | H53: =TRUNC(G53 * VALUE(SUBSTITUTE(F53,"QTD: ","")), 2) -> 2296.21 | I53: =IF(ROUND(ABS(G53-Orçamento!G22),2)<0.01,"OK","DIVERGENTE") -> OK
...

Sheet Cronograma Auxiliar
A1: NÃO ALTERAR ESSA ABA. TRATA-SE DE BASE DE DADOS PARA AS DEMAIS. NÃO É NECESSÁRIA A IMPRESSÃO.
L6: =COLUMN() -> 12 | N6: =COLUMN() -> 14 | P6: =COLUMN() -> 16
A8: ITEM | B8: DISCRIMINAÇÃO DO SERVIÇO | C8: 1º MÊS | D8: 2º MÊS | E8: 3º MÊS | F8: UNIDADE | G8: QUANTIDADE TOTAL | H8: PREÇO UNITÁRIO (C/ BDI) | I8: PREÇO TOTAL (COM BDI) | K8: 1º MÊS | M8: 2º MÊS | O8: 3º MÊS | S8: CONFERÊNCIA
A9: 1 | B9: =VLOOKUP($A9,Orçamento!$A$9:$J$95,4,0) -> SERVIÇOS PRELIMINARES | K9: QTDE | L9: Valor | M9: QTDE | N9: Valor | O9: QTDE | P9: Valor
A10: 1.1 | B10: =VLOOKUP($A10,Orçamento!$A$9:$J$95,4,0) -> CANTEIRO DE OBRAS | C10: EVENTO 1 | D10: EVENTO 2 | E10: EVENTO 3 | L10: =SUM(L11:L14) -> 10025.1 | N10: =SUM(N11:N14) -> 2805.24 | P10: =SUM(P11:P14) -> 2805.24
A11: 1.1.1 | B11: =VLOOKUP($A11,Orçamento!$A$9:$J$95,4,0) -> PLACA EM LONA COM IMPRESSÃO DIGITAL E REQUADRO EM METALON | C11: =IF(K11=0,"",CONCATENATE(K11," ",$F11)) -> 6 M2 | D11: =IF(M11=0,"",CONCATENATE(M11," ",$F11)) | E11: =IF(O11=0,"",CONCATENATE(O11," ",$F11)) | F11: =VLOOKUP($A11,Orçamento!$A$9:$J$95,5,0) -> M2 | G11: =VLOOKUP($A11,Orçamento!$A$9:$J$95,6,0) -> 6 | H11: =VLOOKUP($A11,Orçamento!$A$9:$J$95,8,0) -> 556.06 | I11: =VLOOKUP($A11,Orçamento!$A$9:$J$95,10,0) -> 3336.36 | K11: 6 | L11: =IF(K11=0,"",TRUNC($H11*K11,2)) -> 3336.36 | N11: =IF(M11=0,"",TRUNC($H11*M11,2)) | P11: =IF(O11=0,"",TRUNC($H11*O11,2)) | S11: =SUMIF($K$9:$P$9,$K$9,K11:P11) -> 6 | T11: =IF(S11=G11,"","FALTA") | U11: =SUMIF($K$9:$P$9,$L$9,K11:P11) -> 3336.36 | V11: =IF(U11=I11,"","FALTA")
A12: 1.1.2 | B12: =VLOOKUP($A12,Orçamento!$A$9:$J$95,4,0) -> BANHEIRO QUÍMICO MODELO STANDARD, COM MANUTENÇÃO CONFORME EXIGÊNCIAS DA CETESB | C12: =IF(K12=0,"",CONCATENATE(K12," ",$F12)) -> 1 UNMES | D12: =IF(M12=0,"",CONCATENATE(M12," ",$F12)) -> 1 UNMES | E12: =IF(O12=0,"",CONCATENATE(O12," ",$F12)) -> 1 UNMES | F12: =VLOOKUP($A12,Orçamento!$A$9:$J$95,5,0) -> UNMES | G12: =VLOOKUP($A12,Orçamento!$A$9:$J$95,6,0) -> 3 | H12: =VLOOKUP($A12,Orçamento!$A$9:$J$95,8,0) -> 1556.39 | I12: =VLOOKUP($A12,Orçamento!$A$9:$J$95,10,0) -> 4669.17 | K12: 1 | L12: =IF(K12=0,"",TRUNC($H12*K12,2)) -> 1556.39 | M12: 1 | N12: =IF(M12=0,"",TRUNC($H12*M12,2)) -> 1556.39 | O12: 1 | P12: =IF(O12=0,"",TRUNC($H12*O12,2)) -> 1556.39 | S12: =SUMIF($K$9:$P$9,$K$9,K12:P12) -> 3 | T12: =IF(S12=G12,"","FALTA") | U12: =SUMIF($K$9:$P$9,$L$9,K12:P12) -> 4669.17 | V12: =IF(U12=I12,"","FALTA")
A13: 1.1.3 | B13: =VLOOKUP($A13,Orçamento!$A$9:$J$95,4,0) -> LOCAÇÃO DE CONTAINER TIPO DEPÓSITO - ÁREA MÍNIMA DE 13,80 M² | C13: =IF(K13=0,"",CONCATENATE(K13," ",$F13)) -> 1 UNMES | D13: =IF(M13=0,"",CONCATENATE(M13," ",$F13)) -> 1 UNMES | E13: =IF(O13=0,"",CONCATENATE(O13," ",$F13)) -> 1 UNMES | F13: =VLOOKUP($A13,Orçamento!$A$9:$J$95,5,0) -> UNMES | G13: =VLOOKUP($A13,Orçamento!$A$9:$J$95,6,0) -> 3 | H13: =VLOOKUP($A13,Orçamento!$A$9:$J$95,8,0) -> 1248.85 | I13: =VLOOKUP($A13,Orçamento!$A$9:$J$95,10,0) -> 3746.55 | K13: 1 | L13: =IF(K13=0,"",TRUNC($H13*K13,2)) -> 1248.85 | M13: 1 | N13: =IF(M13=0,"",TRUNC($H13*M13,2)) -> 1248.85 | O13: 1 | P13: =IF(O13=0,"",TRUNC($H13*O13,2)) -> 1248.85 | S13: =SUMIF($K$9:$P$9,$K$9,K13:P13) -> 3 | T13: =IF(S13=G13,"","FALTA") | U13: =SUMIF($K$9:$P$9,$L$9,K13:P13) -> 3746.55 | V13: =IF(U13=I13,"","FALTA")
A14: 1.1.4 | B14: =VLOOKUP($A14,Orçamento!$A$9:$J$95,4,0) -> TELA PARA PROTEÇÃO DE OBRAS, MALHA 2 MM | C14: =IF(K14=0,"",CONCATENATE(K14," ",$F14)) -> 90 M2 | D14: =IF(M14=0,"",CONCATENATE(M14," ",$F14)) | E14: =IF(O14=0,"",CONCATENATE(O14," ",$F14)) | F14: =VLOOKUP($A14,Orçamento!$A$9:$J$95,5,0) -> M2 | G14: =VLOOKUP($A14,Orçamento!$A$9:$J$95,6,0) -> 90 | H14: =VLOOKUP($A14,Orçamento!$A$9:$J$95,8,0) -> 43.15 | I14: =VLOOKUP($A14,Orçamento!$A$9:$J$95,10,0) -> 3883.5 | K14: 90 | L14: =IF(K14=0,"",TRUNC($H14*K14,2)) -> 3883.5 | N14: =IF(M14=0,"",TRUNC($H14*M14,2)) | P14: =IF(O14=0,"",TRUNC($H14*O14,2)) | S14: =SUMIF($K$9:$P$9,$K$9,K14:P14) -> 90 | T14: =IF(S14=G14,"","FALTA") | U14: =SUMIF($K$9:$P$9,$L$9,K14:P14) -> 3883.5 | V14: =IF(U14=I14,"","FALTA")
A16: 1.2 | B16: =VLOOKUP($A16,Orçamento!$A$9:$J$95,4,0) -> LIMPEZA DO TERRENO | C16: EVENTO 4 | L16: =SUM(L17:L21) -> 25869.37 | N16: =SUM(N17:N21) -> 0 | P16: =SUM(P17:P21) -> 0
A17: 1.2.1 | B17: =VLOOKUP($A17,Orçamento!$A$9:$J$95,4,0) -> LIMPEZA MECANIZADA DE CAMADA VEGETAL, VEGETAÇÃO E PEQUENAS ÁRVORES (DIÂMETRO DE TRONCO MENOR QUE 0,20 M), COM TRATOR DE ESTEIRAS. AF_03/2024 | C17: =IF(K17=0,"",CONCATENATE(K17," ",$F17)) -> 900 M2 | D17: =IF(M17=0,"",CONCATENATE(M17," ",$F17)) | E17: =IF(O17=0,"",CONCATENATE(O17," ",$F17)) | F17: =VLOOKUP($A17,Orçamento!$A$9:$J$95,5,0) -> M2 | G17: =VLOOKUP($A17,Orçamento!$A$9:$J$95,6,0) -> 900 | H17: =VLOOKUP($A17,Orçamento!$A$9:$J$95,8,0) -> 0.93 | I17: =VLOOKUP($A17,Orçamento!$A$9:$J$95,10,0) -> 837 | K17: 900 | L17: =IF(K17=0,"",TRUNC($H17*K17,2)) -> 837 | N17: =IF(M17=0,"",TRUNC($H17*M17,2)) | P17: =IF(O17=0,"",TRUNC($H17*O17,2)) | S17: =SUMIF($K$9:$P$9,$K$9,K17:P17) -> 900 | T17: =IF(S17=G17,"","FALTA") | U17: =SUMIF($K$9:$P$9,$L$9,K17:P17) -> 837 | V17: =IF(U17=I17,"","FALTA")
A18: 1.2.2 | B18: =VLOOKUP($A18,Orçamento!$A$9:$J$95,4,0) -> ESCAVAÇÃO MANUAL EM SOLO DE 1ª E 2ª CATEGORIA EM CAMPO ABERTO | C18: =IF(K18=0,"",CONCATENATE(K18," ",$F18)) -> 135 M3 | D18: =IF(M18=0,"",CONCATENATE(M18," ",$F18)) | E18: =IF(O18=0,"",CONCATENATE(O18," ",$F18)) | F18: =VLOOKUP($A18,Orçamento!$A$9:$J$95,5,0) -> M3 | G18: =VLOOKUP($A18,Orçamento!$A$9:$J$95,6,0) -> 135 | H18: =VLOOKUP($A18,Orçamento!$A$9:$J$95,8,0) -> 73.81 | I18: =VLOOKUP($A18,Orçamento!$A$9:$J$95,10,0) -> 9964.35 | K18: 135 | L18: =IF(K18=0,"",TRUNC($H18*K18,2)) -> 9964.35 | N18: =IF(M18=0,"",TRUNC($H18*M18,2)) | P18: =IF(O18=0,"",TRUNC($H18*O18,2)) | S18: =SUMIF($K$9:$P$9,$K$9,K18:P18) -> 135 | T18: =IF(S18=G18,"","FALTA") | U18: =SUMIF($K$9:$P$9,$L$9,K18:P18) -> 9964.35 | V18: =IF(U18=I18,"","FALTA")
A19: 1.2.3 | B19: =VLOOKUP($A19,Orçamento!$A$9:$J$95,4,0) -> CARGA, MANOBRA E DESCARGA DE SOLOS E MATERIAIS GRANULARES EM CAMINHÃO BASCULANTE 18 M³ - CARGA COM ESCAVADEIRA HIDRÁULICA (CAÇAMBA DE 1,20 M³ / 155 HP) E DESCARGA LIVRE (UNIDADE: M3). AF_02/2026 | C19: =IF(K19=0,"",CONCATENATE(K19," ",$F19)) -> 199,26 M3 | D19: =IF(M19=0,"",CONCATENATE(M19," ",$F19)) | E19: =IF(O19=0,"",CONCATENATE(O19," ",$F19)) | F19: =VLOOKUP($A19,Orçamento!$A$9:$J$95,5,0) -> M3 | G19: =VLOOKUP($A19,Orçamento!$A$9:$J$95,6,0) -> 199.26 | H19: =VLOOKUP($A19,Orçamento!$A$9:$J$95,8,0) -> 8.49 | I19: =VLOOKUP($A19,Orçamento!$A$9:$J$95,10,0) -> 1691.71 | K19: 199.26 | L19: =IF(K19=0,"",TRUNC($H19*K19,2)) -> 1691.71 | N19: =IF(M19=0,"",TRUNC($H19*M19,2)) | P19: =IF(O19=0,"",TRUNC($H19*O19,2)) | S19: =SUMIF($K$9:$P$9,$K$9,K19:P19) -> 199.26 | T19: =IF(S19=G19,"","FALTA") | U19: =SUMIF($K$9:$P$9,$L$9,K19:P19) -> 1691.71 | V19: =IF(U19=I19,"","FALTA")
A20: 1.2.4 | B20: =VLOOKUP($A20,Orçamento!$A$9:$J$95,4,0) -> TRANSPORTE COM CAMINHÃO BASCULANTE DE 18 M³, EM VIA URBANA PAVIMENTADA, DMT ATÉ 30 KM (UNIDADE: M3XKM). AF_02/2026 | C20: =IF(K20=0,"",CONCATENATE(K20," ",$F20)) -> 2191,86 M3XKM | D20: =IF(M20=0,"",CONCATENATE(M20," ",$F20)) | E20: =IF(O20=0,"",CONCATENATE(O20," ",$F20)) | F20: =VLOOKUP($A20,Orçamento!$A$9:$J$95,5,0) -> M3XKM | G20: =VLOOKUP($A20,Orçamento!$A$9:$J$95,6,0) -> 2191.86 | H20: =VLOOKUP($A20,Orçamento!$A$9:$J$95,8,0) -> 2.58 | I20: =VLOOKUP($A20,Orçamento!$A$9:$J$95,10,0) -> 5654.99 | K20: 2191.86 | L20: =IF(K20=0,"",TRUNC($H20*K20,2)) -> 5654.99 | N20: =IF(M20=0,"",TRUNC($H20*M20,2)) | P20: =IF(O20=0,"",TRUNC($H20*O20,2)) | S20: =SUMIF($K$9:$P$9,$K$9,K20:P20) -> 2191.86 | T20: =IF(S20=G20,"","FALTA") | U20: =SUMIF($K$9:$P$9,$L$9,K20:P20) -> 5654.99 | V20: =IF(U20=I20,"","FALTA")
A21: 1.2.5 | B21: =VLOOKUP($A21,Orçamento!$A$9:$J$95,4,0) -> TAXA DE DESTINAÇÃO DE RESÍDUO SÓLIDO EM ATERRO, TIPO SOLO/TERRA | C21: =IF(K21=0,"",CONCATENATE(K21," ",$F21)) -> 199,26 M3 | D21: =IF(M21=0,"",CONCATENATE(M21," ",$F21)) | E21: =IF(O21=0,"",CONCATENATE(O21," ",$F21)) | F21: =VLOOKUP($A21,Orçamento!$A$9:$J$95,5,0) -> M3 | G21: =VLOOKUP($A21,Orçamento!$A$9:$J$95,6,0) -> 199.26 | H21: =VLOOKUP($A21,Orçamento!$A$9:$J$95,8,0) -> 38.75 | I21: =VLOOKUP($A21,Orçamento!$A$9:$J$95,10,0) -> 7721.32 | K21: 199.26 | L21: =IF(K21=0,"",TRUNC($H21*K21,2)) -> 7721.32 | N21: =IF(M21=0,"",TRUNC($H21*M21,2)) | P21: =IF(O21=0,"",TRUNC($H21*O21,2)) | S21: =SUMIF($K$9:$P$9,$K$9,K21:P21) -> 199.26 | T21: =IF(S21=G21,"","FALTA") | U21: =SUMIF($K$9:$P$9,$L$9,K21:P21) -> 7721.32 | V21: =IF(U21=I21,"","FALTA")
A23: 1.3 | B23: =VLOOKUP($A23,Orçamento!$A$9:$J$95,4,0) -> RETIRADA DE ENTULHOS | C23: EVENTO 5 | L23: =SUM(L24:L26) -> 3849.37 | N23: =SUM(N24:N26) -> 0 | P23: =SUM(P24:P26) -> 0
A24: 1.3.1 | B24: =VLOOKUP($A24,Orçamento!$A$9:$J$95,4,0) -> RETIRADA DE ESTRUTURA METÁLICA | C24: =IF(K24=0,"",CONCATENATE(K24," ",$F24)) -> 896,96 KG | D24: =IF(M24=0,"",CONCATENATE(M24," ",$F24)) | E24: =IF(O24=0,"",CONCATENATE(O24," ",$F24)) | F24: =VLOOKUP($A24,Orçamento!$A$9:$J$95,5,0) -> KG | G24: =VLOOKUP($A24,Orçamento!$A$9:$J$95,6,0) -> 896.96 | H24: =VLOOKUP($A24,Orçamento!$A$9:$J$95,8,0) -> 3.16 | I24: =VLOOKUP($A24,Orçamento!$A$9:$J$95,10,0) -> 2834.39 | K24: 896.96 | L24: =IF(K24=0,"",TRUNC($H24*K24,2)) -> 2834.39 | N24: =IF(M24=0,"",TRUNC($H24*M24,2)) | P24: =IF(O24=0,"",TRUNC($H24*O24,2)) | S24: =SUMIF($K$9:$P$9,$K$9,K24:P24) -> 896.96 | T24: =IF(S24=G24,"","FALTA") | U24: =SUMIF($K$9:$P$9,$L$9,K24:P24) -> 2834.39 | V24: =IF(U24=I24,"","FALTA")
A25: 1.3.2 | B25: =VLOOKUP($A25,Orçamento!$A$9:$J$95,4,0) -> RETIRADA DE PEÇAS LINEARES EM MADEIRA COM SEÇÃO SUPERIOR A 60 CM² | C25: =IF(K25=0,"",CONCATENATE(K25," ",$F25)) -> 51 M | D25: =IF(M25=0,"",CONCATENATE(M25," ",$F25)) | E25: =IF(O25=0,"",CONCATENATE(O25," ",$F25)) | F25: =VLOOKUP($A25,Orçamento!$A$9:$J$95,5,0) -> M | G25: =VLOOKUP($A25,Orçamento!$A$9:$J$95,6,0) -> 51 | H25: =VLOOKUP($A25,Orçamento!$A$9:$J$95,8,0) -> 6.54 | I25: =VLOOKUP($A25,Orçamento!$A$9:$J$95,10,0) -> 333.54 | K25: 51 | L25: =IF(K25=0,"",TRUNC($H25*K25,2)) -> 333.54 | N25: =IF(M25=0,"",TRUNC($H25*M25,2)) | P25: =IF(O25=0,"",TRUNC($H25*O25,2)) | S25: =SUMIF($K$9:$P$9,$K$9,K25:P25) -> 51 | T25: =IF(S25=G25,"","FALTA") | U25: =SUMIF($K$9:$P$9,$L$9,K25:P25) -> 333.54 | V25: =IF(U25=I25,"","FALTA")
A26: 1.3.3 | B26: =VLOOKUP($A26,Orçamento!$A$9:$J$95,4,0) -> REMOÇÃO DE ENTULHO DE OBRA COM CAÇAMBA METÁLICA - MATERIAL VOLUMOSO E MISTURADO POR ALVENARIA, TERRA, MADEIRA, PAPEL, PLÁSTICO E METAL | C26: =IF(K26=0,"",CONCATENATE(K26," ",$F26)) -> 4 M3 | D26: =IF(M26=0,"",CONCATENATE(M26," ",$F26)) | E26: =IF(O26=0,"",CONCATENATE(O26," ",$F26)) | F26: =VLOOKUP($A26,Orçamento!$A$9:$J$95,5,0) -> M3 | G26: =VLOOKUP($A26,Orçamento!$A$9:$J$95,6,0) -> 4 | H26: =VLOOKUP($A26,Orçamento!$A$9:$J$95,8,0) -> 170.36 | I26: =VLOOKUP($A26,Orçamento!$A$9:$J$95,10,0) -> 681.44 | K26: 4 | L26: =IF(K26=0,"",TRUNC($H26*K26,2)) -> 681.44 | N26: =IF(M26=0,"",TRUNC($H26*M26,2)) | P26: =IF(O26=0,"",TRUNC($H26*O26,2)) | S26: =SUMIF($K$9:$P$9,$K$9,K26:P26) -> 4 | T26: =IF(S26=G26,"","FALTA") | U26: =SUMIF($K$9:$P$9,$L$9,K26:P26) -> 681.44 | V26: =IF(U26=I26,"","FALTA")
A28: 2 | B28: =VLOOKUP($A28,Orçamento!$A$9:$J$95,4,0) -> PLAYGROUND EXISTENTE
A29: 2.1 | B29: =VLOOKUP($A29,Orçamento!$A$9:$J$95,4,0) -> REVITALIZAÇÃO DOS BRINQUEDOS EXISTENTES | D29: EVENTO 6 | E29: EVENTO 7 | L29: =SUM(L30:L35) -> 0 | N29: =SUM(N30:N35) -> 36499.21 | P29: =SUM(P30:P35) -> 78.6
A30: 2.1.1 | B30: =VLOOKUP($A30,Orçamento!$A$9:$J$95,4,0) -> SOLDA MIG EM ESQUADRIAS METÁLICAS | C30: =IF(K30=0,"",CONCATENATE(K30," ",$F30)) | D30: =IF(M30=0,"",CONCATENATE(M30," ",$F30)) -> 57,3 M | E30: =IF(O30=0,"",CONCATENATE(O30," ",$F30)) | F30: =VLOOKUP($A30,Orçamento!$A$9:$J$95,5,0) -> M | G30: =VLOOKUP($A30,Orçamento!$A$9:$J$95,6,0) -> 57.3 | H30: =VLOOKUP($A30,Orçamento!$A$9:$J$95,8,0) -> 70.89 | I30: =VLOOKUP($A30,Orçamento!$A$9:$J$95,10,0) -> 4061.99 | L30: =IF(K30=0,"",TRUNC($H30*K30,2)) | M30: 57.3 | N30: =IF(M30=0,"",TRUNC($H30*M30,2)) -> 4061.99 | P30: =IF(O30=0,"",TRUNC($H30*O30,2)) | S30: =SUMIF($K$9:$P$9,$K$9,K30:P30) -> 57.3 | T30: =IF(S30=G30,"","FALTA") | U30: =SUMIF($K$9:$P$9,$L$9,K30:P30) -> 4061.99 | V30: =IF(U30=I30,"","FALTA")
A31: 2.1.2 | B31: =VLOOKUP($A31,Orçamento!$A$9:$J$95,4,0) -> CHAPA DE AÇO EM BITOLAS MEDIAS | C31: =IF(K31=0,"",CONCATENATE(K31," ",$F31)) | D31: =IF(M31=0,"",CONCATENATE(M31," ",$F31)) -> 24,75 KG | E31: =IF(O31=0,"",CONCATENATE(O31," ",$F31)) | F31: =VLOOKUP($A31,Orçamento!$A$9:$J$95,5,0) -> KG | G31: =VLOOKUP($A31,Orçamento!$A$9:$J$95,6,0) -> 24.75 | H31: =VLOOKUP($A31,Orçamento!$A$9:$J$95,8,0) -> 30.79 | I31: =VLOOKUP($A31,Orçamento!$A$9:$J$95,10,0) -> 762.05 | L31: =IF(K31=0,"",TRUNC($H31*K31,2)) | M31: 24.75 | N31: =IF(M31=0,"",TRUNC($H31*M31,2)) -> 762.05 | P31: =IF(O31=0,"",TRUNC($H31*O31,2)) | S31: =SUMIF($K$9:$P$9,$K$9,K31:P31) -> 24.75 | T31: =IF(S31=G31,"","FALTA") | U31: =SUMIF($K$9:$P$9,$L$9,K31:P31) -> 762.05 | V31: =IF(U31=I31,"","FALTA")
A32: 2.1.3 | B32: =VLOOKUP($A32,Orçamento!$A$9:$J$95,4,0) -> FORNECIMENTO E MONTAGEM DE ESTRUTURA TUBULAR EM AÇO ASTM-A572 GRAU 50, SEM PINTURA | C32: =IF(K32=0,"",CONCATENATE(K32," ",$F32)) | D32: =IF(M32=0,"",CONCATENATE(M32," ",$F32)) -> 122,15 KG | E32: =IF(O32=0,"",CONCATENATE(O32," ",$F32)) | F32: =VLOOKUP($A32,Orçamento!$A$9:$J$95,5,0) -> KG | G32: =VLOOKUP($A32,Orçamento!$A$9:$J$95,6,0) -> 122.15 | H32: =VLOOKUP($A32,Orçamento!$A$9:$J$95,8,0) -> 38.95 | I32: =VLOOKUP($A32,Orçamento!$A$9:$J$95,10,0) -> 4757.74 | L32: =IF(K32=0,"",TRUNC($H32*K32,2)) | M32: 122.15 | N32: =IF(M32=0,"",TRUNC($H32*M32,2)) -> 4757.74 | P32: =IF(O32=0,"",TRUNC($H32*O32,2)) | S32: =SUMIF($K$9:$P$9,$K$9,K32:P32) -> 122.15 | T32: =IF(S32=G32,"","FALTA") | U32: =SUMIF($K$9:$P$9,$L$9,K32:P32) -> 4757.74 | V32: =IF(U32=I32,"","FALTA")
A33: 2.1.4 | B33: =VLOOKUP($A33,Orçamento!$A$9:$J$95,4,0) -> LIXAMENTO MANUAL EM SUPERFÍCIES METÁLICAS EM OBRA. AF_01/2020 | C33: =IF(K33=0,"",CONCATENATE(K33," ",$F33)) | D33: =IF(M33=0,"",CONCATENATE(M33," ",$F33)) -> 142,19 M2 | E33: =IF(O33=0,"",CONCATENATE(O33," ",$F33)) | F33: =VLOOKUP($A33,Orçamento!$A$9:$J$95,5,0) -> M2 | G33: =VLOOKUP($A33,Orçamento!$A$9:$J$95,6,0) -> 142.19 | H33: =VLOOKUP($A33,Orçamento!$A$9:$J$95,8,0) -> 15.8 | I33: =VLOOKUP($A33,Orçamento!$A$9:$J$95,10,0) -> 2246.6 | L33: =IF(K33=0,"",TRUNC($H33*K33,2)) | M33: 142.19 | N33: =IF(M33=0,"",TRUNC($H33*M33,2)) -> 2246.6 | P33: =IF(O33=0,"",TRUNC($H33*O33,2)) | S33: =SUMIF($K$9:$P$9,$K$9,K33:P33) -> 142.19 | T33: =IF(S33=G33,"","FALTA") | U33: =SUMIF($K$9:$P$9,$L$9,K33:P33) -> 2246.6 | V33: =IF(U33=I33,"","FALTA")
A34: 2.1.5 | B34: =VLOOKUP($A34,Orçamento!$A$9:$J$95,4,0) -> ESMALTE À BASE ÁGUA EM SUPERFÍCIE METÁLICA, INCLUSIVE PREPARO | C34: =IF(K34=0,"",CONCATENATE(K34," ",$F34)) | D34: =IF(M34=0,"",CONCATENATE(M34," ",$F34)) -> 361,16 M2 | E34: =IF(O34=0,"",CONCATENATE(O34," ",$F34)) | F34: =VLOOKUP($A34,Orçamento!$A$9:$J$95,5,0) -> M2 | G34: =VLOOKUP($A34,Orçamento!$A$9:$J$95,6,0) -> 361.16 | H34: =VLOOKUP($A34,Orçamento!$A$9:$J$95,8,0) -> 68.31 | I34: =VLOOKUP($A34,Orçamento!$A$9:$J$95,10,0) -> 24670.83 | L34: =IF(K34=0,"",TRUNC($H34*K34,2)) | M34: 361.16 | N34: =IF(M34=0,"",TRUNC($H34*M34,2)) -> 24670.83 | P34: =IF(O34=0,"",TRUNC($H34*O34,2)) | S34: =SUMIF($K$9:$P$9,$K$9,K34:P34) -> 361.16 | T34: =IF(S34=G34,"","FALTA") | U34: =SUMIF($K$9:$P$9,$L$9,K34:P34) -> 24670.83 | V34: =IF(U34=I34,"","FALTA")
A35: 2.1.6 | B35: =VLOOKUP($A35,Orçamento!$A$9:$J$95,4,0) -> TELA DE NYLON PARA COBERTURA DE QUADRA | C35: =IF(K35=0,"",CONCATENATE(K35," ",$F35)) | D35: =IF(M35=0,"",CONCATENATE(M35," ",$F35)) | E35: =IF(O35=0,"",CONCATENATE(O35," ",$F35)) -> 2,4 M2 | F35: =VLOOKUP($A35,Orçamento!$A$9:$J$95,5,0) -> M2 | G35: =VLOOKUP($A35,Orçamento!$A$9:$J$95,6,0) -> 2.4 | H35: =VLOOKUP($A35,Orçamento!$A$9:$J$95,8,0) -> 32.75 | I35: =VLOOKUP($A35,Orçamento!$A$9:$J$95,10,0) -> 78.6 | L35: =IF(K35=0,"",TRUNC($H35*K35,2)) | N35: =IF(M35=0,"",TRUNC($H35*M35,2)) | O35: 2.4 | P35: =IF(O35=0,"",TRUNC($H35*O35,2)) -> 78.6 | S35: =SUMIF($K$9:$P$9,$K$9,K35:P35) -> 2.4 | T35: =IF(S35=G35,"","FALTA") | U35: =SUMIF($K$9:$P$9,$L$9,K35:P35) -> 78.6 | V35: =IF(U35=I35,"","FALTA")
A37: 2.2 | B37: =VLOOKUP($A37,Orçamento!$A$9:$J$95,4,0) -> RECOMPOSIÇÃO DO TANQUE DE AREIA | D37: EVENTO 8 | L37: =SUM(L38) -> 0 | N37: =SUM(N38) -> 35621.1 | P37: =SUM(P38) -> 0
A38: 2.2.1 | B38: =VLOOKUP($A38,Orçamento!$A$9:$J$95,4,0) -> RV.11 - TANQUE DE AREIA - GENÉRICO - FORNECIMENTO E APLICAÇÃO DE AREIA LAVADA | C38: =IF(K38=0,"",CONCATENATE(K38," ",$F38)) | D38: =IF(M38=0,"",CONCATENATE(M38," ",$F38)) -> 135 M3 | E38: =IF(O38=0,"",CONCATENATE(O38," ",$F38)) | F38: =VLOOKUP($A38,Orçamento!$A$9:$J$95,5,0) -> M3 | G38: =VLOOKUP($A38,Orçamento!$A$9:$J$95,6,0) -> 135 | H38: =VLOOKUP($A38,Orçamento!$A$9:$J$95,8,0) -> 263.86 | I38: =VLOOKUP($A38,Orçamento!$A$9:$J$95,10,0) -> 35621.1 | L38: =IF(K38=0,"",TRUNC($H38*K38,2)) | M38: 135 | N38: =IF(M38=0,"",TRUNC($H38*M38,2)) -> 35621.1 | P38: =IF(O38=0,"",TRUNC($H38*O38,2)) | S38: =SUMIF($K$9:$P$9,$K$9,K38:P38) -> 135 | T38: =IF(S38=G38,"","FALTA") | U38: =SUMIF($K$9:$P$9,$L$9,K38:P38) -> 35621.1 | V38: =IF(U38=I38,"","FALTA")
A40: 2.3 | B40: =VLOOKUP($A40,Orçamento!$A$9:$J$95,4,0) -> EQUIPAMENTOS NOVOS | D40: EVENTO 9 | E40: EVENTO 10 | L40: =SUM(L41:L42) -> 0 | N40: =SUM(N41:N42) -> 9323.73 | P40: =SUM(P41:P42) -> 2745.36
A41: 2.3.1 | B41: =VLOOKUP($A41,Orçamento!$A$9:$J$95,4,0) -> INSTALAÇÃO DE PLACA ORIENTATIVA SOBRE EXERCÍCIOS, 2,00M X 1,00M, EM TUBO DE AÇO CARBONO - PARA ACADEMIA AO AR LIVRE / ACADEMIA DA TERCEIRA IDADE - ATI, INSTALADO SOBRE SOLO. AF_10/2021 | C41: =IF(K41=0,"",CONCATENATE(K41," ",$F41)) | D41: =IF(M41=0,"",CONCATENATE(M41," ",$F41)) | E41: =IF(O41=0,"",CONCATENATE(O41," ",$F41)) -> 1 UN | F41: =VLOOKUP($A41,Orçamento!$A$9:$J$95,5,0) -> UN | G41: =VLOOKUP($A41,Orçamento!$A$9:$J$95,6,0) -> 1 | H41: =VLOOKUP($A41,Orçamento!$A$9:$J$95,8,0) -> 2745.36 | I41: =VLOOKUP($A41,Orçamento!$A$9:$J$95,10,0) -> 2745.36 | L41: =IF(K41=0,"",TRUNC($H41*K41,2)) | N41: =IF(M41=0,"",TRUNC($H41*M41,2)) | O41: 1 | P41: =IF(O41=0,"",TRUNC($H41*O41,2)) -> 2745.36 | S41: =SUMIF($K$9:$P$9,$K$9,K41:P41) -> 1 | T41: =IF(S41=G41,"","FALTA") | U41: =SUMIF($K$9:$P$9,$L$9,K41:P41) -> 2745.36 | V41: =IF(U41=I41,"","FALTA")
A42: 2.3.2 | B42: =VLOOKUP($A42,Orçamento!$A$9:$J$95,4,0) -> TABELA PARA BASQUETE, ENGLOBANDO DESDE FUNDAÇÃO ATÉ A CESTA DE NYLON | C42: =IF(K42=0,"",CONCATENATE(K42," ",$F42)) | D42: =IF(M42=0,"",CONCATENATE(M42," ",$F42)) -> 1 UN | E42: =IF(O42=0,"",CONCATENATE(O42," ",$F42)) | F42: =VLOOKUP($A42,Orçamento!$A$9:$J$95,5,0) -> UN | G42: =VLOOKUP($A42,Orçamento!$A$9:$J$95,6,0) -> 1 | H42: =VLOOKUP($A42,Orçamento!$A$9:$J$95,8,0) -> 9323.73 | I42: =VLOOKUP($A42,Orçamento!$A$9:$J$95,10,0) -> 9323.73 | L42: =IF(K42=0,"",TRUNC($H42*K42,2)) | M42: 1 | N42: =IF(M42=0,"",TRUNC($H42*M42,2)) -> 9323.73 | P42: =IF(O42=0,"",TRUNC($H42*O42,2)) | S42: =SUMIF($K$9:$P$9,$K$9,K42:P42) -> 1 | T42: =IF(S42=G42,"","FALTA") | U42: =SUMIF($K$9:$P$9,$L$9,K42:P42) -> 9323.73 | V42: =IF(U42=I42,"","FALTA")
A44: 2.4 | B44: =VLOOKUP($A44,Orçamento!$A$9:$J$95,4,0) -> LIMPEZA DO PISO | E44: EVENTO 11 | L44: =SUM(L45) -> 0 | N44: =SUM(N45) -> 0 | P44: =SUM(P45) -> 3628.8
A45: 2.4.1 | B45: =VLOOKUP($A45,Orçamento!$A$9:$J$95,4,0) -> LIMPEZA DE SUPERFÍCIES COM HIDROJATEAMENTO | C45: =IF(K45=0,"",CONCATENATE(K45," ",$F45)) | D45: =IF(M45=0,"",CONCATENATE(M45," ",$F45)) | E45: =IF(O45=0,"",CONCATENATE(O45," ",$F45)) -> 630 M2 | F45: =VLOOKUP($A45,Orçamento!$A$9:$J$95,5,0) -> M2 | G45: =VLOOKUP($A45,Orçamento!$A$9:$J$95,6,0) -> 630 | H45: =VLOOKUP($A45,Orçamento!$A$9:$J$95,8,0) -> 5.76 | I45: =VLOOKUP($A45,Orçamento!$A$9:$J$95,10,0) -> 3628.8 | L45: =IF(K45=0,"",TRUNC($H45*K45,2)) | N45: =IF(M45=0,"",TRUNC($H45*M45,2)) | O45: 630 | P45: =IF(O45=0,"",TRUNC($H45*O45,2)) -> 3628.8 | S45: =SUMIF($K$9:$P$9,$K$9,K45:P45) -> 630 | T45: =IF(S45=G45,"","FALTA") | U45: =SUMIF($K$9:$P$9,$L$9,K45:P45) -> 3628.8 | V45: =IF(U45=I45,"","FALTA")
A47: 3 | B47: =VLOOKUP($A47,Orçamento!$A$9:$J$95,4,0) -> REVITALIZAÇÕES DO ENTORNO
A48: 3.1 | B48: =VLOOKUP($A48,Orçamento!$A$9:$J$95,4,0) -> ACADEMIA AO AR LIVRE | E48: EVENTO 12 | L48: =SUM(L49:L50) -> 0 | N48: =SUM(N49:N50) -> 0 | P48: =SUM(P49:P50) -> 3643.92
A49: 3.1.1 | B49: =VLOOKUP($A49,Orçamento!$A$9:$J$95,4,0) -> INSTALAÇÃO DE PLACA ORIENTATIVA SOBRE EXERCÍCIOS, 2,00M X 1,00M, EM TUBO DE AÇO CARBONO - PARA ACADEMIA AO AR LIVRE / ACADEMIA DA TERCEIRA IDADE - ATI, INSTALADO SOBRE SOLO. AF_10/2021 | C49: =IF(K49=0,"",CONCATENATE(K49," ",$F49)) | D49: =IF(M49=0,"",CONCATENATE(M49," ",$F49)) | E49: =IF(O49=0,"",CONCATENATE(O49," ",$F49)) -> 1 UN | F49: =VLOOKUP($A49,Orçamento!$A$9:$J$95,5,0) -> UN | G49: =VLOOKUP($A49,Orçamento!$A$9:$J$95,6,0) -> 1 | H49: =VLOOKUP($A49,Orçamento!$A$9:$J$95,8,0) -> 2745.36 | I49: =VLOOKUP($A49,Orçamento!$A$9:$J$95,10,0) -> 2745.36 | L49: =IF(K49=0,"",TRUNC($H49*K49,2)) | N49: =IF(M49=0,"",TRUNC($H49*M49,2)) | O49: 1 | P49: =IF(O49=0,"",TRUNC($H49*O49,2)) -> 2745.36 | S49: =SUMIF($K$9:$P$9,$K$9,K49:P49) -> 1 | T49: =IF(S49=G49,"","FALTA") | U49: =SUMIF($K$9:$P$9,$L$9,K49:P49) -> 2745.36 | V49: =IF(U49=I49,"","FALTA")
A50: 3.1.2 | B50: =VLOOKUP($A50,Orçamento!$A$9:$J$95,4,0) -> LIMPEZA DE SUPERFÍCIES COM HIDROJATEAMENTO | C50: =IF(K50=0,"",CONCATENATE(K50," ",$F50)) | D50: =IF(M50=0,"",CONCATENATE(M50," ",$F50)) | E50: =IF(O50=0,"",CONCATENATE(O50," ",$F50)) -> 156 M2 | F50: =VLOOKUP($A50,Orçamento!$A$9:$J$95,5,0) -> M2 | G50: =VLOOKUP($A50,Orçamento!$A$9:$J$95,6,0) -> 156 | H50: =VLOOKUP($A50,Orçamento!$A$9:$J$95,8,0) -> 5.76 | I50: =VLOOKUP($A50,Orçamento!$A$9:$J$95,10,0) -> 898.56 | L50: =IF(K50=0,"",TRUNC($H50*K50,2)) | N50: =IF(M50=0,"",TRUNC($H50*M50,2)) | O50: 156 | P50: =IF(O50=0,"",TRUNC($H50*O50,2)) -> 898.56 | S50: =SUMIF($K$9:$P$9,$K$9,K50:P50) -> 156 | T50: =IF(S50=G50,"","FALTA") | U50: =SUMIF($K$9:$P$9,$L$9,K50:P50) -> 898.56 | V50: =IF(U50=I50,"","FALTA")
A52: 3.2 | B52: =VLOOKUP($A52,Orçamento!$A$9:$J$95,4,0) -> PISTA DE SKATE | D52: EVENTO 13 | E52: EVENTO 14 | L52: =SUM(L53:L58) -> 0 | N52: =SUM(N53:N58) -> 7106.54 | P52: =SUM(P53:P58) -> 1059.84
A53: 3.2.1 | B53: =VLOOKUP($A53,Orçamento!$A$9:$J$95,4,0) -> PREPARO DO PISO CIMENTADO PARA PINTURA - LIXAMENTO E LIMPEZA. AF_05/2021 | C53: =IF(K53=0,"",CONCATENATE(K53," ",$F53)) | D53: =IF(M53=0,"",CONCATENATE(M53," ",$F53)) -> 122,76 M2 | E53: =IF(O53=0,"",CONCATENATE(O53," ",$F53)) | F53: =VLOOKUP($A53,Orçamento!$A$9:$J$95,5,0) -> M2 | G53: =VLOOKUP($A53,Orçamento!$A$9:$J$95,6,0) -> 122.76 | H53: =VLOOKUP($A53,Orçamento!$A$9:$J$95,8,0) -> 6.11 | I53: =VLOOKUP($A53,Orçamento!$A$9:$J$95,10,0) -> 750.06 | L53: =IF(K53=0,"",TRUNC($H53*K53,2)) | M53: 122.76 | N53: =IF(M53=0,"",TRUNC($H53*M53,2)) -> 750.06 | P53: =IF(O53=0,"",TRUNC($H53*O53,2)) | S53: =SUMIF($K$9:$P$9,$K$9,K53:P53) -> 122.76 | T53: =IF(S53=G53,"","FALTA") | U53: =SUMIF($K$9:$P$9,$L$9,K53:P53) -> 750.06 | V53: =IF(U53=I53,"","FALTA")
...

Sheet CRONOGRAMA
B4: CRONOGRAMA FÍSICO-FINANCEIRO
B5: OBRA: | C5: =Orçamento!B5 -> REVITALIZAÇÃO DE PLAYGROUND NO PARQUE DA VILA FORMOSA | H5: =Orçamento!I4 -> REV. | I5: =Orçamento!J4 -> 46287
B6: LOCAL: | C6: =Orçamento!B6 -> RUA ARTHUR CAGLIARI, S/Nº - VILA FORMOSA, SOROCABA/SP | H6: BDI Obra | I6: =Orçamento!J5 -> 0.2354
B8: ITEM | C8: ETAPA | D8: PREÇO (SEM BDI) | E8: PREÇO (COM BDI) | F8: % SOBRE O TOTAL | G8: 1º MÊS | H8: 2º MÊS | I8: 3º MÊS | L8: Conferências
B9: 1 | C9: =VLOOKUP($B9,Orçamento!$A$9:$L$95,4,0) -> SERVIÇOS PRELIMINARES | D9: =VLOOKUP($B9,Orçamento!$A$9:$L$95,11,0) -> 36727.54 | E9: =VLOOKUP($B9,Orçamento!$A$9:$L$95,12,0) -> 45354.32 | F9: =E9/$E$44 -> 0.25828674
A10: A | B10: 1.1 | C10: =VLOOKUP($B10,Orçamento!$A$9:$L$95,4,0) -> CANTEIRO DE OBRAS | D10: =VLOOKUP($B10,Orçamento!$A$9:$L$95,11,0) -> 12656.52 | E10: =VLOOKUP($B10,Orçamento!$A$9:$L$95,12,0) -> 15635.58 | F10: =E10/$E$44 -> 0.089042521 | G10: =VLOOKUP($B10,'Cronograma Auxiliar'!$A$9:$P$97,G$54,0) -> 10025.1 | H10: =VLOOKUP($B10,'Cronograma Auxiliar'!$A$9:$P$97,H$54,0) -> 2805.24 | I10: =VLOOKUP($B10,'Cronograma Auxiliar'!$A$9:$P$97,I$54,0) -> 2805.24 | N10: =SUM(G10:I10) -> 15635.58 | O10: =IF(N10=E10,"OK","NOK") -> OK
A11: - | G11: =G10/$E10 -> 0.64117225 | H11: =H10/$E10 -> 0.17941388 | I11: =I10/$E10 -> 0.17941388 | L11: =SUM(G11:I11) -> 1 | M11: =IF(L11=1,"OK","NOK") -> OK
A12: A | B12: 1.2 | C12: =VLOOKUP($B12,Orçamento!$A$9:$L$95,4,0) -> LIMPEZA DO TERRENO | D12: =VLOOKUP($B12,Orçamento!$A$9:$L$95,11,0) -> 20952.91 | E12: =VLOOKUP($B12,Orçamento!$A$9:$L$95,12,0) -> 25869.37 | F12: =E12/$E$44 -> 0.14732258 | G12: =VLOOKUP($B12,'Cronograma Auxiliar'!$A$9:$P$97,G$54,0) -> 25869.37 | H12: =VLOOKUP($B12,'Cronograma Auxiliar'!$A$9:$P$97,H$54,0) -> 0 | I12: =VLOOKUP($B12,'Cronograma Auxiliar'!$A$9:$P$97,I$54,0) -> 0 | N12: =SUM(G12:I12) -> 25869.37 | O12: =IF(N12=E12,"OK","NOK") -> OK
A13: - | G13: =G12/$E12 -> 1 | H13: =H12/$E12 -> 0 | I13: =I12/$E12 -> 0 | L13: =SUM(G13:I13) -> 1 | M13: =IF(L13=1,"OK","NOK") -> OK
A14: A | B14: 1.3 | C14: =VLOOKUP($B14,Orçamento!$A$9:$L$95,4,0) -> RETIRADA DE ENTULHOS | D14: =VLOOKUP($B14,Orçamento!$A$9:$L$95,11,0) -> 3118.11 | E14: =VLOOKUP($B14,Orçamento!$A$9:$L$95,12,0) -> 3849.37 | F14: =E14/$E$44 -> 0.021921643 | G14: =VLOOKUP($B14,'Cronograma Auxiliar'!$A$9:$P$97,G$54,0) -> 3849.37 | H14: =VLOOKUP($B14,'Cronograma Auxiliar'!$A$9:$P$97,H$54,0) -> 0 | I14: =VLOOKUP($B14,'Cronograma Auxiliar'!$A$9:$P$97,I$54,0) -> 0 | N14: =SUM(G14:I14) -> 3849.37 | O14: =IF(N14=E14,"OK","NOK") -> OK
A15: - | G15: =G14/$E14 -> 1 | H15: =H14/$E14 -> 0 | I15: =I14/$E14 -> 0 | L15: =SUM(G15:I15) -> 1 | M15: =IF(L15=1,"OK","NOK") -> OK
B16: 2 | C16: =VLOOKUP($B16,Orçamento!$A$9:$L$95,4,0) -> PLAYGROUND EXISTENTE | D16: =VLOOKUP($B16,Orçamento!$A$9:$L$95,11,0) -> 71157.34 | E16: =VLOOKUP($B16,Orçamento!$A$9:$L$95,12,0) -> 87896.8 | F16: =E16/$E$44 -> 0.50056043
A17: A | B17: 2.1 | C17: =VLOOKUP($B17,Orçamento!$A$9:$L$95,4,0) -> REVITALIZAÇÃO DOS BRINQUEDOS EXISTENTES | D17: =VLOOKUP($B17,Orçamento!$A$9:$L$95,11,0) -> 29611.2 | E17: =VLOOKUP($B17,Orçamento!$A$9:$L$95,12,0) -> 36577.81 | F17: =E17/$E$44 -> 0.2083057 | G17: =VLOOKUP($B17,'Cronograma Auxiliar'!$A$9:$P$97,G$54,0) -> 0 | H17: =VLOOKUP($B17,'Cronograma Auxiliar'!$A$9:$P$97,H$54,0) -> 36499.21 | I17: =VLOOKUP($B17,'Cronograma Auxiliar'!$A$9:$P$97,I$54,0) -> 78.6 | N17: =SUM(G17:I17) -> 36577.81 | O17: =IF(N17=E17,"OK","NOK") -> OK
A18: - | G18: =G17/$E17 -> 0 | H18: =H17/$E17 -> 0.99785116 | I18: =I17/$E17 -> 0.0021488438 | L18: =SUM(G18:I18) -> 1 | M18: =IF(L18=1,"OK","NOK") -> OK
A19: A | B19: 2.2 | C19: =VLOOKUP($B19,Orçamento!$A$9:$L$95,4,0) -> RECOMPOSIÇÃO DO TANQUE DE AREIA | D19: =VLOOKUP($B19,Orçamento!$A$9:$L$95,11,0) -> 28834.65 | E19: =VLOOKUP($B19,Orçamento!$A$9:$L$95,12,0) -> 35621.1 | F19: =E19/$E$44 -> 0.20285736 | G19: =VLOOKUP($B19,'Cronograma Auxiliar'!$A$9:$P$97,G$54,0) -> 0 | H19: =VLOOKUP($B19,'Cronograma Auxiliar'!$A$9:$P$97,H$54,0) -> 35621.1 | I19: =VLOOKUP($B19,'Cronograma Auxiliar'!$A$9:$P$97,I$54,0) -> 0 | N19: =SUM(G19:I19) -> 35621.1 | O19: =IF(N19=E19,"OK","NOK") -> OK
A20: - | G20: =G19/$E19 -> 0 | H20: =H19/$E19 -> 1 | I20: =I19/$E19 -> 0 | L20: =SUM(G20:I20) -> 1 | M20: =IF(L20=1,"OK","NOK") -> OK
A21: A | B21: 2.3 | C21: =VLOOKUP($B21,Orçamento!$A$9:$L$95,4,0) -> EQUIPAMENTOS NOVOS | D21: =VLOOKUP($B21,Orçamento!$A$9:$L$95,11,0) -> 9769.39 | E21: =VLOOKUP($B21,Orçamento!$A$9:$L$95,12,0) -> 12069.09 | F21: =E21/$E$44 -> 0.068731841 | G21: =VLOOKUP($B21,'Cronograma Auxiliar'!$A$9:$P$97,G$54,0) -> 0 | H21: =VLOOKUP($B21,'Cronograma Auxiliar'!$A$9:$P$97,H$54,0) -> 9323.73 | I21: =VLOOKUP($B21,'Cronograma Auxiliar'!$A$9:$P$97,I$54,0) -> 2745.36 | N21: =SUM(G21:I21) -> 12069.09 | O21: =IF(N21=E21,"OK","NOK") -> OK
A22: - | G22: =G21/$E21 -> 0 | H22: =H21/$E21 -> 0.77252966 | I22: =I21/$E21 -> 0.22747034 | L22: =SUM(G22:I22) -> 1 | M22: =IF(L22=1,"OK","NOK") -> OK
A23: A | B23: 2.4 | C23: =VLOOKUP($B23,Orçamento!$A$9:$L$95,4,0) -> LIMPEZA DO PISO | D23: =VLOOKUP($B23,Orçamento!$A$9:$L$95,11,0) -> 2942.1 | E23: =VLOOKUP($B23,Orçamento!$A$9:$L$95,12,0) -> 3628.8 | F23: =E23/$E$44 -> 0.020665527 | G23: =VLOOKUP($B23,'Cronograma Auxiliar'!$A$9:$P$97,G$54,0) -> 0 | H23: =VLOOKUP($B23,'Cronograma Auxiliar'!$A$9:$P$97,H$54,0) -> 0 | I23: =VLOOKUP($B23,'Cronograma Auxiliar'!$A$9:$P$97,I$54,0) -> 3628.8 | N23: =SUM(G23:I23) -> 3628.8 | O23: =IF(N23=E23,"OK","NOK") -> OK
A24: - | G24: =G23/$E23 -> 0 | H24: =H23/$E23 -> 0 | I24: =I23/$E23 -> 1 | L24: =SUM(G24:I24) -> 1 | M24: =IF(L24=1,"OK","NOK") -> OK
B25: 3 | C25: =VLOOKUP($B25,Orçamento!$A$9:$L$95,4,0) -> REVITALIZAÇÕES DO ENTORNO | D25: =VLOOKUP($B25,Orçamento!$A$9:$L$95,11,0) -> 21992.71 | E25: =VLOOKUP($B25,Orçamento!$A$9:$L$95,12,0) -> 27164.97 | F25: =E25/$E$44 -> 0.15470084
A26: A | B26: 3.1 | C26: =VLOOKUP($B26,Orçamento!$A$9:$L$95,4,0) -> ACADEMIA AO AR LIVRE | D26: =VLOOKUP($B26,Orçamento!$A$9:$L$95,11,0) -> 2950.77 | E26: =VLOOKUP($B26,Orçamento!$A$9:$L$95,12,0) -> 3643.92 | F26: =E26/$E$44 -> 0.020751633 | G26: =VLOOKUP($B26,'Cronograma Auxiliar'!$A$9:$P$97,G$54,0) -> 0 | H26: =VLOOKUP($B26,'Cronograma Auxiliar'!$A$9:$P$97,H$54,0) -> 0 | I26: =VLOOKUP($B26,'Cronograma Auxiliar'!$A$9:$P$97,I$54,0) -> 3643.92 | N26: =SUM(G26:I26) -> 3643.92 | O26: =IF(N26=E26,"OK","NOK") -> OK
A27: - | G27: =G26/$E26 -> 0 | H27: =H26/$E26 -> 0 | I27: =I26/$E26 -> 1 | L27: =SUM(G27:I27) -> 1 | M27: =IF(L27=1,"OK","NOK") -> OK
A28: A | B28: 3.2 | C28: =VLOOKUP($B28,Orçamento!$A$9:$L$95,4,0) -> PISTA DE SKATE | D28: =VLOOKUP($B28,Orçamento!$A$9:$L$95,11,0) -> 6612.99 | E28: =VLOOKUP($B28,Orçamento!$A$9:$L$95,12,0) -> 8166.38 | F28: =E28/$E$44 -> 0.046506434 | G28: =VLOOKUP($B28,'Cronograma Auxiliar'!$A$9:$P$97,G$54,0) -> 0 | H28: =VLOOKUP($B28,'Cronograma Auxiliar'!$A$9:$P$97,H$54,0) -> 7106.54 | I28: =VLOOKUP($B28,'Cronograma Auxiliar'!$A$9:$P$97,I$54,0) -> 1059.84 | N28: =SUM(G28:I28) -> 8166.38 | O28: =IF(N28=E28,"OK","NOK") -> OK
A29: - | G29: =G28/$E28 -> 0 | H29: =H28/$E28 -> 0.87021912 | I29: =I28/$E28 -> 0.12978088 | L29: =SUM(G29:I29) -> 1 | M29: =IF(L29=1,"OK","NOK") -> OK
A30: A | B30: 3.3 | C30: =VLOOKUP($B30,Orçamento!$A$9:$L$95,4,0) -> MOBILIÁRIOS DIVERSOS | D30: =VLOOKUP($B30,Orçamento!$A$9:$L$95,11,0) -> 12428.95 | E30: =VLOOKUP($B30,Orçamento!$A$9:$L$95,12,0) -> 15354.67 | F30: =E30/$E$44 -> 0.087442777 | G30: =VLOOKUP($B30,'Cronograma Auxiliar'!$A$9:$P$97,G$54,0) -> 0 | H30: =VLOOKUP($B30,'Cronograma Auxiliar'!$A$9:$P$97,H$54,0) -> 0 | I30: =VLOOKUP($B30,'Cronograma Auxiliar'!$A$9:$P$97,I$54,0) -> 15354.67 | N30: =SUM(G30:I30) -> 15354.67 | O30: =IF(N30=E30,"OK","NOK") -> OK
A31: - | G31: =G30/$E30 -> 0 | H31: =H30/$E30 -> 0 | I31: =I30/$E30 -> 1 | L31: =SUM(G31:I31) -> 1 | M31: =IF(L31=1,"OK","NOK") -> OK
B32: 4 | C32: =VLOOKUP($B32,Orçamento!$A$9:$L$95,4,0) -> INSTALAÇÕES ELÉTRICAS | D32: =VLOOKUP($B32,Orçamento!$A$9:$L$95,11,0) -> 7381.33 | E32: =VLOOKUP($B32,Orçamento!$A$9:$L$95,12,0) -> 9118.1 | F32: =E32/$E$44 -> 0.051926351
A33: A | B33: 4.1 | C33: =VLOOKUP($B33,Orçamento!$A$9:$L$95,4,0) -> CAIXA DE COMANDO E ACIONAMENTO | D33: =VLOOKUP($B33,Orçamento!$A$9:$L$95,11,0) -> 1189.2 | E33: =VLOOKUP($B33,Orçamento!$A$9:$L$95,12,0) -> 1469.07 | F33: =E33/$E$44 -> 0.0083661557 | G33: =VLOOKUP($B33,'Cronograma Auxiliar'!$A$9:$P$97,G$54,0) -> 0 | H33: =VLOOKUP($B33,'Cronograma Auxiliar'!$A$9:$P$97,H$54,0) -> 0 | I33: =VLOOKUP($B33,'Cronograma Auxiliar'!$A$9:$P$97,I$54,0) -> 1469.07 | N33: =SUM(G33:I33) -> 1469.07 | O33: =IF(N33=E33,"OK","NOK") -> OK
A34: - | G34: =G33/$E33 -> 0 | H34: =H33/$E33 -> 0 | I34: =I33/$E33 -> 1 | L34: =SUM(G34:I34) -> 1 | M34: =IF(L34=1,"OK","NOK") -> OK
A35: A | B35: 4.2 | C35: =VLOOKUP($B35,Orçamento!$A$9:$L$95,4,0) -> ENTRADA DE ENERGIA | D35: =VLOOKUP($B35,Orçamento!$A$9:$L$95,11,0) -> 4595.09 | E35: =VLOOKUP($B35,Orçamento!$A$9:$L$95,12,0) -> 5676.75 | F35: =E35/$E$44 -> 0.032328326 | G35: =VLOOKUP($B35,'Cronograma Auxiliar'!$A$9:$P$97,G$54,0) -> 0 | H35: =VLOOKUP($B35,'Cronograma Auxiliar'!$A$9:$P$97,H$54,0) -> 0 | I35: =VLOOKUP($B35,'Cronograma Auxiliar'!$A$9:$P$97,I$54,0) -> 5676.75 | N35: =SUM(G35:I35) -> 5676.75 | O35: =IF(N35=E35,"OK","NOK") -> OK
A36: - | G36: =G35/$E35 -> 0 | H36: =H35/$E35 -> 0 | I36: =I35/$E35 -> 1 | L36: =SUM(G36:I36) -> 1 | M36: =IF(L36=1,"OK","NOK") -> OK
A37: A | B37: 4.3 | C37: =VLOOKUP($B37,Orçamento!$A$9:$L$95,4,0) -> CABEAMENTO E IMPLANTAÇÃO | D37: =VLOOKUP($B37,Orçamento!$A$9:$L$95,11,0) -> 1597.04 | E37: =VLOOKUP($B37,Orçamento!$A$9:$L$95,12,0) -> 1972.28 | F37: =E37/$E$44 -> 0.011231869 | G37: =VLOOKUP($B37,'Cronograma Auxiliar'!$A$9:$P$97,G$54,0) -> 0 | H37: =VLOOKUP($B37,'Cronograma Auxiliar'!$A$9:$P$97,H$54,0) -> 0 | I37: =VLOOKUP($B37,'Cronograma Auxiliar'!$A$9:$P$97,I$54,0) -> 1972.28 | N37: =SUM(G37:I37) -> 1972.28 | O37: =IF(N37=E37,"OK","NOK") -> OK
A38: - | G38: =G37/$E37 -> 0 | H38: =H37/$E37 -> 0 | I38: =I37/$E37 -> 1 | L38: =SUM(G38:I38) -> 1 | M38: =IF(L38=1,"OK","NOK") -> OK
B39: 5 | C39: =VLOOKUP($B39,Orçamento!$A$9:$L$95,4,0) -> SERVIÇOS COMPLEMENTARES | D39: =VLOOKUP($B39,Orçamento!$A$9:$L$95,11,0) -> 113.15 | E39: =VLOOKUP($B39,Orçamento!$A$9:$L$95,12,0) -> 139.74 | F39: =E39/$E$44 -> 0.00079580047
A40: A | B40: 5.1 | C40: =VLOOKUP($B40,Orçamento!$A$9:$L$95,4,0) -> PAISAGISMO | D40: =VLOOKUP($B40,Orçamento!$A$9:$L$95,11,0) -> 113.15 | E40: =VLOOKUP($B40,Orçamento!$A$9:$L$95,12,0) -> 139.74 | F40: =E40/$E$44 -> 0.00079580047 | G40: =VLOOKUP($B40,'Cronograma Auxiliar'!$A$9:$P$97,G$54,0) -> 0 | H40: =VLOOKUP($B40,'Cronograma Auxiliar'!$A$9:$P$97,H$54,0) -> 0 | I40: =VLOOKUP($B40,'Cronograma Auxiliar'!$A$9:$P$97,I$54,0) -> 139.74 | N40: =SUM(G40:I40) -> 139.74 | O40: =IF(N40=E40,"OK","NOK") -> OK
A41: - | G41: =G40/$E40 -> 0 | H41: =H40/$E40 -> 0 | I41: =I40/$E40 -> 1 | L41: =SUM(G41:I41) -> 1 | M41: =IF(L41=1,"OK","NOK") -> OK
A42: ** | B42: 6 | C42: =VLOOKUP($B42,Orçamento!$A$9:$L$95,4,0) -> ADMINISTRAÇÃO LOCAL | D42: =VLOOKUP($B42,Orçamento!$A$9:$L$95,11,0) -> 4794.28 | E42: =VLOOKUP($B42,Orçamento!$A$9:$L$95,12,0) -> 5922.85 | F42: =E42/$E$44 -> 0.033729833 | G42: =ROUND($E42*G43,2) -> 1387.35 | H42: =ROUND($E42*H43,2) -> 3188.98 | I42: =ROUND($E42*I43,2) -> 1346.52 | N42: =SUM(G42:I42) -> 5922.85 | O42: =IF(N42=E42,"OK","NOK") -> OK
G43: =ROUND(G52,7) -> 0.2342366 | H43: =ROUND(H52,7) -> 0.5384199 | I43: =ROUND(I52,7) -> 0.2273435 | L43: =SUM(G43:I43) -> 1 | M43: =IF(L43=1,"OK","NOK") -> OK
C44: TOTAL | E44: =SUMIF($A$9:$A$41,"A",E9:E41)+E42 -> 175596.78 | F44: TOTAL (R$) | G44: =SUMIF($A$9:$A$41,"A",G9:G41)+G42 -> 41131.19 | H44: =SUMIF($A$9:$A$41,"A",H9:H41)+H42 -> 94544.8 | I44: =SUMIF($A$9:$A$41,"A",I9:I41)+I42 -> 39920.79 | N44: =SUM(G44:I44) -> 175596.78 | O44: =IF(N44=E44,"OK","NOK") -> OK
...
