Workbook
Name Excel_BuiltIn_Database: #REF!
Name Excel_BuiltIn_Database: #REF!
Name Excel_BuiltIn_Database: #REF!

Sheet Planilha Orçamentária
A2: PLANILHA ORÇAMENTÁRIA
G3: Tabela Base: | H3: CDHU Boletim 192 S/DES.
A5: OBRA: | B5: Troca de iluminação convencional por tecnologia LED nos Bairros Mirante dos OVNIs e Jardim Clarice | H5: LS | I5: 1.2823
A6: ENDEREÇO: | B6: Bairros Mirante dos OVNIs e Jardim Clarice - Votorantim/SP | H6: BDI | I6: 0.25
A8: ITEM | B8: FONTE | C8: CÓDIGO | D8: DESCRIÇÃO DOS SERVIÇOS | E8: UNID | F8: QUANT | G8: VALOR UNITÁRIO SEM BDI | H8: VALOR UNITÁRIO COM BDI | I8: PREÇO TOTAL
D10: =IF(C10<>0,INDEX(#REF!,MATCH(C10,#REF!,0),2),0) -> 0 | E10: =IF(C10<>0,INDEX(#REF!,MATCH(C10,#REF!,0),3),0) -> 0 | F10: =IF(C10<>0,INDEX(#REF!,MATCH(C10,#REF!,0),8),0) -> 0 | H10: =IF(C10<>0,INDEX(#REF!,MATCH(C10,#REF!,0),4),0) -> 0 | I10: =H10*F10 -> 0
A11: 1. | D11: SERVIÇOS PRELIMINARES | I11: =SUM(I12:I12) -> 10416.96
A12: 1.1 | B12: CDHU | C12: 02.08.020 | D12: =VLOOKUP($C12,Onerado!$A$9:$F$4126,2,0) -> Placa de identificação para obra | E12: =VLOOKUP($C12,Onerado!$A$9:$F$4126,3,0) -> M2 | F12: =4.5*2 -> 9 | G12: =VLOOKUP($C12,Onerado!$A$9:$F$4126,6,0) -> 925.95 | H12: =(G12*$I$6)+G12 -> 1157.44 | I12: =H12*F12 -> 10416.96
A13: 2. | D13: BAIRRO MIRANTE DOS OVNIs | E13: PONTOS | F13: =F14+F22+F30+F38+F46+F54+F62+F70+F78+F86+F94+F102+F110+F118+F126+F134+F142+F150+F158+F166+F174+F182+F190+F198 -> 269 | I13: =I14+I22+I30+I38+I46+I54+I62+I70+I78+I86+I94+I102+I110+I118+I126+I134+I142+I150+I158+I166+I174+I182+I190+I198 -> 575628.29
A14: 2.1 | D14: RUA ORLANDO SILVA | E14: PONTOS | F14: 16 | I14: =SUM(I15:I21) -> 34185.76
A15: 2.1.1 | B15: CDHU | C15: 04.17.040 | D15: =VLOOKUP($C15,Onerado!$A$9:$F$4126,2,0) -> Remoção de aparelho de iluminação ou projetor fixo em poste ou braço | E15: =VLOOKUP($C15,Onerado!$A$9:$F$4126,3,0) -> UN | F15: 16 | G15: =VLOOKUP($C15,Onerado!$A$9:$F$4126,6,0) -> 75.08 | H15: =(G15*$I$6)+G15 -> 93.85 | I15: =H15*F15 -> 1501.6
A16: 2.1.2 | B16: CDHU | C16: 04.18.390 | D16: =VLOOKUP($C16,Onerado!$A$9:$F$4126,2,0) -> Remoção de condutor embutido diâmetro externo até 6,5 mm | E16: =VLOOKUP($C16,Onerado!$A$9:$F$4126,3,0) -> M | F16: =F15*3 -> 48 | G16: =VLOOKUP($C16,Onerado!$A$9:$F$4126,6,0) -> 2.5 | H16: =(G16*$I$6)+G16 -> 3.13 | I16: =H16*F16 -> 150.24
A17: 2.1.3 | B17: CDHU | C17: 04.21.210 | D17: =VLOOKUP($C17,Onerado!$A$9:$F$4126,2,0) -> Remoção de reator para lâmpada fixo em poste | E17: =VLOOKUP($C17,Onerado!$A$9:$F$4126,3,0) -> UN | F17: =F15 -> 16 | G17: =VLOOKUP($C17,Onerado!$A$9:$F$4126,6,0) -> 100.1 | H17: =(G17*$I$6)+G17 -> 125.13 | I17: =H17*F17 -> 2002.08
A18: 2.1.4 | B18: CDHU | C18: 04.21.240 | D18: =VLOOKUP($C18,Onerado!$A$9:$F$4126,2,0) -> Remoção de relé | E18: =VLOOKUP($C18,Onerado!$A$9:$F$4126,3,0) -> UN | F18: =F15 -> 16 | G18: =VLOOKUP($C18,Onerado!$A$9:$F$4126,6,0) -> 23.75 | H18: =(G18*$I$6)+G18 -> 29.69 | I18: =H18*F18 -> 475.04
A19: 2.1.5 | B19: CDHU | C19: 39.21.231 | D19: =VLOOKUP($C19,Onerado!$A$9:$F$4126,2,0) -> Cabo de cobre flexível de 3 x 2,5 mm², isolamento 0,6/1 kV - isolação HEPR 90°C | E19: =VLOOKUP($C19,Onerado!$A$9:$F$4126,3,0) -> M | F19: =F20*3 -> 48 | G19: =VLOOKUP($C19,Onerado!$A$9:$F$4126,6,0) -> 8.99 | H19: =(G19*$I$6)+G19 -> 11.24 | I19: =H19*F19 -> 539.52
A20: 2.1.6 | B20: CDHU | C20: 41.11.703 | D20: =VLOOKUP($C20,Onerado!$A$9:$F$4126,2,0) -> Luminária LED retangular para poste, fluxo luminoso de 14160 a 17475 lm, eficiência mínima de 118 lm/W - potência de 80 W/120 W | E20: =VLOOKUP($C20,Onerado!$A$9:$F$4126,3,0) -> UN | F20: 16 | G20: =VLOOKUP($C20,Onerado!$A$9:$F$4126,6,0) -> 1388.52 | H20: =(G20*$I$6)+G20 -> 1735.65 | I20: =H20*F20 -> 27770.4
A21: 2.1.7 | B21: CDHU | C21: 40.11.010 | D21: =VLOOKUP($C21,Onerado!$A$9:$F$4126,2,0) -> Relé fotoelétrico 50/60 Hz, 110/220 V, 1200 VA, completo | E21: =VLOOKUP($C21,Onerado!$A$9:$F$4126,3,0) -> UN | F21: =F20 -> 16 | G21: =VLOOKUP($C21,Onerado!$A$9:$F$4126,6,0) -> 87.34 | H21: =(G21*$I$6)+G21 -> 109.18 | I21: =H21*F21 -> 1746.88
A22: 2.2 | D22: RUA MARIO TOZZI | E22: PONTOS | F22: 11 | I22: =SUM(I23:I29) -> 23502.71
A23: 2.2.1 | B23: CDHU | C23: 04.17.040 | D23: =VLOOKUP($C23,Onerado!$A$9:$F$4126,2,0) -> Remoção de aparelho de iluminação ou projetor fixo em poste ou braço | E23: =VLOOKUP($C23,Onerado!$A$9:$F$4126,3,0) -> UN | F23: 11 | G23: =VLOOKUP($C23,Onerado!$A$9:$F$4126,6,0) -> 75.08 | H23: =(G23*$I$6)+G23 -> 93.85 | I23: =H23*F23 -> 1032.35
A24: 2.2.2 | B24: CDHU | C24: 04.18.390 | D24: =VLOOKUP($C24,Onerado!$A$9:$F$4126,2,0) -> Remoção de condutor embutido diâmetro externo até 6,5 mm | E24: =VLOOKUP($C24,Onerado!$A$9:$F$4126,3,0) -> M | F24: =F23*3 -> 33 | G24: =VLOOKUP($C24,Onerado!$A$9:$F$4126,6,0) -> 2.5 | H24: =(G24*$I$6)+G24 -> 3.13 | I24: =H24*F24 -> 103.29
A25: 2.2.3 | B25: CDHU | C25: 04.21.210 | D25: =VLOOKUP($C25,Onerado!$A$9:$F$4126,2,0) -> Remoção de reator para lâmpada fixo em poste | E25: =VLOOKUP($C25,Onerado!$A$9:$F$4126,3,0) -> UN | F25: =F23 -> 11 | G25: =VLOOKUP($C25,Onerado!$A$9:$F$4126,6,0) -> 100.1 | H25: =(G25*$I$6)+G25 -> 125.13 | I25: =H25*F25 -> 1376.43
A26: 2.2.4 | B26: CDHU | C26: 04.21.240 | D26: =VLOOKUP($C26,Onerado!$A$9:$F$4126,2,0) -> Remoção de relé | E26: =VLOOKUP($C26,Onerado!$A$9:$F$4126,3,0) -> UN | F26: =F23 -> 11 | G26: =VLOOKUP($C26,Onerado!$A$9:$F$4126,6,0) -> 23.75 | H26: =(G26*$I$6)+G26 -> 29.69 | I26: =H26*F26 -> 326.59
A27: 2.2.5 | B27: CDHU | C27: 39.21.231 | D27: =VLOOKUP($C27,Onerado!$A$9:$F$4126,2,0) -> Cabo de cobre flexível de 3 x 2,5 mm², isolamento 0,6/1 kV - isolação HEPR 90°C | E27: =VLOOKUP($C27,Onerado!$A$9:$F$4126,3,0) -> M | F27: =F28*3 -> 33 | G27: =VLOOKUP($C27,Onerado!$A$9:$F$4126,6,0) -> 8.99 | H27: =(G27*$I$6)+G27 -> 11.24 | I27: =H27*F27 -> 370.92
A28: 2.2.6 | B28: CDHU | C28: 41.11.703 | D28: =VLOOKUP($C28,Onerado!$A$9:$F$4126,2,0) -> Luminária LED retangular para poste, fluxo luminoso de 14160 a 17475 lm, eficiência mínima de 118 lm/W - potência de 80 W/120 W | E28: =VLOOKUP($C28,Onerado!$A$9:$F$4126,3,0) -> UN | F28: 11 | G28: =VLOOKUP($C28,Onerado!$A$9:$F$4126,6,0) -> 1388.52 | H28: =(G28*$I$6)+G28 -> 1735.65 | I28: =H28*F28 -> 19092.15
A29: 2.2.7 | B29: CDHU | C29: 40.11.010 | D29: =VLOOKUP($C29,Onerado!$A$9:$F$4126,2,0) -> Relé fotoelétrico 50/60 Hz, 110/220 V, 1200 VA, completo | E29: =VLOOKUP($C29,Onerado!$A$9:$F$4126,3,0) -> UN | F29: =F28 -> 11 | G29: =VLOOKUP($C29,Onerado!$A$9:$F$4126,6,0) -> 87.34 | H29: =(G29*$I$6)+G29 -> 109.18 | I29: =H29*F29 -> 1200.98
A30: 2.3 | D30: RUA JOÃO CASSETARI | E30: PONTOS | F30: 8 | I30: =SUM(I31:I37) -> 17092.88
A31: 2.3.1 | B31: CDHU | C31: 04.17.040 | D31: =VLOOKUP($C31,Onerado!$A$9:$F$4126,2,0) -> Remoção de aparelho de iluminação ou projetor fixo em poste ou braço | E31: =VLOOKUP($C31,Onerado!$A$9:$F$4126,3,0) -> UN | F31: 8 | G31: =VLOOKUP($C31,Onerado!$A$9:$F$4126,6,0) -> 75.08 | H31: =(G31*$I$6)+G31 -> 93.85 | I31: =H31*F31 -> 750.8
A32: 2.3.2 | B32: CDHU | C32: 04.18.390 | D32: =VLOOKUP($C32,Onerado!$A$9:$F$4126,2,0) -> Remoção de condutor embutido diâmetro externo até 6,5 mm | E32: =VLOOKUP($C32,Onerado!$A$9:$F$4126,3,0) -> M | F32: =F31*3 -> 24 | G32: =VLOOKUP($C32,Onerado!$A$9:$F$4126,6,0) -> 2.5 | H32: =(G32*$I$6)+G32 -> 3.13 | I32: =H32*F32 -> 75.12
A33: 2.3.3 | B33: CDHU | C33: 04.21.210 | D33: =VLOOKUP($C33,Onerado!$A$9:$F$4126,2,0) -> Remoção de reator para lâmpada fixo em poste | E33: =VLOOKUP($C33,Onerado!$A$9:$F$4126,3,0) -> UN | F33: =F31 -> 8 | G33: =VLOOKUP($C33,Onerado!$A$9:$F$4126,6,0) -> 100.1 | H33: =(G33*$I$6)+G33 -> 125.13 | I33: =H33*F33 -> 1001.04
A34: 2.3.4 | B34: CDHU | C34: 04.21.240 | D34: =VLOOKUP($C34,Onerado!$A$9:$F$4126,2,0) -> Remoção de relé | E34: =VLOOKUP($C34,Onerado!$A$9:$F$4126,3,0) -> UN | F34: =F31 -> 8 | G34: =VLOOKUP($C34,Onerado!$A$9:$F$4126,6,0) -> 23.75 | H34: =(G34*$I$6)+G34 -> 29.69 | I34: =H34*F34 -> 237.52
A35: 2.3.5 | B35: CDHU | C35: 39.21.231 | D35: =VLOOKUP($C35,Onerado!$A$9:$F$4126,2,0) -> Cabo de cobre flexível de 3 x 2,5 mm², isolamento 0,6/1 kV - isolação HEPR 90°C | E35: =VLOOKUP($C35,Onerado!$A$9:$F$4126,3,0) -> M | F35: =F36*3 -> 24 | G35: =VLOOKUP($C35,Onerado!$A$9:$F$4126,6,0) -> 8.99 | H35: =(G35*$I$6)+G35 -> 11.24 | I35: =H35*F35 -> 269.76
A36: 2.3.6 | B36: CDHU | C36: 41.11.703 | D36: =VLOOKUP($C36,Onerado!$A$9:$F$4126,2,0) -> Luminária LED retangular para poste, fluxo luminoso de 14160 a 17475 lm, eficiência mínima de 118 lm/W - potência de 80 W/120 W | E36: =VLOOKUP($C36,Onerado!$A$9:$F$4126,3,0) -> UN | F36: 8 | G36: =VLOOKUP($C36,Onerado!$A$9:$F$4126,6,0) -> 1388.52 | H36: =(G36*$I$6)+G36 -> 1735.65 | I36: =H36*F36 -> 13885.2
A37: 2.3.7 | B37: CDHU | C37: 40.11.010 | D37: =VLOOKUP($C37,Onerado!$A$9:$F$4126,2,0) -> Relé fotoelétrico 50/60 Hz, 110/220 V, 1200 VA, completo | E37: =VLOOKUP($C37,Onerado!$A$9:$F$4126,3,0) -> UN | F37: =F36 -> 8 | G37: =VLOOKUP($C37,Onerado!$A$9:$F$4126,6,0) -> 87.34 | H37: =(G37*$I$6)+G37 -> 109.18 | I37: =H37*F37 -> 873.44
A38: 2.4 | D38: RUA OSWALDO MEZADRI | E38: PONTOS | F38: 12 | I38: =SUM(I39:I45) -> 25639.32
A39: 2.4.1 | B39: CDHU | C39: 04.17.040 | D39: =VLOOKUP($C39,Onerado!$A$9:$F$4126,2,0) -> Remoção de aparelho de iluminação ou projetor fixo em poste ou braço | E39: =VLOOKUP($C39,Onerado!$A$9:$F$4126,3,0) -> UN | F39: 12 | G39: =VLOOKUP($C39,Onerado!$A$9:$F$4126,6,0) -> 75.08 | H39: =(G39*$I$6)+G39 -> 93.85 | I39: =H39*F39 -> 1126.2
A40: 2.4.2 | B40: CDHU | C40: 04.18.390 | D40: =VLOOKUP($C40,Onerado!$A$9:$F$4126,2,0) -> Remoção de condutor embutido diâmetro externo até 6,5 mm | E40: =VLOOKUP($C40,Onerado!$A$9:$F$4126,3,0) -> M | F40: =F39*3 -> 36 | G40: =VLOOKUP($C40,Onerado!$A$9:$F$4126,6,0) -> 2.5 | H40: =(G40*$I$6)+G40 -> 3.13 | I40: =H40*F40 -> 112.68
A41: 2.4.3 | B41: CDHU | C41: 04.21.210 | D41: =VLOOKUP($C41,Onerado!$A$9:$F$4126,2,0) -> Remoção de reator para lâmpada fixo em poste | E41: =VLOOKUP($C41,Onerado!$A$9:$F$4126,3,0) -> UN | F41: =F39 -> 12 | G41: =VLOOKUP($C41,Onerado!$A$9:$F$4126,6,0) -> 100.1 | H41: =(G41*$I$6)+G41 -> 125.13 | I41: =H41*F41 -> 1501.56
A42: 2.4.4 | B42: CDHU | C42: 04.21.240 | D42: =VLOOKUP($C42,Onerado!$A$9:$F$4126,2,0) -> Remoção de relé | E42: =VLOOKUP($C42,Onerado!$A$9:$F$4126,3,0) -> UN | F42: =F39 -> 12 | G42: =VLOOKUP($C42,Onerado!$A$9:$F$4126,6,0) -> 23.75 | H42: =(G42*$I$6)+G42 -> 29.69 | I42: =H42*F42 -> 356.28
A43: 2.4.5 | B43: CDHU | C43: 39.21.231 | D43: =VLOOKUP($C43,Onerado!$A$9:$F$4126,2,0) -> Cabo de cobre flexível de 3 x 2,5 mm², isolamento 0,6/1 kV - isolação HEPR 90°C | E43: =VLOOKUP($C43,Onerado!$A$9:$F$4126,3,0) -> M | F43: =F44*3 -> 36 | G43: =VLOOKUP($C43,Onerado!$A$9:$F$4126,6,0) -> 8.99 | H43: =(G43*$I$6)+G43 -> 11.24 | I43: =H43*F43 -> 404.64
A44: 2.4.6 | B44: CDHU | C44: 41.11.703 | D44: =VLOOKUP($C44,Onerado!$A$9:$F$4126,2,0) -> Luminária LED retangular para poste, fluxo luminoso de 14160 a 17475 lm, eficiência mínima de 118 lm/W - potência de 80 W/120 W | E44: =VLOOKUP($C44,Onerado!$A$9:$F$4126,3,0) -> UN | F44: =F38 -> 12 | G44: =VLOOKUP($C44,Onerado!$A$9:$F$4126,6,0) -> 1388.52 | H44: =(G44*$I$6)+G44 -> 1735.65 | I44: =H44*F44 -> 20827.8
...

Sheet Cronograma
A2: CRONOGRAMA FÍSICO FINANCEIRO
A3: ='[1]Planilha Orçamentária'!A5 -> OBRA: | B3: ='Planilha Orçamentária'!B5:G5 -> Troca de iluminação convencional por tecnologia LED nos Bairros Mirante dos OVNIs e Jardim Clarice
A4: Endereço: | B4: ='Planilha Orçamentária'!B6:G6 -> Bairros Mirante dos OVNIs e Jardim Clarice - Votorantim/SP
A6: ETAPA | C6: VALOR | D6: DIAS | H6: TOTAL
D7: 30 | E7: =D7+30 -> 60 | F7: =E7+30 -> 90 | G7: =F7+30 -> 120
A8: ='[1]Planilha Orçamentária'!A11 -> 1. | B8: ='Planilha Orçamentária'!D11 -> SERVIÇOS PRELIMINARES | C8: ='Planilha Orçamentária'!I11 -> 10416.96 | D8: =D9*$C8 -> 10416.96 | E8: =E9*$C8 -> 0 | F8: =F9*$C8 -> 0 | G8: =G9*$C8 -> 0 | H8: =SUM(D8:G8) -> 10416.96
D9: 1 | E9: 0 | F9: 0 | G9: 0 | H9: =SUM(D9:G9) -> 1
A10: 2. | B10: ='Planilha Orçamentária'!D13 -> BAIRRO MIRANTE DOS OVNIs | C10: ='Planilha Orçamentária'!I13 -> 575628.29 | D10: =D11*$C10 -> 172688.49 | E10: =E11*$C10 -> 172688.49 | F10: =F11*$C10 -> 115125.66 | G10: =G11*$C10 -> 115125.66 | H10: =SUM(D10:G10) -> 575628.3
D11: 0.3 | E11: 0.3 | F11: 0.2 | G11: 0.2 | H11: =SUM(D11:G11) -> 1
A12: 3. | B12: ='Planilha Orçamentária'!D206 -> BAIRRO JARDIM CLARICE | C12: ='Planilha Orçamentária'!I206 -> 911916.74 | D12: =D13*$C12 -> 455958.37 | E12: =E13*$C12 -> 91191.67 | F12: =F13*$C12 -> 91191.67 | G12: =G13*$C12 -> 273575.02 | H12: =SUM(D12:G12) -> 911916.73
D13: 0.5 | E13: 0.1 | F13: 0.1 | G13: 0.3 | H13: =SUM(D13:G13) -> 1
A14: VALOR TOTAL | C14: =SUM(C8:C13) -> 1497962 | D14: =D8+D10+D12 -> 639063.82 | E14: =E8+E10+E12 -> 263880.16 | F14: =F8+F10+F12 -> 206317.33 | G14: =G8+G10+G12 -> 388700.68 | H14: =SUM(D14:G14) -> 1497962
D15: =D14/$C$14 -> 0.4266 | E15: =E14/$C$14 -> 0.1762 | F15: =F14/$C$14 -> 0.1377 | G15: =G14/$C$14 -> 0.2595 | H15: =SUM(D15:G15) -> 1
D16: =D14 -> 639063.82 | E16: =D16+E14 -> 902943.98 | F16: =E16+F14 -> 1109261.3 | G16: =F16+G14 -> 1497962
D17: =D16/$C$14 -> 0.4266 | E17: =E16/$C$14 -> 0.6028 | F17: =F16/$C$14 -> 0.7405 | G17: =G16/$C$14 -> 1
B23: Saulo Guilherme Ernesto
B24: Eng. SOURB - CREA 5062489875

Sheet BDI
A3: QUADRO DE COMPOSIÇÃO DE BDI
A5: TIPO DE OBRA DO EMPREENDIMENTO:
A6: REFORMA E AMPLIAÇÃO
A8: OBJETO:
A9: =Cronograma!B3 -> Troca de iluminação convencional por tecnologia LED nos Bairros Mirante dos OVNIs e Jardim Clarice
A12: ITENS | B12: SIGLAS | C12: ADOTADO % | D12: 1º QUARTIL | E12: MÉDIO | F12: 3° QUARTIL
A13: ADMINISTRAÇÃO CENTRAL | B13: AC | C13: 0.03 | D13: 0.03 | E13: 0.04 | F13: 0.055
A14: SEGURO E GARANTIA | B14: SG | C14: 0.008 | D14: 0.008 | E14: 0.008 | F14: 0.01
A15: RISCO | B15: R | C15: 0.0097 | D15: 0.0097 | E15: 0.0127 | F15: 0.0127
A16: DESPESAS FINANCEIRAS | B16: DF | C16: 0.012 | D16: 0.0059 | E16: 0.0123 | F16: 0.0139
A17: LUCRO | B17: L | C17: 0.077 | D17: 0.0616 | E17: 0.074 | F17: 0.0896
A18: TRIBUTOS (IMPOSTOS COFINS 3%, E PIS 0,65%) | B18: CP | C18: 0.0365 | D18: 0.0365 | E18: 0.0365 | F18: 0.0365
A19: TRIBUTOS (ISS, VARIÁVEL DE ACORDO COM O MUNICÍPIO) | B19: ISS | C19: 0.05 | D19: 0 | E19: 0.025 | F19: 0.05
A20: TRIBUTOS (CONTRIBUIÇÃO PREVIDENCIÁRIA SOBRE A RECEITA BRUTA - 0% OU 4,5 % - DESONERAÇÃO) | B20: CPRB | C20: 0 | D20: 0 | E20: 0.045 | F20: 0.045
A21: BDI SEM DESONERAÇÃO (FÓRMULA ACÓRDÃO TCU) | B21: BDI PAD | C21: =(((1+C13+C14+C15)*(1+C16)*(1+C17))/(1-C18-C19))-1 -> 0.25
A24: Os valores de BDI foram calculado com o emprego da fórmula:
A25: BDI PAD = | B25: (1+AC+S+R+G)*(1+DF)*(1+L) | D25: -1
B26: (1-CP-ISS)
A28: Declaro para os devidos fins que, conforme legislação tributária municipal, a base de cálculo para Construção e Reforma de Edifícios, é de 100%, com a respectiva alíquota de 5%.
A30: Declaro para os devidos fins que o regime de Contribuição Previdenciária sobre a Receita Bruta adotado para ebaboração do orçamento foi SEM Desoneração, e que esta é a alternativa mais adequada para a Administração Pública.
A33: Votorantim, 15 de Março de 2.024
C36: Eng. Saulo Guilherme Ernesto

Sheet Onerado
B1: COMPANHIA DE DESENVOLVIMENTO HABITACIONAL E URBANO
A2: DO ESTADO DE SÃO PAULO
A3: BOLETIM REFERENCIAL DE CUSTOS - TABELA DE SERVIÇOS
A4: SEM DESONERAÇÃO
F5: Versão 192
E6: Data Base: | F6: Nov/23
C7: BDI : | D7: 0 | E7: L.S.: | F7: 1.2823
A8: Referência | B8: Descrição | C8: Un | D8: Material | E8: Mão de Obra | F8: Custo Total
A9: 01 | B9: SERVICO TECNICO ESPECIALIZADO | G9: =LEN(A9) -> 2
A10: 01.02 | B10: Parecer técnico | G10: =LEN(A10) -> 5
A11: 01.02.071 | B11: Parecer técnico de fundações, contenções e recomendações gerais, para empreendimentos com área construída até 1.000 m² | C11: UN | E11: 6504.46 | F11: 6504.46 | G11: =LEN(A11) -> 9
A12: 01.02.081 | B12: Parecer técnico de fundações, contenções e recomendações gerais, para empreendimentos com área construída de 1.001 a 2.000 m² | C12: UN | E12: 8649.66 | F12: 8649.66 | G12: =LEN(A12) -> 9
A13: 01.02.091 | B13: Parecer técnico de fundações, contenções e recomendações gerais, para empreendimentos com área construída de 2.001 a 5.000 m² | C13: UN | E13: 14775.55 | F13: 14775.55 | G13: =LEN(A13) -> 9
A14: 01.02.101 | B14: Parecer técnico de fundações, contenções e recomendações gerais, para empreendimentos com área construída de 5.001 a 10.000 m² | C14: UN | E14: 20259.02 | F14: 20259.02 | G14: =LEN(A14) -> 9
A15: 01.02.111 | B15: Parecer técnico de fundações, contenções e recomendações gerais, para empreendimentos com área construída acima de 10.000 m² | C15: UN | E15: 23608.75 | F15: 23608.75 | G15: =LEN(A15) -> 9
A16: 01.06 | B16: Projeto de instalações elétricas | G16: =LEN(A16) -> 5
A17: 01.06.021 | B17: Elaboração de projeto de adequação de entrada de energia elétrica junto a concessionária, com medição em baixa tensão e demanda até 75 kVA | C17: UN | E17: 8308.24 | F17: 8308.24 | G17: =LEN(A17) -> 9
A18: 01.06.031 | B18: Elaboração de projeto de adequação de entrada de energia elétrica junto a concessionária, com medição em média tensão, subestação simplificada e demanda de 75 kVA a 300 kVA | C18: UN | E18: 14072.5 | F18: 14072.5 | G18: =LEN(A18) -> 9
A19: 01.06.032 | B19: Elaboração de projeto de adequação de entrada de energia elétrica junto a concessionária, com medição em média tensão e demanda de 75 kVA a 300 kVA | C19: UN | E19: 19042.76 | F19: 19042.76 | G19: =LEN(A19) -> 9
A20: 01.06.041 | B20: Elaboração de projeto de adequação de entrada de energia elétrica junto a concessionária, com medição em média tensão e demanda acima de 300 kVA a 2 MVA | C20: UN | E20: 25329.1 | F20: 25329.1 | G20: =LEN(A20) -> 9
A21: 01.17 | B21: Projeto executivo | G21: =LEN(A21) -> 5
A22: 01.17.031 | B22: Projeto executivo de arquitetura em formato A1 | C22: UN | E22: 3272.73 | F22: 3272.73 | G22: =LEN(A22) -> 9
A23: 01.17.041 | B23: Projeto executivo de arquitetura em formato A0 | C23: UN | E23: 4424.38 | F23: 4424.38 | G23: =LEN(A23) -> 9
A24: 01.17.051 | B24: Projeto executivo de estrutura em formato A1 | C24: UN | E24: 2400.17 | F24: 2400.17 | G24: =LEN(A24) -> 9
A25: 01.17.061 | B25: Projeto executivo de estrutura em formato A0 | C25: UN | E25: 3283.86 | F25: 3283.86 | G25: =LEN(A25) -> 9
A26: 01.17.071 | B26: Projeto executivo de instalações hidráulicas em formato A1 | C26: UN | E26: 1030.39 | F26: 1030.39 | G26: =LEN(A26) -> 9
A27: 01.17.081 | B27: Projeto executivo de instalações hidráulicas em formato A0 | C27: UN | E27: 1371.58 | F27: 1371.58 | G27: =LEN(A27) -> 9
A28: 01.17.111 | B28: Projeto executivo de instalações elétricas em formato A1 | C28: UN | E28: 1144.21 | F28: 1144.21 | G28: =LEN(A28) -> 9
A29: 01.17.121 | B29: Projeto executivo de instalações elétricas em formato A0 | C29: UN | E29: 1586.51 | F29: 1586.51 | G29: =LEN(A29) -> 9
A30: 01.17.151 | B30: Projeto executivo de climatização em formato A1 | C30: UN | E30: 2202.38 | F30: 2202.38 | G30: =LEN(A30) -> 9
A31: 01.17.161 | B31: Projeto executivo de climatização em formato A0 | C31: UN | E31: 3002.07 | F31: 3002.07 | G31: =LEN(A31) -> 9
A32: 01.17.171 | B32: Projeto executivo de chuveiros automáticos em formato A1 | C32: UN | E32: 1901.28 | F32: 1901.28 | G32: =LEN(A32) -> 9
A33: 01.17.181 | B33: Projeto executivo de chuveiros automáticos em formato A0 | C33: UN | E33: 2457.47 | F33: 2457.47 | G33: =LEN(A33) -> 9
A34: 01.20 | B34: Levantamento topográfico e geofísico | G34: =LEN(A34) -> 5
A35: 01.20.010 | B35: Taxa de mobilização e desmobilização de equipamentos para execução de levantamento topográfico | C35: TX | D35: 1183.91 | F35: 1183.91 | G35: =LEN(A35) -> 9
A36: 01.20.280 | B36: Levantamento planimétrico de área pavimentada para veículo e pedestre | C36: M2 | D36: 0.04 | E36: 0.16 | F36: 0.2 | G36: =LEN(A36) -> 9
A37: 01.20.691 | B37: Levantamento planimétrico cadastral com áreas ocupadas predominantemente por comunidades - área até 20.000 m² (mínimo de 3.500 m²) | C37: M2 | D37: 0.4 | E37: 0.53 | F37: 0.93 | G37: =LEN(A37) -> 9
A38: 01.20.701 | B38: Levantamento planimétrico cadastral com áreas ocupadas predominantemente por comunidades - área acima de 20.000 m² até 200.000 m² | C38: M2 | D38: 0.31 | E38: 0.42 | F38: 0.73 | G38: =LEN(A38) -> 9
A39: 01.20.711 | B39: Levantamento planimétrico cadastral com áreas ocupadas predominantemente por comunidades - área acima de 200.000 m² | C39: M2 | D39: 0.25 | E39: 0.35 | F39: 0.6 | G39: =LEN(A39) -> 9
A40: 01.20.721 | B40: Levantamento planimétrico cadastral com áreas até 50% de ocupação - área até 20.000 m² (mínimo de 3.500 m²) | C40: M2 | D40: 0.34 | E40: 0.46 | F40: 0.8 | G40: =LEN(A40) -> 9
...
