Workbook
Name I.Lotes: [1]QCI!$Z$8:$Z$18
Name ItemInvestimento: OFFSET([1]Listas!$B$2,1,0,COUNTA([1]Listas!$B:$B)-1)
Name SubItemInvestimento: OFFSET([1]Listas!$A$2,1,MATCH([1]QCI!$E1,[1]Listas!$2:$2,0)-1,INDEX([1]Listas!$2:$2,MATCH([1]QCI!$E1,[1]Listas!$2:$2,0)+1))

Sheet ORÇAMENTO
D1: PLANILHA ORÇAMENTÁRIA
D2: LOGO DA EMPRESA | E2: SOMENTE PREENCHER A COLUNA AMARELA, SEM FÓRMULAS
C3: Convênio: | D3: Ministérios do Esporte / Contrato de Repasse n° 941095/2023 / Processo PMP 05581/2023 | G3: Data:
C4: Obra: | D4: Reforma dos Vestiários do Estádio Municipal Lino de Matos | G4: BDI: | H4: 0.2234
C5: Endereço: | D5: Rua Quintino de Campos, 160, Centro, Piedade-SP (CEP - 18170-000)
C6: Boletins: | D6: SINAPI 02/2026 não desonerado; CDHU Boletim-200 NOV/2025 sem desoneração; SICRO OUTUBRO/2025
A8: ITEM | B8: REF. | C8: SERVIÇO | E8: Unid. | F8: Quant. | G8: $ unitário | H8: $ unit c/ BDI | I8: $ total c/ BDI
A10: 1 | D10: INÍCIO, APOIO E ADMINISTRAÇÃO DA OBRA | I10: =I11 -> 0
A11: 1.1 | B11: SINAPI | C11: 103689 | D11: FORNECIMENTO E INSTALAÇÃO DE PLACA DE OBRA COM CHAPA GALVANIZADA E ESTRUTURA DE MADEIRA. AF_03/2022_PS | E11: m² | F11: 4.5 | G11: 0 | H11: =ROUND(((G11*$H$4)+G11),2) -> 0 | I11: =ROUND((H11*F11),2) -> 0
A12: 2 | D12: SERVIÇOS PRELIMINARES | I12: =SUM(I13:I23) -> 0
A13: 2.1 | B13: SINAPI | C13: 97622 | D13: DEMOLIÇÃO DE ALVENARIA DE BLOCO FURADO, DE FORMA MANUAL, SEM REAPROVEITAMENTO. AF_09/2023 | E13: m³ | F13: 10.57 | G13: 0 | H13: =ROUND(((G13*$H$4)+G13),2) -> 0 | I13: =ROUND((H13*F13),2) -> 0
A14: 2.2 | B14: SINAPI | C14: 97624 | D14: DEMOLIÇÃO DE ALVENARIA DE TIJOLO MACIÇO, DE FORMA MANUAL, SEM REAPROVEITAMENTO. AF_09/2023 | E14: m³ | F14: 10.61 | G14: 0 | H14: =ROUND(((G14*$H$4)+G14),2) -> 0 | I14: =ROUND((H14*F14),2) -> 0
A15: 2.3 | B15: SINAPI | C15: 97633 | D15: DEMOLIÇÃO DE REVESTIMENTO CERÂMICO, DE FORMA MANUAL, SEM REAPROVEITAMENTO. AF_09/2023 | E15: m² | F15: 43.09 | G15: 0 | H15: =ROUND(((G15*$H$4)+G15),2) -> 0 | I15: =ROUND((H15*F15),2) -> 0
A16: 2.4 | B16: SINAPI | C16: 97644 | D16: REMOÇÃO DE PORTAS, DE FORMA MANUAL, SEM REAPROVEITAMENTO. AF_09/2023 | E16: m² | F16: 24.93 | G16: 0 | H16: =ROUND(((G16*$H$4)+G16),2) -> 0 | I16: =ROUND((H16*F16),2) -> 0
A17: 2.5 | B17: SINAPI | C17: 97645 | D17: REMOÇÃO DE JANELAS, DE FORMA MANUAL, SEM REAPROVEITAMENTO. AF_09/2023 | E17: m² | F17: 12.14 | G17: 0 | H17: =ROUND(((G17*$H$4)+G17),2) -> 0 | I17: =ROUND((H17*F17),2) -> 0
A18: 2.6 | B18: SINAPI | C18: 97647 | D18: REMOÇÃO DE TELHAS DE FIBROCIMENTO METÁLICA E CERÂMICA, DE FORMA MANUAL, SEM REAPROVEITAMENTO. AF_09/2023 | E18: m² | F18: 171.81 | G18: 0 | H18: =ROUND(((G18*$H$4)+G18),2) -> 0 | I18: =ROUND((H18*F18),2) -> 0
A19: 2.7 | B19: SINAPI | C19: 97651 | D19: REMOÇÃO DE TESOURAS DE MADEIRA, COM VÃO MENOR QUE 8M, DE FORMA MANUAL SEM REAPROVEITAMENTO. AF_09/2023 | E19: UN | F19: 4 | G19: 0 | H19: =ROUND(((G19*$H$4)+G19),2) -> 0 | I19: =ROUND((H19*F19),2) -> 0
A20: 2.8 | B20: SINAPI | C20: 97663 | D20: REMOÇÃO DE LOUÇAS, DE FORMA MANUAL, SEM REAPROVEITAMENTO. AF_09/2023 | E20: und | F20: 6 | G20: 0 | H20: =ROUND(((G20*$H$4)+G20),2) -> 0 | I20: =ROUND((H20*F20),2) -> 0
A21: 2.9 | B21: SINAPI | C21: 101159 | D21: ALVENARIA DE VEDAÇÃO DE BLOCOS CERÂMICOS MACIÇOS DE 5X10X20CM (ESPESSURA 10CM) E ARGAMASSA DE ASSENTAMENTO COM PREPARO EM BETONEIRA. AF_05/2020 | E21: m² | F21: 21.18 | G21: 0 | H21: =ROUND(((G21*$H$4)+G21),2) -> 0 | I21: =ROUND((H21*F21),2) -> 0
A22: 2.10 | B22: SINAPI | C22: 103335 | D22: ALVENARIA DE VEDAÇÃO DE BLOCOS CERÂMICOS FURADOS NA HORIZONTAL DE 14X9X19 CM (ESPESSURA 14 CM, BLOCO DEITADO) E ARGAMASSA DE ASSENTAMENTO COM PREPARO MANUAL. AF_12/2021 | E22: m² | F22: 6.79 | G22: 0 | H22: =ROUND(((G22*$H$4)+G22),2) -> 0 | I22: =ROUND((H22*F22),2) -> 0
A23: 2.11 | B23: SINAPI | C23: 104790 | D23: DEMOLIÇÃO DE PISO DE CONCRETO SIMPLES, DE FORMA MECANIZADA COM MARTELETE, SEM REAPROVEITAMENTO. AF_09/2023 | E23: m³ | F23: 6.73 | G23: 0 | H23: =ROUND(((G23*$H$4)+G23),2) -> 0 | I23: =ROUND((H23*F23),2) -> 0
A24: 3 | D24: REFORÇO DE FUNDAÇÕES, ESTRUTURAS DE CONCRETO E ALVENARIA DE ELEVAÇÃO | I24: =SUM(I25:I39) -> 0
A25: 3.1 | B25: CDHU | C25: 12.06.020 | D25: ESTACA TIPO STRAUSS, DIÂMETRO DE 25CM ATÉ 20T | E25: m | F25: 54 | G25: 0 | H25: =ROUND(((G25*$H$4)+G25),2) -> 0 | I25: =ROUND((H25*F25),2) -> 0
A26: 3.2 | B26: SINAPI | C26: 92269 | D26: FABRICAÇÃO DE FÔRMA PARA PILARES E ESTRUTURAS SIMILARES, EM MADEIRA SERRADA, E=25 MM. AF_09/2020 | E26: m² | F26: 10.5 | G26: 0 | H26: =ROUND(((G26*$H$4)+G26),2) -> 0 | I26: =ROUND((H26*F26),2) -> 0
A27: 3.3 | B27: SINAPI | C27: 92270 | D27: FABRICAÇÃO DE FÔRMA PARA VIGAS, COM MADEIRA SERRADA, E = 25 MM. AF_09/2020 | E27: m² | F27: 2.18 | G27: 0 | H27: =ROUND(((G27*$H$4)+G27),2) -> 0 | I27: =ROUND((H27*F27),2) -> 0
A28: 3.4 | B28: SINAPI | C28: 92760 | D28: ARMAÇÃO DE PILAR OU VIGA DE ESTRUTURA CONVENCIONAL DE CONCRETO ARMADO UTILIZANDO AÇO CA-50 DE 6,3 MM - MONTAGEM. AF_06/2022 | E28: kg | F28: 34.03 | G28: 0 | H28: =ROUND(((G28*$H$4)+G28),2) -> 0 | I28: =ROUND((H28*F28),2) -> 0
A29: 3.5 | B29: SINAPI | C29: 92762 | D29: ARMAÇÃO DE PILAR OU VIGA DE ESTRUTURA CONVENCIONAL DE CONCRETO ARMADO UTILIZANDO AÇO CA-50 DE 10,0 MM - MONTAGEM. AF_06/2022 | E29: kg | F29: 90.75 | G29: 0 | H29: =ROUND(((G29*$H$4)+G29),2) -> 0 | I29: =ROUND((H29*F29),2) -> 0
A30: 3.6 | B30: SINAPI | C30: 96523 | D30: ESCAVAÇÃO MANUAL PARA BLOCO DE COROAMENTO OU SAPATA (INCLUINDO ESCAVAÇÃO PARA COLOCAÇÃO DE FÔRMAS). AF_06/2017 | E30: m³ | F30: 2.64 | G30: 0 | H30: =ROUND(((G30*$H$4)+G30),2) -> 0 | I30: =ROUND((H30*F30),2) -> 0
A31: 3.7 | B31: SINAPI | C31: 96533 | D31: FABRICAÇÃO, MONTAGEM E DESMONTAGEM DE FÔRMA PARA VIGA BALDRAME, EM MADEIRA SERRADA, E=25 MM, 2 UTILIZAÇÕES. AF_06/2017 | E31: m² | F31: 5.74 | G31: 0 | H31: =ROUND(((G31*$H$4)+G31),2) -> 0 | I31: =ROUND((H31*F31),2) -> 0
A32: 3.8 | B32: SINAPI | C32: 96555 | D32: CONCRETAGEM DE BLOCOS DE COROAMENTO E VIGAS BALDRAME, FCK 30 MPA, COM USO DE JERICA  LANÇAMENTO, ADENSAMENTO E ACABAMENTO. AF_06/2017 | E32: m³ | F32: 0.6 | G32: 0 | H32: =ROUND(((G32*$H$4)+G32),2) -> 0 | I32: =ROUND((H32*F32),2) -> 0
A33: 3.9 | B33: SINAPI | C33: 96621 | D33: LASTRO COM MATERIAL GRANULAR, APLICAÇÃO EM BLOCOS DE COROAMENTO, ESPESSURA DE *5 CM*. AF_08/2017 | E33: m³ | F33: 0.13 | G33: 0 | H33: =ROUND(((G33*$H$4)+G33),2) -> 0 | I33: =ROUND((H33*F33),2) -> 0
A34: 3.10 | B34: SINAPI | C34: 98557 | D34: IMPERMEABILIZAÇÃO DE SUPERFÍCIE COM EMULSÃO ASFÁLTICA, 2 DEMÃOS. AF_09/2023 | E34: m² | F34: 3.95 | G34: 0 | H34: =ROUND(((G34*$H$4)+G34),2) -> 0 | I34: =ROUND((H34*F34),2) -> 0
A35: 3.11 | B35: SINAPI | C35: 98562 | D35: IMPERMEABILIZAÇÃO DE SUPERFÍCIE COM ARGAMASSA DE CIMENTO E AREIA, COM ADITIVO IMPERMEABILIZANTE, E = 1,5CM. AF_09/2023 | E35: m² | F35: 3.95 | G35: 0 | H35: =ROUND(((G35*$H$4)+G35),2) -> 0 | I35: =ROUND((H35*F35),2) -> 0
A36: 3.12 | B36: SINAPI | C36: 101963 | D36: LAJE PRÉ-MOLDADA UNIDIRECIONAL, BIAPOIADA, PARA PISO, ENCHIMENTO EM CERÂMICA, VIGOTA CONVENCIONAL, ALTURA TOTAL DA LAJE (ENCHIMENTO+CAPA) = (8+4). AF_11/2020_PA | E36: m² | F36: 4.57 | G36: 0 | H36: =ROUND(((G36*$H$4)+G36),2) -> 0 | I36: =ROUND((H36*F36),2) -> 0
A37: 3.13 | B37: SINAPI | C37: 103317 | D37: ALVENARIA DE VEDAÇÃO DE BLOCOS VAZADOS DE CONCRETO DE 9X19X39 CM (ESPESSURA 9 CM) E ARGAMASSA DE ASSENTAMENTO COM PREPARO MANUAL. AF_12/2021 | E37: m² | F37: 5.62 | G37: 0 | H37: =ROUND(((G37*$H$4)+G37),2) -> 0 | I37: =ROUND((H37*F37),2) -> 0
... A39: 3.15 | B39: SINAPI | C39: 103669 | D39: CONCRETAGEM DE PILARES, FCK = 25 MPA, COM USO DE BALDES - LANÇAMENTO, ADENSAMENTO E ACABAMENTO. AF_02/2022 | E39: m³ | F39: 0.87 | G39: 0 | H39: =ROUND(((G39*$H$4)+G39),2) -> 0 | I39: =ROUND((H39*F39),2) -> 0
A40: 4 | D40: MUROS | I40: =SUM(I41:I57) -> 0
A41: 4.1 | B41: CDHU | C41: 12.06.020 | D41: ESTACA TIPO STRAUSS, DIÂMETRO DE 25CM ATÉ 20T | E41: m | F41: 84 | G41: 0 | H41: =ROUND(((G41*$H$4)+G41),2) -> 0 | I41: =ROUND((H41*F41),2) -> 0
A42: 4.2 | B42: SINAPI | C42: 87528 | D42: EMBOÇO, EM ARGAMASSA TRAÇO 1:2:8, PREPARO MANUAL, APLICADO MANUALMENTE COM TALISCAS. AF_03/2024 | E42: m² | F42: 110.62 | G42: 0 | H42: =ROUND(((G42*$H$4)+G42),2) -> 0 | I42: =ROUND((H42*F42),2) -> 0
A43: 4.3 | B43: SINAPI | C43: 87878 | D43: CHAPISCO APLICADO EM ALVENARIAS E ESTRUTURAS DE CONCRETO INTERNAS, COM COLHER DE PEDREIRO. ARGAMASSA TRAÇO 1:3 COM PREPARO MANUAL. AF_10/2022 EM PAREDES INTERNAS DE AMBIENTES COM ÁREA MENOR QUE 5M², E = 17,5MM | E43: m² | F43: 110.62 | G43: 0 | H43: =ROUND(((G43*$H$4)+G43),2) -> 0 | I43: =ROUND((H43*F43),2) -> 0
A44: 4.4 | B44: SINAPI | C44: 88489 | D44: PINTURA LÁTEX ACRÍLICA PREMIUM, APLICAÇÃO MANUAL EM PAREDES, DUAS DEMÃOS. AF_04/2023 | E44: m² | F44: 110.62 | G44: 0 | H44: =ROUND(((G44*$H$4)+G44),2) -> 0 | I44: =ROUND((H44*F44),2) -> 0
A45: 4.5 | B45: SINAPI | C45: 92269 | D45: FABRICAÇÃO DE FÔRMA PARA PILARES E ESTRUTURAS SIMILARES, EM MADEIRA SERRADA, E=25 MM. AF_09/2020 | E45: m² | F45: 19.62 | G45: 0 | H45: =ROUND(((G45*$H$4)+G45),2) -> 0 | I45: =ROUND((H45*F45),2) -> 0
A46: 4.6 | B46: SINAPI | C46: 92760 | D46: ARMAÇÃO DE PILAR OU VIGA DE ESTRUTURA CONVENCIONAL DE CONCRETO ARMADO UTILIZANDO AÇO CA-50 DE 6,3 MM - MONTAGEM. AF_06/2022 | E46: kg | F46: 62.43 | G46: 0 | H46: =ROUND(((G46*$H$4)+G46),2) -> 0 | I46: =ROUND((H46*F46),2) -> 0
A47: 4.7 | B47: SINAPI | C47: 92762 | D47: ARMAÇÃO DE PILAR OU VIGA DE ESTRUTURA CONVENCIONAL DE CONCRETO ARMADO UTILIZANDO AÇO CA-50 DE 10,0 MM - MONTAGEM. AF_06/2022 | E47: kg | F47: 178.91 | G47: 0 | H47: =ROUND(((G47*$H$4)+G47),2) -> 0 | I47: =ROUND((H47*F47),2) -> 0
A48: 4.8 | B48: SINAPI | C48: 93205 | D48: CINTA DE AMARRAÇÃO DE ALVENARIA MOLDADA IN LOCO COM UTILIZAÇÃO DE BLOCOS CANALETA, ESPESSURA DE *20* CM. AF_03/2024 | E48: m | F48: 39.58 | G48: 0 | H48: =ROUND(((G48*$H$4)+G48),2) -> 0 | I48: =ROUND((H48*F48),2) -> 0
A49: 4.9 | B49: SINAPI | C49: 96523 | D49: ESCAVAÇÃO MANUAL PARA BLOCO DE COROAMENTO OU SAPATA (INCLUINDO ESCAVAÇÃO PARA COLOCAÇÃO DE FÔRMAS). AF_06/2017 | E49: m³ | F49: 2.13 | G49: 0 | H49: =ROUND(((G49*$H$4)+G49),2) -> 0 | I49: =ROUND((H49*F49),2) -> 0
A50: 4.10 | B50: SINAPI | C50: 96533 | D50: FABRICAÇÃO, MONTAGEM E DESMONTAGEM DE FÔRMA PARA VIGA BALDRAME, EM MADEIRA SERRADA, E=25 MM, 2 UTILIZAÇÕES. AF_06/2017 | E50: m² | F50: 11.89 | G50: 0 | H50: =ROUND(((G50*$H$4)+G50),2) -> 0 | I50: =ROUND((H50*F50),2) -> 0
A51: 4.11 | B51: SINAPI | C51: 96555 | D51: CONCRETAGEM DE BLOCOS DE COROAMENTO E VIGAS BALDRAME, FCK 30 MPA, COM USO DE JERICA  LANÇAMENTO, ADENSAMENTO E ACABAMENTO. AF_06/2017 | E51: m³ | F51: 1.2 | G51: 0 | H51: =ROUND(((G51*$H$4)+G51),2) -> 0 | I51: =ROUND((H51*F51),2) -> 0
A52: 4.12 | B52: SINAPI | C52: 96621 | D52: LASTRO COM MATERIAL GRANULAR, APLICAÇÃO EM BLOCOS DE COROAMENTO, ESPESSURA DE *5 CM*. AF_08/2017 | E52: m³ | F52: 0.24 | G52: 0 | H52: =ROUND(((G52*$H$4)+G52),2) -> 0 | I52: =ROUND((H52*F52),2) -> 0
A53: 4.13 | B53: SINAPI | C53: 98557 | D53: IMPERMEABILIZAÇÃO DE SUPERFÍCIE COM EMULSÃO ASFÁLTICA, 2 DEMÃOS. AF_09/2023 | E53: m² | F53: 7.94 | G53: 0 | H53: =ROUND(((G53*$H$4)+G53),2) -> 0 | I53: =ROUND((H53*F53),2) -> 0
A54: 4.14 | B54: SINAPI | C54: 98562 | D54: IMPERMEABILIZAÇÃO DE SUPERFÍCIE COM ARGAMASSA DE CIMENTO E AREIA, COM ADITIVO IMPERMEABILIZANTE, E = 1,5CM. AF_09/2023 | E54: m² | F54: 7.94 | G54: 0 | H54: =ROUND(((G54*$H$4)+G54),2) -> 0 | I54: =ROUND((H54*F54),2) -> 0
A55: 4.15 | B55: SINAPI | C55: 100701 | D55: PORTA DE FERRO, DE ABRIR, TIPO GRADE COM CHAPA, COM GUARNIÇÕES. AF_12/ | E55: m² | F55: =1.2*2.24 -> 2.69 | G55: 0 | H55: =ROUND(((G55*$H$4)+G55),2) -> 0 | I55: =ROUND((H55*F55),2) -> 0
A56: 4.16 | B56: SINAPI | C56: 103320 | D56: ALVENARIA DE VEDAÇÃO DE BLOCOS VAZADOS DE CONCRETO DE 19X19X39 CM (ESPESSURA 19 CM) E ARGAMASSA DE ASSENTAMENTO COM PREPARO EM BETONEIRA. AF_12/2021 | E56: m² | F56: 41.46 | G56: 0 | H56: =ROUND(((G56*$H$4)+G56),2) -> 0 | I56: =ROUND((H56*F56),2) -> 0
A57: 4.17 | B57: SINAPI | C57: 103669 | D57: CONCRETAGEM DE PILARES, FCK = 25 MPA, COM USO DE BALDES - LANÇAMENTO, ADENSAMENTO E ACABAMENTO. AF_02/2022 | E57: m³ | F57: 1.58 | G57: 0 | H57: =ROUND(((G57*$H$4)+G57),2) -> 0 | I57: =ROUND((H57*F57),2) -> 0
A58: 5 | D58: COBERTURA | I58: =SUM(I59:I64) -> 0
A59: 5.1 | B59: SINAPI | C59: 92580 | D59: TRAMA DE AÇO COMPOSTA POR TERÇAS PARA TELHADOS DE ATÉ 2 ÁGUAS PARA TELHA ONDULADA DE FIBROCIMENTO, METÁLICA, PLÁSTICA OU TERMOACÚSTICA, INCLUSO TRANSPORTE VERTICAL. AF_07/2019 | E59: m² | F59: 191.04 | G59: 0 | H59: =ROUND(((G59*$H$4)+G59),2) -> 0 | I59: =ROUND((H59*F59),2) -> 0
A60: 5.2 | B60: SINAPI | C60: 92604 | D60: FABRICAÇÃO E INSTALAÇÃO DE TESOURA INTEIRA EM AÇO, VÃO DE 4 M, PARA TELHA ONDULADA DE FIBROCIMENTO, METÁLICA, PLÁSTICA OU TERMOACÚSTICA, INCLUSO IÇAMENTO. AF_12/2015 | E60: un | F60: 1 | G60: 0 | H60: =ROUND(((G60*$H$4)+G60),2) -> 0 | I60: =ROUND((H60*F60),2) -> 0
A61: 5.3 | B61: SINAPI | C61: 92608 | D61: FABRICAÇÃO E INSTALAÇÃO DE TESOURA INTEIRA EM AÇO, VÃO DE 6 M, PARA TELHA ONDULADA DE FIBROCIMENTO, METÁLICA, PLÁSTICA OU TERMOACÚSTICA, INCLUSO IÇAMENTO. AF_12/2015 | E61: un | F61: 2 | G61: 0 | H61: =ROUND(((G61*$H$4)+G61),2) -> 0 | I61: =ROUND((H61*F61),2) -> 0
A62: 5.4 | B62: SINAPI | C62: 92610 | D62: FABRICAÇÃO E INSTALAÇÃO DE TESOURA INTEIRA EM AÇO, VÃO DE 7 M, PARA TELHA ONDULADA DE FIBROCIMENTO, METÁLICA, PLÁSTICA OU TERMOACÚSTICA, INCLUSO IÇAMENTO. AF_12/2015 | E62: un | F62: 2 | G62: 0 | H62: =ROUND(((G62*$H$4)+G62),2) -> 0 | I62: =ROUND((H62*F62),2) -> 0
A63: 5.5 | B63: SINAPI | C63: 94216 | D63: TELHAMENTO COM TELHA METÁLICA TERMOACÚSTICA E = 30 MM, COM ATÉ 2 ÁGUAS, INCLUSO IÇAMENTO. AF_07/2019 | E63: m² | F63: 178.18 | G63: 0 | H63: =ROUND(((G63*$H$4)+G63),2) -> 0 | I63: =ROUND((H63*F63),2) -> 0
A64: 5.6 | B64: SINAPI | C64: 94228 | D64: CALHA EM CHAPA DE AÇO GALVANIZADO NÚMERO 24, DESENVOLVIMENTO DE 50 CM, INCLUSO TRANSPORTE VERTICAL. AF_07/2019 | E64: m | F64: 8.17 | G64: 0 | H64: =ROUND(((G64*$H$4)+G64),2) -> 0 | I64: =ROUND((H64*F64),2) -> 0
A65: 6 | D65: ESCADA EM CONCRETO ARMADO | I65: =SUM(I66:I75) -> 0
A66: 6.1 | B66: CDHU | C66: 12.06.020 | D66: ESTACA TIPO STRAUSS, DIÂMETRO DE 25CM ATÉ 20T | E66: m | F66: 12 | G66: 0 | H66: =ROUND(((G66*$H$4)+G66),2) -> 0 | I66: =ROUND((H66*F66),2) -> 0
A67: 6.2 | B67: SINAPI | C67: 92760 | D67: ARMAÇÃO DE PILAR OU VIGA DE ESTRUTURA CONVENCIONAL DE CONCRETO ARMADO UTILIZANDO AÇO CA-50 DE 6,3 MM - MONTAGEM. AF_06/2022 | E67: kg | F67: 11.2 | G67: 0 | H67: =ROUND(((G67*$H$4)+G67),2) -> 0 | I67: =ROUND((H67*F67),2) -> 0
A68: 6.3 | B68: SINAPI | C68: 92762 | D68: ARMAÇÃO DE PILAR OU VIGA DE ESTRUTURA CONVENCIONAL DE CONCRETO ARMADO UTILIZANDO AÇO CA-50 DE 10,0 MM - MONTAGEM. AF_06/2022 | E68: kg | F68: 19.96 | G68: 0 | H68: =ROUND(((G68*$H$4)+G68),2) -> 0 | I68: =ROUND((H68*F68),2) -> 0
A69: 6.4 | B69: SINAPI | C69: 96523 | D69: ESCAVAÇÃO MANUAL PARA BLOCO DE COROAMENTO OU SAPATA (INCLUINDO ESCAVAÇÃO PARA COLOCAÇÃO DE FÔRMAS). AF_06/2017 | E69: m³ | F69: 0.55 | G69: 0 | H69: =ROUND(((G69*$H$4)+G69),2) -> 0 | I69: =ROUND((H69*F69),2) -> 0
A70: 6.5 | B70: SINAPI | C70: 96533 | D70: FABRICAÇÃO, MONTAGEM E DESMONTAGEM DE FÔRMA PARA VIGA BALDRAME, EM MADEIRA SERRADA, E=25 MM, 2 UTILIZAÇÕES. AF_06/2017 | E70: m² | F70: 3.74 | G70: 0 | H70: =ROUND(((G70*$H$4)+G70),2) -> 0 | I70: =ROUND((H70*F70),2) -> 0
A71: 6.6 | B71: SINAPI | C71: 96555 | D71: CONCRETAGEM DE BLOCOS DE COROAMENTO E VIGAS BALDRAME, FCK 30 MPA, COM USO DE JERICA  LANÇAMENTO, ADENSAMENTO E ACABAMENTO. AF_06/2017 | E71: m³ | F71: 0.37 | G71: 0 | H71: =ROUND(((G71*$H$4)+G71),2) -> 0 | I71: =ROUND((H71*F71),2) -> 0
A72: 6.7 | B72: SINAPI | C72: 96621 | D72: LASTRO COM MATERIAL GRANULAR, APLICAÇÃO EM BLOCOS DE COROAMENTO, ESPESSURA DE *5 CM*. AF_08/2017 | E72: m³ | F72: 0.08 | G72: 0 | H72: =ROUND(((G72*$H$4)+G72),2) -> 0 | I72: =ROUND((H72*F72),2) -> 0
A73: 6.8 | B73: SINAPI | C73: 99855 | D73: CORRIMÃO SIMPLES, DIÂMETRO EXTERNO = 1 1/2, EM AÇO GALVANIZADO. AF_04/2019_PS | E73: m | F73: 13.29 | G73: 0 | H73: =ROUND(((G73*$H$4)+G73),2) -> 0 | I73: =ROUND((H73*F73),2) -> 0
A74: 6.9 | B74: SINAPI | C74: 102073 | D74: ESCADA EM CONCRETO ARMADO MOLDADO IN LOCO, FCK 25 MPA, COM 2 LANCES EM L E LAJE PLANA, FÔRMA EM CHAPA DE MADEIRA COMPENSADA RESINADA. AF_1 1/2020_PA | E74: m³ | F74: 2.3 | G74: 0 | H74: =ROUND(((G74*$H$4)+G74),2) -> 0 | I74: =ROUND((H74*F74),2) -> 0
A75: 6.10 | B75: SINAPI | C75: 103669 | D75: CONCRETAGEM DE PILARES, FCK = 25 MPA, COM USO DE BALDES - LANÇAMENTO, ADENSAMENTO E ACABAMENTO. AF_02/2022 | E75: m³ | F75: 0.14 | G75: 0 | H75: =ROUND(((G75*$H$4)+G75),2) -> 0 | I75: =ROUND((H75*F75),2) -> 0
A76: 7 | D76: INSTALAÇÕES HIDRÁULICAS EMBUTIDAS | I76: =SUM(I77:I101) -> 0
A77: 7.1 | B77: SINAPI | C77: 89402 | D77: TUBO, PVC, SOLDÁVEL, DE 25MM, INSTALADO EM RAMAL DE DISTRIBUIÇÃO DE ÁGUA - FORNECIMENTO E INSTALAÇÃO. AF_06/2022 | E77: m | F77: 20.03 | G77: 0 | H77: =ROUND(((G77*$H$4)+G77),2) -> 0 | I77: =ROUND((H77*F77),2) -> 0
A78: 7.2 | B78: SINAPI | C78: 89410 | D78: CURVA 90 GRAUS, PVC, SOLDÁVEL, DN 25MM, INSTALADO EM RAMAL DE DISTRIBUIÇÃO DE ÁGUA - FORNECIMENTO E INSTALAÇÃO. AF_06/2022 | E78: un | F78: 4 | G78: 0 | H78: =ROUND(((G78*$H$4)+G78),2) -> 0 | I78: =ROUND((H78*F78),2) -> 0
A79: 7.3 | B79: SINAPI | C79: 89415 | D79: CURVA 90 GRAUS, PVC, SOLDÁVEL, DN 32MM, INSTALADO EM RAMAL DE DISTRIBUIÇÃO DE ÁGUA - FORNECIMENTO E INSTALAÇÃO. AF_06/2022 | E79: un | F79: 2 | G79: 0 | H79: =ROUND(((G79*$H$4)+G79),2) -> 0 | I79: =ROUND((H79*F79),2) -> 0
A80: 7.4 | B80: SINAPI | C80: 89429 | D80: ADAPTADOR CURTO COM BOLSA E ROSCA PARA REGISTRO, PVC, SOLDÁVEL, DN 25MM X 3/4 , INSTALADO EM PRUMADA DE ÁGUA - FORNECIMENTO E INSTALAÇÃO. AF_06/2022 | E80: un | F80: 36 | G80: 0 | H80: =ROUND(((G80*$H$4)+G80),2) -> 0 | I80: =ROUND((H80*F80),2) -> 0
A81: 7.5 | B81: SINAPI | C81: 89440 | D81: TE, PVC, SOLDÁVEL, DN 25MM, INSTALADO EM RAMAL DE DISTRIBUIÇÃO DE ÁGUA - FORNECIMENTO E INSTALAÇÃO. AF_06/2022 | E81: un | F81: 1 | G81: 0 | H81: =ROUND(((G81*$H$4)+G81),2) -> 0 | I81: =ROUND((H81*F81),2) -> 0
A82: 7.6 | B82: SINAPI | C82: 89446 | D82: TUBO, PVC, SOLDÁVEL, DE 25MM, INSTALADO EM PRUMADA DE ÁGUA - FORNECIMENTO E INSTALAÇÃO. AF_06/2022 | E82: m | F82: 36.4 | G82: 0 | H82: =ROUND(((G82*$H$4)+G82),2) -> 0 | I82: =ROUND((H82*F82),2) -> 0
A83: 7.7 | B83: SINAPI | C83: 89447 | D83: TUBO, PVC, SOLDÁVEL, DE 32MM, INSTALADO EM PRUMADA DE ÁGUA - FORNECIMENTO E INSTALAÇÃO. AF_06/2022 | E83: m | F83: 14.72 | G83: 0 | H83: =ROUND(((G83*$H$4)+G83),2) -> 0 | I83: =ROUND((H83*F83),2) -> 0
A84: 7.8 | B84: SINAPI | C84: 89481 | D84: JOELHO 90 GRAUS, PVC, SOLDÁVEL, DN 25MM, INSTALADO EM PRUMADA DE ÁGUA - FORNECIMENTO E INSTALAÇÃO. AF_06/2022 | E84: un | F84: 2 | G84: 0 | H84: =ROUND(((G84*$H$4)+G84),2) -> 0 | I84: =ROUND((H84*F84),2) -> 0
A85: 7.9 | B85: SINAPI | C85: 89553 | D85: ADAPTADOR CURTO COM BOLSA E ROSCA PARA REGISTRO, PVC, SOLDÁVEL, DN 32MM X 1 , INSTALADO EM PRUMADA DE ÁGUA - FORNECIMENTO E INSTALAÇÃO. AF_06/2022 | E85: un | F85: 6 | G85: 0 | H85: =ROUND(((G85*$H$4)+G85),2) -> 0 | I85: =ROUND((H85*F85),2) -> 0
A86: 7.10 | B86: SINAPI | C86: 89617 | D86: TE, PVC, SOLDÁVEL, DN 25MM, INSTALADO EM PRUMADA DE ÁGUA - FORNECIMENTO E INSTALAÇÃO. AF_06/2022 | E86: un | F86: 4 | G86: 0 | H86: =ROUND(((G86*$H$4)+G86),2) -> 0 | I86: =ROUND((H86*F86),2) -> 0
A87: 7.11 | B87: SINAPI | C87: 89620 | D87: TE, PVC, SOLDÁVEL, DN 32MM, INSTALADO EM PRUMADA DE ÁGUA - FORNECIMENTO E INSTALAÇÃO. AF_06/2022 | E87: un | F87: 3 | G87: 0 | H87: =ROUND(((G87*$H$4)+G87),2) -> 0 | I87: =ROUND((H87*F87),2) -> 0
A88: 7.12 | B88: SINAPI | C88: 89622 | D88: TÊ DE REDUÇÃO, PVC, SOLDÁVEL, DN 32MM X 25MM, INSTALADO EM PRUMADA DE ÁGUA - FORNECIMENTO E INSTALAÇÃO. AF_06/2022 | E88: un | F88: 4 | G88: 0 | H88: =ROUND(((G88*$H$4)+G88),2) -> 0 | I88: =ROUND((H88*F88),2) -> 0
... A101: 7.25 | B101: SINAPI | C101: 104327 | D101: RALO SIFONADO REDONDO, PVC, DN 100 X 40 MM, JUNTA SOLDÁVEL, FORNECIDOE INSTALADO EM RAMAL DE DESCARGA OU EM RAMAL DE ESGOTO SANITÁRIO. AF_08/2022 | E101: un | F101: 10 | G101: 0 | H101: =ROUND(((G101*$H$4)+G101),2) -> 0 | I101: =ROUND((H101*F101),2) -> 0
A102: 8 | D102: INSTALAÇÕES ELÉTRICAS EMBUTIDAS | I102: =SUM(I103:I107) -> 0
A103: 8.1 | B103: SINAPI | C103: 91854 | D103: ELETRODUTO FLEXÍVEL CORRUGADO, PVC, DN 25 MM (3/4"), PARA CIRCUITOS TERMINAIS, INSTALADO EM PAREDE - FORNECIMENTO E INSTALAÇÃO. AF_03/2023 | E103: m | F103: 150 | G103: 0 | H103: =ROUND(((G103*$H$4)+G103),2) -> 0 | I103: =ROUND((H103*F103),2) -> 0
A104: 8.2 | B104: SINAPI | C104: 91924 | D104: CABO DE COBRE FLEXÍVEL ISOLADO, 1,5 MM², ANTI-CHAMA 450/750 V, PARA CIRCUITOS TERMINAIS - FORNECIMENTO E INSTALAÇÃO. AF_03/2023 | E104: m | F104: 450 | G104: 0 | H104: =ROUND(((G104*$H$4)+G104),2) -> 0 | I104: =ROUND((H104*F104),2) -> 0
A105: 8.3 | B105: SINAPI | C105: 91926 | D105: CABO DE COBRE FLEXÍVEL ISOLADO, 2,5 MM², ANTI-CHAMA 450/750 V, PARA CIRCUITOS TERMINAIS - FORNECIMENTO E INSTALAÇÃO. AF_03/2023 | E105: m | F105: 140 | G105: 0 | H105: =ROUND(((G105*$H$4)+G105),2) -> 0 | I105: =ROUND((H105*F105),2) -> 0
A106: 8.4 | B106: SINAPI | C106: 91928 | D106: CABO DE COBRE FLEXÍVEL ISOLADO, 4 MM², ANTI-CHAMA 450/750 V, PARA CIRCUITOS TERMINAIS - FORNECIMENTO E INSTALAÇÃO. AF_03/2023 | E106: m | F106: 150 | G106: 0 | H106: =ROUND(((G106*$H$4)+G106),2) -> 0 | I106: =ROUND((H106*F106),2) -> 0
A107: 8.5 | B107: SINAPI | C107: 91930 | D107: CABO DE COBRE FLEXÍVEL ISOLADO, 6 MM², ANTI-CHAMA 450/750 V, PARA CIRCUITOS TERMINAIS - FORNECIMENTO E INSTALAÇÃO. AF_03/2023 | E107: m | F107: 500 | G107: 0 | H107: =ROUND(((G107*$H$4)+G107),2) -> 0 | I107: =ROUND((H107*F107),2) -> 0
A108: 9 | D108: PORTAS, ESQUADRIAS E DEMAIS ELEMENTOS METÁLICOS | I108: =SUM(I109:I112) -> 0
A109: 9.1 | B109: SINAPI | C109: 91341 | D109: PORTA EM ALUMÍNIO DE ABRIR TIPO VENEZIANA COM GUARNIÇÃO, FIXAÇÃO COM PARAFUSOS - FORNECIMENTO E INSTALAÇÃO. AF_10/2025 | E109: m² | F109: 30.03 | G109: 0 | H109: =ROUND(((G109*$H$4)+G109),2) -> 0 | I109: =ROUND((H109*F109),2) -> 0
A110: 9.2 | B110: SINAPI | C110: 94569 | D110: JANELA DE ALUMÍNIO TIPO MAXIM-AR, COM VIDROS, BATENTE E FERRAGENS. EXCLUSIVE ALIZAR, ACABAMENTO E CONTRAMARCO. FORNECIMENTO E INSTALAÇÃO. AF_12/2019 | E110: m² | F110: 7.09 | G110: 0 | H110: =ROUND(((G110*$H$4)+G110),2) -> 0 | I110: =ROUND((H110*F110),2) -> 0
A111: 9.3 | B111: SINAPI | C111: 94570 | D111: JANELA DE ALUMÍNIO DE CORRER COM 2 FOLHAS PARA VIDROS, COM VIDROS, BATENTE, ACABAMENTO COM ACETATO OU BRILHANTE E FERRAGENS. EXCLUSIVE ALIZAR E CONTRAMARCO. FORNECIMENTO E INSTALAÇÃO. AF_12/2019 | E111: m² | F111: 7.2 | G111: 0 | H111: =ROUND(((G111*$H$4)+G111),2) -> 0 | I111: =ROUND((H111*F111),2) -> 0
A112: 9.4 | B112: SINAPI | C112: 94573 | D112: JANELA DE ALUMÍNIO DE CORRER COM 4 FOLHAS PARA VIDROS, COM VIDROS, BATENTE, ACABAMENTO COM ACETATO OU BRILHANTE E FERRAGENS. EXCLUSIVE ALIZAE CONTRAMARCO. FORNECIMENTO E INSTALAÇÃO. AF_12/2019 | E112: m² | F112: 13.35 | G112: 0 | H112: =ROUND(((G112*$H$4)+G112),2) -> 0 | I112: =ROUND((H112*F112),2) -> 0
A113: 10 | D113: REVESTIMENTOS DE PAREDE | I113: =SUM(I114:I121) -> 0
A114: 10.1 | B114: CDHU | C114: 03.03.020 | D114: APICOAMENTO MANUAL DE PISO, PAREDE OU TETO | E114: m² | F114: 415.34 | G114: 0 | H114: =ROUND(((G114*$H$4)+G114),2) -> 0 | I114: =ROUND((H114*F114),2) -> 0
A115: 10.2 | B115: SINAPI | C115: 87265 | D115: REVESTIMENTO CERÂMICO PARA PAREDES INTERNAS COM PLACAS TIPO ESMALTADA EXTRA DE DIMENSÕES 20X20 CM APLICADAS NA ALTURA INTEIRA DAS PAREDES. AF_02/2023 PE | E115: m² | F115: 163.61 | G115: 0 | H115: =ROUND(((G115*$H$4)+G115),2) -> 0 | I115: =ROUND((H115*F115),2) -> 0
...

Sheet CRONOGRAMA
D1: CRONOGRAMA FÍSICO-FINANCEIRO | H1: LOGO DA EMRPESA
B5: Convênio: | C5: Ministérios do Esporte / Contrato de Repasse n° 941095/2023 / Processo PMP 05581/2023 | O5: Data:
B6: Obra: | C6: Reforma dos Vestiários do Estádio Municipal Lino de Matos | O6: BDI: | P6: =ORÇAMENTO!H4 -> 0.2234
B7: Endereço: | C7: Rua Quintino de Campos, 160, Centro, Piedade-SP (CEP - 18170-000)
B8: Boletins: | C8: SINAPI 01/2026 não desonerado; CDHU Boletim-200 NOV/2025 sem desoneração; SICRO OUTUBRO/2025
B11: CRONOGRAMA FÍSICO-FINANCEIRO
B13: ITEM | C13: DESCRIÇÃO | D13: VALOR TOTAL | E13: MÊS 1 | F13: MÊS 2 | G13: MÊS 3 | H13: MÊS 4 | I13: MÊS 5 | J13: MÊS 6 | K13: MÊS 7 | L13: MÊS 8 | M13: MÊS 9 | N13: MÊS 10 | O13: MÊS 11 | P13: MÊS 12
B14: 1 | C14: INÍCIO, APOIO E ADMINISTRAÇÃO DA OBRA | D14: =SUM(E14:P14) -> 1 | E14: 1 | F14: 0 | G14: 0 | H14: 0 | I14: 0 | J14: 0 | K14: 0 | L14: 0 | M14: 0 | N14: 0 | O14: 0 | P14: 0
D15: =ORÇAMENTO!I10 -> 0 | E15: =TRUNC(E14*$D$15,2) -> 0 | F15: =TRUNC(F14*$D$15,2) -> 0 | G15: =TRUNC(G14*$D$15,2) -> 0 | H15: =TRUNC(H14*$D$15,2) -> 0 | I15: =TRUNC(I14*$D$15,2) -> 0 | J15: =TRUNC(J14*$D$15,2) -> 0 | K15: =TRUNC(K14*$D$15,2) -> 0 | L15: =TRUNC(L14*$D$15,2) -> 0 | ... P15: =TRUNC(P14*$D$15,2) -> 0
B16: 2 | C16: SERVIÇOS PRELIMINARES | D16: =SUM(E16:P16) -> 1 | E16: 0.3 | F16: 0.3 | G16: 0.2 | H16: 0.2 | I16: 0 | J16: 0 | K16: 0 | L16: 0 | M16: 0 | N16: 0 | O16: 0 | P16: 0
D17: =ORÇAMENTO!I12 -> 0 | E17: =TRUNC(E16*$D$17,2) -> 0 | F17: =TRUNC(F16*$D$17,2) -> 0 | G17: =TRUNC(G16*$D$17,2) -> 0 | H17: =TRUNC(H16*$D$17,2) -> 0 | I17: =TRUNC(I16*$D$17,2) -> 0 | J17: =TRUNC(J16*$D$17,2) -> 0 | K17: =TRUNC(K16*$D$17,2) -> 0 | L17: =TRUNC(L16*$D$17,2) -> 0 | ... P17: =TRUNC(P16*$D$17,2) -> 0
B18: 3 | C18: REFORÇO DE FUNDAÇÕES, ESTRUTURAS DE CONCRETO E ALVENARIA DE ELEVAÇÃO | D18: =SUM(E18:P18) -> 1 | E18: 0 | F18: 0 | G18: 0.1 | H18: 0.15 | I18: 0.15 | J18: 0.15 | K18: 0.15 | L18: 0.15 | M18: 0.15 | N18: 0 | O18: 0 | P18: 0
D19: =ORÇAMENTO!I24 -> 0 | E19: =TRUNC(E18*$D$19,2) -> 0 | F19: =TRUNC(F18*$D$19,2) -> 0 | G19: =TRUNC(G18*$D$19,2) -> 0 | H19: =TRUNC(H18*$D$19,2) -> 0 | I19: =TRUNC(I18*$D$19,2) -> 0 | J19: =TRUNC(J18*$D$19,2) -> 0 | K19: =TRUNC(K18*$D$19,2) -> 0 | L19: =TRUNC(L18*$D$19,2) -> 0 | ... P19: =TRUNC(P18*$D$19,2) -> 0
B20: 4 | C20: MUROS | D20: =SUM(E20:P20) -> 1 | E20: 0 | F20: 0 | G20: 0.1 | H20: 0.15 | I20: 0.15 | J20: 0.15 | K20: 0.15 | L20: 0.15 | M20: 0.15 | N20: 0 | O20: 0 | P20: 0
D21: =ORÇAMENTO!I40 -> 0 | E21: =TRUNC(E20*$D$21,2) -> 0 | F21: =TRUNC(F20*$D$21,2) -> 0 | G21: =TRUNC(G20*$D$21,2) -> 0 | H21: =TRUNC(H20*$D$21,2) -> 0 | I21: =TRUNC(I20*$D$21,2) -> 0 | J21: =TRUNC(J20*$D$21,2) -> 0 | K21: =TRUNC(K20*$D$21,2) -> 0 | L21: =TRUNC(L20*$D$21,2) -> 0 | ... P21: =TRUNC(P20*$D$21,2) -> 0
B22: 5 | C22: COBERTURA | D22: =SUM(E22:P22) -> 1 | E22: 0 | F22: 0 | G22: 0 | H22: 0 | I22: 0 | J22: 0.2 | K22: 0.2 | L22: 0.2 | M22: 0.2 | N22: 0.2 | O22: 0 | P22: 0
D23: =ORÇAMENTO!I58 -> 0 | E23: =TRUNC(E22*$D$23,2) -> 0 | F23: =TRUNC(F22*$D$23,2) -> 0 | G23: =TRUNC(G22*$D$23,2) -> 0 | H23: =TRUNC(H22*$D$23,2) -> 0 | I23: =TRUNC(I22*$D$23,2) -> 0 | J23: =TRUNC(J22*$D$23,2) -> 0 | K23: =TRUNC(K22*$D$23,2) -> 0 | L23: =TRUNC(L22*$D$23,2) -> 0 | ... P23: =TRUNC(P22*$D$23,2) -> 0
B24: 6 | C24: ESCADA EM CONCRETO ARMADO | D24: =SUM(E24:P24) -> 1 | E24: 0 | F24: 0 | G24: 0 | H24: 0 | I24: 0 | J24: 0.2 | K24: 0.2 | L24: 0.2 | M24: 0.2 | N24: 0.2 | O24: 0 | P24: 0
D25: =ORÇAMENTO!I65 -> 0 | E25: =TRUNC(E24*$D$25,2) -> 0 | F25: =TRUNC(F24*$D$25,2) -> 0 | G25: =TRUNC(G24*$D$25,2) -> 0 | H25: =TRUNC(H24*$D$25,2) -> 0 | I25: =TRUNC(I24*$D$25,2) -> 0 | J25: =TRUNC(J24*$D$25,2) -> 0 | K25: =TRUNC(K24*$D$25,2) -> 0 | L25: =TRUNC(L24*$D$25,2) -> 0 | ... P25: =TRUNC(P24*$D$25,2) -> 0
B26: 7 | C26: INSTALAÇÕES HIDRÁULICAS EMBUTIDAS | D26: =SUM(E26:P26) -> 1 | E26: 0 | F26: 0 | G26: 0 | H26: 0 | I26: 0 | J26: 0.2 | K26: 0.2 | L26: 0.2 | M26: 0.2 | N26: 0.2 | O26: 0 | P26: 0
D27: =ORÇAMENTO!I76 -> 0 | E27: =TRUNC(E26*$D$27,2) -> 0 | F27: =TRUNC(F26*$D$27,2) -> 0 | G27: =TRUNC(G26*$D$27,2) -> 0 | H27: =TRUNC(H26*$D$27,2) -> 0 | I27: =TRUNC(I26*$D$27,2) -> 0 | J27: =TRUNC(J26*$D$27,2) -> 0 | K27: =TRUNC(K26*$D$27,2) -> 0 | L27: =TRUNC(L26*$D$27,2) -> 0 | ... P27: =TRUNC(P26*$D$27,2) -> 0
B28: 8 | C28: INSTALAÇÕES ELÉTRICAS EMBUTIDAS | D28: =SUM(E28:P28) -> 1 | E28: 0 | F28: 0 | G28: 0 | H28: 0 | I28: 0 | J28: 0.2 | K28: 0.2 | L28: 0.2 | M28: 0.2 | N28: 0.2 | O28: 0 | P28: 0
D29: =ORÇAMENTO!I102 -> 0 | E29: =TRUNC(E28*$D$29,2) -> 0 | F29: =TRUNC(F28*$D$29,2) -> 0 | G29: =TRUNC(G28*$D$29,2) -> 0 | H29: =TRUNC(H28*$D$29,2) -> 0 | I29: =TRUNC(I28*$D$29,2) -> 0 | J29: =TRUNC(J28*$D$29,2) -> 0 | K29: =TRUNC(K28*$D$29,2) -> 0 | L29: =TRUNC(L28*$D$29,2) -> 0 | ... P29: =TRUNC(P28*$D$29,2) -> 0
B30: 9 | C30: PORTAS, ESQUADRIAS E DEMAIS ELEMENTOS METÁLICOS | D30: =SUM(E30:P30) -> 1 | E30: 0 | F30: 0 | G30: 0 | H30: 0 | I30: 0 | J30: 0.2 | K30: 0.2 | L30: 0.2 | M30: 0.2 | N30: 0.2 | O30: 0 | P30: 0
D31: =ORÇAMENTO!I108 -> 0 | E31: =TRUNC(E30*$D$31,2) -> 0 | F31: =TRUNC(F30*$D$31,2) -> 0 | G31: =TRUNC(G30*$D$31,2) -> 0 | H31: =TRUNC(H30*$D$31,2) -> 0 | I31: =TRUNC(I30*$D$31,2) -> 0 | J31: =TRUNC(J30*$D$31,2) -> 0 | K31: =TRUNC(K30*$D$31,2) -> 0 | L31: =TRUNC(L30*$D$31,2) -> 0 | ... P31: =TRUNC(P30*$D$31,2) -> 0
B32: 10 | C32: REVESTIMENTOS DE PAREDE | D32: =SUM(E32:P32) -> 1 | E32: 0 | F32: 0 | G32: 0 | H32: 0 | I32: 0 | J32: 0.2 | K32: 0.2 | L32: 0.2 | M32: 0.2 | N32: 0.2 | O32: 0 | P32: 0
D33: =ORÇAMENTO!I113 -> 0 | E33: =TRUNC(E32*$D$33,2) -> 0 | F33: =TRUNC(F32*$D$33,2) -> 0 | G33: =TRUNC(G32*$D$33,2) -> 0 | H33: =TRUNC(H32*$D$33,2) -> 0 | I33: =TRUNC(I32*$D$33,2) -> 0 | J33: =TRUNC(J32*$D$33,2) -> 0 | K33: =TRUNC(K32*$D$33,2) -> 0 | L33: =TRUNC(L32*$D$33,2) -> 0 | ... P33: =TRUNC(P32*$D$33,2) -> 0
B34: 11 | C34: PISOS | D34: =SUM(E34:P34) -> 1 | E34: 0 | F34: 0 | G34: 0 | H34: 0 | I34: 0 | J34: 0.2 | K34: 0.2 | L34: 0.2 | M34: 0.2 | N34: 0.2 | O34: 0 | P34: 0
D35: =ORÇAMENTO!I122 -> 0 | E35: =TRUNC(E34*$D$33,2) -> 0 | F35: =TRUNC(F34*$D$33,2) -> 0 | G35: =TRUNC(G34*$D$33,2) -> 0 | H35: =TRUNC(H34*$D$33,2) -> 0 | I35: =TRUNC(I34*$D$33,2) -> 0 | J35: =TRUNC(J34*$D$33,2) -> 0 | K35: =TRUNC(K34*$D$33,2) -> 0 | L35: =TRUNC(L34*$D$33,2) -> 0 | ... P35: =TRUNC(P34*$D$33,2) -> 0
B36: 12 | C36: FORROS E DIVISÓRIAS | D36: =SUM(E36:P36) -> 1 | E36: 0 | F36: 0 | G36: 0 | H36: 0 | I36: 0 | J36: 0.2 | K36: 0.2 | L36: 0.2 | M36: 0.2 | N36: 0.2 | O36: 0 | P36: 0
D37: =ORÇAMENTO!I129 -> 0 | E37: =TRUNC(E36*$D$33,2) -> 0 | F37: =TRUNC(F36*$D$33,2) -> 0 | G37: =TRUNC(G36*$D$33,2) -> 0 | H37: =TRUNC(H36*$D$33,2) -> 0 | I37: =TRUNC(I36*$D$33,2) -> 0 | J37: =TRUNC(J36*$D$33,2) -> 0 | K37: =TRUNC(K36*$D$33,2) -> 0 | L37: =TRUNC(L36*$D$33,2) -> 0 | ... P37: =TRUNC(P36*$D$33,2) -> 0
B38: 13 | C38: PINTURA | D38: =SUM(E38:P38) -> 1 | E38: 0 | F38: 0 | G38: 0 | H38: 0 | I38: 0 | J38: 0.2 | K38: 0.2 | L38: 0.2 | M38: 0.2 | N38: 0.2 | O38: 0 | P38: 0
D39: =ORÇAMENTO!I132 -> 0 | E39: =TRUNC(E38*$D$33,2) -> 0 | F39: =TRUNC(F38*$D$33,2) -> 0 | G39: =TRUNC(G38*$D$33,2) -> 0 | H39: =TRUNC(H38*$D$33,2) -> 0 | I39: =TRUNC(I38*$D$33,2) -> 0 | J39: =TRUNC(J38*$D$33,2) -> 0 | K39: =TRUNC(K38*$D$33,2) -> 0 | L39: =TRUNC(L38*$D$33,2) -> 0 | ... P39: =TRUNC(P38*$D$33,2) -> 0
B40: 14 | C40: IMPERMEABILIZAÇÃO E TRATAMENTO DE LAJES | D40: =SUM(E40:P40) -> 1 | E40: 0 | F40: 0 | G40: 0 | H40: 0 | I40: 0 | J40: 0.2 | K40: 0.2 | L40: 0.2 | M40: 0.2 | N40: 0.2 | O40: 0 | P40: 0
D41: =ORÇAMENTO!I138 -> 0 | E41: =TRUNC(E40*$D$33,2) -> 0 | F41: =TRUNC(F40*$D$33,2) -> 0 | G41: =TRUNC(G40*$D$33,2) -> 0 | H41: =TRUNC(H40*$D$33,2) -> 0 | I41: =TRUNC(I40*$D$33,2) -> 0 | J41: =TRUNC(J40*$D$33,2) -> 0 | K41: =TRUNC(K40*$D$33,2) -> 0 | L41: =TRUNC(L40*$D$33,2) -> 0 | ... P41: =TRUNC(P40*$D$33,2) -> 0
B42: 15 | C42: INSTALAÇÕES HIDRAULICAS LOUÇA SANITÁRIA | D42: =SUM(E42:P42) -> 1 | E42: 0 | F42: 0 | G42: 0 | H42: 0 | I42: 0 | J42: 0.2 | K42: 0.2 | L42: 0.2 | M42: 0.2 | N42: 0.2 | O42: 0 | P42: 0
D43: =ORÇAMENTO!I141 -> 0 | E43: =TRUNC(E42*$D$33,2) -> 0 | F43: =TRUNC(F42*$D$33,2) -> 0 | G43: =TRUNC(G42*$D$33,2) -> 0 | H43: =TRUNC(H42*$D$33,2) -> 0 | I43: =TRUNC(I42*$D$33,2) -> 0 | J43: =TRUNC(J42*$D$33,2) -> 0 | K43: =TRUNC(K42*$D$33,2) -> 0 | L43: =TRUNC(L42*$D$33,2) -> 0 | ... P43: =TRUNC(P42*$D$33,2) -> 0
B44: 16 | C44: INSTALAÇÕES ELÉTRICAS APARENTES | D44: =SUM(E44:P44) -> 1 | E44: 0 | F44: 0 | G44: 0 | H44: 0 | I44: 0 | J44: 0.2 | K44: 0.2 | L44: 0.2 | M44: 0.2 | N44: 0.2 | O44: 0 | P44: 0
D45: =ORÇAMENTO!I146 -> 0 | E45: =TRUNC(E44*$D$33,2) -> 0 | F45: =TRUNC(F44*$D$33,2) -> 0 | G45: =TRUNC(G44*$D$33,2) -> 0 | H45: =TRUNC(H44*$D$33,2) -> 0 | I45: =TRUNC(I44*$D$33,2) -> 0 | J45: =TRUNC(J44*$D$33,2) -> 0 | K45: =TRUNC(K44*$D$33,2) -> 0 | L45: =TRUNC(L44*$D$33,2) -> 0 | ... P45: =TRUNC(P44*$D$33,2) -> 0
B46: 17 | C46: INSTALAÇÕES ELÉTRICAS ILUMINAÇÃO | D46: =SUM(E46:P46) -> 1 | E46: 0 | F46: 0 | G46: 0 | H46: 0 | I46: 0 | J46: 0.2 | K46: 0.2 | L46: 0.2 | M46: 0.2 | N46: 0.2 | O46: 0 | P46: 0
D47: =ORÇAMENTO!I159 -> 0 | E47: =TRUNC(E46*$D$33,2) -> 0 | F47: =TRUNC(F46*$D$33,2) -> 0 | G47: =TRUNC(G46*$D$33,2) -> 0 | H47: =TRUNC(H46*$D$33,2) -> 0 | I47: =TRUNC(I46*$D$33,2) -> 0 | J47: =TRUNC(J46*$D$33,2) -> 0 | K47: =TRUNC(K46*$D$33,2) -> 0 | L47: =TRUNC(L46*$D$33,2) -> 0 | ... P47: =TRUNC(P46*$D$33,2) -> 0
B48: 18 | C48: RESERVATÓRIO DE ÁGUA | D48: =SUM(E48:P48) -> 1 | E48: 0 | F48: 0 | G48: 0 | H48: 0 | I48: 0 | J48: 0.2 | K48: 0.2 | L48: 0.2 | M48: 0.2 | N48: 0.2 | O48: 0 | P48: 0
D49: =ORÇAMENTO!I162 -> 0 | E49: =TRUNC(E48*$D$33,2) -> 0 | F49: =TRUNC(F48*$D$33,2) -> 0 | G49: =TRUNC(G48*$D$33,2) -> 0 | H49: =TRUNC(H48*$D$33,2) -> 0 | I49: =TRUNC(I48*$D$33,2) -> 0 | J49: =TRUNC(J48*$D$33,2) -> 0 | K49: =TRUNC(K48*$D$33,2) -> 0 | L49: =TRUNC(L48*$D$33,2) -> 0 | ... P49: =TRUNC(P48*$D$33,2) -> 0
B50: 19 | C50: TRATAMENTO DE ESGOTO | D50: =SUM(E50:P50) -> 1 | E50: 0 | F50: 0 | G50: 0 | H50: 0 | I50: 0 | J50: 0 | K50: 0.2 | L50: 0.2 | M50: 0.2 | N50: 0.2 | O50: 0.1 | P50: 0.1
D51: =ORÇAMENTO!I172 -> 0 | E51: =TRUNC(E50*$D$33,2) -> 0 | F51: =TRUNC(F50*$D$33,2) -> 0 | G51: =TRUNC(G50*$D$33,2) -> 0 | H51: =TRUNC(H50*$D$33,2) -> 0 | I51: =TRUNC(I50*$D$33,2) -> 0 | J51: =TRUNC(J50*$D$33,2) -> 0 | K51: =TRUNC(K50*$D$33,2) -> 0 | L51: =TRUNC(L50*$D$33,2) -> 0 | ... P51: =TRUNC(P50*$D$33,2) -> 0
B52: 20 | C52: SERVIÇOS COMPLEMENTARES | D52: =SUM(E52:P52) -> 1 | E52: 0 | F52: 0 | G52: 0 | H52: 0 | I52: 0 | J52: 0 | K52: 0 | L52: 0 | M52: 0 | N52: 0 | O52: 0 | P52: 1
D53: =ORÇAMENTO!I178 -> 0 | E53: =TRUNC(E52*$D$53,2) -> 0 | F53: =TRUNC(F52*$D$53,2) -> 0 | G53: =TRUNC(G52*$D$53,2) -> 0 | H53: =TRUNC(H52*$D$53,2) -> 0 | I53: =TRUNC(I52*$D$53,2) -> 0 | J53: =TRUNC(J52*$D$53,2) -> 0 | K53: =TRUNC(K52*$D$53,2) -> 0 | L53: =TRUNC(L52*$D$53,2) -> 0 | ... P53: =TRUNC(P52*$D$53,2) -> 0
B54: TOTAL | D54: =D15+D17+D19+D21+D23+D25+D27+D29+D53+D31+D33+D35+D37+D39+D41+D43+D45+D47+D49+D51 -> 0 | E54: =E15+E17+E19+E21+E23+E25+E27+E29+E53+E31+E33 -> 0 | F54: =F15+F17+F19+F21+F23+F25+F27+F29+F53+F31+F33 -> 0 | G54: =G15+G17+G19+G21+G23+G25+G27+G29+G53+G31+G33 -> 0 | H54: =H15+H17+H19+H21+H23+H25+H27+H29+H53+H31+H33 -> 0 | I54: =I15+I17+I19+I21+I23+I25+I27+I29+I53+I31+I33 -> 0 | J54: =J15+J17+J19+J21+J23+J25+J27+J29+J53+J31+J33 -> 0 | K54: =K15+K17+K19+K21+K23+K25+K27+K29+K53+K31+K33 -> 0 | L54: =L15+L17+L19+L21+L23+L25+L27+L29+L53+L31+L33 -> 0 | ... P54: =P15+P17+P19+P21+P23+P25+P27+P29+P53+P31+P33 -> 0
B60: Data:
C69: EMPRESA
