Workbook
Name I.Lotes: [1]QCI!$Z$8:$Z$18
Name ItemInvestimento: OFFSET([1]Listas!$B$2,1,0,COUNTA([1]Listas!$B:$B)-1)
Name SubItemInvestimento: OFFSET([1]Listas!$A$2,1,MATCH([1]QCI!$E1,[1]Listas!$2:$2,0)-1,INDEX([1]Listas!$2:$2,MATCH([1]QCI!$E1,[1]Listas!$2:$2,0)+1))

Sheet CRONOGRAMA
A1: LOGO DA EMPRESA | I1: SOMENTE PREENCHER AS CÉLULAS AMARELAS
B5: Convênio: | C5: TransfereGov n° 013312/2024 - Emenda n° 5007.0002 - Instrumento n° 964786 | F5: Data: | G5: =Planilha!H2 -> 46057
B6: Obra: | C6: Reforma e Ampliação do Portal do Município de Piedade-SP | F6: BDI: | G6: =Planilha!H3 -> 0.2499
B7: Endereço: | C7: Via Antônio Leite de Oliveira, s/n°, Centro - Piedade-SP (18170-003)
B8: Boletins: | C8: CDHU Boletim-200 Nov/2025 sem desoneração / SINAPI 12-2025 - Sem Desoneração / SICRO 10-2025
B11: CRONOGRAMA FÍSICO-FINANCEIRO
B13: ITEM | C13: DESCRIÇÃO | D13: VALOR TOTAL | E13: 46113 | F13: 46143 | G13: 46174 | H13: 46204 | I13: 46235 | J13: 46266 | K13: 46296 | L13: 46327 | M13: 46357 | N13: 46388 | O13: 46419 | P13: 46447
B14: 1 | C14: INÍCIO, APOIO E ADMINISTRAÇÃO DA OBRA | D14: =SUM(E14:P14) -> 1 | E14: 0.3 | F14: 0.3 | G14: 0.3 | H14: 0 | I14: 0 | J14: 0 | K14: 0 | L14: 0 | M14: 0 | N14: 0 | O14: 0 | P14: 0.1
D15: =Planilha!I8 -> 0 | E15: =E14*$D$15 -> 0 | F15: =F14*$D$15 -> 0 | G15: =G14*$D$15 -> 0 | H15: =H14*$D$15 -> 0 | I15: =I14*$D$15 -> 0 | J15: =J14*$D$15 -> 0 | K15: =K14*$D$15 -> 0 | L15: =L14*$D$15 -> 0 | ... O15: =O14*$D$15 -> 0 | P15: =P14*$D$15+0.01 -> 0.01 | S15: =SUM(E15:P15) -> 0.01
B16: 2 | C16: IMPLANTAÇÃO | D16: =SUM(E16:P16) -> 1 | E16: 0.05 | F16: 0.1 | G16: 0.1 | H16: 0.1 | I16: 0.1 | J16: 0.1 | K16: 0.1 | L16: 0.1 | M16: 0.1 | N16: 0.05 | O16: 0.05 | P16: 0.05
D17: =Planilha!I15 -> 0 | E17: =E16*$D$17 -> 0 | F17: =F16*$D$17 -> 0 | G17: =G16*$D$17 -> 0 | H17: =H16*$D$17 -> 0 | I17: =I16*$D$17 -> 0 | J17: =J16*$D$17 -> 0 | K17: =K16*$D$17 -> 0 | L17: =L16*$D$17 -> 0 | ... P17: =P16*$D$17 -> 0 | S17: =SUM(E17:P17) -> 0
B18: 2 | C18: QUIOSQUES | D18: =SUM(E18:P18) -> 1 | E18: 0 | F18: 0.05 | G18: 0.1 | H18: 0.15 | I18: 0.15 | J18: 0.2 | K18: 0.15 | L18: 0.15 | M18: 0.05 | N18: 0 | O18: 0 | P18: 0
D19: =Planilha!I129 -> 0 | E19: =E18*$D$19 -> 0 | F19: =F18*$D$19 -> 0 | G19: =G18*$D$19 -> 0 | H19: =H18*$D$19 -> 0 | I19: =I18*$D$19 -> 0 | J19: =J18*$D$19 -> 0 | K19: =K18*$D$19 -> 0 | L19: =L18*$D$19 -> 0 | ... P19: =P18*$D$19 -> 0 | S19: =SUM(E19:P19) -> 0
B20: 2 | C20: BANHEIROS EXTERNOS E DEPÓSITO | D20: =SUM(E20:P20) -> 1 | E20: 0 | F20: 0.05 | G20: 0.1 | H20: 0.15 | I20: 0.15 | J20: 0.2 | K20: 0.15 | L20: 0.15 | M20: 0.05 | N20: 0 | O20: 0 | P20: 0
D21: =Planilha!I210 -> 0 | E21: =E20*$D$21 -> 0 | F21: =F20*$D$21 -> 0 | G21: =G20*$D$21 -> 0 | H21: =H20*$D$21 -> 0 | I21: =I20*$D$21 -> 0 | J21: =J20*$D$21 -> 0 | K21: =K20*$D$21 -> 0 | L21: =L20*$D$21 -> 0 | ... P21: =P20*$D$21 -> 0 | S21: =SUM(E21:P21) -> 0
B22: 2 | C22: ESTRUTURA METÁLICA (COBERTURA QUIOESQUES E BANHEIROS) | D22: =SUM(E22:P22) -> 1 | E22: 0 | F22: 0 | G22: 0 | H22: 0 | I22: 0.1 | J22: 0.1 | K22: 0.15 | L22: 0.15 | M22: 0.15 | N22: 0.15 | O22: 0.15 | P22: 0.05
D23: =Planilha!I289 -> 0 | E23: =E22*$D$23 -> 0 | F23: =F22*$D$23 -> 0 | G23: =G22*$D$23 -> 0 | H23: =H22*$D$23 -> 0 | I23: =I22*$D$23 -> 0 | J23: =J22*$D$23 -> 0 | K23: =K22*$D$23 -> 0 | L23: =L22*$D$23 -> 0 | ... P23: =P22*$D$23 -> 0 | S23: =SUM(E23:P23) -> 0
B24: TOTAL | D24: =D15+D17+D19+D21+D23 -> 0 | E24: =E15+E17+E19+E21+E23 -> 0 | F24: =F15+F17+F19+F21+F23 -> 0 | G24: =G15+G17+G19+G21+G23 -> 0 | H24: =H15+H17+H19+H21+H23 -> 0 | I24: =I15+I17+I19+I21+I23 -> 0 | J24: =J15+J17+J19+J21+J23 -> 0 | K24: =K15+K17+K19+K21+K23 -> 0 | ... P24: =P15+P17+P19+P21+P23 -> 0.01 | S24: =SUM(E24:P24) -> 0.01
B30: LOCAL, DATA
C39: EMPRESA

Sheet Planilha
A1: LOGO DA EMPRESA | E1: SOMENTE PREENCHER A COLUNA AMARELA, SEM FÓRMULAS
C2: Convênio: | D2: TransfereGov n° 013312/2024 - Emenda n° 5007.0002 - Instrumento n° 964786 | G2: Data: | H2: 46057
C3: Obra: | D3: Reforma e Ampliação do Portal do Município de Piedade-SP | G3: BDI: | H3: 0.2499
C4: Endereço: | D4: Via Antônio Leite de Oliveira, s/n°, Centro - Piedade-SP (18170-003)
C5: Boletins: | D5: CDHU Boletim-200 Nov/2025 sem desoneração / SINAPI 03-2026 - Sem Desoneração / SICRO 10-2025
A6: PLANILHA ORÇAMENTÁRIA
A7: ITEM | B7: REFERENCIA | C7: SERVIÇO | D7: DESCRIÇÃO | E7: Unid. | F7: Quant. | G7: $ unitário | H7: $ unit c/ BDI | I7: $ total c/ BDI
A8: 1 | D8: INÍCIO, APOIO E ADMINISTRAÇÃO DA OBRA | I8: =SUM(I9:I14) -> 0
A9: 1.1 | B9: CDHU | C9: 01.17.061 | D9: Projeto executivo de estrutura em formato A0 | E9: un | F9: 2 | G9: 0 | H9: =G9*(1+$H$3) -> 0 | I9: =ROUND(H9*F9,2) -> 0
A10: 1.2 | B10: CDHU | C10: 01.17.121 | D10: Projeto executivo de instalações elétricas em formato A0 | E10: un | F10: 2 | G10: 0 | H10: =G10*(1+$H$3) -> 0 | I10: =ROUND(H10*F10,2) -> 0
A11: 1.3 | B11: CDHU | C11: 02.03.080 | D11: Fechamento provisório de vãos em chapa de madeira compensada | E11: m² | F11: 100 | G11: 0 | H11: =G11*(1+$H$3) -> 0 | I11: =ROUND(H11*F11,2) -> 0
A12: 1.4 | B12: CDHU | C12: 05.07.040 | D12: Remoção de entulho separado de obra com caçamba metálica - terra, alvenaria, concreto, argamassa, madeira, papel, plástico ou metal | E12: m³ | F12: 9 | G12: 0 | H12: =G12*(1+$H$3) -> 0 | I12: =ROUND(H12*F12,2) -> 0
A13: 1.5 | B13: CDHU | C13: 97.02.030 | D13: Placa comemorativa em aço inoxidável escovado | E13: m² | F13: 0.24 | G13: 0 | H13: =G13*(1+$H$3) -> 0 | I13: =ROUND(H13*F13,2) -> 0
A14: 1.6 | B14: SINAPI | C14: 103689 | D14: FORNECIMENTO E INSTALAÇÃO DE PLACA DE OBRA COM CHAPA GALVANIZADA E ESTRUTURA DE MADEIRA. AF_03/2022_PS | E14: m² | F14: 8 | G14: 0 | H14: =G14*(1+$H$3) -> 0 | I14: =ROUND(H14*F14,2) -> 0
A15: 2 | D15: IMPLANTAÇÃO | I15: =I16+I26+I44+I70+I85+I113+I121 -> 0
A16: 2.1 | D16: Estacionamento e área de convivência | I16: =SUM(I17:I25) -> 0
A17: 2.1.1 | B17: SINAPI | C17: 92403 | D17: EXECUÇÃO DE PAVIMENTO EM PISO INTERTRAVADO, COM BLOCO 16 FACES DE 22 X 11 CM, ESPESSURA 6 CM. AF_10/2022 | E17: m² | F17: 450.08 | G17: 0 | H17: =G17*(1+$H$3) -> 0 | I17: =ROUND(H17*F17,2) -> 0
A18: 2.1.2 | B18: SINAPI | C18: 92404 | D18: EXECUÇÃO DE PAVIMENTO EM PISO INTERTRAVADO, COM BLOCO 16 FACES DE 22 X 11 CM, ESPESSURA 8 CM. AF_10/2022 | E18: m² | F18: 409.59 | G18: 0 | H18: =G18*(1+$H$3) -> 0 | I18: =ROUND(H18*F18,2) -> 0
A19: 2.1.3 | B19: SINAPI | C19: 94994 | D19: EXECUÇÃO DE PASSEIO (CALÇADA) OU PISO DE CONCRETO COM CONCRETO MOLDADO IN LOCO, FEITO EM OBRA, ACABAMENTO CONVENCIONAL, ESPESSURA 8 CM, ARMADO. AF_08/2022 | E19: m² | F19: 190.22 | G19: 0 | H19: =G19*(1+$H$3) -> 0 | I19: =ROUND(H19*F19,2) -> 0
A20: 2.1.4 | B20: SINAPI | C20: 96622 | D20: LASTRO COM MATERIAL GRANULAR, APLICADO EM PISOS OU LAJES SOBRE SOLO, ESPESSURA DE *5 CM*. AF_01/2024 | E20: m³ | F20: 9.51 | G20: 0 | H20: =G20*(1+$H$3) -> 0 | I20: =ROUND(H20*F20,2) -> 0
A21: 2.1.5 | B21: SINAPI | C21: 97083 | D21: COMPACTAÇÃO MECÂNICA DE SOLO PARA EXECUÇÃO DE RADIER, PISO DE CONCRETO OU LAJE SOBRE SOLO, COM COMPACTADOR DE SOLOS A PERCUSSÃO. AF_09/2021 | E21: m² | F21: 1049.89 | G21: 0 | H21: =G21*(1+$H$3) -> 0 | I21: =ROUND(H21*F21,2) -> 0
A22: 2.1.6 | B22: SINAPI | C22: 97087 | D22: CAMADA SEPARADORA PARA EXECUÇÃO DE RADIER, PISO DE CONCRETO OU LAJE SOBRE SOLO, EM LONA PLÁSTICA. AF_09/2021 | E22: m² | F22: 190.22 | G22: 0 | H22: =G22*(1+$H$3) -> 0 | I22: =ROUND(H22*F22,2) -> 0
A23: 2.1.7 | B23: SINAPI | C23: 98525 | D23: LIMPEZA MECANIZADA DE CAMADA VEGETAL, VEGETAÇÃO E PEQUENAS ÁRVORES (DIÂMETRO DE TRONCO MENOR QUE 0,20 M), COM TRATOR DE ESTEIRAS. AF_03/2024 | E23: m² | F23: 2521.17 | G23: 0 | H23: =G23*(1+$H$3) -> 0 | I23: =ROUND(H23*F23,2) -> 0
A24: 2.1.8 | B24: SINAPI | C24: 103946 | D24: PLANTIO DE GRAMA ESMERALDA OU SÃO CARLOS OU CURITIBANA, EM PLACAS. AF_07/2024 | E24: m² | F24: 1448.18 | G24: 0 | H24: =G24*(1+$H$3) -> 0 | I24: =ROUND(H24*F24,2) -> 0
A25: 2.1.9 | B25: SINAPI | C25: 104790 | D25: DEMOLIÇÃO DE PISO DE CONCRETO SIMPLES, DE FORMA MECANIZADA COM MARTELETE, SEM REAPROVEITAMENTO. AF_09/2023 | E25: m³ | F25: 7.41 | G25: 0 | H25: =G25*(1+$H$3) -> 0 | I25: =ROUND(H25*F25,2) -> 0
A26: 2.2 | D26: Muro em gabião / Calçada / Paisagismo / Instalações (Outro lado da pista) | I26: =SUM(I27:I43) -> 0
A27: 2.2.1 | B27: SINAPI | C27: 92743 | D27: MURO DE GABIÃO, ENCHIMENTO COM PEDRA DE MÃO TIPO RACHÃO, DE GRAVIDADE, COM GAIOLAS DE COMPRIMENTO IGUAL A 2 M, PARA MUROS COM ALTURA MENOR OU IGUAL A 4 M - FORNECIMENTO E EXECUÇÃO. AF_03/2024 | E27: m³ | F27: 160.63 | G27: 0 | H27: =G27*(1+$H$3) -> 0 | I27: =ROUND(H27*F27,2) -> 0
A28: 2.2.2 | B28: SINAPI | C28: 93379 | D28: REATERRO MECANIZADO DE VALA COM RETROESCAVADEIRA (CAPACIDADE DA CAÇAMBA DA RETRO: 0,26 M³/POTÊNCIA: 88 HP), LARGURA 0,8 A 1,5 M, PROFUNDIDADE ATÉ 1,5 M, COM SOLO (SEM SUBSTITUIÇÃO) DE 1ª CATEGORIA, COM COMPACTADOR DE SOLOS DE PERCUSSÃO AF_08/2023 | E28: m³ | F28: 96.38 | G28: 0 | H28: =G28*(1+$H$3) -> 0 | I28: =ROUND(H28*F28,2) -> 0
A29: 2.2.3 | B29: SINAPI | C29: 94994 | D29: EXECUÇÃO DE PASSEIO (CALÇADA) OU PISO DE CONCRETO COM CONCRETO MOLDADO IN LOCO, FEITO EM OBRA, ACABAMENTO CONVENCIONAL, ESPESSURA 8 CM, ARMADO. AF_08/2022 | E29: m² | F29: 133.26 | G29: 0 | H29: =G29*(1+$H$3) -> 0 | I29: =ROUND(H29*F29,2) -> 0
A30: 2.2.4 | B30: SINAPI | C30: 96622 | D30: LASTRO COM MATERIAL GRANULAR, APLICADO EM PISOS OU LAJES SOBRE SOLO, ESPESSURA DE *5 CM*. AF_01/2024 | E30: m³ | F30: 6.66 | G30: 0 | H30: =G30*(1+$H$3) -> 0 | I30: =ROUND(H30*F30,2) -> 0
A31: 2.2.5 | B31: SINAPI | C31: 97083 | D31: COMPACTAÇÃO MECÂNICA DE SOLO PARA EXECUÇÃO DE RADIER, PISO DE CONCRETO OU LAJE SOBRE SOLO, COM COMPACTADOR DE SOLOS A PERCUSSÃO. AF_09/2021 | E31: m² | F31: 133.26 | G31: 0 | H31: =G31*(1+$H$3) -> 0 | I31: =ROUND(H31*F31,2) -> 0
A32: 2.2.6 | B32: SINAPI | C32: 97087 | D32: CAMADA SEPARADORA PARA EXECUÇÃO DE RADIER, PISO DE CONCRETO OU LAJE SOBRE SOLO, EM LONA PLÁSTICA. AF_09/2021 | E32: m² | F32: 133.26 | G32: 0 | H32: =G32*(1+$H$3) -> 0 | I32: =ROUND(H32*F32,2) -> 0
A33: 2.2.7 | B33: SINAPI | C33: 98525 | D33: LIMPEZA MECANIZADA DE CAMADA VEGETAL, VEGETAÇÃO E PEQUENAS ÁRVORES (DIÂMETRO DE TRONCO MENOR QUE 0,20 M), COM TRATOR DE ESTEIRAS. AF_03/2024 | E33: m² | F33: 1682.04 | G33: 0 | H33: =G33*(1+$H$3) -> 0 | I33: =ROUND(H33*F33,2) -> 0
A34: 2.2.8 | B34: SINAPI | C34: 101636 | D34: BRAÇO PARA ILUMINAÇÃO PÚBLICA, EM TUBO DE AÇO GALVANIZADO, COMPRIMENTO DE 1,50 M, PARA FIXAÇÃO EM POSTE DE CONCRETO - FORNECIMENTO E INSTALAÇÃO. AF_02/2025_PS | E34: un | F34: 2 | G34: 0 | H34: =G34*(1+$H$3) -> 0 | I34: =ROUND(H34*F34,2) -> 0
A35: 2.2.9 | B35: SINAPI | C35: 101659 | D35: LUMINÁRIA DE LED PARA ILUMINAÇÃO PÚBLICA, DE 181 W ATÉ 239 W - FORNECIMENTO E INSTALAÇÃO. AF_02/2025_PS | E35: un | F35: 2 | G35: 0 | H35: =G35*(1+$H$3) -> 0 | I35: =ROUND(H35*F35,2) -> 0
A36: 2.2.10 | B36: SINAPI | C36: 101663 | D36: ABRAÇADEIRA DE FIXAÇÃO DE BRAÇOS DE LUMINÁRIAS DE 2" - FORNECIMENTO E INSTALAÇÃO. AF_02/2025 | E36: un | F36: 2 | G36: 0 | H36: =G36*(1+$H$3) -> 0 | I36: =ROUND(H36*F36,2) -> 0
A37: 2.2.11 | B37: SINAPI | C37: 102990 | D37: CANALETA MEIA CANA PRÉ-MOLDADA DE CONCRETO (D = 30 CM) - FORNECIMENTO E INSTALAÇÃO. AF_05/2025 | E37: m | F37: 64.25 | G37: 0 | H37: =G37*(1+$H$3) -> 0 | I37: =ROUND(H37*F37,2) -> 0
A38: 2.2.12 | B38: SINAPI | C38: 103304 | D38: INSTALAÇÃO DE BANCO METÁLICO COM ENCOSTO, 1,60 M DE COMPRIMENTO, EM TUBO DE AÇO CARBONO COM PINTURA ELETROSTÁTICA, SOBRE PISO DE CONCRETO EXISTENTE. AF_11/2021 (Pintura cor madeira do pergolado) | E38: un | F38: 5 | G38: 0 | H38: =G38*(1+$H$3) -> 0 | I38: =ROUND(H38*F38,2) -> 0
... A42: 2.2.16 | B42: SINAPI | C42: 105953 | D42: POSTE DE AÇO CÔNICO CONTÍNUO RETO, ENGASTAMENTO SIMPLES COM 1 M DE SOLO, H=7M - FORNECIMENTO E INSTALAÇÃO. AF_04/2025 | E42: un | F42: 1 | G42: 0 | H42: =G42*(1+$H$3) -> 0 | I42: =ROUND(H42*F42,2) -> 0
A43: 2.2.17 | B43: CDHU | C43: 41.31.101 | D43: Projetor LED retangular, potência de 30 W, fluxo luminoso de 2250 a 2400 lm, temperatura cor 6.500 K, bivolt | E43: un | F43: 10 | G43: 0 | H43: =G43*(1+$H$3) -> 0 | I43: =ROUND(H43*F43,2) -> 0
...
