Workbook
Name I.Lotes: [1]QCI!$Z$8:$Z$18
Name ItemInvestimento: OFFSET([1]Listas!$B$2,1,0,COUNTA([1]Listas!$B:$B)-1)
Name SubItemInvestimento: OFFSET([1]Listas!$A$2,1,MATCH([1]QCI!$E1,[1]Listas!$2:$2,0)-1,INDEX([1]Listas!$2:$2,MATCH([1]QCI!$E1,[1]Listas!$2:$2,0)+1))

Sheet CRONOGRAMA
A1: LOGO DA EMPRESA | I1: SOMENTE PREENCHER AS CÉLULAS AMARELAS
B5: Convênio: | C5: TransfereGov n° 013312/2024 - Emenda n° 5007.0002 - Instrumento n° 964786 | F5: Data: | G5: =Planilha!H2 -> 46057
B6: Obra: | C6: Reforma e Ampliação do Portal do Município de Piedade-SP | F6: BDI: | G6: =Planilha!H3 -> 0.2499
B7: Endereço: | C7: Via Antônio Leite de Oliveira, s/n°, Centro - Piedade-SP (18170-003)
B8: Boletins: | C8: CDHU Boletim-200 Nov/2025 sem desoneração / SINAPI 12-2025 - Sem Desoneração / SICRO 10-2025
B11: CRONOGRAMA FÍSICO-FINANCEIRO
B13: ITEM | C13: DESCRIÇÃO | D13: VALOR TOTAL | E13: 46113 | F13: 46143 | G13: 46174 | H13: 46204 | I13: 46235 | J13: 46266 | K13: 46296 | L13: 46327 | M13: 46357 | N13: 46388 | O13: 46419 | P13: 46447
B14: 1 | C14: INÍCIO, APOIO E ADMINISTRAÇÃO DA OBRA | D14: =SUM(E14:P14) -> 1 | E14: 0.3 | F14: 0.3 | G14: 0.3 | H14: 0 | I14: 0 | J14: 0 | K14: 0 | L14: 0 | M14: 0 | N14: 0 | O14: 0 | P14: 0.1
D15: =Planilha!I8 -> 0 | E15: =E14*$D$15 -> 0 | F15: =F14*$D$15 -> 0 | G15: =G14*$D$15 -> 0 | H15: =H14*$D$15 -> 0 | I15: =I14*$D$15 -> 0 | J15: =J14*$D$15 -> 0 | K15: =K14*$D$15 -> 0 | L15: =L14*$D$15 -> 0 | ... O15: =O14*$D$15 -> 0 | P15: =P14*$D$15+0.01 -> 0.01 | S15: =SUM(E15:P15) -> 0.01
B16: 2 | C16: IMPLANTAÇÃO | D16: =SUM(E16:P16) -> 1 | E16: 0.05 | F16: 0.1 | G16: 0.1 | H16: 0.1 | I16: 0.1 | J16: 0.1 | K16: 0.1 | L16: 0.1 | M16: 0.1 | N16: 0.05 | O16: 0.05 | P16: 0.05
D17: =Planilha!I15 -> 0 | E17: =E16*$D$17 -> 0 | F17: =F16*$D$17 -> 0 | G17: =G16*$D$17 -> 0 | H17: =H16*$D$17 -> 0 | I17: =I16*$D$17 -> 0 | J17: =J16*$D$17 -> 0 | K17: =K16*$D$17 -> 0 | L17: =L16*$D$17 -> 0 | ... P17: =P16*$D$17 -> 0 | S17: =SUM(E17:P17) -> 0
B18: 2 | C18: QUIOSQUES | D18: =SUM(E18:P18) -> 1 | E18: 0 | F18: 0.05 | G18: 0.1 | H18: 0.15 | I18: 0.15 | J18: 0.2 | K18: 0.15 | L18: 0.15 | M18: 0.05 | N18: 0 | O18: 0 | P18: 0
D19: =Planilha!I129 -> 0 | E19: =E18*$D$19 -> 0 | F19: =F18*$D$19 -> 0 | G19: =G18*$D$19 -> 0 | H19: =H18*$D$19 -> 0 | I19: =I18*$D$19 -> 0 | J19: =J18*$D$19 -> 0 | K19: =K18*$D$19 -> 0 | L19: =L18*$D$19 -> 0 | ... P19: =P18*$D$19 -> 0 | S19: =SUM(E19:P19) -> 0
B20: 2 | C20: BANHEIROS EXTERNOS E DEPÓSITO | D20: =SUM(E20:P20) -> 1 | E20: 0 | F20: 0.05 | G20: 0.1 | H20: 0.15 | I20: 0.15 | J20: 0.2 | K20: 0.15 | L20: 0.15 | M20: 0.05 | N20: 0 | O20: 0 | P20: 0
D21: =Planilha!I210 -> 0 | E21: =E20*$D$21 -> 0 | F21: =F20*$D$21 -> 0 | G21: =G20*$D$21 -> 0 | H21: =H20*$D$21 -> 0 | I21: =I20*$D$21 -> 0 | J21: =J20*$D$21 -> 0 | K21: =K20*$D$21 -> 0 | L21: =L20*$D$21 -> 0 | ... P21: =P20*$D$21 -> 0 | S21: =SUM(E21:P21) -> 0
B22: 2 | C22: ESTRUTURA METÁLICA (COBERTURA QUIOESQUES E BANHEIROS) | D22: =SUM(E22:P22) -> 1 | E22: 0 | F22: 0 | G22: 0 | H22: 0 | I22: 0.1 | J22: 0.1 | K22: 0.15 | L22: 0.15 | M22: 0.15 | N22: 0.15 | O22: 0.15 | P22: 0.05
D23: =Planilha!I289 -> 0 | E23: =E22*$D$23 -> 0 | F23: =F22*$D$23 -> 0 | G23: =G22*$D$23 -> 0 | H23: =H22*$D$23 -> 0 | I23: =I22*$D$23 -> 0 | J23: =J22*$D$23 -> 0 | K23: =K22*$D$23 -> 0 | L23: =L22*$D$23 -> 0 | ... P23: =P22*$D$23 -> 0 | S23: =SUM(E23:P23) -> 0
B24: TOTAL | D24: =D15+D17+D19+D21+D23 -> 0 | E24: =E15+E17+E19+E21+E23 -> 0 | F24: =F15+F17+F19+F21+F23 -> 0 | G24: =G15+G17+G19+G21+G23 -> 0 | H24: =H15+H17+H19+H21+H23 -> 0 | I24: =I15+I17+I19+I21+I23 -> 0 | J24: =J15+J17+J19+J21+J23 -> 0 | K24: =K15+K17+K19+K21+K23 -> 0 | ... P24: =P15+P17+P19+P21+P23 -> 0.01 | S24: =SUM(E24:P24) -> 0.01
B30: LOCAL, DATA
C39: EMPRESA

Sheet Planilha
A1: LOGO DA EMPRESA | E1: SOMENTE PREENCHER A COLUNA AMARELA, SEM FÓRMULAS
C2: Convênio: | D2: TransfereGov n° 013312/2024 - Emenda n° 5007.0002 - Instrumento n° 964786 | G2: Data: | H2: 46057
C3: Obra: | D3: Reforma e Ampliação do Portal do Município de Piedade-SP | G3: BDI: | H3: 0.2499
C4: Endereço: | D4: Via Antônio Leite de Oliveira, s/n°, Centro - Piedade-SP (18170-003)
C5: Boletins: | D5: CDHU Boletim-200 Nov/2025 sem desoneração / SINAPI 03-2026 - Sem Desoneração / SICRO 10-2025
A6: PLANILHA ORÇAMENTÁRIA
A7: ITEM | B7: REFERENCIA | C7: SERVIÇO | D7: DESCRIÇÃO | E7: Unid. | F7: Quant. | G7: $ unitário | H7: $ unit c/ BDI | I7: $ total c/ BDI
A8: 1 | D8: INÍCIO, APOIO E ADMINISTRAÇÃO DA OBRA | I8: =SUM(I9:I14) -> 0
A9: 1.1 | B9: CDHU | C9: 01.17.061 | D9: Projeto executivo de estrutura em formato A0 | E9: un | F9: 2 | G9: 0 | H9: =G9*(1+$H$3) -> 0 | I9: =ROUND(H9*F9,2) -> 0
A10: 1.2 | B10: CDHU | C10: 01.17.121 | D10: Projeto executivo de instalações elétricas em formato A0 | E10: un | F10: 2 | G10: 0 | H10: =G10*(1+$H$3) -> 0 | I10: =ROUND(H10*F10,2) -> 0
A11: 1.3 | B11: CDHU | C11: 02.03.080 | D11: Fechamento provisório de vãos em chapa de madeira compensada | E11: m² | F11: 100 | G11: 0 | H11: =G11*(1+$H$3) -> 0 | I11: =ROUND(H11*F11,2) -> 0
A12: 1.4 | B12: CDHU | C12: 05.07.040 | D12: Remoção de entulho separado de obra com caçamba metálica - terra, alvenaria, concreto, argamassa, madeira, papel, plástico ou metal | E12: m³ | F12: 9 | G12: 0 | H12: =G12*(1+$H$3) -> 0 | I12: =ROUND(H12*F12,2) -> 0
A13: 1.5 | B13: CDHU | C13: 97.02.030 | D13: Placa comemorativa em aço inoxidável escovado | E13: m² | F13: 0.24 | G13: 0 | H13: =G13*(1+$H$3) -> 0 | I13: =ROUND(H13*F13,2) -> 0
A14: 1.6 | B14: SINAPI | C14: 103689 | D14: FORNECIMENTO E INSTALAÇÃO DE PLACA DE OBRA COM CHAPA GALVANIZADA E ESTRUTURA DE MADEIRA. AF_03/2022_PS | E14: m² | F14: 8 | G14: 0 | H14: =G14*(1+$H$3) -> 0 | I14: =ROUND(H14*F14,2) -> 0
A15: 2 | D15: IMPLANTAÇÃO | I15: =I16+I26+I44+I70+I85+I113+I121 -> 0
A16: 2.1 | D16: Estacionamento e área de convivência | I16: =SUM(I17:I25) -> 0
A17: 2.1.1 | B17: SINAPI | C17: 92403 | D17: EXECUÇÃO DE PAVIMENTO EM PISO INTERTRAVADO, COM BLOCO 16 FACES DE 22 X 11 CM, ESPESSURA 6 CM. AF_10/2022 | E17: m² | F17: 450.08 | G17: 0 | H17: =G17*(1+$H$3) -> 0 | I17: =ROUND(H17*F17,2) -> 0
A18: 2.1.2 | B18: SINAPI | C18: 92404 | D18: EXECUÇÃO DE PAVIMENTO EM PISO INTERTRAVADO, COM BLOCO 16 FACES DE 22 X 11 CM, ESPESSURA 8 CM. AF_10/2022 | E18: m² | F18: 409.59 | G18: 0 | H18: =G18*(1+$H$3) -> 0 | I18: =ROUND(H18*F18,2) -> 0
A19: 2.1.3 | B19: SINAPI | C19: 94994 | D19: EXECUÇÃO DE PASSEIO (CALÇADA) OU PISO DE CONCRETO COM CONCRETO MOLDADO IN LOCO, FEITO EM OBRA, ACABAMENTO CONVENCIONAL, ESPESSURA 8 CM, ARMADO. AF_08/2022 | E19: m² | F19: 190.22 | G19: 0 | H19: =G19*(1+$H$3) -> 0 | I19: =ROUND(H19*F19,2) -> 0
A20: 2.1.4 | B20: SINAPI | C20: 96622 | D20: LASTRO COM MATERIAL GRANULAR, APLICADO EM PISOS OU LAJES SOBRE SOLO, ESPESSURA DE *5 CM*. AF_01/2024 | E20: m³ | F20: 9.51 | G20: 0 | H20: =G20*(1+$H$3) -> 0 | I20: =ROUND(H20*F20,2) -> 0
A21: 2.1.5 | B21: SINAPI | C21: 97083 | D21: COMPACTAÇÃO MECÂNICA DE SOLO PARA EXECUÇÃO DE RADIER, PISO DE CONCRETO OU LAJE SOBRE SOLO, COM COMPACTADOR DE SOLOS A PERCUSSÃO. AF_09/2021 | E21: m² | F21: 1049.89 | G21: 0 | H21: =G21*(1+$H$3) -> 0 | I21: =ROUND(H21*F21,2) -> 0
A22: 2.1.6 | B22: SINAPI | C22: 97087 | D22: CAMADA SEPARADORA PARA EXECUÇÃO DE RADIER, PISO DE CONCRETO OU LAJE SOBRE SOLO, EM LONA PLÁSTICA. AF_09/2021 | E22: m² | F22: 190.22 | G22: 0 | H22: =G22*(1+$H$3) -> 0 | I22: =ROUND(H22*F22,2) -> 0
A23: 2.1.7 | B23: SINAPI | C23: 98525 | D23: LIMPEZA MECANIZADA DE CAMADA VEGETAL, VEGETAÇÃO E PEQUENAS ÁRVORES (DIÂMETRO DE TRONCO MENOR QUE 0,20 M), COM TRATOR DE ESTEIRAS. AF_03/2024 | E23: m² | F23: 2521.17 | G23: 0 | H23: =G23*(1+$H$3) -> 0 | I23: =ROUND(H23*F23,2) -> 0
A24: 2.1.8 | B24: SINAPI | C24: 103946 | D24: PLANTIO DE GRAMA ESMERALDA OU SÃO CARLOS OU CURITIBANA, EM PLACAS. AF_07/2024 | E24: m² | F24: 1448.18 | G24: 0 | H24: =G24*(1+$H$3) -> 0 | I24: =ROUND(H24*F24,2) -> 0
A25: 2.1.9 | B25: SINAPI | C25: 104790 | D25: DEMOLIÇÃO DE PISO DE CONCRETO SIMPLES, DE FORMA MECANIZADA COM MARTELETE, SEM REAPROVEITAMENTO. AF_09/2023 | E25: m³ | F25: 7.41 | G25: 0 | H25: =G25*(1+$H$3) -> 0 | I25: =ROUND(H25*F25,2) -> 0
A26: 2.2 | D26: Muro em gabião / Calçada / Paisagismo / Instalações (Outro lado da pista) | I26: =SUM(I27:I43) -> 0
A27: 2.2.1 | B27: SINAPI | C27: 92743 | D27: MURO DE GABIÃO, ENCHIMENTO COM PEDRA DE MÃO TIPO RACHÃO, DE GRAVIDADE, COM GAIOLAS DE COMPRIMENTO IGUAL A 2 M, PARA MUROS COM ALTURA MENOR OU IGUAL A 4 M - FORNECIMENTO E EXECUÇÃO. AF_03/2024 | E27: m³ | F27: 160.63 | G27: 0 | H27: =G27*(1+$H$3) -> 0 | I27: =ROUND(H27*F27,2) -> 0
A28: 2.2.2 | B28: SINAPI | C28: 93379 | D28: REATERRO MECANIZADO DE VALA COM RETROESCAVADEIRA (CAPACIDADE DA CAÇAMBA DA RETRO: 0,26 M³/POTÊNCIA: 88 HP), LARGURA 0,8 A 1,5 M, PROFUNDIDADE ATÉ 1,5 M, COM SOLO (SEM SUBSTITUIÇÃO) DE 1ª CATEGORIA, COM COMPACTADOR DE SOLOS DE PERCUSSÃO AF_08/2023 | E28: m³ | F28: 96.38 | G28: 0 | H28: =G28*(1+$H$3) -> 0 | I28: =ROUND(H28*F28,2) -> 0
A29: 2.2.3 | B29: SINAPI | C29: 94994 | D29: EXECUÇÃO DE PASSEIO (CALÇADA) OU PISO DE CONCRETO COM CONCRETO MOLDADO IN LOCO, FEITO EM OBRA, ACABAMENTO CONVENCIONAL, ESPESSURA 8 CM, ARMADO. AF_08/2022 | E29: m² | F29: 133.26 | G29: 0 | H29: =G29*(1+$H$3) -> 0 | I29: =ROUND(H29*F29,2) -> 0
A30: 2.2.4 | B30: SINAPI | C30: 96622 | D30: LASTRO COM MATERIAL GRANULAR, APLICADO EM PISOS OU LAJES SOBRE SOLO, ESPESSURA DE *5 CM*. AF_01/2024 | E30: m³ | F30: 6.66 | G30: 0 | H30: =G30*(1+$H$3) -> 0 | I30: =ROUND(H30*F30,2) -> 0
A31: 2.2.5 | B31: SINAPI | C31: 97083 | D31: COMPACTAÇÃO MECÂNICA DE SOLO PARA EXECUÇÃO DE RADIER, PISO DE CONCRETO OU LAJE SOBRE SOLO, COM COMPACTADOR DE SOLOS A PERCUSSÃO. AF_09/2021 | E31: m² | F31: 133.26 | G31: 0 | H31: =G31*(1+$H$3) -> 0 | I31: =ROUND(H31*F31,2) -> 0
A32: 2.2.6 | B32: SINAPI | C32: 97087 | D32: CAMADA SEPARADORA PARA EXECUÇÃO DE RADIER, PISO DE CONCRETO OU LAJE SOBRE SOLO, EM LONA PLÁSTICA. AF_09/2021 | E32: m² | F32: 133.26 | G32: 0 | H32: =G32*(1+$H$3) -> 0 | I32: =ROUND(H32*F32,2) -> 0
A33: 2.2.7 | B33: SINAPI | C33: 98525 | D33: LIMPEZA MECANIZADA DE CAMADA VEGETAL, VEGETAÇÃO E PEQUENAS ÁRVORES (DIÂMETRO DE TRONCO MENOR QUE 0,20 M), COM TRATOR DE ESTEIRAS. AF_03/2024 | E33: m² | F33: 1682.04 | G33: 0 | H33: =G33*(1+$H$3) -> 0 | I33: =ROUND(H33*F33,2) -> 0
A34: 2.2.8 | B34: SINAPI | C34: 101636 | D34: BRAÇO PARA ILUMINAÇÃO PÚBLICA, EM TUBO DE AÇO GALVANIZADO, COMPRIMENTO DE 1,50 M, PARA FIXAÇÃO EM POSTE DE CONCRETO - FORNECIMENTO E INSTALAÇÃO. AF_02/2025_PS | E34: un | F34: 2 | G34: 0 | H34: =G34*(1+$H$3) -> 0 | I34: =ROUND(H34*F34,2) -> 0
A35: 2.2.9 | B35: SINAPI | C35: 101659 | D35: LUMINÁRIA DE LED PARA ILUMINAÇÃO PÚBLICA, DE 181 W ATÉ 239 W - FORNECIMENTO E INSTALAÇÃO. AF_02/2025_PS | E35: un | F35: 2 | G35: 0 | H35: =G35*(1+$H$3) -> 0 | I35: =ROUND(H35*F35,2) -> 0
A36: 2.2.10 | B36: SINAPI | C36: 101663 | D36: ABRAÇADEIRA DE FIXAÇÃO DE BRAÇOS DE LUMINÁRIAS DE 2" - FORNECIMENTO E INSTALAÇÃO. AF_02/2025 | E36: un | F36: 2 | G36: 0 | H36: =G36*(1+$H$3) -> 0 | I36: =ROUND(H36*F36,2) -> 0
A37: 2.2.11 | B37: SINAPI | C37: 102990 | D37: CANALETA MEIA CANA PRÉ-MOLDADA DE CONCRETO (D = 30 CM) - FORNECIMENTO E INSTALAÇÃO. AF_05/2025 | E37: m | F37: 64.25 | G37: 0 | H37: =G37*(1+$H$3) -> 0 | I37: =ROUND(H37*F37,2) -> 0
A38: 2.2.12 | B38: SINAPI | C38: 103304 | D38: INSTALAÇÃO DE BANCO METÁLICO COM ENCOSTO, 1,60 M DE COMPRIMENTO, EM TUBO DE AÇO CARBONO COM PINTURA ELETROSTÁTICA, SOBRE PISO DE CONCRETO EXISTENTE. AF_11/2021 (Pintura cor madeira do pergolado) | E38: un | F38: 5 | G38: 0 | H38: =G38*(1+$H$3) -> 0 | I38: =ROUND(H38*F38,2) -> 0
... A42: 2.2.16 | B42: SINAPI | C42: 105953 | D42: POSTE DE AÇO CÔNICO CONTÍNUO RETO, ENGASTAMENTO SIMPLES COM 1 M DE SOLO, H=7M - FORNECIMENTO E INSTALAÇÃO. AF_04/2025 | E42: un | F42: 1 | G42: 0 | H42: =G42*(1+$H$3) -> 0 | I42: =ROUND(H42*F42,2) -> 0
A43: 2.2.17 | B43: CDHU | C43: 41.31.101 | D43: Projetor LED retangular, potência de 30 W, fluxo luminoso de 2250 a 2400 lm, temperatura cor 6.500 K, bivolt | E43: un | F43: 10 | G43: 0 | H43: =G43*(1+$H$3) -> 0 | I43: =ROUND(H43*F43,2) -> 0
A44: 2.3 | D44: Instalações Elétricas (IMPLANTAÇÃO/MUSEU/ESCULTURA/SELF POINT/PORTAL) | I44: =SUM(I45:I69) -> 0
A45: 2.3.1 | B45: SINAPI | C45: 91855 | D45: ELETRODUTO FLEXÍVEL CORRUGADO REFORÇADO, PVC, DN 25 MM (3/4"), PARA CIRCUITOS TERMINAIS, INSTALADO EM PAREDE - FORNECIMENTO E INSTALAÇÃO. AF_03/2023 | E45: m | F45: 62.84 | G45: 0 | H45: =G45*(1+$H$3) -> 0 | I45: =ROUND(H45*F45,2) -> 0
A46: 2.3.2 | B46: SINAPI | C46: 91927 | D46: CABO DE COBRE FLEXÍVEL ISOLADO, 2,5 MM², ANTI-CHAMA 0,6/1,0 KV, PARA CIRCUITOS TERMINAIS - FORNECIMENTO E INSTALAÇÃO. AF_03/2023 | E46: m | F46: 768.09 | G46: 0 | H46: =G46*(1+$H$3) -> 0 | I46: =ROUND(H46*F46,2) -> 0
A47: 2.3.3 | B47: SINAPI | C47: 91931 | D47: CABO DE COBRE FLEXÍVEL ISOLADO, 6 MM², ANTI-CHAMA 0,6/1,0 KV, PARA CIRCUITOS TERMINAIS - FORNECIMENTO E INSTALAÇÃO. AF_03/2023 | E47: m | F47: 1124.97 | G47: 0 | H47: =G47*(1+$H$3) -> 0 | I47: =ROUND(H47*F47,2) -> 0
A48: 2.3.4 | B48: SINAPI | C48: 91937 | D48: CAIXA OCTOGONAL 3" X 3", PVC, INSTALADA EM LAJE - FORNECIMENTO E INSTALAÇÃO. AF_03/2023 | E48: un | F48: 20 | G48: 0 | H48: =G48*(1+$H$3) -> 0 | I48: =ROUND(H48*F48,2) -> 0
A49: 2.3.5 | B49: SINAPI | C49: 93653 | D49: DISJUNTOR MONOPOLAR TIPO DIN, CORRENTE NOMINAL DE 10A - FORNECIMENTO E INSTALAÇÃO. AF_10/2020 | E49: un | F49: 13 | G49: 0 | H49: =G49*(1+$H$3) -> 0 | I49: =ROUND(H49*F49,2) -> 0
A50: 2.3.6 | B50: SINAPI | C50: 93655 | D50: DISJUNTOR MONOPOLAR TIPO DIN, CORRENTE NOMINAL DE 20A - FORNECIMENTO E INSTALAÇÃO. AF_10/2020 | E50: un | F50: 7 | G50: 0 | H50: =G50*(1+$H$3) -> 0 | I50: =ROUND(H50*F50,2) -> 0
A51: 2.3.7 | B51: SINAPI | C51: 93666 | D51: DISJUNTOR BIPOLAR TIPO DIN, CORRENTE NOMINAL DE 50A - FORNECIMENTO E INSTALAÇÃO. AF_10/2020 | E51: un | F51: 1 | G51: 0 | H51: =G51*(1+$H$3) -> 0 | I51: =ROUND(H51*F51,2) -> 0
A52: 2.3.8 | B52: SINAPI | C52: 96977 | D52: CORDOALHA DE COBRE NU 50 MM², ENTERRADA - FORNECIMENTO E INSTALAÇÃO. AF_08/2023 | E52: m | F52: 6 | G52: 0 | H52: =G52*(1+$H$3) -> 0 | I52: =ROUND(H52*F52,2) -> 0
A53: 2.3.9 | B53: SINAPI | C53: 96986 | D53: HASTE DE ATERRAMENTO, DIÂMETRO 3/4", COM 3 METROS - FORNECIMENTO E INSTALAÇÃO. AF_08/2023 | E53: un | F53: 2 | G53: 0 | H53: =G53*(1+$H$3) -> 0 | I53: =ROUND(H53*F53,2) -> 0
A54: 2.3.10 | B54: SINAPI | C54: 97667 | D54: ELETRODUTO FLEXÍVEL CORRUGADO, PEAD, DN 50 (1 1/2"), PARA REDE ENTERRADA DE DISTRIBUIÇÃO DE ENERGIA ELÉTRICA - FORNECIMENTO E INSTALAÇÃO. AF_12/2021 | E54: m | F54: 201.03 | G54: 0 | H54: =G54*(1+$H$3) -> 0 | I54: =ROUND(H54*F54,2) -> 0
A55: 2.3.11 | B55: SINAPI | C55: 98111 | D55: CAIXA DE INSPEÇÃO PARA ATERRAMENTO, CIRCULAR, EM POLIETILENO, DIÂMETRO INTERNO = 0,3 M. AF_12/2020 | E55: un | F55: 2 | G55: 0 | H55: =G55*(1+$H$3) -> 0 | I55: =ROUND(H55*F55,2) -> 0
A56: 2.3.12 | B56: SINAPI | C56: 101508 | D56: ENTRADA DE ENERGIA ELÉTRICA, AÉREA, TRIFÁSICA, COM CAIXA DE SOBREPOR, CABO DE 35 MM2 E DISJUNTOR DIN 50A (NÃO INCLUSO O POSTE DE CONCRETO). AF_07/2020_PS | E56: un | F56: 1 | G56: 0 | H56: =G56*(1+$H$3) -> 0 | I56: =ROUND(H56*F56,2) -> 0
... A66: 2.3.22 | B66: SINAPI | C66: 105953 | D66: POSTE DE AÇO CÔNICO CONTÍNUO RETO, ENGASTAMENTO SIMPLES COM 1 M DE SOLO, H=7M - FORNECIMENTO E INSTALAÇÃO. AF_04/2025 | E66: un | F66: 10 | G66: 0 | H66: =G66*(1+$H$3) -> 0 | I66: =ROUND(H66*F66,2) -> 0
A67: 2.3.23 | B67: CDHU | C67: 38.04.040 | D67: Eletroduto galvanizado conforme NBR13057 - 3/4´ com acessórios | E67: m | F67: 77 | G67: 0 | H67: =G67*(1+$H$3) -> 0 | I67: =ROUND(H67*F67,2) -> 0
A68: 2.3.24 | B68: CDHU | C68: 38.04.100 | D68: Eletroduto galvanizado conforme NBR13057 - 1 1/2´ com acessórios | E68: m | F68: 95.84 | G68: 0 | H68: =G68*(1+$H$3) -> 0 | I68: =ROUND(H68*F68,2) -> 0
A69: 2.3.25 | B69: CDHU | C69: 41.31.101 | D69: Projetor LED retangular, potência de 30 W, fluxo luminoso de 2250 a 2400 lm, temperatura cor 6.500 K, bivolt | E69: un | F69: 22 | G69: 0 | H69: =G69*(1+$H$3) -> 0 | I69: =ROUND(H69*F69,2) -> 0
A70: 2.4 | D70: Instalações Hidráulicas | I70: =SUM(I71:I84) -> 0
A71: 2.4.1 | B71: SINAPI | C71: 89356 | D71: TUBO, PVC, SOLDÁVEL, DE 25MM, INSTALADO EM RAMAL OU SUB-RAMAL DE ÁGUA - FORNECIMENTO E INSTALAÇÃO. AF_06/2022 | E71: m | F71: 19.21 | G71: 0 | H71: =G71*(1+$H$3) -> 0 | I71: =ROUND(H71*F71,2) -> 0
A72: 2.4.2 | B72: SINAPI | C72: 89357 | D72: TUBO, PVC, SOLDÁVEL, DE 32MM, INSTALADO EM RAMAL OU SUB-RAMAL DE ÁGUA - FORNECIMENTO E INSTALAÇÃO. AF_06/2022 | E72: m | F72: 10.83 | G72: 0 | H72: =G72*(1+$H$3) -> 0 | I72: =ROUND(H72*F72,2) -> 0
A73: 2.4.3 | B73: SINAPI | C73: 89512 | D73: TUBO PVC, SÉRIE R, ÁGUA PLUVIAL, DN 100 MM, FORNECIDO E INSTALADO EM RAMAL DE ENCAMINHAMENTO. AF_06/2022 | E73: m | F73: 51.19 | G73: 0 | H73: =G73*(1+$H$3) -> 0 | I73: =ROUND(H73*F73,2) -> 0
A74: 2.4.4 | B74: SINAPI | C74: 89578 | D74: TUBO PVC, SÉRIE R, ÁGUA PLUVIAL, DN 100 MM, FORNECIDO E INSTALADO EM CONDUTORES VERTICAIS DE ÁGUAS PLUVIAIS. AF_06/2022 | E74: m | F74: 15.96 | G74: 0 | H74: =G74*(1+$H$3) -> 0 | I74: =ROUND(H74*F74,2) -> 0
A75: 2.4.5 | B75: SINAPI | C75: 89713 | D75: TUBO PVC, SERIE NORMAL, ESGOTO PREDIAL, DN 75 MM, FORNECIDO E INSTALADO EM RAMAL DE DESCARGA OU RAMAL DE ESGOTO SANITÁRIO. AF_08/2022 | E75: m | F75: 15.7 | G75: 0 | H75: =G75*(1+$H$3) -> 0 | I75: =ROUND(H75*F75,2) -> 0
A76: 2.4.6 | B76: SINAPI | C76: 89714 | D76: TUBO PVC, SERIE NORMAL, ESGOTO PREDIAL, DN 100 MM, FORNECIDO E INSTALADO EM RAMAL DE DESCARGA OU RAMAL DE ESGOTO SANITÁRIO. AF_08/2022 | E76: m | F76: 10 | G76: 0 | H76: =G76*(1+$H$3) -> 0 | I76: =ROUND(H76*F76,2) -> 0
A77: 2.4.7 | B77: SINAPI | C77: 97901 | D77: CAIXA ENTERRADA HIDRÁULICA RETANGULAR EM ALVENARIA COM TIJOLOS CERÂMICOS MACIÇOS, DIMENSÕES INTERNAS: 0,4X0,4X0,4 M PARA REDE DE ESGOTO. AF_12/2020 | E77: und | F77: 2 | G77: 0 | H77: =G77*(1+$H$3) -> 0 | I77: =ROUND(H77*F77,2) -> 0
A78: 2.4.8 | B78: SINAPI | C78: 97902 | D78: CAIXA ENTERRADA HIDRÁULICA RETANGULAR EM ALVENARIA COM TIJOLOS CERÂMICOS MACIÇOS, DIMENSÕES INTERNAS: 0,6X0,6X0,6 M PARA REDE DE ESGOTO. AF_12/2020 | E78: und | F78: 1 | G78: 0 | H78: =G78*(1+$H$3) -> 0 | I78: =ROUND(H78*F78,2) -> 0
A79: 2.4.9 | B79: SINAPI | C79: 98053 | D79: TANQUE SÉPTICO CIRCULAR, EM CONCRETO PRÉ-MOLDADO, DIÂMETRO INTERNO = 1,40 M, ALTURA INTERNA = 2,50 M, VOLUME ÚTIL: 3463,6 L (PARA 13 CONTRIBUINTES). AF_12/2020 | E79: un | F79: 1 | G79: 0 | H79: =G79*(1+$H$3) -> 0 | I79: =ROUND(H79*F79,2) -> 0
A80: 2.4.10 | B80: SINAPI | C80: 98062 | D80: SUMIDOURO CIRCULAR, EM CONCRETO PRÉ-MOLDADO, DIÂMETRO INTERNO = 1,88 M, ALTURA INTERNA = 2,00 M, ÁREA DE INFILTRAÇÃO: 13,1 M² (PARA 5 CONTRIBUINTES). AF_12/2020 | E80: un | F80: 2 | G80: 0 | H80: =G80*(1+$H$3) -> 0 | I80: =ROUND(H80*F80,2) -> 0
A81: 2.4.11 | B81: SINAPI | C81: 98089 | D81: FILTRO ANAERÓBIO RETANGULAR, EM ALVENARIA COM BLOCOS DE CONCRETO, DIMENSÕES INTERNAS: 1,2 X 1,8 X H=1,67 M, VOLUME ÚTIL: 2592 L (PARA 13 CONTRIBUINTES). AF_12/2020 | E81: un | F81: 1 | G81: 0 | H81: =G81*(1+$H$3) -> 0 | I81: =ROUND(H81*F81,2) -> 0
A82: 2.4.12 | B82: SINAPI | C82: 98110 | D82: CAIXA DE GORDURA PEQUENA (CAPACIDADE: 19 L), CIRCULAR, EM PVC, DIÂMETRO INTERNO= 0,3 M. AF_12/2020 | E82: und | F82: 2 | G82: 0 | H82: =G82*(1+$H$3) -> 0 | I82: =ROUND(H82*F82,2) -> 0
... A84: 2.4.14 | B84: SINAPI | C84: 103005 | D84: CAIXA COM GRELHA RETANGULAR DE FERRO FUNDIDO, EM ALVENARIA COM TIJOLOS CERÂMICOS MACIÇOS, DIMENSÕES INTERNAS: 0,15 X 1,00 X 0,3 M. AF_05/2025 | E84: und | F84: 4 | G84: 0 | H84: =G84*(1+$H$3) -> 0 | I84: =ROUND(H84*F84,2) -> 0
A85: 2.5 | D85: Equipamentos, instalações, paisagismo e museu a céu aberto | I85: =SUM(I86:I112) -> 0
A86: 2.5.1 | B86: SINAPI | C86: 87528 | D86: EMBOÇO, EM ARGAMASSA TRAÇO 1:2:8, PREPARO MANUAL, APLICADO MANUALMENTE EM PAREDES INTERNAS DE AMBIENTES COM ÁREA MENOR QUE 5M², E = 17,5MM, COM TALISCAS. AF_03/2024 | E86: m² | F86: 91.54 | G86: 0 | H86: =G86*(1+$H$3) -> 0 | I86: =ROUND(H86*F86,2) -> 0
A87: 2.5.2 | B87: SINAPI | C87: 87893 | D87: CHAPISCO APLICADO EM ALVENARIA (SEM PRESENÇA DE VÃOS) E ESTRUTURAS DE CONCRETO DE FACHADA, COM COLHER DE PEDREIRO. ARGAMASSA TRAÇO 1:3 COM PREPARO MANUAL. AF_10/2022 | E87: m² | F87: 91.54 | G87: 0 | H87: =G87*(1+$H$3) -> 0 | I87: =ROUND(H87*F87,2) -> 0
A88: 2.5.3 | B88: SINAPI | C88: 88415 | D88: APLICAÇÃO MANUAL DE FUNDO SELADOR ACRÍLICO EM PAREDES EXTERNAS DE CASAS. AF_03/2024 | E88: m² | F88: 91.54 | G88: 0 | H88: =G88*(1+$H$3) -> 0 | I88: =ROUND(H88*F88,2) -> 0
A89: 2.5.4 | B89: SINAPI | C89: 89994 | D89: GRAUTEAMENTO DE CINTA INTERMEDIÁRIA OU DE CONTRAVERGA EM ALVENARIA ESTRUTURAL. AF_09/2021 | E89: m³ | F89: 1.3 | G89: 0 | H89: =G89*(1+$H$3) -> 0 | I89: =ROUND(H89*F89,2) -> 0
A90: 2.5.5 | B90: SINAPI | C90: 92267 | D90: FABRICAÇÃO DE FÔRMA PARA LAJES, EM CHAPA DE MADEIRA COMPENSADA RESINADA, E = 17 MM. AF_09/2020 | E90: m² | F90: 2.51 | G90: 0 | H90: =G90*(1+$H$3) -> 0 | I90: =ROUND(H90*F90,2) -> 0
A91: 2.5.6 | B91: SINAPI | C91: 92518 | D91: MONTAGEM E DESMONTAGEM DE FÔRMA DE LAJE MACIÇA, PÉ-DIREITO SIMPLES, EM CHAPA DE MADEIRA COMPENSADA RESINADA, 6 UTILIZAÇÕES. AF_09/2020 | E91: m² | F91: 15.7 | G91: 0 | H91: =G91*(1+$H$3) -> 0 | I91: =ROUND(H91*F91,2) -> 0
A92: 2.5.7 | B92: SINAPI | C92: 92760 | D92: ARMAÇÃO DE PILAR OU VIGA DE ESTRUTURA CONVENCIONAL DE CONCRETO ARMADO UTILIZANDO AÇO CA-50 DE 6,3 MM - MONTAGEM. AF_06/2022 | E92: kg | F92: 23.67 | G92: 0 | H92: =G92*(1+$H$3) -> 0 | I92: =ROUND(H92*F92,2) -> 0
A93: 2.5.8 | B93: SINAPI | C93: 92762 | D93: ARMAÇÃO DE PILAR OU VIGA DE ESTRUTURA CONVENCIONAL DE CONCRETO ARMADO UTILIZANDO AÇO CA-50 DE 10,0 MM - MONTAGEM. AF_06/2022 | E93: kg | F93: 112.3 | G93: 0 | H93: =G93*(1+$H$3) -> 0 | I93: =ROUND(H93*F93,2) -> 0
A94: 2.5.9 | B94: SINAPI | C94: 94994 | D94: EXECUÇÃO DE PASSEIO (CALÇADA) OU PISO DE CONCRETO COM CONCRETO MOLDADO IN LOCO, FEITO EM OBRA, ACABAMENTO CONVENCIONAL, ESPESSURA 8 CM, ARMADO. AF_08/2022 | E94: m² | F94: 58.72 | G94: 0 | H94: =G94*(1+$H$3) -> 0 | I94: =ROUND(H94*F94,2) -> 0
A95: 2.5.10 | B95: SINAPI | C95: 95626 | D95: APLICAÇÃO MANUAL DE TINTA LÁTEX ACRÍLICA EM PAREDE EXTERNAS DE CASAS, DUAS DEMÃOS. AF_03/2024 | E95: m² | F95: 91.54 | G95: 0 | H95: =G95*(1+$H$3) -> 0 | I95: =ROUND(H95*F95,2) -> 0
A96: 2.5.11 | B96: SINAPI | C96: 96130 | D96: APLICAÇÃO MANUAL DE MASSA ACRÍLICA EM PAREDES EXTERNAS DE CASAS, UMA DEMÃO. AF_03/2024 | E96: m² | F96: 91.54 | G96: 0 | H96: =G96*(1+$H$3) -> 0 | I96: =ROUND(H96*F96,2) -> 0
A97: 2.5.12 | B97: SINAPI | C97: 96622 | D97: LASTRO COM MATERIAL GRANULAR, APLICADO EM PISOS OU LAJES SOBRE SOLO, ESPESSURA DE *5 CM*. AF_01/2024 | E97: m³ | F97: 4.58 | G97: 0 | H97: =G97*(1+$H$3) -> 0 | I97: =ROUND(H97*F97,2) -> 0
... A108: 2.5.23 | B108: SINAPI | C108: 98510 | D108: PLANTIO DE ÁRVORE ORNAMENTAL COM ALTURA DE MUDA MENOR OU IGUAL A 2,00 M . AF_07/2024 | E108: un | F108: 50 | G108: 0 | H108: =G108*(1+$H$3) -> 0 | I108: =ROUND(H108*F108,2) -> 0
A109: 2.5.24 | B109: CDHU | C109: 17.03.320 | D109: Rodapé em cimentado desempenado e alisado com altura 10 cm | E109: m | F109: 40 | G109: 0 | H109: =G109*(1+$H$3) -> 0 | I109: =ROUND(H109*F109,2) -> 0
A110: 2.5.25 | B110: CDHU | C110: 24.03.300 | D110: Fechamento em chapa expandida losangular de 10 x 20 mm, com requadro em cantoneira de aço carbono | E110: m² | F110: 152 | G110: 0 | H110: =G110*(1+$H$3) -> 0 | I110: =ROUND(H110*F110,2) -> 0
A111: 2.5.26 | B111: PRÓPRIA | C111: CPU 01 | D111: Fornecimento e instalação de letras para o portal e de selfpoint | E111: gl | F111: 1 | G111: 0 | H111: =G111*(1+$H$3) -> 0 | I111: =ROUND(H111*F111,2) -> 0
A112: 2.5.27 | B112: PRÓPRIA | C112: CPU 02 | D112: Fornecimento e instalação de escultura | E112: gl | F112: 1 | G112: 0 | H112: =G112*(1+$H$3) -> 0 | I112: =ROUND(H112*F112,2) -> 0
A113: 2.6 | D113: Sinalização | I113: =SUM(I114:I120) -> 0
A114: 2.6.1 | B114: CDHU | C114: 70.01.031 | D114: Ondulação transversal em massa asfáltica - lombada tipo "B" de vias com execução de recapeamento | E114: m² | F114: 5.1 | G114: 0 | H114: =G114*(1+$H$3) -> 0 | I114: =ROUND(H114*F114,2) -> 0
A115: 2.6.2 | B115: CDHU | C115: 70.06.020 | D115: Tachão tipo I bidirecional refletivo | E115: un | F115: 30 | G115: 0 | H115: =G115*(1+$H$3) -> 0 | I115: =ROUND(H115*F115,2) -> 0
A116: 2.6.3 | B116: SICRO | C116: 5213440 | D116: Placa de regulamentação em aço D = 0,60 m - película retrorrefletiva tipo I + SI - fornecimento e implantação | E116: un | F116: 2 | G116: 0 | H116: =G116*(1+$H$3) -> 0 | I116: =ROUND(H116*F116,2) -> 0
A117: 2.6.4 | B117: SICRO | C117: 5213464 | D117: Placa de advertência em aço, lado de 0,60 m - película retrorrefletiva tipo I + SI - fornecimento e implantação | E117: un | F117: 2 | G117: 0 | H117: =G117*(1+$H$3) -> 0 | I117: =ROUND(H117*F117,2) -> 0
A118: 2.6.5 | B118: SICRO | C118: 5213486 | D118: Placa em alumínio composto, espessura de 3,0 mm, modulada, aérea - película retrorrefletiva tipo I + III - fornecimento e implantação | E118: m² | F118: 0.35 | G118: 0 | H118: =G118*(1+$H$3) -> 0 | I118: =ROUND(H118*F118,2) -> 0
A119: 2.6.6 | B119: SICRO | C119: 5213837 | D119: Cilindro flexível delimitador de tráfego com duas faixas refletivas e chumbador - D = 20 cm e H = 80 cm | E119: un | F119: 15 | G119: 0 | H119: =G119*(1+$H$3) -> 0 | I119: =ROUND(H119*F119,2) -> 0
A120: 2.6.7 | B120: SICRO | C120: 5213863 | D120: Suporte metálico galvanizado para placa de advertência ou regulamentação - lado ou diâmetro de 0,60 m - fornecimento e implantação | E120: un | F120: 5 | G120: 0 | H120: =G120*(1+$H$3) -> 0 | I120: =ROUND(H120*F120,2) -> 0
A121: 2.7 | D121: Extensão da rede de água | I121: =SUM(I122:I128) -> 0
A122: 2.7.1 | B122: SINAPI | C122: 90105 | D122: ESCAVAÇÃO MECANIZADA DE VALA COM PROFUNDIDADE ATÉ 1,5 M (MÉDIA MONTANTE E JUSANTE/UMA COMPOSIÇÃO POR TRECHO), RETROESCAV. (0,26 M3), LARGURA MENOR QUE 0,8 M, EM SOLO DE 1A CATEGORIA, LOCAIS COM BAIXO NÍVEL DE INTERFERÊNCIA. AF_09/2024 | E122: m³ | F122: 588 | G122: 0 | H122: =G122*(1+$H$3) -> 0 | I122: =ROUND(H122*F122,2) -> 0
A123: 2.7.2 | B123: SINAPI | C123: 94497 | D123: REGISTRO DE GAVETA BRUTO, LATÃO, ROSCÁVEL, 1 1/2" - FORNECIMENTO E INSTALAÇÃO. AF_08/2021 | E123: und | F123: 7 | G123: 0 | H123: =G123*(1+$H$3) -> 0 | I123: =ROUND(H123*F123,2) -> 0
...
