Workbook

Sheet Dados
A1: DADOS DA OBRA
A2: PREFEITURA MUNICIPAL DA ESTÂNCIA TURÍSTICA DE IBIÚNA
A3: OBJETO:REFORMA DA FACHADA DO HOSPITAL
A4: ENDEREÇO: AVENIDA GABRIEL MONTEIRO DA SILVA Nº 888 - CENTRO - IBIÚNA - SP
A5: DATA DA ELABORAÇÃO: 14/04/2026
A6: FONTE: CDHU 201 - SINAPI MARÇO/2026 - AMBOS DESONERADOS
A7: PRAZO DE EXECUÇÃO: 06 MESES
A10: RECURSOS FINANCEIROS
A11: Valor de recurso convenial disponibilizado | H11: 0
A13: DADOS DO PROFISSIONAL
A14: Nome: | B14: JEFERSON JOSÉ VIEIRA RUIVO
A15: Título: | B15: ENGENHEIRO CIVIL
A16: CREA/CAU: | B16: 5070232434

Sheet BDI
A1: COMPOSIÇÃO DEMONSTRATIVA DE BDI
A2: PREFEITURA MUNICIPAL DA ESTÂNCIA TURÍSTICA DE IBIÚNA
A3: =Dados!A3 -> OBJETO:REFORMA DA FACHADA DO HOSPITAL
A4: =Dados!A4 -> ENDEREÇO: AVENIDA GABRIEL MONTEIRO DA SILVA Nº 888 - CENTRO - IBIÚNA - SP
A5: =Dados!A5 -> DATA DA ELABORAÇÃO: 14/04/2026
A6: =Dados!A6 -> FONTE: CDHU 201 - SINAPI MARÇO/2026 - AMBOS DESONERADOS
A7: =Dados!A7 -> PRAZO DE EXECUÇÃO: 06 MESES
A9: TIPO DE OBRA DO EMPREENDIMENTO | H9: DESONERAÇÃO
A10: Construção e Reforma de Edifícios | H10: Sim | M10: Coluna1
M11: Sim
A12: Percentual para base de cálculo do ISS | H12: 1 | M12: Não
A13: Alíquota de ISS | H13: 0.025
A15: Itens | E15: Siglas | F15: % Adotado | G15: Situação | H15: Intervalo de admissibilidade | M15: Coluna1
H16: 1º Quartil | I16: Médio | J16: 3º Quartil | M16: Construção e Reforma de Edifícios
A17: Administração Central | E17: AC | F17: 0.0345 | G17: =IF(OR(F17<H17,F17>J17),"NÃO OK","OK") -> OK | H17: =IF($A$10=$M$16,M21,IF($A$10="Construção de Praças Urbanas, Rodovias, Ferrovias e Recapeamento e Pavimentação de Vias Urbanas",M32,M54)) -> 0.03 | I17: =IF($A$10=$M$16,N21,IF($A$10="Construção de Praças Urbanas, Rodovias, Ferrovias e Recapeamento e Pavimentação de Vias Urbanas",N32,N54)) -> 0.04 | J17: =IF($A$10=$M$16,O21,IF($A$10="Construção de Praças Urbanas, Rodovias, Ferrovias e Recapeamento e Pavimentação de Vias Urbanas",O32,O54)) -> 0.055 | M17: Construção de Praças Urbanas, Rodovias, Ferrovias e Recapeamento e Pavimentação de Vias Urbanas
A18: Seguro e Garantia | E18: SG | F18: 0.008 | G18: =IF(OR(F18<H18,F18>J18),"NÃO OK","OK") -> OK | H18: =IF($A$10=$M$16,M22,IF($A$10="Construção de Praças Urbanas, Rodovias, Ferrovias e Recapeamento e Pavimentação de Vias Urbanas",M33,M55)) -> 0.008 | I18: =IF($A$10=$M$16,N22,IF($A$10="Construção de Praças Urbanas, Rodovias, Ferrovias e Recapeamento e Pavimentação de Vias Urbanas",N33,N55)) -> 0.008 | J18: =IF($A$10=$M$16,O22,IF($A$10="Construção de Praças Urbanas, Rodovias, Ferrovias e Recapeamento e Pavimentação de Vias Urbanas",O33,O55)) -> 0.01 | M18: Fornecimento de Materiais e Equipamentos
A19: Risco | E19: R | F19: 0.012 | G19: =IF(OR(F19<H19,F19>J19),"NÃO OK","OK") -> OK | H19: =IF($A$10=$M$16,M23,IF($A$10="Construção de Praças Urbanas, Rodovias, Ferrovias e Recapeamento e Pavimentação de Vias Urbanas",M34,M56)) -> 0.0097 | I19: =IF($A$10=$M$16,N23,IF($A$10="Construção de Praças Urbanas, Rodovias, Ferrovias e Recapeamento e Pavimentação de Vias Urbanas",N34,N56)) -> 0.0127 | J19: =IF($A$10=$M$16,O23,IF($A$10="Construção de Praças Urbanas, Rodovias, Ferrovias e Recapeamento e Pavimentação de Vias Urbanas",O34,O56)) -> 0.0127 | M19: Obras de Educação
A20: Despesas Financeiras | E20: DF | F20: 0.0059 | G20: =IF(OR(F20<H20,F20>J20),"NÃO OK","OK") -> OK | H20: =IF($A$10=$M$16,M24,IF($A$10="Construção de Praças Urbanas, Rodovias, Ferrovias e Recapeamento e Pavimentação de Vias Urbanas",M35,M57)) -> 0.0059 | I20: =IF($A$10=$M$16,N24,IF($A$10="Construção de Praças Urbanas, Rodovias, Ferrovias e Recapeamento e Pavimentação de Vias Urbanas",N35,N57)) -> 0.0123 | J20: =IF($A$10=$M$16,O24,IF($A$10="Construção de Praças Urbanas, Rodovias, Ferrovias e Recapeamento e Pavimentação de Vias Urbanas",O35,O57)) -> 0.0139 | M20: Sem aplicação de BDI
A21: Lucro | E21: L | F21: 0.065 | G21: =IF(OR(F21<H21,F21>J21),"NÃO OK","OK") -> OK | H21: =IF($A$10=$M$16,M25,IF($A$10="Construção de Praças Urbanas, Rodovias, Ferrovias e Recapeamento e Pavimentação de Vias Urbanas",M36,M58)) -> 0.0616 | I21: =IF($A$10=$M$16,N25,IF($A$10="Construção de Praças Urbanas, Rodovias, Ferrovias e Recapeamento e Pavimentação de Vias Urbanas",N36,N58)) -> 0.074 | J21: =IF($A$10=$M$16,O25,IF($A$10="Construção de Praças Urbanas, Rodovias, Ferrovias e Recapeamento e Pavimentação de Vias Urbanas",O36,O58)) -> 0.0896 | M21: 0.03 | N21: 0.04 | O21: 0.055
A22: Tributos (impostos COFINS 3%, e PIS 0,65%) | E22: CP | F22: 0.0365 | G22: =IF(OR(F22<H22,F22>J22),"NÃO OK","OK") -> OK | H22: =IF($A$10=$M$16,M26,IF($A$10="Construção de Praças Urbanas, Rodovias, Ferrovias e Recapeamento e Pavimentação de Vias Urbanas",M37,M59)) -> 0.0365 | I22: =IF($A$10=$M$16,N26,IF($A$10="Construção de Praças Urbanas, Rodovias, Ferrovias e Recapeamento e Pavimentação de Vias Urbanas",N37,N59)) -> 0.0365 | J22: =IF($A$10=$M$16,O26,IF($A$10="Construção de Praças Urbanas, Rodovias, Ferrovias e Recapeamento e Pavimentação de Vias Urbanas",O37,O59)) -> 0.0365 | M22: 0.008 | N22: 0.008 | O22: 0.01
A23: Tributos (ISS, variável de acordo com o município) | E23: ISS | F23: =IF(A10="Fornecimento de Materiais e Equipamentos",0,H12*H13) -> 0.025 | G23: =IF(OR(F23<H23,F23>J23),"NÃO OK","OK") -> OK | H23: =IF($A$10=$M$16,M27,IF($A$10="Construção de Praças Urbanas, Rodovias, Ferrovias e Recapeamento e Pavimentação de Vias Urbanas",M38,M60)) -> 0 | I23: =IF($A$10=$M$16,N27,IF($A$10="Construção de Praças Urbanas, Rodovias, Ferrovias e Recapeamento e Pavimentação de Vias Urbanas",N38,N60)) -> 0.025 | J23: =IF($A$10=$M$16,O27,IF($A$10="Construção de Praças Urbanas, Rodovias, Ferrovias e Recapeamento e Pavimentação de Vias Urbanas",O38,O60)) -> 0.05 | M23: 0.0097 | N23: 0.0127 | O23: 0.0127
A24: Tributos (Contribuição Previdenciária - 0% ou 4,5%, conforme Lei 12.844/2013 - Desoneração) | E24: CPRB | F24: =IF(H10="Sim",4.5%,0%) -> 0.045 | G24: =IF(AND(F24>=H24, F24<=J24), "OK", "NÃO OK") -> OK | H24: =IF($A$10=$M$16,M28,IF($A$10="Construção de Praças Urbanas, Rodovias, Ferrovias e Recapeamento e Pavimentação de Vias Urbanas",M39,M61)) -> 0 | I24: =IF($A$10=$M$16,N28,IF($A$10="Construção de Praças Urbanas, Rodovias, Ferrovias e Recapeamento e Pavimentação de Vias Urbanas",N39,N61)) -> 0.045 | J24: =IF($A$10=$M$16,O28,IF($A$10="Construção de Praças Urbanas, Rodovias, Ferrovias e Recapeamento e Pavimentação de Vias Urbanas",O39,O61)) -> 0.045 | M24: 0.0059 | N24: 0.0123 | O24: 0.0139
A25: BDI SEM desoneração | E25: BDI PAD | F25: =ROUND((((1+F17+F18+F19)*(1+F20)*(1+F21)/(1-(F22+F23)))-1),4) -> 0.2037 | G25: =IF(AND(F25>=H25, F25<=J25),"OK","NÃO OK") -> OK | H25: =IF($A$10=$M$16,M29,IF($A$10="Construção de Praças Urbanas, Rodovias, Ferrovias e Recapeamento e Pavimentação de Vias Urbanas",M40,M62)) -> 0.2034 | I25: =IF($A$10=$M$16,N29,IF($A$10="Construção de Praças Urbanas, Rodovias, Ferrovias e Recapeamento e Pavimentação de Vias Urbanas",N40,N62)) -> 0.2212 | J25: =IF($A$10=$M$16,O29,IF($A$10="Construção de Praças Urbanas, Rodovias, Ferrovias e Recapeamento e Pavimentação de Vias Urbanas",O40,O62)) -> 0.25 | M25: 0.0616 | N25: 0.074 | O25: 0.0896
A26: BDI COM DESONERAÇÃO | E26: BDI DES | F26: =IF(A10="Sem aplicação de BDI",0,IF(A10="Obras de Educação",0.23,ROUND((((1+F17+F18+F19)*(1+F20)*(1+F21)/(1-(F22+F23+F24)))-1),4))) -> 0.2643 | G26: =IF(H10<>"Sim","",IF(COUNTIF(G17:G25,"NÃO OK")>0,"NÃO OK","OK")) -> OK | M26: 0.0365 | N26: 0.0365 | O26: 0.0365
M27: 0 | N27: 0.025 | O27: 0.05
M28: 0 | N28: 0.045 | O28: 0.045
M29: 0.2034 | N29: 0.2212 | O29: 0.25
A30: Observações:
A31: =IF(A10="Obras de Educação","Aplicação de BDI setorial conforme pré estabelecido na planilha FDE"," ")
M32: 0.038 | N32: 0.0401 | O32: 0.0467
M33: 0.0032 | N33: 0.004 | O33: 0.0074
M34: 0.005 | N34: 0.0056 | O34: 0.0097
M35: 0.0102 | N35: 0.0111 | O35: 0.0121
M36: 0.0664 | N36: 0.073 | O36: 0.0869
M37: 0.0365 | N37: 0.0365 | O37: 0.0365
M38: 0 | N38: 0.025 | O38: 0.05
M39: 0 | N39: 0.045 | O39: 0.045
M40: 0.196 | N40: 0.2097 | O40: 0.2423
A45: Ibiúna, 14 de Abril de 2026.
A52: Nome: | B52: =Dados!B14 -> JEFERSON JOSÉ VIEIRA RUIVO
...

Sheet Orçamentária-CDHU
A1: PLANILHA ORÇAMENTÁRIA
A2: PREFEITURA MUNICIPAL DA ESTÂNCIA TURÍSTICA DE IBIÚNA
A3: =Dados!A3 -> OBJETO:REFORMA DA FACHADA DO HOSPITAL
A4: =Dados!A4 -> ENDEREÇO: AVENIDA GABRIEL MONTEIRO DA SILVA Nº 888 - CENTRO - IBIÚNA - SP
A5: =Dados!A5 -> DATA DA ELABORAÇÃO: 14/04/2026
A6: =Dados!A6 -> FONTE: CDHU 201 - SINAPI MARÇO/2026 - AMBOS DESONERADOS
A7: =Dados!A7 -> PRAZO DE EXECUÇÃO: 06 MESES
A9: Item | B9: Fonte | C9: Código | D9: Descrição dos Serviços | E9: Unidade | F9: Quantidade | G9: Preço Unitário (Sem BDI) | H9: Preço Total (Sem BDI) | I9: Preço Total (Com BDI)
A10: MACROSSERVIÇO
A11: 1 | D11: SERVIÇOS PRLIMINARES
A12: 1.1 | B12: CDHU | C12: 02.08.020 | D12: Placa de identificação para obra | E12: M² | F12: 6 | G12: 882.62 | H12: =ROUND(F12*G12,2) -> 5295.72 | I12: =ROUND(F12*G12*(1+$I$142/100),2) -> 6695.38
A13: 1.2 | B13: CDHU | C13: 02.03.120 | D13: Tapume fixo para fechamento de áreas, com portão | E13: M² | F13: 70 | G13: 105.44 | H13: =ROUND(F13*G13,2) -> 7380.8 | I13: =ROUND(F13*G13*(1+$I$142/100),2) -> 9331.55
A14: 1.3 | B14: CDHU | C14: 02.05.202 | D14: Andaime torre metálico (1,5 x 1,5 m) com piso metálico | E14: MXMES | F14: 20 | G14: 27.98 | H14: =ROUND(F14*G14,2) -> 559.6 | I14: =ROUND(F14*G14*(1+$I$142/100),2) -> 707.5
A15: 1.4 | B15: CDHU | C15: 02.05.060 | D15: Montagem e desmontagem de andaime torre metálica com altura até 10 m | E15: M | F15: 20 | G15: 12.9 | H15: =ROUND(F15*G15,2) -> 258 | I15: =ROUND(F15*G15*(1+$I$142/100),2) -> 326.19
G16: SUBTOTAL | H16: =SUM(H12:H15) -> 13494.12 | I16: =SUM(I12:I15) -> 17060.62
A17: 2 | D17: DEMOLIÇOES E MUDANÇA DO AR CONDICIONADO
A18: 2.1 | B18: CDHU | C18: 03.01.020 | D18: Demolição manual de concreto simples | E18: M³ | F18: 20 | G18: 233.09 | H18: =ROUND(F18*G18,2) -> 4661.8 | I18: =ROUND(F18*G18*(1+$I$142/100),2) -> 5893.91
A19: 2.2 | B19: CDHU | C19: 03.01.040 | D19: Demolição manual de concreto armado | E19: M³ | F19: 20 | G19: 423.8 | H19: =ROUND(F19*G19,2) -> 8476 | I19: =ROUND(F19*G19*(1+$I$142/100),2) -> 10716.21
A20: 2.3 | B20: CDHU | C20: 03.08.060 | D20: Demolição manual de forro em gesso, inclusive sistema de fixação | E20: M² | F20: 60 | G20: 6.36 | H20: =ROUND(F20*G20,2) -> 381.6 | I20: =ROUND(F20*G20*(1+$I$142/100),2) -> 482.46
A21: 2.4 | B21: CDHU | C21: 03.03.060 | D21: Demolição manual de revestimento em massa de piso | E21: M² | F21: 280 | G21: 10.6 | H21: =ROUND(F21*G21,2) -> 2968 | I21: =ROUND(F21*G21*(1+$I$142/100),2) -> 3752.44
A22: 2.5 | B22: CDHU | C22: 04.03.040 | D22: Retirada de telhamento perfil e material qualquer, exceto barro | E22: M² | F22: 100 | G22: 8.48 | H22: =ROUND(F22*G22,2) -> 848 | I22: =ROUND(F22*G22*(1+$I$142/100),2) -> 1072.13
A23: 2.6 | B23: CDHU | C23: 46.10.010 | D23: Tubo de cobre classe A, DN= 15mm (1/2´), inclusive conexões | E23: M | F23: 40 | G23: 102.57 | H23: =ROUND(F23*G23,2) -> 4102.8 | I23: =ROUND(F23*G23*(1+$I$142/100),2) -> 5187.17
A24: 2.7 | B24: CDHU | C24: 46.10.020 | D24: Tubo de cobre classe A, DN= 22mm (3/4´), inclusive conexões | E24: M | F24: 40 | G24: 145.9 | H24: =ROUND(F24*G24,2) -> 5836 | I24: =ROUND(F24*G24*(1+$I$142/100),2) -> 7378.45
A25: 2.8 | B25: CDHU | C25: 02.05.202 | D25: Andaime torre metálico (1,5 x 1,5 m) com piso metálico | E25: MXMES | F25: 40 | G25: 27.98 | H25: =ROUND(F25*G25,2) -> 1119.2 | I25: =ROUND(F25*G25*(1+$I$142/100),2) -> 1415
A26: 2.9 | B26: CDHU | C26: 02.05.060 | D26: Montagem e desmontagem de andaime torre metálica com altura até 10 m | E26: M | F26: 40 | G26: 12.9 | H26: =ROUND(F26*G26,2) -> 516 | I26: =ROUND(F26*G26*(1+$I$142/100),2) -> 652.38
A27: 2.10 | B27: CDHU | C27: 39.02.020 | D27: Cabo de cobre de 4 mm², isolamento 750 V - isolação em PVC 70°C | E27: M | F27: 200 | G27: 7.35 | H27: =ROUND(F27*G27,2) -> 1470 | I27: =ROUND(F27*G27*(1+$I$142/100),2) -> 1858.52
A28: 2.15 | B28: CDHU | C28: 05.07.040 | D28: Remoção de entulho separado de obra com caçamba metálica - terra,alvenaria, concreto, argamassa, madeira, papel, plástico ou metal | E28: M³ | F28: 60 | G28: 111.74 | H28: =ROUND(F28*G28,2) -> 6704.4 | I28: =ROUND(F28*G28*(1+$I$142/100),2) -> 8476.37
A29: 2.16 | B29: CDHU | C29: 05.07.070 | D29: Remoção de entulho de obra com caçamba metálica - gesso e/ou drywall | E29: M³ | F29: 40 | G29: 135.86 | H29: =ROUND(F29*G29,2) -> 5434.4 | I29: =ROUND(F29*G29*(1+$I$142/100),2) -> 6870.71
G30: SUBTOTAL | H30: =SUM(H18:H29) -> 42518.2 | I30: =SUM(I18:I29) -> 53755.75
A31: 3 | D31: RAMPA
A32: 3.1 | B32: CDHU | C32: 04.09.100 | D32: Retirada de guarda-corpo ou gradil em geral | E32: M² | F32: 30 | G32: 32.88 | H32: =ROUND(F32*G32,2) -> 986.4 | I32: =ROUND(F32*G32*(1+$I$142/100),2) -> 1247.11
A33: 3.2 | B33: CDHU | C33: 11.01.130 | D33: Concreto usinado, fck = 25 MPa | E33: M³ | F33: 6 | G33: 516.96 | H33: =ROUND(F33*G33,2) -> 3101.76 | I33: =ROUND(F33*G33*(1+$I$142/100),2) -> 3921.56
A34: 3.3 | B34: CDHU | C34: 17.03.040 | D34: Cimentado desempenado e alisado (queimado) | E34: M² | F34: 280 | G34: 41.11 | H34: =ROUND(F34*G34,2) -> 11510.8 | I34: =ROUND(F34*G34*(1+$I$142/100),2) -> 14553.1
A35: 3.4 | B35: CDHU | C35: 10.01.020 | D35: Armadura em barra de aço CA-25 fyk = 250 MPa | E35: KG | F35: 300 | G35: 11.25 | H35: =ROUND(F35*G35,2) -> 3375 | I35: =ROUND(F35*G35*(1+$I$142/100),2) -> 4267.01
A36: 3.5 | B36: CDHU | C36: 15.03.030 | D36: Fornecimento e montagem de estrutura em aço ASTM-A36, sem pintura | E36: KG | F36: 1000 | G36: 29.12 | H36: =ROUND(F36*G36,2) -> 29120 | I36: =ROUND(F36*G36*(1+$I$142/100),2) -> 36816.42
A37: 3.6 | B37: CDHU | C37: 16.13.060 | D37: Telhamento em chapa de aço pré-pintada, tipo sanduíche, espessura de 0,50mm, com lã de rocha | E37: M² | F37: 100 | G37: 216.63 | H37: =ROUND(F37*G37,2) -> 21663 | I37: =ROUND(F37*G37*(1+$I$142/100),2) -> 27388.53
A38: 3.7 | B38: CDHU | C38: 14.04.210 | D38: Alvenaria de bloco cerâmico de vedação de 14 cm | E38: M² | F38: 30 | G38: 83.66 | H38: =ROUND(F38*G38,2) -> 2509.8 | I38: =ROUND(F38*G38*(1+$I$142/100),2) -> 3173.14
A39: 3.8 | B39: CDHU | C39: 17.02.020 | D39: Chapisco | E39: M² | F39: 60 | G39: 7.44 | H39: =ROUND(F39*G39,2) -> 446.4 | I39: =ROUND(F39*G39*(1+$I$142/100),2) -> 564.38
A40: 3.9 | B40: CDHU | C40: 17.02.120 | D40: Emboço comum | E40: M² | F40: 60 | G40: 23.79 | H40: =ROUND(F40*G40,2) -> 1427.4 | I40: =ROUND(F40*G40*(1+$I$142/100),2) -> 1804.66
A41: 3.10 | B41: CDHU | C41: 17.02.220 | D41: Reboco | E41: M² | F41: 60 | G41: 13.77 | H41: =ROUND(F41*G41,2) -> 826.2 | I41: =ROUND(F41*G41*(1+$I$142/100),2) -> 1044.56
...

Sheet Composição 1
A1: PLANILHA DE COMPOSIÇÕES
A2: PREFEITURA MUNICIPAL DA ESTÂNCIA TURÍSTICA DE IBIÚNA
A3: =Dados!A3 -> OBJETO:REFORMA DA FACHADA DO HOSPITAL
A4: =Dados!A4 -> ENDEREÇO: AVENIDA GABRIEL MONTEIRO DA SILVA Nº 888 - CENTRO - IBIÚNA - SP
A5: =Dados!A5 -> DATA DA ELABORAÇÃO: 14/04/2026
A6: =Dados!A6 -> FONTE: CDHU 201 - SINAPI MARÇO/2026 - AMBOS DESONERADOS
A7: =Dados!A7 -> PRAZO DE EXECUÇÃO: 06 MESES
A9: Item | B9: Fonte | C9: Código | D9: Descrição dos Serviços | E9: Unidade | F9: Quantidade | G9: Preço Unitário (Sem BDI) | H9: Preço Total (Sem BDI)
A10: Composição 1 - Chapa em MDF com revestimento melamínico
A11: 1 | D11: ETAPA
A12: 1.1 | B12: CDHU | C12: B.01.000.010101 | D12: Ajudante geral | E12: H | F12: 4 | G12: 9.95 | H12: =ROUND(F12*G12,2) -> 39.8
A13: 1.2 | B13: CDHU | C13: B.01.000.010111 | D13: Carpinteiro | E13: H | F13: 4 | G13: 12.11 | H13: =ROUND(F13*G13,2) -> 48.44
A14: 1.3 | B14: CDHU | C14: B.09.000.039075 | D14: Cola para chapas melamínicas | E14: KG | F14: 0.8 | G14: 71 | H14: =ROUND(F14*G14,2) -> 56.8
A15: 1.4 | B15: CDHU | C15: D.04.000.030360 | D15: Chapa de laminado melamínico | E15: M2 | F15: 1 | G15: 98.37 | H15: =ROUND(F15*G15,2) -> 98.37
A16: 1.5 | B16: CDHU | C16: S.03.000.000001 | D16: Chapa em MDF cru, espessura de 2cm | E16: M2 | F16: 1 | G16: 61.58 | H16: =ROUND(F16*G16,2) -> 61.58
A17: 1.6 | B17: CDHU | C17: E.07.000.020122 | D17: Perfil retangular em alumínio de 50x25x2mm | E17: M | F17: 2 | G17: 38.32 | H17: =ROUND(F17*G17,2) -> 76.64
G18: SUBTOTAL | H18: =SUM(H12:H16) -> 304.99
A19: TOTAL | H19: =H18 -> 304.99
A23: Nome: | B23: =Dados!B14 -> JEFERSON JOSÉ VIEIRA RUIVO
A24: Título: | B24: =Dados!B15 -> ENGENHEIRO CIVIL
A25: CREA/CAU: | B25: =Dados!B16 -> 5070232434

Sheet Cronograma Físico-Financeiro
A1: CRONOGRAMA FÍSICO-FINANCEIRO | J1: EVOLUÇÃO FINANCEIRA
A2: PREFEITURA MUNICIPAL DA ESTÂNCIA TURÍSTICA DE IBIÚNA
A3: =Dados!A3 -> OBJETO:REFORMA DA FACHADA DO HOSPITAL
A4: =Dados!A4 -> ENDEREÇO: AVENIDA GABRIEL MONTEIRO DA SILVA Nº 888 - CENTRO - IBIÚNA - SP
A5: =Dados!A5 -> DATA DA ELABORAÇÃO: 14/04/2026
A6: =Dados!A6 -> FONTE: CDHU 201 - SINAPI MARÇO/2026 - AMBOS DESONERADOS
A7: =Dados!A7 -> PRAZO DE EXECUÇÃO: 06 MESES
A9: Item | B9: Fonte | C9: Código | D9: Descrição dos Serviços | E9: Unidade | F9: Quantidade | G9: Preço Unitário (Sem BDI) | H9: Preço Total (Sem BDI) | I9: Preço Total (Com BDI) | J9: MÊS 01 | K9: MÊS 02 | L9: MÊS 03 | M9: MÊS 04 | N9: MÊS 05 | O9: MÊS 06
A10: MACROSSERVIÇO
A11: 1 | D11: SERVIÇOS PRLIMINARES
A12: 1.1 | B12: CDHU | C12: 02.08.020 | D12: Placa de identificação para obra | E12: M² | F12: 6 | G12: 882.62 | H12: =ROUND(F12*G12,2) -> 5295.72 | I12: =ROUND(F12*G12*(1+$I$142/100),2) -> 6695.38 | J12: 6695.38 | K12: X | L12: X | M12: X | N12: X | O12: X
A13: 1.2 | B13: CDHU | C13: 02.03.120 | D13: Tapume fixo para fechamento de áreas, com portão | E13: M² | F13: 70 | G13: 105.44 | H13: =ROUND(F13*G13,2) -> 7380.8 | I13: =ROUND(F13*G13*(1+$I$142/100),2) -> 9331.55 | J13: 9331.55 | K13: X | L13: X | M13: X | N13: X | O13: X
A14: 1.3 | B14: CDHU | C14: 02.05.202 | D14: Andaime torre metálico (1,5 x 1,5 m) com piso metálico | E14: MXMES | F14: 20 | G14: 27.98 | H14: =ROUND(F14*G14,2) -> 559.6 | I14: =ROUND(F14*G14*(1+$I$142/100),2) -> 707.5 | J14: 707.5 | K14: X | L14: X | M14: X | N14: X | O14: X
A15: 1.4 | B15: CDHU | C15: 02.05.060 | D15: Montagem e desmontagem de andaime torre metálica com altura até 10 m | E15: M | F15: 20 | G15: 12.9 | H15: =ROUND(F15*G15,2) -> 258 | I15: =ROUND(F15*G15*(1+$I$142/100),2) -> 326.19 | J15: 326.19 | K15: X | L15: X | M15: X | N15: X | O15: X
G16: SUBTOTAL | H16: =SUM(H12:H15) -> 13494.12 | I16: =SUM(I12:I15) -> 17060.62 | J16: 17060.62
A17: 2 | D17: DEMOLIÇOES E MUDANÇA DO AR CONDICIONADO
A18: 2.1 | B18: CDHU | C18: 03.01.020 | D18: Demolição manual de concreto simples | E18: M³ | F18: 20 | G18: 233.09 | H18: =ROUND(F18*G18,2) -> 4661.8 | I18: =ROUND(F18*G18*(1+$I$142/100),2) -> 5893.91 | J18: 5893.91 | K18: X | L18: X | M18: X | N18: X | O18: X
A19: 2.2 | B19: CDHU | C19: 03.01.040 | D19: Demolição manual de concreto armado | E19: M³ | F19: 20 | G19: 423.8 | H19: =ROUND(F19*G19,2) -> 8476 | I19: =ROUND(F19*G19*(1+$I$142/100),2) -> 10716.21 | J19: 10716.21 | K19: X | L19: X | M19: X | N19: X | O19: X
A20: 2.3 | B20: CDHU | C20: 03.08.060 | D20: Demolição manual de forro em gesso, inclusive sistema de fixação | E20: M² | F20: 60 | G20: 6.36 | H20: =ROUND(F20*G20,2) -> 381.6 | I20: =ROUND(F20*G20*(1+$I$142/100),2) -> 482.46 | J20: 482.46 | K20: X | L20: X | M20: X | N20: X | O20: X
A21: 2.4 | B21: CDHU | C21: 03.03.060 | D21: Demolição manual de revestimento em massa de piso | E21: M² | F21: 280 | G21: 10.6 | H21: =ROUND(F21*G21,2) -> 2968 | I21: =ROUND(F21*G21*(1+$I$142/100),2) -> 3752.44 | J21: 3752.44 | K21: X | L21: X | M21: X | N21: X | O21: X
A22: 2.5 | B22: CDHU | C22: 04.03.040 | D22: Retirada de telhamento perfil e material qualquer, exceto barro | E22: M² | F22: 100 | G22: 8.48 | H22: =ROUND(F22*G22,2) -> 848 | I22: =ROUND(F22*G22*(1+$I$142/100),2) -> 1072.13 | J22: 1072.13 | K22: X | L22: X | M22: X | N22: X | O22: X
A23: 2.6 | B23: CDHU | C23: 46.10.010 | D23: Tubo de cobre classe A, DN= 15mm (1/2´), inclusive conexões | E23: M | F23: 40 | G23: 102.57 | H23: =ROUND(F23*G23,2) -> 4102.8 | I23: =ROUND(F23*G23*(1+$I$142/100),2) -> 5187.17 | J23: 5187.17 | K23: X | L23: X | M23: X | N23: X | O23: X
A24: 2.7 | B24: CDHU | C24: 46.10.020 | D24: Tubo de cobre classe A, DN= 22mm (3/4´), inclusive conexões | E24: M | F24: 40 | G24: 145.9 | H24: =ROUND(F24*G24,2) -> 5836 | I24: =ROUND(F24*G24*(1+$I$142/100),2) -> 7378.45 | J24: 7378.45 | K24: X | L24: X | M24: X | N24: X | O24: X
A25: 2.8 | B25: CDHU | C25: 02.05.202 | D25: Andaime torre metálico (1,5 x 1,5 m) com piso metálico | E25: MXMES | F25: 40 | G25: 27.98 | H25: =ROUND(F25*G25,2) -> 1119.2 | I25: =ROUND(F25*G25*(1+$I$142/100),2) -> 1415 | J25: 1415 | K25: X | L25: X | M25: X | N25: X | O25: X
A26: 2.9 | B26: CDHU | C26: 02.05.060 | D26: Montagem e desmontagem de andaime torre metálica com altura até 10 m | E26: M | F26: 40 | G26: 12.9 | H26: =ROUND(F26*G26,2) -> 516 | I26: =ROUND(F26*G26*(1+$I$142/100),2) -> 652.38 | J26: 652.38 | K26: X | L26: X | M26: X | N26: X | O26: X
A27: 2.10 | B27: CDHU | C27: 39.02.020 | D27: Cabo de cobre de 4 mm², isolamento 750 V - isolação em PVC 70°C | E27: M | F27: 200 | G27: 7.35 | H27: =ROUND(F27*G27,2) -> 1470 | I27: =ROUND(F27*G27*(1+$I$142/100),2) -> 1858.52 | J27: 1858.52 | K27: X | L27: X | M27: X | N27: X | O27: X
A28: 2.15 | B28: CDHU | C28: 05.07.040 | D28: Remoção de entulho separado de obra com caçamba metálica - terra,alvenaria, concreto, argamassa, madeira, papel, plástico ou metal | E28: M³ | F28: 60 | G28: 111.74 | H28: =ROUND(F28*G28,2) -> 6704.4 | I28: =ROUND(F28*G28*(1+$I$142/100),2) -> 8476.37 | J28: 8476.37 | K28: X | L28: X | M28: X | N28: X | O28: X
A29: 2.16 | B29: CDHU | C29: 05.07.070 | D29: Remoção de entulho de obra com caçamba metálica - gesso e/ou drywall | E29: M³ | F29: 40 | G29: 135.86 | H29: =ROUND(F29*G29,2) -> 5434.4 | I29: =ROUND(F29*G29*(1+$I$142/100),2) -> 6870.71 | J29: 6870.71 | K29: X | L29: X | M29: X | N29: X | O29: X
G30: SUBTOTAL | H30: =SUM(H18:H29) -> 42518.2 | I30: =SUM(I18:I29) -> 53755.75 | J30: 53755.75
A31: 3 | D31: RAMPA
A32: 3.1 | B32: CDHU | C32: 04.09.100 | D32: Retirada de guarda-corpo ou gradil em geral | E32: M² | F32: 30 | G32: 32.88 | H32: =ROUND(F32*G32,2) -> 986.4 | I32: =ROUND(F32*G32*(1+$I$142/100),2) -> 1247.11 | J32: 1247.11 | K32: X | L32: X | M32: X | N32: X | O32: X
A33: 3.2 | B33: CDHU | C33: 11.01.130 | D33: Concreto usinado, fck = 25 MPa | E33: M³ | F33: 6 | G33: 516.96 | H33: =ROUND(F33*G33,2) -> 3101.76 | I33: =ROUND(F33*G33*(1+$I$142/100),2) -> 3921.56 | J33: 3921.56 | K33: X | L33: X | M33: X | N33: X | O33: X
A34: 3.3 | B34: CDHU | C34: 17.03.040 | D34: Cimentado desempenado e alisado (queimado) | E34: M² | F34: 280 | G34: 41.11 | H34: =ROUND(F34*G34,2) -> 11510.8 | I34: =ROUND(F34*G34*(1+$I$142/100),2) -> 14553.1 | J34: 14553.1 | K34: X | L34: X | M34: X | N34: X | O34: X
A35: 3.4 | B35: CDHU | C35: 10.01.020 | D35: Armadura em barra de aço CA-25 fyk = 250 MPa | E35: KG | F35: 300 | G35: 11.25 | H35: =ROUND(F35*G35,2) -> 3375 | I35: =ROUND(F35*G35*(1+$I$142/100),2) -> 4267.01 | J35: 4267.01 | K35: X | L35: X | M35: X | N35: X | O35: X
A36: 3.5 | B36: CDHU | C36: 15.03.030 | D36: Fornecimento e montagem de estrutura em aço ASTM-A36, sem pintura | E36: KG | F36: 1000 | G36: 29.12 | H36: =ROUND(F36*G36,2) -> 29120 | I36: =ROUND(F36*G36*(1+$I$142/100),2) -> 36816.42 | J36: 36816.42 | K36: X | L36: X | M36: X | N36: X | O36: X
A37: 3.6 | B37: CDHU | C37: 16.13.060 | D37: Telhamento em chapa de aço pré-pintada, tipo sanduíche, espessura de 0,50mm, com lã de rocha | E37: M² | F37: 100 | G37: 216.63 | H37: =ROUND(F37*G37,2) -> 21663 | I37: =ROUND(F37*G37*(1+$I$142/100),2) -> 27388.53 | J37: 27388.53 | K37: X | L37: X | M37: X | N37: X | O37: X
A38: 3.7 | B38: CDHU | C38: 14.04.210 | D38: Alvenaria de bloco cerâmico de vedação de 14 cm | E38: M² | F38: 30 | G38: 83.66 | H38: =ROUND(F38*G38,2) -> 2509.8 | I38: =ROUND(F38*G38*(1+$I$142/100),2) -> 3173.14 | J38: 3173.14 | K38: X | L38: X | M38: X | N38: X | O38: X
A39: 3.8 | B39: CDHU | C39: 17.02.020 | D39: Chapisco | E39: M² | F39: 60 | G39: 7.44 | H39: =ROUND(F39*G39,2) -> 446.4 | I39: =ROUND(F39*G39*(1+$I$142/100),2) -> 564.38 | J39: 564.38 | K39: X | L39: X | M39: X | N39: X | O39: X
A40: 3.9 | B40: CDHU | C40: 17.02.120 | D40: Emboço comum | E40: M² | F40: 60 | G40: 23.79 | H40: =ROUND(F40*G40,2) -> 1427.4 | I40: =ROUND(F40*G40*(1+$I$142/100),2) -> 1804.66 | J40: 1804.66 | K40: X | L40: X | M40: X | N40: X | O40: X
A41: 3.10 | B41: CDHU | C41: 17.02.220 | D41: Reboco | E41: M² | F41: 60 | G41: 13.77 | H41: =ROUND(F41*G41,2) -> 826.2 | I41: =ROUND(F41*G41*(1+$I$142/100),2) -> 1044.56 | J41: 1044.56 | K41: X | L41: X | M41: X | N41: X | O41: X
...
