Workbook
Name __tab31: #NAME?
Name __tab33: #REF!
Name _Ke1: '[1]B-8506414 0,46kV'!$F$29
Name _Ke2: '[1]B-8506414 0,46kV'!$H$29
Name _tab31: #NAME?
Name _tab33: #REF!
Name a: #REF!
Name B_D_I: #REF!
Name BANCO: #REF!
Name BDI: #REF!
Name CATTRI: '[3]Tab 01'!$A$1:$N$23
Name Cf: '[1]B-8506414 0,46kV'!$D$42
Name CIRCUITOS: #REF!
Name CODIGO: #REF!
Name CORRENTE: [4]DIM_KG_BARRAM!$A$3:$A$50
Name Critérios_IM: #REF!
Name Crono: [5]ORÇAMENTO!$B$7:$J$35
Name D: '[1]B-8506414 0,46kV'!$H$42
Name dade: [6]ORÇAMENTO!$A$7:$I$36
Name DADOS: '[3]Tab 06'!$A$3:$A$19
Name ddd: #REF!
Name EDIF_JAN_08: #NAME?
Name Eixo_X: OFFSET([7]ENTRADA!$I$22,1,0,COUNT([7]ENTRADA!$I$23:$I$42),1)
Name En: '[1]B-8506414 0,46kV'!$D$29
Name FATOR: '[3]Tab 06'!$D$3:$D$19
Name FDE: #REF!
Name FERIADOS: #REF!
Name ff: #REF!
Name Fim: #REF!
Name G: '[1]B-8506414 0,46kV'!$F$17
Name Ibf: '[1]B-8506414 0,46kV'!$H$17
Name Início: #REF!
Name K: '[1]B-8506414 0,46kV'!$F$16
Name L_SOC: #REF!
Name LogEn: '[1]B-8506414 0,46kV'!$D$31
Name LogIa: '[1]B-8506414 0,46kV'!$D$19
Name LogIbf: '[1]B-8506414 0,46kV'!$H$16
Name LS: #REF!
Name MEDIDAS: [3]!Tabela3[[#All],[Medida '["']]]
Name no: #REF!
Name PESO: [3]!Tabela3[Peso Kg]
Name QDLF03: #REF!
Name REDU: #REF!
Name t: '[1]B-8506414 0,46kV'!$F$42
Name tabjul04: #REF!
Name tbjan01: #REF!
Name tbjan04: #REF!
Name TBJUL01: #REF!
Name V: '[1]B-8506414 0,46kV'!$D$17
Name wsa: #REF!
Name x: '[1]B-8506414 0,46kV'!$D$43

Sheet MEMORIAL_CÁLCULO
B5: MEMORIAL DE CÁLCULO
B7: OBJETO: | C7: CONSTRUÇÃO PARA IMPLANTAÇÃO DO POSTO DO CORPO DE BOMBEIROS NO MUNICÍPIO DE TREMEMBÉ | F7: ENCARGOS SOCIAIS: | G7: NÃO DESONERADO
B8: LOCAL: | C8: AVENIDA MANFREDINI, Nº 71, BAIRRO DO CAMINHO NOVO, LOTEAMENTO BARÃO DE TREMEMBÉ - TREMEMBÉ-SP | F8: DATA BASE: | G8: CDHU197; FDE 04/25; SINAPI 01/25
B9: DATA DE ELABORAÇÃO: 10/06/2025
G10: BDI: 20,39%
B11: Item | C11: Fonte dos Serviços | D11: Código dos Serviços | E11: Descrição dos Serviços | F11: Unidade | I11: Quantidade
B12: 1 | E12: SERVIÇOS PRELIMINARES
B13: 1.1 | E13: SERVIÇOS DO CANTEIRO
B14: 1.1.1 | C14: CDHU197 | D14: 02.08.020 | E14: Placa de identificação para obra | F14: M2 | I14: 4.5
E16: PLACA PADRÃO PREFEITURA DE TREMEMBÉ TAM. 3,00 X 1,50 | F16: M2
E17: Total: | F17: 4.5
B19: 1.1.2 | C19: CDHU197 | D19: 97.02.030 | E19: Placa comemorativa em aço inoxidável escovado | F19: M2 | I19: 0.4
E21: Uma placa de 0,50 x 0,80 | F21: M2
E22: Total: | F22: 0.4
B24: 1.1.3 | C24: CDHU197 | D24: 02.01.180 | E24: Banheiro químico modelo Standard, com manutenção conforme exigências da CETESB | F24: UNMES | I24: 6
E26: PREVISÃO DE DURAÇÃO 6 MESES
E27: Total: | F27: 6
B29: 1.1.4 | C29: CDHU197 | D29: 02.02.150 | E29: Locação de container tipo depósito - área mínima de 13,80 m² | F29: UNMES | I29: 6
E31: PREVISÃO DE DURAÇÃO 6 MESES
E32: Total: | F32: 6
B34: 1.2 | E34: APOIO À OBRA
B35: 1.2.1 | C35: CDHU197 | D35: 05.07.040 | E35: Remoção de entulho separado de obra com caçamba metálica - terra, alvenaria, concreto, argamassa, madeira, papel, plástico ou metal | F35: M3 | I35: 33.5232
E37: Normas técnicas: NBR 15112, NBR 15113, NBR 15114 e Nota Técnica da NBR 10004/2004.
E38: AMBIENTE | F38: ÁREA | G38: ÍNDICE | H38: TOTAL
E39: Construção Principal | F39: 261.9 | G39: 0.128 | H39: 33.5232
B41: 1.2.2 | C41: SINAPI 01/25 | D41: 98459 | E41: TAPUME COM TELHA METÁLICA. AF_03/2024 | F41: M2 | I41: 132
E43: TAPUME | F43: PERÍMETRO | G43: ALTURA | H43: TOTAL
E44: Canteiro de obras | F44: 60 | G44: 2.2 | H44: 132
B46: 1.2.3 | C46: CDHU197 | D46: 02.05.202 | E46: Andaime torre metálico (1,5 x 1,5 m) com piso metálico | F46: MXMES | I46: 108
E48: ANDAIMES = PERÍODO DE 6 MESES | F48: ALTURA
E49: ESTRUTURA | F49: 60
E50: ACABAMENTO | F50: 48
E51: TOTAL= | F51: 108
B53: 1.2.4 | C53: CDHU197 | D53: 45.01.020 | E53: Entrada completa de água com abrigo e registro de gaveta, DN= 3/4´ | F53: UN | I53: 1
E55: SABESP= | F55: 1
B57: 2 | E57: ESTRUTURAL
B58: 2.1 | E58: TERRAPLANAGEM, CORTE E ATERRO
B59: 2.1.1 | C59: CDHU197 | D59: 07.10.020 | E59: Espalhamento de solo em bota-fora com compactação sem controle | F59: M3 | I59: 175
E61: O projeto prevê a implementação de taludes nos fundos e no lado direito da edificação, com o objetivo de garantir a estabilidade do terreno e atender às exigências geotécnicas da área.
E62: ÁREA DO TERRENO PARA CORTE E ATERRO= | F62: 700
E63: ALTURA DA MOVIMENTAÇÃO DE TERRA= | F63: 0.25
E64: TOTAL= | F64: 175
B66: 2.1.2 | C66: CDHU197 | D66: 05.10.021 | E66: Transporte de solo de 1ª e 2ª categoria por caminhão para distâncias superiores ao 2° km até o 3° km | F66: M3 | I66: 175
E68: IDEM AO ITEM ANTERIOR= | F68: 175
B70: 2.2 | E70: LOCAÇÃO DE OBRA
B71: 2.2.1 | C71: CDHU197 | D71: 02.10.020 | E71: Locação de obra de edificação | F71: M2 | I71: 261.9
E73: AMBIENTE | F73: ÁREA
E74: Construção Principal | F74: 261.9
B76: 2.3 | E76: FUNDAÇÃO
B77: 2.3.1 | C77: CDHU197 | D77: 06.02.020 | E77: Escavação manual em solo de 1ª e 2ª categoria em vala ou cava até 1,5 m | F77: M3 | I77: 29.5791
E79: BLOCO 1 ESTACAS - FUNDAÇÃO TOTEM
C80: BASE 1 (LARGURA) | D80: BASE 2 (COMPRIMENTO) | E80: B2 (ALTURA 50 CM+ LASTRO 5 CM) | F80: VOLUME DE CADA BLOCO | G80: QUANTIDADE | H80: VOLUME TOTAL
C81: 0.6 | D81: 0.6 | E81: 0.55 | F81: 0.198 | G81: 1 | H81: 0.198
E83: BLOCO 2 ESTACAS
C84: BASE 1 (LARGURA) | D84: BASE 2 (COMPRIMENTO) | E84: B2 (ALTURA 70 CM+ LASTRO 5 CM) | F84: VOLUME DE CADA BLOCO | G84: QUANTIDADE | H84: VOLUME TOTAL
C85: 0.7 | D85: 1.9 | E85: 0.75 | F85: 0.9975 | G85: 19 | H85: 18.9525
E87: ESCAVAÇÃO DA VIGA BALDRAME - NÍVEL 0
C88: BASE 1 (LARGURA) | D88: BASE 2 (COMPRIMENTO) | E88: ALTURA (VB 40 CM+LASTRO 5 CM) | F88: VOLUME DA VIGA COMPLETA | G88: QUANTIDADE | H88: VOLUME TOTAL
C89: 0.24 | D89: 124.15 | E89: 0.35 | F89: 10.4286 | G89: 1 | H89: 10.4286
E91: TOTAL ESCAVAÇÃO= | F91: 29.5791
B93: 2.3.2 | C93: CDHU197 | D93: 12.01.041 | E93: Broca em concreto armado diâmetro de 25 cm - completa | F93: M | I93: 3
F95: QUANT | G95: PROF | H95: TOTAL
E96: BROCAS FUNDAÇÃO DO TOTEM | F96: 1 | G96: 3 | H96: 3
B98: 2.3.3 | C98: CDHU197 | D98: 12.05.010 | E98: Taxa de mobilização e desmobilização de equipamentos para execução de estaca escavada | F98: TX | I98: 1
E100: TAXA DE MOBILIZAÇÃO | F100: TX
E101: FUNDAÇÃO | F101: 1
B103: 2.3.4 | C103: CDHU197 | D103: 12.05.150 | E103: Estaca escavada mecanicamente, diâmetro de 40 cm até 50 t | F103: M | I103: 152
E105: ESTACAS | F105: QUANT | G105: ALTURA | H105: TOTAL
E106: BLOCOS DE FUNDAÇÃO 2 ESTACAS | F106: 38 | G106: 4 | H106: 152
B108: 2.3.5 | C108: CDHU197 | D108: 09.01.020 | E108: Forma em madeira comum para fundação | F108: M2 | I108: 167.34
D110: QUANT | E110: FORMA | F110: PERÍMETRO | G110: ALTURA | H110: TOTAL
D111: 19 | E111: FORMA DOS BLOCOS 2 ESTACAS | F111: 185.85 | G111: 0.7 | H111: 130.095
D112: 1 | E112: FORMA VIGA BALDRAME | F112: 124.15 | G112: 0.3 | H112: 37.245
E114: TOTAL= | F114: 167.34
B116: 2.3.6 | C116: CDHU197 | D116: 11.18.040 | E116: Lastro de pedra britada | F116: M3 | I116: 2.15055
E118: LASTRO DE PEDRA - TOTEM | F118: QUANT | G118: ÁREA | H118: ALTURA | I118: TOTAL
E119: BLOCO 1 ESTACA | F119: 1 | G119: 0.36 | H119: 0.05 | I119: 0.018
E120: LASTRO DE PEDRA - CONSTRUÇÃO | F120: QUANT | G120: ÁREA | H120: ALTURA | I120: TOTAL
E121: BLOCOS 2 ESTACAS | F121: 19 | G121: 1.33 | H121: 0.05 | I121: 1.2635
E122: LASTRO DE PEDRA - CONSTRUÇÃO | F122: PERÍMETRO | G122: LARGURA | H122: ALTURA | I122: TOTAL
E123: FORMA VIGA BALDRAME | F123: 124.15 | G123: 0.14 | H123: 0.05 | I123: 0.86905
E125: TOTAL= | F125: 2.15055
B127: 2.3.7 | C127: CDHU197 | D127: 10.01.040 | E127: Armadura em barra de aço CA-50 (A ou B) fyk = 500 MPa | F127: KG | I127: 787.6
E129: CONFORME PROJETO ESTRUTURAL
E130: TOTAL= | F130: 776.8
F132: VOLUME | G132: TAXA | H132: TOTAL
E133: BLOCO DE FUNDAÇÃO DO TOTEM | F133: 0.18 | G133: 60 | H133: 10.8
E135: TOTAL GERAL= | F135: 787.6
B137: 2.3.8 | C137: CDHU197 | D137: 10.01.060 | E137: Armadura em barra de aço CA-60 (A ou B) fyk = 600 MPa | F137: KG | I137: 463.5
E139: CONFORME PROJETO ESTRUTURAL
E140: TOTAL= | F140: 463.5
B142: 2.3.9 | C142: CDHU197 | D142: 11.01.130 | E142: Concreto usinado, fck = 25 MPa | F142: M3 | I142: 23.0833
D144: QUANT | E144: CONCRETO 25 Mpa - TOTEM | F144: LARGURA | G144: COMP | H144: ALTURA | I144: TOTAL
D145: 1 | E145: BLOCO 1 ESTACA | F145: 0.6 | G145: 0.6 | H145: 0.5 | I145: 0.18
D147: QUANT | E147: CONCRETO 25 Mpa - CONSTRUÇÃO | F147: LARGURA | G147: COMP | H147: ALTURA | I147: TOTAL
D148: 19 | E148: BLOCOS 2 ESTACAS | F148: 0.7 | G148: 1.9 | H148: 0.7 | I148: 17.689
E150: CONCRETO 25 Mpa - CONSTRUÇÃO | F150: PERÍMETRO | G150: LARGURA | H150: ALTURA | I150: TOTAL
E151: VIGA BALDRAME | F151: 124.15 | G151: 0.14 | H151: 0.3 | I151: 5.2143
E153: TOTAL= | F153: 23.0833
B155: 2.3.10 | C155: CDHU197 | D155: 11.16.040 | E155: Lançamento e adensamento de concreto ou massa em fundação | F155: M3 | I155: 23.0833
...

Sheet SERVIÇOS
B8: PLANILHA DE SERVIÇOS
B10: OBJETO: | C10: CONSTRUÇÃO PARA IMPLANTAÇÃO DO POSTO DO CORPO DE BOMBEIROS NO MUNICÍPIO DE TREMEMBÉ | G10: ENCARGOS SOCIAIS: | H10: NÃO DESONERADO
B11: LOCAL: | C11: AVENIDA 01, BAIRRO DO CAMINHO NOVO, LOTEAMENTO BARÃO DE TREMEMBÉ | G11: DATA BASE: | H11: CDHU197; FDE 01/25; SINAPI 01/25
B12: DATA DE ELABORAÇÃO: 06/06/2025
G13: BDI: 20,39%
B14: Item | C14: Fonte dos Serviços | D14: Código dos Serviços | E14: Descrição dos Serviços | F14: Unid. | G14: Quant. | H14: Preço (R$) | I14: Valor Total (R$)
B15: 1.1.1 | C15: CDHU197 | D15: 02.08.020 | E15: =VLOOKUP($D15,#REF!,2,0) -> #REF! | F15: =VLOOKUP($D15,#REF!,3,0) -> #REF! | G15: =VLOOKUP($B15,MEMORIAL_CÁLCULO!$B$11:$I$5733,8,0) -> 4.5 | H15: =VLOOKUP($D15,#REF!,6,0) -> #REF! | I15: =ROUND(G15*H15,2) -> #REF!
B16: 1.1.2 | C16: CDHU197 | D16: 97.02.030 | E16: =VLOOKUP($D16,#REF!,2,0) -> #REF! | F16: =VLOOKUP($D16,#REF!,3,0) -> #REF! | G16: =VLOOKUP($B16,MEMORIAL_CÁLCULO!$B$11:$I$5733,8,0) -> 0.4 | H16: =VLOOKUP($D16,#REF!,6,0) -> #REF! | I16: =ROUND(G16*H16,2) -> #REF!
B17: 1.1.3 | C17: CDHU197 | D17: 02.01.180 | E17: =VLOOKUP($D17,#REF!,2,0) -> #REF! | F17: =VLOOKUP($D17,#REF!,3,0) -> #REF! | G17: =VLOOKUP($B17,MEMORIAL_CÁLCULO!$B$11:$I$5733,8,0) -> 6 | H17: =VLOOKUP($D17,#REF!,6,0) -> #REF! | I17: =ROUND(G17*H17,2) -> #REF!
B18: 1.1.4 | C18: CDHU197 | D18: 02.02.150 | E18: =VLOOKUP($D18,#REF!,2,0) -> #REF! | F18: =VLOOKUP($D18,#REF!,3,0) -> #REF! | G18: =VLOOKUP($B18,MEMORIAL_CÁLCULO!$B$11:$I$5733,8,0) -> 6 | H18: =VLOOKUP($D18,#REF!,6,0) -> #REF! | I18: =ROUND(G18*H18,2) -> #REF!
B19: 1.2.1 | C19: CDHU197 | D19: 05.07.040 | E19: =VLOOKUP($D19,#REF!,2,0) -> #REF! | F19: =VLOOKUP($D19,#REF!,3,0) -> #REF! | G19: =VLOOKUP($B19,MEMORIAL_CÁLCULO!$B$11:$I$5733,8,0) -> 33.5232 | H19: =VLOOKUP($D19,#REF!,6,0) -> #REF! | I19: =ROUND(G19*H19,2) -> #REF!
B20: 1.2.2 | C20: SINAPI 01/25 | D20: 98459 | E20: =VLOOKUP($D20,#REF!,2,0) -> #REF! | F20: =VLOOKUP($D20,#REF!,3,0) -> #REF! | G20: =VLOOKUP($B20,MEMORIAL_CÁLCULO!$B$11:$I$5733,8,0) -> 132 | H20: =VLOOKUP($D20,#REF!,5,0) -> #REF! | I20: =ROUND(G20*H20,2) -> #REF!
B21: 1.2.3 | C21: CDHU197 | D21: 02.05.202 | E21: =VLOOKUP($D21,#REF!,2,0) -> #REF! | F21: =VLOOKUP($D21,#REF!,3,0) -> #REF! | G21: =VLOOKUP($B21,MEMORIAL_CÁLCULO!$B$11:$I$5733,8,0) -> 108 | H21: =VLOOKUP($D21,#REF!,6,0) -> #REF! | I21: =ROUND(G21*H21,2) -> #REF!
B22: 1.2.4 | C22: CDHU197 | D22: 45.01.020 | E22: =VLOOKUP($D22,#REF!,2,0) -> #REF! | F22: =VLOOKUP($D22,#REF!,3,0) -> #REF! | G22: =VLOOKUP($B22,MEMORIAL_CÁLCULO!$B$11:$I$5733,8,0) -> 1 | H22: =VLOOKUP($D22,#REF!,6,0) -> #REF! | I22: =ROUND(G22*H22,2) -> #REF!
B23: 2.1.1 | C23: CDHU197 | D23: 07.10.020 | E23: =VLOOKUP($D23,#REF!,2,0) -> #REF! | F23: =VLOOKUP($D23,#REF!,3,0) -> #REF! | G23: =VLOOKUP($B23,MEMORIAL_CÁLCULO!$B$11:$I$5733,8,0) -> 175 | H23: =VLOOKUP($D23,#REF!,6,0) -> #REF! | I23: =ROUND(G23*H23,2) -> #REF!
B24: 2.1.2 | C24: CDHU197 | D24: 05.10.021 | E24: =VLOOKUP($D24,#REF!,2,0) -> #REF! | F24: =VLOOKUP($D24,#REF!,3,0) -> #REF! | G24: =VLOOKUP($B24,MEMORIAL_CÁLCULO!$B$11:$I$5733,8,0) -> 175 | H24: =VLOOKUP($D24,#REF!,6,0) -> #REF! | I24: =ROUND(G24*H24,2) -> #REF!
B25: 2.2.1 | C25: CDHU197 | D25: 02.10.020 | E25: =VLOOKUP($D25,#REF!,2,0) -> #REF! | F25: =VLOOKUP($D25,#REF!,3,0) -> #REF! | G25: =VLOOKUP($B25,MEMORIAL_CÁLCULO!$B$11:$I$5733,8,0) -> 261.9 | H25: =VLOOKUP($D25,#REF!,6,0) -> #REF! | I25: =ROUND(G25*H25,2) -> #REF!
B26: 2.3.1 | C26: CDHU197 | D26: 06.02.020 | E26: =VLOOKUP($D26,#REF!,2,0) -> #REF! | F26: =VLOOKUP($D26,#REF!,3,0) -> #REF! | G26: =VLOOKUP($B26,MEMORIAL_CÁLCULO!$B$11:$I$5733,8,0) -> 29.5791 | H26: =VLOOKUP($D26,#REF!,6,0) -> #REF! | I26: =ROUND(G26*H26,2) -> #REF!
B27: 2.3.2 | C27: CDHU197 | D27: 12.01.041 | E27: =VLOOKUP($D27,#REF!,2,0) -> #REF! | F27: =VLOOKUP($D27,#REF!,3,0) -> #REF! | G27: =VLOOKUP($B27,MEMORIAL_CÁLCULO!$B$11:$I$5733,8,0) -> 3 | H27: =VLOOKUP($D27,#REF!,6,0) -> #REF! | I27: =ROUND(G27*H27,2) -> #REF!
B28: 2.3.3 | C28: CDHU197 | D28: 12.05.010 | E28: =VLOOKUP($D28,#REF!,2,0) -> #REF! | F28: =VLOOKUP($D28,#REF!,3,0) -> #REF! | G28: =VLOOKUP($B28,MEMORIAL_CÁLCULO!$B$11:$I$5733,8,0) -> 1 | H28: =VLOOKUP($D28,#REF!,6,0) -> #REF! | I28: =ROUND(G28*H28,2) -> #REF!
B29: 2.3.4 | C29: CDHU197 | D29: 12.05.150 | E29: =VLOOKUP($D29,#REF!,2,0) -> #REF! | F29: =VLOOKUP($D29,#REF!,3,0) -> #REF! | G29: =VLOOKUP($B29,MEMORIAL_CÁLCULO!$B$11:$I$5733,8,0) -> 152 | H29: =VLOOKUP($D29,#REF!,6,0) -> #REF! | I29: =ROUND(G29*H29,2) -> #REF!
B30: 2.3.5 | C30: CDHU197 | D30: 09.01.020 | E30: =VLOOKUP($D30,#REF!,2,0) -> #REF! | F30: =VLOOKUP($D30,#REF!,3,0) -> #REF! | G30: =VLOOKUP($B30,MEMORIAL_CÁLCULO!$B$11:$I$5733,8,0) -> 167.34 | H30: =VLOOKUP($D30,#REF!,6,0) -> #REF! | I30: =ROUND(G30*H30,2) -> #REF!
B31: 2.3.6 | C31: CDHU197 | D31: 11.18.040 | E31: =VLOOKUP($D31,#REF!,2,0) -> #REF! | F31: =VLOOKUP($D31,#REF!,3,0) -> #REF! | G31: =VLOOKUP($B31,MEMORIAL_CÁLCULO!$B$11:$I$5733,8,0) -> 2.15055 | H31: =VLOOKUP($D31,#REF!,6,0) -> #REF! | I31: =ROUND(G31*H31,2) -> #REF!
B32: 2.3.7 | C32: CDHU197 | D32: 10.01.040 | E32: =VLOOKUP($D32,#REF!,2,0) -> #REF! | F32: =VLOOKUP($D32,#REF!,3,0) -> #REF! | G32: =VLOOKUP($B32,MEMORIAL_CÁLCULO!$B$11:$I$5733,8,0) -> 787.6 | H32: =VLOOKUP($D32,#REF!,6,0) -> #REF! | I32: =ROUND(G32*H32,2) -> #REF!
... B65: 3.1.1.3 | C65: CDHU197 | D65: 14.30.410 | E65: =VLOOKUP($D65,#REF!,2,0) -> #REF! | F65: =VLOOKUP($D65,#REF!,3,0) -> #REF! | G65: =VLOOKUP($B65,MEMORIAL_CÁLCULO!$B$11:$I$5733,8,0) -> 153.856 | H65: =VLOOKUP($D65,#REF!,6,0) -> #REF! | I65: =ROUND(G65*H65,2) -> #REF!
B66: 3.1.1.4 | C66: PMETT.001 | D66: 001.25 | E66: Painel termoisolante para fechamentos verticais (PIR), revestido em aço galvalume, largura útil de 1100 mm, espessura de 50 mm, com pré-pintura nas duas faces | F66: M2 | G66: =VLOOKUP($B66,MEMORIAL_CÁLCULO!$B$11:$I$5733,8,0) -> 350.2525 | H66: =#REF! -> #REF! | I66: =ROUND(G66*H66,2) -> #REF!
B67: 3.1.1.5 | C67: CDHU197 | D67: 14.31.030 | E67: =VLOOKUP($D67,#REF!,2,0) -> #REF! | F67: =VLOOKUP($D67,#REF!,3,0) -> #REF! | G67: =VLOOKUP($B67,MEMORIAL_CÁLCULO!$B$11:$I$5733,8,0) -> 59.37 | H67: =VLOOKUP($D67,#REF!,6,0) -> #REF! | I67: =ROUND(G67*H67,2) -> #REF!
B68: 3.1.1.6 | C68: CDHU197 | D68: 32.16.050 | E68: =VLOOKUP($D68,#REF!,2,0) -> #REF! | F68: =VLOOKUP($D68,#REF!,3,0) -> #REF! | G68: =VLOOKUP($B68,MEMORIAL_CÁLCULO!$B$11:$I$5733,8,0) -> 9.72 | H68: =VLOOKUP($D68,#REF!,6,0) -> #REF! | I68: =ROUND(G68*H68,2) -> #REF!
B69: 3.1.2.1 | C69: CDHU197 | D69: 17.02.040 | E69: =VLOOKUP($D69,#REF!,2,0) -> #REF! | F69: =VLOOKUP($D69,#REF!,3,0) -> #REF! | G69: =VLOOKUP($B69,MEMORIAL_CÁLCULO!$B$11:$I$5733,8,0) -> 80.18 | H69: =VLOOKUP($D69,#REF!,6,0) -> #REF! | I69: =ROUND(G69*H69,2) -> #REF!
B70: 3.1.2.2 | C70: CDHU197 | D70: 17.02.020 | E70: =VLOOKUP($D70,#REF!,2,0) -> #REF! | F70: =VLOOKUP($D70,#REF!,3,0) -> #REF! | G70: =VLOOKUP($B70,MEMORIAL_CÁLCULO!$B$11:$I$5733,8,0) -> 80.18 | H70: =VLOOKUP($D70,#REF!,6,0) -> #REF! | I70: =ROUND(G70*H70,2) -> #REF!
B71: 3.1.2.3 | C71: CDHU197 | D71: 17.02.120 | E71: =VLOOKUP($D71,#REF!,2,0) -> #REF! | F71: =VLOOKUP($D71,#REF!,3,0) -> #REF! | G71: =VLOOKUP($B71,MEMORIAL_CÁLCULO!$B$11:$I$5733,8,0) -> 80.18 | H71: =VLOOKUP($D71,#REF!,6,0) -> #REF! | I71: =ROUND(G71*H71,2) -> #REF!
B72: 3.1.2.4 | C72: CDHU197 | D72: 18.11.042 | E72: =VLOOKUP($D72,#REF!,2,0) -> #REF! | F72: =VLOOKUP($D72,#REF!,3,0) -> #REF! | G72: =VLOOKUP($B72,MEMORIAL_CÁLCULO!$B$11:$I$5733,8,0) -> 80.18 | H72: =VLOOKUP($D72,#REF!,6,0) -> #REF! | I72: =ROUND(G72*H72,2) -> #REF!
B73: 3.2.1.1 | C73: CDHU197 | D73: 16.13.070 | E73: =VLOOKUP($D73,#REF!,2,0) -> #REF! | F73: =VLOOKUP($D73,#REF!,3,0) -> #REF! | G73: =VLOOKUP($B73,MEMORIAL_CÁLCULO!$B$11:$I$5733,8,0) -> 235.2 | H73: =VLOOKUP($D73,#REF!,6,0) -> #REF! | I73: =ROUND(G73*H73,2) -> #REF!
B74: 3.2.1.2 | C74: CDHU197 | D74: 16.32.120 | E74: =VLOOKUP($D74,#REF!,2,0) -> #REF! | F74: =VLOOKUP($D74,#REF!,3,0) -> #REF! | G74: =VLOOKUP($B74,MEMORIAL_CÁLCULO!$B$11:$I$5733,8,0) -> 57.75 | H74: =VLOOKUP($D74,#REF!,6,0) -> #REF! | I74: =ROUND(G74*H74,2) -> #REF!
B75: 3.2.2.1 | C75: CDHU197 | D75: 22.03.020 | E75: =VLOOKUP($D75,#REF!,2,0) -> #REF! | F75: =VLOOKUP($D75,#REF!,3,0) -> #REF! | G75: =VLOOKUP($B75,MEMORIAL_CÁLCULO!$B$11:$I$5733,8,0) -> 90.76 | H75: =VLOOKUP($D75,#REF!,6,0) -> #REF! | I75: =ROUND(G75*H75,2) -> #REF!
B76: 3.2.2.2 | C76: CDHU197 | D76: 22.02.100 | E76: =VLOOKUP($D76,#REF!,2,0) -> #REF! | F76: =VLOOKUP($D76,#REF!,3,0) -> #REF! | G76: =VLOOKUP($B76,MEMORIAL_CÁLCULO!$B$11:$I$5733,8,0) -> 12.62 | H76: =VLOOKUP($D76,#REF!,6,0) -> #REF! | I76: =ROUND(G76*H76,2) -> #REF!
B77: 3.2.2.3 | C77: CDHU197 | D77: 22.02.030 | E77: =VLOOKUP($D77,#REF!,2,0) -> #REF! | F77: =VLOOKUP($D77,#REF!,3,0) -> #REF! | G77: =VLOOKUP($B77,MEMORIAL_CÁLCULO!$B$11:$I$5733,8,0) -> 13.79 | H77: =VLOOKUP($D77,#REF!,6,0) -> #REF! | I77: =ROUND(G77*H77,2) -> #REF!
B78: 3.3.1.1 | C78: CDHU197 | D78: 11.18.040 | E78: =VLOOKUP($D78,#REF!,2,0) -> #REF! | F78: =VLOOKUP($D78,#REF!,3,0) -> #REF! | G78: =VLOOKUP($B78,MEMORIAL_CÁLCULO!$B$11:$I$5733,8,0) -> 5.8585 | H78: =VLOOKUP($D78,#REF!,6,0) -> #REF! | I78: =ROUND(G78*H78,2) -> #REF!
... B105: 3.4.1.4 | C105: CDHU197 | D105: 28.01.040 | E105: =VLOOKUP($D105,#REF!,2,0) -> #REF! | F105: =VLOOKUP($D105,#REF!,3,0) -> #REF! | G105: =VLOOKUP($B105,MEMORIAL_CÁLCULO!$B$11:$I$5733,8,0) -> 9 | H105: =VLOOKUP($D105,#REF!,6,0) -> #REF! | I105: =ROUND(G105*H105,2) -> #REF!
B106: 3.4.2.1 | C106: SINAPI 01/25 | D106: 94590 | E106: =VLOOKUP($D106,#REF!,2,0) -> #REF! | F106: =VLOOKUP($D106,#REF!,3,0) -> #REF! | G106: =VLOOKUP($B106,MEMORIAL_CÁLCULO!$B$11:$I$5733,8,0) -> 49.2 | H106: =VLOOKUP($D106,#REF!,5,0) -> #REF! | I106: =ROUND(G106*H106,2) -> #REF!
B107: 3.4.2.2 | C107: CDHU197 | D107: 25.01.380 | E107: =VLOOKUP($D107,#REF!,2,0) -> #REF! | F107: =VLOOKUP($D107,#REF!,3,0) -> #REF! | G107: =VLOOKUP($B107,MEMORIAL_CÁLCULO!$B$11:$I$5733,8,0) -> 8.75 | H107: =VLOOKUP($D107,#REF!,6,0) -> #REF! | I107: =ROUND(G107*H107,2) -> #REF!
B108: 3.4.2.3 | C108: CDHU197 | D108: 25.01.371 | E108: =VLOOKUP($D108,#REF!,2,0) -> #REF! | F108: =VLOOKUP($D108,#REF!,3,0) -> #REF! | G108: =VLOOKUP($B108,MEMORIAL_CÁLCULO!$B$11:$I$5733,8,0) -> 0.55 | H108: =VLOOKUP($D108,#REF!,6,0) -> #REF! | I108: =ROUND(G108*H108,2) -> #REF!
B109: 3.4.2.4 | C109: CDHU197 | D109: 25.02.040 | E109: =VLOOKUP($D109,#REF!,2,0) -> #REF! | F109: =VLOOKUP($D109,#REF!,3,0) -> #REF! | G109: =VLOOKUP($B109,MEMORIAL_CÁLCULO!$B$11:$I$5733,8,0) -> 2.52 | H109: =VLOOKUP($D109,#REF!,6,0) -> #REF! | I109: =ROUND(G109*H109,2) -> #REF!
B110: 3.4.2.5 | C110: CDHU197 | D110: 24.02.070 | E110: =VLOOKUP($D110,#REF!,2,0) -> #REF! | F110: =VLOOKUP($D110,#REF!,3,0) -> #REF! | G110: =VLOOKUP($B110,MEMORIAL_CÁLCULO!$B$11:$I$5733,8,0) -> 3.36 | H110: =VLOOKUP($D110,#REF!,6,0) -> #REF! | I110: =ROUND(G110*H110,2) -> #REF!
B111: 3.4.2.6 | C111: CDHU197 | D111: 24.01.120 | E111: =VLOOKUP($D111,#REF!,2,0) -> #REF! | F111: =VLOOKUP($D111,#REF!,3,0) -> #REF! | G111: =VLOOKUP($B111,MEMORIAL_CÁLCULO!$B$11:$I$5733,8,0) -> 10.2432 | H111: =VLOOKUP($D111,#REF!,6,0) -> #REF! | I111: =ROUND(G111*H111,2) -> #REF!
B112: 3.4.2.7 | C112: CDHU197 | D112: 22.06.240 | E112: =VLOOKUP($D112,#REF!,2,0) -> #REF! | F112: =VLOOKUP($D112,#REF!,3,0) -> #REF! | G112: =VLOOKUP($B112,MEMORIAL_CÁLCULO!$B$11:$I$5733,8,0) -> 6.6 | H112: =VLOOKUP($D112,#REF!,6,0) -> #REF! | I112: =ROUND(G112*H112,2) -> #REF!
B113: 3.4.3.1 | C113: CDHU197 | D113: 24.03.930 | E113: =VLOOKUP($D113,#REF!,2,0) -> #REF! | F113: =VLOOKUP($D113,#REF!,3,0) -> #REF! | G113: =VLOOKUP($B113,MEMORIAL_CÁLCULO!$B$11:$I$5733,8,0) -> 32 | H113: =VLOOKUP($D113,#REF!,6,0) -> #REF! | I113: =ROUND(G113*H113,2) -> #REF!
B114: 3.4.3.2 | C114: CDHU197 | D114: 34.05.260 | E114: =VLOOKUP($D114,#REF!,2,0) -> #REF! | F114: =VLOOKUP($D114,#REF!,3,0) -> #REF! | G114: =VLOOKUP($B114,MEMORIAL_CÁLCULO!$B$11:$I$5733,8,0) -> 9.478 | H114: =VLOOKUP($D114,#REF!,6,0) -> #REF! | I114: =ROUND(G114*H114,2) -> #REF!
B115: 3.4.3.3 | C115: CDHU197 | D115: 34.05.290 | E115: =VLOOKUP($D115,#REF!,2,0) -> #REF! | F115: =VLOOKUP($D115,#REF!,3,0) -> #REF! | G115: =VLOOKUP($B115,MEMORIAL_CÁLCULO!$B$11:$I$5733,8,0) -> 3.15 | H115: =VLOOKUP($D115,#REF!,6,0) -> #REF! | I115: =ROUND(G115*H115,2) -> #REF!
B116: 3.4.3.4 | C116: CDHU197 | D116: 24.02.290 | E116: =VLOOKUP($D116,#REF!,2,0) -> #REF! | F116: =VLOOKUP($D116,#REF!,3,0) -> #REF! | G116: =VLOOKUP($B116,MEMORIAL_CÁLCULO!$B$11:$I$5733,8,0) -> 8.75 | H116: =VLOOKUP($D116,#REF!,6,0) -> #REF! | I116: =ROUND(G116*H116,2) -> #REF!
B117: 3.4.3.5 | C117: CDHU197 | D117: 24.02.480 | E117: =VLOOKUP($D117,#REF!,2,0) -> #REF! | F117: =VLOOKUP($D117,#REF!,3,0) -> #REF! | G117: =VLOOKUP($B117,MEMORIAL_CÁLCULO!$B$11:$I$5733,8,0) -> 0.48 | H117: =VLOOKUP($D117,#REF!,6,0) -> #REF! | I117: =ROUND(G117*H117,2) -> #REF!
B118: 3.4.3.6 | C118: CDHU197 | D118: 24.02.450 | E118: =VLOOKUP($D118,#REF!,2,0) -> #REF! | F118: =VLOOKUP($D118,#REF!,3,0) -> #REF! | G118: =VLOOKUP($B118,MEMORIAL_CÁLCULO!$B$11:$I$5733,8,0) -> 7.25 | H118: =VLOOKUP($D118,#REF!,6,0) -> #REF! | I118: =ROUND(G118*H118,2) -> #REF!
B119: 3.4.3.7 | C119: PMETT.003 | D119: 003.25 | E119: Totem Luminoso em ACM – 3,00 x 0,80 m | F119: CJ | G119: =VLOOKUP($B119,MEMORIAL_CÁLCULO!$B$11:$I$5733,8,0) -> 1 | H119: =#REF! -> #REF! | I119: =ROUND(G119*H119,2) -> #REF!
B120: 3.4.3.8 | C120: PMETT.004 | D120: 004.25 | E120: Kit de Letras Caixa em ACM – 80 cm e 65 cm de Altura | F120: CJ | G120: =VLOOKUP($B120,MEMORIAL_CÁLCULO!$B$11:$I$5733,8,0) -> 1 | H120: =#REF! -> #REF! | I120: =ROUND(G120*H120,2) -> #REF!
B121: 3.4.3.9 | C121: PMETT.005 | D121: 005.25 | E121: Símbolo do Corpo de Bombeiros em ACM | F121: CJ | G121: =VLOOKUP($B121,MEMORIAL_CÁLCULO!$B$11:$I$5733,8,0) -> 1 | H121: =#REF! -> #REF! | I121: =ROUND(G121*H121,2) -> #REF!
B122: 3.4.3.10 | C122: CDHU197 | D122: 35.07.020 | E122: =VLOOKUP($D122,#REF!,2,0) -> #REF! | F122: =VLOOKUP($D122,#REF!,3,0) -> #REF! | G122: =VLOOKUP($B122,MEMORIAL_CÁLCULO!$B$11:$I$5733,8,0) -> 1 | H122: =VLOOKUP($D122,#REF!,6,0) -> #REF! | I122: =ROUND(G122*H122,2) -> #REF!
B123: 3.5.1 | C123: CDHU197 | D123: 33.02.080 | E123: =VLOOKUP($D123,#REF!,2,0) -> #REF! | F123: =VLOOKUP($D123,#REF!,3,0) -> #REF! | G123: =VLOOKUP($B123,MEMORIAL_CÁLCULO!$B$11:$I$5733,8,0) -> 299.357 | H123: =VLOOKUP($D123,#REF!,6,0) -> #REF! | I123: =ROUND(G123*H123,2) -> #REF!
B124: 3.5.2 | C124: CDHU197 | D124: 33.02.060 | E124: =VLOOKUP($D124,#REF!,2,0) -> #REF! | F124: =VLOOKUP($D124,#REF!,3,0) -> #REF! | G124: =VLOOKUP($B124,MEMORIAL_CÁLCULO!$B$11:$I$5733,8,0) -> 103.24 | H124: =VLOOKUP($D124,#REF!,6,0) -> #REF! | I124: =ROUND(G124*H124,2) -> #REF!
B125: 3.5.3 | C125: CDHU197 | D125: 33.10.020 | E125: =VLOOKUP($D125,#REF!,2,0) -> #REF! | F125: =VLOOKUP($D125,#REF!,3,0) -> #REF! | G125: =VLOOKUP($B125,MEMORIAL_CÁLCULO!$B$11:$I$5733,8,0) -> 402.597 | H125: =VLOOKUP($D125,#REF!,6,0) -> #REF! | I125: =ROUND(G125*H125,2) -> #REF!
B126: 3.5.4 | C126: FDE 01/25 | D126: 15.01.005 | E126: =VLOOKUP($D126,#REF!,2,0) -> #REF! | F126: =VLOOKUP($D126,#REF!,3,0) -> #REF! | G126: =VLOOKUP($B126,MEMORIAL_CÁLCULO!$B$11:$I$5733,8,0) -> 5.04 | H126: =VLOOKUP($D126,#REF!,6,0) -> #REF! | I126: =ROUND(G126*H126,2) -> #REF!
B127: 3.5.5 | C127: CDHU197 | D127: 33.11.050 | E127: =VLOOKUP($D127,#REF!,2,0) -> #REF! | F127: =VLOOKUP($D127,#REF!,3,0) -> #REF! | G127: =VLOOKUP($B127,MEMORIAL_CÁLCULO!$B$11:$I$5733,8,0) -> 148.436 | H127: =VLOOKUP($D127,#REF!,6,0) -> #REF! | I127: =ROUND(G127*H127,2) -> #REF!
B128: 3.5.6 | C128: CDHU197 | D128: 33.12.011 | E128: =VLOOKUP($D128,#REF!,2,0) -> #REF! | F128: =VLOOKUP($D128,#REF!,3,0) -> #REF! | G128: =VLOOKUP($B128,MEMORIAL_CÁLCULO!$B$11:$I$5733,8,0) -> 44.1 | H128: =VLOOKUP($D128,#REF!,6,0) -> #REF! | I128: =ROUND(G128*H128,2) -> #REF!
B129: 3.5.7 | C129: CDHU197 | D129: 33.07.140 | E129: =VLOOKUP($D129,#REF!,2,0) -> #REF! | F129: =VLOOKUP($D129,#REF!,3,0) -> #REF! | G129: =VLOOKUP($B129,MEMORIAL_CÁLCULO!$B$11:$I$5733,8,0) -> 11645.45 | H129: =VLOOKUP($D129,#REF!,6,0) -> #REF! | I129: =ROUND(G129*H129,2) -> #REF!
B130: 3.5.8 | C130: SINAPI 01/25 | D130: 102494 | E130: =VLOOKUP($D130,#REF!,2,0) -> #REF! | F130: =VLOOKUP($D130,#REF!,3,0) -> #REF! | G130: =VLOOKUP($B130,MEMORIAL_CÁLCULO!$B$11:$I$5733,8,0) -> 125.95 | H130: =VLOOKUP($D130,#REF!,5,0) -> #REF! | I130: =ROUND(G130*H130,2) -> #REF!
B131: 4.1.1.1 | C131: CDHU197 | D131: 48.02.400 | E131: =VLOOKUP($D131,#REF!,2,0) -> #REF! | F131: =VLOOKUP($D131,#REF!,3,0) -> #REF! | G131: =VLOOKUP($B131,MEMORIAL_CÁLCULO!$B$11:$I$5733,8,0) -> 1 | H131: =VLOOKUP($D131,#REF!,6,0) -> #REF! | I131: =ROUND(G131*H131,2) -> #REF!
B132: 4.1.1.2 | C132: CDHU197 | D132: 48.05.010 | E132: =VLOOKUP($D132,#REF!,2,0) -> #REF! | F132: =VLOOKUP($D132,#REF!,3,0) -> #REF! | G132: =VLOOKUP($B132,MEMORIAL_CÁLCULO!$B$11:$I$5733,8,0) -> 1 | H132: =VLOOKUP($D132,#REF!,6,0) -> #REF! | I132: =ROUND(G132*H132,2) -> #REF!
B133: 4.1.1.3 | C133: CDHU197 | D133: 47.01.020 | E133: =VLOOKUP($D133,#REF!,2,0) -> #REF! | F133: =VLOOKUP($D133,#REF!,3,0) -> #REF! | G133: =VLOOKUP($B133,MEMORIAL_CÁLCULO!$B$11:$I$5733,8,0) -> 2 | H133: =VLOOKUP($D133,#REF!,6,0) -> #REF! | I133: =ROUND(G133*H133,2) -> #REF!
B134: 4.1.1.4 | C134: CDHU197 | D134: 47.01.030 | E134: =VLOOKUP($D134,#REF!,2,0) -> #REF! | F134: =VLOOKUP($D134,#REF!,3,0) -> #REF! | G134: =VLOOKUP($B134,MEMORIAL_CÁLCULO!$B$11:$I$5733,8,0) -> 1 | H134: =VLOOKUP($D134,#REF!,6,0) -> #REF! | I134: =ROUND(G134*H134,2) -> #REF!
B135: 4.1.1.5 | C135: CDHU197 | D135: 47.01.050 | E135: =VLOOKUP($D135,#REF!,2,0) -> #REF! | F135: =VLOOKUP($D135,#REF!,3,0) -> #REF! | G135: =VLOOKUP($B135,MEMORIAL_CÁLCULO!$B$11:$I$5733,8,0) -> 4 | H135: =VLOOKUP($D135,#REF!,6,0) -> #REF! | I135: =ROUND(G135*H135,2) -> #REF!
B136: 4.1.1.6 | C136: CDHU197 | D136: 46.01.020 | E136: =VLOOKUP($D136,#REF!,2,0) -> #REF! | F136: =VLOOKUP($D136,#REF!,3,0) -> #REF! | G136: =VLOOKUP($B136,MEMORIAL_CÁLCULO!$B$11:$I$5733,8,0) -> 65.8 | H136: =VLOOKUP($D136,#REF!,6,0) -> #REF! | I136: =ROUND(G136*H136,2) -> #REF!
B137: 4.1.1.7 | C137: CDHU197 | D137: 46.01.030 | E137: =VLOOKUP($D137,#REF!,2,0) -> #REF! | F137: =VLOOKUP($D137,#REF!,3,0) -> #REF! | G137: =VLOOKUP($B137,MEMORIAL_CÁLCULO!$B$11:$I$5733,8,0) -> 25 | H137: =VLOOKUP($D137,#REF!,6,0) -> #REF! | I137: =ROUND(G137*H137,2) -> #REF!
B138: 4.1.1.8 | C138: CDHU197 | D138: 46.01.050 | E138: =VLOOKUP($D138,#REF!,2,0) -> #REF! | F138: =VLOOKUP($D138,#REF!,3,0) -> #REF! | G138: =VLOOKUP($B138,MEMORIAL_CÁLCULO!$B$11:$I$5733,8,0) -> 70 | H138: =VLOOKUP($D138,#REF!,6,0) -> #REF! | I138: =ROUND(G138*H138,2) -> #REF!
B139: 4.1.1.9 | C139: CDHU197 | D139: 47.02.020 | E139: =VLOOKUP($D139,#REF!,2,0) -> #REF! | F139: =VLOOKUP($D139,#REF!,3,0) -> #REF! | G139: =VLOOKUP($B139,MEMORIAL_CÁLCULO!$B$11:$I$5733,8,0) -> 4 | H139: =VLOOKUP($D139,#REF!,6,0) -> #REF! | I139: =ROUND(G139*H139,2) -> #REF!
B140: 4.1.1.10 | C140: CDHU197 | D140: 47.02.110 | E140: =VLOOKUP($D140,#REF!,2,0) -> #REF! | F140: =VLOOKUP($D140,#REF!,3,0) -> #REF! | G140: =VLOOKUP($B140,MEMORIAL_CÁLCULO!$B$11:$I$5733,8,0) -> 2 | H140: =VLOOKUP($D140,#REF!,6,0) -> #REF! | I140: =ROUND(G140*H140,2) -> #REF!
B141: 4.1.1.11 | C141: CDHU197 | D141: 43.10.670 | E141: =VLOOKUP($D141,#REF!,2,0) -> #REF! | F141: =VLOOKUP($D141,#REF!,3,0) -> #REF! | G141: =VLOOKUP($B141,MEMORIAL_CÁLCULO!$B$11:$I$5733,8,0) -> 1 | H141: =VLOOKUP($D141,#REF!,6,0) -> #REF! | I141: =ROUND(G141*H141,2) -> #REF!
B142: 4.1.2.1 | C142: CDHU197 | D142: 44.01.820 | E142: =VLOOKUP($D142,#REF!,2,0) -> #REF! | F142: =VLOOKUP($D142,#REF!,3,0) -> #REF! | G142: =VLOOKUP($B142,MEMORIAL_CÁLCULO!$B$11:$I$5733,8,0) -> 2 | H142: =VLOOKUP($D142,#REF!,6,0) -> #REF! | I142: =ROUND(G142*H142,2) -> #REF!
... B157: 4.1.2.16 | C157: CDHU197 | D157: 44.03.360 | E157: =VLOOKUP($D157,#REF!,2,0) -> #REF! | F157: =VLOOKUP($D157,#REF!,3,0) -> #REF! | G157: =VLOOKUP($B157,MEMORIAL_CÁLCULO!$B$11:$I$5733,8,0) -> 2 | H157: =VLOOKUP($D157,#REF!,6,0) -> #REF! | I157: =ROUND(G157*H157,2) -> #REF!
B158: 4.1.2.17 | C158: SINAPI 01/25 | D158: 100861 | E158: =VLOOKUP($D158,#REF!,2,0) -> #REF! | F158: =VLOOKUP($D158,#REF!,3,0) -> #REF! | G158: =VLOOKUP($B158,MEMORIAL_CÁLCULO!$B$11:$I$5733,8,0) -> 4 | H158: =VLOOKUP($D158,#REF!,5,0) -> #REF! | I158: =ROUND(G158*H158,2) -> #REF!
B159: 4.1.2.18 | C159: PMETT.002 | D159: 002.25 | E159: Box de canto modelo em "L", com vidro incolor temperado de 8mm, acompanhado de kit de alumínio na cor branca. | F159: M2 | G159: =VLOOKUP($B159,MEMORIAL_CÁLCULO!$B$11:$I$5733,8,0) -> 6.48 | H159: =#REF! -> #REF! | I159: =ROUND(G159*H159,2) -> #REF!
B160: 4.2.1 | C160: CDHU197 | D160: 46.02.010 | E160: =VLOOKUP($D160,#REF!,2,0) -> #REF! | F160: =VLOOKUP($D160,#REF!,3,0) -> #REF! | G160: =VLOOKUP($B160,MEMORIAL_CÁLCULO!$B$11:$I$5733,8,0) -> 5.8 | H160: =VLOOKUP($D160,#REF!,6,0) -> #REF! | I160: =ROUND(G160*H160,2) -> #REF!
B161: 4.2.2 | C161: CDHU197 | D161: 46.02.050 | E161: =VLOOKUP($D161,#REF!,2,0) -> #REF! | F161: =VLOOKUP($D161,#REF!,3,0) -> #REF! | G161: =VLOOKUP($B161,MEMORIAL_CÁLCULO!$B$11:$I$5733,8,0) -> 28.6 | H161: =VLOOKUP($D161,#REF!,6,0) -> #REF! | I161: =ROUND(G161*H161,2) -> #REF!
B162: 4.2.3 | C162: CDHU197 | D162: 46.02.070 | E162: =VLOOKUP($D162,#REF!,2,0) -> #REF! | F162: =VLOOKUP($D162,#REF!,3,0) -> #REF! | G162: =VLOOKUP($B162,MEMORIAL_CÁLCULO!$B$11:$I$5733,8,0) -> 103.8 | H162: =VLOOKUP($D162,#REF!,6,0) -> #REF! | I162: =ROUND(G162*H162,2) -> #REF!
B163: 4.2.4 | C163: CDHU197 | D163: 49.01.030 | E163: =VLOOKUP($D163,#REF!,2,0) -> #REF! | F163: =VLOOKUP($D163,#REF!,3,0) -> #REF! | G163: =VLOOKUP($B163,MEMORIAL_CÁLCULO!$B$11:$I$5733,8,0) -> 4 | H163: =VLOOKUP($D163,#REF!,6,0) -> #REF! | I163: =ROUND(G163*H163,2) -> #REF!
B164: 4.2.5 | C164: CDHU197 | D164: 49.03.020 | E164: =VLOOKUP($D164,#REF!,2,0) -> #REF! | F164: =VLOOKUP($D164,#REF!,3,0) -> #REF! | G164: =VLOOKUP($B164,MEMORIAL_CÁLCULO!$B$11:$I$5733,8,0) -> 6 | H164: =VLOOKUP($D164,#REF!,6,0) -> #REF! | I164: =ROUND(G164*H164,2) -> #REF!
B165: 4.2.6 | C165: FDE 01/25 | D165: 08.10.056 | E165: =VLOOKUP($D165,#REF!,2,0) -> #REF! | F165: =VLOOKUP($D165,#REF!,3,0) -> #REF! | G165: =VLOOKUP($B165,MEMORIAL_CÁLCULO!$B$11:$I$5733,8,0) -> 3 | H165: =VLOOKUP($D165,#REF!,6,0) -> #REF! | I165: =ROUND(G165*H165,2) -> #REF!
B166: 4.3.1 | C166: CDHU197 | D166: 49.03.020 | E166: =VLOOKUP($D166,#REF!,2,0) -> #REF! | F166: =VLOOKUP($D166,#REF!,3,0) -> #REF! | G166: =VLOOKUP($B166,MEMORIAL_CÁLCULO!$B$11:$I$5733,8,0) -> 2 | H166: =VLOOKUP($D166,#REF!,6,0) -> #REF! | I166: =ROUND(G166*H166,2) -> #REF!
B167: 4.3.2 | C167: CDHU197 | D167: 46.03.050 | E167: =VLOOKUP($D167,#REF!,2,0) -> #REF! | F167: =VLOOKUP($D167,#REF!,3,0) -> #REF! | G167: =VLOOKUP($B167,MEMORIAL_CÁLCULO!$B$11:$I$5733,8,0) -> 9.6 | H167: =VLOOKUP($D167,#REF!,6,0) -> #REF! | I167: =ROUND(G167*H167,2) -> #REF!
B168: 4.3.3 | C168: CDHU197 | D168: 16.33.022 | E168: =VLOOKUP($D168,#REF!,2,0) -> #REF! | F168: =VLOOKUP($D168,#REF!,3,0) -> #REF! | G168: =VLOOKUP($B168,MEMORIAL_CÁLCULO!$B$11:$I$5733,8,0) -> 92 | H168: =VLOOKUP($D168,#REF!,6,0) -> #REF! | I168: =ROUND(G168*H168,2) -> #REF!
B169: 4.3.4 | C169: CDHU197 | D169: 16.33.052 | E169: =VLOOKUP($D169,#REF!,2,0) -> #REF! | F169: =VLOOKUP($D169,#REF!,3,0) -> #REF! | G169: =VLOOKUP($B169,MEMORIAL_CÁLCULO!$B$11:$I$5733,8,0) -> 40 | H169: =VLOOKUP($D169,#REF!,6,0) -> #REF! | I169: =ROUND(G169*H169,2) -> #REF!
B170: 4.4.1 | C170: FDE 01/25 | D170: 08.80.040 | E170: =VLOOKUP($D170,#REF!,2,0) -> #REF! | F170: =VLOOKUP($D170,#REF!,3,0) -> #REF! | G170: =VLOOKUP($B170,MEMORIAL_CÁLCULO!$B$11:$I$5733,8,0) -> 1 | H170: =VLOOKUP($D170,#REF!,6,0) -> #REF! | I170: =ROUND(G170*H170,2) -> #REF!
B171: 4.4.2 | C171: FDE 01/25 | D171: 08.02.005 | E171: =VLOOKUP($D171,#REF!,2,0) -> #REF! | F171: =VLOOKUP($D171,#REF!,3,0) -> #REF! | G171: =VLOOKUP($B171,MEMORIAL_CÁLCULO!$B$11:$I$5733,8,0) -> 1 | H171: =VLOOKUP($D171,#REF!,6,0) -> #REF! | I171: =ROUND(G171*H171,2) -> #REF!
B172: 4.4.3 | C172: SINAPI 01/25 | D172: 100792 | E172: =VLOOKUP($D172,#REF!,2,0) -> #REF! | F172: =VLOOKUP($D172,#REF!,3,0) -> #REF! | G172: =VLOOKUP($B172,MEMORIAL_CÁLCULO!$B$11:$I$5733,8,0) -> 15 | H172: =VLOOKUP($D172,#REF!,5,0) -> #REF! | I172: =ROUND(G172*H172,2) -> #REF!
B173: 4.4.4 | C173: CDHU197 | D173: 32.10.050 | E173: =VLOOKUP($D173,#REF!,2,0) -> #REF! | F173: =VLOOKUP($D173,#REF!,3,0) -> #REF! | G173: =VLOOKUP($B173,MEMORIAL_CÁLCULO!$B$11:$I$5733,8,0) -> 15 | H173: =VLOOKUP($D173,#REF!,6,0) -> #REF! | I173: =ROUND(G173*H173,2) -> #REF!
B174: 4.4.5 | C174: CDHU197 | D174: 32.10.090 | E174: =VLOOKUP($D174,#REF!,2,0) -> #REF! | F174: =VLOOKUP($D174,#REF!,3,0) -> #REF! | G174: =VLOOKUP($B174,MEMORIAL_CÁLCULO!$B$11:$I$5733,8,0) -> 15 | H174: =VLOOKUP($D174,#REF!,6,0) -> #REF! | I174: =ROUND(G174*H174,2) -> #REF!
B175: 4.4.6 | C175: CDHU197 | D175: 47.01.180 | E175: =VLOOKUP($D175,#REF!,2,0) -> #REF! | F175: =VLOOKUP($D175,#REF!,3,0) -> #REF! | G175: =VLOOKUP($B175,MEMORIAL_CÁLCULO!$B$11:$I$5733,8,0) -> 1 | H175: =VLOOKUP($D175,#REF!,6,0) -> #REF! | I175: =ROUND(G175*H175,2) -> #REF!
B176: 4.5.1 | C176: CDHU197 | D176: 50.10.120 | E176: =VLOOKUP($D176,#REF!,2,0) -> #REF! | F176: =VLOOKUP($D176,#REF!,3,0) -> #REF! | G176: =VLOOKUP($B176,MEMORIAL_CÁLCULO!$B$11:$I$5733,8,0) -> 2 | H176: =VLOOKUP($D176,#REF!,6,0) -> #REF! | I176: =ROUND(G176*H176,2) -> #REF!
B177: 4.5.2 | C177: CDHU197 | D177: 97.02.036 | E177: =VLOOKUP($D177,#REF!,2,0) -> #REF! | F177: =VLOOKUP($D177,#REF!,3,0) -> #REF! | G177: =VLOOKUP($B177,MEMORIAL_CÁLCULO!$B$11:$I$5733,8,0) -> 0.18 | H177: =VLOOKUP($D177,#REF!,6,0) -> #REF! | I177: =ROUND(G177*H177,2) -> #REF!
B178: 4.5.3 | C178: CDHU197 | D178: 01.23.030 | E178: =VLOOKUP($D178,#REF!,2,0) -> #REF! | F178: =VLOOKUP($D178,#REF!,3,0) -> #REF! | G178: =VLOOKUP($B178,MEMORIAL_CÁLCULO!$B$11:$I$5733,8,0) -> 1 | H178: =VLOOKUP($D178,#REF!,6,0) -> #REF! | I178: =ROUND(G178*H178,2) -> #REF!
B179: 4.5.4 | C179: SINAPI 01/25 | D179: 102494 | E179: =VLOOKUP($D179,#REF!,2,0) -> #REF! | F179: =VLOOKUP($D179,#REF!,3,0) -> #REF! | G179: =VLOOKUP($B179,MEMORIAL_CÁLCULO!$B$11:$I$5733,8,0) -> 1 | H179: =VLOOKUP($D179,#REF!,5,0) -> #REF! | I179: =ROUND(G179*H179,2) -> #REF!
B180: 5.1.1 | C180: =VLOOKUP($B180,MEMORIAL_CÁLCULO!$B$11:$I$2946,2,0) -> FDE 04/25 | D180: =VLOOKUP($B180,MEMORIAL_CÁLCULO!$B$11:$I$2946,3,0) -> 09.02.060 | E180: =IF($C180="CDHU197",VLOOKUP($D180,#REF!,2,0),IF($C180="FDE 01/25",VLOOKUP($D180,#REF!,2,0),IF($C180="SINAPI 01/25",VLOOKUP($D180,#REF!,2,0)))) -> FALSE | F180: =IF($C180="CDHU197",VLOOKUP($D180,#REF!,3,0),IF($C180="FDE 01/25",VLOOKUP($D180,#REF!,3,0),IF($C180="SINAPI 01/25",VLOOKUP($D180,#REF!,3,0)))) -> FALSE | G180: =VLOOKUP($B180,MEMORIAL_CÁLCULO!$B$11:$I$2946,8,0) -> 1 | H180: =IF($C180="CDHU197",VLOOKUP($D180,#REF!,6,0),IF($C180="FDE 01/25",VLOOKUP($D180,#REF!,6,0),IF($C180="SINAPI 01/25",VLOOKUP($D180,#REF!,5,0)))) -> FALSE | I180: =ROUND(G180*H180,2) -> 0
...
