Workbook
Name __tab31: #NAME?
Name __tab33: #REF!
Name _Ke1: '[1]B-8506414 0,46kV'!$F$29
Name _Ke2: '[1]B-8506414 0,46kV'!$H$29
Name _tab31: #NAME?
Name _tab33: #REF!
Name a: #REF!
Name B_D_I: #REF!
Name BANCO: #REF!
Name BDI: #REF!
Name CATTRI: '[3]Tab 01'!$A$1:$N$23
Name Cf: '[1]B-8506414 0,46kV'!$D$42
Name CIRCUITOS: #REF!
Name CODIGO: #REF!
Name CORRENTE: [4]DIM_KG_BARRAM!$A$3:$A$50
Name Critérios_IM: #REF!
Name Crono: [5]ORÇAMENTO!$B$7:$J$35
Name D: '[1]B-8506414 0,46kV'!$H$42
Name dade: [6]ORÇAMENTO!$A$7:$I$36
Name DADOS: '[3]Tab 06'!$A$3:$A$19
Name ddd: #REF!
Name EDIF_JAN_08: #NAME?
Name Eixo_X: OFFSET([7]ENTRADA!$I$22,1,0,COUNT([7]ENTRADA!$I$23:$I$42),1)
Name En: '[1]B-8506414 0,46kV'!$D$29
Name FATOR: '[3]Tab 06'!$D$3:$D$19
Name FDE: #REF!
Name FERIADOS: #REF!
Name ff: #REF!
Name Fim: #REF!
Name G: '[1]B-8506414 0,46kV'!$F$17
Name Ibf: '[1]B-8506414 0,46kV'!$H$17
Name Início: #REF!
Name K: '[1]B-8506414 0,46kV'!$F$16
Name L_SOC: #REF!
Name LogEn: '[1]B-8506414 0,46kV'!$D$31
Name LogIa: '[1]B-8506414 0,46kV'!$D$19
Name LogIbf: '[1]B-8506414 0,46kV'!$H$16
Name LS: #REF!
Name MEDIDAS: [3]!Tabela3[[#All],[Medida '["']]]
Name no: #REF!
Name PESO: [3]!Tabela3[Peso Kg]
Name QDLF03: #REF!
Name REDU: #REF!
Name t: '[1]B-8506414 0,46kV'!$F$42
Name tabjul04: #REF!
Name tbjan01: #REF!
Name tbjan04: #REF!
Name TBJUL01: #REF!
Name V: '[1]B-8506414 0,46kV'!$D$17
Name wsa: #REF!
Name x: '[1]B-8506414 0,46kV'!$D$43

Sheet MEMORIAL_CÁLCULO
B5: MEMORIAL DE CÁLCULO
B7: OBJETO: | C7: CONSTRUÇÃO PARA IMPLANTAÇÃO DO POSTO DO CORPO DE BOMBEIROS NO MUNICÍPIO DE TREMEMBÉ | F7: ENCARGOS SOCIAIS: | G7: NÃO DESONERADO
B8: LOCAL: | C8: AVENIDA MANFREDINI, Nº 71, BAIRRO DO CAMINHO NOVO, LOTEAMENTO BARÃO DE TREMEMBÉ - TREMEMBÉ-SP | F8: DATA BASE: | G8: CDHU197; FDE 04/25; SINAPI 01/25
B9: DATA DE ELABORAÇÃO: 10/06/2025
G10: BDI: 20,39%
B11: Item | C11: Fonte dos Serviços | D11: Código dos Serviços | E11: Descrição dos Serviços | F11: Unidade | I11: Quantidade
B12: 1 | E12: SERVIÇOS PRELIMINARES
B13: 1.1 | E13: SERVIÇOS DO CANTEIRO
B14: 1.1.1 | C14: CDHU197 | D14: 02.08.020 | E14: Placa de identificação para obra | F14: M2 | I14: 4.5
E16: PLACA PADRÃO PREFEITURA DE TREMEMBÉ TAM. 3,00 X 1,50 | F16: M2
E17: Total: | F17: 4.5
B19: 1.1.2 | C19: CDHU197 | D19: 97.02.030 | E19: Placa comemorativa em aço inoxidável escovado | F19: M2 | I19: 0.4
E21: Uma placa de 0,50 x 0,80 | F21: M2
E22: Total: | F22: 0.4
B24: 1.1.3 | C24: CDHU197 | D24: 02.01.180 | E24: Banheiro químico modelo Standard, com manutenção conforme exigências da CETESB | F24: UNMES | I24: 6
E26: PREVISÃO DE DURAÇÃO 6 MESES
E27: Total: | F27: 6
B29: 1.1.4 | C29: CDHU197 | D29: 02.02.150 | E29: Locação de container tipo depósito - área mínima de 13,80 m² | F29: UNMES | I29: 6
E31: PREVISÃO DE DURAÇÃO 6 MESES
E32: Total: | F32: 6
B34: 1.2 | E34: APOIO À OBRA
B35: 1.2.1 | C35: CDHU197 | D35: 05.07.040 | E35: Remoção de entulho separado de obra com caçamba metálica - terra, alvenaria, concreto, argamassa, madeira, papel, plástico ou metal | F35: M3 | I35: 33.5232
E37: Normas técnicas: NBR 15112, NBR 15113, NBR 15114 e Nota Técnica da NBR 10004/2004.
E38: AMBIENTE | F38: ÁREA | G38: ÍNDICE | H38: TOTAL
E39: Construção Principal | F39: 261.9 | G39: 0.128 | H39: 33.5232
B41: 1.2.2 | C41: SINAPI 01/25 | D41: 98459 | E41: TAPUME COM TELHA METÁLICA. AF_03/2024 | F41: M2 | I41: 132
E43: TAPUME | F43: PERÍMETRO | G43: ALTURA | H43: TOTAL
E44: Canteiro de obras | F44: 60 | G44: 2.2 | H44: 132
B46: 1.2.3 | C46: CDHU197 | D46: 02.05.202 | E46: Andaime torre metálico (1,5 x 1,5 m) com piso metálico | F46: MXMES | I46: 108
E48: ANDAIMES = PERÍODO DE 6 MESES | F48: ALTURA
E49: ESTRUTURA | F49: 60
E50: ACABAMENTO | F50: 48
E51: TOTAL= | F51: 108
B53: 1.2.4 | C53: CDHU197 | D53: 45.01.020 | E53: Entrada completa de água com abrigo e registro de gaveta, DN= 3/4´ | F53: UN | I53: 1
E55: SABESP= | F55: 1
B57: 2 | E57: ESTRUTURAL
B58: 2.1 | E58: TERRAPLANAGEM, CORTE E ATERRO
B59: 2.1.1 | C59: CDHU197 | D59: 07.10.020 | E59: Espalhamento de solo em bota-fora com compactação sem controle | F59: M3 | I59: 175
E61: O projeto prevê a implementação de taludes nos fundos e no lado direito da edificação, com o objetivo de garantir a estabilidade do terreno e atender às exigências geotécnicas da área.
E62: ÁREA DO TERRENO PARA CORTE E ATERRO= | F62: 700
...

Sheet SERVIÇOS
B8: PLANILHA DE SERVIÇOS
B10: OBJETO: | C10: CONSTRUÇÃO PARA IMPLANTAÇÃO DO POSTO DO CORPO DE BOMBEIROS NO MUNICÍPIO DE TREMEMBÉ | G10: ENCARGOS SOCIAIS: | H10: NÃO DESONERADO
B11: LOCAL: | C11: AVENIDA 01, BAIRRO DO CAMINHO NOVO, LOTEAMENTO BARÃO DE TREMEMBÉ | G11: DATA BASE: | H11: CDHU197; FDE 01/25; SINAPI 01/25
B12: DATA DE ELABORAÇÃO: 06/06/2025
G13: BDI: 20,39%
B14: Item | C14: Fonte dos Serviços | D14: Código dos Serviços | E14: Descrição dos Serviços | F14: Unid. | G14: Quant. | H14: Preço (R$) | I14: Valor Total (R$)
B15: 1.1.1 | C15: CDHU197 | D15: 02.08.020 | E15: =VLOOKUP($D15,#REF!,2,0) -> #REF! | F15: =VLOOKUP($D15,#REF!,3,0) -> #REF! | G15: =VLOOKUP($B15,MEMORIAL_CÁLCULO!$B$11:$I$5733,8,0) -> 4.5 | H15: =VLOOKUP($D15,#REF!,6,0) -> #REF! | I15: =ROUND(G15*H15,2) -> #REF!
B16: 1.1.2 | C16: CDHU197 | D16: 97.02.030 | E16: =VLOOKUP($D16,#REF!,2,0) -> #REF! | F16: =VLOOKUP($D16,#REF!,3,0) -> #REF! | G16: =VLOOKUP($B16,MEMORIAL_CÁLCULO!$B$11:$I$5733,8,0) -> 0.4 | H16: =VLOOKUP($D16,#REF!,6,0) -> #REF! | I16: =ROUND(G16*H16,2) -> #REF!
B17: 1.1.3 | C17: CDHU197 | D17: 02.01.180 | E17: =VLOOKUP($D17,#REF!,2,0) -> #REF! | F17: =VLOOKUP($D17,#REF!,3,0) -> #REF! | G17: =VLOOKUP($B17,MEMORIAL_CÁLCULO!$B$11:$I$5733,8,0) -> 6 | H17: =VLOOKUP($D17,#REF!,6,0) -> #REF! | I17: =ROUND(G17*H17,2) -> #REF!
B18: 1.1.4 | C18: CDHU197 | D18: 02.02.150 | E18: =VLOOKUP($D18,#REF!,2,0) -> #REF! | F18: =VLOOKUP($D18,#REF!,3,0) -> #REF! | G18: =VLOOKUP($B18,MEMORIAL_CÁLCULO!$B$11:$I$5733,8,0) -> 6 | H18: =VLOOKUP($D18,#REF!,6,0) -> #REF! | I18: =ROUND(G18*H18,2) -> #REF!
B19: 1.2.1 | C19: CDHU197 | D19: 05.07.040 | E19: =VLOOKUP($D19,#REF!,2,0) -> #REF! | F19: =VLOOKUP($D19,#REF!,3,0) -> #REF! | G19: =VLOOKUP($B19,MEMORIAL_CÁLCULO!$B$11:$I$5733,8,0) -> 33.5232 | H19: =VLOOKUP($D19,#REF!,6,0) -> #REF! | I19: =ROUND(G19*H19,2) -> #REF!
B20: 1.2.2 | C20: SINAPI 01/25 | D20: 98459 | E20: =VLOOKUP($D20,#REF!,2,0) -> #REF! | F20: =VLOOKUP($D20,#REF!,3,0) -> #REF! | G20: =VLOOKUP($B20,MEMORIAL_CÁLCULO!$B$11:$I$5733,8,0) -> 132 | H20: =VLOOKUP($D20,#REF!,5,0) -> #REF! | I20: =ROUND(G20*H20,2) -> #REF!
B21: 1.2.3 | C21: CDHU197 | D21: 02.05.202 | E21: =VLOOKUP($D21,#REF!,2,0) -> #REF! | F21: =VLOOKUP($D21,#REF!,3,0) -> #REF! | G21: =VLOOKUP($B21,MEMORIAL_CÁLCULO!$B$11:$I$5733,8,0) -> 108 | H21: =VLOOKUP($D21,#REF!,6,0) -> #REF! | I21: =ROUND(G21*H21,2) -> #REF!
B22: 1.2.4 | C22: CDHU197 | D22: 45.01.020 | E22: =VLOOKUP($D22,#REF!,2,0) -> #REF! | F22: =VLOOKUP($D22,#REF!,3,0) -> #REF! | G22: =VLOOKUP($B22,MEMORIAL_CÁLCULO!$B$11:$I$5733,8,0) -> 1 | H22: =VLOOKUP($D22,#REF!,6,0) -> #REF! | I22: =ROUND(G22*H22,2) -> #REF!
B23: 2.1.1 | C23: CDHU197 | D23: 07.10.020 | E23: =VLOOKUP($D23,#REF!,2,0) -> #REF! | F23: =VLOOKUP($D23,#REF!,3,0) -> #REF! | G23: =VLOOKUP($B23,MEMORIAL_CÁLCULO!$B$11:$I$5733,8,0) -> 175 | H23: =VLOOKUP($D23,#REF!,6,0) -> #REF! | I23: =ROUND(G23*H23,2) -> #REF!
B24: 2.1.2 | C24: CDHU197 | D24: 05.10.021 | E24: =VLOOKUP($D24,#REF!,2,0) -> #REF! | F24: =VLOOKUP($D24,#REF!,3,0) -> #REF! | G24: =VLOOKUP($B24,MEMORIAL_CÁLCULO!$B$11:$I$5733,8,0) -> 175 | H24: =VLOOKUP($D24,#REF!,6,0) -> #REF! | I24: =ROUND(G24*H24,2) -> #REF!
B25: 2.2.1 | C25: CDHU197 | D25: 02.10.020 | E25: =VLOOKUP($D25,#REF!,2,0) -> #REF! | F25: =VLOOKUP($D25,#REF!,3,0) -> #REF! | G25: =VLOOKUP($B25,MEMORIAL_CÁLCULO!$B$11:$I$5733,8,0) -> 261.9 | H25: =VLOOKUP($D25,#REF!,6,0) -> #REF! | I25: =ROUND(G25*H25,2) -> #REF!
B26: 2.3.1 | C26: CDHU197 | D26: 06.02.020 | E26: =VLOOKUP($D26,#REF!,2,0) -> #REF! | F26: =VLOOKUP($D26,#REF!,3,0) -> #REF! | G26: =VLOOKUP($B26,MEMORIAL_CÁLCULO!$B$11:$I$5733,8,0) -> 29.5791 | H26: =VLOOKUP($D26,#REF!,6,0) -> #REF! | I26: =ROUND(G26*H26,2) -> #REF!
B27: 2.3.2 | C27: CDHU197 | D27: 12.01.041 | E27: =VLOOKUP($D27,#REF!,2,0) -> #REF! | F27: =VLOOKUP($D27,#REF!,3,0) -> #REF! | G27: =VLOOKUP($B27,MEMORIAL_CÁLCULO!$B$11:$I$5733,8,0) -> 3 | H27: =VLOOKUP($D27,#REF!,6,0) -> #REF! | I27: =ROUND(G27*H27,2) -> #REF!
B28: 2.3.3 | C28: CDHU197 | D28: 12.05.010 | E28: =VLOOKUP($D28,#REF!,2,0) -> #REF! | F28: =VLOOKUP($D28,#REF!,3,0) -> #REF! | G28: =VLOOKUP($B28,MEMORIAL_CÁLCULO!$B$11:$I$5733,8,0) -> 1 | H28: =VLOOKUP($D28,#REF!,6,0) -> #REF! | I28: =ROUND(G28*H28,2) -> #REF!
B29: 2.3.4 | C29: CDHU197 | D29: 12.05.150 | E29: =VLOOKUP($D29,#REF!,2,0) -> #REF! | F29: =VLOOKUP($D29,#REF!,3,0) -> #REF! | G29: =VLOOKUP($B29,MEMORIAL_CÁLCULO!$B$11:$I$5733,8,0) -> 152 | H29: =VLOOKUP($D29,#REF!,6,0) -> #REF! | I29: =ROUND(G29*H29,2) -> #REF!
B30: 2.3.5 | C30: CDHU197 | D30: 09.01.020 | E30: =VLOOKUP($D30,#REF!,2,0) -> #REF! | F30: =VLOOKUP($D30,#REF!,3,0) -> #REF! | G30: =VLOOKUP($B30,MEMORIAL_CÁLCULO!$B$11:$I$5733,8,0) -> 167.34 | H30: =VLOOKUP($D30,#REF!,6,0) -> #REF! | I30: =ROUND(G30*H30,2) -> #REF!
B31: 2.3.6 | C31: CDHU197 | D31: 11.18.040 | E31: =VLOOKUP($D31,#REF!,2,0) -> #REF! | F31: =VLOOKUP($D31,#REF!,3,0) -> #REF! | G31: =VLOOKUP($B31,MEMORIAL_CÁLCULO!$B$11:$I$5733,8,0) -> 2.15055 | H31: =VLOOKUP($D31,#REF!,6,0) -> #REF! | I31: =ROUND(G31*H31,2) -> #REF!
B32: 2.3.7 | C32: CDHU197 | D32: 10.01.040 | E32: =VLOOKUP($D32,#REF!,2,0) -> #REF! | F32: =VLOOKUP($D32,#REF!,3,0) -> #REF! | G32: =VLOOKUP($B32,MEMORIAL_CÁLCULO!$B$11:$I$5733,8,0) -> 787.6 | H32: =VLOOKUP($D32,#REF!,6,0) -> #REF! | I32: =ROUND(G32*H32,2) -> #REF!
... B65: 3.1.1.3 | C65: CDHU197 | D65: 14.30.410 | E65: =VLOOKUP($D65,#REF!,2,0) -> #REF! | F65: =VLOOKUP($D65,#REF!,3,0) -> #REF! | G65: =VLOOKUP($B65,MEMORIAL_CÁLCULO!$B$11:$I$5733,8,0) -> 153.856 | H65: =VLOOKUP($D65,#REF!,6,0) -> #REF! | I65: =ROUND(G65*H65,2) -> #REF!
B66: 3.1.1.4 | C66: PMETT.001 | D66: 001.25 | E66: Painel termoisolante para fechamentos verticais (PIR), revestido em aço galvalume, largura útil de 1100 mm, espessura de 50 mm, com pré-pintura nas duas faces | F66: M2 | G66: =VLOOKUP($B66,MEMORIAL_CÁLCULO!$B$11:$I$5733,8,0) -> 350.2525 | H66: =#REF! -> #REF! | I66: =ROUND(G66*H66,2) -> #REF!
B67: 3.1.1.5 | C67: CDHU197 | D67: 14.31.030 | E67: =VLOOKUP($D67,#REF!,2,0) -> #REF! | F67: =VLOOKUP($D67,#REF!,3,0) -> #REF! | G67: =VLOOKUP($B67,MEMORIAL_CÁLCULO!$B$11:$I$5733,8,0) -> 59.37 | H67: =VLOOKUP($D67,#REF!,6,0) -> #REF! | I67: =ROUND(G67*H67,2) -> #REF!
B68: 3.1.1.6 | C68: CDHU197 | D68: 32.16.050 | E68: =VLOOKUP($D68,#REF!,2,0) -> #REF! | F68: =VLOOKUP($D68,#REF!,3,0) -> #REF! | G68: =VLOOKUP($B68,MEMORIAL_CÁLCULO!$B$11:$I$5733,8,0) -> 9.72 | H68: =VLOOKUP($D68,#REF!,6,0) -> #REF! | I68: =ROUND(G68*H68,2) -> #REF!
B69: 3.1.2.1 | C69: CDHU197 | D69: 17.02.040 | E69: =VLOOKUP($D69,#REF!,2,0) -> #REF! | F69: =VLOOKUP($D69,#REF!,3,0) -> #REF! | G69: =VLOOKUP($B69,MEMORIAL_CÁLCULO!$B$11:$I$5733,8,0) -> 80.18 | H69: =VLOOKUP($D69,#REF!,6,0) -> #REF! | I69: =ROUND(G69*H69,2) -> #REF!
B70: 3.1.2.2 | C70: CDHU197 | D70: 17.02.020 | E70: =VLOOKUP($D70,#REF!,2,0) -> #REF! | F70: =VLOOKUP($D70,#REF!,3,0) -> #REF! | G70: =VLOOKUP($B70,MEMORIAL_CÁLCULO!$B$11:$I$5733,8,0) -> 80.18 | H70: =VLOOKUP($D70,#REF!,6,0) -> #REF! | I70: =ROUND(G70*H70,2) -> #REF!
B71: 3.1.2.3 | C71: CDHU197 | D71: 17.02.120 | E71: =VLOOKUP($D71,#REF!,2,0) -> #REF! | F71: =VLOOKUP($D71,#REF!,3,0) -> #REF! | G71: =VLOOKUP($B71,MEMORIAL_CÁLCULO!$B$11:$I$5733,8,0) -> 80.18 | H71: =VLOOKUP($D71,#REF!,6,0) -> #REF! | I71: =ROUND(G71*H71,2) -> #REF!
B72: 3.1.2.4 | C72: CDHU197 | D72: 18.11.042 | E72: =VLOOKUP($D72,#REF!,2,0) -> #REF! | F72: =VLOOKUP($D72,#REF!,3,0) -> #REF! | G72: =VLOOKUP($B72,MEMORIAL_CÁLCULO!$B$11:$I$5733,8,0) -> 80.18 | H72: =VLOOKUP($D72,#REF!,6,0) -> #REF! | I72: =ROUND(G72*H72,2) -> #REF!
B73: 3.2.1.1 | C73: CDHU197 | D73: 16.13.070 | E73: =VLOOKUP($D73,#REF!,2,0) -> #REF! | F73: =VLOOKUP($D73,#REF!,3,0) -> #REF! | G73: =VLOOKUP($B73,MEMORIAL_CÁLCULO!$B$11:$I$5733,8,0) -> 235.2 | H73: =VLOOKUP($D73,#REF!,6,0) -> #REF! | I73: =ROUND(G73*H73,2) -> #REF!
B74: 3.2.1.2 | C74: CDHU197 | D74: 16.32.120 | E74: =VLOOKUP($D74,#REF!,2,0) -> #REF! | F74: =VLOOKUP($D74,#REF!,3,0) -> #REF! | G74: =VLOOKUP($B74,MEMORIAL_CÁLCULO!$B$11:$I$5733,8,0) -> 57.75 | H74: =VLOOKUP($D74,#REF!,6,0) -> #REF! | I74: =ROUND(G74*H74,2) -> #REF!
B75: 3.2.2.1 | C75: CDHU197 | D75: 22.03.020 | E75: =VLOOKUP($D75,#REF!,2,0) -> #REF! | F75: =VLOOKUP($D75,#REF!,3,0) -> #REF! | G75: =VLOOKUP($B75,MEMORIAL_CÁLCULO!$B$11:$I$5733,8,0) -> 90.76 | H75: =VLOOKUP($D75,#REF!,6,0) -> #REF! | I75: =ROUND(G75*H75,2) -> #REF!
B76: 3.2.2.2 | C76: CDHU197 | D76: 22.02.100 | E76: =VLOOKUP($D76,#REF!,2,0) -> #REF! | F76: =VLOOKUP($D76,#REF!,3,0) -> #REF! | G76: =VLOOKUP($B76,MEMORIAL_CÁLCULO!$B$11:$I$5733,8,0) -> 12.62 | H76: =VLOOKUP($D76,#REF!,6,0) -> #REF! | I76: =ROUND(G76*H76,2) -> #REF!
B77: 3.2.2.3 | C77: CDHU197 | D77: 22.02.030 | E77: =VLOOKUP($D77,#REF!,2,0) -> #REF! | F77: =VLOOKUP($D77,#REF!,3,0) -> #REF! | G77: =VLOOKUP($B77,MEMORIAL_CÁLCULO!$B$11:$I$5733,8,0) -> 13.79 | H77: =VLOOKUP($D77,#REF!,6,0) -> #REF! | I77: =ROUND(G77*H77,2) -> #REF!
B78: 3.3.1.1 | C78: CDHU197 | D78: 11.18.040 | E78: =VLOOKUP($D78,#REF!,2,0) -> #REF! | F78: =VLOOKUP($D78,#REF!,3,0) -> #REF! | G78: =VLOOKUP($B78,MEMORIAL_CÁLCULO!$B$11:$I$5733,8,0) -> 5.8585 | H78: =VLOOKUP($D78,#REF!,6,0) -> #REF! | I78: =ROUND(G78*H78,2) -> #REF!
... B105: 3.4.1.4 | C105: CDHU197 | D105: 28.01.040 | E105: =VLOOKUP($D105,#REF!,2,0) -> #REF! | F105: =VLOOKUP($D105,#REF!,3,0) -> #REF! | G105: =VLOOKUP($B105,MEMORIAL_CÁLCULO!$B$11:$I$5733,8,0) -> 9 | H105: =VLOOKUP($D105,#REF!,6,0) -> #REF! | I105: =ROUND(G105*H105,2) -> #REF!
B106: 3.4.2.1 | C106: SINAPI 01/25 | D106: 94590 | E106: =VLOOKUP($D106,#REF!,2,0) -> #REF! | F106: =VLOOKUP($D106,#REF!,3,0) -> #REF! | G106: =VLOOKUP($B106,MEMORIAL_CÁLCULO!$B$11:$I$5733,8,0) -> 49.2 | H106: =VLOOKUP($D106,#REF!,5,0) -> #REF! | I106: =ROUND(G106*H106,2) -> #REF!
...
