Workbook

Sheet 190 DESONERADO
B1: COMPANHIA DE DESENVOLVIMENTO HABITACIONAL E URBANO
A2: DO ESTADO DE SÃO PAULO
A3: BOLETIM REFERENCIAL DE CUSTOS - TABELA DE SERVIÇOS
A4: COM DESONERAÇÃO
F5: Versão 192
E6: Data Base: | F6: Nov/23
C7: BDI : | D7: 0 | E7: L.S.: | F7: 0.9778
A8: Referência | B8: Descrição | C8: Un | D8: Material | E8: Mão de Obra | F8: Custo Total
A9: 01 | B9: SERVICO TECNICO ESPECIALIZADO | G9: 2
A10: 01.02 | B10: Parecer técnico | G10: 5
A11: 01.02.071 | B11: Parecer técnico de fundações, contenções e recomendações gerais, para empreendimentos com área construída até 1.000 m² | C11: UN | E11: 5636.66 | F11: 5636.66 | G11: =LEN(A11) -> 9
A12: 01.02.081 | B12: Parecer técnico de fundações, contenções e recomendações gerais, para empreendimentos com área construída de 1.001 a 2.000 m² | C12: UN | E12: 7495.66 | F12: 7495.66 | G12: =LEN(A12) -> 9
A13: 01.02.091 | B13: Parecer técnico de fundações, contenções e recomendações gerais, para empreendimentos com área construída de 2.001 a 5.000 m² | C13: UN | E13: 12804.27 | F13: 12804.27 | G13: =LEN(A13) -> 9
A14: 01.02.101 | B14: Parecer técnico de fundações, contenções e recomendações gerais, para empreendimentos com área construída de 5.001 a 10.000 m² | C14: UN | E14: 17556.16 | F14: 17556.16 | G14: =LEN(A14) -> 9
A15: 01.02.111 | B15: Parecer técnico de fundações, contenções e recomendações gerais, para empreendimentos com área construída acima de 10.000 m² | C15: UN | E15: 20458.99 | F15: 20458.99 | G15: =LEN(A15) -> 9
A16: 01.06 | B16: Projeto de instalações elétricas | G16: =LEN(A16) -> 5
A17: 01.06.021 | B17: Elaboração de projeto de adequação de entrada de energia elétrica junto a concessionária, com medição em baixa tensão e demanda até 75 kVA | C17: UN | E17: 7199.56 | F17: 7199.56 | G17: =LEN(A17) -> 9
A18: 01.06.031 | B18: Elaboração de projeto de adequação de entrada de energia elétrica junto a concessionária, com medição em média tensão, subestação simplificada e demanda de 75 kVA a 300 kVA | C18: UN | E18: 12194.64 | F18: 12194.64 | G18: =LEN(A18) -> 9
A19: 01.06.032 | B19: Elaboração de projeto de adequação de entrada de energia elétrica junto a concessionária, com medição em média tensão e demanda de 75 kVA a 300 kVA | C19: UN | E19: 16501.64 | F19: 16501.64 | G19: =LEN(A19) -> 9
A20: 01.06.041 | B20: Elaboração de projeto de adequação de entrada de energia elétrica junto a concessionária, com medição em média tensão e demanda acima de 300 kVA a 2 MVA | C20: UN | E20: 21949.1 | F20: 21949.1 | G20: =LEN(A20) -> 9
A21: 01.17 | B21: Projeto executivo | G21: =LEN(A21) -> 5
A22: 01.17.031 | B22: Projeto executivo de arquitetura em formato A1 | C22: UN | E22: 2836.01 | F22: 2836.01 | G22: =LEN(A22) -> 9
A23: 01.17.041 | B23: Projeto executivo de arquitetura em formato A0 | C23: UN | E23: 3833.98 | F23: 3833.98 | G23: =LEN(A23) -> 9
A24: 01.17.051 | B24: Projeto executivo de estrutura em formato A1 | C24: UN | E24: 2079.88 | F24: 2079.88 | G24: =LEN(A24) -> 9
A25: 01.17.061 | B25: Projeto executivo de estrutura em formato A0 | C25: UN | E25: 2845.66 | F25: 2845.66 | G25: =LEN(A25) -> 9
A26: 01.17.071 | B26: Projeto executivo de instalações hidráulicas em formato A1 | C26: UN | E26: 892.89 | F26: 892.89 | G26: =LEN(A26) -> 9
A27: 01.17.081 | B27: Projeto executivo de instalações hidráulicas em formato A0 | C27: UN | E27: 1188.55 | F27: 1188.55 | G27: =LEN(A27) -> 9
A28: 01.17.111 | B28: Projeto executivo de instalações elétricas em formato A1 | C28: UN | E28: 991.52 | F28: 991.52 | G28: =LEN(A28) -> 9
A29: 01.17.121 | B29: Projeto executivo de instalações elétricas em formato A0 | C29: UN | E29: 1374.79 | F29: 1374.79 | G29: =LEN(A29) -> 9
A30: 01.17.151 | B30: Projeto executivo de climatização em formato A1 | C30: UN | E30: 1908.51 | F30: 1908.51 | G30: =LEN(A30) -> 9
A31: 01.17.161 | B31: Projeto executivo de climatização em formato A0 | C31: UN | E31: 2601.48 | F31: 2601.48 | G31: =LEN(A31) -> 9
A32: 01.17.171 | B32: Projeto executivo de chuveiros automáticos em formato A1 | C32: UN | E32: 1647.55 | F32: 1647.55 | G32: =LEN(A32) -> 9
A33: 01.17.181 | B33: Projeto executivo de chuveiros automáticos em formato A0 | C33: UN | E33: 2129.53 | F33: 2129.53 | G33: =LEN(A33) -> 9
A34: 01.20 | B34: Levantamento topográfico e geofísico | G34: =LEN(A34) -> 5
A35: 01.20.010 | B35: Taxa de mobilização e desmobilização de equipamentos para execução de levantamento topográfico | C35: TX | D35: 1183.91 | F35: 1183.91 | G35: =LEN(A35) -> 9
A36: 01.20.280 | B36: Levantamento planimétrico de área pavimentada para veículo e pedestre | C36: M2 | D36: 0.04 | E36: 0.13 | F36: 0.17 | G36: =LEN(A36) -> 9
A37: 01.20.691 | B37: Levantamento planimétrico cadastral com áreas ocupadas predominantemente por comunidades - área até 20.000 m² (mínimo de 3.500 m²) | C37: M2 | D37: 0.4 | E37: 0.46 | F37: 0.86 | G37: =LEN(A37) -> 9
A38: 01.20.701 | B38: Levantamento planimétrico cadastral com áreas ocupadas predominantemente por comunidades - área acima de 20.000 m² até 200.000 m² | C38: M2 | D38: 0.31 | E38: 0.35 | F38: 0.66 | G38: =LEN(A38) -> 9
A39: 01.20.711 | B39: Levantamento planimétrico cadastral com áreas ocupadas predominantemente por comunidades - área acima de 200.000 m² | C39: M2 | D39: 0.25 | E39: 0.29 | F39: 0.54 | G39: =LEN(A39) -> 9
A40: 01.20.721 | B40: Levantamento planimétrico cadastral com áreas até 50% de ocupação - área até 20.000 m² (mínimo de 3.500 m²) | C40: M2 | D40: 0.34 | E40: 0.4 | F40: 0.74 | G40: =LEN(A40) -> 9
...

Sheet BDI DESON.
B2: DEMONSTRATIVO DE COMPOSIÇÃO DO BDI (acórdào 2622/2013-TCU-Plenário)
B4: Prefeitura do Município de Santa Branca
B5: Processo nº ST-PRC_2021-00146-DM
B6: Convênio nº
B7: Data da Elaboração: 02/09/2021
B8: Objeto: XXXXXXXXXXXXX
B10: Cálculo do BDI - COM DESONERAÇÃO Fórmula e parâmetros estabelecidos pelo Acórdão 2622/2013-TCU-Plenário
B11: Item | C11: 1º quartil | D11: 3º quartil | E11: Médio | F11: Identificação
B12: AC | C12: 3.8 | D12: 4.67 | E12: 4.67 | F12: Administração Central
B13: S e G | C13: 0.32 | D13: 0.74 | E13: 0.74 | F13: Seguro e Garantia
B14: R | C14: 0.5 | D14: 0.97 | E14: 0.97 | F14: Risco
B15: DF | C15: 1.02 | D15: 1.21 | E15: 1.21 | F15: Despesas Financeiras
B16: L | C16: 6.64 | D16: 8.69 | E16: 7.79 | F16: Lucro
B17: I * | C17: conforme legislação | E17: =C24 -> 10.15 | F17: Tributos *
B19: TRIBUTOS | C19: %
B20: PIS** | C20: 0.65
B21: COFINS** | C21: 3
B22: Cont. Previd. | C22: 4.5 | D22: (Contribuição Previdenciária sobre a receita bruta, no caso de desoneração na folha)
B23: ISS | C23: =IF(OR(H27="",J26=""),"",IF(ROUND(J26*H27*100,2)>5,"ERRO",(ROUND(J26*H27*100,2)))) -> 2
B24: Total | C24: =IF(C23="","",SUM(C20:C23)) -> 10.15
B26: Declaramos que, conforme legislação tributária municipal, a base de cálculo do ISS é de | J26: 1
B27: sobre o valor da obra e a aliquota do ISS aplicável no Município é de | H27: 0.02 | I27: ← (limitado a 5,00%)
D29: TOTAL | E29: =IF(OR(C23="",E12="",E13="",E14="",E15="",E16=""),0,ROUND((((1+E12/100+E13/100+E14/100)*(1+E15/100)*(1+E16/100)/(1-(C24/100)))-1)*100,2)) -> 29.16 | F29: BDI A SER ADOTADO (com desoneração)
B31: Verificação: | C31: =IF(OR(C23="",E12="",E13="",E14="",E15="",E16=""),0,IF(OR(ROUND((((1+E12/100+E13/100+E14/100)*(1+E15/100)*(1+E16/100)/(1-((C24-C22)/100)))-1)*100,2)>24.23,ROUND((((1+E12/100+E13/100+E14/100)*(1+E15/100)*(1+E16/100)/(1-((C24-C22)/100)))-1)*100,2)<19.6),"FORA DO LIMITE !",ROUND((((1+E12/100+E13/100+E14/100)*(1+E15/100)*(1+E16/100)/(1-((C24-C22)/100)))-1)*100,2))) -> 23 | D31: ← limite 19,60% a 24,23% (com desoneração)
B33: FÓRMULA
B35: BDI calculado pela expressão: BDI = { [ (1+AC/100+S/100+R/100+G/100) x (1+DF/100) x (1+L/100) / (1-I/100)] -1} x 100
B39: Declaramos sob pena da Lei que a alternativa adotada pela Prefeitura do Município de Santa Branca é Sem Desoneração e que é a mais vantajosa para a Administração Pública.
J41: Santa Branca, 02 de setembro de 2021.
B46: Arthur Ribeiro Alvares Pimenta | G46: Hudson de Melo Domiciano
B47: Responsável Técnico | G47: Gestor Contábil
B48: CREA/SP: 5069103559 | G48: CRC-SP 1SP302996/O-1
A738: 13.01.190 | B738: Laje pré-fabricada mista vigota treliçada/lajota cerâmica - LT 24 (20+4) e capa com concreto de 25 MPa | C738: M2 | D738: 141,86 | E738: 30,41 | F738: 172,27
A739: 13.01.210 | B739: Laje pré-fabricada mista vigota treliçada/lajota cerâmica - LT 30 (24+6) e capa com concreto de 25 MPa | C739: M2 | D739: 178,03 | E739: 33,38 | F739: 211,41
A740: 13.01.310 | B740: Laje pré-fabricada unidirecional em viga treliçada/lajota em EPS LT 12 (8 + 4), com capa de concreto de 25 MPa | C740: M2 | D740: 102,42 | E740: 25,75 | F740: 128,17
A741: 13.01.320 | B741: Laje pré-fabricada unidirecional em viga treliçada/lajota em EPS LT 16 (12 + 4), com capa de concreto de 25 MPa | C741: M2 | D741: 119,56 | E741: 25,75 | F741: 145,31
A742: 13.01.330 | B742: Laje pré-fabricada unidirecional em viga treliçada/lajota em EPS LT 20 (16 + 4), com capa de concreto de 25 MPa | C742: M2 | D742: 163,32 | E742: 28,08 | F742: 191,40
A743: 13.01.340 | B743: Laje pré-fabricada unidirecional em viga treliçada/lajota em EPS LT 25 (20 + 5), com capa de concreto de 25 MPa | C743: M2 | D743: 152,83 | E743: 30,41 | F743: 183,24
A744: 13.01.350 | B744: Laje pré-fabricada unidirecional em viga treliçada/lajota em EPS LT 30 (25 + 5), com capa de concreto de 25 MPa | C744: M2 | D744: 240,53 | E744: 33,38 | F744: 273,91
A745: 13.02 | B745: Laje pre-fabricada mista em vigotas protendidas e lajotas
A746: 13.02.150 | B746: Laje pré-fabricada mista vigota protendida/lajota cerâmica - LP 12 (8+4) e capa com concreto de 25 MPa | C746: M2 | D746: 114,25 | E746: 25,75 | F746: 140,00
...

Sheet P.O.-DES
D1: MUNICÍPIO DE SANTA BRANCA - Secretaria Municipal de Serviços, Obras e Transportes
D2: RUA PRUDENTE DE MORAES, 93, CENTRO, CEP 12380-970 - SANTA BRANCA - SP
D3: LOCAL DA OBRA: RUA PADRE ÁLVARO RUIZ, JARDIM OLÍMPIA - SANTA BRANCA - SP
D4: PLANILHA ORÇAMENTÁRIA - RECOMPOSIÇÃO ASFÁLTICA DE TRECHO DE VIA PÚBLICA | I4: BDI adotado
D5: BASE: CDHU - BOLETIM 187 COM DESONERAÇÃO / SIURB 07-2021 COM DESONERAÇÃO | I5: =ROUND('BDI DESON.'!E29/100,4) -> 0.2916
A6: ITEM | B6: FONTE | C6: CÓDIGO | D6: DESCRIÇÃO | E6: UNID. | F6: QUANT. | G6: VALOR UNIT. | H6: VALOR COM BDI | I6: TOTAL
A7: 1.0 | D7: SERVIÇOS PRELIMINARES | I7: =SUBTOTAL(9,I8:I9) -> #REF!
A8: 1.1 | B8: CDHU | C8: 02.08.020 | D8: =IF($B8="","",VLOOKUP($C8,'190 DESONERADO'!$A$3:$G$4201,2,0)) -> Placa de identificação para obra | E8: =IF($B8="","",VLOOKUP($C8,'197 ONERADO'!$A$3:$G$4201,3,0)) -> M2 | F8: 6 | G8: =IF($B8="","",VLOOKUP($C8,'190 DESONERADO'!$A$3:$H$4201,6,0)) -> 913.45 | H8: =ROUND(G8*(1+$I$5),2) -> 1179.81 | I8: =IF($B8="","",ROUND(F8*H8,2)) -> 7078.86
A9: 1.2 | B9: CDHU | C9: 03.01.260 | D9: =IF($B9="","",VLOOKUP($C9,'190 DESONERADO'!$A$3:$G$4201,2,0)) -> Demolição mecanizada de sarjeta ou sarjetão, inclusive fragmentação, carregamento, transporte até 1 quilômetro e descarregamento | E9: =IF($B9="","",VLOOKUP($C9,'197 ONERADO'!$A$3:$G$4201,3,0)) -> M3 | F9: =#REF! -> #REF! | G9: =IF($B9="","",VLOOKUP($C9,'190 DESONERADO'!$A$3:$H$4201,6,0)) -> 289.15 | H9: =ROUND(G9*(1+$I$5),2) -> 373.47 | I9: =IF($B9="","",ROUND(F9*H9,2)) -> #REF!
A10: 2.0 | D10: DRENAGEM | I10: =SUBTOTAL(9,I11:I21) -> #REF!
A11: 2.1 | B11: CDHU | C11: 07.02.020 | D11: =IF($B11="","",VLOOKUP($C11,'190 DESONERADO'!$A$3:$G$4201,2,0)) -> Escavação mecanizada de valas ou cavas com profundidade de até 2 m | E11: =IF($B11="","",VLOOKUP($C11,'197 ONERADO'!$A$3:$G$4201,3,0)) -> M3 | G11: =IF($B11="","",VLOOKUP($C11,'190 DESONERADO'!$A$3:$H$4201,6,0)) -> 10.48 | H11: =ROUND(G11*(1+$I$5),2) -> 13.54 | I11: =IF($B11="","",ROUND(F11*H11,2)) -> 0
A12: 2.2 | B12: CDHU | C12: 07.11.040 | D12: =IF($B12="","",VLOOKUP($C12,'190 DESONERADO'!$A$3:$G$4201,2,0)) -> Reaterro compactado mecanizado de vala ou cava com rolo, mínimo de 95% PN | E12: =IF($B12="","",VLOOKUP($C12,'197 ONERADO'!$A$3:$G$4201,3,0)) -> M3 | F12: =#REF! -> #REF! | G12: =IF($B12="","",VLOOKUP($C12,'190 DESONERADO'!$A$3:$H$4201,6,0)) -> 22.19 | H12: =ROUND(G12*(1+$I$5),2) -> 28.66 | I12: =IF($B12="","",ROUND(F12*H12,2)) -> #REF!
A13: 2.3 | B13: CDHU | C13: 11.18.040 | D13: =IF($B13="","",VLOOKUP($C13,'190 DESONERADO'!$A$3:$G$4201,2,0)) -> Lastro de pedra britada | E13: =IF($B13="","",VLOOKUP($C13,'197 ONERADO'!$A$3:$G$4201,3,0)) -> M3 | F13: =#REF! -> #REF! | G13: =IF($B13="","",VLOOKUP($C13,'190 DESONERADO'!$A$3:$H$4201,6,0)) -> 189.71 | H13: =ROUND(G13*(1+$I$5),2) -> 245.03 | I13: =IF($B13="","",ROUND(F13*H13,2)) -> #REF!
A14: 2.4 | B14: CDHU | C14: 46.12.060 | D14: =IF($B14="","",VLOOKUP($C14,'190 DESONERADO'!$A$3:$G$4201,2,0)) -> Tubo de concreto (PS-2), DN= 400mm | E14: =IF($B14="","",VLOOKUP($C14,'197 ONERADO'!$A$3:$G$4201,3,0)) -> M | F14: =#REF! -> #REF! | G14: =IF($B14="","",VLOOKUP($C14,'190 DESONERADO'!$A$3:$H$4201,6,0)) -> 118.62 | H14: =ROUND(G14*(1+$I$5),2) -> 153.21 | I14: =IF($B14="","",ROUND(F14*H14,2)) -> #REF!
A15: 2.5 | B15: CDHU | C15: 46.12.070 | D15: =IF($B15="","",VLOOKUP($C15,'190 DESONERADO'!$A$3:$G$4201,2,0)) -> Tubo de concreto (PS-2), DN= 500mm | E15: =IF($B15="","",VLOOKUP($C15,'197 ONERADO'!$A$3:$G$4201,3,0)) -> M | F15: =#REF! -> #REF! | G15: =IF($B15="","",VLOOKUP($C15,'190 DESONERADO'!$A$3:$H$4201,6,0)) -> 159.89 | H15: =ROUND(G15*(1+$I$5),2) -> 206.51 | I15: =IF($B15="","",ROUND(F15*H15,2)) -> #REF!
A16: 2.6 | B16: CDHU | C16: 46.12.150 | D16: =IF($B16="","",VLOOKUP($C16,'190 DESONERADO'!$A$3:$G$4201,2,0)) -> Tubo de concreto (PA-2), DN= 600mm | E16: =IF($B16="","",VLOOKUP($C16,'197 ONERADO'!$A$3:$G$4201,3,0)) -> M | F16: =#REF! -> #REF! | G16: =IF($B16="","",VLOOKUP($C16,'190 DESONERADO'!$A$3:$H$4201,6,0)) -> 218.09 | H16: =ROUND(G16*(1+$I$5),2) -> 281.69 | I16: =IF($B16="","",ROUND(F16*H16,2)) -> #REF!
A17: 2.7 | B17: CDHU | C17: 49.12.058 | D17: =IF($B17="","",VLOOKUP($C17,'190 DESONERADO'!$A$3:$G$4201,2,0)) -> Boca de leão simples tipo PMSP com grelha | E17: =IF($B17="","",VLOOKUP($C17,'197 ONERADO'!$A$3:$G$4201,3,0)) -> UN | F17: 22 | G17: =IF($B17="","",VLOOKUP($C17,'190 DESONERADO'!$A$3:$H$4201,6,0)) -> 2559.3 | H17: =ROUND(G17*(1+$I$5),2) -> 3305.59 | I17: =IF($B17="","",ROUND(F17*H17,2)) -> 72722.98
A18: 2.8 | B18: CDHU | C18: 49.12.110 | D18: =IF($B18="","",VLOOKUP($C18,'190 DESONERADO'!$A$3:$G$4201,2,0)) -> Poço de visita de 1,60 x 1,60 x 1,60 m - tipo PMSP | E18: =IF($B18="","",VLOOKUP($C18,'197 ONERADO'!$A$3:$G$4201,3,0)) -> UN | F18: 8 | G18: =IF($B18="","",VLOOKUP($C18,'190 DESONERADO'!$A$3:$H$4201,6,0)) -> 6094.08 | H18: =ROUND(G18*(1+$I$5),2) -> 7871.11 | I18: =IF($B18="","",ROUND(F18*H18,2)) -> 62968.88
A19: 2.9 | B19: CDHU | C19: 49.12.120 | D19: =IF($B19="","",VLOOKUP($C19,'190 DESONERADO'!$A$3:$G$4201,2,0)) -> Chaminé para poço de visita tipo PMSP em alvenaria, diâmetro interno 70 cm - pescoço | E19: =IF($B19="","",VLOOKUP($C19,'197 ONERADO'!$A$3:$G$4201,3,0)) -> M | F19: =F18*0.5 -> 4 | G19: =IF($B19="","",VLOOKUP($C19,'190 DESONERADO'!$A$3:$H$4201,6,0)) -> 616.56 | H19: =ROUND(G19*(1+$I$5),2) -> 796.35 | I19: =IF($B19="","",ROUND(F19*H19,2)) -> 3185.4
A20: 2.10 | B20: CDHU | C20: 49.06.420 | D20: =IF($B20="","",VLOOKUP($C20,'190 DESONERADO'!$A$3:$G$4201,2,0)) -> Tampão em ferro fundido, diâmetro de 600 mm, classe D 400 (ruptura> 400 kN) | E20: =IF($B20="","",VLOOKUP($C20,'197 ONERADO'!$A$3:$G$4201,3,0)) -> UN | F20: =F18 -> 8 | G20: =IF($B20="","",VLOOKUP($C20,'190 DESONERADO'!$A$3:$H$4201,6,0)) -> 514.65 | H20: =ROUND(G20*(1+$I$5),2) -> 664.72 | I20: =IF($B20="","",ROUND(F20*H20,2)) -> 5317.76
A21: 2.11 | B21: SIURB | C21: 06-66-01 | D21: Reforma de Boca de Leão simples | E21: un. | F21: 2 | G21: 923.89 | H21: =ROUND(G21*(1+$I$5),2) -> 1193.3 | I21: =IF($B21="","",ROUND(F21*H21,2)) -> 2386.6
A22: 3.0 | D22: RECOMPOSIÇÃO ASFÁLTICA | I22: =SUBTOTAL(9,I23:I29) -> #REF!
A23: 3.1 | B23: CDHU | C23: 54.06.040 | D23: =IF($B23="","",VLOOKUP($C23,'190 DESONERADO'!$A$3:$G$4201,2,0)) -> Guia pré-moldada reta tipo PMSP 100 - fck 25 MPa | E23: =IF($B23="","",VLOOKUP($C23,'197 ONERADO'!$A$3:$G$4201,3,0)) -> M | F23: =14*4 -> 56 | G23: =IF($B23="","",VLOOKUP($C23,'190 DESONERADO'!$A$3:$H$4201,6,0)) -> 53.4 | H23: =ROUND(G23*(1+$I$5),2) -> 68.97 | I23: =IF($B23="","",ROUND(F23*H23,2)) -> 3862.32
A24: 3.2 | B24: CDHU | C24: 54.06.170 | D24: =IF($B24="","",VLOOKUP($C24,'190 DESONERADO'!$A$3:$G$4201,2,0)) -> Sarjeta ou sarjetão moldado no local, tipo PMSP em concreto com fck 25 MPa | E24: =IF($B24="","",VLOOKUP($C24,'197 ONERADO'!$A$3:$G$4201,3,0)) -> M3 | F24: =#REF! -> #REF! | G24: =IF($B24="","",VLOOKUP($C24,'190 DESONERADO'!$A$3:$H$4201,6,0)) -> 813.2 | H24: =ROUND(G24*(1+$I$5),2) -> 1050.33 | I24: =IF($B24="","",ROUND(F24*H24,2)) -> #REF!
A25: 3.3 | B25: CDHU | C25: 54.01.050 | D25: =IF($B25="","",VLOOKUP($C25,'190 DESONERADO'!$A$3:$G$4201,2,0)) -> Compactação do subleito mínimo de 95% do PN | E25: =IF($B25="","",VLOOKUP($C25,'197 ONERADO'!$A$3:$G$4201,3,0)) -> m³ | F25: =#REF! -> #REF! | G25: =IF($B25="","",VLOOKUP($C25,'190 DESONERADO'!$A$3:$H$4201,6,0)) -> 22.27 | H25: =ROUND(G25*(1+$I$5),2) -> 28.76 | I25: =IF($B25="","",ROUND(F25*H25,2)) -> #REF!
A26: 3.4 | B26: CDHU | C26: 54.01.210 | D26: =IF($B26="","",VLOOKUP($C26,'190 DESONERADO'!$A$3:$G$4201,2,0)) -> Base de brita graduada | E26: =IF($B26="","",VLOOKUP($C26,'197 ONERADO'!$A$3:$G$4201,3,0)) -> m³ | F26: =#REF! -> #REF! | G26: =IF($B26="","",VLOOKUP($C26,'190 DESONERADO'!$A$3:$H$4201,6,0)) -> 244.09 | H26: =ROUND(G26*(1+$I$5),2) -> 315.27 | I26: =IF($B26="","",ROUND(F26*H26,2)) -> #REF!
A27: 3.5 | B27: CDHU | C27: 54.03.240 | D27: =IF($B27="","",VLOOKUP($C27,'190 DESONERADO'!$A$3:$G$4201,2,0)) -> Imprimação betuminosa impermeabilizante | E27: =IF($B27="","",VLOOKUP($C27,'197 ONERADO'!$A$3:$G$4201,3,0)) -> M2 | F27: =#REF! -> #REF! | G27: =IF($B27="","",VLOOKUP($C27,'190 DESONERADO'!$A$3:$H$4201,6,0)) -> 14.54 | H27: =ROUND(G27*(1+$I$5),2) -> 18.78 | I27: =IF($B27="","",ROUND(F27*H27,2)) -> #REF!
A28: 3.6 | B28: CDHU | C28: 54.03.230 | D28: =IF($B28="","",VLOOKUP($C28,'190 DESONERADO'!$A$3:$G$4201,2,0)) -> Imprimação betuminosa ligante | E28: =IF($B28="","",VLOOKUP($C28,'197 ONERADO'!$A$3:$G$4201,3,0)) -> M2 | F28: =F27 -> #REF! | G28: =IF($B28="","",VLOOKUP($C28,'190 DESONERADO'!$A$3:$H$4201,6,0)) -> 7.3 | H28: =ROUND(G28*(1+$I$5),2) -> 9.43 | I28: =IF($B28="","",ROUND(F28*H28,2)) -> #REF!
A29: 3.7 | B29: CDHU | C29: 54.03.210 | D29: =IF($B29="","",VLOOKUP($C29,'190 DESONERADO'!$A$3:$G$4201,2,0)) -> Camada de rolamento em concreto betuminoso usinado quente - CBUQ | E29: =IF($B29="","",VLOOKUP($C29,'197 ONERADO'!$A$3:$G$4201,3,0)) -> M3 | F29: =#REF! -> #REF! | G29: =IF($B29="","",VLOOKUP($C29,'190 DESONERADO'!$A$3:$H$4201,6,0)) -> 1541.7 | H29: =ROUND(G29*(1+$I$5),2) -> 1991.26 | I29: =IF($B29="","",ROUND(F29*H29,2)) -> #REF!
A30: 4.0 | D30: RECAPEAMENTO ASFÁLTICO | G30: =IF($B30="","",VLOOKUP($C30,'[1]BOLETIM 161'!$A$7:$F$4000,6,0)) | I30: =SUBTOTAL(9,I31:I34) -> #REF!
A31: 4.1 | B31: CDHU | C31: 54.06.170 | D31: =IF($B31="","",VLOOKUP($C31,'190 DESONERADO'!$A$3:$G$4201,2,0)) -> Sarjeta ou sarjetão moldado no local, tipo PMSP em concreto com fck 25 MPa | E31: =IF($B31="","",VLOOKUP($C31,'197 ONERADO'!$A$3:$G$4201,3,0)) -> M3 | F31: =#REF! -> #REF! | G31: =IF($B31="","",VLOOKUP($C31,'190 DESONERADO'!$A$3:$H$4201,6,0)) -> 813.2 | H31: =ROUND(G31*(1+$I$5),2) -> 1050.33 | I31: =IF($B31="","",ROUND(F31*H31,2)) -> #REF!
A32: 4.2 | B32: CDHU | C32: 03.07.050 | D32: =IF($B32="","",VLOOKUP($C32,'190 DESONERADO'!$A$3:$G$4201,2,0)) -> Fresagem de pavimento asfáltico com espessura até 5 cm, inclusive carregamento, transporte até 1 quilômetro e descarregamento | E32: =IF($B32="","",VLOOKUP($C32,'197 ONERADO'!$A$3:$G$4201,3,0)) -> M2 | F32: =#REF! -> #REF! | G32: =IF($B32="","",VLOOKUP($C32,'190 DESONERADO'!$A$3:$H$4201,6,0)) -> 10.13 | H32: =ROUND(G32*(1+$I$5),2) -> 13.08 | I32: =IF($B32="","",ROUND(F32*H32,2)) -> #REF!
A33: 4.3 | B33: CDHU | C33: 54.03.230 | D33: =IF($B33="","",VLOOKUP($C33,'190 DESONERADO'!$A$3:$G$4201,2,0)) -> Imprimação betuminosa ligante | E33: =IF($B33="","",VLOOKUP($C33,'197 ONERADO'!$A$3:$G$4201,3,0)) -> M2 | F33: =F32 -> #REF! | G33: =IF($B33="","",VLOOKUP($C33,'190 DESONERADO'!$A$3:$H$4201,6,0)) -> 7.3 | H33: =ROUND(G33*(1+$I$5),2) -> 9.43 | I33: =IF($B33="","",ROUND(F33*H33,2)) -> #REF!
A34: 4.4 | B34: CDHU | C34: 54.03.210 | D34: =IF($B34="","",VLOOKUP($C34,'190 DESONERADO'!$A$3:$G$4201,2,0)) -> Camada de rolamento em concreto betuminoso usinado quente - CBUQ | E34: =IF($B34="","",VLOOKUP($C34,'197 ONERADO'!$A$3:$G$4201,3,0)) -> M3 | F34: =#REF! -> #REF! | G34: =IF($B34="","",VLOOKUP($C34,'190 DESONERADO'!$A$3:$H$4201,6,0)) -> 1541.7 | H34: =ROUND(G34*(1+$I$5),2) -> 1991.26 | I34: =IF($B34="","",ROUND(F34*H34,2)) -> #REF!
A35: 5.0 | D35: ONDULAÇÕES TRANSVERSAIS | I35: =SUBTOTAL(9,I36:I38) -> #REF!
A36: 5.1 | B36: CDHU | C36: 54.03.230 | D36: =IF($B36="","",VLOOKUP($C36,'190 DESONERADO'!$A$3:$G$4201,2,0)) -> Imprimação betuminosa ligante | E36: =IF($B36="","",VLOOKUP($C36,'197 ONERADO'!$A$3:$G$4201,3,0)) -> M2 | F36: =#REF! -> #REF! | G36: =IF($B36="","",VLOOKUP($C36,'190 DESONERADO'!$A$3:$H$4201,6,0)) -> 7.3 | H36: =ROUND(G36*(1+$I$5),2) -> 9.43 | I36: =IF($B36="","",ROUND(F36*H36,2)) -> #REF!
A37: 5.2 | B37: CDHU | C37: 54.03.210 | D37: =IF($B37="","",VLOOKUP($C37,'190 DESONERADO'!$A$3:$G$4201,2,0)) -> Camada de rolamento em concreto betuminoso usinado quente - CBUQ | E37: =IF($B37="","",VLOOKUP($C37,'197 ONERADO'!$A$3:$G$4201,3,0)) -> M3 | F37: =#REF! -> #REF! | G37: =IF($B37="","",VLOOKUP($C37,'190 DESONERADO'!$A$3:$H$4201,6,0)) -> 1541.7 | H37: =ROUND(G37*(1+$I$5),2) -> 1991.26 | I37: =IF($B37="","",ROUND(F37*H37,2)) -> #REF!
A38: 5.3 | B38: CDHU | C38: 70.02.016 | D38: =IF($B38="","",VLOOKUP($C38,'190 DESONERADO'!$A$3:$G$4201,2,0)) -> Sinalização horizontal em massa termoplástica à quente por extrusão, espessura de 3,0 mm, para faixas | E38: =IF($B38="","",VLOOKUP($C38,'197 ONERADO'!$A$3:$G$4201,3,0)) -> M2 | F38: =#REF! -> #REF! | G38: =IF($B38="","",VLOOKUP($C38,'190 DESONERADO'!$A$3:$H$4201,6,0)) -> 108.92 | H38: =ROUND(G38*(1+$I$5),2) -> 140.68 | I38: =IF($B38="","",ROUND(F38*H38,2)) -> #REF!
A39: 6.0 | D39: TRAVESSIA ELEVADA DE PEDESTRES | I39: =SUBTOTAL(9,I40:I43) -> #REF!
A40: 6.1 | B40: CDHU | C40: 54.03.230 | D40: =IF($B40="","",VLOOKUP($C40,'190 DESONERADO'!$A$3:$G$4201,2,0)) -> Imprimação betuminosa ligante | E40: =IF($B40="","",VLOOKUP($C40,'197 ONERADO'!$A$3:$G$4201,3,0)) -> M2 | F40: =#REF! -> #REF! | G40: =IF($B40="","",VLOOKUP($C40,'190 DESONERADO'!$A$3:$H$4201,6,0)) -> 7.3 | H40: =ROUND(G40*(1+$I$5),2) -> 9.43 | I40: =IF($B40="","",ROUND(F40*H40,2)) -> #REF!
...

Sheet supera
A1: MUNICÍPIO DE SANTA BRANCA - Secretaria Municipal de Serviços, Obras e Transportes
A2: RUA PRUDENTE DE MORAES, 93, CENTRO, CEP 12380-000 - SANTA BRANCA - SP
A4: OBJETO: | D4: CONSTRUÇÃO DE TRAVESSIA NA RUA UM NO MUNICÍPIO DE SANTA BRANCA-SP.
A5: OBRA: | D5: EXECUÇÃO DE CONSTRUÇÃO DE TRAVESSIA SOBRE CÓRREGO
A6: COORDENADAS: | D6: LAT: -23,383211º ; LONG: -45,865523º
A7: LOCAL: | D7: RUA UM, CHÁCARAS SANTA TEREZINHA, SANTA BRANCA - SP
A8: ART: | D8: 2620240701822 (FISCALIZAÇÃO E ORÇAMENTO)
A9: REFERÊNCIA: | D9: BOLETIM CDHU 193 NÃO DESONERADA / TPU DER-SP 12-2023
A10: DBI: | D10: 0.23
A12: PLANILHA ORÇAMENTÁRIA
A14: ITEM | B14: CÓDIGO | C14: FONTE | D14: DESCRIÇÃO | E14: UNID. | F14: QUANT. | G14: VALOR UNIT. | H14: VALOR COM BDI | I14: TOTAL
A15: 1.0 | D15: SERVIÇOS PRELIMINARES | G15: =IF($C15="","",VLOOKUP($B15,'[1]BOLETIM 161'!$A$7:$F$4000,6,0)) | I15: =SUBTOTAL(9,I16:I19) -> 11412.94
A16: 1.1 | B16: 103689 | C16: SINAPI | D16: Fornecimento e instalação de placa de obra com chapa galvanizada e estrutura de madeira. AF_03/2022_PS | E16: m² | F16: 6 | G16: 320.49 | H16: =ROUND(G16*(1+$D$10),2) -> 394.2 | I16: =IF($C16="","",ROUND(F16*H16,2)) -> 2365.2
A17: 1.2 | B17: 02.01.180 | C17: CDHU | D17: =IF($C17="","",VLOOKUP($B17,'197 ONERADO'!$A$3:$G$4201,2,0)) -> Banheiro químico modelo Standard, com manutenção conforme exigências da CETESB | E17: =IF($C17="","",VLOOKUP($B17,'197 ONERADO'!$A$3:$G$4201,3,0)) -> UNMES | F17: 3 | G17: =IF($C17="","",VLOOKUP($B17,'197 ONERADO'!$A$3:$H$4201,6,0)) -> 1221.16 | H17: =ROUND(G17*(1+$D$10),2) -> 1502.03 | I17: =IF($C17="","",ROUND(F17*H17,2)) -> 4506.09 | L17: 02.10.060
A18: 1.3 | B18: 01.17.061 | C18: CDHU | D18: =IF($C18="","",VLOOKUP($B18,'197 ONERADO'!$A$3:$G$4201,2,0)) -> Projeto executivo de estrutura em formato A0 | E18: =IF($C18="","",VLOOKUP($B18,'197 ONERADO'!$A$3:$G$4201,3,0)) -> UN | F18: 1 | G18: =IF($C18="","",VLOOKUP($B18,'197 ONERADO'!$A$3:$H$4201,6,0)) -> 3431.33 | H18: =ROUND(G18*(1+$C$10),2) -> 3431.33 | I18: =IF($C18="","",ROUND(F18*H18,2)) -> 3431.33
A19: 1.4 | B19: 02.10.060 | C19: CDHU | D19: =IF($C19="","",VLOOKUP($B19,'197 ONERADO'!$A$3:$G$4201,2,0)) -> Locação de vias, calçadas, tanques e lagoas | E19: =IF($C19="","",VLOOKUP($B19,'197 ONERADO'!$A$3:$G$4201,3,0)) -> M2 | F19: ='BRÁS_ PONTE'!AG9 -> 497.9 | G19: =IF($C19="","",VLOOKUP($B19,'197 ONERADO'!$A$3:$H$4201,6,0)) -> 1.81 | H19: =ROUND(G19*(1+$D$10),2) -> 2.23 | I19: =IF($C19="","",ROUND(F19*H19,2)) -> 1110.32
A20: 2.0 | D20: TRAVESSIA (PONTE) | G20: =IF($C20="","",VLOOKUP($B20,'[1]BOLETIM 161'!$A$7:$F$4000,6,0)) | I20: =SUBTOTAL(9,I21:I35) -> #REF!
A21: 2.1 | B21: 07.01.060 | C21: CDHU | D21: =IF($C21="","",VLOOKUP($B21,'197 ONERADO'!$A$3:$G$4201,2,0)) -> Escavação e carga mecanizada em solo de 2ª categoria, em campo aberto | E21: =IF($C21="","",VLOOKUP($B21,'197 ONERADO'!$A$3:$G$4201,3,0)) -> M3 | F21: ='BRÁS_ PONTE'!AA5 -> 258.56 | G21: =IF($C21="","",VLOOKUP($B21,'197 ONERADO'!$A$3:$H$4201,6,0)) -> 34.37 | H21: =ROUND(G21*(1+$D$10),2) -> 42.28 | I21: =IF($C21="","",ROUND(F21*H21,2)) -> 10931.92
A22: 2.2 | B22: 07.11.020 | C22: CDHU | D22: =IF($C22="","",VLOOKUP($B22,'197 ONERADO'!$A$3:$G$4201,2,0)) -> Reaterro compactado mecanizado de vala ou cava com compactador | E22: =IF($C22="","",VLOOKUP($B22,'197 ONERADO'!$A$3:$G$4201,3,0)) -> M3 | F22: ='BRÁS_ PONTE'!AA15 -> 124 | G22: =IF($C22="","",VLOOKUP($B22,'197 ONERADO'!$A$3:$H$4201,6,0)) -> 7.05 | H22: =ROUND(G22*(1+$D$10),2) -> 8.67 | I22: =IF($C22="","",ROUND(F22*H22,2)) -> 1075.08
A23: 2.3 | B23: 11.18.140 | C23: CDHU | D23: =IF($C23="","",VLOOKUP($B23,'197 ONERADO'!$A$3:$G$4201,2,0)) -> Lastro e/ou fundação em rachão mecanizado | E23: =IF($C23="","",VLOOKUP($B23,'197 ONERADO'!$A$3:$G$4201,3,0)) -> M3 | F23: ='BRÁS_ PONTE'!F15 -> 53.13 | G23: =IF($C23="","",VLOOKUP($B23,'197 ONERADO'!$A$3:$H$4201,6,0)) -> 253.48 | H23: =ROUND(G23*(1+$D$10),2) -> 311.78 | I23: =IF($C23="","",ROUND(F23*H23,2)) -> 16564.87
A24: 2.4 | B24: 08.05.190 | C24: CDHU | D24: =IF($C24="","",VLOOKUP($B24,'197 ONERADO'!$A$3:$G$4201,2,0)) -> Manta geotêxtil com resistência à tração longitudinal de 16kN/m e transversal de 14kN/m | E24: =IF($C24="","",VLOOKUP($B24,'197 ONERADO'!$A$3:$G$4201,3,0)) -> M2 | F24: =(3*2+5.8)*8 -> 94.4 | G24: =IF($C24="","",VLOOKUP($B24,'197 ONERADO'!$A$3:$H$4201,6,0)) -> 23.43 | H24: =ROUND(G24*(1+$D$10),2) -> 28.82 | I24: =IF($C24="","",ROUND(F24*H24,2)) -> 2720.61
A25: 2.5 | B25: 15.05.520 | C25: CDHU | D25: =IF($C25="","",VLOOKUP($B25,'197 ONERADO'!$A$3:$G$4201,2,0)) -> Placas, vigas e pilares em concreto armado pré-moldado - fck= 35 MPa | E25: =IF($C25="","",VLOOKUP($B25,'197 ONERADO'!$A$3:$G$4201,3,0)) -> M3 | F25: ='BRÁS_ PONTE'!E39 -> 7.22 | G25: =IF($C25="","",VLOOKUP($B25,'197 ONERADO'!$A$3:$H$4201,6,0)) -> 3189.98 | H25: =ROUND(G25*(1+$D$10),2) -> 3923.68 | I25: =IF($C25="","",ROUND(F25*H25,2)) -> 28328.97
A26: 2.6 | B26: 26.11.08.01 | C26: TPU_DER-SP | D26: Barreira de segurança para obra de artes especial Conf. PP-DE_C01/293 | E26: m | F26: ='BRÁS_ PONTE'!C25 -> 18 | G26: 690.43 | H26: =ROUND(G26*(1+$C$10),2) -> 690.43 | I26: =IF($C26="","",ROUND(F26*H26,2)) -> 12427.74
A27: 2.7 | B27: Mercado | C27: Mercado | D27: Aduela de concreto armado pré-fabricado 2,50 x 2,50 m. | E27: m | F27: 16 | G27: ='COMP. 1'!#REF! -> #REF! | H27: =ROUND(G27*(1+$C$10),2) -> #REF! | I27: =IF($C27="","",ROUND(F27*H27,2)) -> #REF!
A28: 2.8 | B28: 09.02.020 | C28: CDHU | D28: =IF($C28="","",VLOOKUP($B28,'197 ONERADO'!$A$3:$G$4201,2,0)) -> Forma plana em compensado para estrutura convencional | E28: =IF($C28="","",VLOOKUP($B28,'197 ONERADO'!$A$3:$G$4201,3,0)) -> M2 | F28: ='BRÁS_ PONTE'!N7 -> 10.68 | G28: =IF($C28="","",VLOOKUP($B28,'197 ONERADO'!$A$3:$H$4201,6,0)) -> 199.12 | H28: =ROUND(G28*(1+$D$10),2) -> 244.92 | I28: =IF($C28="","",ROUND(F28*H28,2)) -> 2615.75
A29: 2.9 | B29: 11.01.160 | C29: CDHU | D29: =IF($C29="","",VLOOKUP($B29,'197 ONERADO'!$A$3:$G$4201,2,0)) -> Concreto usinado, fck = 30 MPa | E29: =IF($C29="","",VLOOKUP($B29,'197 ONERADO'!$A$3:$G$4201,3,0)) -> M3 | F29: ='BRÁS_ PONTE'!O7 -> 1.4 | G29: =IF($C29="","",VLOOKUP($B29,'197 ONERADO'!$A$3:$H$4201,6,0)) -> 534.82 | H29: =ROUND(G29*(1+$D$10),2) -> 657.83 | I29: =IF($C29="","",ROUND(F29*H29,2)) -> 920.96
A30: 2.10 | B30: 11.16.060 | C30: CDHU | D30: =IF($C30="","",VLOOKUP($B30,'197 ONERADO'!$A$3:$G$4201,2,0)) -> Lançamento e adensamento de concreto ou massa em estrutura | E30: =IF($C30="","",VLOOKUP($B30,'197 ONERADO'!$A$3:$G$4201,3,0)) -> M3 | F30: =F29 -> 1.4 | G30: =IF($C30="","",VLOOKUP($B30,'197 ONERADO'!$A$3:$H$4201,6,0)) -> 124.86 | H30: =ROUND(G30*(1+$D$10),2) -> 153.58 | I30: =IF($C30="","",ROUND(F30*H30,2)) -> 215.01
A31: 2.11 | B31: 10.01.040 | C31: CDHU | D31: =IF($C31="","",VLOOKUP($B31,'197 ONERADO'!$A$3:$G$4201,2,0)) -> Armadura em barra de aço CA-50 (A ou B) fyk = 500 MPa | E31: =IF($C31="","",VLOOKUP($B31,'197 ONERADO'!$A$3:$G$4201,3,0)) -> KG | F31: ='BRÁS_ PONTE'!Q7 -> 112 | G31: =IF($C31="","",VLOOKUP($B31,'197 ONERADO'!$A$3:$H$4201,6,0)) -> 10.75 | H31: =ROUND(G31*(1+$D$10),2) -> 13.22 | I31: =IF($C31="","",ROUND(F31*H31,2)) -> 1480.64
A32: 2.12 | B32: 01.23.232 | C32: CDHU | D32: =IF($C32="","",VLOOKUP($B32,'197 ONERADO'!$A$3:$G$4201,2,0)) -> Furação para 12,5mm x 150mm em concreto armado, inclusive colagem de armadura (para 10mm) | E32: =IF($C32="","",VLOOKUP($B32,'197 ONERADO'!$A$3:$G$4201,3,0)) -> UN | F32: ='BRÁS_ PONTE'!K12 -> 120 | G32: =IF($C32="","",VLOOKUP($B32,'197 ONERADO'!$A$3:$H$4201,6,0)) -> 21.67 | H32: =ROUND(G32*(1+$D$10),2) -> 26.65 | I32: =IF($C32="","",ROUND(F32*H32,2)) -> 3198
A33: 2.13 | B33: 54.01.210 | C33: CDHU | D33: =IF($C33="","",VLOOKUP($B33,'197 ONERADO'!$A$3:$G$4201,2,0)) -> Base de brita graduada | E33: =IF($C33="","",VLOOKUP($B33,'197 ONERADO'!$A$3:$G$4201,3,0)) -> m³ | F33: ='BRÁS_ PONTE'!AI9 -> 149.37 | G33: =IF($C33="","",VLOOKUP($B33,'197 ONERADO'!$A$3:$H$4201,6,0)) -> 268.31 | H33: =ROUND(G33*(1+$D$10),2) -> 330.02 | I33: =IF($C33="","",ROUND(F33*H33,2)) -> 49295.09
A34: 2.14 | B34: 08.10.108 | C34: CDHU | D34: =IF($C34="","",VLOOKUP($B34,'197 ONERADO'!$A$3:$G$4201,2,0)) -> Gabião tipo caixa em tela metálica, altura de 0,5 m, com revestimento liga zinco/alumínio, malha hexagonal 8/10 cm, fio diâmetro 2,7 mm, independente do formato ou utilização | E34: =IF($C34="","",VLOOKUP($B34,'197 ONERADO'!$A$3:$G$4201,3,0)) -> m³ | F34: =ROUND(6*6.9*0.5,2) -> 20.7 | G34: =IF($C34="","",VLOOKUP($B34,'197 ONERADO'!$A$3:$H$4201,6,0)) -> 940.14 | H34: =ROUND(G34*(1+$D$10),2) -> 1156.37 | I34: =IF($C34="","",ROUND(F34*H34,2)) -> 23936.86
A35: 2.15 | B35: 33.10.050 | C35: CDHU | D35: =IF($C35="","",VLOOKUP($B35,'197 ONERADO'!$A$3:$G$4201,2,0)) -> Tinta acrílica em massa, inclusive preparo | E35: =IF($C35="","",VLOOKUP($B35,'197 ONERADO'!$A$3:$G$4201,3,0)) -> m² | F35: ='BRÁS_ PONTE'!AO9 -> 73.66 | G35: =IF($C35="","",VLOOKUP($B35,'197 ONERADO'!$A$3:$H$4201,6,0)) -> 34.11 | H35: =ROUND(G35*(1+$D$10),2) -> 41.96 | I35: =IF($C35="","",ROUND(F35*H35,2)) -> 3090.77
B36: TOTAL GERAL | I36: =SUBTOTAL(9,I15:I35) -> #REF! | L36: =I36*0.97 -> #REF!
I39: Santa Branca, 16 de maio de 2024.
A41: Arthur Ribeiro Alvares Pimenta
A42: Secretário Municipal de Serviços, Obras e Transportes
A43: Engenheiro Civil - CREA/SP: 5069103559

Sheet 197 ONERADO
B1: COMPANHIA DE DESENVOLVIMENTO HABITACIONAL E URBANO
A2: DO ESTADO DE SÃO PAULO
A3: BOLETIM REFERENCIAL DE CUSTOS - TABELA DE SERVIÇOS
A4: SEM DESONERAÇÃO
F5: Versão 197
E6: Data Base: | F6: FEV/25
C7: BDI : | D7: 0 | E7: L.S.: | F7: 1.2823
A8: Referência | B8: Descrição | C8: Un | D8: Material | E8: Mão de Obra | F8: Custo Total
A9: 01 | B9: SERVICO TECNICO ESPECIALIZADO | G9: 2
A10: 01.02 | B10: Parecer técnico | G10: 5
A11: 01.02.071 | B11: Parecer técnico de fundações, contenções e recomendações gerais, para empreendimentos com área construída até 1.000 m² | C11: UN | E11: 6797.2 | F11: 6797.2 | G11: 9
A12: 01.02.081 | B12: Parecer técnico de fundações, contenções e recomendações gerais, para empreendimentos com área construída de 1.001 a 2.000 m² | C12: UN | E12: 9038.95 | F12: 9038.95 | G12: 9
A13: 01.02.091 | B13: Parecer técnico de fundações, contenções e recomendações gerais, para empreendimentos com área construída de 2.001 a 5.000 m² | C13: UN | E13: 15440.54 | F13: 15440.54 | G13: 9
A14: 01.02.101 | B14: Parecer técnico de fundações, contenções e recomendações gerais, para empreendimentos com área construída de 5.001 a 10.000 m² | C14: UN | E14: 21170.81 | F14: 21170.81 | G14: 9
A15: 01.02.111 | B15: Parecer técnico de fundações, contenções e recomendações gerais, para empreendimentos com área construída acima de 10.000 m² | C15: UN | E15: 24671.3 | F15: 24671.3 | G15: 9
A16: 01.06 | B16: Projeto de instalações elétricas | G16: 5
A17: 01.06.021 | B17: Elaboração de projeto de adequação de entrada de energia elétrica junto a concessionária, com medição em baixa tensão e demanda até 75 kVA | C17: UN | E17: 8682.2 | F17: 8682.2 | G17: 9
A18: 01.06.031 | B18: Elaboração de projeto de adequação de entrada de energia elétrica junto a concessionária, com medição em média tensão, subestação simplificada e demanda de 75 kVA a 300 kVA | C18: UN | E18: 14706.14 | F18: 14706.14 | G18: 9
A19: 01.06.032 | B19: Elaboração de projeto de adequação de entrada de energia elétrica junto a concessionária, com medição em média tensão e demanda de 75 kVA a 300 kVA | C19: UN | E19: 19900 | F19: 19900 | G19: 9
A20: 01.06.041 | B20: Elaboração de projeto de adequação de entrada de energia elétrica junto a concessionária, com medição em média tensão e demanda acima de 300 kVA a 2 MVA | C20: UN | E20: 26469.2 | F20: 26469.2 | G20: 9
A21: 01.17 | B21: Projeto executivo | G21: 5
A22: 01.17.031 | B22: Projeto executivo de arquitetura em formato A1 | C22: UN | E22: 3419.6 | F22: 3419.6 | G22: 9
A23: 01.17.041 | B23: Projeto executivo de arquitetura em formato A0 | C23: UN | E23: 4622.97 | F23: 4622.97 | G23: 9
A24: 01.17.051 | B24: Projeto executivo de estrutura em formato A1 | C24: UN | E24: 2507.91 | F24: 2507.91 | G24: 9
A25: 01.17.061 | B25: Projeto executivo de estrutura em formato A0 | C25: UN | E25: 3431.33 | F25: 3431.33 | G25: 9
A26: 01.17.071 | B26: Projeto executivo de instalações hidráulicas em formato A1 | C26: UN | E26: 1076.66 | F26: 1076.66 | G26: 9
A27: 01.17.081 | B27: Projeto executivo de instalações hidráulicas em formato A0 | C27: UN | E27: 1433.17 | F27: 1433.17 | G27: 9
A28: 01.17.111 | B28: Projeto executivo de instalações elétricas em formato A1 | C28: UN | E28: 1195.58 | F28: 1195.58 | G28: 9
A29: 01.17.121 | B29: Projeto executivo de instalações elétricas em formato A0 | C29: UN | E29: 1657.76 | F29: 1657.76 | G29: 9
A30: 01.17.151 | B30: Projeto executivo de climatização em formato A1 | C30: UN | E30: 2301.27 | F30: 2301.27 | G30: 9
A31: 01.17.161 | B31: Projeto executivo de climatização em formato A0 | C31: UN | E31: 3136.88 | F31: 3136.88 | G31: 9
A32: 01.17.171 | B32: Projeto executivo de chuveiros automáticos em formato A1 | C32: UN | E32: 1986.79 | F32: 1986.79 | G32: 9
A33: 01.17.181 | B33: Projeto executivo de chuveiros automáticos em formato A0 | C33: UN | E33: 2568.01 | F33: 2568.01 | G33: 9
A34: 01.20 | B34: Levantamento topográfico e geofísico | G34: 5
A35: 01.20.010 | B35: Taxa de mobilização e desmobilização de equipamentos para execução de levantamento topográfico | C35: TX | D35: 1148.01 | F35: 1148.01 | G35: 9
A36: 01.20.280 | B36: Levantamento planimétrico de área pavimentada para veículo e pedestre | C36: M2 | D36: 0.05 | E36: 0.16 | F36: 0.21 | G36: 9
A37: 01.20.691 | B37: Levantamento planimétrico cadastral com áreas ocupadas predominantemente por comunidades - área até 20.000 m² (mínimo de 3.500 m²) | C37: M2 | D37: 0.39 | E37: 0.56 | F37: 0.95 | G37: 9
A38: 01.20.701 | B38: Levantamento planimétrico cadastral com áreas ocupadas predominantemente por comunidades - área acima de 20.000 m² até 200.000 m² | C38: M2 | D38: 0.32 | E38: 0.42 | F38: 0.74 | G38: 9
A39: 01.20.711 | B39: Levantamento planimétrico cadastral com áreas ocupadas predominantemente por comunidades - área acima de 200.000 m² | C39: M2 | D39: 0.26 | E39: 0.35 | F39: 0.61 | G39: 9
A40: 01.20.721 | B40: Levantamento planimétrico cadastral com áreas até 50% de ocupação - área até 20.000 m² (mínimo de 3.500 m²) | C40: M2 | D40: 0.35 | E40: 0.48 | F40: 0.83 | G40: 9
...

Sheet COMP. 1
B1: MUNICÍPIO DE SANTA BRANCA - Secretaria Municipal de Serviços, Obras e Transportes
B2: RUA PRUDENTE DE MORAES, 93, CENTRO, CEP 12380-000 - SANTA BRANCA - SP
B4: OBJETO: | C4: CONSTRUÇÃO DE TRAVESSIAS NO MUNICÍPIO DE SANTA BRANCA-SP.
B5: OBRA: | C5: EXECUÇÃO DE CONSTRUÇÃO DE TRAVESSIA SOBRE CÓRREGO
B6: COORDENADAS: | C6: LAT: -23,376161º ; LONG: -45,888189º
B7: LOCAL: | C7: AVENIDA BENEDITO JOSÉ DE SOUZA, JARDIM SELMA, SANTA BRANCA - SP
B8: ART: | C8: 2620240701750 (FISCALIZAÇÃO E ORÇAMENTO)
B9: REFERÊNCIA: | C9: BOLETIM CDHU 193 NÃO DESONERADA / TPU DER-SP 12-2023
B11: COMPOSIÇÃO DE PREÇO
B14: TABELA DE VALORES DO INSUMO ADUELA DE CONCRETO ARMADO PRÉ-MOLDADO
B15: Empresa | C15: Elemento | D15: Valor
B16: FK Comércio | C16: Aduela de concreto armado pré-moldada, secção 2,50 x 2,50 m³, mísulas 20x20 cm | D16: 4671
B17: Fermix Soluções em, Drenagem | C17: Aduela de concreto armado pré-moldada, secção 2,50 x 2,50 m³, mísulas 20x20 cm | D17: 6012
B18: 3JD Representação Comercial LTDA | C18: Aduela de concreto armado pré-moldada, secção 2,50 x 2,50 m³, mísulas 20x20 cm | D18: 5169
B19: MÉDIA | D19: =AVERAGE(D16:E18) -> 5284
L21: =AVERAGE(D16:D18) -> 5284
H23: Santa Branca, 09 de maio de 2025.
B28: Arthur Ribeiro Alvares Pimenta
B29: Secretário Municipal de Serviços, Obras e Transportes
B30: Engenheiro Civil - CREA/SP: 5069103559
B38: B.01.000.020115 | C38: Engenheiro junior de civil | D38: h | E38: 0.1 | F38: 52.63 | G38: =ROUND(2.2823*F38,2) -> 120.12 | H38: =ROUND(E38*G38,2) -> 12.01
B39: B.01.000.020118 | C39: Engenheiro senior de civil | D39: h | E39: 0.06 | F39: 88.24 | G39: =ROUND(2.2823*F39,2) -> 201.39 | H39: =ROUND(E39*G39,2) -> 12.08
B46: COMPOSIÇÃO ORIGINAL
B47: Código | C47: Descrição | D47: Unidade | E47: Quant. | F47: Valor Unit. | G47: Encargos | H47: Total
B48: 15.05.520 | C48: Placas, vigas e pilares em concreto armado pré-moldado - fck= 35 MPa | D48: m³ | E48: 1 | G48: 1.2823 | H48: =SUM(H49:H84) -> 3108.47
B49: B.01.000.010111 | C49: Carpinteiro | D49: h | E49: 1.74 | F49: 10.86 | G49: =ROUND(2.2823*F49,2) -> 24.79 | H49: =ROUND(E49*G49,2) -> 43.13
B50: B.01.000.010121 | C50: Ferreiro/armador | D50: h | E50: 7.944 | F50: 10.86 | G50: =ROUND(2.2823*F50,2) -> 24.79 | H50: =ROUND(E50*G50,2) -> 196.93
B51: B.01.000.010122 | C51: Ajudante de ferreiro | D51: h | E51: 6.358 | F51: 8.92 | G51: =ROUND(2.2823*F51,2) -> 20.36 | H51: =ROUND(E51*G51,2) -> 129.45
B52: B.01.000.010139 | C52: Pedreiro | D52: h | E52: 6.76 | F52: 10.86 | G52: =ROUND(2.2823*F52,2) -> 24.79 | H52: =ROUND(E52*G52,2) -> 167.58
B53: B.01.000.010146 | C53: Servente | D53: h | E53: 8.59 | F53: 8.92 | G53: =ROUND(2.2823*F53,2) -> 20.36 | H53: =ROUND(E53*G53,2) -> 174.89
B54: B.01.000.020112 | C54: Coordenador de projetos | D54: h | E54: 0.03 | F54: 149.68 | G54: =ROUND(2.2823*F54,2) -> 341.61 | H54: =ROUND(E54*G54,2) -> 10.25
B55: B.01.000.020115 | C55: Engenheiro junior de civil | D55: h | E55: 0.1 | F55: 52.63 | G55: =ROUND(2.2823*F55,2) -> 120.12 | H55: =ROUND(E55*G55,2) -> 12.01
B56: B.01.000.020118 | C56: Engenheiro senior de civil | D56: h | E56: 0.06 | F56: 88.24 | G56: =ROUND(2.2823*F56,2) -> 201.39 | H56: =ROUND(E56*G56,2) -> 12.08
B57: B.01.000.020121 | C57: Projetista pleno - nível técnico | D57: h | E57: 0.4 | F57: 48.69 | G57: =ROUND(2.2823*F57,2) -> 111.13 | H57: =ROUND(E57*G57,2) -> 44.45
B58: B.01.000.020122 | C58: Desenhista pleno/cadista | D58: h | E58: 0.7 | F58: 22.55 | G58: =ROUND(2.2823*F58,2) -> 51.47 | H58: =ROUND(E58*G58,2) -> 36.03
B59: B.02.000.020508 | C59: Cimento CPII-E-32 (sacos de 50 kg) | D59: kg | E59: 12.13 | F59: 0.6 | G59: =F59 -> 0.6 | H59: =ROUND(E59*G59,2) -> 7.28
B60: B.04.000.020503 | C60: Areia média lavada (a granel caçamba fechada) | D60: m³ | E60: 0.0324 | F60: 157.47 | G60: =F60 -> 157.47 | H60: =ROUND(E60*G60,2) -> 5.1
B61: B.05.000.020518 | C61: Pedra britada nº médios 1.2.3 e 4 (a granel) | D61: m³ | E61: 0.052 | F61: 137.77 | G61: =F61 -> 137.77 | H61: =ROUND(E61*G61,2) -> 7.16
B62: B.05.000.020522 | C62: Pedrisco | D62: m³ | E62: 0.01 | F62: 151.05 | G62: =F62 -> 151.05 | H62: =ROUND(E62*G62,2) -> 1.51
B63: B.06.000.021525 | C63: Aço CA-50-A $MD bitolas | D63: kg | E63: 52 | F63: 6.76 | G63: =F63 -> 6.76 | H63: =ROUND(E63*G63,2) -> 351.52
...

Sheet BDI-ONER.
B2: DEMONSTRATIVO DE COMPOSIÇÃO DO BDI (acórdào 2622/2013-TCU-Plenário) | O2: =1100 -> 1100 | P2: 5.5 | Q2: =O2/P2 -> 200
B4: Prefeitura do Município de Santa Branca
B5: Processo nº | L5: Verificar!
B6: Convênio nº
B7: Data da Elaboração: 21/05/2024
B8: Objeto: Construção de uma travessia (ponte) de concreto armado sobre o Córrego do Angola, na Avenida Benedito José de Souza, Jardim Selma, no Município de Santa Branca.
B10: Cálculo do BDI - SEM DESONERAÇÃO Fórmula e parâmetros estabelecidos pelo Acórdão 2622/2013-TCU-Plenário
B12: Item | C12: 1º quartil | D12: 3º quartil | E12: Médio | F12: Identificação
B13: AC | C13: 3.8 | D13: 4.67 | E13: 4.67 | F13: Administração Central
B14: S e G | C14: 0.32 | D14: 0.74 | E14: 0.74 | F14: Seguro e Garantia
B15: R | C15: 0.5 | D15: 0.97 | E15: 0.97 | F15: Risco
B16: DF | C16: 1.02 | D16: 1.21 | E16: 1.21 | F16: Despesas Financeiras
B17: L | C17: 6.64 | D17: 8.69 | E17: 7.79 | F17: Lucro
B18: I * | C18: conforme legislação | E18: =C33 -> 5.65 | F18: Tributos *
D20: TOTAL | E20: =IF(OR(C32="",E13="",E14="",E15="",E16="",E17=""),0,ROUND((((1+E13/100+E14/100+E15/100)*(1+E16/100)*(1+E17/100)/(1-(C33/100)))-1)*100,2)) -> 23 | F20: BDI A SER ADOTADO (sem desoneração)
B22: Verificação: | C22: =IF(OR(C32="",E13="",E14="",E15="",E16="",E17=""),0,IF(OR(ROUND((((1+E13/100+E14/100+E15/100)*(1+E16/100)*(1+E17/100)/(1-((C33-C31)/100)))-1)*100,2)>24.23,ROUND((((1+E13/100+E14/100+E15/100)*(1+E16/100)*(1+E17/100)/(1-((C33-C31)/100)))-1)*100,2)<19.6),"FORA DO LIMITE !",ROUND((((1+E13/100+E14/100+E15/100)*(1+E16/100)*(1+E17/100)/(1-((C33-C31)/100)))-1)*100,2))) -> 23 | D22: ← limite 19,60% a 24,23% (sem desoneração)
C23: =IF(C22="FORA DO LIMITE !",ROUND((((1+E13/100+E14/100+E15/100)*(1+E16/100)*(1+E17/100)/(1-((C33-C31)/100)))-1)*100,2)/100,"")
B24: * Em geral, os tributos ( I ) aplicáveis são PIS (0,65%), COFINS (3%) e ISS (variável, conforme
B25: Município, de 2 a 5% e, em alguns casos, isento).
B26: ** Caso a empresa seja tributada de forma diferente, alterar os valores abaixo:
B28: TRIBUTOS | C28: %
B29: PIS** | C29: 0.65
B30: COFINS** | C30: 3
B31: Cont. Previd. | D31: (Contribuição Previdenciária sobre a receita bruta, no caso de desoneração na folha)
B32: ISS | C32: =IF(OR(H36="",J35=""),"",IF(ROUND(J35*H36*100,2)>5,"ERRO",(ROUND(J35*H36*100,2)))) -> 2
B33: Total | C33: =IF(C32="","",SUM(C29:C32)) -> 5.65
B35: Declaramos que, conforme legislação tributária municipal, a base de cálculo do ISS é de | J35: 1
B36: sobre o valor da obra e a aliquota do ISS aplicável no Município é de | H36: 0.02 | I36: ← (limitado a 5,00%)
B38: FÓRMULA
B40: BDI calculado pela expressão: BDI = { [ (1+AC/100+S/100+R/100+G/100) x (1+DF/100) x (1+L/100) / (1-I/100)] -1} x 100
B44: Declaramos sob pena da Lei que a alternativa adotada pela Prefeitura do Município de Santa Branca é Sem Desoneração e que é a mais vantajosa para a Administração Pública.
J46: Santa Branca, 29 de maio de 2024.
B51: Arthur Ribeiro Alvares Pimenta
B52: Responsável Técnico
B53: CREA/SP: 5069103559

Sheet PLANILHA SELMA
C1: MUNICÍPIO DE SANTA BRANCA - Secretaria Municipal de Serviços, Obras e Transportes
C4: RUA PRUDENTE DE MORAES, 93, CENTRO, CEP 12380-000 - SANTA BRANCA - SP
A6: OBJETO: | C6: CONSTRUÇÃO DE TRAVESSIA NA AVENIDA BENEDITO JOSÉ DE SOUZA NO MUNICÍPIO DE SANTA BRANCA-SP.
A7: OBRA: | C7: EXECUÇÃO DE CONSTRUÇÃO DE TRAVESSIA SOBRE CÓRREGO
A8: COORDENADAS: | C8: LAT: -23,376161º ; LONG: -45,888189º
A9: LOCAL: | C9: AVENIDA BENEDITO JOSÉ DE SOUZA, JARDIM SELMA, SANTA BRANCA - SP
A10: ART: | C10: 2620240701750 (FISCALIZAÇÃO E ORÇAMENTO)
A11: REFERÊNCIA: | C11: Tabela de Preços Unitários TPU DER-SP 10-2024
A12: BDI: | C12: 0.35
A13: REFERÊNCIA: | C13: BOLETIM CDHU 197 NÃO DESONERADA
A14: BDI: | C14: 0.23
A15: PLANILHA ORÇAMENTÁRIA - TRAVESSIA JD. SELMA
A16: ITEM | B16: CÓDIGO | C16: FONTE | D16: DESCRIÇÃO | E16: UNID. | F16: QUANT. | G16: VALOR UNIT. | H16: VALOR COM BDI | I16: EXECUTADO | J16: TOTAL
A17: 1.0 | B17: SERVIÇOS PRELIMINARES
A18: 1.1 | B18: 28.08.01.01 | C18: TPU_DER-SP | D18: Confecção. Montagem e instalação de placa institucional | E18: m² | F18: 6 | G18: 362.06 | H18: =G18 -> 362.06 | J18: =IF($C18="","",ROUND(F18*H18,2)) -> 2172.36
A19: 1.2 | B19: 02.01.180 | C19: CDHU | D19: =IF($C19="","",VLOOKUP($B19,'197 ONERADO'!$A$3:$G$4201,2,0)) -> Banheiro químico modelo Standard, com manutenção conforme exigências da CETESB | E19: un.mês | F19: 3 | G19: =IF($C19="","",VLOOKUP($B19,'197 ONERADO'!$A$3:$H$4201,6,0)) -> 1221.16 | H19: =ROUND(G19*(1+$C$14),2) -> 1502.03 | J19: =IF($C19="","",ROUND(F19*H19,2)) -> 4506.09
A20: 1.3 | B20: 02.02.150 | C20: CDHU | D20: =IF($C20="","",VLOOKUP($B20,'197 ONERADO'!$A$3:$G$4201,2,0)) -> Locação de container tipo depósito - área mínima de 13,80 m² | E20: un.mês | F20: 3 | G20: =IF($C20="","",VLOOKUP($B20,'197 ONERADO'!$A$3:$H$4201,6,0)) -> 952.59 | H20: =ROUND(G20*(1+$C$14),2) -> 1171.69 | J20: =IF($C20="","",ROUND(F20*H20,2)) -> 3515.07
A21: 1.4 | B21: 72.31.06.01 | C21: TPU_DER-SP | D21: Grupo gerador portátil 7 kVA Cond. A | E21: h | F21: =8*20 -> 160 | G21: 13.02 | H21: =G21 -> 13.02 | J21: =IF($C21="","",ROUND(F21*H21,2)) -> 2083.2
A22: 1.5 | B22: 01.17.061 | C22: CDHU | D22: =IF($C22="","",VLOOKUP($B22,'197 ONERADO'!$A$3:$G$4201,2,0)) -> Projeto executivo de estrutura em formato A0 | E22: un | F22: 1 | G22: =IF($C22="","",VLOOKUP($B22,'197 ONERADO'!$A$3:$H$4201,6,0)) -> 3431.33 | H22: =ROUND(G22*(1+$C$14),2) -> 4220.54 | J22: =IF($C22="","",ROUND(F22*H22,2)) -> 4220.54
A23: 1.6 | B23: 02.10.020 | C23: CDHU | D23: =IF($C23="","",VLOOKUP($B23,'197 ONERADO'!$A$3:$G$4201,2,0)) -> Locação de obra de edificação | E23: m² | F23: ='JD. SELMA. - PONTE'!AB9 -> 606.86 | G23: =IF($C23="","",VLOOKUP($B23,'197 ONERADO'!$A$3:$H$4201,6,0)) -> 17.82 | H23: =ROUND(G23*(1+$C$14),2) -> 21.92 | J23: =IF($C23="","",ROUND(F23*H23,2)) -> 13302.37
I24: Subtotal 1.0 | J24: =SUBTOTAL(9,J18:J23) -> 29799.63
A25: 2.0 | B25: MOVIMENTAÇÃO DE SOLO
A26: 2.1 | B26: 22.02.01 | C26: TPU_DER-SP | D26: Escavação e carga de material de 1/2ª categoria | E26: m³ | F26: ='JD. SELMA. - PONTE'!V4 -> 258.56 | G26: 12.06 | H26: =G26 -> 12.06 | J26: =IF($C26="","",ROUND(F26*H26,2)) -> 3118.23 | N26: =F26*5 -> 1292.8
A27: 2.2 | B27: 22.03.03 | C27: TPU_DER-SP | D27: Transporte de 1ª e 2ª categoria até 5 km | E27: m³.km | F27: =F26*5 -> 1292.8 | G27: 4.17 | H27: =G27 -> 4.17 | J27: =IF($C27="","",ROUND(F27*H27,2)) -> 5390.98 | M27: 1292.8 | N27: =M27/F27 -> 1
I28: Subtotal 2.0 | J28: =SUBTOTAL(9,J26:J27) -> 8509.21
A29: 3.0 | B29: INFRAESTRUTURA | L29: =0.6*8*2 -> 9.6
A30: 3.1 | B30: 24.12.03 | C30: TPU_DER-SP | D30: Enchimento de vala com pedra marroada | E30: m³ | F30: =ROUND(11*6.9*0.7,2) -> 53.13 | G30: 197.28 | H30: =G30 -> 197.28 | J30: =IF($C30="","",ROUND(F30*H30,2)) -> 10481.49
A31: 3.2 | B31: 24.12.01.01 | C31: TPU_DER-SP | D31: Enchimento de vala com pedra britada 1 e 2 | E31: m³ | F31: =ROUND(11*6.9*0.1,2) -> 7.59 | G31: 224.39 | H31: =G31 -> 224.39 | J31: =IF($C31="","",ROUND(F31*H31,2)) -> 1703.12 | L31: =2*2.9*8 -> 46.4 | M31: =2*0.2*8 -> 3.2 | N31: 44.8 | O31: =L31+M31+N31 -> 94.4
I32: Subtotal 3.0 | J32: =SUBTOTAL(9,J30:J31) -> 12184.61
A33: 4.0 | B33: ESTRUTURA
A34: 4.1 | B34: Insumo | C34: Mercado | D34: Aduela de concreto armado pré-fabricado 2,50 x 2,50 m. | E34: m | F34: 16 | G34: 5284 | H34: =ROUND(G34*(1+$C$14),2) -> 6499.32 | J34: =IF($C34="","",ROUND(F34*H34,2)) -> 103989.12
A35: 4.2 | B35: 72.33.02.04 | C35: TPU_DER-SP | D35: Guindaste Hidráulico Lança Telescópica. S/PN 27,2 t, Cond. D | E35: h | F35: =16 -> 16 | G35: 394.8 | H35: 420.02 | J35: =IF($C35="","",ROUND(F35*H35,2)) -> 6720.32 | L35: =2.24*2.5 -> 5.6 | M35: =L35*5 -> 28 | N35: =2.24*2.5 -> 5.6
A36: 4.3 | B36: 24.14.01.05 | C36: TPU_DER-SP | D36: Manta Geotextil não tecida, resistência longitudinal 14 kN/m | E36: m² | F36: =44.8+40+9.6 -> 94.4 | G36: 11.02 | H36: =G36 -> 11.02 | J36: =IF($C36="","",ROUND(F36*H36,2)) -> 1040.29 | L36: =12.8*8 -> 102.4
A37: 4.4 | B37: 25.09.05 | C37: TPU_DER-SP | D37: Concreto fck = 25 MPa | E37: m³ | F37: ='JD. SELMA. - PONTE'!F48 -> 7.22 | G37: 850.23 | H37: =G37 -> 850.23 | J37: =IF($C37="","",ROUND(F37*H37,2)) -> 6138.66
A38: 4.5 | B38: 26.05.01 | C38: TPU_DER-SP | D38: Forma plana para concreto armado comum | E38: m² | F38: ='JD. SELMA. - PONTE'!E48 -> 42.88 | G38: 172.85 | H38: =G38 -> 172.85 | J38: =IF($C38="","",ROUND(F38*H38,2)) -> 7411.81
A39: 4.6 | B39: 26.06.02 | C39: TPU_DER-SP | D39: Barra de aço CA-50 | E39: kg | F39: ='JD. SELMA. - PONTE'!H48 -> 577.6 | G39: 15.27 | H39: =G39 -> 15.27 | J39: =IF($C39="","",ROUND(F39*H39,2)) -> 8819.95
I40: Subtotal 4.0 | J40: =SUBTOTAL(9,J34:J39) -> 134120.15
A41: 5.0 | B41: LAJE DE FUNDO
A42: 5.1 | B42: 25.09.05 | C42: TPU_DER-SP | D42: Concreto fck = 25 MPa | E42: m³ | F42: 9.28 | G42: 850.23 | H42: =G42 -> 850.23 | J42: =ROUND(F42*H42,2) -> 7890.13
A43: 5.2 | B43: 26.05.01 | C43: TPU_DER-SP | D43: Forma plana para concreto armado comum | E43: m² | F43: 5.6 | G43: 172.85 | H43: =G43 -> 172.85 | J43: =ROUND(F43*H43,2) -> 967.96
...

Sheet CFF_SELMA
B2: CRONOGRAMA FÍSICO FINANCEIRO DE EXECUÇÃO DOS SERVIÇOS
B3: Obra: CONSTRUÇÃO DE TRAVESSIAS SOBRE OS CÓRREGOS DO ANGOLA E DO BRÁS FERNANDES, SANTA BRANCA - SP
B4: Item | C4: Descrição | D4: 1º Mês | J4: 2º Mês | P4: 3º Mês | V4: 4º Mês
D5: 5 | E5: 10 | F5: 15 | G5: 20 | H5: 25 | I5: 30 | J5: 5 | K5: 10 | L5: 15 | M5: 20 | N5: 25 | O5: 30 | P5: 5 | Q5: 10 | R5: 15 | S5: 20 | T5: 25 | U5: 30 | V5: 5 | W5: 10 | X5: 15 | Y5: 20 | Z5: 25 | AA5: 30
B6: 1.0 | C6: Serviços preliminares | D6: Mobilização
B7: 2.0 | C7: Movimentação de solo
B8: 3.0 | C8: Infraestrutura
B9: 4.0 | C9: Estrutura
B10: 5.0 | C10: Laje de fundo
B11: 6.0 | C11: Viga unha
B12: 7.0 | C12: Viga testa
B13: 8.0 | C13: Enrocamento à jusante
B14: 9.0 | C14: Guarda-corpo
B15: 10.0 | C15: Serviços complementares
B16: Porcentagem Aplicada no Mês | D16: 0 | J16: =ROUNDDOWN(J17/$D$18,4) -> 0.1389 | P16: =ROUND(P17/$D$18,4) -> 0.4551 | V16: =ROUND(V17/$D$18,4) -> 0.4059
B17: RECURSO ESTADUAL | D17: 0 | J17: ='PLANILHA SELMA'!J24+'PLANILHA SELMA'!J28+'PLANILHA SELMA'!J32 -> 50493.45 | P17: ='PLANILHA SELMA'!J40+'PLANILHA SELMA'!J45+'PLANILHA SELMA'!J50+'PLANILHA SELMA'!J55 -> 165405.29 | V17: ='PLANILHA SELMA'!J58+'PLANILHA SELMA'!J64+'PLANILHA SELMA'!J75 -> 147521.58 | AI17: =J17+P17+V17 -> 363420.32
B18: VALOR TOTAL | D18: =J17+P17+V17 -> 363420.32
AA20: Santa Branca, 09 de maio de 2025.
H22: Arthur Ribeiro Alvares Pimenta
H23: Secretário Municipal de Serviços, Obras e Transportes
H24: Engenheiro Civil - CREA/SP: 5069103559
AI28: =D28+J28+P28+V28+AB28 -> 0
B29: TOTAL | D29: ='PLANILHA SELMA'!J17 -> 0 | J29: ='PLANILHA SELMA'!J17 -> 0 | P29: ='PLANILHA SELMA'!J25 -> 0

Sheet COMP. 2
B1: MUNICÍPIO DE SANTA BRANCA - Secretaria Municipal de Serviços, Obras e Transportes
B2: RUA PRUDENTE DE MORAES, 93, CENTRO, CEP 12380-000 - SANTA BRANCA - SP
B4: OBJETO: | C4: CONSTRUÇÃO DE TRAVESSIAS NO MUNICÍPIO DE SANTA BRANCA-SP.
B5: OBRA: | C5: EXECUÇÃO DE CONSTRUÇÃO DE TRAVESSIA SOBRE CÓRREGO
B6: COORDENADAS: | C6: LAT: -23,376161º ; LONG: -45,888189º
B7: LOCAL: | C7: AVENIDA BENEDITO JOSÉ DE SOUZA, JARDIM SELMA, SANTA BRANCA - SP
B8: ART: | C8: 2620240701822 (FISCALIZAÇÃO E ORÇAMENTO)
B9: REFERÊNCIA: | C9: BOLETIM CDHU 193 NÃO DESONERADA / TPU DER-SP 12-2023
B11: COMPOSIÇÃO DE PREÇO
B14: TABELA DE VALORES DO INSUMO ADUELA DE CONCRETO ARMADO PRÉ-MOLDADO
B15: Empresa | C15: Elemento | D15: Valor
B16: Fermix Soluções em Drenagem | C16: Aduela de concreto armado pré-moldada, secção 2,50 x 2,50 m³, mísulas 20x20 cm | D16: 5845
B17: Jesus de Mari Artefatos de Cimento LTDA | C17: Aduela de concreto armado pré-moldada, secção 2,50 x 2,50 m³, mísulas 20x20 cm | D17: 5712
B18: Copel Construçoes e Induustria e Comércio LTDA | C18: Aduela de concreto armado pré-moldada, secção 2,50 x 2,50 m³, mísulas 20x20 cm | D18: 7900
B19: MÉDIA | D19: =AVERAGE(D16:D18) -> 6485.6667
H22: Santa Branca, 29 de maio de 2024.
B27: Arthur Ribeiro Alvares Pimenta
B28: Secretário Municipal de Serviços, Obras e Transportes
B29: Engenheiro Civil - CREA/SP: 5069103559

Sheet BDI-BRAS
B2: DEMONSTRATIVO DE COMPOSIÇÃO DO BDI (acórdào 2622/2013-TCU-Plenário)
B4: Prefeitura do Município de Santa Branca
B5: Processo nº
B6: Convênio nº
B7: Data da Elaboração: 21/05/2024
B8: Objeto: Construção de uma travessia (ponte) sobre o córrego da bacia do Taboão, na Rua Um, Chácaras Santa Terezinha, no Município de Santa Branca.
B10: Cálculo do BDI - SEM DESONERAÇÃO Fórmula e parâmetros estabelecidos pelo Acórdão 2622/2013-TCU-Plenário
B12: Item | C12: 1º quartil | D12: 3º quartil | E12: Médio | F12: Identificação
B13: AC | C13: 3.8 | D13: 4.67 | E13: 4.67 | F13: Administração Central
B14: S e G | C14: 0.32 | D14: 0.74 | E14: 0.74 | F14: Seguro e Garantia
B15: R | C15: 0.5 | D15: 0.97 | E15: 0.97 | F15: Risco
B16: DF | C16: 1.02 | D16: 1.21 | E16: 1.21 | F16: Despesas Financeiras
B17: L | C17: 6.64 | D17: 8.69 | E17: 7.79 | F17: Lucro
B18: I * | C18: conforme legislação | E18: =C33 -> 5.65 | F18: Tributos *
D20: TOTAL | E20: =IF(OR(C32="",E13="",E14="",E15="",E16="",E17=""),0,ROUND((((1+E13/100+E14/100+E15/100)*(1+E16/100)*(1+E17/100)/(1-(C33/100)))-1)*100,2)) -> 23 | F20: BDI A SER ADOTADO (sem desoneração)
B22: Verificação: | C22: =IF(OR(C32="",E13="",E14="",E15="",E16="",E17=""),0,IF(OR(ROUND((((1+E13/100+E14/100+E15/100)*(1+E16/100)*(1+E17/100)/(1-((C33-C31)/100)))-1)*100,2)>24.23,ROUND((((1+E13/100+E14/100+E15/100)*(1+E16/100)*(1+E17/100)/(1-((C33-C31)/100)))-1)*100,2)<19.6),"FORA DO LIMITE !",ROUND((((1+E13/100+E14/100+E15/100)*(1+E16/100)*(1+E17/100)/(1-((C33-C31)/100)))-1)*100,2))) -> 23 | D22: ← limite 19,60% a 24,23% (sem desoneração)
C23: =IF(C22="FORA DO LIMITE !",ROUND((((1+E13/100+E14/100+E15/100)*(1+E16/100)*(1+E17/100)/(1-((C33-C31)/100)))-1)*100,2)/100,"")
B24: * Em geral, os tributos ( I ) aplicáveis são PIS (0,65%), COFINS (3%) e ISS (variável, conforme
B25: Município, de 2 a 5% e, em alguns casos, isento).
B26: ** Caso a empresa seja tributada de forma diferente, alterar os valores abaixo:
B28: TRIBUTOS | C28: %
B29: PIS** | C29: 0.65
B30: COFINS** | C30: 3
B31: Cont. Previd. | D31: (Contribuição Previdenciária sobre a receita bruta, no caso de desoneração na folha)
B32: ISS | C32: =IF(OR(H36="",J35=""),"",IF(ROUND(J35*H36*100,2)>5,"ERRO",(ROUND(J35*H36*100,2)))) -> 2
B33: Total | C33: =IF(C32="","",SUM(C29:C32)) -> 5.65
B35: Declaramos que, conforme legislação tributária municipal, a base de cálculo do ISS é de | J35: 1
B36: sobre o valor da obra e a aliquota do ISS aplicável no Município é de | H36: 0.02 | I36: ← (limitado a 5,00%)
B38: FÓRMULA
B40: BDI calculado pela expressão: BDI = { [ (1+AC/100+S/100+R/100+G/100) x (1+DF/100) x (1+L/100) / (1-I/100)] -1} x 100
B44: Declaramos sob pena da Lei que a alternativa adotada pela Prefeitura do Município de Santa Branca é Sem Desoneração e que é a mais vantajosa para a Administração Pública.
J46: Santa Branca, 29 de maio de 2024.
B51: Arthur Ribeiro Alvares Pimenta
B52: Responsável Técnico
B53: CREA/SP: 5069103559

Sheet P.O. Bras
C1: MUNICÍPIO DE SANTA BRANCA - Secretaria Municipal de Serviços, Obras e Transportes
C4: RUA PRUDENTE DE MORAES, 93, CENTRO, CEP 12380-000 - SANTA BRANCA - SP
A6: OBJETO: | C6: CONSTRUÇÃO DE TRAVESSIA NA AVENIDA BENEDITO JOSÉ DE SOUZA NO MUNICÍPIO DE SANTA BRANCA-SP.
A7: OBRA: | C7: EXECUÇÃO DE CONSTRUÇÃO DE TRAVESSIA SOBRE CÓRREGO
A8: COORDENADAS: | C8: LAT: -23,376161º ; LONG: -45,888189º
A9: LOCAL: | C9: RUA UM, CHÁCARAS SANTA TEREZINHA, SANTA BRANCA - SP
A10: ART: | C10: 2620240701750 (FISCALIZAÇÃO E ORÇAMENTO)
A11: REFERÊNCIA: | C11: BOLETIM TPU DER-SP 03-2024
A12: BDI: | C12: 0.23
A13: REFERÊNCIA: | C13: BOLETIM CDHU Não Desonerado 193
A14: BDI: | C14: 0.23
A15: PLANILHA ORÇAMENTÁRIA - TRAVESSIA CHÁCARAS SANTA TEREZINHA
A16: ITEM | B16: CÓDIGO | C16: FONTE | D16: DESCRIÇÃO | E16: UNID. | F16: QUANT. | G16: VALOR UNIT. | H16: VALOR COM BDI | I16: EXECUTADO | J16: TOTAL
A17: 1.0 | B17: SERVIÇOS PRELIMINARES
A18: 1.1 | B18: 28.08.01.01 | C18: TPU_DER-SP | D18: Confecção, montagem e instalação de placa institucional | E18: m² | F18: 6 | G18: 355.94 | H18: =G18 -> 355.94 | J18: =IF($C18="","",ROUND(F18*H18,2)) -> 2135.64
A19: 1.2 | B19: 02.01.180 | C19: CDHU | D19: =IF($C19="","",VLOOKUP($B19,'197 ONERADO'!$A$3:$G$4201,2,0)) -> Banheiro químico modelo Standard, com manutenção conforme exigências da CETESB | E19: =IF($C19="","",VLOOKUP($B19,'197 ONERADO'!$A$3:$G$4201,3,0)) -> UNMES | F19: 3 | G19: =IF($C19="","",VLOOKUP($B19,'197 ONERADO'!$A$3:$H$4201,6,0)) -> 1221.16 | H19: =ROUND(G19*(1+$C$14),2) -> 1502.03 | J19: =IF($C19="","",ROUND(F19*H19,2)) -> 4506.09
A20: 1.3 | B20: 02.02.150 | C20: CDHU | D20: =IF($C20="","",VLOOKUP($B20,'197 ONERADO'!$A$3:$G$4201,2,0)) -> Locação de container tipo depósito - área mínima de 13,80 m² | E20: =IF($C20="","",VLOOKUP($B20,'197 ONERADO'!$A$3:$G$4201,3,0)) -> UNMES | F20: 3 | G20: =IF($C20="","",VLOOKUP($B20,'197 ONERADO'!$A$3:$H$4201,6,0)) -> 952.59 | H20: =ROUND(G20*(1+$C$14),2) -> 1171.69 | J20: =IF($C20="","",ROUND(F20*H20,2)) -> 3515.07
A21: 1.4 | B21: 72.31.06.01 | C21: TPU_DER-SP | D21: Grupo gerador portátil 7 kVA Cond. A | E21: h | F21: =8*20 -> 160 | G21: 13.5 | H21: =G21 -> 13.5 | J21: =IF($C21="","",ROUND(F21*H21,2)) -> 2160
A22: 1.5 | B22: 01.17.061 | C22: CDHU | D22: =IF($C22="","",VLOOKUP($B22,'197 ONERADO'!$A$3:$G$4201,2,0)) -> Projeto executivo de estrutura em formato A0 | E22: =IF($C22="","",VLOOKUP($B22,'197 ONERADO'!$A$3:$G$4201,3,0)) -> UN | F22: 1 | G22: =IF($C22="","",VLOOKUP($B22,'197 ONERADO'!$A$3:$H$4201,6,0)) -> 3431.33 | H22: =ROUND(G22*(1+$C$14),2) -> 4220.54 | J22: =IF($C22="","",ROUND(F22*H22,2)) -> 4220.54
A23: 1.6 | B23: 02.10.020 | C23: CDHU | D23: =IF($C23="","",VLOOKUP($B23,'197 ONERADO'!$A$3:$G$4201,2,0)) -> Locação de obra de edificação | E23: =IF($C23="","",VLOOKUP($B23,'197 ONERADO'!$A$3:$G$4201,3,0)) -> M2 | F23: ='BRÁS_ PONTE'!AG9 -> 497.9 | G23: =IF($C23="","",VLOOKUP($B23,'197 ONERADO'!$A$3:$H$4201,6,0)) -> 17.82 | H23: =ROUND(G23*(1+$C$14),2) -> 21.92 | J23: =IF($C23="","",ROUND(F23*H23,2)) -> 10913.97
I24: Subtotal 1.0 | J24: =SUBTOTAL(9,J18:J23) -> 27451.31
A25: 2.0 | B25: MOVIMENTAÇÃO DE SOLO
A26: 2.1 | B26: 22.02.01 | C26: TPU_DER-SP | D26: Escavação e carga de material de 1/2ª categoria | E26: m³ | F26: ='BRÁS_ PONTE'!AA5 -> 258.56 | G26: 12.04 | H26: =G26 -> 12.04 | J26: =IF($C26="","",ROUND(F26*H26,2)) -> 3113.06
A27: 2.2 | B27: 22.03.03 | C27: TPU_DER-SP | D27: Transporte de 1ª e 2ª categoria até 5 km | E27: m³.km | F27: =F26*5 -> 1292.8 | G27: 4.36 | H27: =G27 -> 4.36 | J27: =IF($C27="","",ROUND(F27*H27,2)) -> 5636.61
I28: Subtotal 2.0 | J28: =SUBTOTAL(9,J26:J27) -> 8749.67
A29: 3.0 | B29: INFRAESTRUTURA
