Workbook
Name \z: #REF!
Name \z: #REF!
Name \z: #REF!
Name \z: #REF!
Name \z: #REF!
Name Arial: #REF!
Name Arial: #REF!
Name Arial: #REF!
Name Arial: #REF!
Name Aut_original: #REF!
Name Aut_original: #REF!
Name Aut_original: #REF!
Name Aut_resumo: #REF!
Name Aut_resumo: #REF!
Name Aut_resumo: #REF!
Name CC: éformula
Name CC: éformula
Name CC: éformula
Name CC: éformula
Name COMP: #REF!
Name COMP: #REF!
Name COMP: #REF!
Name COMP: #REF!
Name COMP: #REF!
Name COT.3: #REF!
Name COT.3: #REF!
Name COT.3: #REF!
Name COT.3: #REF!
Name COT.3: #REF!
Name COT.4: #REF!
Name COT.4: #REF!
Name COT.4: #REF!
Name CRONOGRAMA: #REF!
Name CRONOGRAMA: #REF!
Name CRONOGRAMA: #REF!
Name CRONOGRAMA: #REF!
Name DDDDD: #REF!
Name DDDDD: #REF!
Name DEZEMBRO2021: #REF!
Name DEZEMBRO2021: #REF!
Name ff: #REF!
Name ff: #REF!
Name flavio: #REF!
Name flavio: #REF!
Name flavio: #REF!
Name flavio: #REF!
Name flavio: #REF!
Name formato.formula: CELL(48,INDIRECT("rc",FALSE))
Name formatoformula: éformula
Name formatoformula: éformula
Name formatoformula: éformula
Name formatoformula: éformula
Name formatoformula: éformula
Name GGGG: #REF!
Name GGGG: #REF!
Name GGGG: #REF!
Name GGGG: #REF!
Name GGGG: #REF!
Name HHH: #REF!
Name HHH: #REF!

Sheet CLIENTE-OBJETO
A1: Dados da Obra | M1: RESUMO | P1: ESCOLHIDO
A2: Cliente | B2: PREFEITURA MUNICIPAL DE SANTA BRANCA | M2: BDI Geral | N2: DESONERADO | O2: ONERADO
A3: Objeto | B3: PROJETO DE INFRAESTRUTURA - RUA LARANJEIRAS | M3: BDI Diferen. | N3: 0 | O3: 0 | P3: =IF($C$7="Desonerado",N3,O3) -> 0
A4: Local | B4: RUA LARANJEIRAS - SANTA BRANCA/SP | M4: Valor Global | N4: =BDI!G28 -> 0.2685 | O4: =BDI!G27 -> 0.2073 | P4: =IF($C$7="Desonerado",N4,O4) -> 0.2073
A5: Base | B5: =M10&" - "&N10&" | "&M11&" - "&N11&" | "&M12&" - "&N12&" | "&M13&" - "&N13&" | "&M14&" - "&N14&" " -> SINAPI - JUN.2025 | CDHU - MAI.2025 (198) | SIURB EDIF - JAN.2025 | SIURB INFRA - JAN.2025 | SICRO NOVO - ABR.2025 | M5: Diferença | N5: 0 | O5: 0
A6: Leis Sociais: | B6: =M10&" - "&O10*100&"%"&" | "&M11&" - "&O11*100&"%"&" | "&M12&" - "&O12*100&"%"&" | "&M13&" - "&O13*100&"%"&" | "&M14&" " -> SINAPI - 115,48% | CDHU - 128,23% | SIURB EDIF - 129,17% | SIURB INFRA - 129,17% | SICRO NOVO | N6: 0
A7: BDI | B7: =P4 -> 0.2073 | C7: ONERADO
M9: BASE - FONTE | N9: VERSÃO BASE | O9: LEIS SOCIAIS | P9: ATUALIZAÇÃO | Q9: INTERVALO (MÊS)
A10: Data: | B10: =TODAY() -> 45947 | M10: SINAPI | N10: JUN.2025 | O10: 1.1548 | P10: MENSAL | Q10: (1-2-3-...)
M11: CDHU | N11: MAI.2025 (198) | O11: 1.2823 | P11: TRIMESTRAL | Q11: (3-6-9-12)
M12: SIURB EDIF | N12: JAN.2025 | O12: 1.2917 | P12: SEMESTRAL | Q12: (01-07)
M13: SIURB INFRA | N13: JAN.2025 | O13: 1.2917 | P13: SEMESTRAL | Q13: (01-07)
M14: SICRO NOVO | N14: ABR.2025
A15: ASSINATURA: | B15: DARIO NASCIMENTO
B16: ENGENHEIRO CIVIL
B17: CREA 5069979311
A20: VERSÃO | B20: DATA | C20: ELAB. | D20: VER. | E20: APROV. | F20: DESCRIÇÃO
A21: V00 | B21: 45881 | C21: K.M | D21: D.N | E21: D.N | F21: EMISSÃO INICIAL

Sheet RESUMO
A1: Dados da Obra
A2: Cliente | B2: ='CLIENTE-OBJETO'!B2 -> PREFEITURA MUNICIPAL DE SANTA BRANCA
A3: Objeto | B3: ='CLIENTE-OBJETO'!B3 -> PROJETO DE INFRAESTRUTURA - RUA LARANJEIRAS
A4: Local | B4: ='CLIENTE-OBJETO'!B4 -> RUA LARANJEIRAS - SANTA BRANCA/SP
A5: Base | B5: ='CLIENTE-OBJETO'!B5:K5 -> SINAPI - JUN.2025 | CDHU - MAI.2025 (198) | SIURB EDIF - JAN.2025 | SIURB INFRA - JAN.2025 | SICRO NOVO - ABR.2025
A6: Leis Sociais: | B6: ='CLIENTE-OBJETO'!B6 -> SINAPI - 115,48% | CDHU - 128,23% | SIURB EDIF - 129,17% | SIURB INFRA - 129,17% | SICRO NOVO
A7: BDI | B7: ='CLIENTE-OBJETO'!B7 -> 0.2073 | C7: ='CLIENTE-OBJETO'!C7 -> ONERADO
C9: RESUMO
E10: CONTRATADO - ORIGINAL
E11: =E26 -> 1038925.4
A13: Item | B13: Descrição dos Serviços | E13: Preço Total | H13: % TOTAL
A15: 1 | B15: =IF(A15<>0,INDEX('Plan. Orçamentária'!$D$1:$M$1808,MATCH(A15,'Plan. Orçamentária'!$D$1:$D$1808,0),2),0) -> EQUIPE TÉCNICA | E15: =IF(A15<>0,INDEX('Plan. Orçamentária'!$D$1:$M$1808,MATCH(A15,'Plan. Orçamentária'!$D$1:$D$1808,0),9),0) -> 0 | H15: =IFERROR(E15/$E$11,0) -> 0 | I15: =IFERROR(E15/$E$11,0) -> 0
A16: =A15+1 -> 2 | B16: =IF(A16<>0,INDEX('Plan. Orçamentária'!$D$1:$M$1808,MATCH(A16,'Plan. Orçamentária'!$D$1:$D$1808,0),2),0) -> CANTEIRO DE OBRAS | E16: =IF(A16<>0,INDEX('Plan. Orçamentária'!$D$1:$M$1808,MATCH(A16,'Plan. Orçamentária'!$D$1:$D$1808,0),9),0) -> 15250.02 | H16: =IFERROR(E16/$E$11,0) -> 0.0147 | I16: =IFERROR(E16/$E$11,0) -> 0.0147
A17: =A16+1 -> 3 | B17: =IF(A17<>0,INDEX('Plan. Orçamentária'!$D$1:$M$1808,MATCH(A17,'Plan. Orçamentária'!$D$1:$D$1808,0),2),0) -> ESTUDO DE IMPACTO DE VIZINHANÇA | E17: =IF(A17<>0,INDEX('Plan. Orçamentária'!$D$1:$M$1808,MATCH(A17,'Plan. Orçamentária'!$D$1:$D$1808,0),9),0) -> 0 | H17: =IFERROR(E17/$E$11,0) -> 0 | I17: =IFERROR(E17/#REF!,0) -> 0
A18: =A17+1 -> 4 | B18: =IF(A18<>0,INDEX('Plan. Orçamentária'!$D$1:$M$1808,MATCH(A18,'Plan. Orçamentária'!$D$1:$D$1808,0),2),0) -> TERRAPLANAGEM | E18: =IF(A18<>0,INDEX('Plan. Orçamentária'!$D$1:$M$1808,MATCH(A18,'Plan. Orçamentária'!$D$1:$D$1808,0),9),0) -> 67438.86 | H18: =IFERROR(E18/$E$11,0) -> 0.0649 | I18: =IFERROR(E18/#REF!,0) -> 0
A19: =A18+1 -> 5 | B19: =IF(A19<>0,INDEX('Plan. Orçamentária'!$D$1:$M$1808,MATCH(A19,'Plan. Orçamentária'!$D$1:$D$1808,0),2),0) -> PAVIMENTAÇÃO ASFÁLTICA | E19: =IF(A19<>0,INDEX('Plan. Orçamentária'!$D$1:$M$1808,MATCH(A19,'Plan. Orçamentária'!$D$1:$D$1808,0),9),0) -> 630086.48 | H19: =IFERROR(E19/$E$11,0) -> 0.6065 | I19: =IFERROR(E19/#REF!,0) -> 0
A20: =A19+1 -> 6 | B20: =IF(A20<>0,INDEX('Plan. Orçamentária'!$D$1:$M$1808,MATCH(A20,'Plan. Orçamentária'!$D$1:$D$1808,0),2),0) -> SARJETÃO | E20: =IF(A20<>0,INDEX('Plan. Orçamentária'!$D$1:$M$1808,MATCH(A20,'Plan. Orçamentária'!$D$1:$D$1808,0),9),0) -> 315504.39 | H20: =IFERROR(E20/$E$11,0) -> 0.3037 | I20: =IFERROR(E20/#REF!,0) -> 0
A21: =A20+1 -> 7 | B21: =IF(A21<>0,INDEX('Plan. Orçamentária'!$D$1:$M$1808,MATCH(A21,'Plan. Orçamentária'!$D$1:$D$1808,0),2),0) -> INFRAESTRUTURA COMPLEMENTAR | E21: =IF(A21<>0,INDEX('Plan. Orçamentária'!$D$1:$M$1808,MATCH(A21,'Plan. Orçamentária'!$D$1:$D$1808,0),9),0) -> 10645.62 | H21: =IFERROR(E21/$E$11,0) -> 0.0102 | I21: =IFERROR(E21/#REF!,0) -> 0
A22: =A21+1 -> 8 | B22: =IF(A22<>0,INDEX('Plan. Orçamentária'!$D$1:$M$1808,MATCH(A22,'Plan. Orçamentária'!$D$1:$D$1808,0),2),0) -> LIMPEZA FINAL | E22: =IF(A22<>0,INDEX('Plan. Orçamentária'!$D$1:$M$1808,MATCH(A22,'Plan. Orçamentária'!$D$1:$D$1808,0),9),0) -> 0 | H22: =IFERROR(E22/$E$11,0) -> 0 | I22: =IFERROR(E22/#REF!,0) -> 0
A23: =A22+1 -> 9 | B23: =IF(A23<>0,INDEX('Plan. Orçamentária'!$D$1:$M$1808,MATCH(A23,'Plan. Orçamentária'!$D$1:$D$1808,0),2),0) -> CONTROLE TECNOLÓGICO | E23: =IF(A23<>0,INDEX('Plan. Orçamentária'!$D$1:$M$1808,MATCH(A23,'Plan. Orçamentária'!$D$1:$D$1808,0),9),0) -> 0 | H23: =IFERROR(E23/$E$11,0) -> 0 | I23: =IFERROR(E23/#REF!,0) -> 0
A24: =A23+1 -> 10 | B24: =IF(A24<>0,INDEX('Plan. Orçamentária'!$D$1:$M$1808,MATCH(A24,'Plan. Orçamentária'!$D$1:$D$1808,0),2),0) -> PROJETO EXECUTIVO | E24: =IF(A24<>0,INDEX('Plan. Orçamentária'!$D$1:$M$1808,MATCH(A24,'Plan. Orçamentária'!$D$1:$D$1808,0),9),0) -> 0 | H24: =IFERROR(E24/$E$11,0) -> 0 | I24: =IFERROR(E24/#REF!,0) -> 0
A26: ='CLIENTE-OBJETO'!A10 -> Data: | B26: ='CLIENTE-OBJETO'!B10 -> 45947 | E26: =SUM(E15:E16,E17:E18,E19:E22,E23:E24) -> 1038925.4
C29: ='CLIENTE-OBJETO'!B15 -> DARIO NASCIMENTO
C30: ='CLIENTE-OBJETO'!B16 -> ENGENHEIRO CIVIL
C31: ='CLIENTE-OBJETO'!B17 -> CREA 5069979311

Sheet Plan. Orçamentária
D1: Dados da Obra | H1: ='CLIENTE-OBJETO'!A20 -> VERSÃO | I1: ='CLIENTE-OBJETO'!B20 -> DATA | J1: ='CLIENTE-OBJETO'!C20 -> ELAB. | K1: ='CLIENTE-OBJETO'!D20 -> VER. | L1: ='CLIENTE-OBJETO'!E20 -> APROV. | N1: x
D2: Cliente | E2: ='CLIENTE-OBJETO'!B2 -> PREFEITURA MUNICIPAL DE SANTA BRANCA | H2: ='CLIENTE-OBJETO'!A21 -> V00 | I2: ='CLIENTE-OBJETO'!B21 -> 45881 | J2: ='CLIENTE-OBJETO'!C21 -> K.M | K2: ='CLIENTE-OBJETO'!D21 -> D.N | L2: ='CLIENTE-OBJETO'!E21 -> D.N
D3: Objeto | E3: ='CLIENTE-OBJETO'!B3 -> PROJETO DE INFRAESTRUTURA - RUA LARANJEIRAS
D4: Local | E4: ='CLIENTE-OBJETO'!B4 -> RUA LARANJEIRAS - SANTA BRANCA/SP
D5: Base | E5: ='CLIENTE-OBJETO'!B5 -> SINAPI - JUN.2025 | CDHU - MAI.2025 (198) | SIURB EDIF - JAN.2025 | SIURB INFRA - JAN.2025 | SICRO NOVO - ABR.2025
D6: Leis Sociais: | E6: ='CLIENTE-OBJETO'!B6 -> SINAPI - 115,48% | CDHU - 128,23% | SIURB EDIF - 129,17% | SIURB INFRA - 129,17% | SICRO NOVO
D7: BDI | E7: ='CLIENTE-OBJETO'!B7 -> 0.2073 | F7: ='CLIENTE-OBJETO'!C7 -> ONERADO
D10: PLANILHA ORÇAMENTÁRIA
I12: CONTRATADO - ORIGINAL | P12: verificação de formulas em celulas
H13: T | I13: VALOR GLOBAL | L13: =L99 -> 1038925.4
D15: Item | E15: Fonte | F15: Código | G15: Descrição dos Serviços | H15: Unid. | I15: Quant. | J15: Custo Unitário | K15: Preço Unitário | L15: Preço Total
A17: =LEFT(D17,1) -> 1 | B17: =D17 -> 1 | C17: =IF(D17="",0,B17) -> 1 | D17: 1 | E17: EQUIPE TÉCNICA | K17: SUBTOTAL | L17: =SUMIF(C17:C97,D17,L18:L87) -> 0 | O17: =IFERROR(L17/$L$13,0) -> 0
A18: =LEFT(D18,1) -> 1 | B18: =B17 -> 1 | C18: =C17 -> 1 | D18: =(D17*1000)+1 -> 1001 | E18: SINAPI | F18: 90778 | G18: =IF($E18="SINAPI",VLOOKUP(F18,'SINAPI_ONERADO-06.25'!$B$11:$E$9657,2,FALSE),IF($E18="CDHU",VLOOKUP($F18,'CDHU_Onerado-05.25-(198)'!$A$9:$F$4118,2,FALSE),IF($E18="FDE",VLOOKUP($F18,#REF!,2,FALSE),IF($E18="SIURB (E)",VLOOKUP($F18,'EDIF sem Des Jan25'!$A$3:$D$3000,2,FALSE),IF($E18="SIURB (I)",VLOOKUP($F18,'INFRA sem Des Jan25'!$A$2:$D$1000,2,FALSE),IF($E18="SICRO NOVO",VLOOKUP($F18,'SICRO.DNIT ONERADA 04.25'!$A$4:$D$7000,2,FALSE),IF($E18="COMPOSIÇÃO",VLOOKUP($F18,#REF!,2),IF($E18="DER",VLOOKUP($F18,#REF!,2,0))))))))) -> ENGENHEIRO CIVIL DE OBRA PLENO COM ENCARGOS COMPLEMENTARES | H18: =IF($E18="SINAPI",VLOOKUP($F18,'SINAPI_ONERADO-06.25'!$B$11:$E$9657,3,FALSE),IF($E18="CDHU",VLOOKUP($F18,'CDHU_Onerado-05.25-(198)'!$A$9:$F$4118,3,FALSE),IF($E18="FDE",VLOOKUP($F18,#REF!,3,FALSE),IF($E18="SIURB (E)",VLOOKUP($F18,'EDIF sem Des Jan25'!$A$3:$D$3000,3,FALSE),IF($E18="SIURB (I)",VLOOKUP($F18,'INFRA sem Des Jan25'!$A$2:$D$1000,3,FALSE),IF($E18="SICRO NOVO",VLOOKUP($F18,'SICRO.DNIT ONERADA 04.25'!$A$4:$D$7000,3,FALSE),IF($E18="DER",VLOOKUP($F18,#REF!,3,0)))))))) -> H | I18: 0 | J18: =IF($E18="SINAPI",VLOOKUP($F18,'SINAPI_ONERADO-06.25'!$B$11:$E$9657,4,FALSE),IF($E18="CDHU",VLOOKUP($F18,'CDHU_Onerado-05.25-(198)'!$A$9:$F$4118,6,FALSE),IF($E18="FDE",VLOOKUP($F18,#REF!,5,FALSE),IF($E18="SIURB (E)",VLOOKUP($F18,'EDIF sem Des Jan25'!$A$3:$D$3000,4,FALSE),IF($E18="SIURB (I)",VLOOKUP($F18,'INFRA sem Des Jan25'!$A$2:$D$1000,4,FALSE),IF($E18="SICRO NOVO",VLOOKUP($F18,'SICRO.DNIT ONERADA 04.25'!$A$4:$D$7000,4,FALSE),IF($E18="DER",VLOOKUP($F18,#REF!,4,0)))))))) -> 132.73 | K18: =J18*(1+IF(N18="x",'CLIENTE-OBJETO'!$P$3,$E$7)) -> 160.24 | L18: =ROUND(ROUND(I18,2)*ROUND(K18,2),2) -> 0 | O18: =IFERROR(L18/$L$13,0) -> 0 | P18: =IF(_xlfn.ISFORMULA(J18)&_xlfn.ISFORMULA(K18)&_xlfn.ISFORMULA(L18)&_xlfn.ISFORMULA(I18)="verdadeiroverdadeiroverdadeiroverdadeiro","ok","verificar formulas") -> verificar formulas
A19: =LEFT(D19,1) -> 1 | B19: =B18 -> 1 | C19: =C18 -> 1 | D19: =(D18+1) -> 1002 | E19: SINAPI | F19: 100309 | G19: =IF($E19="SINAPI",VLOOKUP(F19,'SINAPI_ONERADO-06.25'!$B$11:$E$9657,2,FALSE),IF($E19="CDHU",VLOOKUP($F19,'CDHU_Onerado-05.25-(198)'!$A$9:$F$4118,2,FALSE),IF($E19="FDE",VLOOKUP($F19,#REF!,2,FALSE),IF($E19="SIURB (E)",VLOOKUP($F19,'EDIF sem Des Jan25'!$A$3:$D$3000,2,FALSE),IF($E19="SIURB (I)",VLOOKUP($F19,'INFRA sem Des Jan25'!$A$2:$D$1000,2,FALSE),IF($E19="SICRO NOVO",VLOOKUP($F19,'SICRO.DNIT ONERADA 04.25'!$A$4:$D$7000,2,FALSE),IF($E19="COMPOSIÇÃO",VLOOKUP($F19,#REF!,2),IF($E19="DER",VLOOKUP($F19,#REF!,2,0))))))))) -> TÉCNICO EM SEGURANÇA DO TRABALHO COM ENCARGOS COMPLEMENTARES | H19: =IF($E19="SINAPI",VLOOKUP($F19,'SINAPI_ONERADO-06.25'!$B$11:$E$9657,3,FALSE),IF($E19="CDHU",VLOOKUP($F19,'CDHU_Onerado-05.25-(198)'!$A$9:$F$4118,3,FALSE),IF($E19="FDE",VLOOKUP($F19,#REF!,3,FALSE),IF($E19="SIURB (E)",VLOOKUP($F19,'EDIF sem Des Jan25'!$A$3:$D$3000,3,FALSE),IF($E19="SIURB (I)",VLOOKUP($F19,'INFRA sem Des Jan25'!$A$2:$D$1000,3,FALSE),IF($E19="SICRO NOVO",VLOOKUP($F19,'SICRO.DNIT ONERADA 04.25'!$A$4:$D$7000,3,FALSE),IF($E19="DER",VLOOKUP($F19,#REF!,3,0)))))))) -> H | I19: 0 | J19: =IF($E19="SINAPI",VLOOKUP($F19,'SINAPI_ONERADO-06.25'!$B$11:$E$9657,4,FALSE),IF($E19="CDHU",VLOOKUP($F19,'CDHU_Onerado-05.25-(198)'!$A$9:$F$4118,6,FALSE),IF($E19="FDE",VLOOKUP($F19,#REF!,5,FALSE),IF($E19="SIURB (E)",VLOOKUP($F19,'EDIF sem Des Jan25'!$A$3:$D$3000,4,FALSE),IF($E19="SIURB (I)",VLOOKUP($F19,'INFRA sem Des Jan25'!$A$2:$D$1000,4,FALSE),IF($E19="SICRO NOVO",VLOOKUP($F19,'SICRO.DNIT ONERADA 04.25'!$A$4:$D$7000,4,FALSE),IF($E19="DER",VLOOKUP($F19,#REF!,4,0)))))))) -> 77.13 | K19: =J19*(1+IF(N19="x",'CLIENTE-OBJETO'!$P$3,$E$7)) -> 93.12 | L19: =ROUND(ROUND(I19,2)*ROUND(K19,2),2) -> 0 | O19: =IFERROR(L19/$L$13,0) -> 0 | P19: =IF(_xlfn.ISFORMULA(J19)&_xlfn.ISFORMULA(K19)&_xlfn.ISFORMULA(L19)&_xlfn.ISFORMULA(I19)="verdadeiroverdadeiroverdadeiroverdadeiro","ok","verificar formulas") -> verificar formulas
A20: =LEFT(D20,1) -> 1 | B20: =B19 -> 1 | C20: =C19 -> 1 | D20: =(D19+1) -> 1003 | E20: SINAPI | F20: 100289 | G20: =IF($E20="SINAPI",VLOOKUP(F20,'SINAPI_ONERADO-06.25'!$B$11:$E$9657,2,FALSE),IF($E20="CDHU",VLOOKUP($F20,'CDHU_Onerado-05.25-(198)'!$A$9:$F$4118,2,FALSE),IF($E20="FDE",VLOOKUP($F20,#REF!,2,FALSE),IF($E20="SIURB (E)",VLOOKUP($F20,'EDIF sem Des Jan25'!$A$3:$D$3000,2,FALSE),IF($E20="SIURB (I)",VLOOKUP($F20,'INFRA sem Des Jan25'!$A$2:$D$1000,2,FALSE),IF($E20="SICRO NOVO",VLOOKUP($F20,'SICRO.DNIT ONERADA 04.25'!$A$4:$D$7000,2,FALSE),IF($E20="COMPOSIÇÃO",VLOOKUP($F20,#REF!,2),IF($E20="DER",VLOOKUP($F20,#REF!,2,0))))))))) -> VIGIA DIURNO COM ENCARGOS COMPLEMENTARES | H20: =IF($E20="SINAPI",VLOOKUP($F20,'SINAPI_ONERADO-06.25'!$B$11:$E$9657,3,FALSE),IF($E20="CDHU",VLOOKUP($F20,'CDHU_Onerado-05.25-(198)'!$A$9:$F$4118,3,FALSE),IF($E20="FDE",VLOOKUP($F20,#REF!,3,FALSE),IF($E20="SIURB (E)",VLOOKUP($F20,'EDIF sem Des Jan25'!$A$3:$D$3000,3,FALSE),IF($E20="SIURB (I)",VLOOKUP($F20,'INFRA sem Des Jan25'!$A$2:$D$1000,3,FALSE),IF($E20="SICRO NOVO",VLOOKUP($F20,'SICRO.DNIT ONERADA 04.25'!$A$4:$D$7000,3,FALSE),IF($E20="DER",VLOOKUP($F20,#REF!,3,0)))))))) -> H | I20: 0 | J20: =IF($E20="SINAPI",VLOOKUP($F20,'SINAPI_ONERADO-06.25'!$B$11:$E$9657,4,FALSE),IF($E20="CDHU",VLOOKUP($F20,'CDHU_Onerado-05.25-(198)'!$A$9:$F$4118,6,FALSE),IF($E20="FDE",VLOOKUP($F20,#REF!,5,FALSE),IF($E20="SIURB (E)",VLOOKUP($F20,'EDIF sem Des Jan25'!$A$3:$D$3000,4,FALSE),IF($E20="SIURB (I)",VLOOKUP($F20,'INFRA sem Des Jan25'!$A$2:$D$1000,4,FALSE),IF($E20="SICRO NOVO",VLOOKUP($F20,'SICRO.DNIT ONERADA 04.25'!$A$4:$D$7000,4,FALSE),IF($E20="DER",VLOOKUP($F20,#REF!,4,0)))))))) -> 32.95 | K20: =J20*(1+IF(N20="x",'CLIENTE-OBJETO'!$P$3,$E$7)) -> 39.78 | L20: =ROUND(ROUND(I20,2)*ROUND(K20,2),2) -> 0 | O20: =IFERROR(L20/$L$13,0) -> 0 | P20: =IF(_xlfn.ISFORMULA(J20)&_xlfn.ISFORMULA(K20)&_xlfn.ISFORMULA(L20)&_xlfn.ISFORMULA(I20)="verdadeiroverdadeiroverdadeiroverdadeiro","ok","verificar formulas") -> verificar formulas
A22: =LEFT(D22,1) -> 2 | B22: =D22 -> 2 | C22: =IF(D22="",0,B22) -> 2 | D22: =D17+1 -> 2 | E22: CANTEIRO DE OBRAS | K22: SUBTOTAL | L22: =SUMIF(C23:C97,D22,L23:L97) -> 15250.02 | O22: =IFERROR(L22/$L$13,0) -> 0.0147
A23: =LEFT(D23,1) -> 2 | B23: =B22 -> 2 | C23: =IF(D23="",0,B23) -> 2 | D23: =(D22*1000)+1 -> 2001 | E23: CDHU | F23: 02.02.150 | G23: =IF($E23="SINAPI",VLOOKUP(F23,'SINAPI_ONERADO-06.25'!$B$11:$E$9657,2,FALSE),IF($E23="CDHU",VLOOKUP($F23,'CDHU_Onerado-05.25-(198)'!$A$9:$F$4118,2,FALSE),IF($E23="FDE",VLOOKUP($F23,#REF!,2,FALSE),IF($E23="SIURB (E)",VLOOKUP($F23,'EDIF sem Des Jan25'!$A$3:$D$3000,2,FALSE),IF($E23="SIURB (I)",VLOOKUP($F23,'INFRA sem Des Jan25'!$A$2:$D$1000,2,FALSE),IF($E23="SICRO NOVO",VLOOKUP($F23,'SICRO.DNIT ONERADA 04.25'!$A$4:$D$7000,2,FALSE),IF($E23="COMPOSIÇÃO",VLOOKUP($F23,#REF!,2),IF($E23="DER",VLOOKUP($F23,#REF!,2,0))))))))) -> Locação de container tipo depósito - área mínima de 13,80 m² | H23: =IF($E23="SINAPI",VLOOKUP($F23,'SINAPI_ONERADO-06.25'!$B$11:$E$9657,3,FALSE),IF($E23="CDHU",VLOOKUP($F23,'CDHU_Onerado-05.25-(198)'!$A$9:$F$4118,3,FALSE),IF($E23="FDE",VLOOKUP($F23,#REF!,3,FALSE),IF($E23="SIURB (E)",VLOOKUP($F23,'EDIF sem Des Jan25'!$A$3:$D$3000,3,FALSE),IF($E23="SIURB (I)",VLOOKUP($F23,'INFRA sem Des Jan25'!$A$2:$D$1000,3,FALSE),IF($E23="SICRO NOVO",VLOOKUP($F23,'SICRO.DNIT ONERADA 04.25'!$A$4:$D$7000,3,FALSE),IF($E23="DER",VLOOKUP($F23,#REF!,3,0)))))))) -> UNMES | I23: 0 | J23: =IF($E23="SINAPI",VLOOKUP($F23,'SINAPI_ONERADO-06.25'!$B$11:$E$9657,4,FALSE),IF($E23="CDHU",VLOOKUP($F23,'CDHU_Onerado-05.25-(198)'!$A$9:$F$4118,6,FALSE),IF($E23="FDE",VLOOKUP($F23,#REF!,5,FALSE),IF($E23="SIURB (E)",VLOOKUP($F23,'EDIF sem Des Jan25'!$A$3:$D$3000,4,FALSE),IF($E23="SIURB (I)",VLOOKUP($F23,'INFRA sem Des Jan25'!$A$2:$D$1000,4,FALSE),IF($E23="SICRO NOVO",VLOOKUP($F23,'SICRO.DNIT ONERADA 04.25'!$A$4:$D$7000,4,FALSE),IF($E23="DER",VLOOKUP($F23,#REF!,4,0)))))))) -> 962.54 | K23: =J23*(1+IF(N23="x",'CLIENTE-OBJETO'!$P$3,$E$7)) -> 1162.07 | L23: =ROUND(ROUND(I23,2)*ROUND(K23,2),2) -> 0 | O23: =IFERROR(L23/$L$13,0) -> 0 | P23: =IF(_xlfn.ISFORMULA(J23)&_xlfn.ISFORMULA(K23)&_xlfn.ISFORMULA(L23)&_xlfn.ISFORMULA(I23)="verdadeiroverdadeiroverdadeiroverdadeiro","ok","verificar formulas") -> verificar formulas
A24: =LEFT(D24,1) -> 2 | B24: =B23 -> 2 | C24: =IF(D24="",0,B24) -> 2 | D24: =D23+1 -> 2002 | E24: CDHU | F24: 02.02.140 | G24: =IF($E24="SINAPI",VLOOKUP(F24,'SINAPI_ONERADO-06.25'!$B$11:$E$9657,2,FALSE),IF($E24="CDHU",VLOOKUP($F24,'CDHU_Onerado-05.25-(198)'!$A$9:$F$4118,2,FALSE),IF($E24="FDE",VLOOKUP($F24,#REF!,2,FALSE),IF($E24="SIURB (E)",VLOOKUP($F24,'EDIF sem Des Jan25'!$A$3:$D$3000,2,FALSE),IF($E24="SIURB (I)",VLOOKUP($F24,'INFRA sem Des Jan25'!$A$2:$D$1000,2,FALSE),IF($E24="SICRO NOVO",VLOOKUP($F24,'SICRO.DNIT ONERADA 04.25'!$A$4:$D$7000,2,FALSE),IF($E24="COMPOSIÇÃO",VLOOKUP($F24,#REF!,2),IF($E24="DER",VLOOKUP($F24,#REF!,2,0))))))))) -> Locação de container tipo sanitário com 2 vasos sanitários, 2 lavatórios, 2 mictórios e 4 pontos para chuveiro - área mínima de 13,80 m² | H24: =IF($E24="SINAPI",VLOOKUP($F24,'SINAPI_ONERADO-06.25'!$B$11:$E$9657,3,FALSE),IF($E24="CDHU",VLOOKUP($F24,'CDHU_Onerado-05.25-(198)'!$A$9:$F$4118,3,FALSE),IF($E24="FDE",VLOOKUP($F24,#REF!,3,FALSE),IF($E24="SIURB (E)",VLOOKUP($F24,'EDIF sem Des Jan25'!$A$3:$D$3000,3,FALSE),IF($E24="SIURB (I)",VLOOKUP($F24,'INFRA sem Des Jan25'!$A$2:$D$1000,3,FALSE),IF($E24="SICRO NOVO",VLOOKUP($F24,'SICRO.DNIT ONERADA 04.25'!$A$4:$D$7000,3,FALSE),IF($E24="DER",VLOOKUP($F24,#REF!,3,0)))))))) -> UNMES | I24: 0 | J24: =IF($E24="SINAPI",VLOOKUP($F24,'SINAPI_ONERADO-06.25'!$B$11:$E$9657,4,FALSE),IF($E24="CDHU",VLOOKUP($F24,'CDHU_Onerado-05.25-(198)'!$A$9:$F$4118,6,FALSE),IF($E24="FDE",VLOOKUP($F24,#REF!,5,FALSE),IF($E24="SIURB (E)",VLOOKUP($F24,'EDIF sem Des Jan25'!$A$3:$D$3000,4,FALSE),IF($E24="SIURB (I)",VLOOKUP($F24,'INFRA sem Des Jan25'!$A$2:$D$1000,4,FALSE),IF($E24="SICRO NOVO",VLOOKUP($F24,'SICRO.DNIT ONERADA 04.25'!$A$4:$D$7000,4,FALSE),IF($E24="DER",VLOOKUP($F24,#REF!,4,0)))))))) -> 1458.52 | K24: =J24*(1+IF(N24="x",'CLIENTE-OBJETO'!$P$3,$E$7)) -> 1760.87 | L24: =ROUND(ROUND(I24,2)*ROUND(K24,2),2) -> 0 | O24: =IFERROR(L24/$L$13,0) -> 0 | P24: =IF(_xlfn.ISFORMULA(J24)&_xlfn.ISFORMULA(K24)&_xlfn.ISFORMULA(L24)&_xlfn.ISFORMULA(I24)="verdadeiroverdadeiroverdadeiroverdadeiro","ok","verificar formulas") -> verificar formulas
A25: =LEFT(D25,1) -> 2 | B25: =B24 -> 2 | C25: =IF(D25="",0,B25) -> 2 | D25: =D24+1 -> 2003 | E25: CDHU | F25: 02.02.130 | G25: =IF($E25="SINAPI",VLOOKUP(F25,'SINAPI_ONERADO-06.25'!$B$11:$E$9657,2,FALSE),IF($E25="CDHU",VLOOKUP($F25,'CDHU_Onerado-05.25-(198)'!$A$9:$F$4118,2,FALSE),IF($E25="FDE",VLOOKUP($F25,#REF!,2,FALSE),IF($E25="SIURB (E)",VLOOKUP($F25,'EDIF sem Des Jan25'!$A$3:$D$3000,2,FALSE),IF($E25="SIURB (I)",VLOOKUP($F25,'INFRA sem Des Jan25'!$A$2:$D$1000,2,FALSE),IF($E25="SICRO NOVO",VLOOKUP($F25,'SICRO.DNIT ONERADA 04.25'!$A$4:$D$7000,2,FALSE),IF($E25="COMPOSIÇÃO",VLOOKUP($F25,#REF!,2),IF($E25="DER",VLOOKUP($F25,#REF!,2,0))))))))) -> Locação de container tipo escritório com 1 vaso sanitário, 1 lavatório e 1 ponto para chuveiro - área mínima de 13,80 m² | H25: =IF($E25="SINAPI",VLOOKUP($F25,'SINAPI_ONERADO-06.25'!$B$11:$E$9657,3,FALSE),IF($E25="CDHU",VLOOKUP($F25,'CDHU_Onerado-05.25-(198)'!$A$9:$F$4118,3,FALSE),IF($E25="FDE",VLOOKUP($F25,#REF!,3,FALSE),IF($E25="SIURB (E)",VLOOKUP($F25,'EDIF sem Des Jan25'!$A$3:$D$3000,3,FALSE),IF($E25="SIURB (I)",VLOOKUP($F25,'INFRA sem Des Jan25'!$A$2:$D$1000,3,FALSE),IF($E25="SICRO NOVO",VLOOKUP($F25,'SICRO.DNIT ONERADA 04.25'!$A$4:$D$7000,3,FALSE),IF($E25="DER",VLOOKUP($F25,#REF!,3,0)))))))) -> UNMES | I25: 0 | J25: =IF($E25="SINAPI",VLOOKUP($F25,'SINAPI_ONERADO-06.25'!$B$11:$E$9657,4,FALSE),IF($E25="CDHU",VLOOKUP($F25,'CDHU_Onerado-05.25-(198)'!$A$9:$F$4118,6,FALSE),IF($E25="FDE",VLOOKUP($F25,#REF!,5,FALSE),IF($E25="SIURB (E)",VLOOKUP($F25,'EDIF sem Des Jan25'!$A$3:$D$3000,4,FALSE),IF($E25="SIURB (I)",VLOOKUP($F25,'INFRA sem Des Jan25'!$A$2:$D$1000,4,FALSE),IF($E25="SICRO NOVO",VLOOKUP($F25,'SICRO.DNIT ONERADA 04.25'!$A$4:$D$7000,4,FALSE),IF($E25="DER",VLOOKUP($F25,#REF!,4,0)))))))) -> 1567.65 | K25: =J25*(1+IF(N25="x",'CLIENTE-OBJETO'!$P$3,$E$7)) -> 1892.62 | L25: =ROUND(ROUND(I25,2)*ROUND(K25,2),2) -> 0 | O25: =IFERROR(L25/$L$13,0) -> 0 | P25: =IF(_xlfn.ISFORMULA(J25)&_xlfn.ISFORMULA(K25)&_xlfn.ISFORMULA(L25)&_xlfn.ISFORMULA(I25)="verdadeiroverdadeiroverdadeiroverdadeiro","ok","verificar formulas") -> verificar formulas
A26: =LEFT(D26,1) -> 2 | B26: =B25 -> 2 | C26: =IF(D26="",0,B26) -> 2 | D26: =D25+1 -> 2004 | E26: CDHU | F26: 02.02.160 | G26: =IF($E26="SINAPI",VLOOKUP(F26,'SINAPI_ONERADO-06.25'!$B$11:$E$9657,2,FALSE),IF($E26="CDHU",VLOOKUP($F26,'CDHU_Onerado-05.25-(198)'!$A$9:$F$4118,2,FALSE),IF($E26="FDE",VLOOKUP($F26,#REF!,2,FALSE),IF($E26="SIURB (E)",VLOOKUP($F26,'EDIF sem Des Jan25'!$A$3:$D$3000,2,FALSE),IF($E26="SIURB (I)",VLOOKUP($F26,'INFRA sem Des Jan25'!$A$2:$D$1000,2,FALSE),IF($E26="SICRO NOVO",VLOOKUP($F26,'SICRO.DNIT ONERADA 04.25'!$A$4:$D$7000,2,FALSE),IF($E26="COMPOSIÇÃO",VLOOKUP($F26,#REF!,2),IF($E26="DER",VLOOKUP($F26,#REF!,2,0))))))))) -> Locação de container tipo guarita - área mínima de 4,60 m² | H26: =IF($E26="SINAPI",VLOOKUP($F26,'SINAPI_ONERADO-06.25'!$B$11:$E$9657,3,FALSE),IF($E26="CDHU",VLOOKUP($F26,'CDHU_Onerado-05.25-(198)'!$A$9:$F$4118,3,FALSE),IF($E26="FDE",VLOOKUP($F26,#REF!,3,FALSE),IF($E26="SIURB (E)",VLOOKUP($F26,'EDIF sem Des Jan25'!$A$3:$D$3000,3,FALSE),IF($E26="SIURB (I)",VLOOKUP($F26,'INFRA sem Des Jan25'!$A$2:$D$1000,3,FALSE),IF($E26="SICRO NOVO",VLOOKUP($F26,'SICRO.DNIT ONERADA 04.25'!$A$4:$D$7000,3,FALSE),IF($E26="DER",VLOOKUP($F26,#REF!,3,0)))))))) -> UNMES | I26: 0 | J26: =IF($E26="SINAPI",VLOOKUP($F26,'SINAPI_ONERADO-06.25'!$B$11:$E$9657,4,FALSE),IF($E26="CDHU",VLOOKUP($F26,'CDHU_Onerado-05.25-(198)'!$A$9:$F$4118,6,FALSE),IF($E26="FDE",VLOOKUP($F26,#REF!,5,FALSE),IF($E26="SIURB (E)",VLOOKUP($F26,'EDIF sem Des Jan25'!$A$3:$D$3000,4,FALSE),IF($E26="SIURB (I)",VLOOKUP($F26,'INFRA sem Des Jan25'!$A$2:$D$1000,4,FALSE),IF($E26="SICRO NOVO",VLOOKUP($F26,'SICRO.DNIT ONERADA 04.25'!$A$4:$D$7000,4,FALSE),IF($E26="DER",VLOOKUP($F26,#REF!,4,0)))))))) -> 951.71 | K26: =J26*(1+IF(N26="x",'CLIENTE-OBJETO'!$P$3,$E$7)) -> 1149 | L26: =ROUND(ROUND(I26,2)*ROUND(K26,2),2) -> 0 | O26: =IFERROR(L26/$L$13,0) -> 0 | P26: =IF(_xlfn.ISFORMULA(J26)&_xlfn.ISFORMULA(K26)&_xlfn.ISFORMULA(L26)&_xlfn.ISFORMULA(I26)="verdadeiroverdadeiroverdadeiroverdadeiro","ok","verificar formulas") -> verificar formulas
A27: =LEFT(D27,1) -> 2 | B27: =B26 -> 2 | C27: =IF(D27="",0,B27) -> 2 | D27: =D26+1 -> 2005 | E27: CDHU | F27: 02.03.120 | G27: =IF($E27="SINAPI",VLOOKUP(F27,'SINAPI_ONERADO-06.25'!$B$11:$E$9657,2,FALSE),IF($E27="CDHU",VLOOKUP($F27,'CDHU_Onerado-05.25-(198)'!$A$9:$F$4118,2,FALSE),IF($E27="FDE",VLOOKUP($F27,#REF!,2,FALSE),IF($E27="SIURB (E)",VLOOKUP($F27,'EDIF sem Des Jan25'!$A$3:$D$3000,2,FALSE),IF($E27="SIURB (I)",VLOOKUP($F27,'INFRA sem Des Jan25'!$A$2:$D$1000,2,FALSE),IF($E27="SICRO NOVO",VLOOKUP($F27,'SICRO.DNIT ONERADA 04.25'!$A$4:$D$7000,2,FALSE),IF($E27="COMPOSIÇÃO",VLOOKUP($F27,#REF!,2),IF($E27="DER",VLOOKUP($F27,#REF!,2,0))))))))) -> Tapume fixo para fechamento de áreas, com portão | H27: =IF($E27="SINAPI",VLOOKUP($F27,'SINAPI_ONERADO-06.25'!$B$11:$E$9657,3,FALSE),IF($E27="CDHU",VLOOKUP($F27,'CDHU_Onerado-05.25-(198)'!$A$9:$F$4118,3,FALSE),IF($E27="FDE",VLOOKUP($F27,#REF!,3,FALSE),IF($E27="SIURB (E)",VLOOKUP($F27,'EDIF sem Des Jan25'!$A$3:$D$3000,3,FALSE),IF($E27="SIURB (I)",VLOOKUP($F27,'INFRA sem Des Jan25'!$A$2:$D$1000,3,FALSE),IF($E27="SICRO NOVO",VLOOKUP($F27,'SICRO.DNIT ONERADA 04.25'!$A$4:$D$7000,3,FALSE),IF($E27="DER",VLOOKUP($F27,#REF!,3,0)))))))) -> M2 | I27: 0 | J27: =IF($E27="SINAPI",VLOOKUP($F27,'SINAPI_ONERADO-06.25'!$B$11:$E$9657,4,FALSE),IF($E27="CDHU",VLOOKUP($F27,'CDHU_Onerado-05.25-(198)'!$A$9:$F$4118,6,FALSE),IF($E27="FDE",VLOOKUP($F27,#REF!,5,FALSE),IF($E27="SIURB (E)",VLOOKUP($F27,'EDIF sem Des Jan25'!$A$3:$D$3000,4,FALSE),IF($E27="SIURB (I)",VLOOKUP($F27,'INFRA sem Des Jan25'!$A$2:$D$1000,4,FALSE),IF($E27="SICRO NOVO",VLOOKUP($F27,'SICRO.DNIT ONERADA 04.25'!$A$4:$D$7000,4,FALSE),IF($E27="DER",VLOOKUP($F27,#REF!,4,0)))))))) -> 114.77 | K27: =J27*(1+IF(N27="x",'CLIENTE-OBJETO'!$P$3,$E$7)) -> 138.56 | L27: =ROUND(ROUND(I27,2)*ROUND(K27,2),2) -> 0 | O27: =IFERROR(L27/$L$13,0) -> 0 | P27: =IF(_xlfn.ISFORMULA(J27)&_xlfn.ISFORMULA(K27)&_xlfn.ISFORMULA(L27)&_xlfn.ISFORMULA(I27)="verdadeiroverdadeiroverdadeiroverdadeiro","ok","verificar formulas") -> verificar formulas
A28: =LEFT(D28,1) -> 2 | B28: =B27 -> 2 | C28: =IF(D28="",0,B28) -> 2 | D28: =D27+1 -> 2006 | E28: SIURB (E) | F28: 1005007 | G28: =IF($E28="SINAPI",VLOOKUP(F28,'SINAPI_ONERADO-06.25'!$B$11:$E$9657,2,FALSE),IF($E28="CDHU",VLOOKUP($F28,'CDHU_Onerado-05.25-(198)'!$A$9:$F$4118,2,FALSE),IF($E28="FDE",VLOOKUP($F28,#REF!,2,FALSE),IF($E28="SIURB (E)",VLOOKUP($F28,'EDIF sem Des Jan25'!$A$3:$D$3000,2,FALSE),IF($E28="SIURB (I)",VLOOKUP($F28,'INFRA sem Des Jan25'!$A$2:$D$1000,2,FALSE),IF($E28="SICRO NOVO",VLOOKUP($F28,'SICRO.DNIT ONERADA 04.25'!$A$4:$D$7000,2,FALSE),IF($E28="COMPOSIÇÃO",VLOOKUP($F28,#REF!,2),IF($E28="DER",VLOOKUP($F28,#REF!,2,0))))))))) -> PORTÃO DE PEDESTRES - 1,15M, PARA TAPUME | H28: =IF($E28="SINAPI",VLOOKUP($F28,'SINAPI_ONERADO-06.25'!$B$11:$E$9657,3,FALSE),IF($E28="CDHU",VLOOKUP($F28,'CDHU_Onerado-05.25-(198)'!$A$9:$F$4118,3,FALSE),IF($E28="FDE",VLOOKUP($F28,#REF!,3,FALSE),IF($E28="SIURB (E)",VLOOKUP($F28,'EDIF sem Des Jan25'!$A$3:$D$3000,3,FALSE),IF($E28="SIURB (I)",VLOOKUP($F28,'INFRA sem Des Jan25'!$A$2:$D$1000,3,FALSE),IF($E28="SICRO NOVO",VLOOKUP($F28,'SICRO.DNIT ONERADA 04.25'!$A$4:$D$7000,3,FALSE),IF($E28="DER",VLOOKUP($F28,#REF!,3,0)))))))) -> M2 | I28: 0 | J28: =IF($E28="SINAPI",VLOOKUP($F28,'SINAPI_ONERADO-06.25'!$B$11:$E$9657,4,FALSE),IF($E28="CDHU",VLOOKUP($F28,'CDHU_Onerado-05.25-(198)'!$A$9:$F$4118,6,FALSE),IF($E28="FDE",VLOOKUP($F28,#REF!,5,FALSE),IF($E28="SIURB (E)",VLOOKUP($F28,'EDIF sem Des Jan25'!$A$3:$D$3000,4,FALSE),IF($E28="SIURB (I)",VLOOKUP($F28,'INFRA sem Des Jan25'!$A$2:$D$1000,4,FALSE),IF($E28="SICRO NOVO",VLOOKUP($F28,'SICRO.DNIT ONERADA 04.25'!$A$4:$D$7000,4,FALSE),IF($E28="DER",VLOOKUP($F28,#REF!,4,0)))))))) -> 277.23 | K28: =J28*(1+IF(N28="x",'CLIENTE-OBJETO'!$P$3,$E$7)) -> 334.7 | L28: =ROUND(ROUND(I28,2)*ROUND(K28,2),2) -> 0 | O28: =IFERROR(L28/$L$13,0) -> 0 | P28: =IF(_xlfn.ISFORMULA(J28)&_xlfn.ISFORMULA(K28)&_xlfn.ISFORMULA(L28)&_xlfn.ISFORMULA(I28)="verdadeiroverdadeiroverdadeiroverdadeiro","ok","verificar formulas") -> verificar formulas
A29: =LEFT(D29,1) -> 2 | B29: =B28 -> 2 | C29: =IF(D29="",0,B29) -> 2 | D29: =D28+1 -> 2007 | E29: CDHU | F29: 02.01.180 | G29: =IF($E29="SINAPI",VLOOKUP(F29,'SINAPI_ONERADO-06.25'!$B$11:$E$9657,2,FALSE),IF($E29="CDHU",VLOOKUP($F29,'CDHU_Onerado-05.25-(198)'!$A$9:$F$4118,2,FALSE),IF($E29="FDE",VLOOKUP($F29,#REF!,2,FALSE),IF($E29="SIURB (E)",VLOOKUP($F29,'EDIF sem Des Jan25'!$A$3:$D$3000,2,FALSE),IF($E29="SIURB (I)",VLOOKUP($F29,'INFRA sem Des Jan25'!$A$2:$D$1000,2,FALSE),IF($E29="SICRO NOVO",VLOOKUP($F29,'SICRO.DNIT ONERADA 04.25'!$A$4:$D$7000,2,FALSE),IF($E29="COMPOSIÇÃO",VLOOKUP($F29,#REF!,2),IF($E29="DER",VLOOKUP($F29,#REF!,2,0))))))))) -> Banheiro químico modelo Standard, com manutenção conforme exigências da CETESB | H29: =IF($E29="SINAPI",VLOOKUP($F29,'SINAPI_ONERADO-06.25'!$B$11:$E$9657,3,FALSE),IF($E29="CDHU",VLOOKUP($F29,'CDHU_Onerado-05.25-(198)'!$A$9:$F$4118,3,FALSE),IF($E29="FDE",VLOOKUP($F29,#REF!,3,FALSE),IF($E29="SIURB (E)",VLOOKUP($F29,'EDIF sem Des Jan25'!$A$3:$D$3000,3,FALSE),IF($E29="SIURB (I)",VLOOKUP($F29,'INFRA sem Des Jan25'!$A$2:$D$1000,3,FALSE),IF($E29="SICRO NOVO",VLOOKUP($F29,'SICRO.DNIT ONERADA 04.25'!$A$4:$D$7000,3,FALSE),IF($E29="DER",VLOOKUP($F29,#REF!,3,0)))))))) -> UNMES | I29: 6 | J29: =IF($E29="SINAPI",VLOOKUP($F29,'SINAPI_ONERADO-06.25'!$B$11:$E$9657,4,FALSE),IF($E29="CDHU",VLOOKUP($F29,'CDHU_Onerado-05.25-(198)'!$A$9:$F$4118,6,FALSE),IF($E29="FDE",VLOOKUP($F29,#REF!,5,FALSE),IF($E29="SIURB (E)",VLOOKUP($F29,'EDIF sem Des Jan25'!$A$3:$D$3000,4,FALSE),IF($E29="SIURB (I)",VLOOKUP($F29,'INFRA sem Des Jan25'!$A$2:$D$1000,4,FALSE),IF($E29="SICRO NOVO",VLOOKUP($F29,'SICRO.DNIT ONERADA 04.25'!$A$4:$D$7000,4,FALSE),IF($E29="DER",VLOOKUP($F29,#REF!,4,0)))))))) -> 1157.98 | K29: =J29*(1+IF(N29="x",'CLIENTE-OBJETO'!$P$3,$E$7)) -> 1398.03 | L29: =ROUND(ROUND(I29,2)*ROUND(K29,2),2) -> 8388.18 | O29: =IFERROR(L29/$L$13,0) -> 0.0081 | P29: =IF(_xlfn.ISFORMULA(J29)&_xlfn.ISFORMULA(K29)&_xlfn.ISFORMULA(L29)&_xlfn.ISFORMULA(I29)="verdadeiroverdadeiroverdadeiroverdadeiro","ok","verificar formulas") -> verificar formulas
A30: =LEFT(D30,1) -> 2 | B30: =B29 -> 2 | C30: =IF(D30="",0,B30) -> 2 | D30: =D29+1 -> 2008 | E30: CDHU | F30: 02.08.020 | G30: =IF($E30="SINAPI",VLOOKUP(F30,'SINAPI_ONERADO-06.25'!$B$11:$E$9657,2,FALSE),IF($E30="CDHU",VLOOKUP($F30,'CDHU_Onerado-05.25-(198)'!$A$9:$F$4118,2,FALSE),IF($E30="FDE",VLOOKUP($F30,#REF!,2,FALSE),IF($E30="SIURB (E)",VLOOKUP($F30,'EDIF sem Des Jan25'!$A$3:$D$3000,2,FALSE),IF($E30="SIURB (I)",VLOOKUP($F30,'INFRA sem Des Jan25'!$A$2:$D$1000,2,FALSE),IF($E30="SICRO NOVO",VLOOKUP($F30,'SICRO.DNIT ONERADA 04.25'!$A$4:$D$7000,2,FALSE),IF($E30="COMPOSIÇÃO",VLOOKUP($F30,#REF!,2),IF($E30="DER",VLOOKUP($F30,#REF!,2,0))))))))) -> Placa de identificação para obra | H30: =IF($E30="SINAPI",VLOOKUP($F30,'SINAPI_ONERADO-06.25'!$B$11:$E$9657,3,FALSE),IF($E30="CDHU",VLOOKUP($F30,'CDHU_Onerado-05.25-(198)'!$A$9:$F$4118,3,FALSE),IF($E30="FDE",VLOOKUP($F30,#REF!,3,FALSE),IF($E30="SIURB (E)",VLOOKUP($F30,'EDIF sem Des Jan25'!$A$3:$D$3000,3,FALSE),IF($E30="SIURB (I)",VLOOKUP($F30,'INFRA sem Des Jan25'!$A$2:$D$1000,3,FALSE),IF($E30="SICRO NOVO",VLOOKUP($F30,'SICRO.DNIT ONERADA 04.25'!$A$4:$D$7000,3,FALSE),IF($E30="DER",VLOOKUP($F30,#REF!,3,0)))))))) -> M2 | I30: =IF(D30<>0,INDEX('MEMORIA CALCULO'!$A$1:$P$2515,MATCH(D30,'MEMORIA CALCULO'!$A$1:$A$2515,0),16),0) -> 6 | J30: =IF($E30="SINAPI",VLOOKUP($F30,'SINAPI_ONERADO-06.25'!$B$11:$E$9657,4,FALSE),IF($E30="CDHU",VLOOKUP($F30,'CDHU_Onerado-05.25-(198)'!$A$9:$F$4118,6,FALSE),IF($E30="FDE",VLOOKUP($F30,#REF!,5,FALSE),IF($E30="SIURB (E)",VLOOKUP($F30,'EDIF sem Des Jan25'!$A$3:$D$3000,4,FALSE),IF($E30="SIURB (I)",VLOOKUP($F30,'INFRA sem Des Jan25'!$A$2:$D$1000,4,FALSE),IF($E30="SICRO NOVO",VLOOKUP($F30,'SICRO.DNIT ONERADA 04.25'!$A$4:$D$7000,4,FALSE),IF($E30="DER",VLOOKUP($F30,#REF!,4,0)))))))) -> 947.27 | K30: =J30*(1+IF(N30="x",'CLIENTE-OBJETO'!$P$3,$E$7)) -> 1143.64 | L30: =ROUND(ROUND(I30,2)*ROUND(K30,2),2) -> 6861.84 | O30: =IFERROR(L30/$L$13,0) -> 0.0066 | P30: =IF(_xlfn.ISFORMULA(J30)&_xlfn.ISFORMULA(K30)&_xlfn.ISFORMULA(L30)&_xlfn.ISFORMULA(I30)="verdadeiroverdadeiroverdadeiroverdadeiro","ok","verificar formulas") -> ok
A32: =LEFT(D32,2) -> 3 | B32: =D32 -> 3 | D32: =D22+1 -> 3 | E32: ESTUDO DE IMPACTO DE VIZINHANÇA | K32: SUBTOTAL | L32: =SUMIF(C33:C352,D32,L33:L360) -> 0 | O32: =IFERROR(L32/$L$13,0) -> 0
A33: =LEFT(D33,1) -> 3 | B33: =B32 -> 3 | C33: =IF(D33="",0,B33) -> 3 | D33: =(D32*1000)+1 -> 3001 | E33: CDHU | F33: 01.27.091 | G33: =IF($E33="SINAPI",VLOOKUP(F33,'SINAPI_ONERADO-06.25'!$B$11:$E$9657,2,FALSE),IF($E33="CDHU",VLOOKUP($F33,'CDHU_Onerado-05.25-(198)'!$A$9:$F$4118,2,FALSE),IF($E33="FDE",VLOOKUP($F33,#REF!,2,FALSE),IF($E33="SIURB (E)",VLOOKUP($F33,'EDIF sem Des Jan25'!$A$3:$D$3000,2,FALSE),IF($E33="SIURB (I)",VLOOKUP($F33,'INFRA sem Des Jan25'!$A$2:$D$1000,2,FALSE),IF($E33="SICRO NOVO",VLOOKUP($F33,'SICRO.DNIT ONERADA 04.25'!$A$4:$D$7000,2,FALSE),IF($E33="COMPOSIÇÃO",VLOOKUP($F33,#REF!,2),IF($E33="DER",VLOOKUP($F33,#REF!,2,0))))))))) -> Estudo de impacto de vizinhança, em área urbana até 10.000 m² | H33: =IF($E33="SINAPI",VLOOKUP($F33,'SINAPI_ONERADO-06.25'!$B$11:$E$9657,3,FALSE),IF($E33="CDHU",VLOOKUP($F33,'CDHU_Onerado-05.25-(198)'!$A$9:$F$4118,3,FALSE),IF($E33="FDE",VLOOKUP($F33,#REF!,3,FALSE),IF($E33="SIURB (E)",VLOOKUP($F33,'EDIF sem Des Jan25'!$A$3:$D$3000,3,FALSE),IF($E33="SIURB (I)",VLOOKUP($F33,'INFRA sem Des Jan25'!$A$2:$D$1000,3,FALSE),IF($E33="SICRO NOVO",VLOOKUP($F33,'SICRO.DNIT ONERADA 04.25'!$A$4:$D$7000,3,FALSE),IF($E33="DER",VLOOKUP($F33,#REF!,3,0)))))))) -> UN | I33: 0 | J33: =IF($E33="SINAPI",VLOOKUP($F33,'SINAPI_ONERADO-06.25'!$B$11:$E$9657,4,FALSE),IF($E33="CDHU",VLOOKUP($F33,'CDHU_Onerado-05.25-(198)'!$A$9:$F$4118,6,FALSE),IF($E33="FDE",VLOOKUP($F33,#REF!,5,FALSE),IF($E33="SIURB (E)",VLOOKUP($F33,'EDIF sem Des Jan25'!$A$3:$D$3000,4,FALSE),IF($E33="SIURB (I)",VLOOKUP($F33,'INFRA sem Des Jan25'!$A$2:$D$1000,4,FALSE),IF($E33="SICRO NOVO",VLOOKUP($F33,'SICRO.DNIT ONERADA 04.25'!$A$4:$D$7000,4,FALSE),IF($E33="DER",VLOOKUP($F33,#REF!,4,0)))))))) -> 33631.13 | K33: =J33*(1+IF(N33="x",'CLIENTE-OBJETO'!$P$3,$E$7)) -> 40602.86 | L33: =ROUND(ROUND(I33,2)*ROUND(K33,2),2) -> 0 | O33: =IFERROR(L33/$L$13,0) -> 0 | P33: =IF(_xlfn.ISFORMULA(J33)&_xlfn.ISFORMULA(K33)&_xlfn.ISFORMULA(L33)&_xlfn.ISFORMULA(I33)="verdadeiroverdadeiroverdadeiroverdadeiro","ok","verificar formulas") -> verificar formulas
D35: 4 | E35: TERRAPLANAGEM | K35: SUBTOTAL | L35: =SUMIF(C36:C362,D35,L36:L370) -> 67438.86 | O35: =IFERROR(L35/$L$13,0) -> 0.0649
E36: MOVIMENTAÇÕES DE TERRA
A37: =LEFT(D37,1) -> 4 | B37: =D35 -> 4 | C37: =IF(D37="",0,B37) -> 4 | D37: =(D35*1000)+1 -> 4001 | E37: CDHU | F37: 07.01.020 | G37: =IF($E37="SINAPI",VLOOKUP(F37,'SINAPI_ONERADO-06.25'!$B$11:$E$9657,2,FALSE),IF($E37="CDHU",VLOOKUP($F37,'CDHU_Onerado-05.25-(198)'!$A$9:$F$4118,2,FALSE),IF($E37="FDE",VLOOKUP($F37,#REF!,2,FALSE),IF($E37="SIURB (E)",VLOOKUP($F37,'EDIF sem Des Jan25'!$A$3:$D$3000,2,FALSE),IF($E37="SIURB (I)",VLOOKUP($F37,'INFRA sem Des Jan25'!$A$2:$D$1000,2,FALSE),IF($E37="SICRO NOVO",VLOOKUP($F37,'SICRO.DNIT ONERADA 04.25'!$A$4:$D$7000,2,FALSE),IF($E37="COMPOSIÇÃO",VLOOKUP($F37,#REF!,2),IF($E37="DER",VLOOKUP($F37,#REF!,2,0))))))))) -> Escavação e carga mecanizada em solo de 1ª categoria, em campo aberto | H37: =IF($E37="SINAPI",VLOOKUP($F37,'SINAPI_ONERADO-06.25'!$B$11:$E$9657,3,FALSE),IF($E37="CDHU",VLOOKUP($F37,'CDHU_Onerado-05.25-(198)'!$A$9:$F$4118,3,FALSE),IF($E37="FDE",VLOOKUP($F37,#REF!,3,FALSE),IF($E37="SIURB (E)",VLOOKUP($F37,'EDIF sem Des Jan25'!$A$3:$D$3000,3,FALSE),IF($E37="SIURB (I)",VLOOKUP($F37,'INFRA sem Des Jan25'!$A$2:$D$1000,3,FALSE),IF($E37="SICRO NOVO",VLOOKUP($F37,'SICRO.DNIT ONERADA 04.25'!$A$4:$D$7000,3,FALSE),IF($E37="DER",VLOOKUP($F37,#REF!,3,0)))))))) -> M3 | I37: =IF(D37<>0,INDEX('MEMORIA CALCULO'!$A$1:$P$2515,MATCH(D37,'MEMORIA CALCULO'!$A$1:$A$2515,0),16),0) -> 875.15 | J37: =IF($E37="SINAPI",VLOOKUP($F37,'SINAPI_ONERADO-06.25'!$B$11:$E$9657,4,FALSE),IF($E37="CDHU",VLOOKUP($F37,'CDHU_Onerado-05.25-(198)'!$A$9:$F$4118,6,FALSE),IF($E37="FDE",VLOOKUP($F37,#REF!,5,FALSE),IF($E37="SIURB (E)",VLOOKUP($F37,'EDIF sem Des Jan25'!$A$3:$D$3000,4,FALSE),IF($E37="SIURB (I)",VLOOKUP($F37,'INFRA sem Des Jan25'!$A$2:$D$1000,4,FALSE),IF($E37="SICRO NOVO",VLOOKUP($F37,'SICRO.DNIT ONERADA 04.25'!$A$4:$D$7000,4,FALSE),IF($E37="DER",VLOOKUP($F37,#REF!,4,0)))))))) -> 16.79 | K37: =J37*(1+IF(N37="x",'CLIENTE-OBJETO'!$P$3,$E$7)) -> 20.27 | L37: =ROUND(ROUND(I37,2)*ROUND(K37,2),2) -> 17739.29 | O37: =IFERROR(L37/$L$13,0) -> 0.0171 | P37: =IF(_xlfn.ISFORMULA(J37)&_xlfn.ISFORMULA(K37)&_xlfn.ISFORMULA(L37)&_xlfn.ISFORMULA(I37)="verdadeiroverdadeiroverdadeiroverdadeiro","ok","verificar formulas") -> ok
A38: =LEFT(D38,1) -> 4 | B38: =B37 -> 4 | C38: =IF(D38="",0,B38) -> 4 | D38: =D37+1 -> 4002 | E38: CDHU | F38: 07.11.020 | G38: =IF($E38="SINAPI",VLOOKUP(F38,'SINAPI_ONERADO-06.25'!$B$11:$E$9657,2,FALSE),IF($E38="CDHU",VLOOKUP($F38,'CDHU_Onerado-05.25-(198)'!$A$9:$F$4118,2,FALSE),IF($E38="FDE",VLOOKUP($F38,#REF!,2,FALSE),IF($E38="SIURB (E)",VLOOKUP($F38,'EDIF sem Des Jan25'!$A$3:$D$3000,2,FALSE),IF($E38="SIURB (I)",VLOOKUP($F38,'INFRA sem Des Jan25'!$A$2:$D$1000,2,FALSE),IF($E38="SICRO NOVO",VLOOKUP($F38,'SICRO.DNIT ONERADA 04.25'!$A$4:$D$7000,2,FALSE),IF($E38="COMPOSIÇÃO",VLOOKUP($F38,#REF!,2),IF($E38="DER",VLOOKUP($F38,#REF!,2,0))))))))) -> Reaterro compactado mecanizado de vala ou cava com compactador | H38: =IF($E38="SINAPI",VLOOKUP($F38,'SINAPI_ONERADO-06.25'!$B$11:$E$9657,3,FALSE),IF($E38="CDHU",VLOOKUP($F38,'CDHU_Onerado-05.25-(198)'!$A$9:$F$4118,3,FALSE),IF($E38="FDE",VLOOKUP($F38,#REF!,3,FALSE),IF($E38="SIURB (E)",VLOOKUP($F38,'EDIF sem Des Jan25'!$A$3:$D$3000,3,FALSE),IF($E38="SIURB (I)",VLOOKUP($F38,'INFRA sem Des Jan25'!$A$2:$D$1000,3,FALSE),IF($E38="SICRO NOVO",VLOOKUP($F38,'SICRO.DNIT ONERADA 04.25'!$A$4:$D$7000,3,FALSE),IF($E38="DER",VLOOKUP($F38,#REF!,3,0)))))))) -> M3 | I38: =IF(D38<>0,INDEX('MEMORIA CALCULO'!$A$1:$P$2515,MATCH(D38,'MEMORIA CALCULO'!$A$1:$A$2515,0),16),0) -> 360.91 | J38: =IF($E38="SINAPI",VLOOKUP($F38,'SINAPI_ONERADO-06.25'!$B$11:$E$9657,4,FALSE),IF($E38="CDHU",VLOOKUP($F38,'CDHU_Onerado-05.25-(198)'!$A$9:$F$4118,6,FALSE),IF($E38="FDE",VLOOKUP($F38,#REF!,5,FALSE),IF($E38="SIURB (E)",VLOOKUP($F38,'EDIF sem Des Jan25'!$A$3:$D$3000,4,FALSE),IF($E38="SIURB (I)",VLOOKUP($F38,'INFRA sem Des Jan25'!$A$2:$D$1000,4,FALSE),IF($E38="SICRO NOVO",VLOOKUP($F38,'SICRO.DNIT ONERADA 04.25'!$A$4:$D$7000,4,FALSE),IF($E38="DER",VLOOKUP($F38,#REF!,4,0)))))))) -> 7.57 | K38: =J38*(1+IF(N38="x",'CLIENTE-OBJETO'!$P$3,$E$7)) -> 9.14 | L38: =ROUND(ROUND(I38,2)*ROUND(K38,2),2) -> 3298.72 | O38: =IFERROR(L38/$L$13,0) -> 0.0032 | P38: =IF(_xlfn.ISFORMULA(J38)&_xlfn.ISFORMULA(K38)&_xlfn.ISFORMULA(L38)&_xlfn.ISFORMULA(I38)="verdadeiroverdadeiroverdadeiroverdadeiro","ok","verificar formulas") -> ok
E39: VOLUME DE TERRA BOTA FORA
A40: =LEFT(D40,1) -> 4 | B40: =B38 -> 4 | C40: =IF(D40="",0,B40) -> 4 | D40: =D38+1 -> 4003 | E40: CDHU | F40: 05.10.023 | G40: =IF($E40="SINAPI",VLOOKUP(F40,'SINAPI_ONERADO-06.25'!$B$11:$E$9657,2,FALSE),IF($E40="CDHU",VLOOKUP($F40,'CDHU_Onerado-05.25-(198)'!$A$9:$F$4118,2,FALSE),IF($E40="FDE",VLOOKUP($F40,#REF!,2,FALSE),IF($E40="SIURB (E)",VLOOKUP($F40,'EDIF sem Des Jan25'!$A$3:$D$3000,2,FALSE),IF($E40="SIURB (I)",VLOOKUP($F40,'INFRA sem Des Jan25'!$A$2:$D$1000,2,FALSE),IF($E40="SICRO NOVO",VLOOKUP($F40,'SICRO.DNIT ONERADA 04.25'!$A$4:$D$7000,2,FALSE),IF($E40="COMPOSIÇÃO",VLOOKUP($F40,#REF!,2),IF($E40="DER",VLOOKUP($F40,#REF!,2,0))))))))) -> Transporte de solo de 1ª e 2ª categoria por caminhão para distâncias superiores ao 5° km até o 10° km | H40: =IF($E40="SINAPI",VLOOKUP($F40,'SINAPI_ONERADO-06.25'!$B$11:$E$9657,3,FALSE),IF($E40="CDHU",VLOOKUP($F40,'CDHU_Onerado-05.25-(198)'!$A$9:$F$4118,3,FALSE),IF($E40="FDE",VLOOKUP($F40,#REF!,3,FALSE),IF($E40="SIURB (E)",VLOOKUP($F40,'EDIF sem Des Jan25'!$A$3:$D$3000,3,FALSE),IF($E40="SIURB (I)",VLOOKUP($F40,'INFRA sem Des Jan25'!$A$2:$D$1000,3,FALSE),IF($E40="SICRO NOVO",VLOOKUP($F40,'SICRO.DNIT ONERADA 04.25'!$A$4:$D$7000,3,FALSE),IF($E40="DER",VLOOKUP($F40,#REF!,3,0)))))))) -> M3 | I40: =IF(D40<>0,INDEX('MEMORIA CALCULO'!$A$1:$P$2515,MATCH(D40,'MEMORIA CALCULO'!$A$1:$A$2515,0),16),0) -> 514.24 | J40: =IF($E40="SINAPI",VLOOKUP($F40,'SINAPI_ONERADO-06.25'!$B$11:$E$9657,4,FALSE),IF($E40="CDHU",VLOOKUP($F40,'CDHU_Onerado-05.25-(198)'!$A$9:$F$4118,6,FALSE),IF($E40="FDE",VLOOKUP($F40,#REF!,5,FALSE),IF($E40="SIURB (E)",VLOOKUP($F40,'EDIF sem Des Jan25'!$A$3:$D$3000,4,FALSE),IF($E40="SIURB (I)",VLOOKUP($F40,'INFRA sem Des Jan25'!$A$2:$D$1000,4,FALSE),IF($E40="SICRO NOVO",VLOOKUP($F40,'SICRO.DNIT ONERADA 04.25'!$A$4:$D$7000,4,FALSE),IF($E40="DER",VLOOKUP($F40,#REF!,4,0)))))))) -> 19.57 | K40: =J40*(1+IF(N40="x",'CLIENTE-OBJETO'!$P$3,$E$7)) -> 23.63 | L40: =ROUND(ROUND(I40,2)*ROUND(K40,2),2) -> 12151.49 | O40: =IFERROR(L40/$L$13,0) -> 0.0117 | P40: =IF(_xlfn.ISFORMULA(J40)&_xlfn.ISFORMULA(K40)&_xlfn.ISFORMULA(L40)&_xlfn.ISFORMULA(I40)="verdadeiroverdadeiroverdadeiroverdadeiro","ok","verificar formulas") -> ok
A41: =LEFT(D41,1) -> 4 | B41: =B40 -> 4 | C41: =IF(D41="",0,B41) -> 4 | D41: =D40+1 -> 4004 | E41: CDHU | F41: 07.10.020 | G41: =IF($E41="SINAPI",VLOOKUP(F41,'SINAPI_ONERADO-06.25'!$B$11:$E$9657,2,FALSE),IF($E41="CDHU",VLOOKUP($F41,'CDHU_Onerado-05.25-(198)'!$A$9:$F$4118,2,FALSE),IF($E41="FDE",VLOOKUP($F41,#REF!,2,FALSE),IF($E41="SIURB (E)",VLOOKUP($F41,'EDIF sem Des Jan25'!$A$3:$D$3000,2,FALSE),IF($E41="SIURB (I)",VLOOKUP($F41,'INFRA sem Des Jan25'!$A$2:$D$1000,2,FALSE),IF($E41="SICRO NOVO",VLOOKUP($F41,'SICRO.DNIT ONERADA 04.25'!$A$4:$D$7000,2,FALSE),IF($E41="COMPOSIÇÃO",VLOOKUP($F41,#REF!,2),IF($E41="DER",VLOOKUP($F41,#REF!,2,0))))))))) -> Espalhamento de solo em bota-fora com compactação sem controle | H41: =IF($E41="SINAPI",VLOOKUP($F41,'SINAPI_ONERADO-06.25'!$B$11:$E$9657,3,FALSE),IF($E41="CDHU",VLOOKUP($F41,'CDHU_Onerado-05.25-(198)'!$A$9:$F$4118,3,FALSE),IF($E41="FDE",VLOOKUP($F41,#REF!,3,FALSE),IF($E41="SIURB (E)",VLOOKUP($F41,'EDIF sem Des Jan25'!$A$3:$D$3000,3,FALSE),IF($E41="SIURB (I)",VLOOKUP($F41,'INFRA sem Des Jan25'!$A$2:$D$1000,3,FALSE),IF($E41="SICRO NOVO",VLOOKUP($F41,'SICRO.DNIT ONERADA 04.25'!$A$4:$D$7000,3,FALSE),IF($E41="DER",VLOOKUP($F41,#REF!,3,0)))))))) -> M3 | I41: =IF(D41<>0,INDEX('MEMORIA CALCULO'!$A$1:$P$2515,MATCH(D41,'MEMORIA CALCULO'!$A$1:$A$2515,0),16),0) -> 514.24 | J41: =IF($E41="SINAPI",VLOOKUP($F41,'SINAPI_ONERADO-06.25'!$B$11:$E$9657,4,FALSE),IF($E41="CDHU",VLOOKUP($F41,'CDHU_Onerado-05.25-(198)'!$A$9:$F$4118,6,FALSE),IF($E41="FDE",VLOOKUP($F41,#REF!,5,FALSE),IF($E41="SIURB (E)",VLOOKUP($F41,'EDIF sem Des Jan25'!$A$3:$D$3000,4,FALSE),IF($E41="SIURB (I)",VLOOKUP($F41,'INFRA sem Des Jan25'!$A$2:$D$1000,4,FALSE),IF($E41="SICRO NOVO",VLOOKUP($F41,'SICRO.DNIT ONERADA 04.25'!$A$4:$D$7000,4,FALSE),IF($E41="DER",VLOOKUP($F41,#REF!,4,0)))))))) -> 5.59 | K41: =J41*(1+IF(N41="x",'CLIENTE-OBJETO'!$P$3,$E$7)) -> 6.75 | L41: =ROUND(ROUND(I41,2)*ROUND(K41,2),2) -> 3471.12 | O41: =IFERROR(L41/$L$13,0) -> 0.0033 | P41: =IF(_xlfn.ISFORMULA(J41)&_xlfn.ISFORMULA(K41)&_xlfn.ISFORMULA(L41)&_xlfn.ISFORMULA(I41)="verdadeiroverdadeiroverdadeiroverdadeiro","ok","verificar formulas") -> ok
A42: =LEFT(D42,1) -> 4 | B42: =B40 -> 4 | C42: =IF(D42="",0,B42) -> 4 | D42: =D41+1 -> 4005 | E42: CDHU | F42: 05.09.007 | G42: =IF($E42="SINAPI",VLOOKUP(F42,'SINAPI_ONERADO-06.25'!$B$11:$E$9657,2,FALSE),IF($E42="CDHU",VLOOKUP($F42,'CDHU_Onerado-05.25-(198)'!$A$9:$F$4118,2,FALSE),IF($E42="FDE",VLOOKUP($F42,#REF!,2,FALSE),IF($E42="SIURB (E)",VLOOKUP($F42,'EDIF sem Des Jan25'!$A$3:$D$3000,2,FALSE),IF($E42="SIURB (I)",VLOOKUP($F42,'INFRA sem Des Jan25'!$A$2:$D$1000,2,FALSE),IF($E42="SICRO NOVO",VLOOKUP($F42,'SICRO.DNIT ONERADA 04.25'!$A$4:$D$7000,2,FALSE),IF($E42="COMPOSIÇÃO",VLOOKUP($F42,#REF!,2),IF($E42="DER",VLOOKUP($F42,#REF!,2,0))))))))) -> Taxa de destinação de resíduo sólido em aterro, tipo solo/terra | H42: =IF($E42="SINAPI",VLOOKUP($F42,'SINAPI_ONERADO-06.25'!$B$11:$E$9657,3,FALSE),IF($E42="CDHU",VLOOKUP($F42,'CDHU_Onerado-05.25-(198)'!$A$9:$F$4118,3,FALSE),IF($E42="FDE",VLOOKUP($F42,#REF!,3,FALSE),IF($E42="SIURB (E)",VLOOKUP($F42,'EDIF sem Des Jan25'!$A$3:$D$3000,3,FALSE),IF($E42="SIURB (I)",VLOOKUP($F42,'INFRA sem Des Jan25'!$A$2:$D$1000,3,FALSE),IF($E42="SICRO NOVO",VLOOKUP($F42,'SICRO.DNIT ONERADA 04.25'!$A$4:$D$7000,3,FALSE),IF($E42="DER",VLOOKUP($F42,#REF!,3,0)))))))) -> M3 | I42: =IF(D42<>0,INDEX('MEMORIA CALCULO'!$A$1:$P$2515,MATCH(D42,'MEMORIA CALCULO'!$A$1:$A$2515,0),16),0) -> 668.51 | J42: =IF($E42="SINAPI",VLOOKUP($F42,'SINAPI_ONERADO-06.25'!$B$11:$E$9657,4,FALSE),IF($E42="CDHU",VLOOKUP($F42,'CDHU_Onerado-05.25-(198)'!$A$9:$F$4118,6,FALSE),IF($E42="FDE",VLOOKUP($F42,#REF!,5,FALSE),IF($E42="SIURB (E)",VLOOKUP($F42,'EDIF sem Des Jan25'!$A$3:$D$3000,4,FALSE),IF($E42="SIURB (I)",VLOOKUP($F42,'INFRA sem Des Jan25'!$A$2:$D$1000,4,FALSE),IF($E42="SICRO NOVO",VLOOKUP($F42,'SICRO.DNIT ONERADA 04.25'!$A$4:$D$7000,4,FALSE),IF($E42="DER",VLOOKUP($F42,#REF!,4,0)))))))) -> 30.67 | K42: =J42*(1+IF(N42="x",'CLIENTE-OBJETO'!$P$3,$E$7)) -> 37.03 | L42: =ROUND(ROUND(I42,2)*ROUND(K42,2),2) -> 24754.93 | O42: =IFERROR(L42/$L$13,0) -> 0.0238 | P42: =IF(_xlfn.ISFORMULA(J42)&_xlfn.ISFORMULA(K42)&_xlfn.ISFORMULA(L42)&_xlfn.ISFORMULA(I42)="verdadeiroverdadeiroverdadeiroverdadeiro","ok","verificar formulas") -> ok
E43: PAISAGISMO - PLANTIO DE GRAMA
A44: =LEFT(D44,1) -> 4 | B44: =B41 -> 4 | C44: =IF(D44="",0,B44) -> 4 | D44: =D42+1 -> 4006 | E44: CDHU | F44: 34.02.020 | G44: =IF($E44="SINAPI",VLOOKUP(F44,'SINAPI_ONERADO-06.25'!$B$11:$E$9657,2,FALSE),IF($E44="CDHU",VLOOKUP($F44,'CDHU_Onerado-05.25-(198)'!$A$9:$F$4118,2,FALSE),IF($E44="FDE",VLOOKUP($F44,#REF!,2,FALSE),IF($E44="SIURB (E)",VLOOKUP($F44,'EDIF sem Des Jan25'!$A$3:$D$3000,2,FALSE),IF($E44="SIURB (I)",VLOOKUP($F44,'INFRA sem Des Jan25'!$A$2:$D$1000,2,FALSE),IF($E44="SICRO NOVO",VLOOKUP($F44,'SICRO.DNIT ONERADA 04.25'!$A$4:$D$7000,2,FALSE),IF($E44="COMPOSIÇÃO",VLOOKUP($F44,#REF!,2),IF($E44="DER",VLOOKUP($F44,#REF!,2,0))))))))) -> Plantio de grama batatais em placas (praças e áreas abertas) | H44: =IF($E44="SINAPI",VLOOKUP($F44,'SINAPI_ONERADO-06.25'!$B$11:$E$9657,3,FALSE),IF($E44="CDHU",VLOOKUP($F44,'CDHU_Onerado-05.25-(198)'!$A$9:$F$4118,3,FALSE),IF($E44="FDE",VLOOKUP($F44,#REF!,3,FALSE),IF($E44="SIURB (E)",VLOOKUP($F44,'EDIF sem Des Jan25'!$A$3:$D$3000,3,FALSE),IF($E44="SIURB (I)",VLOOKUP($F44,'INFRA sem Des Jan25'!$A$2:$D$1000,3,FALSE),IF($E44="SICRO NOVO",VLOOKUP($F44,'SICRO.DNIT ONERADA 04.25'!$A$4:$D$7000,3,FALSE),IF($E44="DER",VLOOKUP($F44,#REF!,3,0)))))))) -> M2 | I44: =IF(D44<>0,INDEX('MEMORIA CALCULO'!$A$1:$P$2515,MATCH(D44,'MEMORIA CALCULO'!$A$1:$A$2515,0),16),0) -> 177 | J44: =IF($E44="SINAPI",VLOOKUP($F44,'SINAPI_ONERADO-06.25'!$B$11:$E$9657,4,FALSE),IF($E44="CDHU",VLOOKUP($F44,'CDHU_Onerado-05.25-(198)'!$A$9:$F$4118,6,FALSE),IF($E44="FDE",VLOOKUP($F44,#REF!,5,FALSE),IF($E44="SIURB (E)",VLOOKUP($F44,'EDIF sem Des Jan25'!$A$3:$D$3000,4,FALSE),IF($E44="SIURB (I)",VLOOKUP($F44,'INFRA sem Des Jan25'!$A$2:$D$1000,4,FALSE),IF($E44="SICRO NOVO",VLOOKUP($F44,'SICRO.DNIT ONERADA 04.25'!$A$4:$D$7000,4,FALSE),IF($E44="DER",VLOOKUP($F44,#REF!,4,0)))))))) -> 14.47 | K44: =J44*(1+IF(N44="x",'CLIENTE-OBJETO'!$P$3,$E$7)) -> 17.47 | L44: =ROUND(ROUND(I44,2)*ROUND(K44,2),2) -> 3092.19 | O44: =IFERROR(L44/$L$13,0) -> 0.003 | P44: =IF(_xlfn.ISFORMULA(J44)&_xlfn.ISFORMULA(K44)&_xlfn.ISFORMULA(L44)&_xlfn.ISFORMULA(I44)="verdadeiroverdadeiroverdadeiroverdadeiro","ok","verificar formulas") -> ok
A45: =LEFT(D45,1) -> 4 | B45: =B44 -> 4 | C45: =IF(D45="",0,B45) -> 4 | D45: =D44+1 -> 4007 | E45: CDHU | F45: 34.02.400 | G45: =IF($E45="SINAPI",VLOOKUP(F45,'SINAPI_ONERADO-06.25'!$B$11:$E$9657,2,FALSE),IF($E45="CDHU",VLOOKUP($F45,'CDHU_Onerado-05.25-(198)'!$A$9:$F$4118,2,FALSE),IF($E45="FDE",VLOOKUP($F45,#REF!,2,FALSE),IF($E45="SIURB (E)",VLOOKUP($F45,'EDIF sem Des Jan25'!$A$3:$D$3000,2,FALSE),IF($E45="SIURB (I)",VLOOKUP($F45,'INFRA sem Des Jan25'!$A$2:$D$1000,2,FALSE),IF($E45="SICRO NOVO",VLOOKUP($F45,'SICRO.DNIT ONERADA 04.25'!$A$4:$D$7000,2,FALSE),IF($E45="COMPOSIÇÃO",VLOOKUP($F45,#REF!,2),IF($E45="DER",VLOOKUP($F45,#REF!,2,0))))))))) -> Plantio de grama pelo processo hidrossemeadura | H45: =IF($E45="SINAPI",VLOOKUP($F45,'SINAPI_ONERADO-06.25'!$B$11:$E$9657,3,FALSE),IF($E45="CDHU",VLOOKUP($F45,'CDHU_Onerado-05.25-(198)'!$A$9:$F$4118,3,FALSE),IF($E45="FDE",VLOOKUP($F45,#REF!,3,FALSE),IF($E45="SIURB (E)",VLOOKUP($F45,'EDIF sem Des Jan25'!$A$3:$D$3000,3,FALSE),IF($E45="SIURB (I)",VLOOKUP($F45,'INFRA sem Des Jan25'!$A$2:$D$1000,3,FALSE),IF($E45="SICRO NOVO",VLOOKUP($F45,'SICRO.DNIT ONERADA 04.25'!$A$4:$D$7000,3,FALSE),IF($E45="DER",VLOOKUP($F45,#REF!,3,0)))))))) -> M2 | I45: =IF(D45<>0,INDEX('MEMORIA CALCULO'!$A$1:$P$2515,MATCH(D45,'MEMORIA CALCULO'!$A$1:$A$2515,0),16),0) -> 177 | J45: =IF($E45="SINAPI",VLOOKUP($F45,'SINAPI_ONERADO-06.25'!$B$11:$E$9657,4,FALSE),IF($E45="CDHU",VLOOKUP($F45,'CDHU_Onerado-05.25-(198)'!$A$9:$F$4118,6,FALSE),IF($E45="FDE",VLOOKUP($F45,#REF!,5,FALSE),IF($E45="SIURB (E)",VLOOKUP($F45,'EDIF sem Des Jan25'!$A$3:$D$3000,4,FALSE),IF($E45="SIURB (I)",VLOOKUP($F45,'INFRA sem Des Jan25'!$A$2:$D$1000,4,FALSE),IF($E45="SICRO NOVO",VLOOKUP($F45,'SICRO.DNIT ONERADA 04.25'!$A$4:$D$7000,4,FALSE),IF($E45="DER",VLOOKUP($F45,#REF!,4,0)))))))) -> 13.72 | K45: =J45*(1+IF(N45="x",'CLIENTE-OBJETO'!$P$3,$E$7)) -> 16.56 | L45: =ROUND(ROUND(I45,2)*ROUND(K45,2),2) -> 2931.12 | O45: =IFERROR(L45/$L$13,0) -> 0.0028 | P45: =IF(_xlfn.ISFORMULA(J45)&_xlfn.ISFORMULA(K45)&_xlfn.ISFORMULA(L45)&_xlfn.ISFORMULA(I45)="verdadeiroverdadeiroverdadeiroverdadeiro","ok","verificar formulas") -> ok
A47: =LEFT(D47,2) -> 5 | B47: =D47 -> 5 | C47: =IF(D47="",0,B47) -> 5 | D47: =D35+1 -> 5 | E47: PAVIMENTAÇÃO ASFÁLTICA | K47: SUBTOTAL | L47: =SUMIF(C49:C382,D47,L49:L390) -> 630086.48 | O47: =IFERROR(L47/$L$13,0) -> 0.6065
E48: LOCAÇÃO DE VIAS
A49: =LEFT(D49,1) -> 5 | B49: =B47 -> 5 | C49: =IF(D49="",0,B49) -> 5 | D49: =(D47*1000)+1 -> 5001 | E49: CDHU | F49: 02.10.060 | G49: =IF($E49="SINAPI",VLOOKUP(F49,'SINAPI_ONERADO-06.25'!$B$11:$E$9657,2,FALSE),IF($E49="CDHU",VLOOKUP($F49,'CDHU_Onerado-05.25-(198)'!$A$9:$F$4118,2,FALSE),IF($E49="FDE",VLOOKUP($F49,#REF!,2,FALSE),IF($E49="SIURB (E)",VLOOKUP($F49,'EDIF sem Des Jan25'!$A$3:$D$3000,2,FALSE),IF($E49="SIURB (I)",VLOOKUP($F49,'INFRA sem Des Jan25'!$A$2:$D$1000,2,FALSE),IF($E49="SICRO NOVO",VLOOKUP($F49,'SICRO.DNIT ONERADA 04.25'!$A$4:$D$7000,2,FALSE),IF($E49="COMPOSIÇÃO",VLOOKUP($F49,#REF!,2),IF($E49="DER",VLOOKUP($F49,#REF!,2,0))))))))) -> Locação de vias, calçadas, tanques e lagoas | H49: =IF($E49="SINAPI",VLOOKUP($F49,'SINAPI_ONERADO-06.25'!$B$11:$E$9657,3,FALSE),IF($E49="CDHU",VLOOKUP($F49,'CDHU_Onerado-05.25-(198)'!$A$9:$F$4118,3,FALSE),IF($E49="FDE",VLOOKUP($F49,#REF!,3,FALSE),IF($E49="SIURB (E)",VLOOKUP($F49,'EDIF sem Des Jan25'!$A$3:$D$3000,3,FALSE),IF($E49="SIURB (I)",VLOOKUP($F49,'INFRA sem Des Jan25'!$A$2:$D$1000,3,FALSE),IF($E49="SICRO NOVO",VLOOKUP($F49,'SICRO.DNIT ONERADA 04.25'!$A$4:$D$7000,3,FALSE),IF($E49="DER",VLOOKUP($F49,#REF!,3,0)))))))) -> M2 | I49: =IF(D49<>0,INDEX('MEMORIA CALCULO'!$A$1:$P$2515,MATCH(D49,'MEMORIA CALCULO'!$A$1:$A$2515,0),16),0) -> 2624 | J49: =IF($E49="SINAPI",VLOOKUP($F49,'SINAPI_ONERADO-06.25'!$B$11:$E$9657,4,FALSE),IF($E49="CDHU",VLOOKUP($F49,'CDHU_Onerado-05.25-(198)'!$A$9:$F$4118,6,FALSE),IF($E49="FDE",VLOOKUP($F49,#REF!,5,FALSE),IF($E49="SIURB (E)",VLOOKUP($F49,'EDIF sem Des Jan25'!$A$3:$D$3000,4,FALSE),IF($E49="SIURB (I)",VLOOKUP($F49,'INFRA sem Des Jan25'!$A$2:$D$1000,4,FALSE),IF($E49="SICRO NOVO",VLOOKUP($F49,'SICRO.DNIT ONERADA 04.25'!$A$4:$D$7000,4,FALSE),IF($E49="DER",VLOOKUP($F49,#REF!,4,0)))))))) -> 1.88 | K49: =J49*(1+IF(N49="x",'CLIENTE-OBJETO'!$P$3,$E$7)) -> 2.27 | L49: =ROUND(ROUND(I49,2)*ROUND(K49,2),2) -> 5956.48 | O49: =IFERROR(L49/$L$13,0) -> 0.0057 | P49: =IF(_xlfn.ISFORMULA(J49)&_xlfn.ISFORMULA(K49)&_xlfn.ISFORMULA(L49)&_xlfn.ISFORMULA(I49)="verdadeiroverdadeiroverdadeiroverdadeiro","ok","verificar formulas") -> ok
...

Sheet Cronograma Fisico e Financeiro
A1: Dados da Obra
A2: Cliente | B2: ='CLIENTE-OBJETO'!B2 -> PREFEITURA MUNICIPAL DE SANTA BRANCA
A3: Objeto | B3: ='CLIENTE-OBJETO'!B3 -> PROJETO DE INFRAESTRUTURA - RUA LARANJEIRAS
A4: Local | B4: ='CLIENTE-OBJETO'!B4 -> RUA LARANJEIRAS - SANTA BRANCA/SP
A6: CRONOGRAMA FÍSICO - FINANCEIRO
A8: Item | B8: Descrição dos Serviços | C8: TOTAL | D8: (%) TOTAL | E8: (%) PARCIAL | F8: MÊS 01 | J8: MÊS 02 | N8: MÊS 03 | R8: MÊS 04 | V8: MÊS 05 | Z8: MÊS 06
F9: 1 | G9: 2 | H9: 3 | I9: 4 | J9: 1 | K9: 2 | L9: 3 | M9: 4 | N9: 1 | O9: 2 | P9: 3 | Q9: 4 | R9: 1 | S9: 2 | T9: 3 | U9: 4 | V9: 1 | W9: 2 | X9: 3 | Y9: 4 | Z9: 1 | AA9: 2 | AB9: 3 | AC9: 4
A10: 2 | B10: =IF(A10<>0,INDEX('Plan. Orçamentária'!$D$11:$K$186,MATCH(A10,'Plan. Orçamentária'!$D$11:$D$186,0),2),0) -> CANTEIRO DE OBRAS | C10: =IF(A10<>0,INDEX(RESUMO!$A$10:$J$443,MATCH(A10,RESUMO!$A$10:$A$443,0),5),0) -> 15250.02 | D10: =IF(A10<>0,INDEX(RESUMO!$A$10:$I$515,MATCH(A10,RESUMO!$A$10:$A$238,0),8),0) -> 0.0147 | E10: =IF(A10<>0,INDEX(RESUMO!$A$10:$I$515,MATCH(A10,RESUMO!$A$10:$A$238,0),8),0) -> 0.0147 | F10: 0.04 | H10: 0.14 | J10: 0.16 | N10: 0.16 | R10: 0.16 | V10: 0.17 | Z10: 0.17
F12: =F10*$C10 -> 610 | H12: =H10*$C10 -> 2135 | J12: =J10*$C10 -> 2440 | N12: =N10*$C10 -> 2440 | R12: =R10*$C10 -> 2440 | V12: =V10*$C10 -> 2592.5 | Z12: =Z10*$C10 -> 2592.5
A13: 4 | B13: =IF(A13<>0,INDEX('Plan. Orçamentária'!$D$11:$K$186,MATCH(A13,'Plan. Orçamentária'!$D$11:$D$186,0),2),0) -> TERRAPLANAGEM | C13: =IF(A13<>0,INDEX(RESUMO!$A$10:$J$443,MATCH(A13,RESUMO!$A$10:$A$443,0),5),0) -> 67438.86 | D13: =IF(A13<>0,INDEX(RESUMO!$A$10:$I$515,MATCH(A13,RESUMO!$A$10:$A$238,0),8),0) -> 0.0649 | E13: =IF(A13<>0,INDEX(RESUMO!$A$10:$I$515,MATCH(A13,RESUMO!$A$10:$A$238,0),8),0) -> 0.0649 | F13: 0.14 | H13: 0.3 | J13: 0.36 | N13: 0.2
F15: =F13*$C13 -> 9441.44 | H15: =H13*$C13 -> 20231.66 | J15: =J13*$C13 -> 24277.99 | N15: =N13*$C13 -> 13487.77 | Z15: =Z13*$C13 -> 0
A16: =A13+1 -> 5 | B16: =IF(A16<>0,INDEX('Plan. Orçamentária'!$D$11:$K$186,MATCH(A16,'Plan. Orçamentária'!$D$11:$D$186,0),2),0) -> PAVIMENTAÇÃO ASFÁLTICA | C16: =IF(A16<>0,INDEX(RESUMO!$A$10:$J$443,MATCH(A16,RESUMO!$A$10:$A$443,0),5),0) -> 630086.48 | D16: =IF(A16<>0,INDEX(RESUMO!$A$10:$I$515,MATCH(A16,RESUMO!$A$10:$A$238,0),8),0) -> 0.6065 | E16: =IF(A16<>0,INDEX(RESUMO!$A$10:$I$515,MATCH(A16,RESUMO!$A$10:$A$238,0),8),0) -> 0.6065 | J16: 0.24 | N16: 0.26 | R16: 0.24 | V16: 0.26
J18: =J16*$C16 -> 151220.76 | N18: =N16*$C16 -> 163822.48 | R18: =R16*$C16 -> 151220.76 | V18: =V16*$C16 -> 163822.48 | Z18: =Z16*$C16 -> 0
A19: =A16+1 -> 6 | B19: =IF(A19<>0,INDEX('Plan. Orçamentária'!$D$11:$K$186,MATCH(A19,'Plan. Orçamentária'!$D$11:$D$186,0),2),0) -> SARJETÃO | C19: =IF(A19<>0,INDEX(RESUMO!$A$10:$J$443,MATCH(A19,RESUMO!$A$10:$A$443,0),5),0) -> 315504.39 | D19: =IF(A19<>0,INDEX(RESUMO!$A$10:$I$515,MATCH(A19,RESUMO!$A$10:$A$238,0),8),0) -> 0.3037 | E19: =IF(A19<>0,INDEX(RESUMO!$A$10:$I$515,MATCH(A19,RESUMO!$A$10:$A$238,0),8),0) -> 0.3037 | N19: 0.2 | R19: 0.29 | V19: 0.3 | Z19: 0.21
F21: =F19*$C19 -> 0 | N21: =N19*$C19 -> 63100.88 | R21: =R19*$C19 -> 91496.27 | V21: =V19*$C19 -> 94651.32 | Z21: =Z19*$C19 -> 66255.92
A22: =A19+1 -> 7 | B22: =IF(A22<>0,INDEX('Plan. Orçamentária'!$D$11:$K$186,MATCH(A22,'Plan. Orçamentária'!$D$11:$D$186,0),2),0) -> INFRAESTRUTURA COMPLEMENTAR | C22: =IF(A22<>0,INDEX(RESUMO!$A$10:$J$443,MATCH(A22,RESUMO!$A$10:$A$443,0),5),0) -> 10645.62 | D22: =IF(A22<>0,INDEX(RESUMO!$A$10:$I$515,MATCH(A22,RESUMO!$A$10:$A$238,0),8),0) -> 0.0102 | E22: =IF(A22<>0,INDEX(RESUMO!$A$10:$I$515,MATCH(A22,RESUMO!$A$10:$A$238,0),8),0) -> 0.0102 | R22: 0.2875 | V22: 0.33 | Z22: 0.3825
F24: =F22*$C22 -> 0 | R24: =R22*$C22 -> 3060.62 | V24: =V22*$C22 -> 3513.05 | Z24: =Z22*$C22 -> 4071.95
B26: TOTAL MENSAL | F26: =F15+F12 -> 10051.44 | H26: =H12+H15 -> 22366.66 | J26: =J18+J15+J12 -> 177938.75 | N26: =N21+N18+N15+N12 -> 242851.13 | R26: =R24+R21+R18+R12 -> 248217.65 | V26: =V24+V21+V18+V12 -> 264579.35 | Z26: =Z24+Z21+Z12 -> 72920.37
B27: % TOTAL MENSAL | F27: =F26/SUM($C$10:$C$24) -> 0.0097 | H27: =H26/SUM($C$10:$C$24) -> 0.0215 | J27: =J26/SUM($C$10:$C$24) -> 0.1713 | L27: =L26/SUM($C$10:$C$24) -> 0 | N27: =N26/SUM($C$10:$C$24) -> 0.2338 | P27: =P26/SUM($C$10:$C$24) -> 0 | R27: =R26/SUM($C$10:$C$24) -> 0.2389 | T27: =T26/SUM($C$10:$C$24) -> 0 | V27: =V26/SUM($C$10:$C$24) -> 0.2547 | X27: =X26/SUM($C$10:$C$24) -> 0 | Z27: =Z26/SUM($C$10:$C$24) -> 0.0702 | AB27: =AB26/SUM($C$10:$C$24) -> 0
B29: TOTAL ACUMULADO | F29: =F26 -> 10051.44 | H29: =IF(H26=0,0,H26+F29) -> 32418.1 | J29: =IF(J26=0,0,J26+H29) -> 210356.85 | N29: =IF(N26=0,0,N26+J29) -> 453207.98 | R29: =IF(R26=0,0,R26+N29) -> 701425.63 | V29: =IF(V26=0,0,V26+R29) -> 966004.98 | Z29: 1038925.4
B30: % TOTAL ACUMULADO | F30: =F29/SUM($C$10:$C$24) -> 0.0097 | H30: =H29/SUM($C$10:$C$24) -> 0.0312 | J30: =J29/SUM($C$10:$C$24) -> 0.2025 | L30: =L29/SUM($C$10:$C$24) -> 0 | N30: =N29/SUM($C$10:$C$24) -> 0.4362 | P30: =P29/SUM($C$10:$C$24) -> 0 | R30: =R29/SUM($C$10:$C$24) -> 0.6751 | T30: =T29/SUM($C$10:$C$24) -> 0 | V30: =V29/SUM($C$10:$C$24) -> 0.9298 | X30: =X29/SUM($C$10:$C$24) -> 0 | Z30: =Z29/SUM($C$10:$C$24) -> 1 | AB30: =AB29/SUM($C$10:$C$24) -> 0
Y31: Santa Branca, 29 de setembro de 2025.
A34: Arthur Ribeiro Alvares Pimenta
A35: Secretário Municipal de Serviços, Obras e Transportes

Sheet MEMORIA CALCULO
B2: CLIENTE: | C2: ='CLIENTE-OBJETO'!B2 -> PREFEITURA MUNICIPAL DE SANTA BRANCA | O2: FL: | T2: RUA LARANJEIRAS | W2: DRENO
B3: OBRA: | C3: ='CLIENTE-OBJETO'!B3 -> PROJETO DE INFRAESTRUTURA - RUA LARANJEIRAS | O3: REV: | T3: PAVIMENTAÇÃO TIPO 1 | U3: M2 | V3: 2624 | W3: =ROUNDUP((V3/5.95)*2,0) -> 883 | Y3: AREA DE OBRA | AA3: =V3+V4+V5 -> 2624
B4: LOCAL: | C4: ='CLIENTE-OBJETO'!B4 -> RUA LARANJEIRAS - SANTA BRANCA/SP | O4: DATA: | T4: PAVIMENTAÇÃO TIPO 2 | W4: =ROUNDUP((V4/5.95)*2,0) -> 0
T5: PAVIMENTAÇÃO TIPO 3 | W5: =ROUNDUP((V5/5.95)*2,0) -> 0
B6: MEMÓRIA DE CÁLCULO | T6: CAMADA DE CBUQ | U6: M | V6: 0.04
B7: ITEM | C7: DISCRIMINAÇÃO DE CÁLCULO | O7: QUANTIDADE | T7: BGS - PAV TIPO 1 | U7: M | V7: 0.25
O8: UNID. | P8: TOTAL | T8: BGS - PAV TIPO 2
T9: BGS - PAV TIPO 3 | U9: M
A10: ='Plan. Orçamentária'!D17 -> 1 | C10: =IF(A10<>0,INDEX('Plan. Orçamentária'!$D$11:$K$186,MATCH(A10,'Plan. Orçamentária'!$D$11:$D$186,0),2),0) -> EQUIPE TÉCNICA | Q10: 6 | T10: CAMADA DE MACADAME TIPO - 1 | U10: M
A11: ='Plan. Orçamentária'!D18 -> 1001 | B11: =IF(A11<>0,INDEX('Plan. Orçamentária'!$D$11:$K$186,MATCH(A11,'Plan. Orçamentária'!$D$11:$D$186,0),3),0) -> 90778 | C11: =IF(A11<>0,INDEX('Plan. Orçamentária'!$D$11:$K$186,MATCH(A11,'Plan. Orçamentária'!$D$11:$D$186,0),4),0) -> ENGENHEIRO CIVIL DE OBRA PLENO COM ENCARGOS COMPLEMENTARES | O11: =IF(A11<>0,INDEX('Plan. Orçamentária'!$D$17:$K$186,MATCH(A11,'Plan. Orçamentária'!$D$17:$D$186,0),5),0) -> H | P11: =TRUNC(SUM(N13),2) -> 63 | T11: CAMADA DE MACADAME TIPO - 2
I12: HORAS | K12: MÊS | L12: QTDE H | N12: TOTAL | T12: CAMADA DE MACADAME TIPO - 3
I13: =21*0.5 -> 10.5 | J13: X | K13: 6 | L13: =I13*K13 -> 63 | N13: =L13 -> 63 | T13: GUIA | U13: M | X13: =V13*0.1 -> 0 | Y13: M²
T14: SARJETÃO | U14: M | V14: 978 | X14: =V14*0.45*0.2 -> 88.02 | Y14: M²
T15: DRENAGEM | U15: M
A16: =A11+1 -> 1002 | B16: =IF(A16<>0,INDEX('Plan. Orçamentária'!$D$11:$K$186,MATCH(A16,'Plan. Orçamentária'!$D$11:$D$186,0),3),0) -> 100309 | C16: =IF(A16<>0,INDEX('Plan. Orçamentária'!$D$11:$K$186,MATCH(A16,'Plan. Orçamentária'!$D$11:$D$186,0),4),0) -> TÉCNICO EM SEGURANÇA DO TRABALHO COM ENCARGOS COMPLEMENTARES | O16: =IF(A16<>0,INDEX('Plan. Orçamentária'!$D$17:$K$186,MATCH(A16,'Plan. Orçamentária'!$D$17:$D$186,0),5),0) -> H | P16: =TRUNC(SUM(N18),2) -> 126 | T16: GRAMA | U16: M2 | V16: 177
I17: HORAS | K17: MÊS | L17: QTDE H | N17: TOTAL
I18: =21*1 -> 21 | J18: X | K18: 6 | L18: =I18*K18 -> 126 | N18: =L18 -> 126
A21: =A16+1 -> 1003 | B21: =IF(A21<>0,INDEX('Plan. Orçamentária'!$D$11:$K$186,MATCH(A21,'Plan. Orçamentária'!$D$11:$D$186,0),3),0) -> 100289 | C21: =IF(A21<>0,INDEX('Plan. Orçamentária'!$D$11:$K$186,MATCH(A21,'Plan. Orçamentária'!$D$11:$D$186,0),4),0) -> VIGIA DIURNO COM ENCARGOS COMPLEMENTARES | O21: =IF(A21<>0,INDEX('Plan. Orçamentária'!$D$17:$K$186,MATCH(A21,'Plan. Orçamentária'!$D$17:$D$186,0),5),0) -> H | P21: =TRUNC(SUM(N23),2) -> 504
G22: HORAS | I22: MÊS | K22: VIGIAS | L22: QTDE H | N22: TOTAL
