Workbook

Sheet 200 DESONERADO
B1: COMPANHIA DE DESENVOLVIMENTO HABITACIONAL E URBANO
A2: DO ESTADO DE SÃO PAULO
A3: BOLETIM REFERENCIAL DE CUSTOS - TABELA DE SERVIÇOS
A4: COM DESONERAÇÃO
F5: Versão 200
E6: Data Base: | F6: NOV/25
C7: BDI : | D7: 0 | E7: L.S.: | F7: 1.0539
A8: Referência | B8: Descrição | C8: Un | D8: Material | E8: Mão de Obra | F8: Custo Total
A9: 01 | B9: SERVICO TECNICO ESPECIALIZADO
A10: 01.02 | B10: Parecer técnico
A11: 01.02.071 | B11: Parecer técnico de fundações, contenções e recomendações gerais, para empreendimentos com área construída até 1.000 m² | C11: UN | E11: 6483.99 | F11: 6483.99 | G11: 15
A12: 01.02.081 | B12: Parecer técnico de fundações, contenções e recomendações gerais, para empreendimentos com área construída de 1.001 a 2.000 m² | C12: UN | E12: 8622.44 | F12: 8622.44 | G12: 15
A13: 01.02.091 | B13: Parecer técnico de fundações, contenções e recomendações gerais, para empreendimentos com área construída de 2.001 a 5.000 m² | C13: UN | E13: 14729.05 | F13: 14729.05 | G13: 15
A14: 01.02.101 | B14: Parecer técnico de fundações, contenções e recomendações gerais, para empreendimentos com área construída de 5.001 a 10.000 m² | C14: UN | E14: 20195.27 | F14: 20195.27 | G14: 15
A15: 01.02.111 | B15: Parecer técnico de fundações, contenções e recomendações gerais, para empreendimentos com área construída acima de 10.000 m² | C15: UN | E15: 23534.46 | F15: 23534.46 | G15: 15
A16: 01.06 | B16: Projeto de instalações elétricas
A17: 01.06.021 | B17: Elaboração de projeto de adequação de entrada de energia elétrica junto a concessionária, com medição em baixa tensão e demanda até 75 kVA | C17: UN | E17: 8281.6 | F17: 8281.6 | G17: 15
A18: 01.06.031 | B18: Elaboração de projeto de adequação de entrada de energia elétrica junto a concessionária, com medição em média tensão, subestação simplificada e demanda de 75 kVA a 300 kVA | C18: UN | E18: 14027.58 | F18: 14027.58 | G18: 15
A19: 01.06.032 | B19: Elaboração de projeto de adequação de entrada de energia elétrica junto a concessionária, com medição em média tensão e demanda de 75 kVA a 300 kVA | C19: UN | E19: 18981.8 | F19: 18981.8 | G19: 15
A20: 01.06.041 | B20: Elaboração de projeto de adequação de entrada de energia elétrica junto a concessionária, com medição em média tensão e demanda acima de 300 kVA a 2 MVA | C20: UN | E20: 25247.9 | F20: 25247.9 | G20: 15
A21: 01.17 | B21: Projeto executivo
A22: 01.17.031 | B22: Projeto executivo de arquitetura em formato A1 | C22: UN | E22: 3262 | F22: 3262 | G22: 15
A23: 01.17.041 | B23: Projeto executivo de arquitetura em formato A0 | C23: UN | E23: 4409.93 | F23: 4409.93 | G23: 15
A24: 01.17.051 | B24: Projeto executivo de estrutura em formato A1 | C24: UN | E24: 2392.32 | F24: 2392.32 | G24: 15
A25: 01.17.061 | B25: Projeto executivo de estrutura em formato A0 | C25: UN | E25: 3273.17 | F25: 3273.17 | G25: 15
A26: 01.17.071 | B26: Projeto executivo de instalações hidráulicas em formato A1 | C26: UN | E26: 1027.03 | F26: 1027.03 | G26: 15
A27: 01.17.081 | B27: Projeto executivo de instalações hidráulicas em formato A0 | C27: UN | E27: 1367.12 | F27: 1367.12 | G27: 15
A28: 01.17.111 | B28: Projeto executivo de instalações elétricas em formato A1 | C28: UN | E28: 1140.48 | F28: 1140.48 | G28: 15
A29: 01.17.121 | B29: Projeto executivo de instalações elétricas em formato A0 | C29: UN | E29: 1581.35 | F29: 1581.35 | G29: 15
A30: 01.17.151 | B30: Projeto executivo de climatização em formato A1 | C30: UN | E30: 2195.21 | F30: 2195.21 | G30: 15
A31: 01.17.161 | B31: Projeto executivo de climatização em formato A0 | C31: UN | E31: 2992.33 | F31: 2992.33 | G31: 15
A32: 01.17.171 | B32: Projeto executivo de chuveiros automáticos em formato A1 | C32: UN | E32: 1895.21 | F32: 1895.21 | G32: 15
A33: 01.17.181 | B33: Projeto executivo de chuveiros automáticos em formato A0 | C33: UN | E33: 2449.64 | F33: 2449.64 | G33: 15
A34: 01.20 | B34: Levantamento topográfico e geofísico
A35: 01.20.010 | B35: Taxa de mobilização e desmobilização de equipamentos para execução de levantamento topográfico | C35: TX | D35: 1150.83 | F35: 1150.83 | G35: 15
A36: 01.20.280 | B36: Levantamento planimétrico de área pavimentada para veículo e pedestre | C36: M2 | D36: 0.07 | E36: 0.16 | F36: 0.23 | G36: 15
A37: 01.20.691 | B37: Levantamento planimétrico cadastral com áreas ocupadas predominantemente por comunidades - área até 20.000 m² (mínimo de 3.500 m²) | C37: M2 | D37: 0.41 | E37: 0.53 | F37: 0.94 | G37: 15
A38: 01.20.701 | B38: Levantamento planimétrico cadastral com áreas ocupadas predominantemente por comunidades - área acima de 20.000 m² até 200.000 m² | C38: M2 | D38: 0.32 | E38: 0.42 | F38: 0.74 | G38: 15
A39: 01.20.711 | B39: Levantamento planimétrico cadastral com áreas ocupadas predominantemente por comunidades - área acima de 200.000 m² | C39: M2 | D39: 0.27 | E39: 0.35 | F39: 0.62 | G39: 15
A40: 01.20.721 | B40: Levantamento planimétrico cadastral com áreas até 50% de ocupação - área até 20.000 m² (mínimo de 3.500 m²) | C40: M2 | D40: 0.37 | E40: 0.46 | F40: 0.83 | G40: 15
...

Sheet BDI DESON.
B2: DEMONSTRATIVO DE COMPOSIÇÃO DO BDI (acórdào 2622/2013-TCU-Plenário)
B4: Prefeitura do Município de Santa Branca
B5: Processo nº ST-PRC_2021-00146-DM
B6: Convênio nº
B7: Data da Elaboração: 02/09/2021
B8: Objeto: XXXXXXXXXXXXX
B10: Cálculo do BDI - COM DESONERAÇÃO Fórmula e parâmetros estabelecidos pelo Acórdão 2622/2013-TCU-Plenário
B11: Item | C11: 1º quartil | D11: 3º quartil | E11: Médio | F11: Identificação
B12: AC | C12: 3.8 | D12: 4.67 | E12: 4.5 | F12: Administração Central
B13: S e G | C13: 0.32 | D13: 0.74 | E13: 0.55 | F13: Seguro e Garantia
B14: R | C14: 0.5 | D14: 0.97 | E14: 0.68 | F14: Risco
B15: DF | C15: 1.02 | D15: 1.21 | E15: 1.02 | F15: Despesas Financeiras
B16: L | C16: 6.64 | D16: 8.69 | E16: 6 | F16: Lucro
B17: I * | C17: conforme legislação | E17: =C24 -> 10.15 | F17: Tributos *
B19: TRIBUTOS | C19: %
B20: PIS** | C20: 0.65
B21: COFINS** | C21: 3
B22: Cont. Previd. | C22: 4.5 | D22: (Contribuição Previdenciária sobre a receita bruta, no caso de desoneração na folha)
B23: ISS | C23: =IF(OR(H27="",J26=""),"",IF(ROUND(J26*H27*100,2)>5,"ERRO",(ROUND(J26*H27*100,2)))) -> 2
B24: Total | C24: =IF(C23="","",SUM(C20:C23)) -> 10.15
B26: Declaramos que, conforme legislação tributária municipal, a base de cálculo do ISS é de | J26: 1
B27: sobre o valor da obra e a aliquota do ISS aplicável no Município é de | H27: 0.02 | I27: ← (limitado a 5,00%)
D29: TOTAL | E29: =IF(OR(C23="",E12="",E13="",E14="",E15="",E16=""),0,ROUND((((1+E12/100+E13/100+E14/100)*(1+E15/100)*(1+E16/100)/(1-(C24/100)))-1)*100,2)) -> 26.01 | F29: BDI A SER ADOTADO (com desoneração)
B31: Verificação: | C31: =IF(OR(C23="",E12="",E13="",E14="",E15="",E16=""),0,IF(OR(ROUND((((1+E12/100+E13/100+E14/100)*(1+E15/100)*(1+E16/100)/(1-((C24-C22)/100)))-1)*100,2)>24.23,ROUND((((1+E12/100+E13/100+E14/100)*(1+E15/100)*(1+E16/100)/(1-((C24-C22)/100)))-1)*100,2)<19.6),"FORA DO LIMITE !",ROUND((((1+E12/100+E13/100+E14/100)*(1+E15/100)*(1+E16/100)/(1-((C24-C22)/100)))-1)*100,2))) -> 20 | D31: ← limite 19,60% a 24,23% (com desoneração)
B33: FÓRMULA
B35: BDI calculado pela expressão: BDI = { [ (1+AC/100+S/100+R/100+G/100) x (1+DF/100) x (1+L/100) / (1-I/100)] -1} x 100
B39: Declaramos sob pena da Lei que a alternativa adotada pela Prefeitura do Município de Santa Branca é Sem Desoneração e que é a mais vantajosa para a Administração Pública.
J41: Santa Branca, 02 de setembro de 2021.
B46: Arthur Ribeiro Alvares Pimenta | G46: Hudson de Melo Domiciano
B47: Responsável Técnico | G47: Gestor Contábil
B48: CREA/SP: 5069103559 | G48: CRC-SP 1SP302996/O-1
A738: 13.01.190 | B738: Laje pré-fabricada mista vigota treliçada/lajota cerâmica - LT 24 (20+4) e capa com concreto de 25 MPa | C738: M2 | D738: 141,86 | E738: 30,41 | F738: 172,27
A739: 13.01.210 | B739: Laje pré-fabricada mista vigota treliçada/lajota cerâmica - LT 30 (24+6) e capa com concreto de 25 MPa | C739: M2 | D739: 178,03 | E739: 33,38 | F739: 211,41
A740: 13.01.310 | B740: Laje pré-fabricada unidirecional em viga treliçada/lajota em EPS LT 12 (8 + 4), com capa de concreto de 25 MPa | C740: M2 | D740: 102,42 | E740: 25,75 | F740: 128,17
A741: 13.01.320 | B741: Laje pré-fabricada unidirecional em viga treliçada/lajota em EPS LT 16 (12 + 4), com capa de concreto de 25 MPa | C741: M2 | D741: 119,56 | E741: 25,75 | F741: 145,31
A742: 13.01.330 | B742: Laje pré-fabricada unidirecional em viga treliçada/lajota em EPS LT 20 (16 + 4), com capa de concreto de 25 MPa | C742: M2 | D742: 163,32 | E742: 28,08 | F742: 191,40
A743: 13.01.340 | B743: Laje pré-fabricada unidirecional em viga treliçada/lajota em EPS LT 25 (20 + 5), com capa de concreto de 25 MPa | C743: M2 | D743: 152,83 | E743: 30,41 | F743: 183,24
A744: 13.01.350 | B744: Laje pré-fabricada unidirecional em viga treliçada/lajota em EPS LT 30 (25 + 5), com capa de concreto de 25 MPa | C744: M2 | D744: 240,53 | E744: 33,38 | F744: 273,91
A745: 13.02 | B745: Laje pre-fabricada mista em vigotas protendidas e lajotas
A746: 13.02.150 | B746: Laje pré-fabricada mista vigota protendida/lajota cerâmica - LP 12 (8+4) e capa com concreto de 25 MPa | C746: M2 | D746: 114,25 | E746: 25,75 | F746: 140,00
...

Sheet P.O.-DES
D1: MUNICÍPIO DE SANTA BRANCA - Secretaria Municipal de Serviços, Obras e Transportes
D2: RUA PRUDENTE DE MORAES, 93, CENTRO, CEP 12380-970 - SANTA BRANCA - SP
D3: LOCAL DA OBRA: RUA PADRE ÁLVARO RUIZ, JARDIM OLÍMPIA - SANTA BRANCA - SP
D4: PLANILHA ORÇAMENTÁRIA - RECOMPOSIÇÃO ASFÁLTICA DE TRECHO DE VIA PÚBLICA | I4: BDI adotado
D5: BASE: CDHU - BOLETIM 187 COM DESONERAÇÃO / SIURB 07-2021 COM DESONERAÇÃO | I5: =ROUND('BDI DESON.'!E29/100,4) -> 0.2601
A6: ITEM | B6: FONTE | C6: CÓDIGO | D6: DESCRIÇÃO | E6: UNID. | F6: QUANT. | G6: VALOR UNIT. | H6: VALOR COM BDI | I6: TOTAL
A7: 1.0 | D7: SERVIÇOS PRELIMINARES | I7: =SUBTOTAL(9,I8:I11) -> 34643.5
A8: 1.1 | B8: CDHU | C8: 02.08.040 | D8: =IF($B8="","",VLOOKUP($C8,'200 DESONERADO'!$A$3:$G$4201,2,0)) -> Placa em lona com impressão digital e requadro em metalon | E8: =IF($B8="","",VLOOKUP($C8,'200 ONERADO'!$A$3:$G$4201,3,0)) -> m² | F8: 6 | G8: =IF($B8="","",VLOOKUP($C8,'200 DESONERADO'!$A$3:$H$4201,6,0)) -> 440.98 | H8: =ROUND(G8*(1+$I$5),2) -> 555.68 | I8: =IF($B8="","",ROUND(F8*H8,2)) -> 3334.08
A9: 1.2 | B9: CDHU | C9: 02.02.130 | D9: =IF($B9="","",VLOOKUP($C9,'200 DESONERADO'!$A$3:$G$4201,2,0)) -> Locação de container tipo escritório com 1 vaso sanitário, 1 lavatório e 1 ponto para chuveiro - área mínima de 13,80 m² | E9: =IF($B9="","",VLOOKUP($C9,'200 ONERADO'!$A$3:$G$4201,3,0)) -> un.mês | F9: 6 | G9: =IF($B9="","",VLOOKUP($C9,'200 DESONERADO'!$A$3:$H$4201,6,0)) -> 1548.92 | H9: =ROUND(G9*(1+$I$5),2) -> 1951.79 | I9: =IF($B9="","",ROUND(F9*H9,2)) -> 11710.74
A10: 1.3 | B10: CDHU | C10: 02.10.020 | D10: =IF($B10="","",VLOOKUP($C10,'200 DESONERADO'!$A$3:$G$4201,2,0)) -> Locação de obra de edificação | E10: =IF($B10="","",VLOOKUP($C10,'200 ONERADO'!$A$3:$G$4201,3,0)) -> m² | F10: 180.86 | G10: =IF($B10="","",VLOOKUP($C10,'200 DESONERADO'!$A$3:$H$4201,6,0)) -> 17.2 | H10: =ROUND(G10*(1+$I$5),2) -> 21.67 | I10: =IF($B10="","",ROUND(F10*H10,2)) -> 3919.24
A11: 1.4 | B11: CDHU | C11: 02.03.120 | D11: =IF($B11="","",VLOOKUP($C11,'200 DESONERADO'!$A$3:$G$4201,2,0)) -> Tapume fixo para fechamento de áreas, com portão | E11: =IF($B11="","",VLOOKUP($C11,'200 ONERADO'!$A$3:$G$4201,3,0)) -> m² | F11: =2*61 -> 122 | G11: =IF($B11="","",VLOOKUP($C11,'200 DESONERADO'!$A$3:$H$4201,6,0)) -> 101.99 | H11: =ROUND(G11*(1+$I$5),2) -> 128.52 | I11: =IF($B11="","",ROUND(F11*H11,2)) -> 15679.44
A12: 2.0 | D12: FUNDAÇÃO | I12: =SUBTOTAL(9,I13:I21) -> 182701.99
A13: 2.1 | B13: CDHU | C13: 06.02.020 | D13: =IF($B13="","",VLOOKUP($C13,'200 DESONERADO'!$A$3:$G$4201,2,0)) -> Escavação manual em solo de 1ª e 2ª categoria em vala ou cava até 1,5 m | E13: =IF($B13="","",VLOOKUP($C13,'200 ONERADO'!$A$3:$G$4201,3,0)) -> m³ | F13: =INFRAESTRUTURA!H55+INFRAESTRUTURA!R29 -> 29.52 | G13: =IF($B13="","",VLOOKUP($C13,'200 DESONERADO'!$A$3:$H$4201,6,0)) -> 61.32 | H13: =ROUND(G13*(1+$I$5),2) -> 77.27 | I13: =IF($B13="","",ROUND(F13*H13,2)) -> 2281.01
A14: 2.2 | B14: CDHU | C14: 12.05.010 | D14: =IF($B14="","",VLOOKUP($C14,'200 DESONERADO'!$A$3:$G$4201,2,0)) -> Taxa de mobilização e desmobilização de equipamentos para execução de estaca escavada | E14: =IF($B14="","",VLOOKUP($C14,'200 ONERADO'!$A$3:$G$4201,3,0)) -> tx | F14: 1 | G14: =IF($B14="","",VLOOKUP($C14,'200 DESONERADO'!$A$3:$H$4201,6,0)) -> 2552.3 | H14: =ROUND(G14*(1+$I$5),2) -> 3216.15 | I14: =IF($B14="","",ROUND(F14*H14,2)) -> 3216.15
A15: 2.3 | B15: CDHU | C15: 12.05.030 | D15: =IF($B15="","",VLOOKUP($C15,'200 DESONERADO'!$A$3:$G$4201,2,0)) -> Estaca escavada mecanicamente, diâmetro de 30 cm até 30 t | E15: =IF($B15="","",VLOOKUP($C15,'200 ONERADO'!$A$3:$G$4201,3,0)) -> m | F15: =INFRAESTRUTURA!C142 -> 408 | G15: =IF($B15="","",VLOOKUP($C15,'200 DESONERADO'!$A$3:$H$4201,6,0)) -> 80.74 | H15: =ROUND(G15*(1+$I$5),2) -> 101.74 | I15: =IF($B15="","",ROUND(F15*H15,2)) -> 41509.92
A16: 2.4 | B16: CDHU | C16: 11.18.040 | D16: =IF($B16="","",VLOOKUP($C16,'200 DESONERADO'!$A$3:$G$4201,2,0)) -> Lastro de pedra britada | E16: =IF($B16="","",VLOOKUP($C16,'200 ONERADO'!$A$3:$G$4201,3,0)) -> m³ | F16: =INFRAESTRUTURA!G55+INFRAESTRUTURA!P29+INFRAESTRUTURA!X32 -> 12.81 | G16: =IF($B16="","",VLOOKUP($C16,'200 DESONERADO'!$A$3:$H$4201,6,0)) -> 215.62 | H16: =ROUND(G16*(1+$I$5),2) -> 271.7 | I16: =IF($B16="","",ROUND(F16*H16,2)) -> 3480.48
A17: 2.5 | B17: CDHU | C17: 09.01.020 | D17: =IF($B17="","",VLOOKUP($C17,'200 DESONERADO'!$A$3:$G$4201,2,0)) -> Forma em madeira comum para fundação | E17: =IF($B17="","",VLOOKUP($C17,'200 ONERADO'!$A$3:$G$4201,3,0)) -> m² | F17: =INFRAESTRUTURA!F55+INFRAESTRUTURA!Q29 -> 202.56 | G17: =IF($B17="","",VLOOKUP($C17,'200 DESONERADO'!$A$3:$H$4201,6,0)) -> 103.51 | H17: =ROUND(G17*(1+$I$5),2) -> 130.43 | I17: =IF($B17="","",ROUND(F17*H17,2)) -> 26419.9
A18: 2.6 | B18: CDHU | C18: 11.01.160 | D18: =IF($B18="","",VLOOKUP($C18,'200 DESONERADO'!$A$3:$G$4201,2,0)) -> Concreto usinado, fck = 30 MPa | E18: =IF($B18="","",VLOOKUP($C18,'200 ONERADO'!$A$3:$G$4201,3,0)) -> m³ | F18: =INFRAESTRUTURA!H55+INFRAESTRUTURA!R29+INFRAESTRUTURA!Z32 -> 48.79 | G18: =IF($B18="","",VLOOKUP($C18,'200 DESONERADO'!$A$3:$H$4201,6,0)) -> 544.1 | H18: =ROUND(G18*(1+$I$5),2) -> 685.62 | I18: =IF($B18="","",ROUND(F18*H18,2)) -> 33451.4
A19: 2.7 | B19: CDHU | C19: 11.16.040 | D19: =IF($B19="","",VLOOKUP($C19,'200 DESONERADO'!$A$3:$G$4201,2,0)) -> Lançamento e adensamento de concreto ou massa em fundação | E19: =IF($B19="","",VLOOKUP($C19,'200 ONERADO'!$A$3:$G$4201,3,0)) -> m³ | F19: =F18 -> 48.79 | G19: =IF($B19="","",VLOOKUP($C19,'200 DESONERADO'!$A$3:$H$4201,6,0)) -> 172.38 | H19: =ROUND(G19*(1+$I$5),2) -> 217.22 | I19: =IF($B19="","",ROUND(F19*H19,2)) -> 10598.16
A20: 2.8 | B20: CDHU | C20: 10.01.040 | D20: =IF($B20="","",VLOOKUP($C20,'200 DESONERADO'!$A$3:$G$4201,2,0)) -> Armadura em barra de aço CA-50 (A ou B) fyk = 500 MPa | E20: =IF($B20="","",VLOOKUP($C20,'200 ONERADO'!$A$3:$G$4201,3,0)) -> kg | F20: =INFRAESTRUTURA!J55+INFRAESTRUTURA!T29+INFRAESTRUTURA!F142 -> 4500.77 | G20: =IF($B20="","",VLOOKUP($C20,'200 DESONERADO'!$A$3:$H$4201,6,0)) -> 9.84 | H20: =ROUND(G20*(1+$I$5),2) -> 12.4 | I20: =IF($B20="","",ROUND(F20*H20,2)) -> 55809.55
A21: 2.9 | B21: CDHU | C21: 10.02.020 | D21: =IF($B21="","",VLOOKUP($C21,'200 DESONERADO'!$A$3:$G$4201,2,0)) -> Armadura em tela soldada de aço | E21: =IF($B21="","",VLOOKUP($C21,'200 ONERADO'!$A$3:$G$4201,3,0)) -> kg | F21: =INFRAESTRUTURA!AC32 -> 484.92 | G21: =IF($B21="","",VLOOKUP($C21,'200 DESONERADO'!$A$3:$H$4201,6,0)) -> 9.71 | H21: =ROUND(G21*(1+$I$5),2) -> 12.24 | I21: =IF($B21="","",ROUND(F21*H21,2)) -> 5935.42
A22: 3.0 | D22: CONTRA-PISO | I22: =SUBTOTAL(9,I23:I26) -> 21940.43
A23: 3.1 | B23: CDHU | C23: 11.18.040 | D23: =IF($B23="","",VLOOKUP($C23,'200 DESONERADO'!$A$3:$G$4201,2,0)) -> Lastro de pedra britada | E23: =IF($B23="","",VLOOKUP($C23,'200 ONERADO'!$A$3:$G$4201,3,0)) -> m³ | F23: =PAGINAÇÃO!E67 -> 8.72 | G23: =IF($B23="","",VLOOKUP($C23,'200 DESONERADO'!$A$3:$H$4201,6,0)) -> 215.62 | H23: =ROUND(G23*(1+$I$5),2) -> 271.7 | I23: =IF($B23="","",ROUND(F23*H23,2)) -> 2369.22
A24: 3.2 | B24: CDHU | C24: 11.01.160 | D24: =IF($B24="","",VLOOKUP($C24,'200 DESONERADO'!$A$3:$G$4201,2,0)) -> Concreto usinado, fck = 30 MPa | E24: =IF($B24="","",VLOOKUP($C24,'200 ONERADO'!$A$3:$G$4201,3,0)) -> m³ | F24: =PAGINAÇÃO!E5 -> 10.61 | G24: =IF($B24="","",VLOOKUP($C24,'200 DESONERADO'!$A$3:$H$4201,6,0)) -> 544.1 | H24: =ROUND(G24*(1+$I$5),2) -> 685.62 | I24: =IF($B24="","",ROUND(F24*H24,2)) -> 7274.43
A25: 3.3 | B25: CDHU | C25: 11.16.040 | D25: =IF($B25="","",VLOOKUP($C25,'200 DESONERADO'!$A$3:$G$4201,2,0)) -> Lançamento e adensamento de concreto ou massa em fundação | E25: =IF($B25="","",VLOOKUP($C25,'200 ONERADO'!$A$3:$G$4201,3,0)) -> m³ | F25: =PAGINAÇÃO!E6 -> 36.27 | G25: =IF($B25="","",VLOOKUP($C25,'200 DESONERADO'!$A$3:$H$4201,6,0)) -> 172.38 | H25: =ROUND(G25*(1+$I$5),2) -> 217.22 | I25: =IF($B25="","",ROUND(F25*H25,2)) -> 7878.57
A26: 3.4 | B26: CDHU | C26: 17.01.020 | D26: =IF($B26="","",VLOOKUP($C26,'200 DESONERADO'!$A$3:$G$4201,2,0)) -> Argamassa de regularização e/ou proteção | E26: =IF($B26="","",VLOOKUP($C26,'200 ONERADO'!$A$3:$G$4201,3,0)) -> m³ | F26: =INFRAESTRUTURA!AH28 -> 4.34 | G26: =IF($B26="","",VLOOKUP($C26,'200 DESONERADO'!$A$3:$H$4201,6,0)) -> 807.89 | H26: =ROUND(G26*(1+$I$5),2) -> 1018.02 | I26: =IF($B26="","",ROUND(F26*H26,2)) -> 4418.21
A27: 4.0 | D27: ALVENARIA ESTRUTURAL | I27: =SUBTOTAL(9,I28:I31) -> 175727.21
A28: 4.1 | B28: CDHU | C28: 14.11.221 | D28: =IF($B28="","",VLOOKUP($C28,'200 DESONERADO'!$A$3:$G$4201,2,0)) -> Alvenaria de bloco de concreto estrutural 14 cm - classe B | E28: =IF($B28="","",VLOOKUP($C28,'200 ONERADO'!$A$3:$G$4201,3,0)) -> m² | F28: =PAGINAÇÃO!E73 -> 424.01 | G28: =IF($B28="","",VLOOKUP($C28,'200 DESONERADO'!$A$3:$H$4201,6,0)) -> 114.64 | H28: =ROUND(G28*(1+$I$5),2) -> 144.46 | I28: =IF($B28="","",ROUND(F28*H28,2)) -> 61252.48
A29: 4.2 | B29: CDHU | C29: 14.11.231 | D29: =IF($B29="","",VLOOKUP($C29,'200 DESONERADO'!$A$3:$G$4201,2,0)) -> Alvenaria de bloco de concreto estrutural 19 cm - classe B | E29: =IF($B29="","",VLOOKUP($C29,'200 ONERADO'!$A$3:$G$4201,3,0)) -> m² | F29: =PAGINAÇÃO!E11 -> 246.48 | G29: =IF($B29="","",VLOOKUP($C29,'200 DESONERADO'!$A$3:$H$4201,6,0)) -> 127.86 | H29: =ROUND(G29*(1+$I$5),2) -> 161.12 | I29: =IF($B29="","",ROUND(F29*H29,2)) -> 39712.86
A30: 4.3 | B30: CDHU | C30: 11.05.040 | D30: =IF($B30="","",VLOOKUP($C30,'200 DESONERADO'!$A$3:$G$4201,2,0)) -> Argamassa graute | E30: =IF($B30="","",VLOOKUP($C30,'200 ONERADO'!$A$3:$G$4201,3,0)) -> m³ | F30: =PAGINAÇÃO!K50+PAGINAÇÃO!K150 -> 48.18 | G30: =IF($B30="","",VLOOKUP($C30,'200 DESONERADO'!$A$3:$H$4201,6,0)) -> 444.19 | H30: =ROUND(G30*(1+$I$5),2) -> 559.72 | I30: =IF($B30="","",ROUND(F30*H30,2)) -> 26967.31
A31: 4.4 | B31: CDHU | C31: 10.01.040 | D31: =IF($B31="","",VLOOKUP($C31,'200 DESONERADO'!$A$3:$G$4201,2,0)) -> Armadura em barra de aço CA-50 (A ou B) fyk = 500 MPa | E31: =IF($B31="","",VLOOKUP($C31,'200 ONERADO'!$A$3:$G$4201,3,0)) -> kg | F31: =F30*80 -> 3854.4 | G31: =IF($B31="","",VLOOKUP($C31,'200 DESONERADO'!$A$3:$H$4201,6,0)) -> 9.84 | H31: =ROUND(G31*(1+$I$5),2) -> 12.4 | I31: =IF($B31="","",ROUND(F31*H31,2)) -> 47794.56
A32: 5.0 | D32: CONCRETO ARMADO - VIGAS | I32: =SUBTOTAL(9,I33:I42) -> 50971.49
A33: 5.1 | D33: 1º PAVIMENTO | I33: =SUBTOTAL(9,I34:I37) -> 37320.43
A34: 5.1.1 | B34: CDHU | C34: 09.01.020 | D34: =IF($B34="","",VLOOKUP($C34,'200 DESONERADO'!$A$3:$G$4201,2,0)) -> Forma em madeira comum para fundação | E34: =IF($B34="","",VLOOKUP($C34,'200 ONERADO'!$A$3:$G$4201,3,0)) -> m² | F34: =CIMBRAMENTO!F28 -> 139.92 | G34: =IF($B34="","",VLOOKUP($C34,'200 DESONERADO'!$A$3:$H$4201,6,0)) -> 103.51 | H34: =ROUND(G34*(1+$I$5),2) -> 130.43 | I34: =IF($B34="","",ROUND(F34*H34,2)) -> 18249.77
A35: 5.1.2 | B35: CDHU | C35: 11.01.160 | D35: =IF($B35="","",VLOOKUP($C35,'200 DESONERADO'!$A$3:$G$4201,2,0)) -> Concreto usinado, fck = 30 MPa | E35: =IF($B35="","",VLOOKUP($C35,'200 ONERADO'!$A$3:$G$4201,3,0)) -> m³ | F35: =CIMBRAMENTO!G28 -> 11.16 | G35: =IF($B35="","",VLOOKUP($C35,'200 DESONERADO'!$A$3:$H$4201,6,0)) -> 544.1 | H35: =ROUND(G35*(1+$I$5),2) -> 685.62 | I35: =IF($B35="","",ROUND(F35*H35,2)) -> 7651.52
A36: 5.1.3 | B36: CDHU | C36: 11.16.040 | D36: =IF($B36="","",VLOOKUP($C36,'200 DESONERADO'!$A$3:$G$4201,2,0)) -> Lançamento e adensamento de concreto ou massa em fundação | E36: =IF($B36="","",VLOOKUP($C36,'200 ONERADO'!$A$3:$G$4201,3,0)) -> m³ | F36: =F35 -> 11.16 | G36: =IF($B36="","",VLOOKUP($C36,'200 DESONERADO'!$A$3:$H$4201,6,0)) -> 172.38 | H36: =ROUND(G36*(1+$I$5),2) -> 217.22 | I36: =IF($B36="","",ROUND(F36*H36,2)) -> 2424.18
A37: 5.1.4 | B37: CDHU | C37: 10.01.040 | D37: =IF($B37="","",VLOOKUP($C37,'200 DESONERADO'!$A$3:$G$4201,2,0)) -> Armadura em barra de aço CA-50 (A ou B) fyk = 500 MPa | E37: =IF($B37="","",VLOOKUP($C37,'200 ONERADO'!$A$3:$G$4201,3,0)) -> kg | F37: =CIMBRAMENTO!I28 -> 725.4 | G37: =IF($B37="","",VLOOKUP($C37,'200 DESONERADO'!$A$3:$H$4201,6,0)) -> 9.84 | H37: =ROUND(G37*(1+$I$5),2) -> 12.4 | I37: =IF($B37="","",ROUND(F37*H37,2)) -> 8994.96
A38: 5.2 | D38: 2º PAVIMENTO | I38: =SUBTOTAL(9,I39:I42) -> 13651.06
A39: 5.2.1 | B39: CDHU | C39: 09.01.020 | D39: =IF($B39="","",VLOOKUP($C39,'200 DESONERADO'!$A$3:$G$4201,2,0)) -> Forma em madeira comum para fundação | E39: =IF($B39="","",VLOOKUP($C39,'200 ONERADO'!$A$3:$G$4201,3,0)) -> m² | F39: =CIMBRAMENTO!F45 -> 47.67 | G39: =IF($B39="","",VLOOKUP($C39,'200 DESONERADO'!$A$3:$H$4201,6,0)) -> 103.51 | H39: =ROUND(G39*(1+$I$5),2) -> 130.43 | I39: =IF($B39="","",ROUND(F39*H39,2)) -> 6217.6
A40: 5.2.2 | B40: CDHU | C40: 11.01.160 | D40: =IF($B40="","",VLOOKUP($C40,'200 DESONERADO'!$A$3:$G$4201,2,0)) -> Concreto usinado, fck = 30 MPa | E40: =IF($B40="","",VLOOKUP($C40,'200 ONERADO'!$A$3:$G$4201,3,0)) -> m³ | F40: =CIMBRAMENTO!G45 -> 4.35 | G40: =IF($B40="","",VLOOKUP($C40,'200 DESONERADO'!$A$3:$H$4201,6,0)) -> 544.1 | H40: =ROUND(G40*(1+$I$5),2) -> 685.62 | I40: =IF($B40="","",ROUND(F40*H40,2)) -> 2982.45
...

Sheet 200 ONERADO
B1: COMPANHIA DE DESENVOLVIMENTO HABITACIONAL E URBANO
A2: DO ESTADO DE SÃO PAULO
A3: BOLETIM REFERENCIAL DE CUSTOS - TABELA DE SERVIÇOS
A4: SEM DESONERAÇÃO
F5: Versão 200
E6: Data Base: | F6: NOV/25
C7: BDI : | D7: 0 | E7: L.S.: | F7: 1.2823
A8: Referência | B8: Descrição | C8: Un | D8: Material | E8: Mão de Obra | F8: Custo Total
A9: 01 | B9: SERVICO TECNICO ESPECIALIZADO
A10: 01.02 | B10: Parecer técnico
A11: 01.02.071 | B11: Parecer técnico de fundações, contenções e recomendações gerais, para empreendimentos com área construída até 1.000 m² | C11: UN | E11: 7204.93 | F11: 7204.93 | G11: 15
A12: 01.02.081 | B12: Parecer técnico de fundações, contenções e recomendações gerais, para empreendimentos com área construída de 1.001 a 2.000 m² | C12: UN | E12: 9581.15 | F12: 9581.15 | G12: 15
A13: 01.02.091 | B13: Parecer técnico de fundações, contenções e recomendações gerais, para empreendimentos com área construída de 2.001 a 5.000 m² | C13: UN | E13: 16366.75 | F13: 16366.75 | G13: 15
A14: 01.02.101 | B14: Parecer técnico de fundações, contenções e recomendações gerais, para empreendimentos com área construída de 5.001 a 10.000 m² | C14: UN | E14: 22440.73 | F14: 22440.73 | G14: 15
A15: 01.02.111 | B15: Parecer técnico de fundações, contenções e recomendações gerais, para empreendimentos com área construída acima de 10.000 m² | C15: UN | E15: 26151.21 | F15: 26151.21 | G15: 15
A16: 01.06 | B16: Projeto de instalações elétricas
A17: 01.06.021 | B17: Elaboração de projeto de adequação de entrada de energia elétrica junto a concessionária, com medição em baixa tensão e demanda até 75 kVA | C17: UN | E17: 9202.36 | F17: 9202.36 | G17: 15
A18: 01.06.031 | B18: Elaboração de projeto de adequação de entrada de energia elétrica junto a concessionária, com medição em média tensão, subestação simplificada e demanda de 75 kVA a 300 kVA | C18: UN | E18: 15587.22 | F18: 15587.22 | G18: 15
A19: 01.06.032 | B19: Elaboração de projeto de adequação de entrada de energia elétrica junto a concessionária, com medição em média tensão e demanda de 75 kVA a 300 kVA | C19: UN | E19: 21092.24 | F19: 21092.24 | G19: 15
A20: 01.06.041 | B20: Elaboração de projeto de adequação de entrada de energia elétrica junto a concessionária, com medição em média tensão e demanda acima de 300 kVA a 2 MVA | C20: UN | E20: 28055 | F20: 28055 | G20: 15
A21: 01.17 | B21: Projeto executivo
A22: 01.17.031 | B22: Projeto executivo de arquitetura em formato A1 | C22: UN | E22: 3624.6 | F22: 3624.6 | G22: 15
A23: 01.17.041 | B23: Projeto executivo de arquitetura em formato A0 | C23: UN | E23: 4900.14 | F23: 4900.14 | G23: 15
A24: 01.17.051 | B24: Projeto executivo de estrutura em formato A1 | C24: UN | E24: 2658.26 | F24: 2658.26 | G24: 15
A25: 01.17.061 | B25: Projeto executivo de estrutura em formato A0 | C25: UN | E25: 3637.02 | F25: 3637.02 | G25: 15
A26: 01.17.071 | B26: Projeto executivo de instalações hidráulicas em formato A1 | C26: UN | E26: 1141.18 | F26: 1141.18 | G26: 15
A27: 01.17.081 | B27: Projeto executivo de instalações hidráulicas em formato A0 | C27: UN | E27: 1519.09 | F27: 1519.09 | G27: 15
A28: 01.17.111 | B28: Projeto executivo de instalações elétricas em formato A1 | C28: UN | E28: 1267.26 | F28: 1267.26 | G28: 15
A29: 01.17.121 | B29: Projeto executivo de instalações elétricas em formato A0 | C29: UN | E29: 1757.15 | F29: 1757.15 | G29: 15
A30: 01.17.151 | B30: Projeto executivo de climatização em formato A1 | C30: UN | E30: 2439.23 | F30: 2439.23 | G30: 15
A31: 01.17.161 | B31: Projeto executivo de climatização em formato A0 | C31: UN | E31: 3324.97 | F31: 3324.97 | G31: 15
A32: 01.17.171 | B32: Projeto executivo de chuveiros automáticos em formato A1 | C32: UN | E32: 2105.98 | F32: 2105.98 | G32: 15
A33: 01.17.181 | B33: Projeto executivo de chuveiros automáticos em formato A0 | C33: UN | E33: 2722.06 | F33: 2722.06 | G33: 15
A34: 01.20 | B34: Levantamento topográfico e geofísico
A35: 01.20.010 | B35: Taxa de mobilização e desmobilização de equipamentos para execução de levantamento topográfico | C35: TX | D35: 1150.83 | F35: 1150.83 | G35: 15
A36: 01.20.280 | B36: Levantamento planimétrico de área pavimentada para veículo e pedestre | C36: M2 | D36: 0.07 | E36: 0.18 | F36: 0.25 | G36: 15
A37: 01.20.691 | B37: Levantamento planimétrico cadastral com áreas ocupadas predominantemente por comunidades - área até 20.000 m² (mínimo de 3.500 m²) | C37: M2 | D37: 0.41 | E37: 0.59 | F37: 1 | G37: 15
A38: 01.20.701 | B38: Levantamento planimétrico cadastral com áreas ocupadas predominantemente por comunidades - área acima de 20.000 m² até 200.000 m² | C38: M2 | D38: 0.32 | E38: 0.46 | F38: 0.78 | G38: 15
A39: 01.20.711 | B39: Levantamento planimétrico cadastral com áreas ocupadas predominantemente por comunidades - área acima de 200.000 m² | C39: M2 | D39: 0.27 | E39: 0.37 | F39: 0.64 | G39: 15
A40: 01.20.721 | B40: Levantamento planimétrico cadastral com áreas até 50% de ocupação - área até 20.000 m² (mínimo de 3.500 m²) | C40: M2 | D40: 0.37 | E40: 0.51 | F40: 0.88 | G40: 15
...

Sheet BDI-ONER.
B2: DEMONSTRATIVO DE COMPOSIÇÃO DO BDI (acórdào 2622/2013-TCU-Plenário) | O2: =1100 -> 1100 | P2: 5.5 | Q2: =O2/P2 -> 200
B4: Prefeitura do Município de Santa Branca
B5: Processo nº | L5: Verificar!
B6: Convênio nº
B7: Data da Elaboração: 28/01/2022
B8: Objeto: RECOMPOSIÇÃO E RECAPEAMENTO DE PAVIMENTO ASFÁLTICO DE TRECHO DA RUA ANDRÉ IANICELLI E AVENIDA DEP. BENEDITO MATARAZZO, JD. PRADO - SANTA BRANCA - SP
B10: Cálculo do BDI - SEM DESONERAÇÃO Fórmula e parâmetros estabelecidos pelo Acórdão 2622/2013-TCU-Plenário
B12: Item | C12: 1º quartil | D12: 3º quartil | E12: Médio | F12: Identificação
B13: AC | C13: 3.8 | D13: 4.67 | E13: 4.5 | F13: Administração Central
B14: S e G | C14: 0.32 | D14: 0.74 | E14: 0.55 | F14: Seguro e Garantia
B15: R | C15: 0.5 | D15: 0.97 | E15: 0.68 | F15: Risco
B16: DF | C16: 1.02 | D16: 1.21 | E16: 1.02 | F16: Despesas Financeiras
B17: L | C17: 6.64 | D17: 8.69 | E17: 6 | F17: Lucro
B18: I * | C18: conforme legislação | E18: =C33 -> 5.65 | F18: Tributos *
D20: TOTAL | E20: =IF(OR(C32="",E13="",E14="",E15="",E16="",E17=""),0,ROUND((((1+E13/100+E14/100+E15/100)*(1+E16/100)*(1+E17/100)/(1-(C33/100)))-1)*100,2)) -> 20 | F20: BDI A SER ADOTADO (sem desoneração)
B22: Verificação: | C22: =IF(OR(C32="",E13="",E14="",E15="",E16="",E17=""),0,IF(OR(ROUND((((1+E13/100+E14/100+E15/100)*(1+E16/100)*(1+E17/100)/(1-((C33-C31)/100)))-1)*100,2)>24.23,ROUND((((1+E13/100+E14/100+E15/100)*(1+E16/100)*(1+E17/100)/(1-((C33-C31)/100)))-1)*100,2)<19.6),"FORA DO LIMITE !",ROUND((((1+E13/100+E14/100+E15/100)*(1+E16/100)*(1+E17/100)/(1-((C33-C31)/100)))-1)*100,2))) -> 20 | D22: ← limite 19,60% a 24,23% (sem desoneração)
C23: =IF(C22="FORA DO LIMITE !",ROUND((((1+E13/100+E14/100+E15/100)*(1+E16/100)*(1+E17/100)/(1-((C33-C31)/100)))-1)*100,2)/100,"")
B24: * Em geral, os tributos ( I ) aplicáveis são PIS (0,65%), COFINS (3%) e ISS (variável, conforme
B25: Município, de 2 a 5% e, em alguns casos, isento).
B26: ** Caso a empresa seja tributada de forma diferente, alterar os valores abaixo:
B28: TRIBUTOS | C28: %
B29: PIS** | C29: 0.65
B30: COFINS** | C30: 3
B31: Cont. Previd. | D31: (Contribuição Previdenciária sobre a receita bruta, no caso de desoneração na folha)
B32: ISS | C32: =IF(OR(H36="",J35=""),"",IF(ROUND(J35*H36*100,2)>5,"ERRO",(ROUND(J35*H36*100,2)))) -> 2
B33: Total | C33: =IF(C32="","",SUM(C29:C32)) -> 5.65
B35: Declaramos que, conforme legislação tributária municipal, a base de cálculo do ISS é de | J35: 1
B36: sobre o valor da obra e a aliquota do ISS aplicável no Município é de | H36: 0.02 | I36: ← (limitado a 5,00%)
B38: FÓRMULA
B40: BDI calculado pela expressão: BDI = { [ (1+AC/100+S/100+R/100+G/100) x (1+DF/100) x (1+L/100) / (1-I/100)] -1} x 100
B44: Declaramos sob pena da Lei que a alternativa adotada pela Prefeitura do Município de Santa Branca é Sem Desoneração e que é a mais vantajosa para a Administração Pública.
J46: Santa Branca, 28 de jameiro de 2022.
B51: Arthur Ribeiro Alvares Pimenta | G51: Hudson de Melo Domiciano
B52: Responsável Técnico | G52: Gestor Contábil
B53: CREA/SP: 5069103559 | G53: CRC-SP 1SP302996/O-1

Sheet P.O.
D1: MUNICÍPIO DE SANTA BRANCA - Secretaria Municipal de Serviços, Obras e Transportes
D2: RUA PRUDENTE DE MORAES, 93, CENTRO, CEP 12380-970 - SANTA BRANCA - SP
D3: LOCAL DA OBRA: RUA BRIGADEIRO AGUIAR, S/Nº, CENTRO - SANTA BRANCA - SP | L3: 2.203,73 m² de parque
D4: PLANILHA ORÇAMENTÁRIA - CONSTRUÇÃO DA BASE DA POLÍCIA MILITAR DE SANTA BRANCA -SP | I4: BDI adotado | L4: =2200*400 -> 880000
D5: BASE: CDHU 200 NÃO DESONERADA / FDE JAN/2026 | I5: ='BDI-ONER.'!E20/100 -> 0.2
A6: ITEM | B6: FONTE | C6: CÓDIGO | D6: DESCRIÇÃO | E6: UNID. | F6: QUANT. | G6: VALOR UNIT. | H6: VALOR COM BDI | I6: TOTAL
A7: 1.0 | D7: SERVIÇOS PRELIMINARES | G7: =IF($B7="","",VLOOKUP($C7,'[1]BOLETIM 161'!$A$7:$F$4000,6,0)) | I7: =SUBTOTAL(9,I8:I12) -> 45279.93 | K7: =ROUND(I7/$I$210,4) -> 0.0281
A8: 1.1 | B8: CDHU | C8: 02.08.040 | D8: =IF($B8="","",VLOOKUP($C8,'200 ONERADO'!$A$3:$G$4201,2,0)) -> Placa em lona com impressão digital e requadro em metalon | E8: =IF($B8="","",VLOOKUP($C8,'200 ONERADO'!$A$3:$G$4201,3,0)) -> m² | F8: 6 | G8: =IF($B8="","",VLOOKUP($C8,'200 ONERADO'!$A$3:$H$4201,6,0)) -> 443.92 | H8: =ROUND(G8*(1+$I$5),2) -> 532.7 | I8: =IF($B8="","",ROUND(F8*H8,2)) -> 3196.2 | K8: =ROUND(I8/$I$210,4) -> 0.002 | Q8: 1
A9: 1.2 | B9: CDHU | C9: 02.02.130 | D9: =IF($B9="","",VLOOKUP($C9,'200 ONERADO'!$A$3:$G$4201,2,0)) -> Locação de container tipo escritório com 1 vaso sanitário, 1 lavatório e 1 ponto para chuveiro - área mínima de 13,80 m² | E9: =IF($B9="","",VLOOKUP($C9,'200 ONERADO'!$A$3:$G$4201,3,0)) -> un.mês | F9: 6 | G9: =IF($B9="","",VLOOKUP($C9,'200 ONERADO'!$A$3:$H$4201,6,0)) -> 1564.5 | H9: =ROUND(G9*(1+$I$5),2) -> 1877.4 | I9: =IF($B9="","",ROUND(F9*H9,2)) -> 11264.4 | K9: =ROUND(I9/$I$210,4) -> 0.007 | M9: 40000000 | N9: =4000 -> 4000 | O9: =N9/M9 -> 0.0001 | Q9: 2
A10: 1.3 | B10: CDHU | C10: 02.10.020 | D10: =IF($B10="","",VLOOKUP($C10,'200 ONERADO'!$A$3:$G$4201,2,0)) -> Locação de obra de edificação | E10: =IF($B10="","",VLOOKUP($C10,'200 ONERADO'!$A$3:$G$4201,3,0)) -> m² | F10: =210.99+58.87 -> 269.86 | G10: =IF($B10="","",VLOOKUP($C10,'200 ONERADO'!$A$3:$H$4201,6,0)) -> 17.85 | H10: =ROUND(G10*(1+$I$5),2) -> 21.42 | I10: =IF($B10="","",ROUND(F10*H10,2)) -> 5780.4 | K10: =ROUND(I10/$I$210,4) -> 0.0036 | L10: =ROUND(20.25*8.85,2) -> 179.21 | M10: =0.025*M9 -> 1000000 | Q10: 3
A11: 1.4 | B11: CDHU | C11: 02.03.120 | D11: =IF($B11="","",VLOOKUP($C11,'200 ONERADO'!$A$3:$G$4201,2,0)) -> Tapume fixo para fechamento de áreas, com portão | E11: =IF($B11="","",VLOOKUP($C11,'200 ONERADO'!$A$3:$G$4201,3,0)) -> m² | F11: =2*61 -> 122 | G11: =IF($B11="","",VLOOKUP($C11,'200 ONERADO'!$A$3:$H$4201,6,0)) -> 108.01 | H11: =ROUND(G11*(1+$I$5),2) -> 129.61 | I11: =IF($B11="","",ROUND(F11*H11,2)) -> 15812.42 | K11: =ROUND(I11/$I$210,4) -> 0.0098 | Q11: 4
A12: 1.5 | B12: CDHU | C12: 03.07.010 | D12: =IF($B12="","",VLOOKUP($C12,'200 ONERADO'!$A$3:$G$4201,2,0)) -> Demolição (levantamento) mecanizada de pavimento asfáltico, inclusive carregamento, transporte até 1 quilômetro e descarregamento | E12: =IF($B12="","",VLOOKUP($C12,'200 ONERADO'!$A$3:$G$4201,3,0)) -> m² | F12: =F10 -> 269.86 | G12: =IF($B12="","",VLOOKUP($C12,'200 ONERADO'!$A$3:$H$4201,6,0)) -> 28.49 | H12: =ROUND(G12*(1+$I$5),2) -> 34.19 | I12: =IF($B12="","",ROUND(F12*H12,2)) -> 9226.51 | K12: =ROUND(I12/$I$210,4) -> 0.0057
A13: 2.0 | D13: FUNDAÇÃO | G13: =IF($B13="","",VLOOKUP($C13,'[1]BOLETIM 161'!$A$7:$F$4000,6,0)) | I13: =SUBTOTAL(9,I14:I21) -> 154616.39 | K13: =ROUND(I13/$I$210,4) -> 0.0961
A14: 2.1 | B14: CDHU | C14: 06.02.020 | D14: =IF($B14="","",VLOOKUP($C14,'200 ONERADO'!$A$3:$G$4201,2,0)) -> Escavação manual em solo de 1ª e 2ª categoria em vala ou cava até 1,5 m | E14: =IF($B14="","",VLOOKUP($C14,'200 ONERADO'!$A$3:$G$4201,3,0)) -> m³ | F14: =INFRAESTRUTURA!H55+INFRAESTRUTURA!R29 -> 29.52 | G14: =IF($B14="","",VLOOKUP($C14,'200 ONERADO'!$A$3:$H$4201,6,0)) -> 68.13 | H14: =ROUND(G14*(1+$I$5),2) -> 81.76 | I14: =IF($B14="","",ROUND(F14*H14,2)) -> 2413.56 | K14: =ROUND(I14/$I$210,4) -> 0.0015
A15: 2.2 | B15: CDHU | C15: 12.05.010 | D15: =IF($B15="","",VLOOKUP($C15,'200 ONERADO'!$A$3:$G$4201,2,0)) -> Taxa de mobilização e desmobilização de equipamentos para execução de estaca escavada | E15: =IF($B15="","",VLOOKUP($C15,'200 ONERADO'!$A$3:$G$4201,3,0)) -> tx | F15: 1 | G15: =IF($B15="","",VLOOKUP($C15,'200 ONERADO'!$A$3:$H$4201,6,0)) -> 2552.3 | H15: =ROUND(G15*(1+$I$5),2) -> 3062.76 | I15: =IF($B15="","",ROUND(F15*H15,2)) -> 3062.76 | K15: =ROUND(I15/$I$210,4) -> 0.0019 | L15: 8 | M15: =71400+11730 -> 83130 | N15: =M15*0.4 -> 33252
A16: 2.3 | B16: CDHU | C16: 12.05.030 | D16: =IF($B16="","",VLOOKUP($C16,'200 ONERADO'!$A$3:$G$4201,2,0)) -> Estaca escavada mecanicamente, diâmetro de 30 cm até 30 t | E16: =IF($B16="","",VLOOKUP($C16,'200 ONERADO'!$A$3:$G$4201,3,0)) -> m | F16: =INFRAESTRUTURA!C142 -> 408 | G16: =IF($B16="","",VLOOKUP($C16,'200 ONERADO'!$A$3:$H$4201,6,0)) -> 83.17 | H16: =ROUND(G16*(1+$I$5),2) -> 99.8 | I16: =IF($B16="","",ROUND(F16*H16,2)) -> 40718.4 | K16: =ROUND(I16/$I$210,4) -> 0.0253
A17: 2.4 | B17: CDHU | C17: 11.18.040 | D17: =IF($B17="","",VLOOKUP($C17,'200 ONERADO'!$A$3:$G$4201,2,0)) -> Lastro de pedra britada | E17: =IF($B17="","",VLOOKUP($C17,'200 ONERADO'!$A$3:$G$4201,3,0)) -> m³ | F17: =INFRAESTRUTURA!G55+INFRAESTRUTURA!P29 -> 3.18 | G17: =IF($B17="","",VLOOKUP($C17,'200 ONERADO'!$A$3:$H$4201,6,0)) -> 219.03 | H17: =ROUND(G17*(1+$I$5),2) -> 262.84 | I17: =IF($B17="","",ROUND(F17*H17,2)) -> 835.83 | K17: =ROUND(I17/$I$210,4) -> 0.0005 | L17: 10 | M17: =11280+14400+4116+25680+4116 -> 59592 | N17: =M17*0.62 -> 36947.04
A18: 2.5 | B18: CDHU | C18: 09.01.020 | D18: =IF($B18="","",VLOOKUP($C18,'200 ONERADO'!$A$3:$G$4201,2,0)) -> Forma em madeira comum para fundação | E18: =IF($B18="","",VLOOKUP($C18,'200 ONERADO'!$A$3:$G$4201,3,0)) -> m² | F18: =INFRAESTRUTURA!F55+INFRAESTRUTURA!Q29 -> 202.56 | G18: =IF($B18="","",VLOOKUP($C18,'200 ONERADO'!$A$3:$H$4201,6,0)) -> 110.06 | H18: =ROUND(G18*(1+$I$5),2) -> 132.07 | I18: =IF($B18="","",ROUND(F18*H18,2)) -> 26752.1 | K18: =ROUND(I18/$I$210,4) -> 0.0166 | L18: =88.2+116.16 -> 204.36
A19: 2.6 | B19: CDHU | C19: 11.01.160 | D19: =IF($B19="","",VLOOKUP($C19,'200 ONERADO'!$A$3:$G$4201,2,0)) -> Concreto usinado, fck = 30 MPa | E19: =IF($B19="","",VLOOKUP($C19,'200 ONERADO'!$A$3:$G$4201,3,0)) -> m³ | F19: =INFRAESTRUTURA!H55+INFRAESTRUTURA!R29 -> 29.52 | G19: =IF($B19="","",VLOOKUP($C19,'200 ONERADO'!$A$3:$H$4201,6,0)) -> 544.1 | H19: =ROUND(G19*(1+$I$5),2) -> 652.92 | I19: =IF($B19="","",ROUND(F19*H19,2)) -> 19274.2 | K19: =ROUND(I19/$I$210,4) -> 0.012 | L19: 12.5 | M19: =28350+4900+64200+10290 -> 107740
A20: 2.7 | B20: CDHU | C20: 11.16.040 | D20: =IF($B20="","",VLOOKUP($C20,'200 ONERADO'!$A$3:$G$4201,2,0)) -> Lançamento e adensamento de concreto ou massa em fundação | E20: =IF($B20="","",VLOOKUP($C20,'200 ONERADO'!$A$3:$G$4201,3,0)) -> m³ | F20: =F19 -> 29.52 | G20: =IF($B20="","",VLOOKUP($C20,'200 ONERADO'!$A$3:$H$4201,6,0)) -> 191.54 | H20: =ROUND(G20*(1+$I$5),2) -> 229.85 | I20: =IF($B20="","",ROUND(F20*H20,2)) -> 6785.17 | K20: =ROUND(I20/$I$210,4) -> 0.0042
A21: 2.8 | B21: CDHU | C21: 10.01.040 | D21: =IF($B21="","",VLOOKUP($C21,'200 ONERADO'!$A$3:$G$4201,2,0)) -> Armadura em barra de aço CA-50 (A ou B) fyk = 500 MPa | E21: =IF($B21="","",VLOOKUP($C21,'200 ONERADO'!$A$3:$G$4201,3,0)) -> kg | F21: =INFRAESTRUTURA!J55+INFRAESTRUTURA!T29+INFRAESTRUTURA!F142 -> 4500.77 | G21: =IF($B21="","",VLOOKUP($C21,'200 ONERADO'!$A$3:$H$4201,6,0)) -> 10.14 | H21: =ROUND(G21*(1+$I$5),2) -> 12.17 | I21: =IF($B21="","",ROUND(F21*H21,2)) -> 54774.37 | K21: =ROUND(I21/$I$210,4) -> 0.034
A22: 3.0 | D22: CONTRAPISO | G22: =IF($B22="","",VLOOKUP($C22,'[1]BOLETIM 161'!$A$7:$F$4000,6,0)) | I22: =SUBTOTAL(9,I23:I27) -> 29668.43 | K22: =ROUND(I22/$I$210,4) -> 0.0184
A23: 3.1 | B23: CDHU | C23: 11.18.040 | D23: =IF($B23="","",VLOOKUP($C23,'200 ONERADO'!$A$3:$G$4201,2,0)) -> Lastro de pedra britada | E23: =IF($B23="","",VLOOKUP($C23,'200 ONERADO'!$A$3:$G$4201,3,0)) -> m³ | F23: =INFRAESTRUTURA!X32 -> 9.63 | G23: =IF($B23="","",VLOOKUP($C23,'200 ONERADO'!$A$3:$H$4201,6,0)) -> 219.03 | H23: =ROUND(G23*(1+$I$5),2) -> 262.84 | I23: =IF($B23="","",ROUND(F23*H23,2)) -> 2531.15 | K23: =ROUND(I23/$I$210,4) -> 0.0016
A24: 3.2 | B24: CDHU | C24: 11.01.160 | D24: =IF($B24="","",VLOOKUP($C24,'200 ONERADO'!$A$3:$G$4201,2,0)) -> Concreto usinado, fck = 30 MPa | E24: =IF($B24="","",VLOOKUP($C24,'200 ONERADO'!$A$3:$G$4201,3,0)) -> m³ | F24: =INFRAESTRUTURA!Z32 -> 19.27 | G24: =IF($B24="","",VLOOKUP($C24,'200 ONERADO'!$A$3:$H$4201,6,0)) -> 544.1 | H24: =ROUND(G24*(1+$I$5),2) -> 652.92 | I24: =IF($B24="","",ROUND(F24*H24,2)) -> 12581.77 | K24: =ROUND(I24/$I$210,4) -> 0.0078
A25: 3.3 | B25: CDHU | C25: 11.16.040 | D25: =IF($B25="","",VLOOKUP($C25,'200 ONERADO'!$A$3:$G$4201,2,0)) -> Lançamento e adensamento de concreto ou massa em fundação | E25: =IF($B25="","",VLOOKUP($C25,'200 ONERADO'!$A$3:$G$4201,3,0)) -> m³ | F25: =F24 -> 19.27 | G25: =IF($B25="","",VLOOKUP($C25,'200 ONERADO'!$A$3:$H$4201,6,0)) -> 191.54 | H25: =ROUND(G25*(1+$I$5),2) -> 229.85 | I25: =IF($B25="","",ROUND(F25*H25,2)) -> 4429.21 | K25: =ROUND(I25/$I$210,4) -> 0.0028
A26: 3.4 | B26: CDHU | C26: 10.02.020 | D26: =IF($B26="","",VLOOKUP($C26,'200 ONERADO'!$A$3:$G$4201,2,0)) -> Armadura em tela soldada de aço | E26: =IF($B26="","",VLOOKUP($C26,'200 ONERADO'!$A$3:$G$4201,3,0)) -> kg | F26: =INFRAESTRUTURA!AC32 -> 484.92 | G26: =IF($B26="","",VLOOKUP($C26,'200 ONERADO'!$A$3:$H$4201,6,0)) -> 9.85 | H26: =ROUND(G26*(1+$I$5),2) -> 11.82 | I26: =IF($B26="","",ROUND(F26*H26,2)) -> 5731.75 | K26: =ROUND(I26/$I$210,4) -> 0.0036
A27: 3.5 | B27: CDHU | C27: 17.01.020 | D27: =IF($B27="","",VLOOKUP($C27,'200 ONERADO'!$A$3:$G$4201,2,0)) -> Argamassa de regularização e/ou proteção | E27: =IF($B27="","",VLOOKUP($C27,'200 ONERADO'!$A$3:$G$4201,3,0)) -> m³ | F27: =INFRAESTRUTURA!AH28 -> 4.34 | G27: =IF($B27="","",VLOOKUP($C27,'200 ONERADO'!$A$3:$H$4201,6,0)) -> 843.81 | H27: =ROUND(G27*(1+$I$5),2) -> 1012.57 | I27: =IF($B27="","",ROUND(F27*H27,2)) -> 4394.55 | K27: =ROUND(I27/$I$210,4) -> 0.0027
A28: 4.0 | D28: ALVENARIA ESTRUTURAL | G28: =IF($B28="","",VLOOKUP($C28,'[1]BOLETIM 161'!$A$7:$F$4000,6,0)) | I28: =SUBTOTAL(9,I29:I32) -> 165753.1 | K28: =ROUND(I28/$I$210,4) -> 0.103 | N28: =60*1070 -> 64200
A29: 4.1 | B29: CDHU | C29: 14.11.221 | D29: =IF($B29="","",VLOOKUP($C29,'200 ONERADO'!$A$3:$G$4201,2,0)) -> Alvenaria de bloco de concreto estrutural 14 cm - classe B | E29: =IF($B29="","",VLOOKUP($C29,'200 ONERADO'!$A$3:$G$4201,3,0)) -> m² | F29: =PAGINAÇÃO!E73 -> 424.01 | G29: =IF($B29="","",VLOOKUP($C29,'200 ONERADO'!$A$3:$H$4201,6,0)) -> 119.14 | H29: =ROUND(G29*(1+$I$5),2) -> 142.97 | I29: =IF($B29="","",ROUND(F29*H29,2)) -> 60620.71 | K29: =ROUND(I29/$I$210,4) -> 0.0377
A30: 4.2 | B30: CDHU | C30: 14.11.231 | D30: =IF($B30="","",VLOOKUP($C30,'200 ONERADO'!$A$3:$G$4201,2,0)) -> Alvenaria de bloco de concreto estrutural 19 cm - classe B | E30: =IF($B30="","",VLOOKUP($C30,'200 ONERADO'!$A$3:$G$4201,3,0)) -> m² | F30: =PAGINAÇÃO!E11 -> 246.48 | G30: =IF($B30="","",VLOOKUP($C30,'200 ONERADO'!$A$3:$H$4201,6,0)) -> 132.48 | H30: =ROUND(G30*(1+$I$5),2) -> 158.98 | I30: =IF($B30="","",ROUND(F30*H30,2)) -> 39185.39 | K30: =ROUND(I30/$I$210,4) -> 0.0243 | L30: 1139.35 | M30: =L30/1.195 -> 953.43096
A31: 4.3 | B31: CDHU | C31: 11.05.040 | D31: =IF($B31="","",VLOOKUP($C31,'200 ONERADO'!$A$3:$G$4201,2,0)) -> Argamassa graute | E31: =IF($B31="","",VLOOKUP($C31,'200 ONERADO'!$A$3:$G$4201,3,0)) -> m³ | F31: =PAGINAÇÃO!K50+PAGINAÇÃO!K150 -> 48.18 | G31: =IF($B31="","",VLOOKUP($C31,'200 ONERADO'!$A$3:$H$4201,6,0)) -> 450.56 | H31: =ROUND(G31*(1+$I$5),2) -> 540.67 | I31: =IF($B31="","",ROUND(F31*H31,2)) -> 26049.48 | K31: =ROUND(I31/$I$210,4) -> 0.0162
A32: 4.4 | B32: CDHU | C32: 10.01.040 | D32: =IF($B32="","",VLOOKUP($C32,'200 ONERADO'!$A$3:$G$4201,2,0)) -> Armadura em barra de aço CA-50 (A ou B) fyk = 500 MPa | E32: =IF($B32="","",VLOOKUP($C32,'200 ONERADO'!$A$3:$G$4201,3,0)) -> kg | F32: ='ARMADURAS PAREDES'!I188 -> 3278.35 | G32: =IF($B32="","",VLOOKUP($C32,'200 ONERADO'!$A$3:$H$4201,6,0)) -> 10.14 | H32: =ROUND(G32*(1+$I$5),2) -> 12.17 | I32: =IF($B32="","",ROUND(F32*H32,2)) -> 39897.52 | K32: =ROUND(I32/$I$210,4) -> 0.0248
A33: 5.0 | D33: VIGAS EM CONCRETO ARMADO | G33: =IF($B33="","",VLOOKUP($C33,'[1]BOLETIM 161'!$A$7:$F$4000,6,0)) | I33: =SUBTOTAL(9,I35:I43) -> 82093.65 | K33: =ROUND(I33/$I$210,4) -> 0.051
A34: 5.1 | D34: 1º PAVIMENTO | I34: =SUBTOTAL(9,I35:I38) -> 60346.59 | K34: =ROUND(I34/$I$210,4) -> 0.0375
A35: 5.1.1 | B35: CDHU | C35: 09.01.030 | D35: =IF($B35="","",VLOOKUP($C35,'200 ONERADO'!$A$3:$G$4201,2,0)) -> Forma em madeira comum para estrutura | E35: =IF($B35="","",VLOOKUP($C35,'200 ONERADO'!$A$3:$G$4201,3,0)) -> m² | F35: =CIMBRAMENTO!F28 -> 139.92 | G35: =IF($B35="","",VLOOKUP($C35,'200 ONERADO'!$A$3:$H$4201,6,0)) -> 252.88 | H35: =ROUND(G35*(1+$I$5),2) -> 303.46 | I35: =IF($B35="","",ROUND(F35*H35,2)) -> 42460.12 | K35: =ROUND(I35/$I$210,4) -> 0.0264
A36: 5.1.2 | B36: CDHU | C36: 11.01.160 | D36: =IF($B36="","",VLOOKUP($C36,'200 ONERADO'!$A$3:$G$4201,2,0)) -> Concreto usinado, fck = 30 MPa | E36: =IF($B36="","",VLOOKUP($C36,'200 ONERADO'!$A$3:$G$4201,3,0)) -> m³ | F36: =CIMBRAMENTO!G28 -> 11.16 | G36: =IF($B36="","",VLOOKUP($C36,'200 ONERADO'!$A$3:$H$4201,6,0)) -> 544.1 | H36: =ROUND(G36*(1+$I$5),2) -> 652.92 | I36: =IF($B36="","",ROUND(F36*H36,2)) -> 7286.59 | K36: =ROUND(I36/$I$210,4) -> 0.0045
A37: 5.1.3 | B37: CDHU | C37: 11.16.060 | D37: =IF($B37="","",VLOOKUP($C37,'200 ONERADO'!$A$3:$G$4201,2,0)) -> Lançamento e adensamento de concreto ou massa em estrutura | E37: =IF($B37="","",VLOOKUP($C37,'200 ONERADO'!$A$3:$G$4201,3,0)) -> m³ | F37: =F36 -> 11.16 | G37: =IF($B37="","",VLOOKUP($C37,'200 ONERADO'!$A$3:$H$4201,6,0)) -> 132.3 | H37: =ROUND(G37*(1+$I$5),2) -> 158.76 | I37: =IF($B37="","",ROUND(F37*H37,2)) -> 1771.76 | K37: =ROUND(I37/$I$210,4) -> 0.0011
A38: 5.1.4 | B38: CDHU | C38: 10.01.040 | D38: =IF($B38="","",VLOOKUP($C38,'200 ONERADO'!$A$3:$G$4201,2,0)) -> Armadura em barra de aço CA-50 (A ou B) fyk = 500 MPa | E38: =IF($B38="","",VLOOKUP($C38,'200 ONERADO'!$A$3:$G$4201,3,0)) -> kg | F38: =CIMBRAMENTO!I28 -> 725.4 | G38: =IF($B38="","",VLOOKUP($C38,'200 ONERADO'!$A$3:$H$4201,6,0)) -> 10.14 | H38: =ROUND(G38*(1+$I$5),2) -> 12.17 | I38: =IF($B38="","",ROUND(F38*H38,2)) -> 8828.12 | K38: =ROUND(I38/$I$210,4) -> 0.0055
A39: 5.2 | D39: 2º PAVIMENTO | I39: =SUBTOTAL(9,I40:I43) -> 21747.06 | K39: =ROUND(I39/$I$210,4) -> 0.0135
A40: 5.2.1 | B40: CDHU | C40: 09.01.030 | D40: =IF($B40="","",VLOOKUP($C40,'200 ONERADO'!$A$3:$G$4201,2,0)) -> Forma em madeira comum para estrutura | E40: =IF($B40="","",VLOOKUP($C40,'200 ONERADO'!$A$3:$G$4201,3,0)) -> m² | F40: =CIMBRAMENTO!F45 -> 47.67 | G40: =IF($B40="","",VLOOKUP($C40,'200 ONERADO'!$A$3:$H$4201,6,0)) -> 252.88 | H40: =ROUND(G40*(1+$I$5),2) -> 303.46 | I40: =IF($B40="","",ROUND(F40*H40,2)) -> 14465.94 | K40: =ROUND(I40/$I$210,4) -> 0.009
...

Sheet CFF_PREF
A6: MUNICÍPIO DE SANTA BRANCA
A7: Secretaria Municipal de Serviços, Obras e Transportes
A9: CRONOGRAMA FÍSICO-FINANCEIRO
A11: Obra: CONSTRUÇÃO DO BATALHÃO DA POLÍCIA MILITAR DE SANTA BRANCA/SP
A12: Local da Obra: RUA BRIGADEIRO AGUIAR, S/Nº , CENTRO - SANTA BRANCA - SP
A14: ITEM | B14: SERVIÇOS | C14: TOTAL | D14: DESCRIÇÃO | E14: 1º MÊS | F14: 2º MÊS | G14: 3º MÊS | H14: 4º MÊS | I14: 5º MÊS | J14: 6º MÊS | K14: 7º MÊS | L14: 8º MÊS | M14: 9º MÊS | N14: 10º MÊS | O14: 11º ao 12º MÊS
A15: 1.0 | B15: SERVIÇOS PRELIMINARES | C15: =P.O.!I7 -> 45279.93 | D15: % Executada | E15: MOBILIZAÇÃO | F15: 1 | G15: 0 | H15: 0 | I15: 0 | J15: 0 | K15: 0 | L15: 0 | M15: 0 | N15: 0 | O15: DESMOBILIZAÇÃO E TRÂMITES BUROCRÁTICOS
D16: % Acumulada | F16: =E16+F15 -> 1 | G16: =F16+G15 -> 1 | H16: =G16+H15 -> 1 | I16: =H16+I15 -> 1 | J16: =I16+J15 -> 1 | K16: =J16+K15 -> 1 | L16: =K16+L15 -> 1 | M16: =L16+M15 -> 1 | N16: =M16+N15 -> 1
D17: Cronograma
D18: Vencimento | F18: =+F15*$C15 -> 45279.93 | G18: =+G15*$C15 -> 0 | H18: =+H15*$C15 -> 0 | I18: =+I15*$C15 -> 0 | J18: =+J15*$C15 -> 0 | K18: =+K15*$C15 -> 0 | L18: =+L15*$C15 -> 0 | M18: =+M15*$C15 -> 0 | N18: =+N15*$C15 -> 0
A19: 2.0 | B19: =P.O.!D13 -> FUNDAÇÃO | C19: =P.O.!I13 -> 154616.39 | D19: % Executada | F19: 1 | G19: 0 | H19: 0 | I19: 0 | J19: 0 | K19: 0 | L19: 0 | M19: 0 | N19: 0
D20: % Acumulada | F20: =E20+F19 -> 1 | G20: =F20+G19 -> 1 | H20: =G20+H19 -> 1 | I20: =H20+I19 -> 1 | J20: =I20+J19 -> 1 | K20: =J20+K19 -> 1 | L20: =K20+L19 -> 1 | M20: =L20+M19 -> 1 | N20: =M20+N19 -> 1
D21: Cronograma
D22: Vencimento | F22: =+F19*$C19 -> 154616.39 | G22: =+G19*$C19 -> 0 | H22: =+H19*$C19 -> 0 | I22: =+I19*$C19 -> 0 | J22: =+J19*$C19 -> 0 | K22: =+K19*$C19 -> 0 | L22: =+L19*$C19 -> 0 | M22: =+M19*$C19 -> 0 | N22: =+N19*$C19 -> 0
A23: 3.0 | B23: =P.O.!D22 -> CONTRAPISO | C23: =P.O.!I22 -> 29668.43 | D23: % Executada | F23: 0 | G23: 1 | H23: 0 | I23: 0 | J23: 0 | K23: 0 | L23: 0 | M23: 0 | N23: 0
D24: % Acumulada | F24: =E24+F23 -> 0 | G24: =F24+G23 -> 1 | H24: =G24+H23 -> 1 | I24: =H24+I23 -> 1 | J24: =I24+J23 -> 1 | K24: =J24+K23 -> 1 | L24: =K24+L23 -> 1 | M24: =L24+M23 -> 1 | N24: =M24+N23 -> 1
D25: Cronograma
D26: Vencimento | F26: =+F23*$C23 -> 0 | G26: =+G23*$C23 -> 29668.43 | H26: =+H23*$C23 -> 0 | I26: =+I23*$C23 -> 0 | J26: =+J23*$C23 -> 0 | K26: =+K23*$C23 -> 0 | L26: =+L23*$C23 -> 0 | M26: =+M23*$C23 -> 0 | N26: =+N23*$C23 -> 0
A27: 4.0 | B27: =P.O.!D28 -> ALVENARIA ESTRUTURAL | C27: =P.O.!I28 -> 165753.1 | D27: % Executada | F27: 0 | G27: 0.3 | H27: 0.5 | I27: 0.2 | J27: 0 | K27: 0 | L27: 0 | M27: 0 | N27: 0
D28: % Acumulada | F28: =E28+F27 -> 0 | G28: =F28+G27 -> 0.3 | H28: =G28+H27 -> 0.8 | I28: =H28+I27 -> 1 | J28: =I28+J27 -> 1 | K28: =J28+K27 -> 1 | L28: =K28+L27 -> 1 | M28: =L28+M27 -> 1 | N28: =M28+N27 -> 1 | Q28: =Q13=126*0.3 -> FALSE
D29: Cronograma
D30: Vencimento | F30: =+F27*$C27 -> 0 | G30: =+G27*$C27 -> 49725.93 | H30: =+H27*$C27 -> 82876.55 | I30: =+I27*$C27 -> 33150.62 | J30: =+J27*$C27 -> 0 | K30: =+K27*$C27 -> 0 | L30: =+L27*$C27 -> 0 | M30: =+M27*$C27 -> 0 | N30: =+N27*$C27 -> 0
A31: 5.0 | B31: =P.O.!D33 -> VIGAS EM CONCRETO ARMADO | C31: =P.O.!I33 -> 82093.65 | D31: % Executada | F31: 0 | G31: 0 | H31: 0.75 | I31: 0.25 | J31: 0 | K31: 0 | L31: 0 | M31: 0 | N31: 0
D32: % Acumulada | F32: =E32+F31 -> 0 | G32: =F32+G31 -> 0 | H32: =G32+H31 -> 0.75 | I32: =H32+I31 -> 1 | J32: =I32+J31 -> 1 | K32: =J32+K31 -> 1 | L32: =K32+L31 -> 1 | M32: =L32+M31 -> 1 | N32: =M32+N31 -> 1
D33: Cronograma
D34: Vencimento | F34: =+F31*$C31 -> 0 | G34: =+G31*$C31 -> 0 | H34: =+H31*$C31 -> 61570.238 | I34: =+I31*$C31 -> 20523.413 | J34: =+J31*$C31 -> 0 | K34: =+K31*$C31 -> 0 | L34: =+L31*$C31 -> 0 | M34: =+M31*$C31 -> 0 | N34: =+N31*$C31 -> 0
A35: 6.0 | B35: =P.O.!D44 -> LAJES | C35: =P.O.!I44 -> 66915.96 | D35: % Executada | F35: 0 | G35: 0 | H35: 0 | I35: 1 | J35: 0 | K35: 0 | L35: 0 | M35: 0 | N35: 0
D36: % Acumulada | F36: =E36+F35 -> 0 | G36: =F36+G35 -> 0 | H36: =G36+H35 -> 0 | I36: =H36+I35 -> 1 | J36: =I36+J35 -> 1 | K36: =J36+K35 -> 1 | L36: =K36+L35 -> 1 | M36: =L36+M35 -> 1 | N36: =M36+N35 -> 1
D37: Cronograma
D38: Vencimento | F38: =+F35*$C35 -> 0 | G38: =+G35*$C35 -> 0 | H38: =+H35*$C35 -> 0 | I38: =+I35*$C35 -> 66915.96 | J38: =+J35*$C35 -> 0 | K38: =+K35*$C35 -> 0 | L38: =+L35*$C35 -> 0 | M38: =+M35*$C35 -> 0 | N38: =+N35*$C35 -> 0
A39: 7.0 | B39: =P.O.!D50 -> COBERTURA | C39: =P.O.!I50 -> 217253.28 | D39: % Executada | F39: 0 | G39: 0 | H39: 0 | I39: 0 | J39: 1 | K39: 0 | L39: 0 | M39: 0 | N39: 0
D40: % Acumulada | F40: =E40+F39 -> 0 | G40: =F40+G39 -> 0 | H40: =G40+H39 -> 0 | I40: =H40+I39 -> 0 | J40: =I40+J39 -> 1 | K40: =J40+K39 -> 1 | L40: =K40+L39 -> 1 | M40: =L40+M39 -> 1 | N40: =M40+N39 -> 1
D41: Cronograma
D42: Vencimento | F42: =+F39*$C39 -> 0 | G42: =+G39*$C39 -> 0 | H42: =+H39*$C39 -> 0 | I42: =+I39*$C39 -> 0 | J42: =+J39*$C39 -> 217253.28 | K42: =+K39*$C39 -> 0 | L42: =+L39*$C39 -> 0 | M42: =+M39*$C39 -> 0 | N42: =+N39*$C39 -> 0
A43: 8.0 | B43: =P.O.!D61 -> HIDRÁULICA | C43: =P.O.!I61 -> 120223.54 | D43: % Executada | F43: 0 | G43: 0 | H43: 0.5 | I43: 0.25 | J43: 0 | K43: 0 | L43: 0.25 | M43: 0 | N43: 0
D44: % Acumulada | F44: =E44+F43 -> 0 | G44: =F44+G43 -> 0 | H44: =G44+H43 -> 0.5 | I44: =H44+I43 -> 0.75 | J44: =I44+J43 -> 0.75 | K44: =J44+K43 -> 0.75 | L44: =K44+L43 -> 1 | M44: =L44+M43 -> 1 | N44: =M44+N43 -> 1
D45: Cronograma
D46: Vencimento | F46: =+F43*$C43 -> 0 | G46: =+G43*$C43 -> 0 | H46: =+H43*$C43 -> 60111.77 | I46: =+I43*$C43 -> 30055.885 | J46: =+J43*$C43 -> 0 | K46: =+K43*$C43 -> 0 | L46: =+L43*$C43 -> 30055.885 | M46: =+M43*$C43 -> 0 | N46: =+N43*$C43 -> 0
A47: 9.0 | B47: =P.O.!D99 -> ELÉTRICA | C47: =P.O.!I99 -> 106892.1 | D47: % Executada | F47: 0 | G47: 0 | H47: 0 | I47: 0 | J47: 0 | K47: 1 | L47: 0 | M47: 0 | N47: 0
D48: % Acumulada | F48: =E48+F47 -> 0 | G48: =F48+G47 -> 0 | H48: =G48+H47 -> 0 | I48: =H48+I47 -> 0 | J48: =I48+J47 -> 0 | K48: =J48+K47 -> 1 | L48: =K48+L47 -> 1 | M48: =L48+M47 -> 1 | N48: =M48+N47 -> 1
...

Sheet LICITAÇÃO
B2: TABELA DE ACERVO
B3: Item | C3: Item da Planilha | D3: Descrição dos serviços | E3: Unid. | F3: Quantitativo Planilhado. | G3: Acervo Exig. (50% Qtd.) | I3: Valor
B4: 1.0 | C4: 2.3 | D4: Estaca escavada mecanicamente | E4: m | F4: 408 | G4: =ROUND(0.5*F4,2) -> 204 | I4: =P.O.!I16 -> 40718.4 | J4: =I4/P.O.!$I$210 -> 0.025297137
B5: 2.0 | C5: 2.5, 5.1.1, 5.2.1 e 17.3 | D5: Forma em madeira comum | E5: m² | F5: =P.O.!F18+P.O.!F35+P.O.!F40+P.O.!F194 -> 396.15 | G5: =ROUND(0.5*F5,2) -> 198.08 | I5: =P.O.!I18+P.O.!I35+P.O.!I40 -> 83678.16 | J5: =I5/P.O.!$I$210 -> 0.051986764
B6: 3.0 | C6: 2.8, 3.2, 4.4, 5.1.4, 5.2.4, 17.6 e 17.10 | D6: Barras de aço CA-50/CA-60 | E6: kg | F6: =P.O.!F21+P.O.!F24+P.O.!F32+P.O.!F38+P.O.!F43+P.O.!F197+P.O.!F201 -> 8994.94 | G6: =ROUND(0.5*F6,2) -> 4497.47 | I6: =P.O.!I21+P.O.!I24+P.O.!I32+P.O.!I38+P.O.!I43 -> 119522.85 | J6: =I6/P.O.!$I$210 -> 0.074256009
B7: 4.0 | C7: 4.1 e 4.2 | D7: Alvenaria em bloco estrutural, classe B, famílias M15 e M20 | E7: m² | F7: =P.O.!F29+P.O.!F30 -> 670.49 | G7: =ROUND(0.5*F7,2) -> 335.25 | I7: =P.O.!I29+P.O.!I30 -> 99806.1 | J7: =I7/P.O.!$I$210 -> 0.062006576
B8: 5.0 | C8: 7.1 | D8: Estrutura de madeira tesourada para telhados | E8: m² | F8: =P.O.!F51 -> 324.17 | G8: =ROUND(0.5*F8,2) -> 162.09 | I8: =P.O.!I51 -> 68121.08 | J8: =I8/P.O.!$I$210 -> 0.042321611
B9: 6.0 | C9: 9.9, 9.10, 9.11, 9.12 e 9.13 | D9: Fio de cobre, bitolas variadas, isolação PVC 70º C ou HEPR 90º C | E9: m | F9: =P.O.!F108+P.O.!F109+P.O.!F110+P.O.!F111+P.O.!F112 -> 3840 | G9: =ROUND(0.5*F9,2) -> 1920 | I9: =P.O.!I108+P.O.!I109+P.O.!I110+P.O.!I111+P.O.!I112 -> 33335.68 | J9: =I9/P.O.!$I$210 -> 0.020710471
B10: 7.0 | C10: 12.5 | D10: Revestimento em porcelanto | E10: m² | F10: =P.O.!F156 -> 578.84 | G10: =ROUND(0.5*F10,2) -> 289.42 | I10: =P.O.!I156 -> 132230.21 | J10: =I10/P.O.!$I$210 -> 0.082150716
B11: 8.0 | C11: 13.2 e 13.3 | D11: Pintura látex/acrílica em massa | E11: m | F11: =P.O.!F162+P.O.!F163 -> 1536.18 | G11: =ROUND(0.5*F11,2) -> 768.09 | I11: =P.O.!I162+P.O.!I163 -> 63914.88 | J11: =I11/P.O.!$I$210 -> 0.039708423

Sheet INFRAESTRUTURA
N1: =6*333.18 -> 1999.08
B2: BLOCOS DE COROAMENTO | L2: VIGAS BALDRAME | V2: CONTRAPISO | AE2: ARGAMASSA DE REGULARIZAÇÃO | AJ2: QUANTITATIVO DE AÇO CA-50
B3: Elemento | C3: Comp. [m] | D3: Largura [m] | E3: Altura [m] | F3: Formas [m²] | G3: Lastro 5 cm [m³] | H3: Concreto [m³] | I3: Taxa Aço [kg/m³] | J3: Aço CA-50 [kg] | L3: Elemento | M3: Comp. [m] | N3: Largura [m] | O3: Altura [m] | P3: Lastro 5 cm [m³] | Q3: Formas [m²] | R3: Concreto [m³] | S3: Taxa Aço [kg/m³] | T3: Aço CA-50 [kg] | V3: Elemento | W3: Área [m²] | X3: Lastro 5 cm [m³] | Y3: Altura [m] | Z3: Concreto [m³] | AA3: Tela Soldada | AB3: Peso Esp. [kg/m²] | AC3: Aço CA-60 [kg] | AE3: Local | AF3: Área [m²] | AG3: Altura [m] | AH3: Argamassa [m³] | AJ3: Elemento | AK3: Concreto [m³] | AL3: Taxa Aço [kg/m³] | AM3: Aço CA-50 [kg]
B4: B1 | C4: 0.6 | D4: 0.6 | E4: 0.5 | F4: =ROUND(2*C4*E4+2*D4*E4,2) -> 1.2 | G4: =ROUND(0.05*C4*D4,2) -> 0.02 | H4: =ROUND(C4*D4*E4,2) -> 0.18 | I4: 80 | J4: =ROUND(H4*I4,2) -> 14.4 | L4: VB1 | M4: =2.65+0.96+2.4 -> 6.01 | N4: 0.24 | O4: 0.5 | P4: =ROUND(0.05*M4*N4,2) -> 0.07 | Q4: =ROUND(2*M4*O4,2) -> 6.01 | R4: =ROUND(M4*N4*O4,2) -> 0.72 | S4: 75 | T4: =ROUND(R4*S4,2) -> 54 | V4: CP 1 | W4: 5.28 | X4: =ROUND(0.05*W4,2) -> 0.26 | Y4: 0.1 | Z4: =ROUND(W4*Y4,2) -> 0.53 | AA4: Q159 | AB4: 2.52 | AC4: =ROUND(W4*AB4,2) -> 13.31 | AE4: Área de Serviço | AF4: 6.04 | AG4: 0.02 | AH4: =ROUND(AF4*AG4,2) -> 0.12 | AJ4: Estacas | AM4: =F142 -> 2200.37
B5: B2 | C5: 0.6 | D5: 0.6 | E5: =$E$4 -> 0.5 | F5: =ROUND(2*C5*E5+2*D5*E5,2) -> 1.2 | G5: =ROUND(0.05*C5*D5,2) -> 0.02 | H5: =ROUND(C5*D5*E5,2) -> 0.18 | I5: =$I$4 -> 80 | J5: =ROUND(H5*I5,2) -> 14.4 | L5: VB2 | M5: =2.83+0.79 -> 3.62 | N5: 0.24 | O5: 0.5 | P5: =ROUND(0.05*M5*N5,2) -> 0.04 | Q5: =ROUND(2*M5*O5,2) -> 3.62 | R5: =ROUND(M5*N5*O5,2) -> 0.43 | S5: =$S$4 -> 75 | T5: =ROUND(R5*S5,2) -> 32.25 | V5: CP 2 | W5: 11.48 | X5: =ROUND(0.05*W5,2) -> 0.57 | Y5: 0.1 | Z5: =ROUND(W5*Y5,2) -> 1.15 | AA5: =$AA$4 -> Q159 | AB5: =$AB$4 -> 2.52 | AC5: =ROUND(W5*AB5,2) -> 28.93 | AE5: Dormitório Masculino | AF5: 12.52 | AG5: =$AG$4 -> 0.02 | AH5: =ROUND(AF5*AG5,2) -> 0.25 | AJ5: Blocos | AK5: =H55 -> 17.28 | AL5: 80 | AM5: =J55 -> 1382.4
B6: B3 | C6: 0.6 | D6: 1.5 | E6: =$E$4 -> 0.5 | F6: =ROUND(2*C6*E6+2*D6*E6,2) -> 2.1 | G6: =ROUND(0.05*C6*D6,2) -> 0.05 | H6: =ROUND(C6*D6*E6,2) -> 0.45 | I6: =$I$4 -> 80 | J6: =ROUND(H6*I6,2) -> 36 | L6: VB3 | M6: 1.5 | N6: 0.24 | O6: 0.5 | P6: =ROUND(0.05*M6*N6,2) -> 0.02 | Q6: =ROUND(2*M6*O6,2) -> 1.5 | R6: =ROUND(M6*N6*O6,2) -> 0.18 | S6: =$S$4 -> 75 | T6: =ROUND(R6*S6,2) -> 13.5 | V6: CP 3 | W6: 8.48 | X6: =ROUND(0.05*W6,2) -> 0.42 | Y6: 0.1 | Z6: =ROUND(W6*Y6,2) -> 0.85 | AA6: =$AA$4 -> Q159 | AB6: =$AB$4 -> 2.52 | AC6: =ROUND(W6*AB6,2) -> 21.37 | AE6: Dormitório Comandante | AF6: 9.42 | AG6: =$AG$4 -> 0.02 | AH6: =ROUND(AF6*AG6,2) -> 0.19 | AJ6: Vigas | AK6: =R29 -> 12.24 | AL6: 75 | AM6: =T29 -> 918
B7: B4 | C7: 1.5 | D7: 0.6 | E7: =$E$4 -> 0.5 | F7: =ROUND(2*C7*E7+2*D7*E7,2) -> 2.1 | G7: =ROUND(0.05*C7*D7,2) -> 0.05 | H7: =ROUND(C7*D7*E7,2) -> 0.45 | I7: =$I$4 -> 80 | J7: =ROUND(H7*I7,2) -> 36 | L7: VB4 | M7: 1.93 | N7: 0.19 | O7: 0.5 | P7: =ROUND(0.05*M7*N7,2) -> 0.02 | Q7: =ROUND(2*M7*O7,2) -> 1.93 | R7: =ROUND(M7*N7*O7,2) -> 0.18 | S7: =$S$4 -> 75 | T7: =ROUND(R7*S7,2) -> 13.5 | V7: CP 4 | W7: 4.55 | X7: =ROUND(0.05*W7,2) -> 0.23 | Y7: 0.1 | Z7: =ROUND(W7*Y7,2) -> 0.46 | AA7: =$AA$4 -> Q159 | AB7: =$AB$4 -> 2.52 | AC7: =ROUND(W7*AB7,2) -> 11.47 | AE7: Circulação 2 | AF7: 11.04 | AG7: =$AG$4 -> 0.02 | AH7: =ROUND(AF7*AG7,2) -> 0.22 | AJ7: TOTAL | AM7: =SUM(AM4:AM6) -> 4500.77
B8: B5 | C8: 0.6 | D8: 1.5 | E8: =$E$4 -> 0.5 | F8: =ROUND(2*C8*E8+2*D8*E8,2) -> 2.1 | G8: =ROUND(0.05*C8*D8,2) -> 0.05 | H8: =ROUND(C8*D8*E8,2) -> 0.45 | I8: =$I$4 -> 80 | J8: =ROUND(H8*I8,2) -> 36 | L8: VB5 | M8: 1.93 | N8: 0.19 | O8: 0.5 | P8: =ROUND(0.05*M8*N8,2) -> 0.02 | Q8: =ROUND(2*M8*O8,2) -> 1.93 | R8: =ROUND(M8*N8*O8,2) -> 0.18 | S8: =$S$4 -> 75 | T8: =ROUND(R8*S8,2) -> 13.5 | V8: CP 5 | W8: 7.98 | X8: =ROUND(0.05*W8,2) -> 0.4 | Y8: 0.1 | Z8: =ROUND(W8*Y8,2) -> 0.8 | AA8: =$AA$4 -> Q159 | AB8: =$AB$4 -> 2.52 | AC8: =ROUND(W8*AB8,2) -> 20.11 | AE8: Banheiro Masculino | AF8: 9 | AG8: =$AG$4 -> 0.02 | AH8: =ROUND(AF8*AG8,2) -> 0.18
B9: B6 | C9: 0.6 | D9: 1.5 | E9: =$E$4 -> 0.5 | F9: =ROUND(2*C9*E9+2*D9*E9,2) -> 2.1 | G9: =ROUND(0.05*C9*D9,2) -> 0.05 | H9: =ROUND(C9*D9*E9,2) -> 0.45 | I9: =$I$4 -> 80 | J9: =ROUND(H9*I9,2) -> 36 | L9: VB6 | M9: 1.93 | N9: 0.19 | O9: 0.5 | P9: =ROUND(0.05*M9*N9,2) -> 0.02 | Q9: =ROUND(2*M9*O9,2) -> 1.93 | R9: =ROUND(M9*N9*O9,2) -> 0.18 | S9: =$S$4 -> 75 | T9: =ROUND(R9*S9,2) -> 13.5 | V9: CP 6 | W9: 3.84 | X9: =ROUND(0.05*W9,2) -> 0.19 | Y9: 0.1 | Z9: =ROUND(W9*Y9,2) -> 0.38 | AA9: =$AA$4 -> Q159 | AB9: =$AB$4 -> 2.52 | AC9: =ROUND(W9*AB9,2) -> 9.68 | AE9: Banheiro Comandante | AF9: 4.55 | AG9: =$AG$4 -> 0.02 | AH9: =ROUND(AF9*AG9,2) -> 0.09
B10: B7 | C10: 1.5 | D10: 0.6 | E10: =$E$4 -> 0.5 | F10: =ROUND(2*C10*E10+2*D10*E10,2) -> 2.1 | G10: =ROUND(0.05*C10*D10,2) -> 0.05 | H10: =ROUND(C10*D10*E10,2) -> 0.45 | I10: =$I$4 -> 80 | J10: =ROUND(H10*I10,2) -> 36 | L10: VB7 | M10: 1.93 | N10: 0.19 | O10: 0.5 | P10: =ROUND(0.05*M10*N10,2) -> 0.02 | Q10: =ROUND(2*M10*O10,2) -> 1.93 | R10: =ROUND(M10*N10*O10,2) -> 0.18 | S10: =$S$4 -> 75 | T10: =ROUND(R10*S10,2) -> 13.5 | V10: CP 7 | W10: 8.95 | X10: =ROUND(0.05*W10,2) -> 0.45 | Y10: 0.1 | Z10: =ROUND(W10*Y10,2) -> 0.9 | AA10: =$AA$4 -> Q159 | AB10: =$AB$4 -> 2.52 | AC10: =ROUND(W10*AB10,2) -> 22.55 | AE10: Dormitório Feminino | AF10: 9.91 | AG10: =$AG$4 -> 0.02 | AH10: =ROUND(AF10*AG10,2) -> 0.2
B11: B8 | C11: 1.5 | D11: 0.6 | E11: =$E$4 -> 0.5 | F11: =ROUND(2*C11*E11+2*D11*E11,2) -> 2.1 | G11: =ROUND(0.05*C11*D11,2) -> 0.05 | H11: =ROUND(C11*D11*E11,2) -> 0.45 | I11: =$I$4 -> 80 | J11: =ROUND(H11*I11,2) -> 36 | L11: VB8 | M11: =0.72+2.21 -> 2.93 | N11: 0.19 | O11: 0.5 | P11: =ROUND(0.05*M11*N11,2) -> 0.03 | Q11: =ROUND(2*M11*O11,2) -> 2.93 | R11: =ROUND(M11*N11*O11,2) -> 0.28 | S11: =$S$4 -> 75 | T11: =ROUND(R11*S11,2) -> 21 | V11: CP 8 | W11: 4.5 | X11: =ROUND(0.05*W11,2) -> 0.23 | Y11: 0.1 | Z11: =ROUND(W11*Y11,2) -> 0.45 | AA11: =$AA$4 -> Q159 | AB11: =$AB$4 -> 2.52 | AC11: =ROUND(W11*AB11,2) -> 11.34 | AE11: Vestiário Masculino | AF11: 17.25 | AG11: =$AG$4 -> 0.02 | AH11: =ROUND(AF11*AG11,2) -> 0.35
