Workbook

Sheet cronograma
A1: As cotações foram feitas baseado nas planilhas de custos fornecidos por órgãos oficiais aceitos pelo governo do Estado de São Paulo --Foram adotadas as planilhas do CDHU e da SABESP
B2: legenda do cronograma | D2: Etapa em realização | F2: Custo do serviço especifico | H2: Custo da etapa | J2: Custo total da obra
A3: CRONOGRAMA FÍSICO FINANCEIRO COMUTE
A4: ORDEM | B4: DESCRIÇÃO DO ITEM | C4: CÓDIGO DE REFERÊNCIA | D4: SEMANAS | H4: VALOR TOTAL (R$) | I4: QUANT. | J4: UNIDADE
B5: Dados obtidos em 05 de março de 2026 | D5: PRIMEIRA | E5: SEGUNDA | F5: TERCEIRA | G5: QUARTA
A6: 1 | B6: TRANSPORTE, INSTALAÇÃO E REMOÇÃO DOS EQUIPAMENTOS | C6: Sabesp 7 0 1 7 0 0 0 5 | D6: ='COMUTE COM '!#REF! -> #REF! | H6: ='COMUTE COM '!G2 -> 133938.69 | I6: 1 | J6: Unid.
A7: 2 | B7: PERFURAÇÃO | H7: =SUM(D7:G7) -> 0
A8: 2.1 | B8: 0 a 20 m ‐ Ø 24", arenito | C8: Sabesp 70170024 | D8: ='COMUTE COM '!G4 -> 20756.8 | H8: =SUM(D8:G8) -> 20756.8 | I8: 20 | J8: Metros
A9: 2.2 | B9: 20 a 290 m ‐ Ø 14 ³/4" ‐ arenito e argilito | C9: Sabesp 70170051 | E9: ='COMUTE COM '!G5 -> 211196.7 | H9: =SUM(D9:G9) -> 211196.7 | I9: 270 | J9: Metros
A10: 3 | B10: PERFILAGEM ELÉTRICA (DISPONIBILIDADE, KM E M/PERFURADOS): | H10: =SUM(D10:G10) -> 0
A11: 3.1 | B11: (Disponibilidade, km e m/perfurados) : Base São Paulo | C11: Sabesp 70170009 | F11: ='COMUTE COM '!G7 -> 1688 | H11: =SUM(D11:G11) -> 1688 | I11: 400 | J11: Quilômetro
A12: 3.2 | B12: Taxa basica ou de serviço | C12: Sabesp 7017010 | F12: ='COMUTE COM '!G8 -> 4224 | H12: =SUM(D12:G12) -> 4224 | I12: 1 | J12: Unid.
A13: 3.3 | B13: Taxa de profundidade ‐ Raios Gama GR | C13: Sabesp 70170014 | F13: ='COMUTE COM '!G9 -> 2450.5 | H13: =SUM(D13:G13) -> 2450.5 | I13: 290 | J13: Metros
A14: 3.4 | B14: Taxa de profundidade ‐ Sônico Compensado BHC | C14: Sabesp 70170012 | F14: ='COMUTE COM '!G10 -> 2450.5 | H14: =SUM(D14:G14) -> 2450.5 | I14: 290 | J14: Metros
A15: 3.5 | B15: Taxa de profundiade ‐ Indução Elétrico ‐ IEL | C15: Sabesp 70170011 | F15: ='COMUTE COM '!G11 -> 1467.4 | H15: =SUM(D15:G15) -> 1467.4 | I15: 290 | J15: Metros
A16: 4 | B16: FORNECIMENTO E COLOCAÇÃO DA COLUNA DE REVESTIMENTO: | H16: =SUM(D16:G16) -> 0
A17: 4.1 | B17: Aço preto, Sch 10, espessura 6,35 mm, Ø 16" | C17: Sabesp 70170195 | F17: ='COMUTE COM '!G13 -> 43676.4 | H17: =SUM(D17:G17) -> 43676.4 | I17: 20 | J17: Metros
A18: 4.2 | B18: Aço preto,Sch 20, Ø 8 5/8", esp. 6,35 mm, solda | C18: Sabesp 70170210 | F18: ='COMUTE COM '!G14 -> 175079.3 | H18: =SUM(D18:G18) -> 175079.3 | I18: 190 | J18: Metros
A19: 4.3 | B19: Filtro chapa de aço estampada, abert. 0,75 mm, 8" . | C19: Sabesp 70170230 | F19: ='COMUTE COM '!G15 -> 65297 | H19: =SUM(D19:G19) -> 65297 | I19: 100 | J19: Metros
A20: 5 | B20: FORNECIMENTO E COLOCAÇÃO DO PRÉ FILTRO | H20: =SUM(D20:G20) -> 0
A21: 5.1 | B21: Piramboia, granulometria de 1,00 a 2,00 mm | C21: Sabesp 70170261 | F21: ='COMUTE COM '!G17 -> 69293.52 | H21: =SUM(D21:G21) -> 69293.52 | I21: 24 | J21: Metro cúbico
A22: 6 | B22: PREENCHIMENTO DOS ESPAÇOS ANULAR COM PASTA DE CIMENTO: | H22: =SUM(D22:G22) -> 0
A23: 6.1 | B23: Intervalo 0 a 20 m ‐ (24'' x 16'') | C23: Sabesp 70170133 | D23: ='COMUTE COM '!G19 -> 2921.625 | H23: =SUM(D23:G23) -> 2921.625 | I23: 2.5 | J23: Metro cúbico
A24: 7 | B24: DESENVOLVIMENTO: | H24: =SUM(D24:G24) -> 0
A25: 7.1 | B25: Ar comprimido | C25: Sabesp 70170294 | G25: ='COMUTE COM '!G21 -> 11481.72 | H25: =SUM(D25:G25) -> 11481.72 | I25: 12 | J25: Hora
A26: 7.2 | B26: Bombeamento | C26: Sabesp 70170282 | G26: ='COMUTE COM '!G22 -> 7342.08 | H26: =SUM(D26:G26) -> 7342.08 | I26: 12 | J26: Hora
A27: 7.3 | B27: jateamento | C27: Sabesp 7 0 1 7 0 2 9 5 | G27: ='COMUTE COM '!G23 -> 5583 | H27: =SUM(D27:G27) -> 5583 | I27: 12 | J27: Hora
A28: 8 | B28: ENSAIOS DE VAZÃO | H28: =SUM(D28:G28) -> 0
A29: 8.1 | B29: REBAIXAMENTO VAZÃO MAXIMA | C29: Sabesp 70170297 | G29: ='COMUTE COM '!G25 -> 14684.16 | H29: =SUM(D29:G29) -> 14684.16 | I29: 24 | J29: Hora
A30: 8.2 | B30: VAZÃO ESCALONADA | C30: Sabesp 70170297 | G30: ='COMUTE COM '!G26 -> 1835.52 | H30: =SUM(D30:G30) -> 1835.52 | I30: 3 | J30: Hora
A31: 8.3 | B31: RECUPERAÇÃO | C31: CDHU 01.28.530 | G31: ='COMUTE COM '!G27 -> 969.9 | H31: =SUM(D31:G31) -> 969.9 | I31: 3 | J31: Hora
A32: 9 | B32: DESINFECÇÃO | C32: CDHU 01.28.540 | G32: ='COMUTE COM '!G28 -> 3052.59 | H32: =SUM(D32:G32) -> 3052.59 | I32: 1 | J32: Unid.
A33: 10 | B33: LAJE DE PROTEÇÃO | C33: CDHU 01.28.580 | G33: ='COMUTE COM '!G29 -> 1773.39 | H33: =SUM(D33:G33) -> 1773.39 | I33: 1 | J33: Unid.
A34: 11 | B34: PERFILAGEM ÓTICA: | H34: =SUM(D34:G34) -> 0
A35: 11.1 | B35: DISPONIBILIDADE KM:BASE SÃO PAULO | C35: Sabesp 70170267 | G35: ='COMUTE COM '!G31 -> 4068 | H35: =SUM(D35:G35) -> 4068 | I35: 1200 | J35: Quilômetro
A36: 11.2 | B36: TAXA DE PROFUNDIDADE | C36: Sabesp 70170270 | G36: ='COMUTE COM '!G32 -> 4710.4 | H36: =SUM(D36:G36) -> 4710.4 | I36: 160 | J36: Metros
A37: 12 | B37: ANÁLISE D'AGUA: | H37: =SUM(D37:G37) -> 0
A38: 12.1 | B38: Físico – química e bacteriológica pela Portaria GM/MS N0 888 de 7/5/2021 | C38: CDHU 01.28.550 | G38: ='COMUTE COM '!G34 -> 3240.4 | H38: =SUM(D38:G38) -> 3240.4 | I38: 1 | J38: Unid.
A39: 13 | B39: PRODUTOS QUÍMICOS: | H39: =SUM(D39:G39) -> 0
A40: 13.1 | B40: FLUÍDO DE PERFURAÇÃO DMP 2000 OU SIMILAR ‐ INCLUSO NO PREÇO | C40: Sabesp 70170266 | D40: 5000 | E40: 5000 | F40: 5000 | G40: 5992 | H40: =SUM(D40:G40) -> 20992 | I40: 200 | J40: Kg
A41: 13.2 | B41: PRODUTOS QUIMICOS PARA REMOÇÃO DE MATERIAIS DE LAMA | C41: Sabesp 70170265 | E41: ='COMUTE COM '!G37 -> 8500 | H41: =SUM(D41:G41) -> 8500 | I41: 50 | J41: kg
A42: 14 | B42: RELATÓRIO DE SERVIÇOS REALIZADOS | C42: Sabesp MO00035 | G42: ='COMUTE COM '!G38 -> 5000 | H42: =SUM(D42:G42) -> 5000 | I42: 77.54 | J42: Hora
A43: Somas etapa e total | D43: =SUM(D6:D42) -> #REF! | E43: =SUM(E6:E42) -> 224696.7 | F43: =SUM(F6:F42) -> 370626.62 | G43: =SUM(G6:G42) -> 69733.16 | H43: =SUM(H6:H42) -> 827673.6

Sheet COMUTE COM 
A1: Ordem | B1: Descrição do Item | C1: Código de Referência | D1: Unid. | E1: Quant. | F1: Valor Unitáriocom BDI (R$) | G1: Valor Total (R$)
A2: 1 | B2: TRANSPORTE, INSTALAÇÃO E REMOÇÃO DOS EQUIPAMENTOS | C2: 7 0 1 7 0 0 0 5 | D2: verba orçada | E2: 1 | F2: 133938.69 | G2: =F2*E2 -> 133938.69 | I2: =IF(G2=cronograma!H6,"ok","ajustar") -> ok
A3: 2 | B3: PERFURAÇÃO | G3: =F3*E3 -> 0 | I3: =IF(G3=cronograma!H7,"ok","ajustar") -> ok
A4: 2.1 | B4: 0 a 20 m ‐ Ø 24", arenito | C4: 70170024 | D4: Metros | E4: 20 | F4: 1037.84 | G4: =F4*E4 -> 20756.8 | I4: =IF(G4=cronograma!H8,"ok","ajustar") -> ok
A5: 2.2 | B5: 20 a 290 m ‐ Ø 14 ³/4" ‐ arenito e argilito | C5: 70170051 | D5: Metros | E5: 270 | F5: 782.21 | G5: =F5*E5 -> 211196.7 | I5: =IF(G5=cronograma!H9,"ok","ajustar") -> ok
A6: 3 | B6: PERFILAGEM ELÉTRICA (DISPONIBILIDADE, KM E M/PERFURADOS): | G6: =F6*E6 -> 0 | I6: =IF(G6=cronograma!H10,"ok","ajustar") -> ok
A7: 3.1 | B7: (Disponibilidade, km e m/perfurados) : Base São Paulo | C7: 70170009 | D7: Quilômetro | E7: 400 | F7: 4.22 | G7: =F7*E7 -> 1688 | I7: =IF(G7=cronograma!H11,"ok","ajustar") -> ok
A8: 3.2 | B8: Taxa basica ou de serviço | C8: 7017010 | D8: verba orçada | E8: 1 | F8: 4224 | G8: =F8*E8 -> 4224 | I8: =IF(G8=cronograma!H12,"ok","ajustar") -> ok
A9: 3.3 | B9: Taxa de profundidade ‐ Raios Gama GR | C9: 70170014 | D9: Metros | E9: 290 | F9: 8.45 | G9: =F9*E9 -> 2450.5 | I9: =IF(G9=cronograma!H13,"ok","ajustar") -> ok
A10: 3.4 | B10: Taxa de profundidade ‐ Sônico Compensado BHC | C10: 70170012 | D10: Metros | E10: 290 | F10: 8.45 | G10: =F10*E10 -> 2450.5 | I10: =IF(G10=cronograma!H14,"ok","ajustar") -> ok
A11: 3.5 | B11: Taxa de profundiade ‐ Indução Elétrico ‐ IEL | C11: 70170011 | D11: Metros | E11: 290 | F11: 5.06 | G11: =F11*E11 -> 1467.4 | I11: =IF(G11=cronograma!H15,"ok","ajustar") -> ok
A12: 4 | B12: FORNECIMENTO E COLOCAÇÃO DA COLUNA DE REVESTIMENTO: | G12: =F12*E12 -> 0 | I12: =IF(G12=cronograma!H16,"ok","ajustar") -> ok
A13: 4.1 | B13: Aço preto, Sch 10, espessura 6,35 mm, Ø 16" | C13: 70170195 | D13: Metros | E13: 20 | F13: 2183.82 | G13: =F13*E13 -> 43676.4 | I13: =IF(G13=cronograma!H17,"ok","ajustar") -> ok
A14: 4.2 | B14: Aço preto,Sch 20, Ø 8 5/8", esp. 6,35 mm, solda | C14: 70170210 | D14: Metros | E14: 190 | F14: 921.47 | G14: =F14*E14 -> 175079.3 | I14: =IF(G14=cronograma!H18,"ok","ajustar") -> ok
A15: 4.3 | B15: Filtro chapa de aço estampada, abert. 0,75 mm, 8" . | C15: 70170230 | D15: Metros | E15: 100 | F15: 652.97 | G15: =F15*E15 -> 65297 | I15: =IF(G15=cronograma!H19,"ok","ajustar") -> ok
A16: 5 | B16: FORNECIMENTO E COLOCAÇÃO DO PRÉ FILTRO | G16: =F16*E16 -> 0 | I16: =IF(G16=cronograma!H20,"ok","ajustar") -> ok
A17: 5.1 | B17: Piramboia, granulometria de 1,00 a 2,00 mm | C17: 70170261 | D17: Metro cúbico | E17: 24 | F17: 2887.23 | G17: =F17*E17 -> 69293.52 | I17: =IF(G17=cronograma!H21,"ok","ajustar") -> ok
A18: 6 | B18: PREENCHIMENTO DOS ESPAÇOS ANULAR COM PASTA DE CIMENTO: | G18: =F18*E18 -> 0 | I18: =IF(G18=cronograma!H22,"ok","ajustar") -> ok
A19: 6.1 | B19: Intervalo 0 a 20 m ‐ (24'' x 16'') | C19: 70170133 | D19: Metro cúbico | E19: 2.5 | F19: 1168.65 | G19: =F19*E19 -> 2921.625 | I19: =IF(G19=cronograma!H23,"ok","ajustar") -> ok
A20: 7 | B20: DESENVOLVIMENTO: | G20: =F20*E20 -> 0 | I20: =IF(G20=cronograma!H24,"ok","ajustar") -> ok
A21: 7.1 | B21: Ar comprimido | C21: 70170294 | D21: Hora | E21: 12 | F21: 956.81 | G21: =F21*E21 -> 11481.72 | I21: =IF(G21=cronograma!H25,"ok","ajustar") -> ok
A22: 7.2 | B22: Bombeamento | C22: 70170282 | D22: Hora | E22: 12 | F22: 611.84 | G22: =F22*E22 -> 7342.08 | I22: =IF(G22=cronograma!H26,"ok","ajustar") -> ok
A23: 7.3 | B23: jateamento | C23: 7 0 1 7 0 2 9 5 | D23: Hora | E23: 12 | F23: 465.25 | G23: =F23*E23 -> 5583 | I23: =IF(G23=cronograma!H27,"ok","ajustar") -> ok
A24: 8 | B24: ENSAIOS DE VAZÃO | G24: =F24*E24 -> 0 | I24: =IF(G24=cronograma!H28,"ok","ajustar") -> ok
A25: 8.1 | B25: REBAIXAMENTO VAZÃO MAXIMA | C25: 70170297 | D25: Hora | E25: 24 | F25: 611.84 | G25: =F25*E25 -> 14684.16 | I25: =IF(G25=cronograma!H29,"ok","ajustar") -> ok
A26: 8.2 | B26: VAZÃO ESCALONADA | C26: 70170297 | D26: Hora | E26: 3 | F26: 611.84 | G26: =F26*E26 -> 1835.52 | I26: =IF(G26=cronograma!H30,"ok","ajustar") -> ok
A27: 8.3 | B27: RECUPERAÇÃO | C27: 01.28.530 | D27: Hora | E27: 3 | F27: 323.3 | G27: =F27*E27 -> 969.9 | I27: =IF(G27=cronograma!H31,"ok","ajustar") -> ok
A28: 9 | B28: DESINFECÇÃO | C28: 01.28.540 | D28: verba orçada | E28: 1 | F28: 3052.59 | G28: =F28*E28 -> 3052.59 | I28: =IF(G28=cronograma!H32,"ok","ajustar") -> ok
A29: 10 | B29: LAJE DE PROTEÇÃO | C29: 01.28.580 | D29: verba orçada | E29: 1 | F29: 1773.39 | G29: =F29*E29 -> 1773.39 | I29: =IF(G29=cronograma!H33,"ok","ajustar") -> ok
A30: 11 | B30: PERFILAGEM ÓTICA: | F30: 32.83 | G30: =F30*E30 -> 0 | I30: =IF(G30=cronograma!H34,"ok","ajustar") -> ok
A31: 11.1 | B31: DISPONIBILIDADE KM:BASE SÃO PAULO | C31: 70170267 | D31: Quilômetro | E31: 1200 | F31: 3.39 | G31: =F31*E31 -> 4068 | I31: =IF(G31=cronograma!H35,"ok","ajustar") -> ok
A32: 11.2 | B32: TAXA DE PROFUNDIDADE | C32: 70170270 | D32: Metros | E32: 160 | F32: 29.44 | G32: =F32*E32 -> 4710.4 | I32: =IF(G32=cronograma!H36,"ok","ajustar") -> ok
A33: 12 | B33: ANÁLISE D'AGUA: | F33: 3240.4 | G33: =F33*E33 -> 0 | I33: =IF(G33=cronograma!H37,"ok","ajustar") -> ok
A34: 12.1 | B34: Físico – química e bacteriológica pela Portaria GM/MS N0 888 de 7/5/2021 | C34: 01.28.550 | D34: verba orçada | E34: 1 | F34: 3240.4 | G34: =F34*E34 -> 3240.4 | I34: =IF(G34=cronograma!H38,"ok","ajustar") -> ok
A35: 13 | B35: PRODUTOS QUÍMICOS: | F35: 17000 | G35: =F35*E35 -> 0 | I35: =IF(G35=cronograma!H39,"ok","ajustar") -> ok
A36: 13.1 | B36: FLUÍDO DE PERFURAÇÃO DMP 2000 OU SIMILAR ‐ INCLUSO NO PREÇO | C36: 70170266 | D36: Kg | E36: 200 | F36: 104.96 | G36: =F36*E36 -> 20992 | I36: =IF(G36=cronograma!H40,"ok","ajustar") -> ok
A37: 13.2 | B37: PRODUTOS QUIMICOS PARA REMOÇÃO DE MATERIAIS DE LAMA | C37: 70170265 | D37: verba orçada | E37: 1 | F37: 8500 | G37: =F37*E37 -> 8500 | I37: =IF(G37=cronograma!H41,"ok","ajustar") -> ok
A38: 14 | B38: RELATÓRIO DE SERVIÇOS REALIZADOS | C38: COTAÇÃO | D38: verba orçada | E38: 1 | F38: 5000 | G38: =F38*E38 -> 5000 | I38: =IF(G38=cronograma!H42,"ok","ajustar") -> ok
A39: TOTAL | C39: =SUM(G2:G38) -> 827673.6

Sheet COMUTE SEM
A1: Ordem | B1: Descrição do Item | C1: Código de Referência | D1: Unid. | E1: Quant. | F1: Valor Unitário (R$) | G1: Valor Total (R$)
A2: 1 | B2: TRANSPORTE, INSTALAÇÃO E REMOÇÃO DOS EQUIPAMENTOS | C2: 7 0 1 7 0 0 0 5 | D2: verba orçada | E2: 1
A3: 2 | B3: PERFURAÇÃO
A4: 2.1 | B4: 0 a 20 m ‐ Ø 24", arenito | C4: 70170024 | D4: Metros | E4: 20
A5: 2.2 | B5: 20 a 290 m ‐ Ø 14 ³/4" ‐ arenito e argilito | C5: 70170051 | D5: Metros | E5: 270
A6: 3 | B6: PERFILAGEM ELÉTRICA (DISPONIBILIDADE, KM E M/PERFURADOS):
A7: 3.1 | B7: (Disponibilidade, km e m/perfurados) : Base São Paulo | C7: 70170009 | D7: Quilômetro | E7: 400
A8: 3.2 | B8: Taxa basica ou de serviço | C8: 7017010 | D8: verba orçada | E8: 1
A9: 3.3 | B9: Taxa de profundidade ‐ Raios Gama GR | C9: 70170014 | D9: Metros | E9: 290
A10: 3.4 | B10: Taxa de profundidade ‐ Sônico Compensado BHC | C10: 70170012 | D10: Metros | E10: 290
A11: 3.5 | B11: Taxa de profundiade ‐ Indução Elétrico ‐ IEL | C11: 70170011 | D11: Metros | E11: 290
A12: 4 | B12: FORNECIMENTO E COLOCAÇÃO DA COLUNA DE REVESTIMENTO:
A13: 4.1 | B13: Aço preto, Sch 10, espessura 6,35 mm, Ø 16" | C13: 70170195 | D13: Metros | E13: 20
A14: 4.2 | B14: Aço preto,Sch 20, Ø 8 5/8", esp. 6,35 mm, solda | C14: 70170210 | D14: Metros | E14: 190
A15: 4.3 | B15: Filtro chapa de aço estampada, abert. 0,75 mm, 8" . | C15: 70170230 | D15: Metros | E15: 100
A16: 5 | B16: FORNECIMENTO E COLOCAÇÃO DO PRÉ FILTRO
A17: 5.1 | B17: Piramboia, granulometria de 1,00 a 2,00 mm | C17: 70170261 | D17: Metro cúbico | E17: 24
A18: 6 | B18: PREENCHIMENTO DOS ESPAÇOS ANULAR COM PASTA DE CIMENTO:
A19: 6.1 | B19: Intervalo 0 a 20 m ‐ (24'' x 16'') | C19: 70170133 | D19: Metro cúbico | E19: 2.5
A20: 7 | B20: DESENVOLVIMENTO:
A21: 7.1 | B21: Ar comprimido | C21: 70170294 | D21: Hora | E21: 12
A22: 7.2 | B22: Bombeamento | C22: 70170282 | D22: Hora | E22: 12
A23: 7.3 | B23: jateamento | C23: 7 0 1 7 0 2 9 5 | D23: Hora | E23: 12
A24: 8 | B24: ENSAIOS DE VAZÃO
A25: 8.1 | B25: REBAIXAMENTO VAZÃO MAXIMA | C25: 70170297 | D25: Hora | E25: 24
A26: 8.2 | B26: VAZÃO ESCALONADA | C26: 70170297 | D26: Hora | E26: 3
A27: 8.3 | B27: RECUPERAÇÃO | C27: 01.28.530 | D27: Hora | E27: 3
A28: 9 | B28: DESINFECÇÃO | C28: 01.28.540 | D28: verba orçada | E28: 1
A29: 10 | B29: LAJE DE PROTEÇÃO | C29: 01.28.580 | D29: verba orçada | E29: 1
A30: 11 | B30: PERFILAGEM ÓTICA:
A31: 11.1 | B31: DISPONIBILIDADE KM:BASE SÃO PAULO | C31: 70170267 | D31: Quilômetro | E31: 1200
A32: 11.2 | B32: TAXA DE PROFUNDIDADE | C32: 70170270 | D32: Metros | E32: 160
A33: 12 | B33: ANÁLISE D'AGUA:
A34: 12.1 | B34: Físico – química e bacteriológica pela Portaria GM/MS N0 888 de 7/5/2021 | C34: 01.28.550 | D34: verba orçada | E34: 1
A35: 13 | B35: PRODUTOS QUÍMICOS:
A36: 13.1 | B36: FLUÍDO DE PERFURAÇÃO DMP 2000 OU SIMILAR ‐ INCLUSO NO PREÇO | C36: 70170266 | D36: Kg | E36: 200
A37: 13.2 | B37: PRODUTOS QUIMICOS PARA REMOÇÃO DE MATERIAIS DE LAMA | C37: 70170265 | D37: verba orçada | E37: 1
A38: 14 | B38: RELATÓRIO DE SERVIÇOS REALIZADOS | C38: COTAÇÃO | D38: verba orçada | E38: 1
A39: TOTAL
