Workbook
Name Cronograma1: #REF!
Name Cronograma1: #REF!
Name Cronograma1: #REF!
Name Fl_01: #REF!
Name Fl_01: #REF!
Name Fl_01: #REF!
Name pla: #REF!
Name pla: #REF!
Name planilha: #REF!
Name planilha: #REF!

Sheet Planilha orçamentária
A2: Autarquia Municipal de Saneamento Ambiental de Penápolis
A3: Estado de São Paulo
A6: Proprietário: DAEP - AUTARQUIA MUNICIPAL DE SANEAMENTO AMBIENTAL
A7: Obra : SUBSTITUIÇÃO PARCIAL DA TUBULAÇÃO DO EMISSÁRIO SANTA TEREZINHA
A8: Local : MUNICÍPIO DE PENÁPOLIS/SP
A11: PLANILHA ORÇAMENTÁRIA
A13: Item | B13: Código do Serviço | C13: Referência | D13: Descrição de Serviços | E13: UN | F13: Quant. | G13: Preço Unit. | H13: Preço Serviço
A14: 1 | D14: Descrição de Serviços | H14: =SUM(H15:H17) -> 13080.19
A15: 1.1 | D15: Placa da obra - Referência 02.08.040 | E15: m² | F15: 24 | G15: 433.62 | H15: =ROUND(F15*G15,2) -> 10406.88
A16: 1.2 | D16: Taxa de mobilização e desmobilização de equipamentos para execução de levantamento topográfico - Referência 01.20.010 | E16: tx | F16: 1 | G16: 1519.7 | H16: =ROUND(F16*G16,2) -> 1519.7
A17: 1.3 | D17: Locação de rede de canalização - Referência 02.10.040 | E17: m | F17: 620.22 | G17: 1.86 | H17: =ROUND(F17*G17,2) -> 1153.61
A18: 2 | D18: MOVIMENTAÇÃO DE SOLO | H18: =SUM(H19:H27) -> 177578.7
A19: 2.1 | D19: Tapume móvel para fechamento de áreas - Referência 02.03.110 | E19: m² | F19: 96.8 | G19: 140.38 | H19: =ROUND(F19*G19,2) -> 13588.78
A20: 2.2 | D20: Demarcação de área com disco de corte diamantado - Referência 01.23.070 | E20: m | F20: =ROUND(F17*2,2) -> 1240.44 | G20: 7.25 | H20: =ROUND(F20*G20,2) -> 8993.19
A21: 2.3 | D21: Escavação mecanizada de valas ou cavas com profundidade de até 2,00 m - Referência 07.02.020 | E21: m³ | F21: 722.54 | G21: 13.93 | H21: =ROUND(F21*G21,2) -> 10064.98
A22: 2.4 | D22: Escavação mecanizada de valas ou cavas com profundidade de até 3,00 m - Referência 07.02.040 | E22: m³ | F22: 341.02 | G22: 15.72 | H22: =ROUND(F22*G22,2) -> 5360.83
A23: 2.5 | D23: Escoramento de solo pontaletado - Referência 08.01.060 | E23: m² | F23: =ROUND((F21+F22)*2,2) -> 2127.12 | G23: 27.97 | H23: =ROUND(F23*G23,2) -> 59495.55
A24: 2.6 | D24: Transporte de entulho, para distâncias superiores ao 3° km até o 5° km - Referência 05.08.060 | E24: m³ | F24: =ROUND((F21+F22)*1.25,2) -> 1329.45 | G24: 25.27 | H24: =ROUND(F24*G24,2) -> 33595.2
A25: 2.7 | D25: Escavação e carga mecanizada para exploração de solo em jazida - Referência 07.01.010 | E25: m³ | F25: =F27 -> 923.6 | G25: 19.8 | H25: =ROUND(F25*G25,2) -> 18287.28
A26: 2.8 | D26: Transporte de solo por caminhão para distâncias superiores ao 3° km até o 5° km - Referência 05.10.022 | E26: m³ | F26: =ROUND(F27*1.25,2) -> 1154.5 | G26: 17.38 | H26: =ROUND(F26*G26,2) -> 20065.21
A27: 2.9 | D27: Reaterro compactado mecanizado de vala ou cava com compactador - Referência 07.11.020 | E27: m³ | F27: =ROUND((F21+F22)-(F17*0.4*0.4*3.14159265358979/4)-F29,2) -> 923.6 | G27: 8.8 | H27: =ROUND(F27*G27,2) -> 8127.68
A28: 3 | D28: TUBULAÇÕES | H28: =SUM(H29:H30) -> 381501.61
A29: 3.1 | D29: Lastro de areia - Referência 11.18.020 | E29: m³ | F29: =ROUND(F17*0.1,2) -> 62.02 | G29: 337.08 | H29: =ROUND(F29*G29,2) -> 20905.7
A30: 3.2 | D30: Tubo PVC rígido, tipo Coletor Esgoto, junta elástica, DN= 400 mm, inclusive conexões - Referência 46.05.090 | E30: m | F30: 620.22 | G30: 581.4 | H30: =ROUND(F30*G30,2) -> 360595.91
A31: 4 | D31: POÇOS DE VISITA | H31: =SUM(H32:H35) -> 82344.63
A32: 4.1 | D32: Poço de visita de 1,60 x 1,60 x 1,60 m - tipo PMSP - Referência 49.12.110 | E32: un | F32: 4 | G32: 8535.81 | H32: =ROUND(F32*G32,2) -> 34143.24
A33: 4.2 | D33: Chaminé para poço de visita tipo PMSP em alvenaria, diâmetro interno 70 cm - pescoço - Referência 49.12.120 | E33: m | F33: 3 | G33: 912.61 | H33: =ROUND(F33*G33,2) -> 2737.83
A34: 4.3 | D34: Poço de visita em alvenaria tipo PMSP - balão - Referência 49.12.140 | E34: un | F34: 6 | G34: 6343.41 | H34: =ROUND(F34*G34,2) -> 38060.46
A35: 4.4 | D35: Tampão em ferro fundido, diâmetro de 600 mm, classe D 400 (ruptura> 400 kN) - Referência 49.06.420 | E35: un | F35: 10 | G35: 740.31 | H35: =ROUND(F35*G35,2) -> 7403.1
A36: 5 | D36: RECAPEAMENTO | H36: =SUM(H37:H39) -> 98147.35
A37: 5.1 | D37: Imprimação betuminosa ligante - Referência 54.03.230 | E37: m² | F37: =ROUND(F17*1.3,2) -> 806.29 | G37: 8.08 | H37: =ROUND(F37*G37,2) -> 6514.82
A38: 5.2 | D38: Imprimação betuminosa impermeabilizante - Referência 54.03.240 | E38: m² | F38: =F37 -> 806.29 | G38: 16.13 | H38: =ROUND(F38*G38,2) -> 13005.46
A39: 5.3 | D39: Camada de rolamento em concreto betuminoso usinado quente - CBUQ - Referência 54.03.210 | E39: m³ | F39: =ROUND(F37*0.05,2) -> 40.31 | G39: 1950.56 | H39: =ROUND(F39*G39,2) -> 78627.07
A40: 6 | D40: SERVIÇOS FINAIS | H40: =SUM(H41:H42) -> 2673.31
A41: 6.1 | D41: Taxa de mobilização e desmobilização de equipamentos para execução de levantamento topográfico - Referência 01.20.010 | E41: tx | F41: =F16 -> 1 | G41: 1519.7 | H41: =ROUND(F41*G41,2) -> 1519.7
A42: 6.2 | D42: Cadastro de rede de canalização - Referência 02.10.040 | E42: m | F42: =F17 -> 620.22 | G42: 1.86 | H42: =ROUND(F42*G42,2) -> 1153.61
D96: TOTAL GERAL | H96: =H14+H18+H28+H31+H36+H40 -> 755325.79
A98: Nota: | D98: Todos os valores unitários foram adotados do BOLETIM REFERENCIAL DE CUSTOS - TABELA DE SERVIÇOS DA CPOS VERSÃO 196. BDI utilizado de 25,00%.
C104: PENÁPOLIS, 6 DE FEVEREIRO DE 2025 | F104: DANIEL SOUTO
F105: ENG. CIVIL
...

Sheet Cronograma
A2: Departamento Autônomo de Água e Esgoto do Município de Penápolis
A3: Estado de São Paulo
A5: ='Planilha orçamentária'!A6 -> Proprietário: DAEP - AUTARQUIA MUNICIPAL DE SANEAMENTO AMBIENTAL
A6: ='Planilha orçamentária'!A7 -> Obra : SUBSTITUIÇÃO PARCIAL DA TUBULAÇÃO DO EMISSÁRIO SANTA TEREZINHA
A7: ='Planilha orçamentária'!A8 -> Local : MUNICÍPIO DE PENÁPOLIS/SP
A9: CRONOGRAMA FÍSICO FINANCEIRO
C14: VALOR TOTAL SERVIÇOS (R$) | D14: Descrição de Serviços | E14: 1º MÊS | G14: 2º MÊS | I14: 3º MÊS | K14: 4º MÊS | M14: 5º MÊS | O14: 6º MÊS | Q14: 7º MÊS | S14: 8º MÊS | U14: 9º MÊS
A15: DESCRIÇÃO DOS SERVIÇOS
E16: SIMPL.% | F16: ACUM. % | G16: 1519.7 | H16: ACUM. % | I16: SIMPL.% | L16: ACUM. % | M16: SIMPL.% | N16: ACUM. % | O16: SIMPL.% | P16: ACUM. % | Q16: SIMPL.% | R16: ACUM. % | S16: SIMPL.% | T16: ACUM. % | U16: SIMPL.% | V16: ACUM. %
A18: ='Planilha orçamentária'!A14 -> 1 | B18: ='Planilha orçamentária'!D14 -> Descrição de Serviços | C18: ='Planilha orçamentária'!H14 -> 13080.19 | D18: =C18/$C$34 -> 0.017317282 | E18: 100 | F18: =E18 -> 100 | G18: 0 | H18: =F18+G18 -> 100 | I18: 0 | J18: =H18+I18 -> 100
A20: ='Planilha orçamentária'!A18 -> 2 | B20: ='Planilha orçamentária'!D18 -> MOVIMENTAÇÃO DE SOLO | C20: ='Planilha orçamentária'!H18 -> 177578.7 | D20: =C20/$C$34 -> 0.23510213 | E20: 0 | F20: =E20 -> 0 | G20: 50 | H20: =F20+G20 -> 50 | I20: 50 | J20: =H20+I20 -> 100
A22: ='Planilha orçamentária'!A28 -> 3 | B22: ='Planilha orçamentária'!D28 -> TUBULAÇÕES | C22: ='Planilha orçamentária'!H28 -> 381501.61 | D22: =C22/$C$34 -> 0.5050822 | E22: 0 | F22: =E22 -> 0 | G22: 50 | H22: =F22+G22 -> 50 | I22: 50 | J22: =H22+I22 -> 100
A24: ='Planilha orçamentária'!A31 -> 4 | B24: ='Planilha orçamentária'!D31 -> POÇOS DE VISITA | C24: ='Planilha orçamentária'!H31 -> 82344.63 | D24: =C24/$C$34 -> 0.10901869 | E24: 0 | F24: =E24 -> 0 | G24: 50 | H24: =F24+G24 -> 50 | I24: 50 | J24: =H24+I24 -> 100
A26: ='Planilha orçamentária'!A36 -> 5 | B26: ='Planilha orçamentária'!D36 -> RECAPEAMENTO | C26: ='Planilha orçamentária'!H36 -> 98147.35 | D26: =C26/$C$34 -> 0.12994042 | E26: 0 | F26: =E26 -> 0 | G26: 50 | H26: =F26+G26 -> 50 | I26: 50 | J26: =H26+I26 -> 100
A28: ='Planilha orçamentária'!A40 -> 6 | B28: ='Planilha orçamentária'!D40 -> SERVIÇOS FINAIS | C28: ='Planilha orçamentária'!H40 -> 2673.31 | D28: =C28/$C$34 -> 0.0035392807 | E28: 0 | F28: =E28 -> 0 | G28: 0 | H28: =F28+G28 -> 0 | I28: 100 | J28: =H28+I28 -> 100
G29: 337.08
G30: 581.4
G32: 8535.81
C33: =SUM(C18:C28) -> 755325.79
B34: Total da Obra | C34: =C33 -> 755325.79 | D34: =SUM(D18:D32) -> 1 | E34: =SUMPRODUCT(E18:E32,$D$18:$D$32)/100 -> 0.017317282 | F34: =E34 -> 0.017317282 | G34: =SUMPRODUCT(G18:G32,$D$18:$D$32)/100 -> 0.48957172 | H34: =F34+G34 -> 0.506889 | I34: =SUMPRODUCT(I18:I32,$D$18:$D$32)/100 -> 0.493111 | J34: =H34+I34 -> 1 | L34: =J34+K34 -> 1 | M34: =SUMPRODUCT(M18:M32,$D$18:$D$32)/100 -> 0 | N34: =L34+M34 -> 1 | O34: =SUMPRODUCT(O18:O32,$D$18:$D$32)/100 -> 0 | P34: =N34+O34 -> 1 | Q34: =SUMPRODUCT(Q18:Q32,$D$18:$D$32)/100 -> 0 | R34: =P34+Q34 -> 1 | S34: =SUMPRODUCT(S18:S32,$D$18:$D$32)/100 -> 0 | T34: =R34+S34 -> 1 | U34: =SUMPRODUCT(U18:U32,$D$18:$D$32)/100 -> 0 | V34: =T34+U34 -> 1
B35: Totais de cada mês | E35: =E34*$C$34 -> 13080.19 | G35: =G34*$C$34 -> 369786.15 | I35: =I34*$C$34 -> 372459.46 | M35: =M34*$C$34 -> 0 | O35: =O34*$C$34 -> 0 | Q35: =Q34*$C$34 -> 0 | S35: =S34*$C$34 -> 0 | U35: =U34*$C$34 -> 0
C46: DANIEL SOUTO | M46: DANIEL SOUTO
C47: ENG. CIVIL | M47: ENG. CIVIL
C48: CREA 5069857379 | M48: CREA 5069857379
C50: PENÁPOLIS, | M50: PENÁPOLIS,
C51: 6 DE FEVEREIRO DE 2025 | M51: 21 DE AGOSTO DE 2019
H96: =H14+H18+H28+H31+H36+H40 -> 100
D98: Todos os valores unitários foram adotados do BOLETIM REFERENCIAL DE CUSTOS - TABELA DE SERVIÇOS DA CPOS VERSÃO 196. BDI utilizado de 25,00%.
C104: PENÁPOLIS, 6 DE FEVEREIRO DE 2025
