Workbook

Sheet _1_EMEB_Mara_Cabral
D1: OBJETO:Contratação de empresa especializada para execução de serviços de recuperação estrutural, impermeabilização, pintura, adequação dos dispositivos de acesso e segurança e demais intervenções necessárias em reservatórios de água em concreto e metálicos, com fornecimento de materiais, mão de obra, equipamentos e ferramentas em escolas públicas.
D4: CDHU 05/2026 SINAPI 07/2026 PMSP 01/2026 FDE 07/2026
C6: 1.0 | D6: EMEB Prof.ª Mara Cabral Simões Alegre, anexo CEMEI Periquito / Creche Chavini e Castro - Rua Josefina, Fattori Padovani, S/N - Pinhal, Itatiba - SP, 13255-861 – altura 6,50m – diâmetro 3,00 m
A8: ITEM | B8: FONTE | C8: CÓDIGO | D8: Serviço | E8: unid. | F8: QUANT. | G8: VALOR | H8: BDI | I8: Valores Parciais dos Serviços
H9: 0.23
H10: 0 | K10: Memoria de Calculo
A11: 1.0 | B11: SERVIÇOS PRELIMINARES | I11: =ROUND(SUM(I12:I18),2) -> 24773.14
A12: 1.1. | B12: CDHU | C12: 02.02.150 | D12: Locação de container tipo depósito - área mínima de 13,80 m² | E12: un x mês | F12: 1 | G12: 991.69 | H12: =G12*$H$9+G12 -> 1219.7787 | I12: =ROUND((H12*F12),2) -> 1219.78 | K12: Considerado1 mês
A13: 1.2 | B13: CDHU | C13: 02.02.130 | D13: Locação de container tipo escritório com 1 vaso sanitário, 1 lavatório e 1 ponto para chuveiro - área mínima de 13,80 m² | E13: UNMES | F13: 1 | G13: 1562.38 | H13: =G13*$H$9+G13 -> 1921.7274 | I13: =ROUND((H13*F13),2) -> 1921.73 | K13: Considerado 1 mês
A14: 1.3 | B14: SINAPI | C14: 98462 | D14: ESTRUTURA DE MADEIRA PROVISÓRIA PARA SUPORTE DE CAIXA DÁGUA ELEVADA DE 3000 LITROS. AF_03/2024 | E14: un | F14: 1 | G14: 10859.41 | H14: =G14*$H$9+G14 -> 13357.074 | I14: =ROUND((H14*F14),2) -> 13357.07 | K14: Considerado 1 unidade
A15: 1.4 | B15: SINAPI | C15: 102610 | D15: CAIXA D´ÁGUA EM POLIETILENO, 3000 LITROS - FORNECIMENTO E INSTALAÇÃO. AF_06/2021 | E15: un | F15: 1 | G15: 2293.56 | H15: =G15*$H$9+G15 -> 2821.0788 | I15: =ROUND((H15*F15),2) -> 2821.08 | K15: Considerado 1 unidade
A16: 1.5 | B16: PMSP | C16: 1005001 | D16: Fechamento de área com tapume de madeira compensada (H=2,00m), incluindo montagem e desmontagem. | E16: M2 | F16: 32 | G16: 87.46 | H16: =G16*$H$9+G16 -> 107.5758 | I16: =ROUND((H16*F16),2) -> 3442.43 | K16: entorno da área do reservatório
A17: 1.6 | B17: PMSP | C17: 17045001 | D17: ANDAIMES METÁLICOS - FORNECIMENTO | E17: M3xMÊS | F17: 100 | G17: 10.42 | H17: =G17*$H$9+G17 -> 12.8166 | I17: =ROUND((H17*F17),2) -> 1281.66 | K17: Considerado 1 mês
A18: 1.7 | B18: PMSP | C18: 17045002 | D18: ANDAIMES METÁLICOS - MONTAGEM E DESMONTAGEM | E18: M3 | F18: 100 | G18: 5.93 | H18: =G18*$H$9+G18 -> 7.2939 | I18: =ROUND((H18*F18),2) -> 729.39 | K18: Considerado 1 mês
A20: 2.0 | B20: LIMPEZA INICIAL E INSPEÇÃO | I20: =ROUND(SUM(I21),2) -> 1359.33
A21: 2.1 | B21: PMSP | C21: 17004012 | D21: Hidrojateamento de alta pressão em superfícies de concreto (interno e externo) para remoção de limo. LIMPEZA E LAVAGEM DE PAREDE POR HIDROJATEAMENTO, SEM REJUNTAMENTO | E21: M² | F21: 129.56 | G21: 8.53 | H21: =G21*$H$9+G21 -> 10.4919 | I21: =ROUND((H21*F21),2) -> 1359.33 | K21: Limpeza completa das superfícies internas e externas do reservatório para remoção de incrustações, limo, sujeiras e preparação para inspeção e recuperação estrutural.
A23: 3.0 | B23: RECUPERAÇÃO ESTRUTURAL E TRATAMENTO DE TRINCAS | I23: =ROUND(SUM(I24:I31),2) -> 17684.9
A24: 3.2.1 | B24: PMSP INFRA | C24: 10-003-000 | D24: Apicoamento de superfícies de concreto (com equipamento pneumático) | E24: M2 | F24: 68.3 | G24: 43.67 | H24: =G24*$H$9+G24 -> 53.7141 | I24: =ROUND((H24*F24),2) -> 3668.67 | K24: áreas deterioradas estimadas em levantamento visual
A25: 3.2.2 | B25: PMSP EDIF | C25: 03-040-024 | D25: Lixamento mecânico em superfícies de concreto | E25: M2 | F25: 68.3 | G25: 9.84 | H25: =G25*$H$9+G25 -> 12.1032 | I25: =ROUND((H25*F25),2) -> 826.65 | K25: preparação das áreas recuperadas
A26: 3.2.3 | B26: PMSP INFRA | C26: 10-005-000 | D26: Jateamento para limpeza de ferragens e superfícies de concreto | E26: M2 | F26: 13 | G26: 138.16 | H26: =G26*$H$9+G26 -> 169.9368 | I26: =ROUND((H26*F26),2) -> 2209.18 | K26: estimativa
A27: 3.3.1 | B27: SINAPI | C27: 92917 | D27: Armação de estruturas diversas de concreto armado, exceto vigas, pilares, lajes e fundações, utilizando aço ca-50 de 8,0 mm - montagem. Af_06/2022 | E27: KG | F27: 98 | G27: 13.28 | H27: =G27*$H$9+G27 -> 16.3344 | I27: =ROUND((H27*F27),2) -> 1600.77 | K27: Estimativa de recuperação
A28: 3.3.2 | B28: FDE | C28: 03.02.014 | D28: Ancoragem de barras de aco com adesivo estrutural resina base epoxi | E28: unid. | F28: 10 | G28: 169.97 | H28: =G28*$H$9+G28 -> 209.0631 | I28: =ROUND((H28*F28),2) -> 2090.63 | K28: Estimativa conforme vistoria visual
A29: 3.3.3 | B29: FDE | C29: 15.01.035 | D29: Fundo anti-oxidante em estruturas | E29: m² | F29: 12 | G29: 23.76 | H29: =G29*$H$9+G29 -> 29.2248 | I29: =ROUND((H29*F29),2) -> 350.7 | K29: Estimativa conforme vistoria visual
A30: 3.4.1 | B30: CDHU | C30: 11.20.120 | D30: Reparo superficial com argamassa polimérica (tixotrópica), bicomponente | E30: m³ | F30: 0.35 | G30: 11395.41 | H30: =G30*$H$9+G30 -> 14016.354 | I30: =ROUND((H30*F30),2) -> 4905.72 | K30: área interna 68,40 m², recuperação estimada 25%, espessura 0,02 m = 0,35 m³
A31: 3.5.1 | B31: PMSP EDIF | C31: 1001007 | D31: REMOÇÃO DE ENTULHO COM CAÇAMBA METÁLICA, INCLUSIVE CARGA MANUAL E DESCARGA EM BOTA-FORA | E31: M3 | F31: 10 | G31: 165.25 | H31: =G31*$H$9+G31 -> 203.2575 | I31: =ROUND((H31*F31),2) -> 2032.58 | K31: estimativa considerando remoção de concreto deteriorado
A33: 4.0 | B33: ADEQUAÇÃO DA SERRALHERIA | I33: =ROUND(SUM(I34:I39),2) -> 8452.55
A34: 4.1 | B34: PMSP | C34: 17060102 | D34: RETIRADA DE GRADIL E GUARDA-CORPO | E34: M² | F34: 16 | G34: 46.3 | H34: =G34*$H$9+G34 -> 56.949 | I34: =ROUND((H34*F34),2) -> 911.18 | K34: No topo do reservatório e da escada.
A35: 4.2 | B35: CDHU | C35: 04.09.120 | D35: Retirada de escada de marinheiro com ou sem guarda-corpo | E35: M | F35: 13 | G35: 39.55 | H35: =G35*$H$9+G35 -> 48.6465 | I35: =ROUND((H35*F35),2) -> 632.4 | K35: interno e externo
A36: 4.3 | B36: PMSP EDIF | C36: 8060001 | D36: RETIRADA DE ESQUADRIAS METÁLICAS EM GERAL, PORTAS OU CAIXILHOS | E36: m² | F36: 1.72 | G36: 38.68 | H36: =G36*$H$9+G36 -> 47.5764 | I36: =ROUND((H36*F36),2) -> 81.83 | K36: 1 de 0,80x0,80 e 1 de 1,50x0,80
A37: 4.4 | B37: PMSP EDIF | C37: 17005051 | D37: DP.02 - ESCADA MARINHEIRO DE FERRO GALVANIZADO COM GUARDA CORPO | E37: m | F37: 13 | G37: 214.97 | H37: =G37*$H$9+G37 -> 264.4131 | I37: =ROUND((H37*F37),2) -> 3437.37 | K37: altura interna e externa, Altura aproximada considerando acesso externo e interno ao reservatório.
A38: 4.5 | B38: PMSP | C38: 17005053 | D38: DP.03 - COMPLEMENTOS PARA ESCADA MARINHEIRO DE FERRO PERFILADO, INCLUI os acessórios de segurança e fixação — como guarda-corpos, suportes, rodapés e plataformas — essenciais para instalação conforme as normas NR-18 e NR-35 | E38: M | F38: 16 | G38: 118.53 | H38: =G38*$H$9+G38 -> 145.7919 | I38: =ROUND((H38*F38),2) -> 2332.67 | K38: guarda corpos no topo da caixa e demais acessórios necessários para a segurança.
A39: 4.6 | B39: PMSP | C39: 8003020 | D39: TAMPA DE ALÇAPÃO EM FERRO PERFILADO COM CHAPA | E39: M² | F39: 1.72 | G39: 499.67 | H39: =G39*$H$9+G39 -> 614.5941 | I39: =ROUND((H39*F39),2) -> 1057.1 | K39: acesso ao interno do reservatório e acesso a casa de máquina
A41: 5.0 | B41: PINTURA EXTERNA | I41: =ROUND(SUM(I42:I43),2) -> 3805.44
A42: 5.2 | B42: FDE | C42: 16.48.009 | D42: Aplicacao pintura imperm duas demaos verniz epoxi bicomponente | E42: m² | F42: 61.23 | G42: 62.15 | H42: =G42 -> 62.15 | I42: =F42*H42 -> 3805.4445 | K42: Área lateral externa = π × D × h = 3,14x3,00x6,50
A44: 6.0 | B44: IMPERMEABILIZAÇÃO INTERNA | I44: =ROUND(SUM(I45),2) -> 5537.66
A45: 6.1 | B45: FDE | C45: 11.03.006 | D45: Impermeabilizaçao reserv.elev com argamassa polimerica aplicaçao 2 demãos semiflexivel + 4 demãos flexivel inclus.tela estruturante | E45: m² | F45: 68.4 | G45: 80.96 | H45: =G45 -> 80.96 | I45: =F45*H45 -> 5537.664 | K45: Área interna correspondente ao piso e às paredes do reservatório em contato direto com a água, obtida por levantamento geométrico
A47: 7.0 | B47: LIMPEZA FINAL E ENTREGA | I47: =ROUND(SUM(I48),2) -> 413.12
A48: 7.1 | B48: PMSP EDIF | C48: 17004001 | D48: Limpeza geral da obra | E48: M2 | F48: 32 | G48: 12.91 | H48: =G48*$H$7+G48 -> 12.91 | I48: =F48*H48 -> 413.12 | K48: área aproximada no envoltório do reservatório.
A50: VALOR GLOBAL DOS SERVIÇOS | I50: =I47+I44+I41+I33+I23+I20+I11 -> 62026.14
D52: Observação: Os quantitativos relativos à recuperação estrutural, tratamento de fissuras e substituição de elementos metálicos foram estimados com base em inspeção visual preliminar, podendo sofrer variações localizadas durante a execução, conforme condições efetivamente verificadas após a limpeza completa das superfícies, observadas as regras contratuais e os limites legais aplicáveis.
H53: Sec Educação – DOE 27 de Agosto de 2026
H54: ANDRÉA CRUZ SANFINS
H55: CREA. 5060178720

Sheet 2__EMEB_Basílio
D1: OBJETO:Contratação de empresa especializada para execução de serviços de recuperação estrutural, impermeabilização, pintura, adequação dos dispositivos de acesso e segurança e demais intervenções necessárias em reservatórios de água em concreto e metálicos, com fornecimento de materiais, mão de obra, equipamentos e ferramentas em escolas públicas.
D4: CDHU 05/2026 SINAPI 07/2026 PMSP 01/2026 FDE 07/2026
C6: 1.0 | D6: EMEB Basílio Consoline - R. João Bernardo, 50 - Bairro da Ponte, Itatiba - SP, 13252-800, altura 8,00 metros – diâmetro 3,00
A8: ITEM | B8: FONTE | C8: CÓDIGO | D8: Serviço | E8: unid. | F8: QUANT. | G8: VALOR | H8: BDI | I8: Valores Parciais dos Serviços
H9: 0.23
H10: 0 | K10: Memoria de Calculo
A11: 1.0 | B11: SERVIÇOS PRELIMINARES | I11: =ROUND(SUM(I12:I18),2) -> 25633.74
A12: 1.1. | B12: CDHU | C12: 02.02.150 | D12: Locação de container tipo depósito - área mínima de 13,80 m² | E12: un x mês | F12: 1 | G12: 991.69 | H12: =G12*$H$9+G12 -> 1219.7787 | I12: =ROUND((H12*F12),2) -> 1219.78 | K12: Considerado1 mês
A13: 1.2 | B13: CDHU | C13: 02.02.130 | D13: Locação de container tipo escritório com 1 vaso sanitário, 1 lavatório e 1 ponto para chuveiro - área mínima de 13,80 m² | E13: UNMES | F13: 1 | G13: 1562.38 | H13: =G13*$H$9+G13 -> 1921.7274 | I13: =ROUND((H13*F13),2) -> 1921.73 | K13: Considerado 1 mês
A14: 1.3 | B14: SINAPI | C14: 98462 | D14: ESTRUTURA DE MADEIRA PROVISÓRIA PARA SUPORTE DE CAIXA DÁGUA ELEVADA DE 3000 LITROS. AF_03/2024 | E14: un | F14: 1 | G14: 10859.41 | H14: =G14*$H$9+G14 -> 13357.074 | I14: =ROUND((H14*F14),2) -> 13357.07 | K14: Considerado 1 unidade
A15: 1.4 | B15: SINAPI | C15: 102610 | D15: CAIXA D´ÁGUA EM POLIETILENO, 3000 LITROS - FORNECIMENTO E INSTALAÇÃO. AF_06/2021 | E15: un | F15: 1 | G15: 2293.56 | H15: =G15*$H$9+G15 -> 2821.0788 | I15: =ROUND((H15*F15),2) -> 2821.08 | K15: Considerado 1 unidade
A16: 1.5 | B16: PMSP | C16: 1005001 | D16: Fechamento de área com tapume de madeira compensada (H=2,00m), incluindo montagem e desmontagem. | E16: M2 | F16: 40 | G16: 87.46 | H16: =G16*$H$9+G16 -> 107.5758 | I16: =ROUND((H16*F16),2) -> 4303.03 | K16: entorno da área do reservatório
A17: 1.6 | B17: PMSP | C17: 17045001 | D17: ANDAIMES METÁLICOS - FORNECIMENTO | E17: M3xMÊS | F17: 100 | G17: 10.42 | H17: =G17*$H$9+G17 -> 12.8166 | I17: =ROUND((H17*F17),2) -> 1281.66 | K17: Considerado 1 mês
A18: 1.7 | B18: PMSP | C18: 17045002 | D18: ANDAIMES METÁLICOS - MONTAGEM E DESMONTAGEM | E18: M3 | F18: 100 | G18: 5.93 | H18: =G18*$H$9+G18 -> 7.2939 | I18: =ROUND((H18*F18),2) -> 729.39 | K18: Considerado 1 mês
A20: 2.0 | B20: LIMPEZA INICIAL E INSPEÇÃO | I20: =ROUND(SUM(I21),2) -> 1644.29
A21: 2.1 | B21: PMSP | C21: 17004012 | D21: Hidrojateamento de alta pressão em superfícies de concreto (interno e externo) para remoção de limo. LIMPEZA E LAVAGEM DE PAREDE POR HIDROJATEAMENTO, SEM REJUNTAMENTO | E21: M² | F21: 156.72 | G21: 8.53 | H21: =G21*$H$9+G21 -> 10.4919 | I21: =ROUND((H21*F21),2) -> 1644.29 | K21: Limpeza completa das superfícies internas e externas do reservatório para remoção de incrustações, limo, sujeiras e preparação para inspeção e recuperação estrutural. Área = (8,00 * 3,14 * 3,0) x2 +6,00 (fundo e tampa)
A23: 3.0 | B23: RECUPERAÇÃO ESTRUTURAL E TRATAMENTO DE TRINCAS | I23: =ROUND(SUM(I24:I31),2) -> 19441.62
A24: 3.2.1 | B24: PMSP INFRA | C24: 10-003-000 | D24: Apicoamento de superfícies de concreto (com equipamento pneumático) | E24: M2 | F24: 75.36 | G24: 43.67 | H24: =G24*$H$9+G24 -> 53.7141 | I24: =ROUND((H24*F24),2) -> 4047.89 | K24: áreas deterioradas estimadas em levantamento visual
A25: 3.2.2 | B25: PMSP EDIF | C25: 03-040-024 | D25: Lixamento mecânico em superfícies de concreto | E25: M2 | F25: 75.36 | G25: 9.84 | H25: =G25*$H$9+G25 -> 12.1032 | I25: =ROUND((H25*F25),2) -> 912.1 | K25: preparação das áreas recuperadas
A26: 3.2.3 | B26: PMSP INFRA | C26: 10-005-000 | D26: Jateamento para limpeza de ferragens e superfícies de concreto | E26: M2 | F26: 15 | G26: 138.16 | H26: =G26*$H$9+G26 -> 169.9368 | I26: =ROUND((H26*F26),2) -> 2549.05 | K26: estimativa
A27: 3.3.1 | B27: SINAPI | C27: 92917 | D27: Armação de estruturas diversas de concreto armado, exceto vigas, pilares, lajes e fundações, utilizando aço ca-50 de 8,0 mm - montagem. Af_06/2022 | E27: KG | F27: 102 | G27: 13.28 | H27: =G27*$H$9+G27 -> 16.3344 | I27: =ROUND((H27*F27),2) -> 1666.11 | K27: Estimativa de recuperação
A28: 3.3.2 | B28: FDE | C28: 03.02.014 | D28: Ancoragem de barras de aco com adesivo estrutural resina base epoxi | E28: unid. | F28: 12 | G28: 169.97 | H28: =G28*$H$9+G28 -> 209.0631 | I28: =ROUND((H28*F28),2) -> 2508.76 | K28: Estimativa conforme vistoria visual
A29: 3.3.3 | B29: FDE | C29: 15.01.035 | D29: Fundo anti-oxidante em estruturas | E29: m² | F29: 13.65 | G29: 23.76 | H29: =G29*$H$9+G29 -> 29.2248 | I29: =ROUND((H29*F29),2) -> 398.92 | K29: Estimativa conforme vistoria visual
A30: 3.4.1 | B30: CDHU | C30: 11.20.120 | D30: Reparo superficial com argamassa polimérica (tixotrópica), bicomponente | E30: m³ | F30: 0.38 | G30: 11395.41 | H30: =G30*$H$9+G30 -> 14016.354 | I30: =ROUND((H30*F30),2) -> 5326.21 | K30: área interna 75,36 m², recuperação estimada 25%, espessura 0,02 m = 0,35 m³
A31: 3.5.1 | B31: PMSP EDIF | C31: 1001007 | D31: REMOÇÃO DE ENTULHO COM CAÇAMBA METÁLICA, INCLUSIVE CARGA MANUAL E DESCARGA EM BOTA-FORA | E31: M3 | F31: 10 | G31: 165.25 | H31: =G31*$H$9+G31 -> 203.2575 | I31: =ROUND((H31*F31),2) -> 2032.58 | K31: estimativa considerando remoção de concreto deteriorado
A33: 4.0 | B33: ADEQUAÇÃO DA SERRALHERIA | I33: =ROUND(SUM(I34:I35),2) -> 3746.24
A34: 4.5 | B34: PMSP | C34: 17005053 | D34: DP.03 - COMPLEMENTOS PARA ESCADA MARINHEIRO DE FERRO PERFILADO, INCLUI os acessórios de segurança e fixação — como guarda-corpos, suportes, rodapés e plataformas — essenciais para instalação conforme as normas NR-18 e NR-35 | E34: M | F34: 16 | G34: 118.53 | H34: =G34*$H$9+G34 -> 145.7919 | I34: =ROUND((H34*F34),2) -> 2332.67 | K34: guarda corpos no topo da caixa e demais acessórios necessários para a segurança.
A35: 4.6 | B35: PMSP | C35: 8003020 | D35: TAMPA DE ALÇAPÃO EM FERRO PERFILADO COM CHAPA | E35: M² | F35: 2.3 | G35: 499.67 | H35: =G35*$H$9+G35 -> 614.5941 | I35: =ROUND((H35*F35),2) -> 1413.57 | K35: acesso ao interno do reservatório e acesso a casa de máquina (0,80x0,80) + (0,80x1,60)
A37: 5.0 | B37: PINTURA EXTERNA | I37: =ROUND(SUM(I38:I39),2) -> 4683.62
A38: 5.2 | B38: FDE | C38: 16.48.009 | D38: Aplicacao pintura imperm duas demaos verniz epoxi bicomponente | E38: m² | F38: 75.36 | G38: 62.15 | H38: =G38 -> 62.15 | I38: =F38*H38 -> 4683.624 | K38: Área lateral externa = π × D × h = 3,14x3,00x8,00
A40: 6.0 | B40: IMPERMEABILIZAÇÃO INTERNA | I40: =ROUND(SUM(I41),2) -> 6344.03
A41: 6.1 | B41: FDE | C41: 11.03.006 | D41: Impermeabilizaçao reserv.elev com argamassa polimerica aplicaçao 2 demãos semiflexivel + 4 demãos flexivel inclus.tela estruturante | E41: m² | F41: 78.36 | G41: 80.96 | H41: =G41 -> 80.96 | I41: =F41*H41 -> 6344.0256 | K41: Área interna correspondente ao piso e às paredes do reservatório em contato direto com a água, obtida por levantamento geométrico
A43: 7.0 | B43: LIMPEZA FINAL E ENTREGA | I43: =ROUND(SUM(I44),2) -> 516.4
A44: 7.1 | B44: PMSP EDIF | C44: 17004001 | D44: Limpeza geral da obra | E44: M2 | F44: 40 | G44: 12.91 | H44: =G44*$H$7+G44 -> 12.91 | I44: =F44*H44 -> 516.4 | K44: área aproximada no envoltório do reservatório.
A46: VALOR GLOBAL DOS SERVIÇOS | I46: =I43+I40+I37+I33+I23+I20+I11 -> 62009.94
D48: Observação: Os quantitativos relativos à recuperação estrutural, tratamento de fissuras e substituição de elementos metálicos foram estimados com base em inspeção visual preliminar, podendo sofrer variações localizadas durante a execução, conforme condições efetivamente verificadas após a limpeza completa das superfícies, observadas as regras contratuais e os limites legais aplicáveis.
H49: Sec Educação – DOE 27 de Agosto de 2026
H50: ANDRÉA CRUZ SANFINS
H51: CREA. 5060178720

Sheet 3_SEBASTIÃO_DE_CAMARGO_PIRRES
D1: OBJETO:Contratação de empresa especializada para execução de serviços de recuperação estrutural, impermeabilização, pintura, adequação dos dispositivos de acesso e segurança e demais intervenções necessárias em reservatórios de água em concreto e metálicos, com fornecimento de materiais, mão de obra, equipamentos e ferramentas em escolas públicas.
D4: CDHU 05/2026 SINAPI 07/2026 PMSP 01/2026 FDE 07/2026
C6: 1.0 | D6: EMEB Sebastião de Camargo Pires, anexo CEMEI Joaquim Pires de Toledo - Rod. Alkindar Monteiro Junqueira, KM 32 - Bairro dos Pires, Itatiba - SP, 13252-810, altura 9,00, diâmetro 3,00metros
A8: ITEM | B8: FONTE | C8: CÓDIGO | D8: Serviço | E8: unid. | F8: QUANT. | G8: VALOR | H8: BDI | I8: Valores Parciais dos Serviços
H9: 0.23
H10: 0 | K10: Memoria de Calculo
A11: 1.0 | B11: SERVIÇOS PRELIMINARES | I11: =ROUND(SUM(I12:I18),2) -> 24773.14
A12: 1.1. | B12: CDHU | C12: 02.02.150 | D12: Locação de container tipo depósito - área mínima de 13,80 m² | E12: un x mês | F12: 1 | G12: 991.69 | H12: =G12*$H$9+G12 -> 1219.7787 | I12: =ROUND((H12*F12),2) -> 1219.78 | K12: Considerado1 mês
A13: 1.2 | B13: CDHU | C13: 02.02.130 | D13: Locação de container tipo escritório com 1 vaso sanitário, 1 lavatório e 1 ponto para chuveiro - área mínima de 13,80 m² | E13: UNMES | F13: 1 | G13: 1562.38 | H13: =G13*$H$9+G13 -> 1921.7274 | I13: =ROUND((H13*F13),2) -> 1921.73 | K13: Considerado 1 mês
A14: 1.3 | B14: SINAPI | C14: 98462 | D14: ESTRUTURA DE MADEIRA PROVISÓRIA PARA SUPORTE DE CAIXA DÁGUA ELEVADA DE 3000 LITROS. AF_03/2024 | E14: un | F14: 1 | G14: 10859.41 | H14: =G14*$H$9+G14 -> 13357.074 | I14: =ROUND((H14*F14),2) -> 13357.07 | K14: Considerado 1 unidade
A15: 1.4 | B15: SINAPI | C15: 102610 | D15: CAIXA D´ÁGUA EM POLIETILENO, 3000 LITROS - FORNECIMENTO E INSTALAÇÃO. AF_06/2021 | E15: un | F15: 1 | G15: 2293.56 | H15: =G15*$H$9+G15 -> 2821.0788 | I15: =ROUND((H15*F15),2) -> 2821.08 | K15: Considerado 1 unidade
A16: 1.5 | B16: PMSP | C16: 1005001 | D16: Fechamento de área com tapume de madeira compensada (H=2,00m), incluindo montagem e desmontagem. | E16: M2 | F16: 32 | G16: 87.46 | H16: =G16*$H$9+G16 -> 107.5758 | I16: =ROUND((H16*F16),2) -> 3442.43 | K16: entorno da área do reservatório
A17: 1.6 | B17: PMSP | C17: 17045001 | D17: ANDAIMES METÁLICOS - FORNECIMENTO | E17: M3xMÊS | F17: 100 | G17: 10.42 | H17: =G17*$H$9+G17 -> 12.8166 | I17: =ROUND((H17*F17),2) -> 1281.66 | K17: Considerado 1 mês
A18: 1.7 | B18: PMSP | C18: 17045002 | D18: ANDAIMES METÁLICOS - MONTAGEM E DESMONTAGEM | E18: M3 | F18: 100 | G18: 5.93 | H18: =G18*$H$9+G18 -> 7.2939 | I18: =ROUND((H18*F18),2) -> 729.39 | K18: Considerado 1 mês
A20: 2.0 | B20: LIMPEZA INICIAL E INSPEÇÃO | I20: =ROUND(SUM(I21),2) -> 1873.43
A21: 2.1 | B21: PMSP | C21: 17004012 | D21: Hidrojateamento de alta pressão em superfícies de concreto (interno e externo) para remoção de limo. LIMPEZA E LAVAGEM DE PAREDE POR HIDROJATEAMENTO, SEM REJUNTAMENTO | E21: M² | F21: 178.56 | G21: 8.53 | H21: =G21*$H$9+G21 -> 10.4919 | I21: =ROUND((H21*F21),2) -> 1873.43 | K21: Limpeza completa das superfícies internas e externas do reservatório para remoção de incrustações, limo, sujeiras e preparação para inspeção e recuperação estrutural. (9,00x3,14x3,00) + 3,00+6,00 (fundo e tampa) = 178,56 m²
A23: 3.0 | B23: RECUPERAÇÃO ESTRUTURAL E TRATAMENTO DE TRINCAS | I23: =ROUND(SUM(I24:I31),2) -> 21916.37
A24: 3.2.1 | B24: PMSP INFRA | C24: 10-003-000 | D24: Apicoamento de superfícies de concreto (com equipamento pneumático) | E24: M2 | F24: 84.78 | G24: 43.67 | H24: =G24*$H$9+G24 -> 53.7141 | I24: =ROUND((H24*F24),2) -> 4553.88 | K24: áreas deterioradas estimadas em levantamento visual
A25: 3.2.2 | B25: PMSP EDIF | C25: 03-040-024 | D25: Lixamento mecânico em superfícies de concreto | E25: M2 | F25: 84.78 | G25: 9.84 | H25: =G25*$H$9+G25 -> 12.1032 | I25: =ROUND((H25*F25),2) -> 1026.11 | K25: preparação das áreas recuperadas
A26: 3.2.3 | B26: PMSP INFRA | C26: 10-005-000 | D26: Jateamento para limpeza de ferragens e superfícies de concreto | E26: M2 | F26: 16 | G26: 138.16 | H26: =G26*$H$9+G26 -> 169.9368 | I26: =ROUND((H26*F26),2) -> 2718.99 | K26: estimativa
A27: 3.3.1 | B27: SINAPI | C27: 92917 | D27: Armação de estruturas diversas de concreto armado, exceto vigas, pilares, lajes e fundações, utilizando aço ca-50 de 8,0 mm - montagem. Af_06/2022 | E27: KG | F27: 121 | G27: 13.28 | H27: =G27*$H$9+G27 -> 16.3344 | I27: =ROUND((H27*F27),2) -> 1976.46 | K27: Estimativa de recuperação
A28: 3.3.2 | B28: FDE | C28: 03.02.014 | D28: Ancoragem de barras de aco com adesivo estrutural resina base epoxi | E28: unid. | F28: 13 | G28: 169.97 | H28: =G28*$H$9+G28 -> 209.0631 | I28: =ROUND((H28*F28),2) -> 2717.82 | K28: Estimativa conforme vistoria visual
A29: 3.3.3 | B29: FDE | C29: 15.01.035 | D29: Fundo anti-oxidante em estruturas | E29: m² | F29: 13 | G29: 23.76 | H29: =G29*$H$9+G29 -> 29.2248 | I29: =ROUND((H29*F29),2) -> 379.92 | K29: Estimativa conforme vistoria visual
A30: 3.4.1 | B30: CDHU | C30: 11.20.120 | D30: Reparo superficial com argamassa polimérica (tixotrópica), bicomponente | E30: m³ | F30: 0.45 | G30: 11395.41 | H30: =G30*$H$9+G30 -> 14016.354 | I30: =ROUND((H30*F30),2) -> 6307.36 | K30: área interna 90,78 m², recuperação estimada 25%, espessura 0,02 m = 0,35 m³
A31: 3.5.1 | B31: PMSP EDIF | C31: 1001007 | D31: REMOÇÃO DE ENTULHO COM CAÇAMBA METÁLICA, INCLUSIVE CARGA MANUAL E DESCARGA EM BOTA-FORA | E31: M3 | F31: 11 | G31: 165.25 | H31: =G31*$H$9+G31 -> 203.2575 | I31: =ROUND((H31*F31),2) -> 2235.83 | K31: estimativa considerando remoção de concreto deteriorado
A33: 4.0 | B33: ADEQUAÇÃO DA SERRALHERIA | I33: =ROUND(SUM(I34:I39),2) -> 10017.86
A34: 4.1 | B34: PMSP | C34: 17060102 | D34: RETIRADA DE GRADIL E GUARDA-CORPO | E34: M² | F34: 16 | G34: 46.3 | H34: =G34*$H$9+G34 -> 56.949 | I34: =ROUND((H34*F34),2) -> 911.18 | K34: No topo do reservatório e da escada.
A35: 4.2 | B35: CDHU | C35: 04.09.120 | D35: Retirada de escada de marinheiro com ou sem guarda-corpo | E35: M | F35: 18 | G35: 39.55 | H35: =G35*$H$9+G35 -> 48.6465 | I35: =ROUND((H35*F35),2) -> 875.64 | K35: interno e externo
A36: 4.3 | B36: PMSP EDIF | C36: 8060001 | D36: RETIRADA DE ESQUADRIAS METÁLICAS EM GERAL, PORTAS OU CAIXILHOS | E36: m² | F36: 1.72 | G36: 38.68 | H36: =G36*$H$9+G36 -> 47.5764 | I36: =ROUND((H36*F36),2) -> 81.83 | K36: 1 de 0,80x0,80 e 1 de 1,50x0,80
A37: 4.4 | B37: PMSP EDIF | C37: 17005051 | D37: DP.02 - ESCADA MARINHEIRO DE FERRO GALVANIZADO COM GUARDA CORPO | E37: m | F37: 18 | G37: 214.97 | H37: =G37*$H$9+G37 -> 264.4131 | I37: =ROUND((H37*F37),2) -> 4759.44 | K37: altura interna e externa, Altura aproximada considerando acesso externo e interno ao reservatório.
A38: 4.5 | B38: PMSP | C38: 17005053 | D38: DP.03 - COMPLEMENTOS PARA ESCADA MARINHEIRO DE FERRO PERFILADO, INCLUI os acessórios de segurança e fixação — como guarda-corpos, suportes, rodapés e plataformas — essenciais para instalação conforme as normas NR-18 e NR-35 | E38: M | F38: 16 | G38: 118.53 | H38: =G38*$H$9+G38 -> 145.7919 | I38: =ROUND((H38*F38),2) -> 2332.67 | K38: guarda corpos no topo da caixa e demais acessórios necessários para a segurança.
A39: 4.6 | B39: PMSP | C39: 8003020 | D39: TAMPA DE ALÇAPÃO EM FERRO PERFILADO COM CHAPA | E39: M² | F39: 1.72 | G39: 499.67 | H39: =G39*$H$9+G39 -> 614.5941 | I39: =ROUND((H39*F39),2) -> 1057.1 | K39: acesso ao interno do reservatório e acesso a casa de máquina
A41: 5.0 | B41: PINTURA EXTERNA | I41: =ROUND(SUM(I42:I43),2) -> 5269.08
A42: 5.2 | B42: FDE | C42: 16.48.009 | D42: Aplicacao pintura imperm duas demaos verniz epoxi bicomponente | E42: m² | F42: 84.78 | G42: 62.15 | H42: =G42 -> 62.15 | I42: =F42*H42 -> 5269.077 | K42: Área lateral externa = π × D × h = 3,14x3,00x6,50
A44: 6.0 | B44: IMPERMEABILIZAÇÃO INTERNA | I44: =ROUND(SUM(I45),2) -> 7349.55
A45: 6.1 | B45: FDE | C45: 11.03.006 | D45: Impermeabilizaçao reserv.elev com argamassa polimerica aplicaçao 2 demãos semiflexivel + 4 demãos flexivel inclus.tela estruturante | E45: m² | F45: 90.78 | G45: 80.96 | H45: =G45 -> 80.96 | I45: =F45*H45 -> 7349.5488 | K45: Área interna correspondente ao piso e às paredes do reservatório em contato direto com a água, obtida por levantamento geométrico
A47: 7.0 | B47: LIMPEZA FINAL E ENTREGA | I47: =ROUND(SUM(I48),2) -> 413.12
A48: 7.1 | B48: PMSP EDIF | C48: 17004001 | D48: Limpeza geral da obra | E48: M2 | F48: 32 | G48: 12.91 | H48: =G48*$H$7+G48 -> 12.91 | I48: =F48*H48 -> 413.12 | K48: área aproximada no envoltório do reservatório.
A50: VALOR GLOBAL DOS SERVIÇOS | I50: =I47+I44+I41+I33+I23+I20+I11 -> 71612.55
D52: Observação: Os quantitativos relativos à recuperação estrutural, tratamento de fissuras e substituição de elementos metálicos foram estimados com base em inspeção visual preliminar, podendo sofrer variações localizadas durante a execução, conforme condições efetivamente verificadas após a limpeza completa das superfícies, observadas as regras contratuais e os limites legais aplicáveis.
H53: Sec Educação – DOE 27 de Agosto de 2026
H54: ANDRÉA CRUZ SANFINS
H55: CREA. 5060178720

Sheet 4_THOMAZINE
D1: OBJETO:Contratação de empresa especializada para execução de serviços de recuperação estrutural, impermeabilização, pintura, adequação dos dispositivos de acesso e segurança e demais intervenções necessárias em reservatórios de água em concreto e metálicos, com fornecimento de materiais, mão de obra, equipamentos e ferramentas em escolas públicas.
D4: CDHU 05/2026 SINAPI 07/2026 PMSP 01/2026 FDE 07/2026
C6: 1.0 | D6: EMEB Prof Maria Aparecida Tomazini (zona rural) CEMEI Tucano (anexa) - Estrada Municipal, Estr. Brasilio Franciscon, KM 16 - Morro Azul, Itatiba - SP, 13250-005, altura 6,00 metros diâmetro 3,00 m
A8: ITEM | B8: FONTE | C8: CÓDIGO | D8: Serviço | E8: unid. | F8: QUANT. | G8: VALOR | H8: BDI | I8: Valores Parciais dos Serviços
H9: 0.23
H10: 0 | K10: Memoria de Calculo
A11: 1.0 | B11: SERVIÇOS PRELIMINARES | I11: =ROUND(SUM(I12:I18),2) -> 24020.11
A12: 1.1. | B12: CDHU | C12: 02.02.150 | D12: Locação de container tipo depósito - área mínima de 13,80 m² | E12: un x mês | F12: 1 | G12: 991.69 | H12: =G12*$H$9+G12 -> 1219.7787 | I12: =ROUND((H12*F12),2) -> 1219.78 | K12: Considerado1 mês
A13: 1.2 | B13: CDHU | C13: 02.02.130 | D13: Locação de container tipo escritório com 1 vaso sanitário, 1 lavatório e 1 ponto para chuveiro - área mínima de 13,80 m² | E13: UNMES | F13: 1 | G13: 1562.38 | H13: =G13*$H$9+G13 -> 1921.7274 | I13: =ROUND((H13*F13),2) -> 1921.73 | K13: Considerado 1 mês
A14: 1.3 | B14: SINAPI | C14: 98462 | D14: ESTRUTURA DE MADEIRA PROVISÓRIA PARA SUPORTE DE CAIXA DÁGUA ELEVADA DE 3000 LITROS. AF_03/2024 | E14: un | F14: 1 | G14: 10859.41 | H14: =G14*$H$9+G14 -> 13357.074 | I14: =ROUND((H14*F14),2) -> 13357.07 | K14: Considerado 1 unidade
A15: 1.4 | B15: SINAPI | C15: 102610 | D15: CAIXA D´ÁGUA EM POLIETILENO, 3000 LITROS - FORNECIMENTO E INSTALAÇÃO. AF_06/2021 | E15: un | F15: 1 | G15: 2293.56 | H15: =G15*$H$9+G15 -> 2821.0788 | I15: =ROUND((H15*F15),2) -> 2821.08 | K15: Considerado 1 unidade
A16: 1.5 | B16: PMSP | C16: 1005001 | D16: Fechamento de área com tapume de madeira compensada (H=2,00m), incluindo montagem e desmontagem. | E16: M2 | F16: 25 | G16: 87.46 | H16: =G16*$H$9+G16 -> 107.5758 | I16: =ROUND((H16*F16),2) -> 2689.4 | K16: entorno da área do reservatório
A17: 1.6 | B17: PMSP | C17: 17045001 | D17: ANDAIMES METÁLICOS - FORNECIMENTO | E17: M3xMÊS | F17: 100 | G17: 10.42 | H17: =G17*$H$9+G17 -> 12.8166 | I17: =ROUND((H17*F17),2) -> 1281.66 | K17: Considerado 1 mês
A18: 1.7 | B18: PMSP | C18: 17045002 | D18: ANDAIMES METÁLICOS - MONTAGEM E DESMONTAGEM | E18: M3 | F18: 100 | G18: 5.93 | H18: =G18*$H$9+G18 -> 7.2939 | I18: =ROUND((H18*F18),2) -> 729.39 | K18: Considerado 1 mês
A20: 2.0 | B20: LIMPEZA INICIAL E INSPEÇÃO | I20: =ROUND(SUM(I21),2) -> 1280.43
A21: 2.1 | B21: PMSP | C21: 17004012 | D21: Hidrojateamento de alta pressão em superfícies de concreto (interno e externo) para remoção de limo. LIMPEZA E LAVAGEM DE PAREDE POR HIDROJATEAMENTO, SEM REJUNTAMENTO | E21: M² | F21: 122.04 | G21: 8.53 | H21: =G21*$H$9+G21 -> 10.4919 | I21: =ROUND((H21*F21),2) -> 1280.43 | K21: Limpeza completa das superfícies internas e externas do reservatório para remoção de incrustações, limo, sujeiras e preparação para inspeção e recuperação estrutural. (6,00x3,14x3,00)x2 + 3,00+6,00 (fundo e tampa) = 122,04 m²
A23: 3.0 | B23: RECUPERAÇÃO ESTRUTURAL E TRATAMENTO DE TRINCAS | I23: =ROUND(SUM(I24:I31),2) -> 16718.69
A24: 3.2.1 | B24: PMSP INFRA | C24: 10-003-000 | D24: Apicoamento de superfícies de concreto (com equipamento pneumático) | E24: M2 | F24: 62.52 | G24: 43.67 | H24: =G24*$H$9+G24 -> 53.7141 | I24: =ROUND((H24*F24),2) -> 3358.21 | K24: áreas deterioradas estimadas em levantamento visual
A25: 3.2.2 | B25: PMSP EDIF | C25: 03-040-024 | D25: Lixamento mecânico em superfícies de concreto | E25: M2 | F25: 62.52 | G25: 9.84 | H25: =G25*$H$9+G25 -> 12.1032 | I25: =ROUND((H25*F25),2) -> 756.69 | K25: preparação das áreas recuperadas
A26: 3.2.3 | B26: PMSP INFRA | C26: 10-005-000 | D26: Jateamento para limpeza de ferragens e superfícies de concreto | E26: M2 | F26: 12 | G26: 138.16 | H26: =G26*$H$9+G26 -> 169.9368 | I26: =ROUND((H26*F26),2) -> 2039.24 | K26: estimativa
A27: 3.3.1 | B27: SINAPI | C27: 92917 | D27: Armação de estruturas diversas de concreto armado, exceto vigas, pilares, lajes e fundações, utilizando aço ca-50 de 8,0 mm - montagem. Af_06/2022 | E27: KG | F27: 98 | G27: 13.28 | H27: =G27*$H$9+G27 -> 16.3344 | I27: =ROUND((H27*F27),2) -> 1600.77 | K27: Estimativa de recuperação
A28: 3.3.2 | B28: FDE | C28: 03.02.014 | D28: Ancoragem de barras de aco com adesivo estrutural resina base epoxi | E28: unid. | F28: 10 | G28: 169.97 | H28: =G28*$H$9+G28 -> 209.0631 | I28: =ROUND((H28*F28),2) -> 2090.63 | K28: Estimativa conforme vistoria visual
A29: 3.3.3 | B29: FDE | C29: 15.01.035 | D29: Fundo anti-oxidante em estruturas | E29: m² | F29: 10 | G29: 23.76 | H29: =G29*$H$9+G29 -> 29.2248 | I29: =ROUND((H29*F29),2) -> 292.25 | K29: Estimativa conforme vistoria visual
A30: 3.4.1 | B30: CDHU | C30: 11.20.120 | D30: Reparo superficial com argamassa polimérica (tixotrópica), bicomponente | E30: m³ | F30: 0.31 | G30: 11395.41 | H30: =G30*$H$9+G30 -> 14016.354 | I30: =ROUND((H30*F30),2) -> 4345.07 | K30: área interna 62,52 m², recuperação estimada 25%, espessura 0,02 m = 0,35 m³
A31: 3.5.1 | B31: PMSP EDIF | C31: 1001007 | D31: REMOÇÃO DE ENTULHO COM CAÇAMBA METÁLICA, INCLUSIVE CARGA MANUAL E DESCARGA EM BOTA-FORA | E31: M3 | F31: 11 | G31: 165.25 | H31: =G31*$H$9+G31 -> 203.2575 | I31: =ROUND((H31*F31),2) -> 2235.83 | K31: estimativa considerando remoção de concreto deteriorado
A33: 4.0 | B33: ADEQUAÇÃO DA SERRALHERIA | I33: =ROUND(SUM(I34:I39),2) -> 7556.33
A34: 4.1 | B34: PMSP | C34: 17060102 | D34: RETIRADA DE GRADIL E GUARDA-CORPO | E34: M² | F34: 16 | G34: 46.3 | H34: =G34*$H$9+G34 -> 56.949 | I34: =ROUND((H34*F34),2) -> 911.18 | K34: No topo do reservatório e da escada.
A35: 4.2 | B35: CDHU | C35: 04.09.120 | D35: Retirada de escada de marinheiro com ou sem guarda-corpo | E35: M | F35: 12 | G35: 39.55 | H35: =G35*$H$9+G35 -> 48.6465 | I35: =ROUND((H35*F35),2) -> 583.76 | K35: interno e externo
A36: 4.3 | B36: PMSP EDIF | C36: 8060001 | D36: RETIRADA DE ESQUADRIAS METÁLICAS EM GERAL, PORTAS OU CAIXILHOS | E36: m² | F36: 1.72 | G36: 38.68 | H36: =G36*$H$9+G36 -> 47.5764 | I36: =ROUND((H36*F36),2) -> 81.83 | K36: 1 de 0,80x0,80 e 1 de 1,50x0,80
A37: 4.4 | B37: PMSP EDIF | C37: 17005051 | D37: DP.02 - ESCADA MARINHEIRO DE FERRO GALVANIZADO COM GUARDA CORPO | E37: m | F37: 12 | G37: 214.97 | H37: =G37*$H$9+G37 -> 264.4131 | I37: =ROUND((H37*F37),2) -> 3172.96 | K37: altura interna e externa, Altura aproximada considerando acesso externo e interno ao reservatório.
A38: 4.5 | B38: PMSP | C38: 17005053 | D38: DP.03 - COMPLEMENTOS PARA ESCADA MARINHEIRO DE FERRO PERFILADO, INCLUI os acessórios de segurança e fixação — como guarda-corpos, suportes, rodapés e plataformas — essenciais para instalação conforme as normas NR-18 e NR-35 | E38: M | F38: 12 | G38: 118.53 | H38: =G38*$H$9+G38 -> 145.7919 | I38: =ROUND((H38*F38),2) -> 1749.5 | K38: guarda corpos no topo da caixa e demais acessórios necessários para a segurança.
A39: 4.6 | B39: PMSP | C39: 8003020 | D39: TAMPA DE ALÇAPÃO EM FERRO PERFILADO COM CHAPA | E39: M² | F39: 1.72 | G39: 499.67 | H39: =G39*$H$9+G39 -> 614.5941 | I39: =ROUND((H39*F39),2) -> 1057.1 | K39: acesso ao interno do reservatório e acesso a casa de máquina
A41: 5.0 | B41: PINTURA EXTERNA | I41: =ROUND(SUM(I42:I43),2) -> 3512.72
A42: 5.2 | B42: FDE | C42: 16.48.009 | D42: Aplicacao pintura imperm duas demaos verniz epoxi bicomponente | E42: m² | F42: 56.52 | G42: 62.15 | H42: =G42 -> 62.15 | I42: =F42*H42 -> 3512.718 | K42: Área lateral externa = π × D × h = 3,14x3,00x6,00
A44: 6.0 | B44: IMPERMEABILIZAÇÃO INTERNA | I44: =ROUND(SUM(I45),2) -> 5061.62
A45: 6.1 | B45: FDE | C45: 11.03.006 | D45: Impermeabilizaçao reserv.elev com argamassa polimerica aplicaçao 2 demãos semiflexivel + 4 demãos flexivel inclus.tela estruturante | E45: m² | F45: 62.52 | G45: 80.96 | H45: =G45 -> 80.96 | I45: =F45*H45 -> 5061.6192 | K45: Área interna correspondente ao piso e às paredes do reservatório em contato direto com a água, obtida por levantamento geométrico
A47: 7.0 | B47: LIMPEZA FINAL E ENTREGA | I47: =ROUND(SUM(I48),2) -> 322.75
A48: 7.1 | B48: PMSP EDIF | C48: 17004001 | D48: Limpeza geral da obra | E48: M2 | F48: 25 | G48: 12.91 | H48: =G48*$H$7+G48 -> 12.91 | I48: =F48*H48 -> 322.75 | K48: área aproximada no envoltório do reservatório.
A50: VALOR GLOBAL DOS SERVIÇOS | I50: =I47+I44+I41+I33+I23+I20+I11 -> 58472.65
D52: Observação: Os quantitativos relativos à recuperação estrutural, tratamento de fissuras e substituição de elementos metálicos foram estimados com base em inspeção visual preliminar, podendo sofrer variações localizadas durante a execução, conforme condições efetivamente verificadas após a limpeza completa das superfícies, observadas as regras contratuais e os limites legais aplicáveis.
H53: Sec Educação – DOE 27 de Agosto de 2026
H54: ANDRÉA CRUZ SANFINS
H55: CREA. 5060178720

Sheet 5_PHILOMENA
D1: OBJETO:Contratação de empresa especializada para execução de serviços de recuperação estrutural, impermeabilização, pintura, adequação dos dispositivos de acesso e segurança e demais intervenções necessárias em reservatórios de água em concreto e metálicos, com fornecimento de materiais, mão de obra, equipamentos e ferramentas em escolas públicas.
D4: CDHU 05/2026 SINAPI 07/2026 PMSP 01/2026 FDE 07/2026
C6: 1.0 | D6: EMEB Philomena Salvia Zupardo - Praça Marechal Castelo Branco, R. Filomena Zupardo, 78, Itatiba - SP, 13256-699, altura 6,00 metros diâmetro 3,00 m
A8: ITEM | B8: FONTE | C8: CÓDIGO | D8: Serviço | E8: unid. | F8: QUANT. | G8: VALOR | H8: BDI | I8: Valores Parciais dos Serviços
H9: 0.23
H10: 0 | K10: Memoria de Calculo
A11: 1.0 | B11: SERVIÇOS PRELIMINARES | I11: =ROUND(SUM(I12:I18),2) -> 24020.11
A12: 1.1. | B12: CDHU | C12: 02.02.150 | D12: Locação de container tipo depósito - área mínima de 13,80 m² | E12: un x mês | F12: 1 | G12: 991.69 | H12: =G12*$H$9+G12 -> 1219.7787 | I12: =ROUND((H12*F12),2) -> 1219.78 | K12: Considerado1 mês
A13: 1.2 | B13: CDHU | C13: 02.02.130 | D13: Locação de container tipo escritório com 1 vaso sanitário, 1 lavatório e 1 ponto para chuveiro - área mínima de 13,80 m² | E13: UNMES | F13: 1 | G13: 1562.38 | H13: =G13*$H$9+G13 -> 1921.7274 | I13: =ROUND((H13*F13),2) -> 1921.73 | K13: Considerado 1 mês
A14: 1.3 | B14: SINAPI | C14: 98462 | D14: ESTRUTURA DE MADEIRA PROVISÓRIA PARA SUPORTE DE CAIXA DÁGUA ELEVADA DE 3000 LITROS. AF_03/2024 | E14: un | F14: 1 | G14: 10859.41 | H14: =G14*$H$9+G14 -> 13357.074 | I14: =ROUND((H14*F14),2) -> 13357.07 | K14: Considerado 1 unidade
A15: 1.4 | B15: SINAPI | C15: 102610 | D15: CAIXA D´ÁGUA EM POLIETILENO, 3000 LITROS - FORNECIMENTO E INSTALAÇÃO. AF_06/2021 | E15: un | F15: 1 | G15: 2293.56 | H15: =G15*$H$9+G15 -> 2821.0788 | I15: =ROUND((H15*F15),2) -> 2821.08 | K15: Considerado 1 unidade
A16: 1.5 | B16: PMSP | C16: 1005001 | D16: Fechamento de área com tapume de madeira compensada (H=2,00m), incluindo montagem e desmontagem. | E16: M2 | F16: 25 | G16: 87.46 | H16: =G16*$H$9+G16 -> 107.5758 | I16: =ROUND((H16*F16),2) -> 2689.4 | K16: entorno da área do reservatório
A17: 1.6 | B17: PMSP | C17: 17045001 | D17: ANDAIMES METÁLICOS - FORNECIMENTO | E17: M3xMÊS | F17: 100 | G17: 10.42 | H17: =G17*$H$9+G17 -> 12.8166 | I17: =ROUND((H17*F17),2) -> 1281.66 | K17: Considerado 1 mês
A18: 1.7 | B18: PMSP | C18: 17045002 | D18: ANDAIMES METÁLICOS - MONTAGEM E DESMONTAGEM | E18: M3 | F18: 100 | G18: 5.93 | H18: =G18*$H$9+G18 -> 7.2939 | I18: =ROUND((H18*F18),2) -> 729.39 | K18: Considerado 1 mês
A20: 2.0 | B20: LIMPEZA INICIAL E INSPEÇÃO | I20: =ROUND(SUM(I21),2) -> 1280.43
A21: 2.1 | B21: PMSP | C21: 17004012 | D21: Hidrojateamento de alta pressão em superfícies de concreto (interno e externo) para remoção de limo. LIMPEZA E LAVAGEM DE PAREDE POR HIDROJATEAMENTO, SEM REJUNTAMENTO | E21: M² | F21: 122.04 | G21: 8.53 | H21: =G21*$H$9+G21 -> 10.4919 | I21: =ROUND((H21*F21),2) -> 1280.43 | K21: Limpeza completa das superfícies internas e externas do reservatório para remoção de incrustações, limo, sujeiras e preparação para inspeção e recuperação estrutural. (6,00x3,14x3,00)x2 + 3,00+6,00 (fundo e tampa) = 122,04 m²
A23: 3.0 | B23: RECUPERAÇÃO ESTRUTURAL E TRATAMENTO DE TRINCAS | I23: =ROUND(SUM(I24:I31),2) -> 16718.69
A24: 3.2.1 | B24: PMSP INFRA | C24: 10-003-000 | D24: Apicoamento de superfícies de concreto (com equipamento pneumático) | E24: M2 | F24: 62.52 | G24: 43.67 | H24: =G24*$H$9+G24 -> 53.7141 | I24: =ROUND((H24*F24),2) -> 3358.21 | K24: áreas deterioradas estimadas em levantamento visual
A25: 3.2.2 | B25: PMSP EDIF | C25: 03-040-024 | D25: Lixamento mecânico em superfícies de concreto | E25: M2 | F25: 62.52 | G25: 9.84 | H25: =G25*$H$9+G25 -> 12.1032 | I25: =ROUND((H25*F25),2) -> 756.69 | K25: preparação das áreas recuperadas
A26: 3.2.3 | B26: PMSP INFRA | C26: 10-005-000 | D26: Jateamento para limpeza de ferragens e superfícies de concreto | E26: M2 | F26: 12 | G26: 138.16 | H26: =G26*$H$9+G26 -> 169.9368 | I26: =ROUND((H26*F26),2) -> 2039.24 | K26: estimativa
A27: 3.3.1 | B27: SINAPI | C27: 92917 | D27: Armação de estruturas diversas de concreto armado, exceto vigas, pilares, lajes e fundações, utilizando aço ca-50 de 8,0 mm - montagem. Af_06/2022 | E27: KG | F27: 98 | G27: 13.28 | H27: =G27*$H$9+G27 -> 16.3344 | I27: =ROUND((H27*F27),2) -> 1600.77 | K27: Estimativa de recuperação
A28: 3.3.2 | B28: FDE | C28: 03.02.014 | D28: Ancoragem de barras de aco com adesivo estrutural resina base epoxi | E28: unid. | F28: 10 | G28: 169.97 | H28: =G28*$H$9+G28 -> 209.0631 | I28: =ROUND((H28*F28),2) -> 2090.63 | K28: Estimativa conforme vistoria visual
A29: 3.3.3 | B29: FDE | C29: 15.01.035 | D29: Fundo anti-oxidante em estruturas | E29: m² | F29: 10 | G29: 23.76 | H29: =G29*$H$9+G29 -> 29.2248 | I29: =ROUND((H29*F29),2) -> 292.25 | K29: Estimativa conforme vistoria visual
A30: 3.4.1 | B30: CDHU | C30: 11.20.120 | D30: Reparo superficial com argamassa polimérica (tixotrópica), bicomponente | E30: m³ | F30: 0.31 | G30: 11395.41 | H30: =G30*$H$9+G30 -> 14016.354 | I30: =ROUND((H30*F30),2) -> 4345.07 | K30: área interna 62,52 m², recuperação estimada 25%, espessura 0,02 m = 0,35 m³
A31: 3.5.1 | B31: PMSP EDIF | C31: 1001007 | D31: REMOÇÃO DE ENTULHO COM CAÇAMBA METÁLICA, INCLUSIVE CARGA MANUAL E DESCARGA EM BOTA-FORA | E31: M3 | F31: 11 | G31: 165.25 | H31: =G31*$H$9+G31 -> 203.2575 | I31: =ROUND((H31*F31),2) -> 2235.83 | K31: estimativa considerando remoção de concreto deteriorado
A33: 4.0 | B33: ADEQUAÇÃO DA SERRALHERIA | I33: =ROUND(SUM(I34:I39),2) -> 7556.33
A34: 4.1 | B34: PMSP | C34: 17060102 | D34: RETIRADA DE GRADIL E GUARDA-CORPO | E34: M² | F34: 16 | G34: 46.3 | H34: =G34*$H$9+G34 -> 56.949 | I34: =ROUND((H34*F34),2) -> 911.18 | K34: No topo do reservatório e da escada.
A35: 4.2 | B35: CDHU | C35: 04.09.120 | D35: Retirada de escada de marinheiro com ou sem guarda-corpo | E35: M | F35: 12 | G35: 39.55 | H35: =G35*$H$9+G35 -> 48.6465 | I35: =ROUND((H35*F35),2) -> 583.76 | K35: interno e externo
A36: 4.3 | B36: PMSP EDIF | C36: 8060001 | D36: RETIRADA DE ESQUADRIAS METÁLICAS EM GERAL, PORTAS OU CAIXILHOS | E36: m² | F36: 1.72 | G36: 38.68 | H36: =G36*$H$9+G36 -> 47.5764 | I36: =ROUND((H36*F36),2) -> 81.83 | K36: 1 de 0,80x0,80 e 1 de 1,50x0,80
A37: 4.4 | B37: PMSP EDIF | C37: 17005051 | D37: DP.02 - ESCADA MARINHEIRO DE FERRO GALVANIZADO COM GUARDA CORPO | E37: m | F37: 12 | G37: 214.97 | H37: =G37*$H$9+G37 -> 264.4131 | I37: =ROUND((H37*F37),2) -> 3172.96 | K37: altura interna e externa, Altura aproximada considerando acesso externo e interno ao reservatório.
A38: 4.5 | B38: PMSP | C38: 17005053 | D38: DP.03 - COMPLEMENTOS PARA ESCADA MARINHEIRO DE FERRO PERFILADO, INCLUI os acessórios de segurança e fixação — como guarda-corpos, suportes, rodapés e plataformas — essenciais para instalação conforme as normas NR-18 e NR-35 | E38: M | F38: 12 | G38: 118.53 | H38: =G38*$H$9+G38 -> 145.7919 | I38: =ROUND((H38*F38),2) -> 1749.5 | K38: guarda corpos no topo da caixa e demais acessórios necessários para a segurança.
A39: 4.6 | B39: PMSP | C39: 8003020 | D39: TAMPA DE ALÇAPÃO EM FERRO PERFILADO COM CHAPA | E39: M² | F39: 1.72 | G39: 499.67 | H39: =G39*$H$9+G39 -> 614.5941 | I39: =ROUND((H39*F39),2) -> 1057.1 | K39: acesso ao interno do reservatório e acesso a casa de máquina
A41: 5.0 | B41: PINTURA EXTERNA | I41: =ROUND(SUM(I42:I43),2) -> 3512.72
A42: 5.2 | B42: FDE | C42: 16.48.009 | D42: Aplicacao pintura imperm duas demaos verniz epoxi bicomponente | E42: m² | F42: 56.52 | G42: 62.15 | H42: =G42 -> 62.15 | I42: =F42*H42 -> 3512.718 | K42: Área lateral externa = π × D × h = 3,14x3,00x6,00
A44: 6.0 | B44: IMPERMEABILIZAÇÃO INTERNA | I44: =ROUND(SUM(I45),2) -> 5061.62
A45: 6.1 | B45: FDE | C45: 11.03.006 | D45: Impermeabilizaçao reserv.elev com argamassa polimerica aplicaçao 2 demãos semiflexivel + 4 demãos flexivel inclus.tela estruturante | E45: m² | F45: 62.52 | G45: 80.96 | H45: =G45 -> 80.96 | I45: =F45*H45 -> 5061.6192 | K45: Área interna correspondente ao piso e às paredes do reservatório em contato direto com a água, obtida por levantamento geométrico
A47: 7.0 | B47: LIMPEZA FINAL E ENTREGA | I47: =ROUND(SUM(I48),2) -> 322.75
A48: 7.1 | B48: PMSP EDIF | C48: 17004001 | D48: Limpeza geral da obra | E48: M2 | F48: 25 | G48: 12.91 | H48: =G48*$H$7+G48 -> 12.91 | I48: =F48*H48 -> 322.75 | K48: área aproximada no envoltório do reservatório.
A50: VALOR GLOBAL DOS SERVIÇOS | I50: =I47+I44+I41+I33+I23+I20+I11 -> 58472.65
D52: Observação: Os quantitativos relativos à recuperação estrutural, tratamento de fissuras e substituição de elementos metálicos foram estimados com base em inspeção visual preliminar, podendo sofrer variações localizadas durante a execução, conforme condições efetivamente verificadas após a limpeza completa das superfícies, observadas as regras contratuais e os limites legais aplicáveis.
H53: Sec Educação – DOE 27 de Agosto de 2026
H54: ANDRÉA CRUZ SANFINS
H55: CREA. 5060178720

Sheet 6_PIXARRO
D1: OBJETO:Contratação de empresa especializada para execução de serviços de recuperação estrutural, impermeabilização, pintura, adequação dos dispositivos de acesso e segurança e demais intervenções necessárias em reservatórios de água em concreto e metálicos, com fornecimento de materiais, mão de obra, equipamentos e ferramentas em escolas públicas.
D4: CDHU 05/2026 SINAPI 07/2026 PMSP 01/2026 FDE 07/2026
C6: 1.0 | D6: CEMEI Pixarro - Av. Marcelo Gervásio Dian, 495 - 495, Itatiba - SP, 13255-700, altura 12,50 metros diâmetro 3,00 m
A8: ITEM | B8: FONTE | C8: CÓDIGO | D8: Serviço | E8: unid. | F8: QUANT. | G8: VALOR | H8: BDI | I8: Valores Parciais dos Serviços
H9: 0.23
H10: 0 | K10: Memoria de Calculo
A11: 1.0 | B11: SERVIÇOS PRELIMINARES | I11: =ROUND(SUM(I12:I18),2) -> 23697.38
A12: 1.1. | B12: CDHU | C12: 02.02.150 | D12: Locação de container tipo depósito - área mínima de 13,80 m² | E12: un x mês | F12: 1 | G12: 991.69 | H12: =G12*$H$9+G12 -> 1219.7787 | I12: =ROUND((H12*F12),2) -> 1219.78 | K12: Considerado1 mês
A13: 1.2 | B13: CDHU | C13: 02.02.130 | D13: Locação de container tipo escritório com 1 vaso sanitário, 1 lavatório e 1 ponto para chuveiro - área mínima de 13,80 m² | E13: UNMES | F13: 1 | G13: 1562.38 | H13: =G13*$H$9+G13 -> 1921.7274 | I13: =ROUND((H13*F13),2) -> 1921.73 | K13: Considerado 1 mês
A14: 1.3 | B14: SINAPI | C14: 98462 | D14: ESTRUTURA DE MADEIRA PROVISÓRIA PARA SUPORTE DE CAIXA DÁGUA ELEVADA DE 3000 LITROS. AF_03/2024 | E14: un | F14: 1 | G14: 10859.41 | H14: =G14*$H$9+G14 -> 13357.074 | I14: =ROUND((H14*F14),2) -> 13357.07 | K14: Considerado 1 unidade
A15: 1.4 | B15: SINAPI | C15: 102610 | D15: CAIXA D´ÁGUA EM POLIETILENO, 3000 LITROS - FORNECIMENTO E INSTALAÇÃO. AF_06/2021 | E15: un | F15: 1 | G15: 2293.56 | H15: =G15*$H$9+G15 -> 2821.0788 | I15: =ROUND((H15*F15),2) -> 2821.08 | K15: Considerado 1 unidade
A16: 1.5 | B16: PMSP | C16: 1005001 | D16: Fechamento de área com tapume de madeira compensada (H=2,00m), incluindo montagem e desmontagem. | E16: M2 | F16: 22 | G16: 87.46 | H16: =G16*$H$9+G16 -> 107.5758 | I16: =ROUND((H16*F16),2) -> 2366.67 | K16: entorno da área do reservatório
A17: 1.6 | B17: PMSP | C17: 17045001 | D17: ANDAIMES METÁLICOS - FORNECIMENTO | E17: M3xMÊS | F17: 100 | G17: 10.42 | H17: =G17*$H$9+G17 -> 12.8166 | I17: =ROUND((H17*F17),2) -> 1281.66 | K17: Considerado 1 mês
A18: 1.7 | B18: PMSP | C18: 17045002 | D18: ANDAIMES METÁLICOS - MONTAGEM E DESMONTAGEM | E18: M3 | F18: 100 | G18: 5.93 | H18: =G18*$H$9+G18 -> 7.2939 | I18: =ROUND((H18*F18),2) -> 729.39 | K18: Considerado 1 mês
A20: 2.0 | B20: LIMPEZA INICIAL E INSPEÇÃO | I20: =ROUND(SUM(I21),2) -> 2565.27
A21: 2.1 | B21: PMSP | C21: 17004012 | D21: Hidrojateamento de alta pressão em superfícies de concreto (interno e externo) para remoção de limo. LIMPEZA E LAVAGEM DE PAREDE POR HIDROJATEAMENTO, SEM REJUNTAMENTO | E21: M² | F21: 244.5 | G21: 8.53 | H21: =G21*$H$9+G21 -> 10.4919 | I21: =ROUND((H21*F21),2) -> 2565.27 | K21: Limpeza completa das superfícies internas e externas do reservatório para remoção de incrustações, limo, sujeiras e preparação para inspeção e recuperação estrutural. (12,50x3,14x3,00)x2 + 3,00+6,00 (fundo e tampa) = 244,50 m²
A23: 3.0 | B23: RECUPERAÇÃO ESTRUTURAL E TRATAMENTO DE TRINCAS | I23: =ROUND(SUM(I24:I31),2) -> 27198.13
A24: 3.2.1 | B24: PMSP INFRA | C24: 10-003-000 | D24: Apicoamento de superfícies de concreto (com equipamento pneumático) | E24: M2 | F24: 117.75 | G24: 43.67 | H24: =G24*$H$9+G24 -> 53.7141 | I24: =ROUND((H24*F24),2) -> 6324.84 | K24: áreas deterioradas estimadas em levantamento visual
A25: 3.2.2 | B25: PMSP EDIF | C25: 03-040-024 | D25: Lixamento mecânico em superfícies de concreto | E25: M2 | F25: 117.75 | G25: 9.84 | H25: =G25*$H$9+G25 -> 12.1032 | I25: =ROUND((H25*F25),2) -> 1425.15 | K25: preparação das áreas recuperadas
A26: 3.2.3 | B26: PMSP INFRA | C26: 10-005-000 | D26: Jateamento para limpeza de ferragens e superfícies de concreto | E26: M2 | F26: 18 | G26: 138.16 | H26: =G26*$H$9+G26 -> 169.9368 | I26: =ROUND((H26*F26),2) -> 3058.86 | K26: estimativa
A27: 3.3.1 | B27: SINAPI | C27: 92917 | D27: Armação de estruturas diversas de concreto armado, exceto vigas, pilares, lajes e fundações, utilizando aço ca-50 de 8,0 mm - montagem. Af_06/2022 | E27: KG | F27: 125 | G27: 13.28 | H27: =G27*$H$9+G27 -> 16.3344 | I27: =ROUND((H27*F27),2) -> 2041.8 | K27: Estimativa de recuperação
A28: 3.3.2 | B28: FDE | C28: 03.02.014 | D28: Ancoragem de barras de aco com adesivo estrutural resina base epoxi | E28: unid. | F28: 15 | G28: 169.97 | H28: =G28*$H$9+G28 -> 209.0631 | I28: =ROUND((H28*F28),2) -> 3135.95 | K28: Estimativa conforme vistoria visual
A29: 3.3.3 | B29: FDE | C29: 15.01.035 | D29: Fundo anti-oxidante em estruturas | E29: m² | F29: 22 | G29: 23.76 | H29: =G29*$H$9+G29 -> 29.2248 | I29: =ROUND((H29*F29),2) -> 642.95 | K29: Estimativa conforme vistoria visual
A30: 3.4.1 | B30: CDHU | C30: 11.20.120 | D30: Reparo superficial com argamassa polimérica (tixotrópica), bicomponente | E30: m³ | F30: 0.58 | G30: 11395.41 | H30: =G30*$H$9+G30 -> 14016.354 | I30: =ROUND((H30*F30),2) -> 8129.49 | K30: área interna 117,75 m², recuperação estimada 25%, espessura 0,02 m = 0,58 m³
A31: 3.5.1 | B31: PMSP EDIF | C31: 1001007 | D31: REMOÇÃO DE ENTULHO COM CAÇAMBA METÁLICA, INCLUSIVE CARGA MANUAL E DESCARGA EM BOTA-FORA | E31: M3 | F31: 12 | G31: 165.25 | H31: =G31*$H$9+G31 -> 203.2575 | I31: =ROUND((H31*F31),2) -> 2439.09 | K31: estimativa considerando remoção de concreto deteriorado
A33: 4.0 | B33: ADEQUAÇÃO DA SERRALHERIA | I33: =ROUND(SUM(I34:I39),2) -> 12209.27
A34: 4.1 | B34: PMSP | C34: 17060102 | D34: RETIRADA DE GRADIL E GUARDA-CORPO | E34: M² | F34: 16 | G34: 46.3 | H34: =G34*$H$9+G34 -> 56.949 | I34: =ROUND((H34*F34),2) -> 911.18 | K34: No topo do reservatório e da escada.
A35: 4.2 | B35: CDHU | C35: 04.09.120 | D35: Retirada de escada de marinheiro com ou sem guarda-corpo | E35: M | F35: 25 | G35: 39.55 | H35: =G35*$H$9+G35 -> 48.6465 | I35: =ROUND((H35*F35),2) -> 1216.16 | K35: interno e externo
A36: 4.3 | B36: PMSP EDIF | C36: 8060001 | D36: RETIRADA DE ESQUADRIAS METÁLICAS EM GERAL, PORTAS OU CAIXILHOS | E36: m² | F36: 1.72 | G36: 38.68 | H36: =G36*$H$9+G36 -> 47.5764 | I36: =ROUND((H36*F36),2) -> 81.83 | K36: 1 de 0,80x0,80 e 1 de 1,50x0,80
A37: 4.4 | B37: PMSP EDIF | C37: 17005051 | D37: DP.02 - ESCADA MARINHEIRO DE FERRO GALVANIZADO COM GUARDA CORPO | E37: m | F37: 25 | G37: 214.97 | H37: =G37*$H$9+G37 -> 264.4131 | I37: =ROUND((H37*F37),2) -> 6610.33 | K37: altura interna e externa, Altura aproximada considerando acesso externo e interno ao reservatório.
A38: 4.5 | B38: PMSP | C38: 17005053 | D38: DP.03 - COMPLEMENTOS PARA ESCADA MARINHEIRO DE FERRO PERFILADO, INCLUI os acessórios de segurança e fixação — como guarda-corpos, suportes, rodapés e plataformas — essenciais para instalação conforme as normas NR-18 e NR-35 | E38: M | F38: 16 | G38: 118.53 | H38: =G38*$H$9+G38 -> 145.7919 | I38: =ROUND((H38*F38),2) -> 2332.67 | K38: guarda corpos no topo da caixa e demais acessórios necessários para a segurança.
A39: 4.6 | B39: PMSP | C39: 8003020 | D39: TAMPA DE ALÇAPÃO EM FERRO PERFILADO COM CHAPA | E39: M² | F39: 1.72 | G39: 499.67 | H39: =G39*$H$9+G39 -> 614.5941 | I39: =ROUND((H39*F39),2) -> 1057.1 | K39: acesso ao interno do reservatório e acesso a casa de máquina
A41: 5.0 | B41: PINTURA EXTERNA | I41: =ROUND(SUM(I42:I43),2) -> 7318.16
A42: 5.2 | B42: FDE | C42: 16.48.009 | D42: Aplicacao pintura imperm duas demaos verniz epoxi bicomponente | E42: m² | F42: 117.75 | G42: 62.15 | H42: =G42 -> 62.15 | I42: =F42*H42 -> 7318.1625 | K42: Área lateral externa = π × D × h = 3,14x3,00x6,00
A44: 6.0 | B44: IMPERMEABILIZAÇÃO INTERNA | I44: =ROUND(SUM(I45),2) -> 10261.68
A45: 6.1 | B45: FDE | C45: 11.03.006 | D45: Impermeabilizaçao reserv.elev com argamassa polimerica aplicaçao 2 demãos semiflexivel + 4 demãos flexivel inclus.tela estruturante | E45: m² | F45: 126.75 | G45: 80.96 | H45: =G45 -> 80.96 | I45: =F45*H45 -> 10261.68 | K45: Área interna correspondente ao piso e às paredes do reservatório em contato direto com a água, obtida por levantamento geométrico
A47: 7.0 | B47: LIMPEZA FINAL E ENTREGA | I47: =ROUND(SUM(I48),2) -> 284.02
A48: 7.1 | B48: PMSP EDIF | C48: 17004001 | D48: Limpeza geral da obra | E48: M2 | F48: 22 | G48: 12.91 | H48: =G48*$H$7+G48 -> 12.91 | I48: =F48*H48 -> 284.02 | K48: área aproximada no envoltório do reservatório.
A50: VALOR GLOBAL DOS SERVIÇOS | I50: =I47+I44+I41+I33+I23+I20+I11 -> 83533.91
D52: Observação: Os quantitativos relativos à recuperação estrutural, tratamento de fissuras e substituição de elementos metálicos foram estimados com base em inspeção visual preliminar, podendo sofrer variações localizadas durante a execução, conforme condições efetivamente verificadas após a limpeza completa das superfícies, observadas as regras contratuais e os limites legais aplicáveis.
H53: Sec Educação – DOE 27 de Agosto de 2026
H54: ANDRÉA CRUZ SANFINS
H55: CREA. 5060178720

Sheet 7_SUZELEI
D1: OBJETO:Contratação de empresa especializada para execução de serviços de recuperação estrutural, impermeabilização, pintura, adequação dos dispositivos de acesso e segurança e demais intervenções necessárias em reservatórios de água em concreto e metálicos, com fornecimento de materiais, mão de obra, equipamentos e ferramentas em escolas públicas.
D4: CDHU 05/2026 SINAPI 07/2026 PMSP 01/2026 FDE 07/2026
C6: 1.0 | D6: CEMEI Profª Suzelei Marli Marques Matteuzzo - R. Benedicto José Constantino, S/N - B. do Engenho, Itatiba - SP, 13255-669, altura 9,00 metros diâmetro 3,00 m
A8: ITEM | B8: FONTE | C8: CÓDIGO | D8: Serviço | E8: unid. | F8: QUANT. | G8: VALOR | H8: BDI | I8: Valores Parciais dos Serviços
H9: 0.23
H10: 0 | K10: Memoria de Calculo
A11: 1.0 | B11: SERVIÇOS PRELIMINARES | I11: =ROUND(SUM(I12:I18),2) -> 24020.11
A12: 1.1. | B12: CDHU | C12: 02.02.150 | D12: Locação de container tipo depósito - área mínima de 13,80 m² | E12: un x mês | F12: 1 | G12: 991.69 | H12: =G12*$H$9+G12 -> 1219.7787 | I12: =ROUND((H12*F12),2) -> 1219.78 | K12: Considerado1 mês
A13: 1.2 | B13: CDHU | C13: 02.02.130 | D13: Locação de container tipo escritório com 1 vaso sanitário, 1 lavatório e 1 ponto para chuveiro - área mínima de 13,80 m² | E13: UNMES | F13: 1 | G13: 1562.38 | H13: =G13*$H$9+G13 -> 1921.7274 | I13: =ROUND((H13*F13),2) -> 1921.73 | K13: Considerado 1 mês
A14: 1.3 | B14: SINAPI | C14: 98462 | D14: ESTRUTURA DE MADEIRA PROVISÓRIA PARA SUPORTE DE CAIXA DÁGUA ELEVADA DE 3000 LITROS. AF_03/2024 | E14: un | F14: 1 | G14: 10859.41 | H14: =G14*$H$9+G14 -> 13357.074 | I14: =ROUND((H14*F14),2) -> 13357.07 | K14: Considerado 1 unidade
A15: 1.4 | B15: SINAPI | C15: 102610 | D15: CAIXA D´ÁGUA EM POLIETILENO, 3000 LITROS - FORNECIMENTO E INSTALAÇÃO. AF_06/2021 | E15: un | F15: 1 | G15: 2293.56 | H15: =G15*$H$9+G15 -> 2821.0788 | I15: =ROUND((H15*F15),2) -> 2821.08 | K15: Considerado 1 unidade
A16: 1.5 | B16: PMSP | C16: 1005001 | D16: Fechamento de área com tapume de madeira compensada (H=2,00m), incluindo montagem e desmontagem. | E16: M2 | F16: 25 | G16: 87.46 | H16: =G16*$H$9+G16 -> 107.5758 | I16: =ROUND((H16*F16),2) -> 2689.4 | K16: entorno da área do reservatório
A17: 1.6 | B17: PMSP | C17: 17045001 | D17: ANDAIMES METÁLICOS - FORNECIMENTO | E17: M3xMÊS | F17: 100 | G17: 10.42 | H17: =G17*$H$9+G17 -> 12.8166 | I17: =ROUND((H17*F17),2) -> 1281.66 | K17: Considerado 1 mês
A18: 1.7 | B18: PMSP | C18: 17045002 | D18: ANDAIMES METÁLICOS - MONTAGEM E DESMONTAGEM | E18: M3 | F18: 100 | G18: 5.93 | H18: =G18*$H$9+G18 -> 7.2939 | I18: =ROUND((H18*F18),2) -> 729.39 | K18: Considerado 1 mês
A20: 2.0 | B20: LIMPEZA INICIAL E INSPEÇÃO | I20: =ROUND(SUM(I21),2) -> 1873.43
A21: 2.1 | B21: PMSP | C21: 17004012 | D21: Hidrojateamento de alta pressão em superfícies de concreto (interno e externo) para remoção de limo. LIMPEZA E LAVAGEM DE PAREDE POR HIDROJATEAMENTO, SEM REJUNTAMENTO | E21: M² | F21: 178.56 | G21: 8.53 | H21: =G21*$H$9+G21 -> 10.4919 | I21: =ROUND((H21*F21),2) -> 1873.43 | K21: Limpeza completa das superfícies internas e externas do reservatório para remoção de incrustações, limo, sujeiras e preparação para inspeção e recuperação estrutural. (9,00x3,14x3,00)x2 + 3,00+6,00 (fundo e tampa) =178,56 m²
A23: 3.0 | B23: RECUPERAÇÃO ESTRUTURAL E TRATAMENTO DE TRINCAS | I23: =ROUND(SUM(I24:I31),2) -> 19433.77
A24: 3.2.1 | B24: PMSP INFRA | C24: 10-003-000 | D24: Apicoamento de superfícies de concreto (com equipamento pneumático) | E24: M2 | F24: 84.78 | G24: 43.67 | H24: =G24*$H$9+G24 -> 53.7141 | I24: =ROUND((H24*F24),2) -> 4553.88 | K24: áreas deterioradas estimadas em levantamento visual
A25: 3.2.2 | B25: PMSP EDIF | C25: 03-040-024 | D25: Lixamento mecânico em superfícies de concreto | E25: M2 | F25: 84.78 | G25: 9.84 | H25: =G25*$H$9+G25 -> 12.1032 | I25: =ROUND((H25*F25),2) -> 1026.11 | K25: preparação das áreas recuperadas
A26: 3.2.3 | B26: PMSP INFRA | C26: 10-005-000 | D26: Jateamento para limpeza de ferragens e superfícies de concreto | E26: M2 | F26: 12 | G26: 138.16 | H26: =G26*$H$9+G26 -> 169.9368 | I26: =ROUND((H26*F26),2) -> 2039.24 | K26: estimativa
A27: 3.3.1 | B27: SINAPI | C27: 92917 | D27: Armação de estruturas diversas de concreto armado, exceto vigas, pilares, lajes e fundações, utilizando aço ca-50 de 8,0 mm - montagem. Af_06/2022 | E27: KG | F27: 89 | G27: 13.28 | H27: =G27*$H$9+G27 -> 16.3344 | I27: =ROUND((H27*F27),2) -> 1453.76 | K27: Estimativa de recuperação
A28: 3.3.2 | B28: FDE | C28: 03.02.014 | D28: Ancoragem de barras de aco com adesivo estrutural resina base epoxi | E28: unid. | F28: 10 | G28: 169.97 | H28: =G28*$H$9+G28 -> 209.0631 | I28: =ROUND((H28*F28),2) -> 2090.63 | K28: Estimativa conforme vistoria visual
A29: 3.3.3 | B29: FDE | C29: 15.01.035 | D29: Fundo anti-oxidante em estruturas | E29: m² | F29: 12 | G29: 23.76 | H29: =G29*$H$9+G29 -> 29.2248 | I29: =ROUND((H29*F29),2) -> 350.7 | K29: Estimativa conforme vistoria visual
A30: 3.4.1 | B30: CDHU | C30: 11.20.120 | D30: Reparo superficial com argamassa polimérica (tixotrópica), bicomponente | E30: m³ | F30: 0.42 | G30: 11395.41 | H30: =G30*$H$9+G30 -> 14016.354 | I30: =ROUND((H30*F30),2) -> 5886.87 | K30: área interna 84,78 m², recuperação estimada 25%, espessura 0,02 m = 0,42 m³
A31: 3.5.1 | B31: PMSP EDIF | C31: 1001007 | D31: REMOÇÃO DE ENTULHO COM CAÇAMBA METÁLICA, INCLUSIVE CARGA MANUAL E DESCARGA EM BOTA-FORA | E31: M3 | F31: 10 | G31: 165.25 | H31: =G31*$H$9+G31 -> 203.2575 | I31: =ROUND((H31*F31),2) -> 2032.58 | K31: estimativa considerando remoção de concreto deteriorado
A33: 4.0 | B33: ADEQUAÇÃO DA SERRALHERIA | I33: =ROUND(SUM(I34:I39),2) -> 10017.86
A34: 4.1 | B34: PMSP | C34: 17060102 | D34: RETIRADA DE GRADIL E GUARDA-CORPO | E34: M² | F34: 16 | G34: 46.3 | H34: =G34*$H$9+G34 -> 56.949 | I34: =ROUND((H34*F34),2) -> 911.18 | K34: No topo do reservatório e da escada.
A35: 4.2 | B35: CDHU | C35: 04.09.120 | D35: Retirada de escada de marinheiro com ou sem guarda-corpo | E35: M | F35: 18 | G35: 39.55 | H35: =G35*$H$9+G35 -> 48.6465 | I35: =ROUND((H35*F35),2) -> 875.64 | K35: interno e externo
A36: 4.3 | B36: PMSP EDIF | C36: 8060001 | D36: RETIRADA DE ESQUADRIAS METÁLICAS EM GERAL, PORTAS OU CAIXILHOS | E36: m² | F36: 1.72 | G36: 38.68 | H36: =G36*$H$9+G36 -> 47.5764 | I36: =ROUND((H36*F36),2) -> 81.83 | K36: 1 de 0,80x0,80 e 1 de 1,50x0,80
A37: 4.4 | B37: PMSP EDIF | C37: 17005051 | D37: DP.02 - ESCADA MARINHEIRO DE FERRO GALVANIZADO COM GUARDA CORPO | E37: m | F37: 18 | G37: 214.97 | H37: =G37*$H$9+G37 -> 264.4131 | I37: =ROUND((H37*F37),2) -> 4759.44 | K37: altura interna e externa, Altura aproximada considerando acesso externo e interno ao reservatório.
A38: 4.5 | B38: PMSP | C38: 17005053 | D38: DP.03 - COMPLEMENTOS PARA ESCADA MARINHEIRO DE FERRO PERFILADO, INCLUI os acessórios de segurança e fixação — como guarda-corpos, suportes, rodapés e plataformas — essenciais para instalação conforme as normas NR-18 e NR-35 | E38: M | F38: 16 | G38: 118.53 | H38: =G38*$H$9+G38 -> 145.7919 | I38: =ROUND((H38*F38),2) -> 2332.67 | K38: guarda corpos no topo da caixa e demais acessórios necessários para a segurança.
A39: 4.6 | B39: PMSP | C39: 8003020 | D39: TAMPA DE ALÇAPÃO EM FERRO PERFILADO COM CHAPA | E39: M² | F39: 1.72 | G39: 499.67 | H39: =G39*$H$9+G39 -> 614.5941 | I39: =ROUND((H39*F39),2) -> 1057.1 | K39: acesso ao interno do reservatório e acesso a casa de máquina
A41: 5.0 | B41: PINTURA EXTERNA | I41: =ROUND(SUM(I42:I43),2) -> 5269.08
A42: 5.2 | B42: FDE | C42: 16.48.009 | D42: Aplicacao pintura imperm duas demaos verniz epoxi bicomponente | E42: m² | F42: 84.78 | G42: 62.15 | H42: =G42 -> 62.15 | I42: =F42*H42 -> 5269.077 | K42: Área lateral externa = π × D × h = 3,14x3,00x9,00
A44: 6.0 | B44: IMPERMEABILIZAÇÃO INTERNA | I44: =ROUND(SUM(I45),2) -> 7592.43
A45: 6.1 | B45: FDE | C45: 11.03.006 | D45: Impermeabilizaçao reserv.elev com argamassa polimerica aplicaçao 2 demãos semiflexivel + 4 demãos flexivel inclus.tela estruturante | E45: m² | F45: 93.78 | G45: 80.96 | H45: =G45 -> 80.96 | I45: =F45*H45 -> 7592.4288 | K45: Área interna correspondente ao piso e às paredes do reservatório em contato direto com a água, obtida por levantamento geométrico
A47: 7.0 | B47: LIMPEZA FINAL E ENTREGA | I47: =ROUND(SUM(I48),2) -> 322.75
A48: 7.1 | B48: PMSP EDIF | C48: 17004001 | D48: Limpeza geral da obra | E48: M2 | F48: 25 | G48: 12.91 | H48: =G48*$H$7+G48 -> 12.91 | I48: =F48*H48 -> 322.75 | K48: área aproximada no envoltório do reservatório.
A50: VALOR GLOBAL DOS SERVIÇOS | I50: =I47+I44+I41+I33+I23+I20+I11 -> 68529.43
D52: Observação: Os quantitativos relativos à recuperação estrutural, tratamento de fissuras e substituição de elementos metálicos foram estimados com base em inspeção visual preliminar, podendo sofrer variações localizadas durante a execução, conforme condições efetivamente verificadas após a limpeza completa das superfícies, observadas as regras contratuais e os limites legais aplicáveis.
H53: Sec Educação – DOE 27 de Agosto de 2026
H54: ANDRÉA CRUZ SANFINS
H55: CREA. 5060178720

Sheet 8_ROSA_MAZETTI
D1: OBJETO:Contratação de empresa especializada para execução de serviços de recuperação estrutural, impermeabilização, pintura, adequação dos dispositivos de acesso e segurança e demais intervenções necessárias em reservatórios de água em concreto e metálicos, com fornecimento de materiais, mão de obra, equipamentos e ferramentas em escolas públicas.
D4: CDHU 05/2026 SINAPI 07/2026 PMSP 01/2026 FDE 07/2026
C6: 1.0 | D6: CEMEI rosa mazetti; R. Miguel Francisco Rossi, 147 - Nucleo Res. Porto Seguro, Itatiba - SP, 13255-655 , altura 7,00 metros diâmetro 3,00 m
A8: ITEM | B8: FONTE | C8: CÓDIGO | D8: Serviço | E8: unid. | F8: QUANT. | G8: VALOR | H8: BDI | I8: Valores Parciais dos Serviços
H9: 0.23
H10: 0 | K10: Memoria de Calculo
A11: 1.0 | B11: SERVIÇOS PRELIMINARES | I11: =ROUND(SUM(I12:I18),2) -> 24020.11
A12: 1.1. | B12: CDHU | C12: 02.02.150 | D12: Locação de container tipo depósito - área mínima de 13,80 m² | E12: un x mês | F12: 1 | G12: 991.69 | H12: =G12*$H$9+G12 -> 1219.7787 | I12: =ROUND((H12*F12),2) -> 1219.78 | K12: Considerado1 mês
A13: 1.2 | B13: CDHU | C13: 02.02.130 | D13: Locação de container tipo escritório com 1 vaso sanitário, 1 lavatório e 1 ponto para chuveiro - área mínima de 13,80 m² | E13: UNMES | F13: 1 | G13: 1562.38 | H13: =G13*$H$9+G13 -> 1921.7274 | I13: =ROUND((H13*F13),2) -> 1921.73 | K13: Considerado 1 mês
A14: 1.3 | B14: SINAPI | C14: 98462 | D14: ESTRUTURA DE MADEIRA PROVISÓRIA PARA SUPORTE DE CAIXA DÁGUA ELEVADA DE 3000 LITROS. AF_03/2024 | E14: un | F14: 1 | G14: 10859.41 | H14: =G14*$H$9+G14 -> 13357.074 | I14: =ROUND((H14*F14),2) -> 13357.07 | K14: Considerado 1 unidade
A15: 1.4 | B15: SINAPI | C15: 102610 | D15: CAIXA D´ÁGUA EM POLIETILENO, 3000 LITROS - FORNECIMENTO E INSTALAÇÃO. AF_06/2021 | E15: un | F15: 1 | G15: 2293.56 | H15: =G15*$H$9+G15 -> 2821.0788 | I15: =ROUND((H15*F15),2) -> 2821.08 | K15: Considerado 1 unidade
A16: 1.5 | B16: PMSP | C16: 1005001 | D16: Fechamento de área com tapume de madeira compensada (H=2,00m), incluindo montagem e desmontagem. | E16: M2 | F16: 25 | G16: 87.46 | H16: =G16*$H$9+G16 -> 107.5758 | I16: =ROUND((H16*F16),2) -> 2689.4 | K16: entorno da área do reservatório
A17: 1.6 | B17: PMSP | C17: 17045001 | D17: ANDAIMES METÁLICOS - FORNECIMENTO | E17: M3xMÊS | F17: 100 | G17: 10.42 | H17: =G17*$H$9+G17 -> 12.8166 | I17: =ROUND((H17*F17),2) -> 1281.66 | K17: Considerado 1 mês
A18: 1.7 | B18: PMSP | C18: 17045002 | D18: ANDAIMES METÁLICOS - MONTAGEM E DESMONTAGEM | E18: M3 | F18: 100 | G18: 5.93 | H18: =G18*$H$9+G18 -> 7.2939 | I18: =ROUND((H18*F18),2) -> 729.39 | K18: Considerado 1 mês
A20: 2.0 | B20: LIMPEZA INICIAL E INSPEÇÃO | I20: =ROUND(SUM(I21),2) -> 1873.43
A21: 2.1 | B21: PMSP | C21: 17004012 | D21: Hidrojateamento de alta pressão em superfícies de concreto (interno e externo) para remoção de limo. LIMPEZA E LAVAGEM DE PAREDE POR HIDROJATEAMENTO, SEM REJUNTAMENTO | E21: M² | F21: 178.56 | G21: 8.53 | H21: =G21*$H$9+G21 -> 10.4919 | I21: =ROUND((H21*F21),2) -> 1873.43 | K21: Limpeza completa das superfícies internas e externas do reservatório para remoção de incrustações, limo, sujeiras e preparação para inspeção e recuperação estrutural. (7,00x3,14x3,00)x2 + 3,00+6,00 (fundo e tampa) =140,88 m²
A23: 3.0 | B23: RECUPERAÇÃO ESTRUTURAL E TRATAMENTO DE TRINCAS | I23: =ROUND(SUM(I24:I31),2) -> 16810.32
A24: 3.2.1 | B24: PMSP INFRA | C24: 10-003-000 | D24: Apicoamento de superfícies de concreto (com equipamento pneumático) | E24: M2 | F24: 65.94 | G24: 43.67 | H24: =G24*$H$9+G24 -> 53.7141 | I24: =ROUND((H24*F24),2) -> 3541.91 | K24: áreas deterioradas estimadas em levantamento visual
A25: 3.2.2 | B25: PMSP EDIF | C25: 03-040-024 | D25: Lixamento mecânico em superfícies de concreto | E25: M2 | F25: 65.94 | G25: 9.84 | H25: =G25*$H$9+G25 -> 12.1032 | I25: =ROUND((H25*F25),2) -> 798.09 | K25: preparação das áreas recuperadas
A26: 3.2.3 | B26: PMSP INFRA | C26: 10-005-000 | D26: Jateamento para limpeza de ferragens e superfícies de concreto | E26: M2 | F26: 9 | G26: 138.16 | H26: =G26*$H$9+G26 -> 169.9368 | I26: =ROUND((H26*F26),2) -> 1529.43 | K26: estimativa
A27: 3.3.1 | B27: SINAPI | C27: 92917 | D27: Armação de estruturas diversas de concreto armado, exceto vigas, pilares, lajes e fundações, utilizando aço ca-50 de 8,0 mm - montagem. Af_06/2022 | E27: KG | F27: 86 | G27: 13.28 | H27: =G27*$H$9+G27 -> 16.3344 | I27: =ROUND((H27*F27),2) -> 1404.76 | K27: Estimativa de recuperação
A28: 3.3.2 | B28: FDE | C28: 03.02.014 | D28: Ancoragem de barras de aco com adesivo estrutural resina base epoxi | E28: unid. | F28: 8 | G28: 169.97 | H28: =G28*$H$9+G28 -> 209.0631 | I28: =ROUND((H28*F28),2) -> 1672.5 | K28: Estimativa conforme vistoria visual
A29: 3.3.3 | B29: FDE | C29: 15.01.035 | D29: Fundo anti-oxidante em estruturas | E29: m² | F29: 12 | G29: 23.76 | H29: =G29*$H$9+G29 -> 29.2248 | I29: =ROUND((H29*F29),2) -> 350.7 | K29: Estimativa conforme vistoria visual
A30: 3.4.1 | B30: CDHU | C30: 11.20.120 | D30: Reparo superficial com argamassa polimérica (tixotrópica), bicomponente | E30: m³ | F30: 0.42 | G30: 11395.41 | H30: =G30*$H$9+G30 -> 14016.354 | I30: =ROUND((H30*F30),2) -> 5886.87 | K30: área interna 65,94 m², recuperação estimada 25%, espessura 0,02 m = 0,33 m³
A31: 3.5.1 | B31: PMSP EDIF | C31: 1001007 | D31: REMOÇÃO DE ENTULHO COM CAÇAMBA METÁLICA, INCLUSIVE CARGA MANUAL E DESCARGA EM BOTA-FORA | E31: M3 | F31: 8 | G31: 165.25 | H31: =G31*$H$9+G31 -> 203.2575 | I31: =ROUND((H31*F31),2) -> 1626.06 | K31: estimativa considerando remoção de concreto deteriorado
A33: 4.0 | B33: ADEQUAÇÃO DA SERRALHERIA | I33: =ROUND(SUM(I34:I39),2) -> 8765.61
A34: 4.1 | B34: PMSP | C34: 17060102 | D34: RETIRADA DE GRADIL E GUARDA-CORPO | E34: M² | F34: 16 | G34: 46.3 | H34: =G34*$H$9+G34 -> 56.949 | I34: =ROUND((H34*F34),2) -> 911.18 | K34: No topo do reservatório e da escada.
A35: 4.2 | B35: CDHU | C35: 04.09.120 | D35: Retirada de escada de marinheiro com ou sem guarda-corpo | E35: M | F35: 14 | G35: 39.55 | H35: =G35*$H$9+G35 -> 48.6465 | I35: =ROUND((H35*F35),2) -> 681.05 | K35: interno e externo
A36: 4.3 | B36: PMSP EDIF | C36: 8060001 | D36: RETIRADA DE ESQUADRIAS METÁLICAS EM GERAL, PORTAS OU CAIXILHOS | E36: m² | F36: 1.72 | G36: 38.68 | H36: =G36*$H$9+G36 -> 47.5764 | I36: =ROUND((H36*F36),2) -> 81.83 | K36: 1 de 0,80x0,80 e 1 de 1,50x0,80
A37: 4.4 | B37: PMSP EDIF | C37: 17005051 | D37: DP.02 - ESCADA MARINHEIRO DE FERRO GALVANIZADO COM GUARDA CORPO | E37: m | F37: 14 | G37: 214.97 | H37: =G37*$H$9+G37 -> 264.4131 | I37: =ROUND((H37*F37),2) -> 3701.78 | K37: altura interna e externa, Altura aproximada considerando acesso externo e interno ao reservatório.
A38: 4.5 | B38: PMSP | C38: 17005053 | D38: DP.03 - COMPLEMENTOS PARA ESCADA MARINHEIRO DE FERRO PERFILADO, INCLUI os acessórios de segurança e fixação — como guarda-corpos, suportes, rodapés e plataformas — essenciais para instalação conforme as normas NR-18 e NR-35 | E38: M | F38: 16 | G38: 118.53 | H38: =G38*$H$9+G38 -> 145.7919 | I38: =ROUND((H38*F38),2) -> 2332.67 | K38: guarda corpos no topo da caixa e demais acessórios necessários para a segurança.
A39: 4.6 | B39: PMSP | C39: 8003020 | D39: TAMPA DE ALÇAPÃO EM FERRO PERFILADO COM CHAPA | E39: M² | F39: 1.72 | G39: 499.67 | H39: =G39*$H$9+G39 -> 614.5941 | I39: =ROUND((H39*F39),2) -> 1057.1 | K39: acesso ao interno do reservatório e acesso a casa de máquina
A41: 5.0 | B41: PINTURA EXTERNA | I41: =ROUND(SUM(I42:I43),2) -> 4098.17
A42: 5.2 | B42: FDE | C42: 16.48.009 | D42: Aplicacao pintura imperm duas demaos verniz epoxi bicomponente | E42: m² | F42: 65.94 | G42: 62.15 | H42: =G42 -> 62.15 | I42: =F42*H42 -> 4098.171 | K42: Área lateral externa = π × D × h = 3,14x3,00x9,00
A44: 6.0 | B44: IMPERMEABILIZAÇÃO INTERNA | I44: =ROUND(SUM(I45),2) -> 6067.14
A45: 6.1 | B45: FDE | C45: 11.03.006 | D45: Impermeabilizaçao reserv.elev com argamassa polimerica aplicaçao 2 demãos semiflexivel + 4 demãos flexivel inclus.tela estruturante | E45: m² | F45: 74.94 | G45: 80.96 | H45: =G45 -> 80.96 | I45: =F45*H45 -> 6067.1424 | K45: Área interna correspondente ao piso e às paredes do reservatório em contato direto com a água, obtida por levantamento geométrico
A47: 7.0 | B47: LIMPEZA FINAL E ENTREGA | I47: =ROUND(SUM(I48),2) -> 322.75
A48: 7.1 | B48: PMSP EDIF | C48: 17004001 | D48: Limpeza geral da obra | E48: M2 | F48: 25 | G48: 12.91 | H48: =G48*$H$7+G48 -> 12.91 | I48: =F48*H48 -> 322.75 | K48: área aproximada no envoltório do reservatório.
A50: VALOR GLOBAL DOS SERVIÇOS | I50: =I47+I44+I41+I33+I23+I20+I11 -> 61957.53
D52: Observação: Os quantitativos relativos à recuperação estrutural, tratamento de fissuras e substituição de elementos metálicos foram estimados com base em inspeção visual preliminar, podendo sofrer variações localizadas durante a execução, conforme condições efetivamente verificadas após a limpeza completa das superfícies, observadas as regras contratuais e os limites legais aplicáveis.
H53: Sec Educação – DOE 27 de Agosto de 2026
H54: ANDRÉA CRUZ SANFINS
H55: CREA. 5060178720

Sheet 9_NAZARETH
D1: OBJETO:Contratação de empresa especializada para execução de serviços de recuperação estrutural, impermeabilização, pintura, adequação dos dispositivos de acesso e segurança e demais intervenções necessárias em reservatórios de água em concreto e metálicos, com fornecimento de materiais, mão de obra, equipamentos e ferramentas em escolas públicas.
D4: CDHU 05/2026 SINAPI 07/2026 PMSP 01/2026 FDE 07/2026
C6: 1.0 | D6: EMEB NAZARETH DE SIQUEIRA RANGEL BARBOSA - Av. Lucílio Tobias, N - Nucleo Res. Porto Seguro, Itatiba - SP, 13255-660, altura 12,50 metros diâmetro 2,00 m
A8: ITEM | B8: FONTE | C8: CÓDIGO | D8: Serviço | E8: unid. | F8: QUANT. | G8: VALOR | H8: BDI | I8: Valores Parciais dos Serviços
H9: 0.23
H10: 0 | K10: Memoria de Calculo
A11: 1.0 | B11: SERVIÇOS PRELIMINARES | I11: =ROUND(SUM(I12:I18),2) -> 24020.11
A12: 1.1. | B12: CDHU | C12: 02.02.150 | D12: Locação de container tipo depósito - área mínima de 13,80 m² | E12: un x mês | F12: 1 | G12: 991.69 | H12: =G12*$H$9+G12 -> 1219.7787 | I12: =ROUND((H12*F12),2) -> 1219.78 | K12: Considerado1 mês
A13: 1.2 | B13: CDHU | C13: 02.02.130 | D13: Locação de container tipo escritório com 1 vaso sanitário, 1 lavatório e 1 ponto para chuveiro - área mínima de 13,80 m² | E13: UNMES | F13: 1 | G13: 1562.38 | H13: =G13*$H$9+G13 -> 1921.7274 | I13: =ROUND((H13*F13),2) -> 1921.73 | K13: Considerado 1 mês
A14: 1.3 | B14: SINAPI | C14: 98462 | D14: ESTRUTURA DE MADEIRA PROVISÓRIA PARA SUPORTE DE CAIXA DÁGUA ELEVADA DE 3000 LITROS. AF_03/2024 | E14: un | F14: 1 | G14: 10859.41 | H14: =G14*$H$9+G14 -> 13357.074 | I14: =ROUND((H14*F14),2) -> 13357.07 | K14: Considerado 1 unidade
A15: 1.4 | B15: SINAPI | C15: 102610 | D15: CAIXA D´ÁGUA EM POLIETILENO, 3000 LITROS - FORNECIMENTO E INSTALAÇÃO. AF_06/2021 | E15: un | F15: 1 | G15: 2293.56 | H15: =G15*$H$9+G15 -> 2821.0788 | I15: =ROUND((H15*F15),2) -> 2821.08 | K15: Considerado 1 unidade
A16: 1.5 | B16: PMSP | C16: 1005001 | D16: Fechamento de área com tapume de madeira compensada (H=2,00m), incluindo montagem e desmontagem. | E16: M2 | F16: 25 | G16: 87.46 | H16: =G16*$H$9+G16 -> 107.5758 | I16: =ROUND((H16*F16),2) -> 2689.4 | K16: entorno da área do reservatório
A17: 1.6 | B17: PMSP | C17: 17045001 | D17: ANDAIMES METÁLICOS - FORNECIMENTO | E17: M3xMÊS | F17: 100 | G17: 10.42 | H17: =G17*$H$9+G17 -> 12.8166 | I17: =ROUND((H17*F17),2) -> 1281.66 | K17: Considerado 1 mês
A18: 1.7 | B18: PMSP | C18: 17045002 | D18: ANDAIMES METÁLICOS - MONTAGEM E DESMONTAGEM | E18: M3 | F18: 100 | G18: 5.93 | H18: =G18*$H$9+G18 -> 7.2939 | I18: =ROUND((H18*F18),2) -> 729.39 | K18: Considerado 1 mês
A20: 2.0 | B20: LIMPEZA INICIAL E INSPEÇÃO | I20: =ROUND(SUM(I21),2) -> 2565.27
A21: 2.1 | B21: PMSP | C21: 17004012 | D21: Hidrojateamento de alta pressão em superfícies de concreto (interno e externo) para remoção de limo. LIMPEZA E LAVAGEM DE PAREDE POR HIDROJATEAMENTO, SEM REJUNTAMENTO | E21: M² | F21: 244.5 | G21: 8.53 | H21: =G21*$H$9+G21 -> 10.4919 | I21: =ROUND((H21*F21),2) -> 2565.27 | K21: Limpeza completa das superfícies internas e externas do reservatório para remoção de incrustações, limo, sujeiras e preparação para inspeção e recuperação estrutural. (12,50x3,14x3,00)x2 + 3,00+6,00 (fundo e tampa) =244,50 m²
A23: 3.0 | B23: RECUPERAÇÃO ESTRUTURAL E TRATAMENTO DE TRINCAS | I23: =ROUND(SUM(I24:I31),2) -> 24133.56
A24: 3.2.1 | B24: PMSP INFRA | C24: 10-003-000 | D24: Apicoamento de superfícies de concreto (com equipamento pneumático) | E24: M2 | F24: 117.75 | G24: 43.67 | H24: =G24*$H$9+G24 -> 53.7141 | I24: =ROUND((H24*F24),2) -> 6324.84 | K24: áreas deterioradas estimadas em levantamento visual
A25: 3.2.2 | B25: PMSP EDIF | C25: 03-040-024 | D25: Lixamento mecânico em superfícies de concreto | E25: M2 | F25: 117.75 | G25: 9.84 | H25: =G25*$H$9+G25 -> 12.1032 | I25: =ROUND((H25*F25),2) -> 1425.15 | K25: preparação das áreas recuperadas
A26: 3.2.3 | B26: PMSP INFRA | C26: 10-005-000 | D26: Jateamento para limpeza de ferragens e superfícies de concreto | E26: M2 | F26: 12 | G26: 138.16 | H26: =G26*$H$9+G26 -> 169.9368 | I26: =ROUND((H26*F26),2) -> 2039.24 | K26: estimativa
A27: 3.3.1 | B27: SINAPI | C27: 92917 | D27: Armação de estruturas diversas de concreto armado, exceto vigas, pilares, lajes e fundações, utilizando aço ca-50 de 8,0 mm - montagem. Af_06/2022 | E27: KG | F27: 98 | G27: 13.28 | H27: =G27*$H$9+G27 -> 16.3344 | I27: =ROUND((H27*F27),2) -> 1600.77 | K27: Estimativa de recuperação
A28: 3.3.2 | B28: FDE | C28: 03.02.014 | D28: Ancoragem de barras de aco com adesivo estrutural resina base epoxi | E28: unid. | F28: 10 | G28: 169.97 | H28: =G28*$H$9+G28 -> 209.0631 | I28: =ROUND((H28*F28),2) -> 2090.63 | K28: Estimativa conforme vistoria visual
A29: 3.3.3 | B29: FDE | C29: 15.01.035 | D29: Fundo anti-oxidante em estruturas | E29: m² | F29: 12 | G29: 23.76 | H29: =G29*$H$9+G29 -> 29.2248 | I29: =ROUND((H29*F29),2) -> 350.7 | K29: Estimativa conforme vistoria visual
A30: 3.4.1 | B30: CDHU | C30: 11.20.120 | D30: Reparo superficial com argamassa polimérica (tixotrópica), bicomponente | E30: m³ | F30: 0.59 | G30: 11395.41 | H30: =G30*$H$9+G30 -> 14016.354 | I30: =ROUND((H30*F30),2) -> 8269.65 | K30: área interna 117,75 m², recuperação estimada 25%, espessura 0,02 m = 0,59 m³
A31: 3.5.1 | B31: PMSP EDIF | C31: 1001007 | D31: REMOÇÃO DE ENTULHO COM CAÇAMBA METÁLICA, INCLUSIVE CARGA MANUAL E DESCARGA EM BOTA-FORA | E31: M3 | F31: 10 | G31: 165.25 | H31: =G31*$H$9+G31 -> 203.2575 | I31: =ROUND((H31*F31),2) -> 2032.58 | K31: estimativa considerando remoção de concreto deteriorado
A33: 4.0 | B33: ADEQUAÇÃO DA SERRALHERIA | I33: =ROUND(SUM(I34:I39),2) -> 12209.27
A34: 4.1 | B34: PMSP | C34: 17060102 | D34: RETIRADA DE GRADIL E GUARDA-CORPO | E34: M² | F34: 16 | G34: 46.3 | H34: =G34*$H$9+G34 -> 56.949 | I34: =ROUND((H34*F34),2) -> 911.18 | K34: No topo do reservatório e da escada.
A35: 4.2 | B35: CDHU | C35: 04.09.120 | D35: Retirada de escada de marinheiro com ou sem guarda-corpo | E35: M | F35: 25 | G35: 39.55 | H35: =G35*$H$9+G35 -> 48.6465 | I35: =ROUND((H35*F35),2) -> 1216.16 | K35: interno e externo
A36: 4.3 | B36: PMSP EDIF | C36: 8060001 | D36: RETIRADA DE ESQUADRIAS METÁLICAS EM GERAL, PORTAS OU CAIXILHOS | E36: m² | F36: 1.72 | G36: 38.68 | H36: =G36*$H$9+G36 -> 47.5764 | I36: =ROUND((H36*F36),2) -> 81.83 | K36: 1 de 0,80x0,80 e 1 de 1,50x0,80
A37: 4.4 | B37: PMSP EDIF | C37: 17005051 | D37: DP.02 - ESCADA MARINHEIRO DE FERRO GALVANIZADO COM GUARDA CORPO | E37: m | F37: 25 | G37: 214.97 | H37: =G37*$H$9+G37 -> 264.4131 | I37: =ROUND((H37*F37),2) -> 6610.33 | K37: altura interna e externa, Altura aproximada considerando acesso externo e interno ao reservatório.
A38: 4.5 | B38: PMSP | C38: 17005053 | D38: DP.03 - COMPLEMENTOS PARA ESCADA MARINHEIRO DE FERRO PERFILADO, INCLUI os acessórios de segurança e fixação — como guarda-corpos, suportes, rodapés e plataformas — essenciais para instalação conforme as normas NR-18 e NR-35 | E38: M | F38: 16 | G38: 118.53 | H38: =G38*$H$9+G38 -> 145.7919 | I38: =ROUND((H38*F38),2) -> 2332.67 | K38: guarda corpos no topo da caixa e demais acessórios necessários para a segurança.
A39: 4.6 | B39: PMSP | C39: 8003020 | D39: TAMPA DE ALÇAPÃO EM FERRO PERFILADO COM CHAPA | E39: M² | F39: 1.72 | G39: 499.67 | H39: =G39*$H$9+G39 -> 614.5941 | I39: =ROUND((H39*F39),2) -> 1057.1 | K39: acesso ao interno do reservatório e acesso a casa de máquina
A41: 5.0 | B41: PINTURA EXTERNA | I41: =ROUND(SUM(I42:I43),2) -> 7318.16
A42: 5.2 | B42: FDE | C42: 16.48.009 | D42: Aplicacao pintura imperm duas demaos verniz epoxi bicomponente | E42: m² | F42: 117.75 | G42: 62.15 | H42: =G42 -> 62.15 | I42: =F42*H42 -> 7318.1625 | K42: Área lateral externa = π × D × h = 3,14x3,00x12,50
A44: 6.0 | B44: IMPERMEABILIZAÇÃO INTERNA | I44: =ROUND(SUM(I45),2) -> 10261.68
A45: 6.1 | B45: FDE | C45: 11.03.006 | D45: Impermeabilizaçao reserv.elev com argamassa polimerica aplicaçao 2 demãos semiflexivel + 4 demãos flexivel inclus.tela estruturante | E45: m² | F45: 126.75 | G45: 80.96 | H45: =G45 -> 80.96 | I45: =F45*H45 -> 10261.68 | K45: Área interna correspondente ao piso e às paredes do reservatório em contato direto com a água, obtida por levantamento geométrico
A47: 7.0 | B47: LIMPEZA FINAL E ENTREGA | I47: =ROUND(SUM(I48),2) -> 322.75
A48: 7.1 | B48: PMSP EDIF | C48: 17004001 | D48: Limpeza geral da obra | E48: M2 | F48: 25 | G48: 12.91 | H48: =G48*$H$7+G48 -> 12.91 | I48: =F48*H48 -> 322.75 | K48: área aproximada no envoltório do reservatório.
A50: VALOR GLOBAL DOS SERVIÇOS | I50: =I47+I44+I41+I33+I23+I20+I11 -> 80830.8
D52: Observação: Os quantitativos relativos à recuperação estrutural, tratamento de fissuras e substituição de elementos metálicos foram estimados com base em inspeção visual preliminar, podendo sofrer variações localizadas durante a execução, conforme condições efetivamente verificadas após a limpeza completa das superfícies, observadas as regras contratuais e os limites legais aplicáveis.
H53: Sec Educação – DOE 27 de Agosto de 2026
H54: ANDRÉA CRUZ SANFINS
H55: CREA. 5060178720

Sheet 10_BENEDITO_DELFORNO
D1: OBJETO:Contratação de empresa especializada para execução de serviços de recuperação estrutural, impermeabilização, pintura, adequação dos dispositivos de acesso e segurança e demais intervenções necessárias em reservatórios de água em concreto e metálicos, com fornecimento de materiais, mão de obra, equipamentos e ferramentas em escolas públicas.
D4: CDHU 05/2026 SINAPI 07/2026 PMSP 01/2026 FDE 07/2026
C6: 1.0 | D6: CEMEI Benedicto Delforno - Rua Antônio Lázaro Pupo, 200 - Vila Real, Itatiba - SP, 13257-654, Coluna Altura = 12,00 m Diâmetro = 2,00 m / Taça Altura = 2,60 m Diâmetro = 3,00 m / Tampa e fundo Diâmetro = 3,00 m
A8: ITEM | B8: FONTE | C8: CÓDIGO | D8: Serviço | E8: unid. | F8: QUANT. | G8: VALOR | H8: BDI | I8: Valores Parciais dos Serviços
H9: 0.23
H10: 0 | K10: Memoria de Calculo
A11: 1.0 | B11: SERVIÇOS PRELIMINARES | I11: =ROUND(SUM(I12:I18),2) -> 24020.11
A12: 1.1. | B12: CDHU | C12: 02.02.150 | D12: Locação de container tipo depósito - área mínima de 13,80 m² | E12: un x mês | F12: 1 | G12: 991.69 | H12: =G12*$H$9+G12 -> 1219.7787 | I12: =ROUND((H12*F12),2) -> 1219.78 | K12: Considerado1 mês
A13: 1.2 | B13: CDHU | C13: 02.02.130 | D13: Locação de container tipo escritório com 1 vaso sanitário, 1 lavatório e 1 ponto para chuveiro - área mínima de 13,80 m² | E13: UNMES | F13: 1 | G13: 1562.38 | H13: =G13*$H$9+G13 -> 1921.7274 | I13: =ROUND((H13*F13),2) -> 1921.73 | K13: Considerado 1 mês
A14: 1.3 | B14: SINAPI | C14: 98462 | D14: ESTRUTURA DE MADEIRA PROVISÓRIA PARA SUPORTE DE CAIXA DÁGUA ELEVADA DE 3000 LITROS. AF_03/2024 | E14: un | F14: 1 | G14: 10859.41 | H14: =G14*$H$9+G14 -> 13357.074 | I14: =ROUND((H14*F14),2) -> 13357.07 | K14: Considerado 1 unidade
A15: 1.4 | B15: SINAPI | C15: 102610 | D15: CAIXA D´ÁGUA EM POLIETILENO, 3000 LITROS - FORNECIMENTO E INSTALAÇÃO. AF_06/2021 | E15: un | F15: 1 | G15: 2293.56 | H15: =G15*$H$9+G15 -> 2821.0788 | I15: =ROUND((H15*F15),2) -> 2821.08 | K15: Considerado 1 unidade
A16: 1.5 | B16: PMSP | C16: 1005001 | D16: Fechamento de área com tapume de madeira compensada (H=2,00m), incluindo montagem e desmontagem. | E16: M2 | F16: 25 | G16: 87.46 | H16: =G16*$H$9+G16 -> 107.5758 | I16: =ROUND((H16*F16),2) -> 2689.4 | K16: entorno da área do reservatório
A17: 1.6 | B17: PMSP | C17: 17045001 | D17: ANDAIMES METÁLICOS - FORNECIMENTO | E17: M3xMÊS | F17: 100 | G17: 10.42 | H17: =G17*$H$9+G17 -> 12.8166 | I17: =ROUND((H17*F17),2) -> 1281.66 | K17: Considerado 1 mês
A18: 1.7 | B18: PMSP | C18: 17045002 | D18: ANDAIMES METÁLICOS - MONTAGEM E DESMONTAGEM | E18: M3 | F18: 100 | G18: 5.93 | H18: =G18*$H$9+G18 -> 7.2939 | I18: =ROUND((H18*F18),2) -> 729.39 | K18: Considerado 1 mês
A20: 2.0 | B20: LIMPEZA, ESVAZIAMENTO E INSPEÇÃO DO RESERVATÓRIO | I20: =ROUND(SUM(I21),2) -> 1601.9
A21: 2.1 | B21: PMSP – INFRA | C21: 10017000 | D21: HIDROJATEAMENTO DE ALTA PRESSÃO PARA LIMPEZA DE SUPERFÍCIES | E21: M² | F21: 152.68 | G21: 8.53 | H21: =G21*$H$9+G21 -> 10.4919 | I21: =ROUND((H21*F21),2) -> 1601.9 | K21: Limpeza completa das superfícies internas e externas do reservatório para remoção de incrustações, sujidades, depósitos aderidos e demais contaminantes, visando à inspeção técnica e à preparação das superfícies para recuperação estrutural e aplicação do sistema de revestimento. Tampa) = 152,68m²
A23: 3.0 | B23: RECUPERAÇÃO DA ESTRUTURA METÁLICA | I23: =ROUND(SUM(I25:I31),2) -> 4645.27
A24: 3.1 | D24: Remoção da pintura deteriorada
A25: 3.1.1 | B25: CDHU | C25: 03.10.100 | D25: Remoção de pintura em superfícies de madeira e/ou metálicas com lixamento | E25: M2 | F25: 12 | G25: 9.84 | H25: =G25*$H$9+G25 -> 12.1032 | I25: =ROUND((H25*F25),2) -> 145.24 | K25: preparação das áreas recuperadas
A27: 3.2 | D27: Recuperação da chapa metálica
A28: 3.2.1 | B28: CDHU | C28: 24.20.200 | D28: Chapa de ferro nº 14, inclusive soldagem | E28: M² | F28: 12 | G28: 285.42 | H28: =G28*$H$9+G28 -> 351.0666 | I28: =ROUND((H28*F28),2) -> 4212.8 | K28: Conforme as diretrizes da planilha estadual, este item já remunera o fornecimento da chapa metálica de 2,0 mm, a mão de obra qualificada, os consumíveis e os equipamentos necessários para a execução dos cordões de solda a arco (como eletrodo revestido SMAW) ou reparos em geral. [1]
A30: 3.3 | D30: Tratamento da corrosão
A31: 3.3.1 | B31: CDHU | C31: 33.01.350 | D31: Preparo de base para superfície metálica com fundo antioxidante | E31: M² | F31: 12 | G31: 19.46 | H31: =G31*$H$9+G31 -> 23.9358 | I31: =ROUND((H31*F31),2) -> 287.23 | K31: Aplicação localizada nas áreas submetidas à recuperação metálica e tratamento da corrosão
A34: 4.0 | D34: SISTEMA DE PROTEÇÃO ANTICORROSIVA INTERNA
D35: Preparação da superfície metálica conforme especificação do fabricante do sistema de revestimento. Sistema de revestimento interno para contato com água potável
A36: 4.1 | B36: CDHU | C36: 03.10.100 | D36: Remoção de pintura em superfícies de madeira e/ou metálicas com lixamento | E36: m² | F36: 38.64 | G36: 10.14 | H36: =G36*$H$9+G36 -> 12.4722 | I36: =ROUND((H36*F36),2) -> 481.93 | K36: Internamente existe apenas a taça. Costado = 24,50 m² Tampa = 7,07 m² Fundo = 7,07 m² Total = 38,64 m²
A37: 4.2 | B37: CDHU | C37: 33.07.130 | D37: Pintura epóxi bicomponente em estruturas metálicas | E37: kg | F37: 1790.43 | G37: 4.26 | H37: =G37*$H$9+G37 -> 5.2398 | I37: =ROUND((H37*F37),2) -> 9381.5 | K37: revestimento epóxi bicomponente atóxico para contato com água potável, com comprovação de atendimento à ABNT NBR 12170. Aplicação sobre superfície previamente preparada e tratada com fundo anticorrosivo. Peso total: área (3.00x3,14x12,00 m altura) = 114,04 m² x 15,70 kg/m² Total • Coluna = 75,40 • Taça = 24,50 • Tampa = 7,07 • Fundo = 7,07 Total = 114,04 m²x 15,70 kg/m²= 1.790,43 kg
A40: 5.0 | B40: ADEQUAÇÃO DA SERRALHERIA | I40: =ROUND(SUM(I41:I43),2) -> 3763.18
A41: 5.1 | B41: PMSP EDIF | C41: 8060001 | D41: RETIRADA DE ESQUADRIAS METÁLICAS EM GERAL, PORTAS OU CAIXILHOS | E41: m² | F41: 1.72 | G41: 38.68 | H41: =G41*$H$9+G41 -> 47.5764 | I41: =ROUND((H41*F41),2) -> 81.83 | K41: 1 de 0,80x0,80 e 1 de 1,50x0,80
A42: 5.2 | B42: PMSP | C42: 17005053 | D42: DP.03 - COMPLEMENTOS PARA ESCADA MARINHEIRO DE FERRO PERFILADO, INCLUI os acessórios de segurança e fixação — como guarda-corpos, suportes, rodapés e plataformas — essenciais para instalação conforme as normas NR-18 e NR-35 | E42: M | F42: 18 | G42: 118.53 | H42: =G42*$H$9+G42 -> 145.7919 | I42: =ROUND((H42*F42),2) -> 2624.25 | K42: guarda corpos no topo da caixa e demais acessórios necessários para a segurança.
A43: 5.3 | B43: PMSP | C43: 8003020 | D43: TAMPA DE ALÇAPÃO EM FERRO PERFILADO COM CHAPA | E43: M² | F43: 1.72 | G43: 499.67 | H43: =G43*$H$9+G43 -> 614.5941 | I43: =ROUND((H43*F43),2) -> 1057.1 | K43: acesso ao interno do reservatório e acesso a casa de máquina
A45: 6.0 | B45: PINTURA EXTERNA | I45: =ROUND(SUM(I46),2) -> 15185.66
A46: 6.1 | B46: CDHU | C46: 33.07.130 | D46: Pintura epóxi bicomponente em estruturas metálicas | E46: kg | F46: 3564.71 | G46: 4.26 | H46: =G46 -> 4.26 | I46: =F46*H46 -> 15185.665 | K46: Aplicação sobre superfície previamente preparada e tratada com fundo anticorrosivo. Peso total: área (3.00x3,14x12,00 m altura) = 114,04 m² x 15,70 kg/m² = 1.774,28 kg Área Externa Total • Coluna = 75,40 • Taça = 24,50 • Tampa = 7,07 • Fundo = 7,07 Total = 114,04 m²x 15,70 kg/m²= 1.790,43 kg
A48: 7.0 | B48: LIMPEZA FINAL E ENTREGA | I48: =ROUND(SUM(I49),2) -> 322.75
A49: 7.1 | B49: PMSP EDIF | C49: 17004001 | D49: Limpeza geral da obra | E49: M2 | F49: 25 | G49: 12.91 | H49: =G49*$H$7+G49 -> 12.91 | I49: =F49*H49 -> 322.75 | K49: área aproximada no envoltório do reservatório.
A51: VALOR GLOBAL DOS SERVIÇOS | I51: =I48+I44+I45+I40+I23+I20+I11 -> 49538.87
D53: Observação: Os quantitativos relativos à recuperação estrutural, tratamento de fissuras e substituição de elementos metálicos foram estimados com base em inspeção visual preliminar, podendo sofrer variações localizadas durante a execução, conforme condições efetivamente verificadas após a limpeza completa das superfícies, observadas as regras contratuais e os limites legais aplicáveis.
H54: Sec Educação – DOE 27 de Agosto de 2026
H55: ANDRÉA CRUZ SANFINS
H56: CREA. 5060178720

Sheet 11_ISABEL_TULON
D1: OBJETO:Contratação de empresa especializada para execução de serviços de recuperação estrutural, impermeabilização, pintura, adequação dos dispositivos de acesso e segurança e demais intervenções necessárias em reservatórios de água em concreto e metálicos, com fornecimento de materiais, mão de obra, equipamentos e ferramentas em escolas públicas.
D4: CDHU 05/2026 SINAPI 07/2026 PMSP 01/2026 FDE 07/2026
C6: 1.0 | D6: CEMEI Isabel Bizarro Tulon - Av. Alcides Baldi, S/N - Nova Esperança, Itatiba - SP, 13258-010, Coluna Altura = 12,00 m Diâmetro = 2,00 m / Taça Altura = 2,60 m Diâmetro = 3,00 m / Tampa e fundo Diâmetro = 3,00 m
A8: ITEM | B8: FONTE | C8: CÓDIGO | D8: Serviço | E8: unid. | F8: QUANT. | G8: VALOR | H8: BDI | I8: Valores Parciais dos Serviços
H9: 0.23
H10: 0 | K10: Memoria de Calculo
A11: 1.0 | B11: SERVIÇOS PRELIMINARES | I11: =ROUND(SUM(I12:I18),2) -> 24020.11
A12: 1.1. | B12: CDHU | C12: 02.02.150 | D12: Locação de container tipo depósito - área mínima de 13,80 m² | E12: un x mês | F12: 1 | G12: 991.69 | H12: =G12*$H$9+G12 -> 1219.7787 | I12: =ROUND((H12*F12),2) -> 1219.78 | K12: Considerado1 mês
A13: 1.2 | B13: CDHU | C13: 02.02.130 | D13: Locação de container tipo escritório com 1 vaso sanitário, 1 lavatório e 1 ponto para chuveiro - área mínima de 13,80 m² | E13: UNMES | F13: 1 | G13: 1562.38 | H13: =G13*$H$9+G13 -> 1921.7274 | I13: =ROUND((H13*F13),2) -> 1921.73 | K13: Considerado 1 mês
A14: 1.3 | B14: SINAPI | C14: 98462 | D14: ESTRUTURA DE MADEIRA PROVISÓRIA PARA SUPORTE DE CAIXA DÁGUA ELEVADA DE 3000 LITROS. AF_03/2024 | E14: un | F14: 1 | G14: 10859.41 | H14: =G14*$H$9+G14 -> 13357.074 | I14: =ROUND((H14*F14),2) -> 13357.07 | K14: Considerado 1 unidade
A15: 1.4 | B15: SINAPI | C15: 102610 | D15: CAIXA D´ÁGUA EM POLIETILENO, 3000 LITROS - FORNECIMENTO E INSTALAÇÃO. AF_06/2021 | E15: un | F15: 1 | G15: 2293.56 | H15: =G15*$H$9+G15 -> 2821.0788 | I15: =ROUND((H15*F15),2) -> 2821.08 | K15: Considerado 1 unidade
A16: 1.5 | B16: PMSP | C16: 1005001 | D16: Fechamento de área com tapume de madeira compensada (H=2,00m), incluindo montagem e desmontagem. | E16: M2 | F16: 25 | G16: 87.46 | H16: =G16*$H$9+G16 -> 107.5758 | I16: =ROUND((H16*F16),2) -> 2689.4 | K16: entorno da área do reservatório
A17: 1.6 | B17: PMSP | C17: 17045001 | D17: ANDAIMES METÁLICOS - FORNECIMENTO | E17: M3xMÊS | F17: 100 | G17: 10.42 | H17: =G17*$H$9+G17 -> 12.8166 | I17: =ROUND((H17*F17),2) -> 1281.66 | K17: Considerado 1 mês
A18: 1.7 | B18: PMSP | C18: 17045002 | D18: ANDAIMES METÁLICOS - MONTAGEM E DESMONTAGEM | E18: M3 | F18: 100 | G18: 5.93 | H18: =G18*$H$9+G18 -> 7.2939 | I18: =ROUND((H18*F18),2) -> 729.39 | K18: Considerado 1 mês
A20: 2.0 | B20: LIMPEZA, ESVAZIAMENTO E INSPEÇÃO DO RESERVATÓRIO | I20: =ROUND(SUM(I21),2) -> 1601.9
A21: 2.1 | B21: PMSP – INFRA | C21: 10017000 | D21: HIDROJATEAMENTO DE ALTA PRESSÃO PARA LIMPEZA DE SUPERFÍCIES | E21: M² | F21: 152.68 | G21: 8.53 | H21: =G21*$H$9+G21 -> 10.4919 | I21: =ROUND((H21*F21),2) -> 1601.9 | K21: Limpeza completa das superfícies internas e externas do reservatório para remoção de incrustações, sujidades, depósitos aderidos e demais contaminantes, visando à inspeção técnica e à preparação das superfícies para recuperação estrutural e aplicação do sistema de revestimento. Tampa) = 152,68m²
A23: 3.0 | B23: RECUPERAÇÃO DA ESTRUTURA METÁLICA | I23: =ROUND(SUM(I25:I31),2) -> 4645.27
A24: 3.1 | D24: Remoção da pintura deteriorada
A25: 3.1.1 | B25: CDHU | C25: 03.10.100 | D25: Remoção de pintura em superfícies de madeira e/ou metálicas com lixamento | E25: M2 | F25: 12 | G25: 9.84 | H25: =G25*$H$9+G25 -> 12.1032 | I25: =ROUND((H25*F25),2) -> 145.24 | K25: preparação das áreas recuperadas
A27: 3.2 | D27: Recuperação da chapa metálica
A28: 3.2.1 | B28: CDHU | C28: 24.20.200 | D28: Chapa de ferro nº 14, inclusive soldagem | E28: M² | F28: 12 | G28: 285.42 | H28: =G28*$H$9+G28 -> 351.0666 | I28: =ROUND((H28*F28),2) -> 4212.8 | K28: Conforme as diretrizes da planilha estadual, este item já remunera o fornecimento da chapa metálica de 2,0 mm, a mão de obra qualificada, os consumíveis e os equipamentos necessários para a execução dos cordões de solda a arco (como eletrodo revestido SMAW) ou reparos em geral. [1]
A30: 3.3 | D30: Tratamento da corrosão
A31: 3.3.1 | B31: CDHU | C31: 33.01.350 | D31: Preparo de base para superfície metálica com fundo antioxidante | E31: M² | F31: 12 | G31: 19.46 | H31: =G31*$H$9+G31 -> 23.9358 | I31: =ROUND((H31*F31),2) -> 287.23 | K31: Aplicação localizada nas áreas submetidas à recuperação metálica e tratamento da corrosão
A34: 4.0 | D34: SISTEMA DE PROTEÇÃO ANTICORROSIVA INTERNA
D35: Preparação da superfície metálica conforme especificação do fabricante do sistema de revestimento. Sistema de revestimento interno para contato com água potável
A36: 4.1 | B36: CDHU | C36: 03.10.100 | D36: Remoção de pintura em superfícies de madeira e/ou metálicas com lixamento | E36: m² | F36: 38.64 | G36: 10.14 | H36: =G36*$H$9+G36 -> 12.4722 | I36: =ROUND((H36*F36),2) -> 481.93 | K36: Internamente existe apenas a taça. Costado = 24,50 m² Tampa = 7,07 m² Fundo = 7,07 m² Total = 38,64 m²
A37: 4.2 | B37: CDHU | C37: 33.07.130 | D37: Pintura epóxi bicomponente em estruturas metálicas | E37: kg | F37: 1790.43 | G37: 4.26 | H37: =G37*$H$9+G37 -> 5.2398 | I37: =ROUND((H37*F37),2) -> 9381.5 | K37: revestimento epóxi bicomponente atóxico para contato com água potável, com comprovação de atendimento à ABNT NBR 12170. Aplicação sobre superfície previamente preparada e tratada com fundo anticorrosivo. Peso total: área (3.00x3,14x12,00 m altura) = 114,04 m² x 15,70 kg/m² Total • Coluna = 75,40 • Taça = 24,50 • Tampa = 7,07 • Fundo = 7,07 Total = 114,04 m²x 15,70 kg/m²= 1.790,43 kg
A40: 5.0 | B40: ADEQUAÇÃO DA SERRALHERIA | I40: =ROUND(SUM(I41:I43),2) -> 3763.18
A41: 5.1 | B41: PMSP EDIF | C41: 8060001 | D41: RETIRADA DE ESQUADRIAS METÁLICAS EM GERAL, PORTAS OU CAIXILHOS | E41: m² | F41: 1.72 | G41: 38.68 | H41: =G41*$H$9+G41 -> 47.5764 | I41: =ROUND((H41*F41),2) -> 81.83 | K41: 1 de 0,80x0,80 e 1 de 1,50x0,80
A42: 5.2 | B42: PMSP | C42: 17005053 | D42: DP.03 - COMPLEMENTOS PARA ESCADA MARINHEIRO DE FERRO PERFILADO, INCLUI os acessórios de segurança e fixação — como guarda-corpos, suportes, rodapés e plataformas — essenciais para instalação conforme as normas NR-18 e NR-35 | E42: M | F42: 18 | G42: 118.53 | H42: =G42*$H$9+G42 -> 145.7919 | I42: =ROUND((H42*F42),2) -> 2624.25 | K42: guarda corpos no topo da caixa e demais acessórios necessários para a segurança.
A43: 5.3 | B43: PMSP | C43: 8003020 | D43: TAMPA DE ALÇAPÃO EM FERRO PERFILADO COM CHAPA | E43: M² | F43: 1.72 | G43: 499.67 | H43: =G43*$H$9+G43 -> 614.5941 | I43: =ROUND((H43*F43),2) -> 1057.1 | K43: acesso ao interno do reservatório e acesso a casa de máquina
A45: 6.0 | B45: PINTURA EXTERNA | I45: =ROUND(SUM(I46),2) -> 15185.66
A46: 6.1 | B46: CDHU | C46: 33.07.130 | D46: Pintura epóxi bicomponente em estruturas metálicas | E46: kg | F46: 3564.71 | G46: 4.26 | H46: =G46 -> 4.26 | I46: =F46*H46 -> 15185.665 | K46: Aplicação sobre superfície previamente preparada e tratada com fundo anticorrosivo. Peso total: área (3.00x3,14x12,00 m altura) = 114,04 m² x 15,70 kg/m² = 1.774,28 kg Área Externa Total • Coluna = 75,40 • Taça = 24,50 • Tampa = 7,07 • Fundo = 7,07 Total = 114,04 m²x 15,70 kg/m²= 1.790,43 kg
A48: 7.0 | B48: LIMPEZA FINAL E ENTREGA | I48: =ROUND(SUM(I49),2) -> 322.75
A49: 7.1 | B49: PMSP EDIF | C49: 17004001 | D49: Limpeza geral da obra | E49: M2 | F49: 25 | G49: 12.91 | H49: =G49*$H$7+G49 -> 12.91 | I49: =F49*H49 -> 322.75 | K49: área aproximada no envoltório do reservatório.
A51: VALOR GLOBAL DOS SERVIÇOS | I51: =I48+I44+I45+I40+I23+I20+I11 -> 49538.87
D53: Observação: Os quantitativos relativos à recuperação estrutural, tratamento de fissuras e substituição de elementos metálicos foram estimados com base em inspeção visual preliminar, podendo sofrer variações localizadas durante a execução, conforme condições efetivamente verificadas após a limpeza completa das superfícies, observadas as regras contratuais e os limites legais aplicáveis.
H54: Sec Educação – DOE 27 de Agosto de 2026
H55: ANDRÉA CRUZ SANFINS
H56: CREA. 5060178720

Sheet 12_MARIA_HELENA
D1: OBJETO:Contratação de empresa especializada para execução de serviços de recuperação estrutural, impermeabilização, pintura, adequação dos dispositivos de acesso e segurança e demais intervenções necessárias em reservatórios de água em concreto e metálicos, com fornecimento de materiais, mão de obra, equipamentos e ferramentas em escolas públicas.
D4: CDHU 05/2026 SINAPI 07/2026 PMSP 01/2026 FDE 07/2026
C6: 1.0 | D6: CEMEI Profª Maria Helena Pensato Bianchi - R. RODRIGO RODRIGUES, 45 - Lot. Res. Terra Nova, Itatiba - SP, 13256-569
A8: ITEM | B8: FONTE | C8: CÓDIGO | D8: Serviço | E8: unid. | F8: QUANT. | G8: VALOR | H8: BDI | I8: Valores Parciais dos Serviços
H9: 0.23
H10: 0 | K10: Memoria de Calculo
A11: 1.0 | B11: SERVIÇOS PRELIMINARES | I11: =ROUND(SUM(I12:I18),2) -> 24020.11
A12: 1.1. | B12: CDHU | C12: 02.02.150 | D12: Locação de container tipo depósito - área mínima de 13,80 m² | E12: un x mês | F12: 1 | G12: 991.69 | H12: =G12*$H$9+G12 -> 1219.7787 | I12: =ROUND((H12*F12),2) -> 1219.78 | K12: Considerado1 mês
A13: 1.2 | B13: CDHU | C13: 02.02.130 | D13: Locação de container tipo escritório com 1 vaso sanitário, 1 lavatório e 1 ponto para chuveiro - área mínima de 13,80 m² | E13: UNMES | F13: 1 | G13: 1562.38 | H13: =G13*$H$9+G13 -> 1921.7274 | I13: =ROUND((H13*F13),2) -> 1921.73 | K13: Considerado 1 mês
A14: 1.3 | B14: SINAPI | C14: 98462 | D14: ESTRUTURA DE MADEIRA PROVISÓRIA PARA SUPORTE DE CAIXA DÁGUA ELEVADA DE 3000 LITROS. AF_03/2024 | E14: un | F14: 1 | G14: 10859.41 | H14: =G14*$H$9+G14 -> 13357.074 | I14: =ROUND((H14*F14),2) -> 13357.07 | K14: Considerado 1 unidade
A15: 1.4 | B15: SINAPI | C15: 102610 | D15: CAIXA D´ÁGUA EM POLIETILENO, 3000 LITROS - FORNECIMENTO E INSTALAÇÃO. AF_06/2021 | E15: un | F15: 1 | G15: 2293.56 | H15: =G15*$H$9+G15 -> 2821.0788 | I15: =ROUND((H15*F15),2) -> 2821.08 | K15: Considerado 1 unidade
A16: 1.5 | B16: PMSP | C16: 1005001 | D16: Fechamento de área com tapume de madeira compensada (H=2,00m), incluindo montagem e desmontagem. | E16: M2 | F16: 25 | G16: 87.46 | H16: =G16*$H$9+G16 -> 107.5758 | I16: =ROUND((H16*F16),2) -> 2689.4 | K16: entorno da área do reservatório
A17: 1.6 | B17: PMSP | C17: 17045001 | D17: ANDAIMES METÁLICOS - FORNECIMENTO | E17: M3xMÊS | F17: 100 | G17: 10.42 | H17: =G17*$H$9+G17 -> 12.8166 | I17: =ROUND((H17*F17),2) -> 1281.66 | K17: Considerado 1 mês
A18: 1.7 | B18: PMSP | C18: 17045002 | D18: ANDAIMES METÁLICOS - MONTAGEM E DESMONTAGEM | E18: M3 | F18: 100 | G18: 5.93 | H18: =G18*$H$9+G18 -> 7.2939 | I18: =ROUND((H18*F18),2) -> 729.39 | K18: Considerado 1 mês
A20: 2.0 | B20: LIMPEZA, ESVAZIAMENTO E INSPEÇÃO DO RESERVATÓRIO | I20: =ROUND(SUM(I21),2) -> 1601.9
A21: 2.1 | B21: PMSP – INFRA | C21: 10017000 | D21: HIDROJATEAMENTO DE ALTA PRESSÃO PARA LIMPEZA DE SUPERFÍCIES | E21: M² | F21: 152.68 | G21: 8.53 | H21: =G21*$H$9+G21 -> 10.4919 | I21: =ROUND((H21*F21),2) -> 1601.9 | K21: Limpeza completa das superfícies internas e externas do reservatório para remoção de incrustações, sujidades, depósitos aderidos e demais contaminantes, visando à inspeção técnica e à preparação das superfícies para recuperação estrutural e aplicação do sistema de revestimento. Tampa) = 152,68m²
A23: 3.0 | B23: RECUPERAÇÃO DA ESTRUTURA METÁLICA | I23: =ROUND(SUM(I25:I31),2) -> 4645.27
A24: 3.1 | D24: Remoção da pintura deteriorada
A25: 3.1.1 | B25: CDHU | C25: 03.10.100 | D25: Remoção de pintura em superfícies de madeira e/ou metálicas com lixamento | E25: M2 | F25: 12 | G25: 9.84 | H25: =G25*$H$9+G25 -> 12.1032 | I25: =ROUND((H25*F25),2) -> 145.24 | K25: preparação das áreas recuperadas
A27: 3.2 | D27: Recuperação da chapa metálica
A28: 3.2.1 | B28: CDHU | C28: 24.20.200 | D28: Chapa de ferro nº 14, inclusive soldagem | E28: M² | F28: 12 | G28: 285.42 | H28: =G28*$H$9+G28 -> 351.0666 | I28: =ROUND((H28*F28),2) -> 4212.8 | K28: Conforme as diretrizes da planilha estadual, este item já remunera o fornecimento da chapa metálica de 2,0 mm, a mão de obra qualificada, os consumíveis e os equipamentos necessários para a execução dos cordões de solda a arco (como eletrodo revestido SMAW) ou reparos em geral. [1]
A30: 3.3 | D30: Tratamento da corrosão
A31: 3.3.1 | B31: CDHU | C31: 33.01.350 | D31: Preparo de base para superfície metálica com fundo antioxidante | E31: M² | F31: 12 | G31: 19.46 | H31: =G31*$H$9+G31 -> 23.9358 | I31: =ROUND((H31*F31),2) -> 287.23 | K31: Aplicação localizada nas áreas submetidas à recuperação metálica e tratamento da corrosão
A34: 4.0 | D34: SISTEMA DE PROTEÇÃO ANTICORROSIVA INTERNA
D35: Preparação da superfície metálica conforme especificação do fabricante do sistema de revestimento. Sistema de revestimento interno para contato com água potável
A36: 4.1 | B36: CDHU | C36: 03.10.100 | D36: Remoção de pintura em superfícies de madeira e/ou metálicas com lixamento | E36: m² | F36: 38.64 | G36: 10.14 | H36: =G36*$H$9+G36 -> 12.4722 | I36: =ROUND((H36*F36),2) -> 481.93 | K36: Internamente existe apenas a taça. Costado = 24,50 m² Tampa = 7,07 m² Fundo = 7,07 m² Total = 38,64 m²
A37: 4.2 | B37: CDHU | C37: 33.07.130 | D37: Pintura epóxi bicomponente em estruturas metálicas | E37: kg | F37: 1790.43 | G37: 4.26 | H37: =G37*$H$9+G37 -> 5.2398 | I37: =ROUND((H37*F37),2) -> 9381.5 | K37: revestimento epóxi bicomponente atóxico para contato com água potável, com comprovação de atendimento à ABNT NBR 12170. Aplicação sobre superfície previamente preparada e tratada com fundo anticorrosivo. Peso total: área (3.00x3,14x12,00 m altura) = 114,04 m² x 15,70 kg/m² Total • Coluna = 75,40 • Taça = 24,50 • Tampa = 7,07 • Fundo = 7,07 Total = 114,04 m²x 15,70 kg/m²= 1.790,43 kg
A40: 5.0 | B40: ADEQUAÇÃO DA SERRALHERIA | I40: =ROUND(SUM(I41:I43),2) -> 3763.18
A41: 5.1 | B41: PMSP EDIF | C41: 8060001 | D41: RETIRADA DE ESQUADRIAS METÁLICAS EM GERAL, PORTAS OU CAIXILHOS | E41: m² | F41: 1.72 | G41: 38.68 | H41: =G41*$H$9+G41 -> 47.5764 | I41: =ROUND((H41*F41),2) -> 81.83 | K41: 1 de 0,80x0,80 e 1 de 1,50x0,80
A42: 5.2 | B42: PMSP | C42: 17005053 | D42: DP.03 - COMPLEMENTOS PARA ESCADA MARINHEIRO DE FERRO PERFILADO, INCLUI os acessórios de segurança e fixação — como guarda-corpos, suportes, rodapés e plataformas — essenciais para instalação conforme as normas NR-18 e NR-35 | E42: M | F42: 18 | G42: 118.53 | H42: =G42*$H$9+G42 -> 145.7919 | I42: =ROUND((H42*F42),2) -> 2624.25 | K42: guarda corpos no topo da caixa e demais acessórios necessários para a segurança.
A43: 5.3 | B43: PMSP | C43: 8003020 | D43: TAMPA DE ALÇAPÃO EM FERRO PERFILADO COM CHAPA | E43: M² | F43: 1.72 | G43: 499.67 | H43: =G43*$H$9+G43 -> 614.5941 | I43: =ROUND((H43*F43),2) -> 1057.1 | K43: acesso ao interno do reservatório e acesso a casa de máquina
A45: 6.0 | B45: PINTURA EXTERNA | I45: =ROUND(SUM(I46),2) -> 15185.66
A46: 6.1 | B46: CDHU | C46: 33.07.130 | D46: Pintura epóxi bicomponente em estruturas metálicas | E46: kg | F46: 3564.71 | G46: 4.26 | H46: =G46 -> 4.26 | I46: =F46*H46 -> 15185.665 | K46: Aplicação sobre superfície previamente preparada e tratada com fundo anticorrosivo. Peso total: área (3.00x3,14x12,00 m altura) = 114,04 m² x 15,70 kg/m² = 1.774,28 kg Área Externa Total • Coluna = 75,40 • Taça = 24,50 • Tampa = 7,07 • Fundo = 7,07 Total = 114,04 m²x 15,70 kg/m²= 1.790,43 kg
A48: 7.0 | B48: LIMPEZA FINAL E ENTREGA | I48: =ROUND(SUM(I49),2) -> 322.75
A49: 7.1 | B49: PMSP EDIF | C49: 17004001 | D49: Limpeza geral da obra | E49: M2 | F49: 25 | G49: 12.91 | H49: =G49*$H$7+G49 -> 12.91 | I49: =F49*H49 -> 322.75 | K49: área aproximada no envoltório do reservatório.
A51: VALOR GLOBAL DOS SERVIÇOS | I51: =I48+I44+I45+I40+I23+I20+I11 -> 49538.87
D53: Observação: Os quantitativos relativos à recuperação estrutural, tratamento de fissuras e substituição de elementos metálicos foram estimados com base em inspeção visual preliminar, podendo sofrer variações localizadas durante a execução, conforme condições efetivamente verificadas após a limpeza completa das superfícies, observadas as regras contratuais e os limites legais aplicáveis.
H54: Sec Educação – DOE 27 de Agosto de 2026
H55: ANDRÉA CRUZ SANFINS
H56: CREA. 5060178720

Sheet 13__Hélio_Joly
D1: OBJETO:Contratação de empresa especializada para execução de serviços de recuperação estrutural, impermeabilização, pintura, adequação dos dispositivos de acesso e segurança e demais intervenções necessárias em reservatórios de água em concreto e metálicos, com fornecimento de materiais, mão de obra, equipamentos e ferramentas em escolas públicas.
D4: CDHU 05/2026 SINAPI 07/2026 PMSP 01/2026 FDE 07/2026
C6: 1.0 | D6: CEMEI Prof Hélio Gouvea Joly - Rua Roque Faccina, 527 - Parque da Colina 1, Itatiba - SP, 13254-681, Coluna Altura = 12,00 m Diâmetro = 2,00 m / Taça Altura = 2,60 m Diâmetro = 3,00 m / Tampa e fundo Diâmetro = 3,00 m
A8: ITEM | B8: FONTE | C8: CÓDIGO | D8: Serviço | E8: unid. | F8: QUANT. | G8: VALOR | H8: BDI | I8: Valores Parciais dos Serviços
H9: 0.23
H10: 0 | K10: Memoria de Calculo
A11: 1.0 | B11: SERVIÇOS PRELIMINARES | I11: =ROUND(SUM(I12:I18),2) -> 24020.11
A12: 1.1. | B12: CDHU | C12: 02.02.150 | D12: Locação de container tipo depósito - área mínima de 13,80 m² | E12: un x mês | F12: 1 | G12: 991.69 | H12: =G12*$H$9+G12 -> 1219.7787 | I12: =ROUND((H12*F12),2) -> 1219.78 | K12: Considerado1 mês
A13: 1.2 | B13: CDHU | C13: 02.02.130 | D13: Locação de container tipo escritório com 1 vaso sanitário, 1 lavatório e 1 ponto para chuveiro - área mínima de 13,80 m² | E13: UNMES | F13: 1 | G13: 1562.38 | H13: =G13*$H$9+G13 -> 1921.7274 | I13: =ROUND((H13*F13),2) -> 1921.73 | K13: Considerado 1 mês
A14: 1.3 | B14: SINAPI | C14: 98462 | D14: ESTRUTURA DE MADEIRA PROVISÓRIA PARA SUPORTE DE CAIXA DÁGUA ELEVADA DE 3000 LITROS. AF_03/2024 | E14: un | F14: 1 | G14: 10859.41 | H14: =G14*$H$9+G14 -> 13357.074 | I14: =ROUND((H14*F14),2) -> 13357.07 | K14: Considerado 1 unidade
A15: 1.4 | B15: SINAPI | C15: 102610 | D15: CAIXA D´ÁGUA EM POLIETILENO, 3000 LITROS - FORNECIMENTO E INSTALAÇÃO. AF_06/2021 | E15: un | F15: 1 | G15: 2293.56 | H15: =G15*$H$9+G15 -> 2821.0788 | I15: =ROUND((H15*F15),2) -> 2821.08 | K15: Considerado 1 unidade
A16: 1.5 | B16: PMSP | C16: 1005001 | D16: Fechamento de área com tapume de madeira compensada (H=2,00m), incluindo montagem e desmontagem. | E16: M2 | F16: 25 | G16: 87.46 | H16: =G16*$H$9+G16 -> 107.5758 | I16: =ROUND((H16*F16),2) -> 2689.4 | K16: entorno da área do reservatório
A17: 1.6 | B17: PMSP | C17: 17045001 | D17: ANDAIMES METÁLICOS - FORNECIMENTO | E17: M3xMÊS | F17: 100 | G17: 10.42 | H17: =G17*$H$9+G17 -> 12.8166 | I17: =ROUND((H17*F17),2) -> 1281.66 | K17: Considerado 1 mês
A18: 1.7 | B18: PMSP | C18: 17045002 | D18: ANDAIMES METÁLICOS - MONTAGEM E DESMONTAGEM | E18: M3 | F18: 100 | G18: 5.93 | H18: =G18*$H$9+G18 -> 7.2939 | I18: =ROUND((H18*F18),2) -> 729.39 | K18: Considerado 1 mês
A20: 2.0 | B20: LIMPEZA, ESVAZIAMENTO E INSPEÇÃO DO RESERVATÓRIO | I20: =ROUND(SUM(I21),2) -> 1601.9
A21: 2.1 | B21: PMSP – INFRA | C21: 10017000 | D21: HIDROJATEAMENTO DE ALTA PRESSÃO PARA LIMPEZA DE SUPERFÍCIES | E21: M² | F21: 152.68 | G21: 8.53 | H21: =G21*$H$9+G21 -> 10.4919 | I21: =ROUND((H21*F21),2) -> 1601.9 | K21: Limpeza completa das superfícies internas e externas do reservatório para remoção de incrustações, sujidades, depósitos aderidos e demais contaminantes, visando à inspeção técnica e à preparação das superfícies para recuperação estrutural e aplicação do sistema de revestimento. Tampa) = 152,68m²
A23: 3.0 | B23: RECUPERAÇÃO DA ESTRUTURA METÁLICA | I23: =ROUND(SUM(I25:I31),2) -> 4645.27
A24: 3.1 | D24: Remoção da pintura deteriorada
A25: 3.1.1 | B25: CDHU | C25: 03.10.100 | D25: Remoção de pintura em superfícies de madeira e/ou metálicas com lixamento | E25: M2 | F25: 12 | G25: 9.84 | H25: =G25*$H$9+G25 -> 12.1032 | I25: =ROUND((H25*F25),2) -> 145.24 | K25: preparação das áreas recuperadas
A27: 3.2 | D27: Recuperação da chapa metálica
A28: 3.2.1 | B28: CDHU | C28: 24.20.200 | D28: Chapa de ferro nº 14, inclusive soldagem | E28: M² | F28: 12 | G28: 285.42 | H28: =G28*$H$9+G28 -> 351.0666 | I28: =ROUND((H28*F28),2) -> 4212.8 | K28: Conforme as diretrizes da planilha estadual, este item já remunera o fornecimento da chapa metálica de 2,0 mm, a mão de obra qualificada, os consumíveis e os equipamentos necessários para a execução dos cordões de solda a arco (como eletrodo revestido SMAW) ou reparos em geral. [1]
A30: 3.3 | D30: Tratamento da corrosão
A31: 3.3.1 | B31: CDHU | C31: 33.01.350 | D31: Preparo de base para superfície metálica com fundo antioxidante | E31: M² | F31: 12 | G31: 19.46 | H31: =G31*$H$9+G31 -> 23.9358 | I31: =ROUND((H31*F31),2) -> 287.23 | K31: Aplicação localizada nas áreas submetidas à recuperação metálica e tratamento da corrosão
A34: 4.0 | D34: SISTEMA DE PROTEÇÃO ANTICORROSIVA INTERNA
D35: Preparação da superfície metálica conforme especificação do fabricante do sistema de revestimento. Sistema de revestimento interno para contato com água potável
A36: 4.1 | B36: CDHU | C36: 03.10.100 | D36: Remoção de pintura em superfícies de madeira e/ou metálicas com lixamento | E36: m² | F36: 38.64 | G36: 10.14 | H36: =G36*$H$9+G36 -> 12.4722 | I36: =ROUND((H36*F36),2) -> 481.93 | K36: Internamente existe apenas a taça. Costado = 24,50 m² Tampa = 7,07 m² Fundo = 7,07 m² Total = 38,64 m²
A37: 4.2 | B37: CDHU | C37: 33.07.130 | D37: Pintura epóxi bicomponente em estruturas metálicas | E37: kg | F37: 1790.43 | G37: 4.26 | H37: =G37*$H$9+G37 -> 5.2398 | I37: =ROUND((H37*F37),2) -> 9381.5 | K37: revestimento epóxi bicomponente atóxico para contato com água potável, com comprovação de atendimento à ABNT NBR 12170. Aplicação sobre superfície previamente preparada e tratada com fundo anticorrosivo. Peso total: área (3.00x3,14x12,00 m altura) = 114,04 m² x 15,70 kg/m² Total • Coluna = 75,40 • Taça = 24,50 • Tampa = 7,07 • Fundo = 7,07 Total = 114,04 m²x 15,70 kg/m²= 1.790,43 kg
A39: 5.0 | B39: ADEQUAÇÃO DA SERRALHERIA | I39: =ROUND(SUM(I40:I42),2) -> 3763.18
A40: 5.1 | B40: PMSP EDIF | C40: 8060001 | D40: RETIRADA DE ESQUADRIAS METÁLICAS EM GERAL, PORTAS OU CAIXILHOS | E40: m² | F40: 1.72 | G40: 38.68 | H40: =G40*$H$9+G40 -> 47.5764 | I40: =ROUND((H40*F40),2) -> 81.83 | K40: 1 de 0,80x0,80 e 1 de 1,50x0,80
A41: 5.2 | B41: PMSP | C41: 17005053 | D41: DP.03 - COMPLEMENTOS PARA ESCADA MARINHEIRO DE FERRO PERFILADO, INCLUI os acessórios de segurança e fixação — como guarda-corpos, suportes, rodapés e plataformas — essenciais para instalação conforme as normas NR-18 e NR-35 | E41: M | F41: 18 | G41: 118.53 | H41: =G41*$H$9+G41 -> 145.7919 | I41: =ROUND((H41*F41),2) -> 2624.25 | K41: guarda corpos no topo da caixa e demais acessórios necessários para a segurança.
A42: 5.3 | B42: PMSP | C42: 8003020 | D42: TAMPA DE ALÇAPÃO EM FERRO PERFILADO COM CHAPA | E42: M² | F42: 1.72 | G42: 499.67 | H42: =G42*$H$9+G42 -> 614.5941 | I42: =ROUND((H42*F42),2) -> 1057.1 | K42: acesso ao interno do reservatório e acesso a casa de máquina
A44: 6.0 | B44: PINTURA EXTERNA | I44: =ROUND(SUM(I45),2) -> 15185.66
A45: 6.1 | B45: CDHU | C45: 33.07.130 | D45: Pintura epóxi bicomponente em estruturas metálicas | E45: kg | F45: 3564.71 | G45: 4.26 | H45: =G45 -> 4.26 | I45: =F45*H45 -> 15185.665 | K45: Aplicação sobre superfície previamente preparada e tratada com fundo anticorrosivo. Peso total: área (3.00x3,14x12,00 m altura) = 114,04 m² x 15,70 kg/m² = 1.774,28 kg Área Externa Total • Coluna = 75,40 • Taça = 24,50 • Tampa = 7,07 • Fundo = 7,07 Total = 114,04 m²x 15,70 kg/m²= 1.790,43 kg
A47: 7.0 | B47: LIMPEZA FINAL E ENTREGA | I47: =ROUND(SUM(I48),2) -> 322.75
A48: 7.1 | B48: PMSP EDIF | C48: 17004001 | D48: Limpeza geral da obra | E48: M2 | F48: 25 | G48: 12.91 | H48: =G48*$H$7+G48 -> 12.91 | I48: =F48*H48 -> 322.75 | K48: área aproximada no envoltório do reservatório.
A50: VALOR GLOBAL DOS SERVIÇOS | I50: =I47+I43+I44+I39+I23+I20+I11 -> 49538.87
D52: Observação: Os quantitativos relativos à recuperação estrutural, tratamento de fissuras e substituição de elementos metálicos foram estimados com base em inspeção visual preliminar, podendo sofrer variações localizadas durante a execução, conforme condições efetivamente verificadas após a limpeza completa das superfícies, observadas as regras contratuais e os limites legais aplicáveis.
H53: Sec Educação – DOE 27 de Agosto de 2026
H54: ANDRÉA CRUZ SANFINS
H55: CREA. 5060178720

Sheet RESUMO_DE_VALORES
D1: OBJETO:Contratação de empresa especializada para execução de serviços de recuperação estrutural, impermeabilização, pintura, adequação dos dispositivos de acesso e segurança e demais intervenções necessárias em reservatórios de água em concreto e metálicos, com fornecimento de materiais, mão de obra, equipamentos e ferramentas em escolas públicas.
D4: CDHU 05/2026 SINAPI 07/2026 PMSP 01/2026 FDE 07/2026
B8: UNIDADE ESCOLAR | H8: VALOR
A9: 1.0 | B9: EMEB Prof.ª Mara Cabral Simões Alegre, anexo CEMEI Periquito / Creche Chavini e Castro - Rua Josefina, Fattori Padovani, S/N - Pinhal, Itatiba - SP, 13255-861 – altura 6,50m – diâmetro 3,00 m | H9: =_1_EMEB_Mara_Cabral!I50 -> 62026.14
A10: 2.0 | B10: EMEB Basílio Consoline - R. João Bernardo, 50 - Bairro da Ponte, Itatiba - SP, 13252-800, altura 8,00 metros – diâmetro 3,00 | H10: =2__EMEB_Basílio!I46 -> 62009.94
A11: 3.0 | B11: EMEB Sebastião de Camargo Pires, anexo CEMEI Joaquim Pires de Toledo - Rod. Alkindar Monteiro Junqueira, KM 32 - Bairro dos Pires, Itatiba - SP, 13252-810, altura 9,00, diâmetro 3,00metros | H11: =3_SEBASTIÃO_DE_CAMARGO_PIRRES!I50 -> 71612.55
A12: 4.0 | B12: EMEB Prof Maria Aparecida Tomazini (zona rural) CEMEI Tucano (anexa) - Estrada Municipal, Estr. Brasilio Franciscon, KM 16 - Morro Azul, Itatiba - SP, 13250-005, altura 6,00 metros diâmetro 3,00 m | H12: =4_THOMAZINE!I50 -> 58472.65
A13: 5.0 | B13: EMEB Philomena Salvia Zupardo - Praça Marechal Castelo Branco, R. Filomena Zupardo, 78, Itatiba - SP, 13256-699, altura 6,00 metros diâmetro 3,00 m | H13: =5_PHILOMENA!I50 -> 58472.65
A14: 6.0 | B14: CEMEI Pixarro - Av. Marcelo Gervásio Dian, 495 - 495, Itatiba - SP, 13255-700, altura 12,50 metros diâmetro 3,00 m | H14: =6_PIXARRO!I50 -> 83533.91
A15: 7.0 | B15: CEMEI Profª Suzelei Marli Marques Matteuzzo - R. Benedicto José Constantino, S/N - B. do Engenho, Itatiba - SP, 13255-669, altura 9,00 metros diâmetro 3,00 m | H15: =7_SUZELEI!I50 -> 68529.43
A16: 8.0 | B16: CEMEI Rosa Mazetti; R. Miguel Francisco Rossi, 147 - Nucleo Res. Porto Seguro, Itatiba - SP, 13255-655 , altura 7,00 metros diâmetro 3,00 m | H16: =8_ROSA_MAZETTI!I50 -> 61957.53
A17: 9.0 | B17: EMEB NAZARETH DE SIQUEIRA RANGEL BARBOSA - Av. Lucílio Tobias, N - Nucleo Res. Porto Seguro, Itatiba - SP, 13255-660, altura 12,50 metros diâmetro 2,00 m | H17: =9_NAZARETH!I50 -> 80830.8
A18: 10.0 | B18: CEMEI Benedicto Delforno - Rua Antônio Lázaro Pupo, 200 - Vila Real, Itatiba - SP, 13257-654, Coluna Altura = 12,00 m Diâmetro = 2,00 m / Taça Altura = 2,60 m Diâmetro = 3,00 m / Tampa e fundo Diâmetro = 3,00 m | H18: =10_BENEDITO_DELFORNO!I51 -> 49538.87
A19: 11.0 | B19: CEMEI Isabel Bizarro Tulon - Av. Alcides Baldi, S/N - Nova Esperança, Itatiba - SP, 13258-010, Coluna Altura = 12,00 m Diâmetro = 2,00 m / Taça Altura = 2,60 m Diâmetro = 3,00 m / Tampa e fundo Diâmetro = 3,00 m | H19: =11_ISABEL_TULON!I51 -> 49538.87
A20: 12.0 | B20: EMEB NAZARETH DE SIQUEIRA RANGEL BARBOSA - Av. Lucílio Tobias, N - Nucleo Res. Porto Seguro, Itatiba - SP, 13255-660, Coluna Altura = 12,00 m Diâmetro = 2,00 m / Taça Altura = 2,60 m Diâmetro = 3,00 m / Tampa e fundo Diâmetro = 3,00 m | H20: =12_MARIA_HELENA!I51 -> 49538.87
A21: 13.0 | B21: CEMEI Prof Hélio Gouvea Joly - Rua Roque Faccina, 527 - Parque da Colina 1, Itatiba - SP, 13254-681, Coluna Altura = 12,00 m Diâmetro = 2,00 m / Taça Altura = 2,60 m Diâmetro = 3,00 m / Tampa e fundo Diâmetro = 3,00 m | H21: =13__Hélio_Joly!I50 -> 49538.87
A23: VALOR GLOBAL DOS SERVIÇOS | H23: =H21+H20+H19+H18+H17+H16+H15+H14+H13+H12+H11+H10+H9 -> 805601.08
D25: Observação: Os quantitativos relativos à recuperação estrutural, tratamento de fissuras e substituição de elementos metálicos foram estimados com base em inspeção visual preliminar, podendo sofrer variações localizadas durante a execução, conforme condições efetivamente verificadas após a limpeza completa das superfícies, observadas as regras contratuais e os limites legais aplicáveis.
D32: SEC.EDUC. DEPARTAMENTO DE OBRAS ESCOLARES
D33: ANDRÉA CRUZ SANFINS
D34: Engenheira Civil
D35: CREA-SP nº 5060178720

Sheet CRONOGRAMA
B1: OBJETO:Contratação de empresa especializada para execução de serviços de recuperação estrutural, impermeabilização, pintura, adequação dos dispositivos de acesso e segurança e demais intervenções necessárias em reservatórios de água em concreto e metálicos, com fornecimento de materiais, mão de obra, equipamentos e ferramentas em escolas públicas.
B4: CDHU 05/2026 SINAPI 07/2026 PMSP 01/2026 FDE 07/2026
B6: CRONOGRAMA FÍSICO FINANCEIRO
A7: ETAPA | B7: % CONTRATO | C7: MÊS 1 | D7: MÊS 2 | E7: MÊS3 | F7: MÊS 4 | G7: MÊS 5 | H7: MÊS 6 | I7: MÊS 7
A10: Mobilização, vistoria e instalação do reservatório provisório | B10: 0.08 | C10: 0.08
A11: Serviços preliminares e preparação | B11: 0.12 | C11: 0.06 | D11: 0.06
A12: Recuperação estrutural dos reservatórios | B12: 0.25 | D12: 0.1 | E12: 0.1 | F12: 0.05
A13: Impermeabilização / recuperação dos reservatórios metálicos | B13: 0.28 | E13: 0.1 | F13: 0.1 | G13: 0.08
A14: Pintura e adequação dos dispositivos de segurança | B14: 0.17 | F14: 0.05 | G14: 0.07 | H14: 0.05
A15: Testes de estanqueidade, limpeza, desinfecção e entrega | B15: 0.1 | H15: 0.05 | I15: 0.05
A16: TOTAL MENSAL | B16: 1 | C16: 0.14 | D16: 0.16 | E16: 0.2 | F16: 0.2 | G16: 0.15 | H16: 0.1 | I16: 0.05
C17: =C16*I18 -> 112784.15 | D17: =D16*I18 -> 128896.17 | E17: =E16*I18 -> 161120.22 | F17: =F16*I18 -> 161120.22 | G17: =G16*I18 -> 120840.16 | H17: =H16*I18 -> 80560.108 | I17: =I16*I18 -> 40280.054
A18: VALOR GLOBAL DOS SERVIÇOS | I18: =RESUMO_DE_VALORES!H23 -> 805601.08
A20: A ordem de execução das unidades escolares poderá ser alterada pela fiscalização em função das necessidades da Secretaria Municipal da Educação, das condições operacionais das unidades e do planejamento da Administração, desde que respeitados o prazo contratual e as etapas previstas neste cronograma físico-financeiro.
A25: Os serviços serão executados por etapas, em unidades escolares distintas, conforme programação definida pela fiscalização, podendo ocorrer execução simultânea em mais de uma unidade quando houver disponibilidade operacional da contratada
B31: SEC.EDUC. DEPARTAMENTO DE OBRAS ESCOLARES
B32: ANDRÉA CRUZ SANFINS
B33: Engenheira Civil
B34: CREA-SP nº 5060178720
