Workbook

Sheet hab-cem-sep
A1: CIDADE | B1: HABITANTES | C1: CEMITÉRIOS | D1: SEPULTAMENTOS*
A2: AGUANIL | B2: 4490 | C2: 1 | D2: 30
A3: ALFENAS | B3: 81950 | C3: 2 | D3: 1100
A4: ALPINÓPOLIS | B4: 16672 | C4: 1 | D4: 125
A5: ALTEROSA | B5: 14253 | C5: 2 | D5: 95
A6: AREADO | B6: 14212 | C6: 2 | D6: 90
A7: BOA ESPERANÇA | B7: 41212 | C7: 1 | D7: 370
A8: CAMPO BELO | B8: 53943 | C8: 3 | D8: 400
A9: CABO VERDE | B9: 11396 | C9: 2 | D9: 60
A10: CAMACHO | B10: 2867 | C10: 1 | D10: 30
A11: CAMPO DO MEIO | B11: 11624 | C11: 1 | D11: 60
A12: CAMPOS GERAIS | B12: 21322 | C12: 2 | D12: 90
A13: CANA VERDE | B13: 11396 | C13: 1 | D13: 55
... A45: IPATINGA | B45: 235311 | C45: 3 | D45: 900
A46: TOTAL GERAL | B46: =SUM(B2:B43) -> 2078529 | C46: =SUM(C2:C45) -> 80 | D46: =SUM(D2:D45) -> 14177
A47: * A quantidade de seputamentos é aproximada.

Sheet CIMLAGO
A1: CIMLAGO | E1: PLANILHA ORÇAMENTÁRIA - SINAPI - DATA BASE JUNHO DE 2025 PUBLICADO EM 11/07/2025
A3: CÓDIGO SINAPI | B3: DESCRIÇÃO DOS SERVIÇOS | G3: Und. | H3: Qtd. | I3: Valor Médio Unitário | J3: Valor Total
B4: ESCAVAÇÕES
A5: 5678 | B5: RETROESCAVADEIRA SOBRE RODAS COM CARREGADEIRA, TRAÇÃO 4X4, POTÊNCIA LÍQ. 88 HP, CAÇAMBA CARREG. CAP. MÍN. 1 M3, CAÇAMBA RETRO CAP. 0,26 M3, PESO OPERACIONAL MÍN. 6.674 KG, PROFUNDIDADE ESCAVAÇÃO MÁX. 4,37 M - CHP DIURNO. AF_06/2014 | G5: chp | H5: =AGUANIL!H5+ALFENAS!H5+ALPINOPOLIS!H5+ALTEROSA!H5+AREADO!H5+'BOA ESPERANÇA'!H5+'CAMPO BELO'!H5+'CABO VERDE'!H5+CAMACHO!H5+'CAMPO DO MEIO'!H5+'CAMPOS GERAIS'!H5+'CANA VERDE'!H5+CANDEIAS!H5+CAPITÓLIO!H5+'CARMO DO RIO CLARO'!H5+'CONCEIÇÃO DA APARECIDA'!H5+COQUEIRAL!H5+CRISTAIS!H5+'DIVISA NOVA'!H5+'ELÓI MENDES'!H5+FAMA!H5+FORMIGA!H5+GUAPÉ!H5+ILICÍNEA!H5+JURUAIA!H5+LAVRAS!H5+MACHADO!H5+MUZAMBINHO!H5+NEPOMUCENO!H5+PARAGUAÇU!H5+PERDÕES!H5+PIMENTA!H5+'POÇO FUNDO'!H5+'RIBEIRÃO VERMELHO'!H5+'SÃO JOÃO BATISTA'!H5+'SÃO JOSÉ BARRA'!H5+SERRANIA!H5+'TRÊS PONTAS'!H5+VARGINHA!H5+COLATINA!H5+ARACRUZ!H5+'JOÃO PESSOA'!H5+LINHARES!H5+IPATINGA!H5 -> 3522.4948 | J5: =I5*H5 -> 0
A6: 93358 | B6: Escavação manual de vala com profundido menor ou igual a 1,30m. AF_02/2021 | G6: m³ | H6: =AGUANIL!H6+ALFENAS!H6+ALPINOPOLIS!H6+ALTEROSA!H6+AREADO!H6+'BOA ESPERANÇA'!H6+'CAMPO BELO'!H6+'CABO VERDE'!H6+CAMACHO!H6+'CAMPO DO MEIO'!H6+'CAMPOS GERAIS'!H6+'CANA VERDE'!H6+CANDEIAS!H6+CAPITÓLIO!H6+'CARMO DO RIO CLARO'!H6+'CONCEIÇÃO DA APARECIDA'!H6+COQUEIRAL!H6+CRISTAIS!H6+'DIVISA NOVA'!H6+'ELÓI MENDES'!H6+FAMA!H6+FORMIGA!H6+GUAPÉ!H6+ILICÍNEA!H6+JURUAIA!H6+LAVRAS!H6+MACHADO!H6+MUZAMBINHO!H6+NEPOMUCENO!H6+PARAGUAÇU!H6+PERDÕES!H6+PIMENTA!H6+'POÇO FUNDO'!H6+'RIBEIRÃO VERMELHO'!H6+'SÃO JOÃO BATISTA'!H6+'SÃO JOSÉ BARRA'!H6+SERRANIA!H6+'TRÊS PONTAS'!H6+VARGINHA!H6+COLATINA!H6+ARACRUZ!H6+'JOÃO PESSOA'!H6+LINHARES!H6+IPATINGA!H6 -> 36512.393 | J6: =I6*H6 -> 0
A7: 93382 | B7: Reaterro manual de valas, com compactador de solos de percussão. AF_08/2023 | G7: m³ | H7: =AGUANIL!H7+ALFENAS!H7+ALPINOPOLIS!H7+ALTEROSA!H7+AREADO!H7+'BOA ESPERANÇA'!H7+'CAMPO BELO'!H7+'CABO VERDE'!H7+CAMACHO!H7+'CAMPO DO MEIO'!H7+'CAMPOS GERAIS'!H7+'CANA VERDE'!H7+CANDEIAS!H7+CAPITÓLIO!H7+'CARMO DO RIO CLARO'!H7+'CONCEIÇÃO DA APARECIDA'!H7+COQUEIRAL!H7+CRISTAIS!H7+'DIVISA NOVA'!H7+'ELÓI MENDES'!H7+FAMA!H7+FORMIGA!H7+GUAPÉ!H7+ILICÍNEA!H7+JURUAIA!H7+LAVRAS!H7+MACHADO!H7+MUZAMBINHO!H7+NEPOMUCENO!H7+PARAGUAÇU!H7+PERDÕES!H7+PIMENTA!H7+'POÇO FUNDO'!H7+'RIBEIRÃO VERMELHO'!H7+'SÃO JOÃO BATISTA'!H7+'SÃO JOSÉ BARRA'!H7+SERRANIA!H7+'TRÊS PONTAS'!H7+VARGINHA!H7+COLATINA!H7+ARACRUZ!H7+'JOÃO PESSOA'!H7+LINHARES!H7+IPATINGA!H7 -> 24750.987 | J7: =I7*H7 -> 0
A8: 101616 | B8: Preparo de fundo de vala com largura menor que 1,5m (acerto de solo natural). AF_08/2020 | G8: m² | H8: =AGUANIL!H8+ALFENAS!H8+ALPINOPOLIS!H8+ALTEROSA!H8+AREADO!H8+'BOA ESPERANÇA'!H8+'CAMPO BELO'!H8+'CABO VERDE'!H8+CAMACHO!H8+'CAMPO DO MEIO'!H8+'CAMPOS GERAIS'!H8+'CANA VERDE'!H8+CANDEIAS!H8+CAPITÓLIO!H8+'CARMO DO RIO CLARO'!H8+'CONCEIÇÃO DA APARECIDA'!H8+COQUEIRAL!H8+CRISTAIS!H8+'DIVISA NOVA'!H8+'ELÓI MENDES'!H8+FAMA!H8+FORMIGA!H8+GUAPÉ!H8+ILICÍNEA!H8+JURUAIA!H8+LAVRAS!H8+MACHADO!H8+MUZAMBINHO!H8+NEPOMUCENO!H8+PARAGUAÇU!H8+PERDÕES!H8+PIMENTA!H8+'POÇO FUNDO'!H8+'RIBEIRÃO VERMELHO'!H8+'SÃO JOÃO BATISTA'!H8+'SÃO JOSÉ BARRA'!H8+SERRANIA!H8+'TRÊS PONTAS'!H8+VARGINHA!H8+COLATINA!H8+ARACRUZ!H8+'JOÃO PESSOA'!H8+LINHARES!H8+IPATINGA!H8 -> 35698.539 | J8: =I8*H8 -> 0
B9: TRANSPORTES
A10: 100981 | B10: Carga, manobra e descarga de entulho em caminhão basculante de 6m³ - Carga com escavadeira hidráulica (caçamba de 0,80 m³ / 111hp) e descarga livre. AF_07/2020 | G10: m³ | H10: =AGUANIL!H10+ALFENAS!H10+ALPINOPOLIS!H10+ALTEROSA!H10+AREADO!H10+'BOA ESPERANÇA'!H10+'CAMPO BELO'!H10+'CABO VERDE'!H10+CAMACHO!H10+'CAMPO DO MEIO'!H10+'CAMPOS GERAIS'!H10+'CANA VERDE'!H10+CANDEIAS!H10+CAPITÓLIO!H10+'CARMO DO RIO CLARO'!H10+'CONCEIÇÃO DA APARECIDA'!H10+COQUEIRAL!H10+CRISTAIS!H10+'DIVISA NOVA'!H10+'ELÓI MENDES'!H10+FAMA!H10+FORMIGA!H10+GUAPÉ!H10+ILICÍNEA!H10+JURUAIA!H10+LAVRAS!H10+MACHADO!H10+MUZAMBINHO!H10+NEPOMUCENO!H10+PARAGUAÇU!H10+PERDÕES!H10+PIMENTA!H10+'POÇO FUNDO'!H10+'RIBEIRÃO VERMELHO'!H10+'SÃO JOÃO BATISTA'!H10+'SÃO JOSÉ BARRA'!H10+SERRANIA!H10+'TRÊS PONTAS'!H10+VARGINHA!H10+COLATINA!H10+ARACRUZ!H10+'JOÃO PESSOA'!H10+LINHARES!H10+IPATINGA!H10 -> 11761.406 | J10: =I10*H10 -> 0
B11: PAISAGISMO
A12: 103946 | B12: Plantio de grama esmeralda ou são carlos ou curitibana, em placas. AF_07/2024 | G12: m² | H12: =AGUANIL!H12+ALFENAS!H12+ALPINOPOLIS!H12+ALTEROSA!H12+AREADO!H12+'BOA ESPERANÇA'!H12+'CAMPO BELO'!H12+'CABO VERDE'!H12+CAMACHO!H12+'CAMPO DO MEIO'!H12+'CAMPOS GERAIS'!H12+'CANA VERDE'!H12+CANDEIAS!H12+CAPITÓLIO!H12+'CARMO DO RIO CLARO'!H12+'CONCEIÇÃO DA APARECIDA'!H12+COQUEIRAL!H12+CRISTAIS!H12+'DIVISA NOVA'!H12+'ELÓI MENDES'!H12+FAMA!H12+FORMIGA!H12+GUAPÉ!H12+ILICÍNEA!H12+JURUAIA!H12+LAVRAS!H12+MACHADO!H12+MUZAMBINHO!H12+NEPOMUCENO!H12+PARAGUAÇU!H12+PERDÕES!H12+PIMENTA!H12+'POÇO FUNDO'!H12+'RIBEIRÃO VERMELHO'!H12+'SÃO JOÃO BATISTA'!H12+'SÃO JOSÉ BARRA'!H12+SERRANIA!H12+'TRÊS PONTAS'!H12+VARGINHA!H12+COLATINA!H12+ARACRUZ!H12+'JOÃO PESSOA'!H12+LINHARES!H12+IPATINGA!H12 -> 204087.53 | J12: =I12*H12 -> 0
A13: 98516 | B13: Plantio de palmeira com altura de muda menor ou igual a 2,0m . AF_07/2024 | G13: und | H13: =AGUANIL!H13+ALFENAS!H13+ALPINOPOLIS!H13+ALTEROSA!H13+AREADO!H13+'BOA ESPERANÇA'!H13+'CAMPO BELO'!H13+'CABO VERDE'!H13+CAMACHO!H13+'CAMPO DO MEIO'!H13+'CAMPOS GERAIS'!H13+'CANA VERDE'!H13+CANDEIAS!H13+CAPITÓLIO!H13+'CARMO DO RIO CLARO'!H13+'CONCEIÇÃO DA APARECIDA'!H13+COQUEIRAL!H13+CRISTAIS!H13+'DIVISA NOVA'!H13+'ELÓI MENDES'!H13+FAMA!H13+FORMIGA!H13+GUAPÉ!H13+ILICÍNEA!H13+JURUAIA!H13+LAVRAS!H13+MACHADO!H13+MUZAMBINHO!H13+NEPOMUCENO!H13+PARAGUAÇU!H13+PERDÕES!H13+PIMENTA!H13+'POÇO FUNDO'!H13+'RIBEIRÃO VERMELHO'!H13+'SÃO JOÃO BATISTA'!H13+'SÃO JOSÉ BARRA'!H13+SERRANIA!H13+'TRÊS PONTAS'!H13+VARGINHA!H13+COLATINA!H13+ARACRUZ!H13+'JOÃO PESSOA'!H13+LINHARES!H13+IPATINGA!H13 -> 2528 | J13: =I13*H13 -> 0
A14: 98509 | B14: Plantio de arbusto ou cerva viva. AF_07/2024 | G14: und | H14: =AGUANIL!H14+ALFENAS!H14+ALPINOPOLIS!H14+ALTEROSA!H14+AREADO!H14+'BOA ESPERANÇA'!H14+'CAMPO BELO'!H14+'CABO VERDE'!H14+CAMACHO!H14+'CAMPO DO MEIO'!H14+'CAMPOS GERAIS'!H14+'CANA VERDE'!H14+CANDEIAS!H14+CAPITÓLIO!H14+'CARMO DO RIO CLARO'!H14+'CONCEIÇÃO DA APARECIDA'!H14+COQUEIRAL!H14+CRISTAIS!H14+'DIVISA NOVA'!H14+'ELÓI MENDES'!H14+FAMA!H14+FORMIGA!H14+GUAPÉ!H14+ILICÍNEA!H14+JURUAIA!H14+LAVRAS!H14+MACHADO!H14+MUZAMBINHO!H14+NEPOMUCENO!H14+PARAGUAÇU!H14+PERDÕES!H14+PIMENTA!H14+'POÇO FUNDO'!H14+'RIBEIRÃO VERMELHO'!H14+'SÃO JOÃO BATISTA'!H14+'SÃO JOSÉ BARRA'!H14+SERRANIA!H14+'TRÊS PONTAS'!H14+VARGINHA!H14+COLATINA!H14+ARACRUZ!H14+'JOÃO PESSOA'!H14+LINHARES!H14+IPATINGA!H14 -> 2889.9999 | J14: =I14*H14 -> 0
A15: 98511 | B15: Plantio de árvore ornamental com altura de muda maior que 2,0m e menor ou igual a 4,0m. AF_07/2024 | G15: und | H15: =AGUANIL!H15+ALFENAS!H15+ALPINOPOLIS!H15+ALTEROSA!H15+AREADO!H15+'BOA ESPERANÇA'!H15+'CAMPO BELO'!H15+'CABO VERDE'!H15+CAMACHO!H15+'CAMPO DO MEIO'!H15+'CAMPOS GERAIS'!H15+'CANA VERDE'!H15+CANDEIAS!H15+CAPITÓLIO!H15+'CARMO DO RIO CLARO'!H15+'CONCEIÇÃO DA APARECIDA'!H15+COQUEIRAL!H15+CRISTAIS!H15+'DIVISA NOVA'!H15+'ELÓI MENDES'!H15+FAMA!H15+FORMIGA!H15+GUAPÉ!H15+ILICÍNEA!H15+JURUAIA!H15+LAVRAS!H15+MACHADO!H15+MUZAMBINHO!H15+NEPOMUCENO!H15+PARAGUAÇU!H15+PERDÕES!H15+PIMENTA!H15+'POÇO FUNDO'!H15+'RIBEIRÃO VERMELHO'!H15+'SÃO JOÃO BATISTA'!H15+'SÃO JOSÉ BARRA'!H15+SERRANIA!H15+'TRÊS PONTAS'!H15+VARGINHA!H15+COLATINA!H15+ARACRUZ!H15+'JOÃO PESSOA'!H15+LINHARES!H15+IPATINGA!H15 -> 2592 | J15: =I15*H15 -> 0
A16: 98505 | B16: Plantio de forração | G16: m² | H16: =AGUANIL!H16+ALFENAS!H16+ALPINOPOLIS!H16+ALTEROSA!H16+AREADO!H16+'BOA ESPERANÇA'!H16+'CAMPO BELO'!H16+'CABO VERDE'!H16+CAMACHO!H16+'CAMPO DO MEIO'!H16+'CAMPOS GERAIS'!H16+'CANA VERDE'!H16+CANDEIAS!H16+CAPITÓLIO!H16+'CARMO DO RIO CLARO'!H16+'CONCEIÇÃO DA APARECIDA'!H16+COQUEIRAL!H16+CRISTAIS!H16+'DIVISA NOVA'!H16+'ELÓI MENDES'!H16+FAMA!H16+FORMIGA!H16+GUAPÉ!H16+ILICÍNEA!H16+JURUAIA!H16+LAVRAS!H16+MACHADO!H16+MUZAMBINHO!H16+NEPOMUCENO!H16+PARAGUAÇU!H16+PERDÕES!H16+PIMENTA!H16+'POÇO FUNDO'!H16+'RIBEIRÃO VERMELHO'!H16+'SÃO JOÃO BATISTA'!H16+'SÃO JOSÉ BARRA'!H16+SERRANIA!H16+'TRÊS PONTAS'!H16+VARGINHA!H16+COLATINA!H16+ARACRUZ!H16+'JOÃO PESSOA'!H16+LINHARES!H16+IPATINGA!H16 -> 43889.631 | J16: =I16*H16 -> 0
A17: 98526 | B17: Remoção de raízes remanescentes de tronco de árvore com diâmetro maior ou igual a 0,20m e menor que 0,40m. AF_03/2024 | G17: und | H17: =AGUANIL!H17+ALFENAS!H17+ALPINOPOLIS!H17+ALTEROSA!H17+AREADO!H17+'BOA ESPERANÇA'!H17+'CAMPO BELO'!H17+'CABO VERDE'!H17+CAMACHO!H17+'CAMPO DO MEIO'!H17+'CAMPOS GERAIS'!H17+'CANA VERDE'!H17+CANDEIAS!H17+CAPITÓLIO!H17+'CARMO DO RIO CLARO'!H17+'CONCEIÇÃO DA APARECIDA'!H17+COQUEIRAL!H17+CRISTAIS!H17+'DIVISA NOVA'!H17+'ELÓI MENDES'!H17+FAMA!H17+FORMIGA!H17+GUAPÉ!H17+ILICÍNEA!H17+JURUAIA!H17+LAVRAS!H17+MACHADO!H17+MUZAMBINHO!H17+NEPOMUCENO!H17+PARAGUAÇU!H17+PERDÕES!H17+PIMENTA!H17+'POÇO FUNDO'!H17+'RIBEIRÃO VERMELHO'!H17+'SÃO JOÃO BATISTA'!H17+'SÃO JOSÉ BARRA'!H17+SERRANIA!H17+'TRÊS PONTAS'!H17+VARGINHA!H17+COLATINA!H17+ARACRUZ!H17+'JOÃO PESSOA'!H17+LINHARES!H17+IPATINGA!H17 -> 1255.9952 | J17: =I17*H17 -> 0
A18: 98527 | B18: Remoção de raízes remanescentes de tronco de árvore com diâmetro maior ou igual a 0,40m e menor que 0,60m. AF_03/2024 | G18: und | H18: =AGUANIL!H18+ALFENAS!H18+ALPINOPOLIS!H18+ALTEROSA!H18+AREADO!H18+'BOA ESPERANÇA'!H18+'CAMPO BELO'!H18+'CABO VERDE'!H18+CAMACHO!H18+'CAMPO DO MEIO'!H18+'CAMPOS GERAIS'!H18+'CANA VERDE'!H18+CANDEIAS!H18+CAPITÓLIO!H18+'CARMO DO RIO CLARO'!H18+'CONCEIÇÃO DA APARECIDA'!H18+COQUEIRAL!H18+CRISTAIS!H18+'DIVISA NOVA'!H18+'ELÓI MENDES'!H18+FAMA!H18+FORMIGA!H18+GUAPÉ!H18+ILICÍNEA!H18+JURUAIA!H18+LAVRAS!H18+MACHADO!H18+MUZAMBINHO!H18+NEPOMUCENO!H18+PARAGUAÇU!H18+PERDÕES!H18+PIMENTA!H18+'POÇO FUNDO'!H18+'RIBEIRÃO VERMELHO'!H18+'SÃO JOÃO BATISTA'!H18+'SÃO JOSÉ BARRA'!H18+SERRANIA!H18+'TRÊS PONTAS'!H18+VARGINHA!H18+COLATINA!H18+ARACRUZ!H18+'JOÃO PESSOA'!H18+LINHARES!H18+IPATINGA!H18 -> 1255.9952 | J18: =I18*H18 -> 0
A19: 98528 | B19: Remoção de raízes remanescentes de tronco de árvore com diâmetro maior ou igual a 0,60m. AF_03/2024 | G19: und | H19: =AGUANIL!H19+ALFENAS!H19+ALPINOPOLIS!H19+ALTEROSA!H19+AREADO!H19+'BOA ESPERANÇA'!H19+'CAMPO BELO'!H19+'CABO VERDE'!H19+CAMACHO!H19+'CAMPO DO MEIO'!H19+'CAMPOS GERAIS'!H19+'CANA VERDE'!H19+CANDEIAS!H19+CAPITÓLIO!H19+'CARMO DO RIO CLARO'!H19+'CONCEIÇÃO DA APARECIDA'!H19+COQUEIRAL!H19+CRISTAIS!H19+'DIVISA NOVA'!H19+'ELÓI MENDES'!H19+FAMA!H19+FORMIGA!H19+GUAPÉ!H19+ILICÍNEA!H19+JURUAIA!H19+LAVRAS!H19+MACHADO!H19+MUZAMBINHO!H19+NEPOMUCENO!H19+PARAGUAÇU!H19+PERDÕES!H19+PIMENTA!H19+'POÇO FUNDO'!H19+'RIBEIRÃO VERMELHO'!H19+'SÃO JOÃO BATISTA'!H19+'SÃO JOSÉ BARRA'!H19+SERRANIA!H19+'TRÊS PONTAS'!H19+VARGINHA!H19+COLATINA!H19+ARACRUZ!H19+'JOÃO PESSOA'!H19+LINHARES!H19+IPATINGA!H19 -> 1255.9952 | J19: =I19*H19 -> 0
A20: 98533 | B20: Poda em altura de árvore com diâmetro de tronco maior ou igual a 0,20m e menor que 0,40m. AF_03/2024 | G20: und | H20: =AGUANIL!H20+ALFENAS!H20+ALPINOPOLIS!H20+ALTEROSA!H20+AREADO!H20+'BOA ESPERANÇA'!H20+'CAMPO BELO'!H20+'CABO VERDE'!H20+CAMACHO!H20+'CAMPO DO MEIO'!H20+'CAMPOS GERAIS'!H20+'CANA VERDE'!H20+CANDEIAS!H20+CAPITÓLIO!H20+'CARMO DO RIO CLARO'!H20+'CONCEIÇÃO DA APARECIDA'!H20+COQUEIRAL!H20+CRISTAIS!H20+'DIVISA NOVA'!H20+'ELÓI MENDES'!H20+FAMA!H20+FORMIGA!H20+GUAPÉ!H20+ILICÍNEA!H20+JURUAIA!H20+LAVRAS!H20+MACHADO!H20+MUZAMBINHO!H20+NEPOMUCENO!H20+PARAGUAÇU!H20+PERDÕES!H20+PIMENTA!H20+'POÇO FUNDO'!H20+'RIBEIRÃO VERMELHO'!H20+'SÃO JOÃO BATISTA'!H20+'SÃO JOSÉ BARRA'!H20+SERRANIA!H20+'TRÊS PONTAS'!H20+VARGINHA!H20+COLATINA!H20+ARACRUZ!H20+'JOÃO PESSOA'!H20+LINHARES!H20+IPATINGA!H20 -> 1255.9952 | J20: =I20*H20 -> 0
A21: 98534 | B21: Poda em altura de árvore com diâmetro de tronco maior ou igual a 0,40m e menor que 0,60m. AF_03/2024 | G21: und | H21: =AGUANIL!H21+ALFENAS!H21+ALPINOPOLIS!H21+ALTEROSA!H21+AREADO!H21+'BOA ESPERANÇA'!H21+'CAMPO BELO'!H21+'CABO VERDE'!H21+CAMACHO!H21+'CAMPO DO MEIO'!H21+'CAMPOS GERAIS'!H21+'CANA VERDE'!H21+CANDEIAS!H21+CAPITÓLIO!H21+'CARMO DO RIO CLARO'!H21+'CONCEIÇÃO DA APARECIDA'!H21+COQUEIRAL!H21+CRISTAIS!H21+'DIVISA NOVA'!H21+'ELÓI MENDES'!H21+FAMA!H21+FORMIGA!H21+GUAPÉ!H21+ILICÍNEA!H21+JURUAIA!H21+LAVRAS!H21+MACHADO!H21+MUZAMBINHO!H21+NEPOMUCENO!H21+PARAGUAÇU!H21+PERDÕES!H21+PIMENTA!H21+'POÇO FUNDO'!H21+'RIBEIRÃO VERMELHO'!H21+'SÃO JOÃO BATISTA'!H21+'SÃO JOSÉ BARRA'!H21+SERRANIA!H21+'TRÊS PONTAS'!H21+VARGINHA!H21+COLATINA!H21+ARACRUZ!H21+'JOÃO PESSOA'!H21+LINHARES!H21+IPATINGA!H21 -> 1255.9952 | J21: =I21*H21 -> 0
A22: 98535 | B22: Poda em altura de árvore com diâmetro de tronco maior ou igual a 0,60m. AF_03/2024 | G22: und | H22: =AGUANIL!H22+ALFENAS!H22+ALPINOPOLIS!H22+ALTEROSA!H22+AREADO!H22+'BOA ESPERANÇA'!H22+'CAMPO BELO'!H22+'CABO VERDE'!H22+CAMACHO!H22+'CAMPO DO MEIO'!H22+'CAMPOS GERAIS'!H22+'CANA VERDE'!H22+CANDEIAS!H22+CAPITÓLIO!H22+'CARMO DO RIO CLARO'!H22+'CONCEIÇÃO DA APARECIDA'!H22+COQUEIRAL!H22+CRISTAIS!H22+'DIVISA NOVA'!H22+'ELÓI MENDES'!H22+FAMA!H22+FORMIGA!H22+GUAPÉ!H22+ILICÍNEA!H22+JURUAIA!H22+LAVRAS!H22+MACHADO!H22+MUZAMBINHO!H22+NEPOMUCENO!H22+PARAGUAÇU!H22+PERDÕES!H22+PIMENTA!H22+'POÇO FUNDO'!H22+'RIBEIRÃO VERMELHO'!H22+'SÃO JOÃO BATISTA'!H22+'SÃO JOSÉ BARRA'!H22+SERRANIA!H22+'TRÊS PONTAS'!H22+VARGINHA!H22+COLATINA!H22+ARACRUZ!H22+'JOÃO PESSOA'!H22+LINHARES!H22+IPATINGA!H22 -> 1255.9952 | J22: =I22*H22 -> 0
A23: 105521 | B23: Espalhamento de terra vegetal para o plantio. AF_07/2024 | G23: m² | H23: =AGUANIL!H23+ALFENAS!H23+ALPINOPOLIS!H23+ALTEROSA!H23+AREADO!H23+'BOA ESPERANÇA'!H23+'CAMPO BELO'!H23+'CABO VERDE'!H23+CAMACHO!H23+'CAMPO DO MEIO'!H23+'CAMPOS GERAIS'!H23+'CANA VERDE'!H23+CANDEIAS!H23+CAPITÓLIO!H23+'CARMO DO RIO CLARO'!H23+'CONCEIÇÃO DA APARECIDA'!H23+COQUEIRAL!H23+CRISTAIS!H23+'DIVISA NOVA'!H23+'ELÓI MENDES'!H23+FAMA!H23+FORMIGA!H23+GUAPÉ!H23+ILICÍNEA!H23+JURUAIA!H23+LAVRAS!H23+MACHADO!H23+MUZAMBINHO!H23+NEPOMUCENO!H23+PARAGUAÇU!H23+PERDÕES!H23+PIMENTA!H23+'POÇO FUNDO'!H23+'RIBEIRÃO VERMELHO'!H23+'SÃO JOÃO BATISTA'!H23+'SÃO JOSÉ BARRA'!H23+SERRANIA!H23+'TRÊS PONTAS'!H23+VARGINHA!H23+COLATINA!H23+ARACRUZ!H23+'JOÃO PESSOA'!H23+LINHARES!H23+IPATINGA!H23 -> 38889.65 | J23: =I23*H23 -> 0
B24: SERVIÇOS e FERRAMENTAS
A25: 98519 | B25: Revolvimento e limpeza manual de solo | G25: m² | H25: =AGUANIL!H25+ALFENAS!H25+ALPINOPOLIS!H25+ALTEROSA!H25+AREADO!H25+'BOA ESPERANÇA'!H25+'CAMPO BELO'!H25+'CABO VERDE'!H25+CAMACHO!H25+'CAMPO DO MEIO'!H25+'CAMPOS GERAIS'!H25+'CANA VERDE'!H25+CANDEIAS!H25+CAPITÓLIO!H25+'CARMO DO RIO CLARO'!H25+'CONCEIÇÃO DA APARECIDA'!H25+COQUEIRAL!H25+CRISTAIS!H25+'DIVISA NOVA'!H25+'ELÓI MENDES'!H25+FAMA!H25+FORMIGA!H25+GUAPÉ!H25+ILICÍNEA!H25+JURUAIA!H25+LAVRAS!H25+MACHADO!H25+MUZAMBINHO!H25+NEPOMUCENO!H25+PARAGUAÇU!H25+PERDÕES!H25+PIMENTA!H25+'POÇO FUNDO'!H25+'RIBEIRÃO VERMELHO'!H25+'SÃO JOÃO BATISTA'!H25+'SÃO JOSÉ BARRA'!H25+SERRANIA!H25+'TRÊS PONTAS'!H25+VARGINHA!H25+COLATINA!H25+ARACRUZ!H25+'JOÃO PESSOA'!H25+LINHARES!H25+IPATINGA!H25 -> 2664152.7 | J25: =I25*H25 -> 0
A26: 98525 | B26: Limpeza mecanizada de camada vegetal, vegetação e pequenas árvores (diâmetro de tronco menor que 0,20m) com trator de esteiras. AF_03/2024 | G26: m² | H26: =AGUANIL!H26+ALFENAS!H26+ALPINOPOLIS!H26+ALTEROSA!H26+AREADO!H26+'BOA ESPERANÇA'!H26+'CAMPO BELO'!H26+'CABO VERDE'!H26+CAMACHO!H26+'CAMPO DO MEIO'!H26+'CAMPOS GERAIS'!H26+'CANA VERDE'!H26+CANDEIAS!H26+CAPITÓLIO!H26+'CARMO DO RIO CLARO'!H26+'CONCEIÇÃO DA APARECIDA'!H26+COQUEIRAL!H26+CRISTAIS!H26+'DIVISA NOVA'!H26+'ELÓI MENDES'!H26+FAMA!H26+FORMIGA!H26+GUAPÉ!H26+ILICÍNEA!H26+JURUAIA!H26+LAVRAS!H26+MACHADO!H26+MUZAMBINHO!H26+NEPOMUCENO!H26+PARAGUAÇU!H26+PERDÕES!H26+PIMENTA!H26+'POÇO FUNDO'!H26+'RIBEIRÃO VERMELHO'!H26+'SÃO JOÃO BATISTA'!H26+'SÃO JOSÉ BARRA'!H26+SERRANIA!H26+'TRÊS PONTAS'!H26+VARGINHA!H26+COLATINA!H26+ARACRUZ!H26+'JOÃO PESSOA'!H26+LINHARES!H26+IPATINGA!H26 -> 646453.17 | J26: =I26*H26 -> 0
A27: 99062 | B27: Marcação de pontos em gabarito ou cavalete. AF_03/2024 | G27: und | H27: =AGUANIL!H27+ALFENAS!H27+ALPINOPOLIS!H27+ALTEROSA!H27+AREADO!H27+'BOA ESPERANÇA'!H27+'CAMPO BELO'!H27+'CABO VERDE'!H27+CAMACHO!H27+'CAMPO DO MEIO'!H27+'CAMPOS GERAIS'!H27+'CANA VERDE'!H27+CANDEIAS!H27+CAPITÓLIO!H27+'CARMO DO RIO CLARO'!H27+'CONCEIÇÃO DA APARECIDA'!H27+COQUEIRAL!H27+CRISTAIS!H27+'DIVISA NOVA'!H27+'ELÓI MENDES'!H27+FAMA!H27+FORMIGA!H27+GUAPÉ!H27+ILICÍNEA!H27+JURUAIA!H27+LAVRAS!H27+MACHADO!H27+MUZAMBINHO!H27+NEPOMUCENO!H27+PARAGUAÇU!H27+PERDÕES!H27+PIMENTA!H27+'POÇO FUNDO'!H27+'RIBEIRÃO VERMELHO'!H27+'SÃO JOÃO BATISTA'!H27+'SÃO JOSÉ BARRA'!H27+SERRANIA!H27+'TRÊS PONTAS'!H27+VARGINHA!H27+COLATINA!H27+ARACRUZ!H27+'JOÃO PESSOA'!H27+LINHARES!H27+IPATINGA!H27 -> 2754.9998 | J27: =I27*H27 -> 0
A28: 100210 | B28: Transporte horizontal com carrinho de mão, de blocos vazados de concreto ou cerâmico de 19x19x39 cm. AF_07/2019 | G28: unxkm | H28: =AGUANIL!H28+ALFENAS!H28+ALPINOPOLIS!H28+ALTEROSA!H28+AREADO!H28+'BOA ESPERANÇA'!H28+'CAMPO BELO'!H28+'CABO VERDE'!H28+CAMACHO!H28+'CAMPO DO MEIO'!H28+'CAMPOS GERAIS'!H28+'CANA VERDE'!H28+CANDEIAS!H28+CAPITÓLIO!H28+'CARMO DO RIO CLARO'!H28+'CONCEIÇÃO DA APARECIDA'!H28+COQUEIRAL!H28+CRISTAIS!H28+'DIVISA NOVA'!H28+'ELÓI MENDES'!H28+FAMA!H28+FORMIGA!H28+GUAPÉ!H28+ILICÍNEA!H28+JURUAIA!H28+LAVRAS!H28+MACHADO!H28+MUZAMBINHO!H28+NEPOMUCENO!H28+PARAGUAÇU!H28+PERDÕES!H28+PIMENTA!H28+'POÇO FUNDO'!H28+'RIBEIRÃO VERMELHO'!H28+'SÃO JOÃO BATISTA'!H28+'SÃO JOSÉ BARRA'!H28+SERRANIA!H28+'TRÊS PONTAS'!H28+VARGINHA!H28+COLATINA!H28+ARACRUZ!H28+'JOÃO PESSOA'!H28+LINHARES!H28+IPATINGA!H28 -> 19388.246 | J28: =I28*H28 -> 0
B29: PROFISSIONAIS
A30: 93567 | B30: Engenheiro Civil de obra pleno | G30: mês | H30: =AGUANIL!H30+ALFENAS!H30+ALPINOPOLIS!H30+ALTEROSA!H30+AREADO!H30+'BOA ESPERANÇA'!H30+'CAMPO BELO'!H30+'CABO VERDE'!H30+CAMACHO!H30+'CAMPO DO MEIO'!H30+'CAMPOS GERAIS'!H30+'CANA VERDE'!H30+CANDEIAS!H30+CAPITÓLIO!H30+'CARMO DO RIO CLARO'!H30+'CONCEIÇÃO DA APARECIDA'!H30+COQUEIRAL!H30+CRISTAIS!H30+'DIVISA NOVA'!H30+'ELÓI MENDES'!H30+FAMA!H30+FORMIGA!H30+GUAPÉ!H30+ILICÍNEA!H30+JURUAIA!H30+LAVRAS!H30+MACHADO!H30+MUZAMBINHO!H30+NEPOMUCENO!H30+PARAGUAÇU!H30+PERDÕES!H30+PIMENTA!H30+'POÇO FUNDO'!H30+'RIBEIRÃO VERMELHO'!H30+'SÃO JOÃO BATISTA'!H30+'SÃO JOSÉ BARRA'!H30+SERRANIA!H30+'TRÊS PONTAS'!H30+VARGINHA!H30+COLATINA!H30+ARACRUZ!H30+'JOÃO PESSOA'!H30+LINHARES!H30+IPATINGA!H30 -> 141 | J30: =I30*H30 -> 0
A31: 93570 | B31: Arquiteto de obra pleno | G31: mês | H31: =AGUANIL!H31+ALFENAS!H31+ALPINOPOLIS!H31+ALTEROSA!H31+AREADO!H31+'BOA ESPERANÇA'!H31+'CAMPO BELO'!H31+'CABO VERDE'!H31+CAMACHO!H31+'CAMPO DO MEIO'!H31+'CAMPOS GERAIS'!H31+'CANA VERDE'!H31+CANDEIAS!H31+CAPITÓLIO!H31+'CARMO DO RIO CLARO'!H31+'CONCEIÇÃO DA APARECIDA'!H31+COQUEIRAL!H31+CRISTAIS!H31+'DIVISA NOVA'!H31+'ELÓI MENDES'!H31+FAMA!H31+FORMIGA!H31+GUAPÉ!H31+ILICÍNEA!H31+JURUAIA!H31+LAVRAS!H31+MACHADO!H31+MUZAMBINHO!H31+NEPOMUCENO!H31+PARAGUAÇU!H31+PERDÕES!H31+PIMENTA!H31+'POÇO FUNDO'!H31+'RIBEIRÃO VERMELHO'!H31+'SÃO JOÃO BATISTA'!H31+'SÃO JOSÉ BARRA'!H31+SERRANIA!H31+'TRÊS PONTAS'!H31+VARGINHA!H31+COLATINA!H31+ARACRUZ!H31+'JOÃO PESSOA'!H31+LINHARES!H31+IPATINGA!H31 -> 141 | J31: =I31*H31 -> 0
B32: MÁQUINAS E EQUIPAMENTOS
A33: 5678 | B33: Retroescavadeira sobre rodas com carregadeira, tração 4x4, potência líq. 88HP, caçamba carreg. cap. mín. 1m³, caçamba retro cap. 0,26 m³, peso operacional mín. 6.674kg, profundidade escavação máxim 4,37m - CHP diurno. AF_06/2014 | G33: chp | H33: =AGUANIL!H33+ALFENAS!H33+ALPINOPOLIS!H33+ALTEROSA!H33+AREADO!H33+'BOA ESPERANÇA'!H33+'CAMPO BELO'!H33+'CABO VERDE'!H33+CAMACHO!H33+'CAMPO DO MEIO'!H33+'CAMPOS GERAIS'!H33+'CANA VERDE'!H33+CANDEIAS!H33+CAPITÓLIO!H33+'CARMO DO RIO CLARO'!H33+'CONCEIÇÃO DA APARECIDA'!H33+COQUEIRAL!H33+CRISTAIS!H33+'DIVISA NOVA'!H33+'ELÓI MENDES'!H33+FAMA!H33+FORMIGA!H33+GUAPÉ!H33+ILICÍNEA!H33+JURUAIA!H33+LAVRAS!H33+MACHADO!H33+MUZAMBINHO!H33+NEPOMUCENO!H33+PARAGUAÇU!H33+PERDÕES!H33+PIMENTA!H33+'POÇO FUNDO'!H33+'RIBEIRÃO VERMELHO'!H33+'SÃO JOÃO BATISTA'!H33+'SÃO JOSÉ BARRA'!H33+SERRANIA!H33+'TRÊS PONTAS'!H33+VARGINHA!H33+COLATINA!H33+ARACRUZ!H33+'JOÃO PESSOA'!H33+LINHARES!H33+IPATINGA!H33 -> 25418.992 | J33: =I33*H33 -> 0
A34: 89882 | B34: Caminhão basculante 18 m³, com cavalo mecânico de capacidade máxima de tração combinado de 45000kg. Potência de 330CV, inclusive semireboque com caçamba metálica - Materiais na operação. AF_12/2014 | G34: H | H34: =AGUANIL!H34+ALFENAS!H34+ALPINOPOLIS!H34+ALTEROSA!H34+AREADO!H34+'BOA ESPERANÇA'!H34+'CAMPO BELO'!H34+'CABO VERDE'!H34+CAMACHO!H34+'CAMPO DO MEIO'!H34+'CAMPOS GERAIS'!H34+'CANA VERDE'!H34+CANDEIAS!H34+CAPITÓLIO!H34+'CARMO DO RIO CLARO'!H34+'CONCEIÇÃO DA APARECIDA'!H34+COQUEIRAL!H34+CRISTAIS!H34+'DIVISA NOVA'!H34+'ELÓI MENDES'!H34+FAMA!H34+FORMIGA!H34+GUAPÉ!H34+ILICÍNEA!H34+JURUAIA!H34+LAVRAS!H34+MACHADO!H34+MUZAMBINHO!H34+NEPOMUCENO!H34+PARAGUAÇU!H34+PERDÕES!H34+PIMENTA!H34+'POÇO FUNDO'!H34+'RIBEIRÃO VERMELHO'!H34+'SÃO JOÃO BATISTA'!H34+'SÃO JOSÉ BARRA'!H34+SERRANIA!H34+'TRÊS PONTAS'!H34+VARGINHA!H34+COLATINA!H34+ARACRUZ!H34+'JOÃO PESSOA'!H34+LINHARES!H34+IPATINGA!H34 -> 25418.992 | J34: =I34*H34 -> 0
A35: 95630 | B35: Rolo compactador vibratório tandem, aço liso, potência 125 HP, peso sem/com lastro 10,20/11,65 T, largura de trabalho 1,73m - materiais na operação. AF_11/2016 | G35: H | H35: =AGUANIL!H35+ALFENAS!H35+ALPINOPOLIS!H35+ALTEROSA!H35+AREADO!H35+'BOA ESPERANÇA'!H35+'CAMPO BELO'!H35+'CABO VERDE'!H35+CAMACHO!H35+'CAMPO DO MEIO'!H35+'CAMPOS GERAIS'!H35+'CANA VERDE'!H35+CANDEIAS!H35+CAPITÓLIO!H35+'CARMO DO RIO CLARO'!H35+'CONCEIÇÃO DA APARECIDA'!H35+COQUEIRAL!H35+CRISTAIS!H35+'DIVISA NOVA'!H35+'ELÓI MENDES'!H35+FAMA!H35+FORMIGA!H35+GUAPÉ!H35+ILICÍNEA!H35+JURUAIA!H35+LAVRAS!H35+MACHADO!H35+MUZAMBINHO!H35+NEPOMUCENO!H35+PARAGUAÇU!H35+PERDÕES!H35+PIMENTA!H35+'POÇO FUNDO'!H35+'RIBEIRÃO VERMELHO'!H35+'SÃO JOÃO BATISTA'!H35+'SÃO JOSÉ BARRA'!H35+SERRANIA!H35+'TRÊS PONTAS'!H35+VARGINHA!H35+COLATINA!H35+ARACRUZ!H35+'JOÃO PESSOA'!H35+LINHARES!H35+IPATINGA!H35 -> 19347.401 | J35: =I35*H35 -> 0
A36: 53849 | B36: Motoniveladora potência básica líquida (primeira marcha) 125 HP, peso bruto 13032 kg, largura da lâmina de 3,7m - materiais na operação. AF_06/2014 | G36: H | H36: =AGUANIL!H36+ALFENAS!H36+ALPINOPOLIS!H36+ALTEROSA!H36+AREADO!H36+'BOA ESPERANÇA'!H36+'CAMPO BELO'!H36+'CABO VERDE'!H36+CAMACHO!H36+'CAMPO DO MEIO'!H36+'CAMPOS GERAIS'!H36+'CANA VERDE'!H36+CANDEIAS!H36+CAPITÓLIO!H36+'CARMO DO RIO CLARO'!H36+'CONCEIÇÃO DA APARECIDA'!H36+COQUEIRAL!H36+CRISTAIS!H36+'DIVISA NOVA'!H36+'ELÓI MENDES'!H36+FAMA!H36+FORMIGA!H36+GUAPÉ!H36+ILICÍNEA!H36+JURUAIA!H36+LAVRAS!H36+MACHADO!H36+MUZAMBINHO!H36+NEPOMUCENO!H36+PARAGUAÇU!H36+PERDÕES!H36+PIMENTA!H36+'POÇO FUNDO'!H36+'RIBEIRÃO VERMELHO'!H36+'SÃO JOÃO BATISTA'!H36+'SÃO JOSÉ BARRA'!H36+SERRANIA!H36+'TRÊS PONTAS'!H36+VARGINHA!H36+COLATINA!H36+ARACRUZ!H36+'JOÃO PESSOA'!H36+LINHARES!H36+IPATINGA!H36 -> 19347.401 | J36: =I36*H36 -> 0
A37: 101006 | B37: Carga, manobra e descarga de água em caminhão pipa 10 m³. AF_07/2020 | G37: m³ | H37: =AGUANIL!H37+ALFENAS!H37+ALPINOPOLIS!H37+ALTEROSA!H37+AREADO!H37+'BOA ESPERANÇA'!H37+'CAMPO BELO'!H37+'CABO VERDE'!H37+CAMACHO!H37+'CAMPO DO MEIO'!H37+'CAMPOS GERAIS'!H37+'CANA VERDE'!H37+CANDEIAS!H37+CAPITÓLIO!H37+'CARMO DO RIO CLARO'!H37+'CONCEIÇÃO DA APARECIDA'!H37+COQUEIRAL!H37+CRISTAIS!H37+'DIVISA NOVA'!H37+'ELÓI MENDES'!H37+FAMA!H37+FORMIGA!H37+GUAPÉ!H37+ILICÍNEA!H37+JURUAIA!H37+LAVRAS!H37+MACHADO!H37+MUZAMBINHO!H37+NEPOMUCENO!H37+PARAGUAÇU!H37+PERDÕES!H37+PIMENTA!H37+'POÇO FUNDO'!H37+'RIBEIRÃO VERMELHO'!H37+'SÃO JOÃO BATISTA'!H37+'SÃO JOSÉ BARRA'!H37+SERRANIA!H37+'TRÊS PONTAS'!H37+VARGINHA!H37+COLATINA!H37+ARACRUZ!H37+'JOÃO PESSOA'!H37+LINHARES!H37+IPATINGA!H37 -> 41429.543 | J37: =I37*H37 -> 0
A38: 5851 | B38: Trator de esteira, potência 150 HP, peso operacional 16,7T, com roda motriz elevada e lâmina 3,18 m³ - CHP diurno. AF_06/2014 | G38: chp | H38: =AGUANIL!H38+ALFENAS!H38+ALPINOPOLIS!H38+ALTEROSA!H38+AREADO!H38+'BOA ESPERANÇA'!H38+'CAMPO BELO'!H38+'CABO VERDE'!H38+CAMACHO!H38+'CAMPO DO MEIO'!H38+'CAMPOS GERAIS'!H38+'CANA VERDE'!H38+CANDEIAS!H38+CAPITÓLIO!H38+'CARMO DO RIO CLARO'!H38+'CONCEIÇÃO DA APARECIDA'!H38+COQUEIRAL!H38+CRISTAIS!H38+'DIVISA NOVA'!H38+'ELÓI MENDES'!H38+FAMA!H38+FORMIGA!H38+GUAPÉ!H38+ILICÍNEA!H38+JURUAIA!H38+LAVRAS!H38+MACHADO!H38+MUZAMBINHO!H38+NEPOMUCENO!H38+PARAGUAÇU!H38+PERDÕES!H38+PIMENTA!H38+'POÇO FUNDO'!H38+'RIBEIRÃO VERMELHO'!H38+'SÃO JOÃO BATISTA'!H38+'SÃO JOSÉ BARRA'!H38+SERRANIA!H38+'TRÊS PONTAS'!H38+VARGINHA!H38+COLATINA!H38+ARACRUZ!H38+'JOÃO PESSOA'!H38+LINHARES!H38+IPATINGA!H38 -> 19347.401 | J38: =I38*H38 -> 0
A39: 95719 | B39: Escavadeira hidraulica sobre esteira, equipada com clamshell, com capacidade de caçambra entre 1,20 e 1,50 m³. Peso operacional entre 20 e 22 ton, potencia liquida entre 150 e 160 HP - materiais na operação. AF_11/2016 | G39: H | H39: =AGUANIL!H39+ALFENAS!H39+ALPINOPOLIS!H39+ALTEROSA!H39+AREADO!H39+'BOA ESPERANÇA'!H39+'CAMPO BELO'!H39+'CABO VERDE'!H39+CAMACHO!H39+'CAMPO DO MEIO'!H39+'CAMPOS GERAIS'!H39+'CANA VERDE'!H39+CANDEIAS!H39+CAPITÓLIO!H39+'CARMO DO RIO CLARO'!H39+'CONCEIÇÃO DA APARECIDA'!H39+COQUEIRAL!H39+CRISTAIS!H39+'DIVISA NOVA'!H39+'ELÓI MENDES'!H39+FAMA!H39+FORMIGA!H39+GUAPÉ!H39+ILICÍNEA!H39+JURUAIA!H39+LAVRAS!H39+MACHADO!H39+MUZAMBINHO!H39+NEPOMUCENO!H39+PARAGUAÇU!H39+PERDÕES!H39+PIMENTA!H39+'POÇO FUNDO'!H39+'RIBEIRÃO VERMELHO'!H39+'SÃO JOÃO BATISTA'!H39+'SÃO JOSÉ BARRA'!H39+SERRANIA!H39+'TRÊS PONTAS'!H39+VARGINHA!H39+COLATINA!H39+ARACRUZ!H39+'JOÃO PESSOA'!H39+LINHARES!H39+IPATINGA!H39 -> 19347.401 | J39: =I39*H39 -> 0
B40: MANUTENÇÃO
A41: 96535 | B41: Fabricação, montagem e desmontagem de fôrma para sapata, em madeira serrada, e=25 mm, 4 utilizações. Af_06/2017 | G41: m² | H41: =AGUANIL!H41+ALFENAS!H41+ALPINOPOLIS!H41+ALTEROSA!H41+AREADO!H41+'BOA ESPERANÇA'!H41+'CAMPO BELO'!H41+'CABO VERDE'!H41+CAMACHO!H41+'CAMPO DO MEIO'!H41+'CAMPOS GERAIS'!H41+'CANA VERDE'!H41+CANDEIAS!H41+CAPITÓLIO!H41+'CARMO DO RIO CLARO'!H41+'CONCEIÇÃO DA APARECIDA'!H41+COQUEIRAL!H41+CRISTAIS!H41+'DIVISA NOVA'!H41+'ELÓI MENDES'!H41+FAMA!H41+FORMIGA!H41+GUAPÉ!H41+ILICÍNEA!H41+JURUAIA!H41+LAVRAS!H41+MACHADO!H41+MUZAMBINHO!H41+NEPOMUCENO!H41+PARAGUAÇU!H41+PERDÕES!H41+PIMENTA!H41+'POÇO FUNDO'!H41+'RIBEIRÃO VERMELHO'!H41+'SÃO JOÃO BATISTA'!H41+'SÃO JOSÉ BARRA'!H41+SERRANIA!H41+'TRÊS PONTAS'!H41+VARGINHA!H41+COLATINA!H41+ARACRUZ!H41+'JOÃO PESSOA'!H41+LINHARES!H41+IPATINGA!H41 -> 6233.5227 | J41: =I41*H41 -> 0
...

Sheet AGUANIL
A1: AGUANIL | E1: PLANILHA ORÇAMENTÁRIA - SINAPI - DATA BASE JUNHO DE 2025 PUBLICADO EM 11/07/2025 | K1: 2972.08
A3: CÓDIGO SINAPI | B3: DESCRIÇÃO DOS SERVIÇOS | G3: Und. | H3: Qtd. | I3: Valor Médio Unitário | J3: Valor Total
B4: ESCAVAÇÕES
A5: 5678 | B5: RETROESCAVADEIRA SOBRE RODAS COM CARREGADEIRA, TRAÇÃO 4X4, POTÊNCIA LÍQ. 88 HP, CAÇAMBA CARREG. CAP. MÍN. 1 M3, CAÇAMBA RETRO CAP. 0,26 M3, PESO OPERACIONAL MÍN. 6.674 KG, PROFUNDIDADE ESCAVAÇÃO MÁX. 4,37 M - CHP DIURNO. AF_06/2014 | G5: chp | H5: =K1*K5 -> 10.319682 | J5: =I5*H5 -> 0 | K5: 0.0034722085
A6: 93358 | B6: Escavação manual de vala com profundido menor ou igual a 1,30m. AF_02/2021 | G6: m³ | H6: =K1*K6 -> 97.843403 | J6: =I6*H6 -> 0 | K6: 0.032920851
A7: 93382 | B7: Reaterro manual de valas, com compactador de solos de percussão. AF_08/2023 | G7: m³ | H7: =K1*K7 -> 71.304028 | J7: =I7*H7 -> 0 | K7: 0.023991288
A8: 101616 | B8: Preparo de fundo de vala com largura menor que 1,5m (acerto de solo natural). AF_08/2020 | G8: m² | H8: =K1*K8 -> 102.84235 | J8: =I8*H8 -> 0 | K8: 0.034602819
B9: TRANSPORTES
A10: 100981 | B10: Carga, manobra e descarga de entulho em caminhão basculante de 6m³ - Carga com escavadeira hidráulica (caçamba de 0,80 m³ / 111hp) e descarga livre. AF_07/2020 | G10: m³ | H10: =H6-H7 -> 26.539375 | J10: =I10*H10 -> 0 | K10: 0.0089295629
B11: PAISAGISMO
A12: 103946 | B12: Plantio de grama esmeralda ou são carlos ou curitibana, em placas. AF_07/2024 | G12: m² | H12: =K1*K12 -> 539.35094 | J12: =I12*H12 -> 0 | K12: 0.18147255
A13: 98516 | B13: Plantio de palmeira com altura de muda menor ou igual a 2,0m . AF_07/2024 | G13: und | H13: 8 | J13: =I13*H13 -> 0 | K13: 0.0027508711
A14: 98509 | B14: Plantio de arbusto ou cerva viva. AF_07/2024 | G14: und | H14: 8 | J14: =I14*H14 -> 0 | K14: 0.0030001111
A15: 98511 | B15: Plantio de árvore ornamental com altura de muda maior que 2,0m e menor ou igual a 4,0m. AF_07/2024 | G15: und | H15: 8 | J15: =I15*H15 -> 0 | K15: 0.0027785644
A16: 98505 | B16: Plantio de forração | G16: m² | H16: 115 | J16: =I16*H16 -> 0 | K16: 0.038078333
A17: 98526 | B17: Remoção de raízes remanescentes de tronco de árvore com diâmetro maior ou igual a 0,20m e menor que 0,40m. AF_03/2024 | G17: und | H17: 4 | J17: =I17*H17 -> 0 | K17: 0.0013846666
A18: 98527 | B18: Remoção de raízes remanescentes de tronco de árvore com diâmetro maior ou igual a 0,40m e menor que 0,60m. AF_03/2024 | G18: und | H18: 4 | J18: =I18*H18 -> 0 | K18: 0.0013846666
A19: 98528 | B19: Remoção de raízes remanescentes de tronco de árvore com diâmetro maior ou igual a 0,60m. AF_03/2024 | G19: und | H19: 4 | J19: =I19*H19 -> 0 | K19: 0.0013846666
A20: 98533 | B20: Poda em altura de árvore com diâmetro de tronco maior ou igual a 0,20m e menor que 0,40m. AF_03/2024 | G20: und | H20: 4 | J20: =I20*H20 -> 0 | K20: 0.0013846666
A21: 98534 | B21: Poda em altura de árvore com diâmetro de tronco maior ou igual a 0,40m e menor que 0,60m. AF_03/2024 | G21: und | H21: 4 | J21: =I21*H21 -> 0 | K21: 0.0013846666
A22: 98535 | B22: Poda em altura de árvore com diâmetro de tronco maior ou igual a 0,60m. AF_03/2024 | G22: und | H22: 4 | J22: =I22*H22 -> 0 | K22: 0.0013846666
A23: 105521 | B23: Espalhamento de terra vegetal para o plantio. AF_07/2024 | G23: m² | H23: 115 | J23: =I23*H23 -> 0 | K23: 0.049232592
B24: SERVIÇOS e FERRAMENTAS
A25: 98519 | B25: Revolvimento e limpeza manual de solo | G25: m² | H25: =K1*K25 -> 6339.3522 | J25: =I25*H25 -> 0 | K25: 2.1329682
A26: 98525 | B26: Limpeza mecanizada de camada vegetal, vegetação e pequenas árvores (diâmetro de tronco menor que 0,20m) com trator de esteiras. AF_03/2024 | G26: m² | H26: =K1*K26 -> 239.01069 | J26: =I26*H26 -> 0 | K26: 0.080418658
A27: 99062 | B27: Marcação de pontos em gabarito ou cavalete. AF_03/2024 | G27: und | H27: 7 | J27: =I27*H27 -> 0 | K27: 0.0024000888
A28: 100210 | B28: Transporte horizontal com carrinho de mão, de blocos vazados de concreto ou cerâmico de 19x19x39 cm. AF_07/2019 | G28: unxkm | H28: =K1*K28 -> 58.163473 | J28: =I28*H28 -> 0 | K28: 0.019569955
B29: PROFISSIONAIS
A30: 93567 | B30: Engenheiro Civil de obra pleno | G30: mês | H30: 3 | J30: =I30*H30 -> 0 | K30: 0.00012185066
A31: 93570 | B31: Arquiteto de obra pleno | G31: mês | H31: 3 | J31: =I31*H31 -> 0 | K31: 0.00012185066
B32: MÁQUINAS E EQUIPAMENTOS
A33: 5678 | B33: Retroescavadeira sobre rodas com carregadeira, tração 4x4, potência líq. 88HP, caçamba carreg. cap. mín. 1m³, caçamba retro cap. 0,26 m³, peso operacional mín. 6.674kg, profundidade escavação máxim 4,37m - CHP diurno. AF_06/2014 | G33: chp | H33: =$K$1*K33 -> 74.076121 | J33: =I33*H33 -> 0 | K33: 0.024924
A34: 89882 | B34: Caminhão basculante 18 m³, com cavalo mecânico de capacidade máxima de tração combinado de 45000kg. Potência de 330CV, inclusive semireboque com caçamba metálica - Materiais na operação. AF_12/2014 | G34: H | H34: =$K$1*K34 -> 74.076121 | J34: =I34*H34 -> 0 | K34: 0.024924
A35: 95630 | B35: Rolo compactador vibratório tandem, aço liso, potência 125 HP, peso sem/com lastro 10,20/11,65 T, largura de trabalho 1,73m - materiais na operação. AF_11/2016 | G35: H | H35: =$K$1*K35 -> 54.8712 | J35: =I35*H35 -> 0 | K35: 0.018462222
A36: 53849 | B36: Motoniveladora potência básica líquida (primeira marcha) 125 HP, peso bruto 13032 kg, largura da lâmina de 3,7m - materiais na operação. AF_06/2014 | G36: H | H36: =$K$1*K36 -> 54.8712 | J36: =I36*H36 -> 0 | K36: 0.018462222
A37: 101006 | B37: Carga, manobra e descarga de água em caminhão pipa 10 m³. AF_07/2020 | G37: m³ | H37: =$K$1*K37 -> 115.22952 | J37: =I37*H37 -> 0 | K37: 0.038770666
A38: 5851 | B38: Trator de esteira, potência 150 HP, peso operacional 16,7T, com roda motriz elevada e lâmina 3,18 m³ - CHP diurno. AF_06/2014 | G38: chp | H38: =$K$1*K38 -> 54.8712 | J38: =I38*H38 -> 0 | K38: 0.018462222
A39: 95719 | B39: Escavadeira hidraulica sobre esteira, equipada com clamshell, com capacidade de caçambra entre 1,20 e 1,50 m³. Peso operacional entre 20 e 22 ton, potencia liquida entre 150 e 160 HP - materiais na operação. AF_11/2016 | G39: H | H39: =$K$1*K39 -> 54.8712 | J39: =I39*H39 -> 0 | K39: 0.018462222
B40: MANUTENÇÃO
A41: 96535 | B41: Fabricação, montagem e desmontagem de fôrma para sapata, em madeira serrada, e=25 mm, 4 utilizações. Af_06/2017 | G41: m² | H41: =(12450/2)/44 -> 141.47727 | J41: =I41*H41 -> 0 | K41: 0.0057463666
...

Sheet ALFENAS
A1: ALFENAS | E1: PLANILHA ORÇAMENTÁRIA - SINAPI - DATA BASE JUNHO DE 2025 PUBLICADO EM 11/07/2025 | K1: 60788.43
A3: CÓDIGO SINAPI | B3: DESCRIÇÃO DOS SERVIÇOS | G3: Und. | H3: Qtd. | I3: Valor Médio Unitário | J3: Valor Total
B4: ESCAVAÇÕES
A5: 5678 | B5: RETROESCAVADEIRA SOBRE RODAS COM CARREGADEIRA, TRAÇÃO 4X4, POTÊNCIA LÍQ. 88 HP, CAÇAMBA CARREG. CAP. MÍN. 1 M3, CAÇAMBA RETRO CAP. 0,26 M3, PESO OPERACIONAL MÍN. 6.674 KG, PROFUNDIDADE ESCAVAÇÃO MÁX. 4,37 M - CHP DIURNO. AF_06/2014 | G5: chp | H5: =K1*K5 -> 211.07011 | J5: =I5*H5 -> 0 | K5: 0.0034722085
A6: 93358 | B6: Escavação manual de vala com profundido menor ou igual a 1,30m. AF_02/2021 | G6: m³ | H6: =K1*K6 -> 2001.2068 | J6: =I6*H6 -> 0 | K6: 0.032920851
A7: 93382 | B7: Reaterro manual de valas, com compactador de solos de percussão. AF_08/2023 | G7: m³ | H7: =K1*K7 -> 1458.3927 | J7: =I7*H7 -> 0 | K7: 0.023991288
A8: 101616 | B8: Preparo de fundo de vala com largura menor que 1,5m (acerto de solo natural). AF_08/2020 | G8: m² | H8: =K1*K8 -> 2103.4511 | J8: =I8*H8 -> 0 | K8: 0.034602819
B9: TRANSPORTES
A10: 100981 | B10: Carga, manobra e descarga de entulho em caminhão basculante de 6m³ - Carga com escavadeira hidráulica (caçamba de 0,80 m³ / 111hp) e descarga livre. AF_07/2020 | G10: m³ | H10: =H6-H7 -> 542.81411 | J10: =I10*H10 -> 0 | K10: 0.0089295629
B11: PAISAGISMO
A12: 103946 | B12: Plantio de grama esmeralda ou são carlos ou curitibana, em placas. AF_07/2024 | G12: m² | H12: =K1*K12 -> 11031.432 | J12: =I12*H12 -> 0 | K12: 0.18147255
A13: 98516 | B13: Plantio de palmeira com altura de muda menor ou igual a 2,0m . AF_07/2024 | G13: und | H13: 167 | J13: =I13*H13 -> 0 | K13: 0.0027508711
A14: 98509 | B14: Plantio de arbusto ou cerva viva. AF_07/2024 | G14: und | H14: 183 | J14: =I14*H14 -> 0 | K14: 0.0030001111
A15: 98511 | B15: Plantio de árvore ornamental com altura de muda maior que 2,0m e menor ou igual a 4,0m. AF_07/2024 | G15: und | H15: 168 | J15: =I15*H15 -> 0 | K15: 0.0027785644
A16: 98505 | B16: Plantio de forração | G16: m² | H16: =K1*K16 -> 2314.7221 | J16: =I16*H16 -> 0 | K16: 0.038078333
A17: 98526 | B17: Remoção de raízes remanescentes de tronco de árvore com diâmetro maior ou igual a 0,20m e menor que 0,40m. AF_03/2024 | G17: und | H17: 84 | J17: =I17*H17 -> 0 | K17: 0.0013846666
A18: 98527 | B18: Remoção de raízes remanescentes de tronco de árvore com diâmetro maior ou igual a 0,40m e menor que 0,60m. AF_03/2024 | G18: und | H18: 84 | J18: =I18*H18 -> 0 | K18: 0.0013846666
A19: 98528 | B19: Remoção de raízes remanescentes de tronco de árvore com diâmetro maior ou igual a 0,60m. AF_03/2024 | G19: und | H19: 84 | J19: =I19*H19 -> 0 | K19: 0.0013846666
A20: 98533 | B20: Poda em altura de árvore com diâmetro de tronco maior ou igual a 0,20m e menor que 0,40m. AF_03/2024 | G20: und | H20: 84 | J20: =I20*H20 -> 0 | K20: 0.0013846666
A21: 98534 | B21: Poda em altura de árvore com diâmetro de tronco maior ou igual a 0,40m e menor que 0,60m. AF_03/2024 | G21: und | H21: 84 | J21: =I21*H21 -> 0 | K21: 0.0013846666
A22: 98535 | B22: Poda em altura de árvore com diâmetro de tronco maior ou igual a 0,60m. AF_03/2024 | G22: und | H22: 84 | J22: =I22*H22 -> 0 | K22: 0.0013846666
A23: 105521 | B23: Espalhamento de terra vegetal para o plantio. AF_07/2024 | G23: m² | H23: 2314.72 | J23: =I23*H23 -> 0 | K23: 0.049232592
B24: SERVIÇOS e FERRAMENTAS
A25: 98519 | B25: Revolvimento e limpeza manual de solo | G25: m² | H25: =K1*K25 -> 129659.79 | J25: =I25*H25 -> 0 | K25: 2.1329682
A26: 98525 | B26: Limpeza mecanizada de camada vegetal, vegetação e pequenas árvores (diâmetro de tronco menor que 0,20m) com trator de esteiras. AF_03/2024 | G26: m² | H26: =K1*K26 -> 4888.524 | J26: =I26*H26 -> 0 | K26: 0.080418658
A27: 99062 | B27: Marcação de pontos em gabarito ou cavalete. AF_03/2024 | G27: und | H27: 146 | J27: =I27*H27 -> 0 | K27: 0.0024000888
A28: 100210 | B28: Transporte horizontal com carrinho de mão, de blocos vazados de concreto ou cerâmico de 19x19x39 cm. AF_07/2019 | G28: unxkm | H28: =K1*K28 -> 1189.6269 | J28: =I28*H28 -> 0 | K28: 0.019569955
B29: PROFISSIONAIS
A30: 93567 | B30: Engenheiro Civil de obra pleno | G30: mês | H30: 3 | J30: =I30*H30 -> 0 | K30: 0.00012185066
A31: 93570 | B31: Arquiteto de obra pleno | G31: mês | H31: 3 | J31: =I31*H31 -> 0 | K31: 0.00012185066
B32: MÁQUINAS E EQUIPAMENTOS
A33: 5678 | B33: Retroescavadeira sobre rodas com carregadeira, tração 4x4, potência líq. 88HP, caçamba carreg. cap. mín. 1m³, caçamba retro cap. 0,26 m³, peso operacional mín. 6.674kg, profundidade escavação máxim 4,37m - CHP diurno. AF_06/2014 | G33: chp | H33: =$K$1*K33 -> 1515.0908 | J33: =I33*H33 -> 0 | K33: 0.024924
A34: 89882 | B34: Caminhão basculante 18 m³, com cavalo mecânico de capacidade máxima de tração combinado de 45000kg. Potência de 330CV, inclusive semireboque com caçamba metálica - Materiais na operação. AF_12/2014 | G34: H | H34: =$K$1*K34 -> 1515.0908 | J34: =I34*H34 -> 0 | K34: 0.024924
A35: 95630 | B35: Rolo compactador vibratório tandem, aço liso, potência 125 HP, peso sem/com lastro 10,20/11,65 T, largura de trabalho 1,73m - materiais na operação. AF_11/2016 | G35: H | H35: =$K$1*K35 -> 1122.2895 | J35: =I35*H35 -> 0 | K35: 0.018462222
A36: 53849 | B36: Motoniveladora potência básica líquida (primeira marcha) 125 HP, peso bruto 13032 kg, largura da lâmina de 3,7m - materiais na operação. AF_06/2014 | G36: H | H36: =$K$1*K36 -> 1122.2895 | J36: =I36*H36 -> 0 | K36: 0.018462222
A37: 101006 | B37: Carga, manobra e descarga de água em caminhão pipa 10 m³. AF_07/2020 | G37: m³ | H37: =$K$1*K37 -> 2356.8079 | J37: =I37*H37 -> 0 | K37: 0.038770666
A38: 5851 | B38: Trator de esteira, potência 150 HP, peso operacional 16,7T, com roda motriz elevada e lâmina 3,18 m³ - CHP diurno. AF_06/2014 | G38: chp | H38: =$K$1*K38 -> 1122.2895 | J38: =I38*H38 -> 0 | K38: 0.018462222
A39: 95719 | B39: Escavadeira hidraulica sobre esteira, equipada com clamshell, com capacidade de caçambra entre 1,20 e 1,50 m³. Peso operacional entre 20 e 22 ton, potencia liquida entre 150 e 160 HP - materiais na operação. AF_11/2016 | G39: H | H39: =$K$1*K39 -> 1122.2895 | J39: =I39*H39 -> 0 | K39: 0.018462222
B40: MANUTENÇÃO
A41: 96535 | B41: Fabricação, montagem e desmontagem de fôrma para sapata, em madeira serrada, e=25 mm, 4 utilizações. Af_06/2017 | G41: m² | H41: =(12450/2)/44 -> 141.47727 | J41: =I41*H41 -> 0 | K41: 0.0057463666
...

Sheet ALPINOPOLIS
A1: ALPINOPOLIS | E1: PLANILHA ORÇAMENTÁRIA - SINAPI - DATA BASE JUNHO DE 2025 PUBLICADO EM 11/07/2025 | K1: 17438.67
A3: CÓDIGO SINAPI | B3: DESCRIÇÃO DOS SERVIÇOS | G3: Und. | H3: Qtd. | I3: Valor Médio Unitário | J3: Valor Total
B4: ESCAVAÇÕES
A5: 5678 | B5: RETROESCAVADEIRA SOBRE RODAS COM CARREGADEIRA, TRAÇÃO 4X4, POTÊNCIA LÍQ. 88 HP, CAÇAMBA CARREG. CAP. MÍN. 1 M3, CAÇAMBA RETRO CAP. 0,26 M3, PESO OPERACIONAL MÍN. 6.674 KG, PROFUNDIDADE ESCAVAÇÃO MÁX. 4,37 M - CHP DIURNO. AF_06/2014 | G5: chp | H5: =K1*K5 -> 60.550699 | J5: =I5*H5 -> 0 | K5: 0.0034722085
A6: 93358 | B6: Escavação manual de vala com profundido menor ou igual a 1,30m. AF_02/2021 | G6: m³ | H6: =K1*K6 -> 574.09586 | J6: =I6*H6 -> 0 | K6: 0.032920851
A7: 93382 | B7: Reaterro manual de valas, com compactador de solos de percussão. AF_08/2023 | G7: m³ | H7: =K1*K7 -> 418.37616 | J7: =I7*H7 -> 0 | K7: 0.023991288
A8: 101616 | B8: Preparo de fundo de vala com largura menor que 1,5m (acerto de solo natural). AF_08/2020 | G8: m² | H8: =K1*K8 -> 603.42715 | J8: =I8*H8 -> 0 | K8: 0.034602819
B9: TRANSPORTES
A10: 100981 | B10: Carga, manobra e descarga de entulho em caminhão basculante de 6m³ - Carga com escavadeira hidráulica (caçamba de 0,80 m³ / 111hp) e descarga livre. AF_07/2020 | G10: m³ | H10: =H6-H7 -> 155.7197 | J10: =I10*H10 -> 0 | K10: 0.0089295629
B11: PAISAGISMO
A12: 103946 | B12: Plantio de grama esmeralda ou são carlos ou curitibana, em placas. AF_07/2024 | G12: m² | H12: =K1*K12 -> 3164.6399 | J12: =I12*H12 -> 0 | K12: 0.18147255
A13: 98516 | B13: Plantio de palmeira com altura de muda menor ou igual a 2,0m . AF_07/2024 | G13: und | H13: 48 | J13: =I13*H13 -> 0 | K13: 0.0027508711
A14: 98509 | B14: Plantio de arbusto ou cerva viva. AF_07/2024 | G14: und | H14: 52 | J14: =I14*H14 -> 0 | K14: 0.0030001111
A15: 98511 | B15: Plantio de árvore ornamental com altura de muda maior que 2,0m e menor ou igual a 4,0m. AF_07/2024 | G15: und | H15: 48 | J15: =I15*H15 -> 0 | K15: 0.0027785644
A16: 98505 | B16: Plantio de forração | G16: m² | H16: 664.04 | J16: =I16*H16 -> 0 | K16: 0.038078333
A17: 98526 | B17: Remoção de raízes remanescentes de tronco de árvore com diâmetro maior ou igual a 0,20m e menor que 0,40m. AF_03/2024 | G17: und | H17: 24 | J17: =I17*H17 -> 0 | K17: 0.0013846666
A18: 98527 | B18: Remoção de raízes remanescentes de tronco de árvore com diâmetro maior ou igual a 0,40m e menor que 0,60m. AF_03/2024 | G18: und | H18: 24 | J18: =I18*H18 -> 0 | K18: 0.0013846666
A19: 98528 | B19: Remoção de raízes remanescentes de tronco de árvore com diâmetro maior ou igual a 0,60m. AF_03/2024 | G19: und | H19: 24 | J19: =I19*H19 -> 0 | K19: 0.0013846666
A20: 98533 | B20: Poda em altura de árvore com diâmetro de tronco maior ou igual a 0,20m e menor que 0,40m. AF_03/2024 | G20: und | H20: 24 | J20: =I20*H20 -> 0 | K20: 0.0013846666
A21: 98534 | B21: Poda em altura de árvore com diâmetro de tronco maior ou igual a 0,40m e menor que 0,60m. AF_03/2024 | G21: und | H21: 24 | J21: =I21*H21 -> 0 | K21: 0.0013846666
A22: 98535 | B22: Poda em altura de árvore com diâmetro de tronco maior ou igual a 0,60m. AF_03/2024 | G22: und | H22: 24 | J22: =I22*H22 -> 0 | K22: 0.0013846666
A23: 105521 | B23: Espalhamento de terra vegetal para o plantio. AF_07/2024 | G23: m² | H23: 664.04 | J23: =I23*H23 -> 0 | K23: 0.049232592
B24: SERVIÇOS e FERRAMENTAS
A25: 98519 | B25: Revolvimento e limpeza manual de solo | G25: m² | H25: =K1*K25 -> 37196.129 | J25: =I25*H25 -> 0 | K25: 2.1329682
A26: 98525 | B26: Limpeza mecanizada de camada vegetal, vegetação e pequenas árvores (diâmetro de tronco menor que 0,20m) com trator de esteiras. AF_03/2024 | G26: m² | H26: =K1*K26 -> 1402.3944 | J26: =I26*H26 -> 0 | K26: 0.080418658
A27: 99062 | B27: Marcação de pontos em gabarito ou cavalete. AF_03/2024 | G27: und | H27: 42 | J27: =I27*H27 -> 0 | K27: 0.0024000888
A28: 100210 | B28: Transporte horizontal com carrinho de mão, de blocos vazados de concreto ou cerâmico de 19x19x39 cm. AF_07/2019 | G28: unxkm | H28: =K1*K28 -> 341.27399 | J28: =I28*H28 -> 0 | K28: 0.019569955
B29: PROFISSIONAIS
A30: 93567 | B30: Engenheiro Civil de obra pleno | G30: mês | H30: 3 | J30: =I30*H30 -> 0 | K30: 0.00012185066
A31: 93570 | B31: Arquiteto de obra pleno | G31: mês | H31: 3 | J31: =I31*H31 -> 0 | K31: 0.00012185066
B32: MÁQUINAS E EQUIPAMENTOS
A33: 5678 | B33: Retroescavadeira sobre rodas com carregadeira, tração 4x4, potência líq. 88HP, caçamba carreg. cap. mín. 1m³, caçamba retro cap. 0,26 m³, peso operacional mín. 6.674kg, profundidade escavação máxim 4,37m - CHP diurno. AF_06/2014 | G33: chp | H33: =$K$1*K33 -> 434.6414 | J33: =I33*H33 -> 0 | K33: 0.024924
A34: 89882 | B34: Caminhão basculante 18 m³, com cavalo mecânico de capacidade máxima de tração combinado de 45000kg. Potência de 330CV, inclusive semireboque com caçamba metálica - Materiais na operação. AF_12/2014 | G34: H | H34: =$K$1*K34 -> 434.6414 | J34: =I34*H34 -> 0 | K34: 0.024924
A35: 95630 | B35: Rolo compactador vibratório tandem, aço liso, potência 125 HP, peso sem/com lastro 10,20/11,65 T, largura de trabalho 1,73m - materiais na operação. AF_11/2016 | G35: H | H35: =$K$1*K35 -> 321.9566 | J35: =I35*H35 -> 0 | K35: 0.018462222
A36: 53849 | B36: Motoniveladora potência básica líquida (primeira marcha) 125 HP, peso bruto 13032 kg, largura da lâmina de 3,7m - materiais na operação. AF_06/2014 | G36: H | H36: =$K$1*K36 -> 321.9566 | J36: =I36*H36 -> 0 | K36: 0.018462222
A37: 101006 | B37: Carga, manobra e descarga de água em caminhão pipa 10 m³. AF_07/2020 | G37: m³ | H37: =$K$1*K37 -> 676.10885 | J37: =I37*H37 -> 0 | K37: 0.038770666
A38: 5851 | B38: Trator de esteira, potência 150 HP, peso operacional 16,7T, com roda motriz elevada e lâmina 3,18 m³ - CHP diurno. AF_06/2014 | G38: chp | H38: =$K$1*K38 -> 321.9566 | J38: =I38*H38 -> 0 | K38: 0.018462222
A39: 95719 | B39: Escavadeira hidraulica sobre esteira, equipada com clamshell, com capacidade de caçambra entre 1,20 e 1,50 m³. Peso operacional entre 20 e 22 ton, potencia liquida entre 150 e 160 HP - materiais na operação. AF_11/2016 | G39: H | H39: =$K$1*K39 -> 321.9566 | J39: =I39*H39 -> 0 | K39: 0.018462222
B40: MANUTENÇÃO
A41: 96535 | B41: Fabricação, montagem e desmontagem de fôrma para sapata, em madeira serrada, e=25 mm, 4 utilizações. Af_06/2017 | G41: m² | H41: =(12450/2)/44 -> 141.47727 | J41: =I41*H41 -> 0 | K41: 0.0057463666
...

Sheet ALTEROSA
A1: ALTEROSA | E1: PLANILHA ORÇAMENTÁRIA - SINAPI - DATA BASE JUNHO DE 2025 PUBLICADO EM 11/07/2025 | K1: 14843.8
A3: CÓDIGO SINAPI | B3: DESCRIÇÃO DOS SERVIÇOS | G3: Und. | H3: Qtd. | I3: Valor Médio Unitário | J3: Valor Total
B4: ESCAVAÇÕES
A5: 5678 | B5: RETROESCAVADEIRA SOBRE RODAS COM CARREGADEIRA, TRAÇÃO 4X4, POTÊNCIA LÍQ. 88 HP, CAÇAMBA CARREG. CAP. MÍN. 1 M3, CAÇAMBA RETRO CAP. 0,26 M3, PESO OPERACIONAL MÍN. 6.674 KG, PROFUNDIDADE ESCAVAÇÃO MÁX. 4,37 M - CHP DIURNO. AF_06/2014 | G5: chp | H5: =K1*K5 -> 51.540769 | J5: =I5*H5 -> 0 | K5: 0.0034722085
A6: 93358 | B6: Escavação manual de vala com profundido menor ou igual a 1,30m. AF_02/2021 | G6: m³ | H6: =K1*K6 -> 488.67053 | J6: =I6*H6 -> 0 | K6: 0.032920851
A7: 93382 | B7: Reaterro manual de valas, com compactador de solos de percussão. AF_08/2023 | G7: m³ | H7: =K1*K7 -> 356.12188 | J7: =I7*H7 -> 0 | K7: 0.023991288
A8: 101616 | B8: Preparo de fundo de vala com largura menor que 1,5m (acerto de solo natural). AF_08/2020 | G8: m² | H8: =K1*K8 -> 513.63733 | J8: =I8*H8 -> 0 | K8: 0.034602819
B9: TRANSPORTES
A10: 100981 | B10: Carga, manobra e descarga de entulho em caminhão basculante de 6m³ - Carga com escavadeira hidráulica (caçamba de 0,80 m³ / 111hp) e descarga livre. AF_07/2020 | G10: m³ | H10: =H6-H7 -> 132.54865 | J10: =I10*H10 -> 0 | K10: 0.0089295629
B11: PAISAGISMO
A12: 103946 | B12: Plantio de grama esmeralda ou são carlos ou curitibana, em placas. AF_07/2024 | G12: m² | H12: =K1*K12 -> 2693.7423 | J12: =I12*H12 -> 0 | K12: 0.18147255
A13: 98516 | B13: Plantio de palmeira com altura de muda menor ou igual a 2,0m . AF_07/2024 | G13: und | H13: 41 | J13: =I13*H13 -> 0 | K13: 0.0027508711
A14: 98509 | B14: Plantio de arbusto ou cerva viva. AF_07/2024 | G14: und | H14: 44 | J14: =I14*H14 -> 0 | K14: 0.0030001111
A15: 98511 | B15: Plantio de árvore ornamental com altura de muda maior que 2,0m e menor ou igual a 4,0m. AF_07/2024 | G15: und | H15: 41 | J15: =I15*H15 -> 0 | K15: 0.0027785644
A16: 98505 | B16: Plantio de forração | G16: m² | H16: =K1*K16 -> 565.22715 | J16: =I16*H16 -> 0 | K16: 0.038078333
A17: 98526 | B17: Remoção de raízes remanescentes de tronco de árvore com diâmetro maior ou igual a 0,20m e menor que 0,40m. AF_03/2024 | G17: und | H17: 20 | J17: =I17*H17 -> 0 | K17: 0.0013846666
A18: 98527 | B18: Remoção de raízes remanescentes de tronco de árvore com diâmetro maior ou igual a 0,40m e menor que 0,60m. AF_03/2024 | G18: und | H18: 20 | J18: =I18*H18 -> 0 | K18: 0.0013846666
A19: 98528 | B19: Remoção de raízes remanescentes de tronco de árvore com diâmetro maior ou igual a 0,60m. AF_03/2024 | G19: und | H19: 20 | J19: =I19*H19 -> 0 | K19: 0.0013846666
A20: 98533 | B20: Poda em altura de árvore com diâmetro de tronco maior ou igual a 0,20m e menor que 0,40m. AF_03/2024 | G20: und | H20: 20 | J20: =I20*H20 -> 0 | K20: 0.0013846666
A21: 98534 | B21: Poda em altura de árvore com diâmetro de tronco maior ou igual a 0,40m e menor que 0,60m. AF_03/2024 | G21: und | H21: 20 | J21: =I21*H21 -> 0 | K21: 0.0013846666
A22: 98535 | B22: Poda em altura de árvore com diâmetro de tronco maior ou igual a 0,60m. AF_03/2024 | G22: und | H22: 20 | J22: =I22*H22 -> 0 | K22: 0.0013846666
A23: 105521 | B23: Espalhamento de terra vegetal para o plantio. AF_07/2024 | G23: m² | H23: 565.23 | J23: =I23*H23 -> 0 | K23: 0.049232592
B24: SERVIÇOS e FERRAMENTAS
A25: 98519 | B25: Revolvimento e limpeza manual de solo | G25: m² | H25: =K1*K25 -> 31661.354 | J25: =I25*H25 -> 0 | K25: 2.1329682
A26: 98525 | B26: Limpeza mecanizada de camada vegetal, vegetação e pequenas árvores (diâmetro de tronco menor que 0,20m) com trator de esteiras. AF_03/2024 | G26: m² | H26: =K1*K26 -> 1193.7185 | J26: =I26*H26 -> 0 | K26: 0.080418658
A27: 99062 | B27: Marcação de pontos em gabarito ou cavalete. AF_03/2024 | G27: und | H27: 36 | J27: =I27*H27 -> 0 | K27: 0.0024000888
A28: 100210 | B28: Transporte horizontal com carrinho de mão, de blocos vazados de concreto ou cerâmico de 19x19x39 cm. AF_07/2019 | G28: unxkm | H28: =K1*K28 -> 290.4925 | J28: =I28*H28 -> 0 | K28: 0.019569955
B29: PROFISSIONAIS
A30: 93567 | B30: Engenheiro Civil de obra pleno | G30: mês | H30: 3 | J30: =I30*H30 -> 0 | K30: 0.00012185066
A31: 93570 | B31: Arquiteto de obra pleno | G31: mês | H31: 3 | J31: =I31*H31 -> 0 | K31: 0.00012185066
B32: MÁQUINAS E EQUIPAMENTOS
A33: 5678 | B33: Retroescavadeira sobre rodas com carregadeira, tração 4x4, potência líq. 88HP, caçamba carreg. cap. mín. 1m³, caçamba retro cap. 0,26 m³, peso operacional mín. 6.674kg, profundidade escavação máxim 4,37m - CHP diurno. AF_06/2014 | G33: chp | H33: =$K$1*K33 -> 369.96686 | J33: =I33*H33 -> 0 | K33: 0.024924
A34: 89882 | B34: Caminhão basculante 18 m³, com cavalo mecânico de capacidade máxima de tração combinado de 45000kg. Potência de 330CV, inclusive semireboque com caçamba metálica - Materiais na operação. AF_12/2014 | G34: H | H34: =$K$1*K34 -> 369.96686 | J34: =I34*H34 -> 0 | K34: 0.024924
A35: 95630 | B35: Rolo compactador vibratório tandem, aço liso, potência 125 HP, peso sem/com lastro 10,20/11,65 T, largura de trabalho 1,73m - materiais na operação. AF_11/2016 | G35: H | H35: =$K$1*K35 -> 274.04953 | J35: =I35*H35 -> 0 | K35: 0.018462222
A36: 53849 | B36: Motoniveladora potência básica líquida (primeira marcha) 125 HP, peso bruto 13032 kg, largura da lâmina de 3,7m - materiais na operação. AF_06/2014 | G36: H | H36: =$K$1*K36 -> 274.04953 | J36: =I36*H36 -> 0 | K36: 0.018462222
A37: 101006 | B37: Carga, manobra e descarga de água em caminhão pipa 10 m³. AF_07/2020 | G37: m³ | H37: =$K$1*K37 -> 575.50401 | J37: =I37*H37 -> 0 | K37: 0.038770666
A38: 5851 | B38: Trator de esteira, potência 150 HP, peso operacional 16,7T, com roda motriz elevada e lâmina 3,18 m³ - CHP diurno. AF_06/2014 | G38: chp | H38: =$K$1*K38 -> 274.04953 | J38: =I38*H38 -> 0 | K38: 0.018462222
A39: 95719 | B39: Escavadeira hidraulica sobre esteira, equipada com clamshell, com capacidade de caçambra entre 1,20 e 1,50 m³. Peso operacional entre 20 e 22 ton, potencia liquida entre 150 e 160 HP - materiais na operação. AF_11/2016 | G39: H | H39: =$K$1*K39 -> 274.04953 | J39: =I39*H39 -> 0 | K39: 0.018462222
B40: MANUTENÇÃO
A41: 96535 | B41: Fabricação, montagem e desmontagem de fôrma para sapata, em madeira serrada, e=25 mm, 4 utilizações. Af_06/2017 | G41: m² | H41: =(12450/2)/44 -> 141.47727 | J41: =I41*H41 -> 0 | K41: 0.0057463666
...

Sheet AREADO
A1: AREADO | E1: PLANILHA ORÇAMENTÁRIA - SINAPI - DATA BASE JUNHO DE 2025 PUBLICADO EM 11/07/2025 | K1: 30960.55
A3: CÓDIGO SINAPI | B3: DESCRIÇÃO DOS SERVIÇOS | G3: Und. | H3: Qtd. | I3: Valor Médio Unitário | J3: Valor Total
B4: ESCAVAÇÕES
A5: 5678 | B5: RETROESCAVADEIRA SOBRE RODAS COM CARREGADEIRA, TRAÇÃO 4X4, POTÊNCIA LÍQ. 88 HP, CAÇAMBA CARREG. CAP. MÍN. 1 M3, CAÇAMBA RETRO CAP. 0,26 M3, PESO OPERACIONAL MÍN. 6.674 KG, PROFUNDIDADE ESCAVAÇÃO MÁX. 4,37 M - CHP DIURNO. AF_06/2014 | G5: chp | H5: =K1*K5 -> 107.50149 | J5: =I5*H5 -> 0 | K5: 0.0034722085
A6: 93358 | B6: Escavação manual de vala com profundido menor ou igual a 1,30m. AF_02/2021 | G6: m³ | H6: =K1*K6 -> 1019.2477 | J6: =I6*H6 -> 0 | K6: 0.032920851
A7: 93382 | B7: Reaterro manual de valas, com compactador de solos de percussão. AF_08/2023 | G7: m³ | H7: =K1*K7 -> 742.78348 | J7: =I7*H7 -> 0 | K7: 0.023991288
A8: 101616 | B8: Preparo de fundo de vala com largura menor que 1,5m (acerto de solo natural). AF_08/2020 | G8: m² | H8: =K1*K8 -> 1071.3223 | J8: =I8*H8 -> 0 | K8: 0.034602819
B9: TRANSPORTES
A10: 100981 | B10: Carga, manobra e descarga de entulho em caminhão basculante de 6m³ - Carga com escavadeira hidráulica (caçamba de 0,80 m³ / 111hp) e descarga livre. AF_07/2020 | G10: m³ | H10: =H6-H7 -> 276.46418 | J10: =I10*H10 -> 0 | K10: 0.0089295629
B11: PAISAGISMO
A12: 103946 | B12: Plantio de grama esmeralda ou são carlos ou curitibana, em placas. AF_07/2024 | G12: m² | H12: =K1*K12 -> 5618.49 | J12: =I12*H12 -> 0 | K12: 0.18147255
A13: 98516 | B13: Plantio de palmeira com altura de muda menor ou igual a 2,0m . AF_07/2024 | G13: und | H13: 85 | J13: =I13*H13 -> 0 | K13: 0.0027508711
A14: 98509 | B14: Plantio de arbusto ou cerva viva. AF_07/2024 | G14: und | H14: 93 | J14: =I14*H14 -> 0 | K14: 0.0030001111
A15: 98511 | B15: Plantio de árvore ornamental com altura de muda maior que 2,0m e menor ou igual a 4,0m. AF_07/2024 | G15: und | H15: 86 | J15: =I15*H15 -> 0 | K15: 0.0027785644
A16: 98505 | B16: Plantio de forração | G16: m² | H16: =K1*K16 -> 1178.9261 | J16: =I16*H16 -> 0 | K16: 0.038078333
A17: 98526 | B17: Remoção de raízes remanescentes de tronco de árvore com diâmetro maior ou igual a 0,20m e menor que 0,40m. AF_03/2024 | G17: und | H17: 43 | J17: =I17*H17 -> 0 | K17: 0.0013846666
A18: 98527 | B18: Remoção de raízes remanescentes de tronco de árvore com diâmetro maior ou igual a 0,40m e menor que 0,60m. AF_03/2024 | G18: und | H18: 43 | J18: =I18*H18 -> 0 | K18: 0.0013846666
A19: 98528 | B19: Remoção de raízes remanescentes de tronco de árvore com diâmetro maior ou igual a 0,60m. AF_03/2024 | G19: und | H19: 43 | J19: =I19*H19 -> 0 | K19: 0.0013846666
A20: 98533 | B20: Poda em altura de árvore com diâmetro de tronco maior ou igual a 0,20m e menor que 0,40m. AF_03/2024 | G20: und | H20: 43 | J20: =I20*H20 -> 0 | K20: 0.0013846666
A21: 98534 | B21: Poda em altura de árvore com diâmetro de tronco maior ou igual a 0,40m e menor que 0,60m. AF_03/2024 | G21: und | H21: 43 | J21: =I21*H21 -> 0 | K21: 0.0013846666
A22: 98535 | B22: Poda em altura de árvore com diâmetro de tronco maior ou igual a 0,60m. AF_03/2024 | G22: und | H22: 43 | J22: =I22*H22 -> 0 | K22: 0.0013846666
A23: 105521 | B23: Espalhamento de terra vegetal para o plantio. AF_07/2024 | G23: m² | H23: 1178.93 | J23: =I23*H23 -> 0 | K23: 0.049232592
B24: SERVIÇOS e FERRAMENTAS
A25: 98519 | B25: Revolvimento e limpeza manual de solo | G25: m² | H25: =K1*K25 -> 66037.869 | J25: =I25*H25 -> 0 | K25: 2.1329682
A26: 98525 | B26: Limpeza mecanizada de camada vegetal, vegetação e pequenas árvores (diâmetro de tronco menor que 0,20m) com trator de esteiras. AF_03/2024 | G26: m² | H26: =K1*K26 -> 2489.8059 | J26: =I26*H26 -> 0 | K26: 0.080418658
A27: 99062 | B27: Marcação de pontos em gabarito ou cavalete. AF_03/2024 | G27: und | H27: 74 | J27: =I27*H27 -> 0 | K27: 0.0024000888
A28: 100210 | B28: Transporte horizontal com carrinho de mão, de blocos vazados de concreto ou cerâmico de 19x19x39 cm. AF_07/2019 | G28: unxkm | H28: =K1*K28 -> 605.89658 | J28: =I28*H28 -> 0 | K28: 0.019569955
B29: PROFISSIONAIS
A30: 93567 | B30: Engenheiro Civil de obra pleno | G30: mês | H30: 3 | J30: =I30*H30 -> 0 | K30: 0.00012185066
A31: 93570 | B31: Arquiteto de obra pleno | G31: mês | H31: 3 | J31: =I31*H31 -> 0 | K31: 0.00012185066
B32: MÁQUINAS E EQUIPAMENTOS
A33: 5678 | B33: Retroescavadeira sobre rodas com carregadeira, tração 4x4, potência líq. 88HP, caçamba carreg. cap. mín. 1m³, caçamba retro cap. 0,26 m³, peso operacional mín. 6.674kg, profundidade escavação máxim 4,37m - CHP diurno. AF_06/2014 | G33: chp | H33: =$K$1*K33 -> 771.66073 | J33: =I33*H33 -> 0 | K33: 0.024924
A34: 89882 | B34: Caminhão basculante 18 m³, com cavalo mecânico de capacidade máxima de tração combinado de 45000kg. Potência de 330CV, inclusive semireboque com caçamba metálica - Materiais na operação. AF_12/2014 | G34: H | H34: =$K$1*K34 -> 771.66073 | J34: =I34*H34 -> 0 | K34: 0.024924
A35: 95630 | B35: Rolo compactador vibratório tandem, aço liso, potência 125 HP, peso sem/com lastro 10,20/11,65 T, largura de trabalho 1,73m - materiais na operação. AF_11/2016 | G35: H | H35: =$K$1*K35 -> 571.60054 | J35: =I35*H35 -> 0 | K35: 0.018462222
A36: 53849 | B36: Motoniveladora potência básica líquida (primeira marcha) 125 HP, peso bruto 13032 kg, largura da lâmina de 3,7m - materiais na operação. AF_06/2014 | G36: H | H36: =$K$1*K36 -> 571.60054 | J36: =I36*H36 -> 0 | K36: 0.018462222
A37: 101006 | B37: Carga, manobra e descarga de água em caminhão pipa 10 m³. AF_07/2020 | G37: m³ | H37: =$K$1*K37 -> 1200.3611 | J37: =I37*H37 -> 0 | K37: 0.038770666
A38: 5851 | B38: Trator de esteira, potência 150 HP, peso operacional 16,7T, com roda motriz elevada e lâmina 3,18 m³ - CHP diurno. AF_06/2014 | G38: chp | H38: =$K$1*K38 -> 571.60054 | J38: =I38*H38 -> 0 | K38: 0.018462222
A39: 95719 | B39: Escavadeira hidraulica sobre esteira, equipada com clamshell, com capacidade de caçambra entre 1,20 e 1,50 m³. Peso operacional entre 20 e 22 ton, potencia liquida entre 150 e 160 HP - materiais na operação. AF_11/2016 | G39: H | H39: =$K$1*K39 -> 571.60054 | J39: =I39*H39 -> 0 | K39: 0.018462222
B40: MANUTENÇÃO
A41: 96535 | B41: Fabricação, montagem e desmontagem de fôrma para sapata, em madeira serrada, e=25 mm, 4 utilizações. Af_06/2017 | G41: m² | H41: =(12450/2)/44 -> 141.47727 | J41: =I41*H41 -> 0 | K41: 0.0057463666
...

Sheet BOA ESPERANÇA
A1: BOA ESPERANÇA | E1: PLANILHA ORÇAMENTÁRIA - SINAPI - DATA BASE JUNHO DE 2025 PUBLICADO EM 11/07/2025 | K1: 35171.11
A3: CÓDIGO SINAPI | B3: DESCRIÇÃO DOS SERVIÇOS | G3: Und. | H3: Qtd. | I3: Valor Médio Unitário | J3: Valor Total
B4: ESCAVAÇÕES
