Workbook

Sheet hab-cem-sep
A1: CIDADE | B1: HABITANTES | C1: CEMITÉRIOS | D1: SEPULTAMENTOS*
A2: AGUANIL | B2: 4490 | C2: 1 | D2: 30
A3: ALFENAS | B3: 81950 | C3: 2 | D3: 1100
A4: ALPINÓPOLIS | B4: 16672 | C4: 1 | D4: 125
A5: ALTEROSA | B5: 14253 | C5: 2 | D5: 95
A6: AREADO | B6: 14212 | C6: 2 | D6: 90
A7: BOA ESPERANÇA | B7: 41212 | C7: 1 | D7: 370
A8: CAMPO BELO | B8: 53943 | C8: 3 | D8: 400
A9: CABO VERDE | B9: 11396 | C9: 2 | D9: 60
A10: CAMACHO | B10: 2867 | C10: 1 | D10: 30
A11: CAMPO DO MEIO | B11: 11624 | C11: 1 | D11: 60
A12: CAMPOS GERAIS | B12: 21322 | C12: 2 | D12: 90
A13: CANA VERDE | B13: 11396 | C13: 1 | D13: 55
... A45: IPATINGA | B45: 235311 | C45: 3 | D45: 900
A46: TOTAL GERAL | B46: =SUM(B2:B43) -> 2078529 | C46: =SUM(C2:C45) -> 80 | D46: =SUM(D2:D45) -> 14177
A47: * A quantidade de seputamentos é aproximada.

Sheet CIMLAGO
A1: CIMLAGO | E1: PLANILHA ORÇAMENTÁRIA - SINAPI - DATA BASE JUNHO DE 2025 PUBLICADO EM 11/07/2025
A3: CÓDIGO SINAPI | B3: DESCRIÇÃO DOS SERVIÇOS | G3: Und. | H3: Qtd. | I3: Valor Médio Unitário | J3: Valor Total
B4: ESCAVAÇÕES
A5: 5678 | B5: RETROESCAVADEIRA SOBRE RODAS COM CARREGADEIRA, TRAÇÃO 4X4, POTÊNCIA LÍQ. 88 HP, CAÇAMBA CARREG. CAP. MÍN. 1 M3, CAÇAMBA RETRO CAP. 0,26 M3, PESO OPERACIONAL MÍN. 6.674 KG, PROFUNDIDADE ESCAVAÇÃO MÁX. 4,37 M - CHP DIURNO. AF_06/2014 | G5: chp | H5: =AGUANIL!H5+ALFENAS!H5+ALPINOPOLIS!H5+ALTEROSA!H5+AREADO!H5+'BOA ESPERANÇA'!H5+'CAMPO BELO'!H5+'CABO VERDE'!H5+CAMACHO!H5+'CAMPO DO MEIO'!H5+'CAMPOS GERAIS'!H5+'CANA VERDE'!H5+CANDEIAS!H5+CAPITÓLIO!H5+'CARMO DO RIO CLARO'!H5+'CONCEIÇÃO DA APARECIDA'!H5+COQUEIRAL!H5+CRISTAIS!H5+'DIVISA NOVA'!H5+'ELÓI MENDES'!H5+FAMA!H5+FORMIGA!H5+GUAPÉ!H5+ILICÍNEA!H5+JURUAIA!H5+LAVRAS!H5+MACHADO!H5+MUZAMBINHO!H5+NEPOMUCENO!H5+PARAGUAÇU!H5+PERDÕES!H5+PIMENTA!H5+'POÇO FUNDO'!H5+'RIBEIRÃO VERMELHO'!H5+'SÃO JOÃO BATISTA'!H5+'SÃO JOSÉ BARRA'!H5+SERRANIA!H5+'TRÊS PONTAS'!H5+VARGINHA!H5+COLATINA!H5+ARACRUZ!H5+'JOÃO PESSOA'!H5+LINHARES!H5+IPATINGA!H5 -> 3522.4948 | J5: =I5*H5 -> 0
A6: 93358 | B6: Escavação manual de vala com profundido menor ou igual a 1,30m. AF_02/2021 | G6: m³ | H6: =AGUANIL!H6+ALFENAS!H6+ALPINOPOLIS!H6+ALTEROSA!H6+AREADO!H6+'BOA ESPERANÇA'!H6+'CAMPO BELO'!H6+'CABO VERDE'!H6+CAMACHO!H6+'CAMPO DO MEIO'!H6+'CAMPOS GERAIS'!H6+'CANA VERDE'!H6+CANDEIAS!H6+CAPITÓLIO!H6+'CARMO DO RIO CLARO'!H6+'CONCEIÇÃO DA APARECIDA'!H6+COQUEIRAL!H6+CRISTAIS!H6+'DIVISA NOVA'!H6+'ELÓI MENDES'!H6+FAMA!H6+FORMIGA!H6+GUAPÉ!H6+ILICÍNEA!H6+JURUAIA!H6+LAVRAS!H6+MACHADO!H6+MUZAMBINHO!H6+NEPOMUCENO!H6+PARAGUAÇU!H6+PERDÕES!H6+PIMENTA!H6+'POÇO FUNDO'!H6+'RIBEIRÃO VERMELHO'!H6+'SÃO JOÃO BATISTA'!H6+'SÃO JOSÉ BARRA'!H6+SERRANIA!H6+'TRÊS PONTAS'!H6+VARGINHA!H6+COLATINA!H6+ARACRUZ!H6+'JOÃO PESSOA'!H6+LINHARES!H6+IPATINGA!H6 -> 36512.393 | J6: =I6*H6 -> 0
A7: 93382 | B7: Reaterro manual de valas, com compactador de solos de percussão. AF_08/2023 | G7: m³ | H7: =AGUANIL!H7+ALFENAS!H7+ALPINOPOLIS!H7+ALTEROSA!H7+AREADO!H7+'BOA ESPERANÇA'!H7+'CAMPO BELO'!H7+'CABO VERDE'!H7+CAMACHO!H7+'CAMPO DO MEIO'!H7+'CAMPOS GERAIS'!H7+'CANA VERDE'!H7+CANDEIAS!H7+CAPITÓLIO!H7+'CARMO DO RIO CLARO'!H7+'CONCEIÇÃO DA APARECIDA'!H7+COQUEIRAL!H7+CRISTAIS!H7+'DIVISA NOVA'!H7+'ELÓI MENDES'!H7+FAMA!H7+FORMIGA!H7+GUAPÉ!H7+ILICÍNEA!H7+JURUAIA!H7+LAVRAS!H7+MACHADO!H7+MUZAMBINHO!H7+NEPOMUCENO!H7+PARAGUAÇU!H7+PERDÕES!H7+PIMENTA!H7+'POÇO FUNDO'!H7+'RIBEIRÃO VERMELHO'!H7+'SÃO JOÃO BATISTA'!H7+'SÃO JOSÉ BARRA'!H7+SERRANIA!H7+'TRÊS PONTAS'!H7+VARGINHA!H7+COLATINA!H7+ARACRUZ!H7+'JOÃO PESSOA'!H7+LINHARES!H7+IPATINGA!H7 -> 24750.987 | J7: =I7*H7 -> 0
A8: 101616 | B8: Preparo de fundo de vala com largura menor que 1,5m (acerto de solo natural). AF_08/2020 | G8: m² | H8: =AGUANIL!H8+ALFENAS!H8+ALPINOPOLIS!H8+ALTEROSA!H8+AREADO!H8+'BOA ESPERANÇA'!H8+'CAMPO BELO'!H8+'CABO VERDE'!H8+CAMACHO!H8+'CAMPO DO MEIO'!H8+'CAMPOS GERAIS'!H8+'CANA VERDE'!H8+CANDEIAS!H8+CAPITÓLIO!H8+'CARMO DO RIO CLARO'!H8+'CONCEIÇÃO DA APARECIDA'!H8+COQUEIRAL!H8+CRISTAIS!H8+'DIVISA NOVA'!H8+'ELÓI MENDES'!H8+FAMA!H8+FORMIGA!H8+GUAPÉ!H8+ILICÍNEA!H8+JURUAIA!H8+LAVRAS!H8+MACHADO!H8+MUZAMBINHO!H8+NEPOMUCENO!H8+PARAGUAÇU!H8+PERDÕES!H8+PIMENTA!H8+'POÇO FUNDO'!H8+'RIBEIRÃO VERMELHO'!H8+'SÃO JOÃO BATISTA'!H8+'SÃO JOSÉ BARRA'!H8+SERRANIA!H8+'TRÊS PONTAS'!H8+VARGINHA!H8+COLATINA!H8+ARACRUZ!H8+'JOÃO PESSOA'!H8+LINHARES!H8+IPATINGA!H8 -> 35698.539 | J8: =I8*H8 -> 0
B9: TRANSPORTES
A10: 100981 | B10: Carga, manobra e descarga de entulho em caminhão basculante de 6m³ - Carga com escavadeira hidráulica (caçamba de 0,80 m³ / 111hp) e descarga livre. AF_07/2020 | G10: m³ | H10: =AGUANIL!H10+ALFENAS!H10+ALPINOPOLIS!H10+ALTEROSA!H10+AREADO!H10+'BOA ESPERANÇA'!H10+'CAMPO BELO'!H10+'CABO VERDE'!H10+CAMACHO!H10+'CAMPO DO MEIO'!H10+'CAMPOS GERAIS'!H10+'CANA VERDE'!H10+CANDEIAS!H10+CAPITÓLIO!H10+'CARMO DO RIO CLARO'!H10+'CONCEIÇÃO DA APARECIDA'!H10+COQUEIRAL!H10+CRISTAIS!H10+'DIVISA NOVA'!H10+'ELÓI MENDES'!H10+FAMA!H10+FORMIGA!H10+GUAPÉ!H10+ILICÍNEA!H10+JURUAIA!H10+LAVRAS!H10+MACHADO!H10+MUZAMBINHO!H10+NEPOMUCENO!H10+PARAGUAÇU!H10+PERDÕES!H10+PIMENTA!H10+'POÇO FUNDO'!H10+'RIBEIRÃO VERMELHO'!H10+'SÃO JOÃO BATISTA'!H10+'SÃO JOSÉ BARRA'!H10+SERRANIA!H10+'TRÊS PONTAS'!H10+VARGINHA!H10+COLATINA!H10+ARACRUZ!H10+'JOÃO PESSOA'!H10+LINHARES!H10+IPATINGA!H10 -> 11761.406 | J10: =I10*H10 -> 0
B11: PAISAGISMO
A12: 103946 | B12: Plantio de grama esmeralda ou são carlos ou curitibana, em placas. AF_07/2024 | G12: m² | H12: =AGUANIL!H12+ALFENAS!H12+ALPINOPOLIS!H12+ALTEROSA!H12+AREADO!H12+'BOA ESPERANÇA'!H12+'CAMPO BELO'!H12+'CABO VERDE'!H12+CAMACHO!H12+'CAMPO DO MEIO'!H12+'CAMPOS GERAIS'!H12+'CANA VERDE'!H12+CANDEIAS!H12+CAPITÓLIO!H12+'CARMO DO RIO CLARO'!H12+'CONCEIÇÃO DA APARECIDA'!H12+COQUEIRAL!H12+CRISTAIS!H12+'DIVISA NOVA'!H12+'ELÓI MENDES'!H12+FAMA!H12+FORMIGA!H12+GUAPÉ!H12+ILICÍNEA!H12+JURUAIA!H12+LAVRAS!H12+MACHADO!H12+MUZAMBINHO!H12+NEPOMUCENO!H12+PARAGUAÇU!H12+PERDÕES!H12+PIMENTA!H12+'POÇO FUNDO'!H12+'RIBEIRÃO VERMELHO'!H12+'SÃO JOÃO BATISTA'!H12+'SÃO JOSÉ BARRA'!H12+SERRANIA!H12+'TRÊS PONTAS'!H12+VARGINHA!H12+COLATINA!H12+ARACRUZ!H12+'JOÃO PESSOA'!H12+LINHARES!H12+IPATINGA!H12 -> 204087.53 | J12: =I12*H12 -> 0
A13: 98516 | B13: Plantio de palmeira com altura de muda menor ou igual a 2,0m . AF_07/2024 | G13: und | H13: =AGUANIL!H13+ALFENAS!H13+ALPINOPOLIS!H13+ALTEROSA!H13+AREADO!H13+'BOA ESPERANÇA'!H13+'CAMPO BELO'!H13+'CABO VERDE'!H13+CAMACHO!H13+'CAMPO DO MEIO'!H13+'CAMPOS GERAIS'!H13+'CANA VERDE'!H13+CANDEIAS!H13+CAPITÓLIO!H13+'CARMO DO RIO CLARO'!H13+'CONCEIÇÃO DA APARECIDA'!H13+COQUEIRAL!H13+CRISTAIS!H13+'DIVISA NOVA'!H13+'ELÓI MENDES'!H13+FAMA!H13+FORMIGA!H13+GUAPÉ!H13+ILICÍNEA!H13+JURUAIA!H13+LAVRAS!H13+MACHADO!H13+MUZAMBINHO!H13+NEPOMUCENO!H13+PARAGUAÇU!H13+PERDÕES!H13+PIMENTA!H13+'POÇO FUNDO'!H13+'RIBEIRÃO VERMELHO'!H13+'SÃO JOÃO BATISTA'!H13+'SÃO JOSÉ BARRA'!H13+SERRANIA!H13+'TRÊS PONTAS'!H13+VARGINHA!H13+COLATINA!H13+ARACRUZ!H13+'JOÃO PESSOA'!H13+LINHARES!H13+IPATINGA!H13 -> 2528 | J13: =I13*H13 -> 0
A14: 98509 | B14: Plantio de arbusto ou cerva viva. AF_07/2024 | G14: und | H14: =AGUANIL!H14+ALFENAS!H14+ALPINOPOLIS!H14+ALTEROSA!H14+AREADO!H14+'BOA ESPERANÇA'!H14+'CAMPO BELO'!H14+'CABO VERDE'!H14+CAMACHO!H14+'CAMPO DO MEIO'!H14+'CAMPOS GERAIS'!H14+'CANA VERDE'!H14+CANDEIAS!H14+CAPITÓLIO!H14+'CARMO DO RIO CLARO'!H14+'CONCEIÇÃO DA APARECIDA'!H14+COQUEIRAL!H14+CRISTAIS!H14+'DIVISA NOVA'!H14+'ELÓI MENDES'!H14+FAMA!H14+FORMIGA!H14+GUAPÉ!H14+ILICÍNEA!H14+JURUAIA!H14+LAVRAS!H14+MACHADO!H14+MUZAMBINHO!H14+NEPOMUCENO!H14+PARAGUAÇU!H14+PERDÕES!H14+PIMENTA!H14+'POÇO FUNDO'!H14+'RIBEIRÃO VERMELHO'!H14+'SÃO JOÃO BATISTA'!H14+'SÃO JOSÉ BARRA'!H14+SERRANIA!H14+'TRÊS PONTAS'!H14+VARGINHA!H14+COLATINA!H14+ARACRUZ!H14+'JOÃO PESSOA'!H14+LINHARES!H14+IPATINGA!H14 -> 2889.9999 | J14: =I14*H14 -> 0
A15: 98511 | B15: Plantio de árvore ornamental com altura de muda maior que 2,0m e menor ou igual a 4,0m. AF_07/2024 | G15: und | H15: =AGUANIL!H15+ALFENAS!H15+ALPINOPOLIS!H15+ALTEROSA!H15+AREADO!H15+'BOA ESPERANÇA'!H15+'CAMPO BELO'!H15+'CABO VERDE'!H15+CAMACHO!H15+'CAMPO DO MEIO'!H15+'CAMPOS GERAIS'!H15+'CANA VERDE'!H15+CANDEIAS!H15+CAPITÓLIO!H15+'CARMO DO RIO CLARO'!H15+'CONCEIÇÃO DA APARECIDA'!H15+COQUEIRAL!H15+CRISTAIS!H15+'DIVISA NOVA'!H15+'ELÓI MENDES'!H15+FAMA!H15+FORMIGA!H15+GUAPÉ!H15+ILICÍNEA!H15+JURUAIA!H15+LAVRAS!H15+MACHADO!H15+MUZAMBINHO!H15+NEPOMUCENO!H15+PARAGUAÇU!H15+PERDÕES!H15+PIMENTA!H15+'POÇO FUNDO'!H15+'RIBEIRÃO VERMELHO'!H15+'SÃO JOÃO BATISTA'!H15+'SÃO JOSÉ BARRA'!H15+SERRANIA!H15+'TRÊS PONTAS'!H15+VARGINHA!H15+COLATINA!H15+ARACRUZ!H15+'JOÃO PESSOA'!H15+LINHARES!H15+IPATINGA!H15 -> 2592 | J15: =I15*H15 -> 0
A16: 98505 | B16: Plantio de forração | G16: m² | H16: =AGUANIL!H16+ALFENAS!H16+ALPINOPOLIS!H16+ALTEROSA!H16+AREADO!H16+'BOA ESPERANÇA'!H16+'CAMPO BELO'!H16+'CABO VERDE'!H16+CAMACHO!H16+'CAMPO DO MEIO'!H16+'CAMPOS GERAIS'!H16+'CANA VERDE'!H16+CANDEIAS!H16+CAPITÓLIO!H16+'CARMO DO RIO CLARO'!H16+'CONCEIÇÃO DA APARECIDA'!H16+COQUEIRAL!H16+CRISTAIS!H16+'DIVISA NOVA'!H16+'ELÓI MENDES'!H16+FAMA!H16+FORMIGA!H16+GUAPÉ!H16+ILICÍNEA!H16+JURUAIA!H16+LAVRAS!H16+MACHADO!H16+MUZAMBINHO!H16+NEPOMUCENO!H16+PARAGUAÇU!H16+PERDÕES!H16+PIMENTA!H16+'POÇO FUNDO'!H16+'RIBEIRÃO VERMELHO'!H16+'SÃO JOÃO BATISTA'!H16+'SÃO JOSÉ BARRA'!H16+SERRANIA!H16+'TRÊS PONTAS'!H16+VARGINHA!H16+COLATINA!H16+ARACRUZ!H16+'JOÃO PESSOA'!H16+LINHARES!H16+IPATINGA!H16 -> 43889.631 | J16: =I16*H16 -> 0
A17: 98526 | B17: Remoção de raízes remanescentes de tronco de árvore com diâmetro maior ou igual a 0,20m e menor que 0,40m. AF_03/2024 | G17: und | H17: =AGUANIL!H17+ALFENAS!H17+ALPINOPOLIS!H17+ALTEROSA!H17+AREADO!H17+'BOA ESPERANÇA'!H17+'CAMPO BELO'!H17+'CABO VERDE'!H17+CAMACHO!H17+'CAMPO DO MEIO'!H17+'CAMPOS GERAIS'!H17+'CANA VERDE'!H17+CANDEIAS!H17+CAPITÓLIO!H17+'CARMO DO RIO CLARO'!H17+'CONCEIÇÃO DA APARECIDA'!H17+COQUEIRAL!H17+CRISTAIS!H17+'DIVISA NOVA'!H17+'ELÓI MENDES'!H17+FAMA!H17+FORMIGA!H17+GUAPÉ!H17+ILICÍNEA!H17+JURUAIA!H17+LAVRAS!H17+MACHADO!H17+MUZAMBINHO!H17+NEPOMUCENO!H17+PARAGUAÇU!H17+PERDÕES!H17+PIMENTA!H17+'POÇO FUNDO'!H17+'RIBEIRÃO VERMELHO'!H17+'SÃO JOÃO BATISTA'!H17+'SÃO JOSÉ BARRA'!H17+SERRANIA!H17+'TRÊS PONTAS'!H17+VARGINHA!H17+COLATINA!H17+ARACRUZ!H17+'JOÃO PESSOA'!H17+LINHARES!H17+IPATINGA!H17 -> 1255.9952 | J17: =I17*H17 -> 0
A18: 98527 | B18: Remoção de raízes remanescentes de tronco de árvore com diâmetro maior ou igual a 0,40m e menor que 0,60m. AF_03/2024 | G18: und | H18: =AGUANIL!H18+ALFENAS!H18+ALPINOPOLIS!H18+ALTEROSA!H18+AREADO!H18+'BOA ESPERANÇA'!H18+'CAMPO BELO'!H18+'CABO VERDE'!H18+CAMACHO!H18+'CAMPO DO MEIO'!H18+'CAMPOS GERAIS'!H18+'CANA VERDE'!H18+CANDEIAS!H18+CAPITÓLIO!H18+'CARMO DO RIO CLARO'!H18+'CONCEIÇÃO DA APARECIDA'!H18+COQUEIRAL!H18+CRISTAIS!H18+'DIVISA NOVA'!H18+'ELÓI MENDES'!H18+FAMA!H18+FORMIGA!H18+GUAPÉ!H18+ILICÍNEA!H18+JURUAIA!H18+LAVRAS!H18+MACHADO!H18+MUZAMBINHO!H18+NEPOMUCENO!H18+PARAGUAÇU!H18+PERDÕES!H18+PIMENTA!H18+'POÇO FUNDO'!H18+'RIBEIRÃO VERMELHO'!H18+'SÃO JOÃO BATISTA'!H18+'SÃO JOSÉ BARRA'!H18+SERRANIA!H18+'TRÊS PONTAS'!H18+VARGINHA!H18+COLATINA!H18+ARACRUZ!H18+'JOÃO PESSOA'!H18+LINHARES!H18+IPATINGA!H18 -> 1255.9952 | J18: =I18*H18 -> 0
A19: 98528 | B19: Remoção de raízes remanescentes de tronco de árvore com diâmetro maior ou igual a 0,60m. AF_03/2024 | G19: und | H19: =AGUANIL!H19+ALFENAS!H19+ALPINOPOLIS!H19+ALTEROSA!H19+AREADO!H19+'BOA ESPERANÇA'!H19+'CAMPO BELO'!H19+'CABO VERDE'!H19+CAMACHO!H19+'CAMPO DO MEIO'!H19+'CAMPOS GERAIS'!H19+'CANA VERDE'!H19+CANDEIAS!H19+CAPITÓLIO!H19+'CARMO DO RIO CLARO'!H19+'CONCEIÇÃO DA APARECIDA'!H19+COQUEIRAL!H19+CRISTAIS!H19+'DIVISA NOVA'!H19+'ELÓI MENDES'!H19+FAMA!H19+FORMIGA!H19+GUAPÉ!H19+ILICÍNEA!H19+JURUAIA!H19+LAVRAS!H19+MACHADO!H19+MUZAMBINHO!H19+NEPOMUCENO!H19+PARAGUAÇU!H19+PERDÕES!H19+PIMENTA!H19+'POÇO FUNDO'!H19+'RIBEIRÃO VERMELHO'!H19+'SÃO JOÃO BATISTA'!H19+'SÃO JOSÉ BARRA'!H19+SERRANIA!H19+'TRÊS PONTAS'!H19+VARGINHA!H19+COLATINA!H19+ARACRUZ!H19+'JOÃO PESSOA'!H19+LINHARES!H19+IPATINGA!H19 -> 1255.9952 | J19: =I19*H19 -> 0
A20: 98533 | B20: Poda em altura de árvore com diâmetro de tronco maior ou igual a 0,20m e menor que 0,40m. AF_03/2024 | G20: und | H20: =AGUANIL!H20+ALFENAS!H20+ALPINOPOLIS!H20+ALTEROSA!H20+AREADO!H20+'BOA ESPERANÇA'!H20+'CAMPO BELO'!H20+'CABO VERDE'!H20+CAMACHO!H20+'CAMPO DO MEIO'!H20+'CAMPOS GERAIS'!H20+'CANA VERDE'!H20+CANDEIAS!H20+CAPITÓLIO!H20+'CARMO DO RIO CLARO'!H20+'CONCEIÇÃO DA APARECIDA'!H20+COQUEIRAL!H20+CRISTAIS!H20+'DIVISA NOVA'!H20+'ELÓI MENDES'!H20+FAMA!H20+FORMIGA!H20+GUAPÉ!H20+ILICÍNEA!H20+JURUAIA!H20+LAVRAS!H20+MACHADO!H20+MUZAMBINHO!H20+NEPOMUCENO!H20+PARAGUAÇU!H20+PERDÕES!H20+PIMENTA!H20+'POÇO FUNDO'!H20+'RIBEIRÃO VERMELHO'!H20+'SÃO JOÃO BATISTA'!H20+'SÃO JOSÉ BARRA'!H20+SERRANIA!H20+'TRÊS PONTAS'!H20+VARGINHA!H20+COLATINA!H20+ARACRUZ!H20+'JOÃO PESSOA'!H20+LINHARES!H20+IPATINGA!H20 -> 1255.9952 | J20: =I20*H20 -> 0
A21: 98534 | B21: Poda em altura de árvore com diâmetro de tronco maior ou igual a 0,40m e menor que 0,60m. AF_03/2024 | G21: und | H21: =AGUANIL!H21+ALFENAS!H21+ALPINOPOLIS!H21+ALTEROSA!H21+AREADO!H21+'BOA ESPERANÇA'!H21+'CAMPO BELO'!H21+'CABO VERDE'!H21+CAMACHO!H21+'CAMPO DO MEIO'!H21+'CAMPOS GERAIS'!H21+'CANA VERDE'!H21+CANDEIAS!H21+CAPITÓLIO!H21+'CARMO DO RIO CLARO'!H21+'CONCEIÇÃO DA APARECIDA'!H21+COQUEIRAL!H21+CRISTAIS!H21+'DIVISA NOVA'!H21+'ELÓI MENDES'!H21+FAMA!H21+FORMIGA!H21+GUAPÉ!H21+ILICÍNEA!H21+JURUAIA!H21+LAVRAS!H21+MACHADO!H21+MUZAMBINHO!H21+NEPOMUCENO!H21+PARAGUAÇU!H21+PERDÕES!H21+PIMENTA!H21+'POÇO FUNDO'!H21+'RIBEIRÃO VERMELHO'!H21+'SÃO JOÃO BATISTA'!H21+'SÃO JOSÉ BARRA'!H21+SERRANIA!H21+'TRÊS PONTAS'!H21+VARGINHA!H21+COLATINA!H21+ARACRUZ!H21+'JOÃO PESSOA'!H21+LINHARES!H21+IPATINGA!H21 -> 1255.9952 | J21: =I21*H21 -> 0
A22: 98535 | B22: Poda em altura de árvore com diâmetro de tronco maior ou igual a 0,60m. AF_03/2024 | G22: und | H22: =AGUANIL!H22+ALFENAS!H22+ALPINOPOLIS!H22+ALTEROSA!H22+AREADO!H22+'BOA ESPERANÇA'!H22+'CAMPO BELO'!H22+'CABO VERDE'!H22+CAMACHO!H22+'CAMPO DO MEIO'!H22+'CAMPOS GERAIS'!H22+'CANA VERDE'!H22+CANDEIAS!H22+CAPITÓLIO!H22+'CARMO DO RIO CLARO'!H22+'CONCEIÇÃO DA APARECIDA'!H22+COQUEIRAL!H22+CRISTAIS!H22+'DIVISA NOVA'!H22+'ELÓI MENDES'!H22+FAMA!H22+FORMIGA!H22+GUAPÉ!H22+ILICÍNEA!H22+JURUAIA!H22+LAVRAS!H22+MACHADO!H22+MUZAMBINHO!H22+NEPOMUCENO!H22+PARAGUAÇU!H22+PERDÕES!H22+PIMENTA!H22+'POÇO FUNDO'!H22+'RIBEIRÃO VERMELHO'!H22+'SÃO JOÃO BATISTA'!H22+'SÃO JOSÉ BARRA'!H22+SERRANIA!H22+'TRÊS PONTAS'!H22+VARGINHA!H22+COLATINA!H22+ARACRUZ!H22+'JOÃO PESSOA'!H22+LINHARES!H22+IPATINGA!H22 -> 1255.9952 | J22: =I22*H22 -> 0
A23: 105521 | B23: Espalhamento de terra vegetal para o plantio. AF_07/2024 | G23: m² | H23: =AGUANIL!H23+ALFENAS!H23+ALPINOPOLIS!H23+ALTEROSA!H23+AREADO!H23+'BOA ESPERANÇA'!H23+'CAMPO BELO'!H23+'CABO VERDE'!H23+CAMACHO!H23+'CAMPO DO MEIO'!H23+'CAMPOS GERAIS'!H23+'CANA VERDE'!H23+CANDEIAS!H23+CAPITÓLIO!H23+'CARMO DO RIO CLARO'!H23+'CONCEIÇÃO DA APARECIDA'!H23+COQUEIRAL!H23+CRISTAIS!H23+'DIVISA NOVA'!H23+'ELÓI MENDES'!H23+FAMA!H23+FORMIGA!H23+GUAPÉ!H23+ILICÍNEA!H23+JURUAIA!H23+LAVRAS!H23+MACHADO!H23+MUZAMBINHO!H23+NEPOMUCENO!H23+PARAGUAÇU!H23+PERDÕES!H23+PIMENTA!H23+'POÇO FUNDO'!H23+'RIBEIRÃO VERMELHO'!H23+'SÃO JOÃO BATISTA'!H23+'SÃO JOSÉ BARRA'!H23+SERRANIA!H23+'TRÊS PONTAS'!H23+VARGINHA!H23+COLATINA!H23+ARACRUZ!H23+'JOÃO PESSOA'!H23+LINHARES!H23+IPATINGA!H23 -> 38889.65 | J23: =I23*H23 -> 0
B24: SERVIÇOS e FERRAMENTAS
A25: 98519 | B25: Revolvimento e limpeza manual de solo | G25: m² | H25: =AGUANIL!H25+ALFENAS!H25+ALPINOPOLIS!H25+ALTEROSA!H25+AREADO!H25+'BOA ESPERANÇA'!H25+'CAMPO BELO'!H25+'CABO VERDE'!H25+CAMACHO!H25+'CAMPO DO MEIO'!H25+'CAMPOS GERAIS'!H25+'CANA VERDE'!H25+CANDEIAS!H25+CAPITÓLIO!H25+'CARMO DO RIO CLARO'!H25+'CONCEIÇÃO DA APARECIDA'!H25+COQUEIRAL!H25+CRISTAIS!H25+'DIVISA NOVA'!H25+'ELÓI MENDES'!H25+FAMA!H25+FORMIGA!H25+GUAPÉ!H25+ILICÍNEA!H25+JURUAIA!H25+LAVRAS!H25+MACHADO!H25+MUZAMBINHO!H25+NEPOMUCENO!H25+PARAGUAÇU!H25+PERDÕES!H25+PIMENTA!H25+'POÇO FUNDO'!H25+'RIBEIRÃO VERMELHO'!H25+'SÃO JOÃO BATISTA'!H25+'SÃO JOSÉ BARRA'!H25+SERRANIA!H25+'TRÊS PONTAS'!H25+VARGINHA!H25+COLATINA!H25+ARACRUZ!H25+'JOÃO PESSOA'!H25+LINHARES!H25+IPATINGA!H25 -> 2664152.7 | J25: =I25*H25 -> 0
A26: 98525 | B26: Limpeza mecanizada de camada vegetal, vegetação e pequenas árvores (diâmetro de tronco menor que 0,20m) com trator de esteiras. AF_03/2024 | G26: m² | H26: =AGUANIL!H26+ALFENAS!H26+ALPINOPOLIS!H26+ALTEROSA!H26+AREADO!H26+'BOA ESPERANÇA'!H26+'CAMPO BELO'!H26+'CABO VERDE'!H26+CAMACHO!H26+'CAMPO DO MEIO'!H26+'CAMPOS GERAIS'!H26+'CANA VERDE'!H26+CANDEIAS!H26+CAPITÓLIO!H26+'CARMO DO RIO CLARO'!H26+'CONCEIÇÃO DA APARECIDA'!H26+COQUEIRAL!H26+CRISTAIS!H26+'DIVISA NOVA'!H26+'ELÓI MENDES'!H26+FAMA!H26+FORMIGA!H26+GUAPÉ!H26+ILICÍNEA!H26+JURUAIA!H26+LAVRAS!H26+MACHADO!H26+MUZAMBINHO!H26+NEPOMUCENO!H26+PARAGUAÇU!H26+PERDÕES!H26+PIMENTA!H26+'POÇO FUNDO'!H26+'RIBEIRÃO VERMELHO'!H26+'SÃO JOÃO BATISTA'!H26+'SÃO JOSÉ BARRA'!H26+SERRANIA!H26+'TRÊS PONTAS'!H26+VARGINHA!H26+COLATINA!H26+ARACRUZ!H26+'JOÃO PESSOA'!H26+LINHARES!H26+IPATINGA!H26 -> 646453.17 | J26: =I26*H26 -> 0
A27: 99062 | B27: Marcação de pontos em gabarito ou cavalete. AF_03/2024 | G27: und | H27: =AGUANIL!H27+ALFENAS!H27+ALPINOPOLIS!H27+ALTEROSA!H27+AREADO!H27+'BOA ESPERANÇA'!H27+'CAMPO BELO'!H27+'CABO VERDE'!H27+CAMACHO!H27+'CAMPO DO MEIO'!H27+'CAMPOS GERAIS'!H27+'CANA VERDE'!H27+CANDEIAS!H27+CAPITÓLIO!H27+'CARMO DO RIO CLARO'!H27+'CONCEIÇÃO DA APARECIDA'!H27+COQUEIRAL!H27+CRISTAIS!H27+'DIVISA NOVA'!H27+'ELÓI MENDES'!H27+FAMA!H27+FORMIGA!H27+GUAPÉ!H27+ILICÍNEA!H27+JURUAIA!H27+LAVRAS!H27+MACHADO!H27+MUZAMBINHO!H27+NEPOMUCENO!H27+PARAGUAÇU!H27+PERDÕES!H27+PIMENTA!H27+'POÇO FUNDO'!H27+'RIBEIRÃO VERMELHO'!H27+'SÃO JOÃO BATISTA'!H27+'SÃO JOSÉ BARRA'!H27+SERRANIA!H27+'TRÊS PONTAS'!H27+VARGINHA!H27+COLATINA!H27+ARACRUZ!H27+'JOÃO PESSOA'!H27+LINHARES!H27+IPATINGA!H27 -> 2754.9998 | J27: =I27*H27 -> 0
A28: 100210 | B28: Transporte horizontal com carrinho de mão, de blocos vazados de concreto ou cerâmico de 19x19x39 cm. AF_07/2019 | G28: unxkm | H28: =AGUANIL!H28+ALFENAS!H28+ALPINOPOLIS!H28+ALTEROSA!H28+AREADO!H28+'BOA ESPERANÇA'!H28+'CAMPO BELO'!H28+'CABO VERDE'!H28+CAMACHO!H28+'CAMPO DO MEIO'!H28+'CAMPOS GERAIS'!H28+'CANA VERDE'!H28+CANDEIAS!H28+CAPITÓLIO!H28+'CARMO DO RIO CLARO'!H28+'CONCEIÇÃO DA APARECIDA'!H28+COQUEIRAL!H28+CRISTAIS!H28+'DIVISA NOVA'!H28+'ELÓI MENDES'!H28+FAMA!H28+FORMIGA!H28+GUAPÉ!H28+ILICÍNEA!H28+JURUAIA!H28+LAVRAS!H28+MACHADO!H28+MUZAMBINHO!H28+NEPOMUCENO!H28+PARAGUAÇU!H28+PERDÕES!H28+PIMENTA!H28+'POÇO FUNDO'!H28+'RIBEIRÃO VERMELHO'!H28+'SÃO JOÃO BATISTA'!H28+'SÃO JOSÉ BARRA'!H28+SERRANIA!H28+'TRÊS PONTAS'!H28+VARGINHA!H28+COLATINA!H28+ARACRUZ!H28+'JOÃO PESSOA'!H28+LINHARES!H28+IPATINGA!H28 -> 19388.246 | J28: =I28*H28 -> 0
B29: PROFISSIONAIS
A30: 93567 | B30: Engenheiro Civil de obra pleno | G30: mês | H30: =AGUANIL!H30+ALFENAS!H30+ALPINOPOLIS!H30+ALTEROSA!H30+AREADO!H30+'BOA ESPERANÇA'!H30+'CAMPO BELO'!H30+'CABO VERDE'!H30+CAMACHO!H30+'CAMPO DO MEIO'!H30+'CAMPOS GERAIS'!H30+'CANA VERDE'!H30+CANDEIAS!H30+CAPITÓLIO!H30+'CARMO DO RIO CLARO'!H30+'CONCEIÇÃO DA APARECIDA'!H30+COQUEIRAL!H30+CRISTAIS!H30+'DIVISA NOVA'!H30+'ELÓI MENDES'!H30+FAMA!H30+FORMIGA!H30+GUAPÉ!H30+ILICÍNEA!H30+JURUAIA!H30+LAVRAS!H30+MACHADO!H30+MUZAMBINHO!H30+NEPOMUCENO!H30+PARAGUAÇU!H30+PERDÕES!H30+PIMENTA!H30+'POÇO FUNDO'!H30+'RIBEIRÃO VERMELHO'!H30+'SÃO JOÃO BATISTA'!H30+'SÃO JOSÉ BARRA'!H30+SERRANIA!H30+'TRÊS PONTAS'!H30+VARGINHA!H30+COLATINA!H30+ARACRUZ!H30+'JOÃO PESSOA'!H30+LINHARES!H30+IPATINGA!H30 -> 141 | J30: =I30*H30 -> 0
A31: 93570 | B31: Arquiteto de obra pleno | G31: mês | H31: =AGUANIL!H31+ALFENAS!H31+ALPINOPOLIS!H31+ALTEROSA!H31+AREADO!H31+'BOA ESPERANÇA'!H31+'CAMPO BELO'!H31+'CABO VERDE'!H31+CAMACHO!H31+'CAMPO DO MEIO'!H31+'CAMPOS GERAIS'!H31+'CANA VERDE'!H31+CANDEIAS!H31+CAPITÓLIO!H31+'CARMO DO RIO CLARO'!H31+'CONCEIÇÃO DA APARECIDA'!H31+COQUEIRAL!H31+CRISTAIS!H31+'DIVISA NOVA'!H31+'ELÓI MENDES'!H31+FAMA!H31+FORMIGA!H31+GUAPÉ!H31+ILICÍNEA!H31+JURUAIA!H31+LAVRAS!H31+MACHADO!H31+MUZAMBINHO!H31+NEPOMUCENO!H31+PARAGUAÇU!H31+PERDÕES!H31+PIMENTA!H31+'POÇO FUNDO'!H31+'RIBEIRÃO VERMELHO'!H31+'SÃO JOÃO BATISTA'!H31+'SÃO JOSÉ BARRA'!H31+SERRANIA!H31+'TRÊS PONTAS'!H31+VARGINHA!H31+COLATINA!H31+ARACRUZ!H31+'JOÃO PESSOA'!H31+LINHARES!H31+IPATINGA!H31 -> 141 | J31: =I31*H31 -> 0
B32: MÁQUINAS E EQUIPAMENTOS
A33: 5678 | B33: Retroescavadeira sobre rodas com carregadeira, tração 4x4, potência líq. 88HP, caçamba carreg. cap. mín. 1m³, caçamba retro cap. 0,26 m³, peso operacional mín. 6.674kg, profundidade escavação máxim 4,37m - CHP diurno. AF_06/2014 | G33: chp | H33: =AGUANIL!H33+ALFENAS!H33+ALPINOPOLIS!H33+ALTEROSA!H33+AREADO!H33+'BOA ESPERANÇA'!H33+'CAMPO BELO'!H33+'CABO VERDE'!H33+CAMACHO!H33+'CAMPO DO MEIO'!H33+'CAMPOS GERAIS'!H33+'CANA VERDE'!H33+CANDEIAS!H33+CAPITÓLIO!H33+'CARMO DO RIO CLARO'!H33+'CONCEIÇÃO DA APARECIDA'!H33+COQUEIRAL!H33+CRISTAIS!H33+'DIVISA NOVA'!H33+'ELÓI MENDES'!H33+FAMA!H33+FORMIGA!H33+GUAPÉ!H33+ILICÍNEA!H33+JURUAIA!H33+LAVRAS!H33+MACHADO!H33+MUZAMBINHO!H33+NEPOMUCENO!H33+PARAGUAÇU!H33+PERDÕES!H33+PIMENTA!H33+'POÇO FUNDO'!H33+'RIBEIRÃO VERMELHO'!H33+'SÃO JOÃO BATISTA'!H33+'SÃO JOSÉ BARRA'!H33+SERRANIA!H33+'TRÊS PONTAS'!H33+VARGINHA!H33+COLATINA!H33+ARACRUZ!H33+'JOÃO PESSOA'!H33+LINHARES!H33+IPATINGA!H33 -> 25418.992 | J33: =I33*H33 -> 0
A34: 89882 | B34: Caminhão basculante 18 m³, com cavalo mecânico de capacidade máxima de tração combinado de 45000kg. Potência de 330CV, inclusive semireboque com caçamba metálica - Materiais na operação. AF_12/2014 | G34: H | H34: =AGUANIL!H34+ALFENAS!H34+ALPINOPOLIS!H34+ALTEROSA!H34+AREADO!H34+'BOA ESPERANÇA'!H34+'CAMPO BELO'!H34+'CABO VERDE'!H34+CAMACHO!H34+'CAMPO DO MEIO'!H34+'CAMPOS GERAIS'!H34+'CANA VERDE'!H34+CANDEIAS!H34+CAPITÓLIO!H34+'CARMO DO RIO CLARO'!H34+'CONCEIÇÃO DA APARECIDA'!H34+COQUEIRAL!H34+CRISTAIS!H34+'DIVISA NOVA'!H34+'ELÓI MENDES'!H34+FAMA!H34+FORMIGA!H34+GUAPÉ!H34+ILICÍNEA!H34+JURUAIA!H34+LAVRAS!H34+MACHADO!H34+MUZAMBINHO!H34+NEPOMUCENO!H34+PARAGUAÇU!H34+PERDÕES!H34+PIMENTA!H34+'POÇO FUNDO'!H34+'RIBEIRÃO VERMELHO'!H34+'SÃO JOÃO BATISTA'!H34+'SÃO JOSÉ BARRA'!H34+SERRANIA!H34+'TRÊS PONTAS'!H34+VARGINHA!H34+COLATINA!H34+ARACRUZ!H34+'JOÃO PESSOA'!H34+LINHARES!H34+IPATINGA!H34 -> 25418.992 | J34: =I34*H34 -> 0
A35: 95630 | B35: Rolo compactador vibratório tandem, aço liso, potência 125 HP, peso sem/com lastro 10,20/11,65 T, largura de trabalho 1,73m - materiais na operação. AF_11/2016 | G35: H | H35: =AGUANIL!H35+ALFENAS!H35+ALPINOPOLIS!H35+ALTEROSA!H35+AREADO!H35+'BOA ESPERANÇA'!H35+'CAMPO BELO'!H35+'CABO VERDE'!H35+CAMACHO!H35+'CAMPO DO MEIO'!H35+'CAMPOS GERAIS'!H35+'CANA VERDE'!H35+CANDEIAS!H35+CAPITÓLIO!H35+'CARMO DO RIO CLARO'!H35+'CONCEIÇÃO DA APARECIDA'!H35+COQUEIRAL!H35+CRISTAIS!H35+'DIVISA NOVA'!H35+'ELÓI MENDES'!H35+FAMA!H35+FORMIGA!H35+GUAPÉ!H35+ILICÍNEA!H35+JURUAIA!H35+LAVRAS!H35+MACHADO!H35+MUZAMBINHO!H35+NEPOMUCENO!H35+PARAGUAÇU!H35+PERDÕES!H35+PIMENTA!H35+'POÇO FUNDO'!H35+'RIBEIRÃO VERMELHO'!H35+'SÃO JOÃO BATISTA'!H35+'SÃO JOSÉ BARRA'!H35+SERRANIA!H35+'TRÊS PONTAS'!H35+VARGINHA!H35+COLATINA!H35+ARACRUZ!H35+'JOÃO PESSOA'!H35+LINHARES!H35+IPATINGA!H35 -> 19347.401 | J35: =I35*H35 -> 0
A36: 53849 | B36: Motoniveladora potência básica líquida (primeira marcha) 125 HP, peso bruto 13032 kg, largura da lâmina de 3,7m - materiais na operação. AF_06/2014 | G36: H | H36: =AGUANIL!H36+ALFENAS!H36+ALPINOPOLIS!H36+ALTEROSA!H36+AREADO!H36+'BOA ESPERANÇA'!H36+'CAMPO BELO'!H36+'CABO VERDE'!H36+CAMACHO!H36+'CAMPO DO MEIO'!H36+'CAMPOS GERAIS'!H36+'CANA VERDE'!H36+CANDEIAS!H36+CAPITÓLIO!H36+'CARMO DO RIO CLARO'!H36+'CONCEIÇÃO DA APARECIDA'!H36+COQUEIRAL!H36+CRISTAIS!H36+'DIVISA NOVA'!H36+'ELÓI MENDES'!H36+FAMA!H36+FORMIGA!H36+GUAPÉ!H36+ILICÍNEA!H36+JURUAIA!H36+LAVRAS!H36+MACHADO!H36+MUZAMBINHO!H36+NEPOMUCENO!H36+PARAGUAÇU!H36+PERDÕES!H36+PIMENTA!H36+'POÇO FUNDO'!H36+'RIBEIRÃO VERMELHO'!H36+'SÃO JOÃO BATISTA'!H36+'SÃO JOSÉ BARRA'!H36+SERRANIA!H36+'TRÊS PONTAS'!H36+VARGINHA!H36+COLATINA!H36+ARACRUZ!H36+'JOÃO PESSOA'!H36+LINHARES!H36+IPATINGA!H36 -> 19347.401 | J36: =I36*H36 -> 0
A37: 101006 | B37: Carga, manobra e descarga de água em caminhão pipa 10 m³. AF_07/2020 | G37: m³ | H37: =AGUANIL!H37+ALFENAS!H37+ALPINOPOLIS!H37+ALTEROSA!H37+AREADO!H37+'BOA ESPERANÇA'!H37+'CAMPO BELO'!H37+'CABO VERDE'!H37+CAMACHO!H37+'CAMPO DO MEIO'!H37+'CAMPOS GERAIS'!H37+'CANA VERDE'!H37+CANDEIAS!H37+CAPITÓLIO!H37+'CARMO DO RIO CLARO'!H37+'CONCEIÇÃO DA APARECIDA'!H37+COQUEIRAL!H37+CRISTAIS!H37+'DIVISA NOVA'!H37+'ELÓI MENDES'!H37+FAMA!H37+FORMIGA!H37+GUAPÉ!H37+ILICÍNEA!H37+JURUAIA!H37+LAVRAS!H37+MACHADO!H37+MUZAMBINHO!H37+NEPOMUCENO!H37+PARAGUAÇU!H37+PERDÕES!H37+PIMENTA!H37+'POÇO FUNDO'!H37+'RIBEIRÃO VERMELHO'!H37+'SÃO JOÃO BATISTA'!H37+'SÃO JOSÉ BARRA'!H37+SERRANIA!H37+'TRÊS PONTAS'!H37+VARGINHA!H37+COLATINA!H37+ARACRUZ!H37+'JOÃO PESSOA'!H37+LINHARES!H37+IPATINGA!H37 -> 41429.543 | J37: =I37*H37 -> 0
A38: 5851 | B38: Trator de esteira, potência 150 HP, peso operacional 16,7T, com roda motriz elevada e lâmina 3,18 m³ - CHP diurno. AF_06/2014 | G38: chp | H38: =AGUANIL!H38+ALFENAS!H38+ALPINOPOLIS!H38+ALTEROSA!H38+AREADO!H38+'BOA ESPERANÇA'!H38+'CAMPO BELO'!H38+'CABO VERDE'!H38+CAMACHO!H38+'CAMPO DO MEIO'!H38+'CAMPOS GERAIS'!H38+'CANA VERDE'!H38+CANDEIAS!H38+CAPITÓLIO!H38+'CARMO DO RIO CLARO'!H38+'CONCEIÇÃO DA APARECIDA'!H38+COQUEIRAL!H38+CRISTAIS!H38+'DIVISA NOVA'!H38+'ELÓI MENDES'!H38+FAMA!H38+FORMIGA!H38+GUAPÉ!H38+ILICÍNEA!H38+JURUAIA!H38+LAVRAS!H38+MACHADO!H38+MUZAMBINHO!H38+NEPOMUCENO!H38+PARAGUAÇU!H38+PERDÕES!H38+PIMENTA!H38+'POÇO FUNDO'!H38+'RIBEIRÃO VERMELHO'!H38+'SÃO JOÃO BATISTA'!H38+'SÃO JOSÉ BARRA'!H38+SERRANIA!H38+'TRÊS PONTAS'!H38+VARGINHA!H38+COLATINA!H38+ARACRUZ!H38+'JOÃO PESSOA'!H38+LINHARES!H38+IPATINGA!H38 -> 19347.401 | J38: =I38*H38 -> 0
A39: 95719 | B39: Escavadeira hidraulica sobre esteira, equipada com clamshell, com capacidade de caçambra entre 1,20 e 1,50 m³. Peso operacional entre 20 e 22 ton, potencia liquida entre 150 e 160 HP - materiais na operação. AF_11/2016 | G39: H | H39: =AGUANIL!H39+ALFENAS!H39+ALPINOPOLIS!H39+ALTEROSA!H39+AREADO!H39+'BOA ESPERANÇA'!H39+'CAMPO BELO'!H39+'CABO VERDE'!H39+CAMACHO!H39+'CAMPO DO MEIO'!H39+'CAMPOS GERAIS'!H39+'CANA VERDE'!H39+CANDEIAS!H39+CAPITÓLIO!H39+'CARMO DO RIO CLARO'!H39+'CONCEIÇÃO DA APARECIDA'!H39+COQUEIRAL!H39+CRISTAIS!H39+'DIVISA NOVA'!H39+'ELÓI MENDES'!H39+FAMA!H39+FORMIGA!H39+GUAPÉ!H39+ILICÍNEA!H39+JURUAIA!H39+LAVRAS!H39+MACHADO!H39+MUZAMBINHO!H39+NEPOMUCENO!H39+PARAGUAÇU!H39+PERDÕES!H39+PIMENTA!H39+'POÇO FUNDO'!H39+'RIBEIRÃO VERMELHO'!H39+'SÃO JOÃO BATISTA'!H39+'SÃO JOSÉ BARRA'!H39+SERRANIA!H39+'TRÊS PONTAS'!H39+VARGINHA!H39+COLATINA!H39+ARACRUZ!H39+'JOÃO PESSOA'!H39+LINHARES!H39+IPATINGA!H39 -> 19347.401 | J39: =I39*H39 -> 0
B40: MANUTENÇÃO
A41: 96535 | B41: Fabricação, montagem e desmontagem de fôrma para sapata, em madeira serrada, e=25 mm, 4 utilizações. Af_06/2017 | G41: m² | H41: =AGUANIL!H41+ALFENAS!H41+ALPINOPOLIS!H41+ALTEROSA!H41+AREADO!H41+'BOA ESPERANÇA'!H41+'CAMPO BELO'!H41+'CABO VERDE'!H41+CAMACHO!H41+'CAMPO DO MEIO'!H41+'CAMPOS GERAIS'!H41+'CANA VERDE'!H41+CANDEIAS!H41+CAPITÓLIO!H41+'CARMO DO RIO CLARO'!H41+'CONCEIÇÃO DA APARECIDA'!H41+COQUEIRAL!H41+CRISTAIS!H41+'DIVISA NOVA'!H41+'ELÓI MENDES'!H41+FAMA!H41+FORMIGA!H41+GUAPÉ!H41+ILICÍNEA!H41+JURUAIA!H41+LAVRAS!H41+MACHADO!H41+MUZAMBINHO!H41+NEPOMUCENO!H41+PARAGUAÇU!H41+PERDÕES!H41+PIMENTA!H41+'POÇO FUNDO'!H41+'RIBEIRÃO VERMELHO'!H41+'SÃO JOÃO BATISTA'!H41+'SÃO JOSÉ BARRA'!H41+SERRANIA!H41+'TRÊS PONTAS'!H41+VARGINHA!H41+COLATINA!H41+ARACRUZ!H41+'JOÃO PESSOA'!H41+LINHARES!H41+IPATINGA!H41 -> 6233.5227 | J41: =I41*H41 -> 0
A42: 92760 | B42: Armação de pilar ou viga de estrutura convencional de concreto armado utilizando AÇO CA-50 de 6,3mm - MONTAGEM. AF_06/2022 | G42: kg | H42: =AGUANIL!H42+ALFENAS!H42+ALPINOPOLIS!H42+ALTEROSA!H42+AREADO!H42+'BOA ESPERANÇA'!H42+'CAMPO BELO'!H42+'CABO VERDE'!H42+CAMACHO!H42+'CAMPO DO MEIO'!H42+'CAMPOS GERAIS'!H42+'CANA VERDE'!H42+CANDEIAS!H42+CAPITÓLIO!H42+'CARMO DO RIO CLARO'!H42+'CONCEIÇÃO DA APARECIDA'!H42+COQUEIRAL!H42+CRISTAIS!H42+'DIVISA NOVA'!H42+'ELÓI MENDES'!H42+FAMA!H42+FORMIGA!H42+GUAPÉ!H42+ILICÍNEA!H42+JURUAIA!H42+LAVRAS!H42+MACHADO!H42+MUZAMBINHO!H42+NEPOMUCENO!H42+PARAGUAÇU!H42+PERDÕES!H42+PIMENTA!H42+'POÇO FUNDO'!H42+'RIBEIRÃO VERMELHO'!H42+'SÃO JOÃO BATISTA'!H42+'SÃO JOSÉ BARRA'!H42+SERRANIA!H42+'TRÊS PONTAS'!H42+VARGINHA!H42+COLATINA!H42+ARACRUZ!H42+'JOÃO PESSOA'!H42+LINHARES!H42+IPATINGA!H42 -> 62335.227 | J42: =I42*H42 -> 0
A43: 92761 | B43: Armação de pilar ou viga de estrutura convencional de concreto armado utilizando AÇO CA-50 de 8,0mm - MONTAGEM. AF_06/2022 | G43: kg | H43: =AGUANIL!H43+ALFENAS!H43+ALPINOPOLIS!H43+ALTEROSA!H43+AREADO!H43+'BOA ESPERANÇA'!H43+'CAMPO BELO'!H43+'CABO VERDE'!H43+CAMACHO!H43+'CAMPO DO MEIO'!H43+'CAMPOS GERAIS'!H43+'CANA VERDE'!H43+CANDEIAS!H43+CAPITÓLIO!H43+'CARMO DO RIO CLARO'!H43+'CONCEIÇÃO DA APARECIDA'!H43+COQUEIRAL!H43+CRISTAIS!H43+'DIVISA NOVA'!H43+'ELÓI MENDES'!H43+FAMA!H43+FORMIGA!H43+GUAPÉ!H43+ILICÍNEA!H43+JURUAIA!H43+LAVRAS!H43+MACHADO!H43+MUZAMBINHO!H43+NEPOMUCENO!H43+PARAGUAÇU!H43+PERDÕES!H43+PIMENTA!H43+'POÇO FUNDO'!H43+'RIBEIRÃO VERMELHO'!H43+'SÃO JOÃO BATISTA'!H43+'SÃO JOSÉ BARRA'!H43+SERRANIA!H43+'TRÊS PONTAS'!H43+VARGINHA!H43+COLATINA!H43+ARACRUZ!H43+'JOÃO PESSOA'!H43+LINHARES!H43+IPATINGA!H43 -> 24934.091 | J43: =I43*H43 -> 0
A44: 96555 | B44: Concretagem de bloco de coroamento ou viga baldrame, FCK 30 MPA, com uso de jerica. Lançamento adensamento e acabamento. AF_01/2024 | G44: m³ | H44: =AGUANIL!H44+ALFENAS!H44+ALPINOPOLIS!H44+ALTEROSA!H44+AREADO!H44+'BOA ESPERANÇA'!H44+'CAMPO BELO'!H44+'CABO VERDE'!H44+CAMACHO!H44+'CAMPO DO MEIO'!H44+'CAMPOS GERAIS'!H44+'CANA VERDE'!H44+CANDEIAS!H44+CAPITÓLIO!H44+'CARMO DO RIO CLARO'!H44+'CONCEIÇÃO DA APARECIDA'!H44+COQUEIRAL!H44+CRISTAIS!H44+'DIVISA NOVA'!H44+'ELÓI MENDES'!H44+FAMA!H44+FORMIGA!H44+GUAPÉ!H44+ILICÍNEA!H44+JURUAIA!H44+LAVRAS!H44+MACHADO!H44+MUZAMBINHO!H44+NEPOMUCENO!H44+PARAGUAÇU!H44+PERDÕES!H44+PIMENTA!H44+'POÇO FUNDO'!H44+'RIBEIRÃO VERMELHO'!H44+'SÃO JOÃO BATISTA'!H44+'SÃO JOSÉ BARRA'!H44+SERRANIA!H44+'TRÊS PONTAS'!H44+VARGINHA!H44+COLATINA!H44+ARACRUZ!H44+'JOÃO PESSOA'!H44+LINHARES!H44+IPATINGA!H44 -> 1056.1364 | J44: =I44*H44 -> 0
A45: 103317 | B45: Alvenaria de vedação de blocos vazados de concreto 9x19x39 cm (espessura 9cm)e argamassa de assentamento com preparo manual. AF_12/2021 | G45: m² | H45: =AGUANIL!H45+ALFENAS!H45+ALPINOPOLIS!H45+ALTEROSA!H45+AREADO!H45+'BOA ESPERANÇA'!H45+'CAMPO BELO'!H45+'CABO VERDE'!H45+CAMACHO!H45+'CAMPO DO MEIO'!H45+'CAMPOS GERAIS'!H45+'CANA VERDE'!H45+CANDEIAS!H45+CAPITÓLIO!H45+'CARMO DO RIO CLARO'!H45+'CONCEIÇÃO DA APARECIDA'!H45+COQUEIRAL!H45+CRISTAIS!H45+'DIVISA NOVA'!H45+'ELÓI MENDES'!H45+FAMA!H45+FORMIGA!H45+GUAPÉ!H45+ILICÍNEA!H45+JURUAIA!H45+LAVRAS!H45+MACHADO!H45+MUZAMBINHO!H45+NEPOMUCENO!H45+PARAGUAÇU!H45+PERDÕES!H45+PIMENTA!H45+'POÇO FUNDO'!H45+'RIBEIRÃO VERMELHO'!H45+'SÃO JOÃO BATISTA'!H45+'SÃO JOSÉ BARRA'!H45+SERRANIA!H45+'TRÊS PONTAS'!H45+VARGINHA!H45+COLATINA!H45+ARACRUZ!H45+'JOÃO PESSOA'!H45+LINHARES!H45+IPATINGA!H45 -> 32829.545 | J45: =I45*H45 -> 0
A46: 87792 | B46: Emboço ou massa única em argamassa traço 1:2:8. Preparo mecânico com betoneira 400L, aplicada manualmente em panos cegos de fachada (sem presença de vãos), espessura de 25mm. AF_08/2022 | G46: m² | H46: =AGUANIL!H46+ALFENAS!H46+ALPINOPOLIS!H46+ALTEROSA!H46+AREADO!H46+'BOA ESPERANÇA'!H46+'CAMPO BELO'!H46+'CABO VERDE'!H46+CAMACHO!H46+'CAMPO DO MEIO'!H46+'CAMPOS GERAIS'!H46+'CANA VERDE'!H46+CANDEIAS!H46+CAPITÓLIO!H46+'CARMO DO RIO CLARO'!H46+'CONCEIÇÃO DA APARECIDA'!H46+COQUEIRAL!H46+CRISTAIS!H46+'DIVISA NOVA'!H46+'ELÓI MENDES'!H46+FAMA!H46+FORMIGA!H46+GUAPÉ!H46+ILICÍNEA!H46+JURUAIA!H46+LAVRAS!H46+MACHADO!H46+MUZAMBINHO!H46+NEPOMUCENO!H46+PARAGUAÇU!H46+PERDÕES!H46+PIMENTA!H46+'POÇO FUNDO'!H46+'RIBEIRÃO VERMELHO'!H46+'SÃO JOÃO BATISTA'!H46+'SÃO JOSÉ BARRA'!H46+SERRANIA!H46+'TRÊS PONTAS'!H46+VARGINHA!H46+COLATINA!H46+ARACRUZ!H46+'JOÃO PESSOA'!H46+LINHARES!H46+IPATINGA!H46 -> 65659.091 | J46: =I46*H46 -> 0
A47: 101966 | B47: Chapim sobre muros lineares, em granito ou mármore, L=25cm, assentado com argamassa 1:6 com aditivo. AF_11/2020 | G47: m | H47: =AGUANIL!H47+ALFENAS!H47+ALPINOPOLIS!H47+ALTEROSA!H47+AREADO!H47+'BOA ESPERANÇA'!H47+'CAMPO BELO'!H47+'CABO VERDE'!H47+CAMACHO!H47+'CAMPO DO MEIO'!H47+'CAMPOS GERAIS'!H47+'CANA VERDE'!H47+CANDEIAS!H47+CAPITÓLIO!H47+'CARMO DO RIO CLARO'!H47+'CONCEIÇÃO DA APARECIDA'!H47+COQUEIRAL!H47+CRISTAIS!H47+'DIVISA NOVA'!H47+'ELÓI MENDES'!H47+FAMA!H47+FORMIGA!H47+GUAPÉ!H47+ILICÍNEA!H47+JURUAIA!H47+LAVRAS!H47+MACHADO!H47+MUZAMBINHO!H47+NEPOMUCENO!H47+PARAGUAÇU!H47+PERDÕES!H47+PIMENTA!H47+'POÇO FUNDO'!H47+'RIBEIRÃO VERMELHO'!H47+'SÃO JOÃO BATISTA'!H47+'SÃO JOSÉ BARRA'!H47+SERRANIA!H47+'TRÊS PONTAS'!H47+VARGINHA!H47+COLATINA!H47+ARACRUZ!H47+'JOÃO PESSOA'!H47+LINHARES!H47+IPATINGA!H47 -> 7944.8864 | J47: =I47*H47 -> 0
A48: 87275 | B48: Revestimento cerâmica para paredes internas com placas tipo esmaltada de dimensões 33x45 cm aplicadas a meia altura das paredes. AF_02/2023_PE | G48: m² | H48: =AGUANIL!H48+ALFENAS!H48+ALPINOPOLIS!H48+ALTEROSA!H48+AREADO!H48+'BOA ESPERANÇA'!H48+'CAMPO BELO'!H48+'CABO VERDE'!H48+CAMACHO!H48+'CAMPO DO MEIO'!H48+'CAMPOS GERAIS'!H48+'CANA VERDE'!H48+CANDEIAS!H48+CAPITÓLIO!H48+'CARMO DO RIO CLARO'!H48+'CONCEIÇÃO DA APARECIDA'!H48+COQUEIRAL!H48+CRISTAIS!H48+'DIVISA NOVA'!H48+'ELÓI MENDES'!H48+FAMA!H48+FORMIGA!H48+GUAPÉ!H48+ILICÍNEA!H48+JURUAIA!H48+LAVRAS!H48+MACHADO!H48+MUZAMBINHO!H48+NEPOMUCENO!H48+PARAGUAÇU!H48+PERDÕES!H48+PIMENTA!H48+'POÇO FUNDO'!H48+'RIBEIRÃO VERMELHO'!H48+'SÃO JOÃO BATISTA'!H48+'SÃO JOSÉ BARRA'!H48+SERRANIA!H48+'TRÊS PONTAS'!H48+VARGINHA!H48+COLATINA!H48+ARACRUZ!H48+'JOÃO PESSOA'!H48+LINHARES!H48+IPATINGA!H48 -> 4500 | J48: =I48*H48 -> 0
A49: 87250 | B49: Revestimento cerâmico para piso com placas tipo esmaltada de dimensões 45x45 cm aplicada em ambientes de área entre 5 e 10 m². AF_02/2023_PE | G49: m² | H49: =AGUANIL!H49+ALFENAS!H49+ALPINOPOLIS!H49+ALTEROSA!H49+AREADO!H49+'BOA ESPERANÇA'!H49+'CAMPO BELO'!H49+'CABO VERDE'!H49+CAMACHO!H49+'CAMPO DO MEIO'!H49+'CAMPOS GERAIS'!H49+'CANA VERDE'!H49+CANDEIAS!H49+CAPITÓLIO!H49+'CARMO DO RIO CLARO'!H49+'CONCEIÇÃO DA APARECIDA'!H49+COQUEIRAL!H49+CRISTAIS!H49+'DIVISA NOVA'!H49+'ELÓI MENDES'!H49+FAMA!H49+FORMIGA!H49+GUAPÉ!H49+ILICÍNEA!H49+JURUAIA!H49+LAVRAS!H49+MACHADO!H49+MUZAMBINHO!H49+NEPOMUCENO!H49+PARAGUAÇU!H49+PERDÕES!H49+PIMENTA!H49+'POÇO FUNDO'!H49+'RIBEIRÃO VERMELHO'!H49+'SÃO JOÃO BATISTA'!H49+'SÃO JOSÉ BARRA'!H49+SERRANIA!H49+'TRÊS PONTAS'!H49+VARGINHA!H49+COLATINA!H49+ARACRUZ!H49+'JOÃO PESSOA'!H49+LINHARES!H49+IPATINGA!H49 -> 4500 | J49: =I49*H49 -> 0
A50: 88415 | B50: Aplicação manual de fundo selador acrílico em paredes externas. AF_03/2024 | G50: m² | H50: =AGUANIL!H50+ALFENAS!H50+ALPINOPOLIS!H50+ALTEROSA!H50+AREADO!H50+'BOA ESPERANÇA'!H50+'CAMPO BELO'!H50+'CABO VERDE'!H50+CAMACHO!H50+'CAMPO DO MEIO'!H50+'CAMPOS GERAIS'!H50+'CANA VERDE'!H50+CANDEIAS!H50+CAPITÓLIO!H50+'CARMO DO RIO CLARO'!H50+'CONCEIÇÃO DA APARECIDA'!H50+COQUEIRAL!H50+CRISTAIS!H50+'DIVISA NOVA'!H50+'ELÓI MENDES'!H50+FAMA!H50+FORMIGA!H50+GUAPÉ!H50+ILICÍNEA!H50+JURUAIA!H50+LAVRAS!H50+MACHADO!H50+MUZAMBINHO!H50+NEPOMUCENO!H50+PARAGUAÇU!H50+PERDÕES!H50+PIMENTA!H50+'POÇO FUNDO'!H50+'RIBEIRÃO VERMELHO'!H50+'SÃO JOÃO BATISTA'!H50+'SÃO JOSÉ BARRA'!H50+SERRANIA!H50+'TRÊS PONTAS'!H50+VARGINHA!H50+COLATINA!H50+ARACRUZ!H50+'JOÃO PESSOA'!H50+LINHARES!H50+IPATINGA!H50 -> 65659.091 | J50: =I50*H50 -> 0
A51: 88423 | B51: Aplicação manual de pintura com tinta texturizada acrílica em paredes externas. Uma cor AF_03/2024 | G51: m² | H51: =AGUANIL!H51+ALFENAS!H51+ALPINOPOLIS!H51+ALTEROSA!H51+AREADO!H51+'BOA ESPERANÇA'!H51+'CAMPO BELO'!H51+'CABO VERDE'!H51+CAMACHO!H51+'CAMPO DO MEIO'!H51+'CAMPOS GERAIS'!H51+'CANA VERDE'!H51+CANDEIAS!H51+CAPITÓLIO!H51+'CARMO DO RIO CLARO'!H51+'CONCEIÇÃO DA APARECIDA'!H51+COQUEIRAL!H51+CRISTAIS!H51+'DIVISA NOVA'!H51+'ELÓI MENDES'!H51+FAMA!H51+FORMIGA!H51+GUAPÉ!H51+ILICÍNEA!H51+JURUAIA!H51+LAVRAS!H51+MACHADO!H51+MUZAMBINHO!H51+NEPOMUCENO!H51+PARAGUAÇU!H51+PERDÕES!H51+PIMENTA!H51+'POÇO FUNDO'!H51+'RIBEIRÃO VERMELHO'!H51+'SÃO JOÃO BATISTA'!H51+'SÃO JOSÉ BARRA'!H51+SERRANIA!H51+'TRÊS PONTAS'!H51+VARGINHA!H51+COLATINA!H51+ARACRUZ!H51+'JOÃO PESSOA'!H51+LINHARES!H51+IPATINGA!H51 -> 65659.091 | J51: =I51*H51 -> 0
A52: 102623 | B52: Caixa d'água em polietileno, 1000L (inclusos tubos, conexões e torneira de bóia) - fornecimento e instalação | G52: und | H52: =AGUANIL!H52+ALFENAS!H52+ALPINOPOLIS!H52+ALTEROSA!H52+AREADO!H52+'BOA ESPERANÇA'!H52+'CAMPO BELO'!H52+'CABO VERDE'!H52+CAMACHO!H52+'CAMPO DO MEIO'!H52+'CAMPOS GERAIS'!H52+'CANA VERDE'!H52+CANDEIAS!H52+CAPITÓLIO!H52+'CARMO DO RIO CLARO'!H52+'CONCEIÇÃO DA APARECIDA'!H52+COQUEIRAL!H52+CRISTAIS!H52+'DIVISA NOVA'!H52+'ELÓI MENDES'!H52+FAMA!H52+FORMIGA!H52+GUAPÉ!H52+ILICÍNEA!H52+JURUAIA!H52+LAVRAS!H52+MACHADO!H52+MUZAMBINHO!H52+NEPOMUCENO!H52+PARAGUAÇU!H52+PERDÕES!H52+PIMENTA!H52+'POÇO FUNDO'!H52+'RIBEIRÃO VERMELHO'!H52+'SÃO JOÃO BATISTA'!H52+'SÃO JOSÉ BARRA'!H52+SERRANIA!H52+'TRÊS PONTAS'!H52+VARGINHA!H52+COLATINA!H52+ARACRUZ!H52+'JOÃO PESSOA'!H52+LINHARES!H52+IPATINGA!H52 -> 211.22727 | J52: =I52*H52 -> 0
... A95: 200401 | B95: Limpeza geral de obra | G95: m² | H95: =AGUANIL!H95+ALFENAS!H95+ALPINOPOLIS!H95+ALTEROSA!H95+AREADO!H95+'BOA ESPERANÇA'!H95+'CAMPO BELO'!H95+'CABO VERDE'!H95+CAMACHO!H95+'CAMPO DO MEIO'!H95+'CAMPOS GERAIS'!H95+'CANA VERDE'!H95+CANDEIAS!H95+CAPITÓLIO!H95+'CARMO DO RIO CLARO'!H95+'CONCEIÇÃO DA APARECIDA'!H95+COQUEIRAL!H95+CRISTAIS!H95+'DIVISA NOVA'!H95+'ELÓI MENDES'!H95+FAMA!H95+FORMIGA!H95+GUAPÉ!H95+ILICÍNEA!H95+JURUAIA!H95+LAVRAS!H95+MACHADO!H95+MUZAMBINHO!H95+NEPOMUCENO!H95+PARAGUAÇU!H95+PERDÕES!H95+PIMENTA!H95+'POÇO FUNDO'!H95+'RIBEIRÃO VERMELHO'!H95+'SÃO JOÃO BATISTA'!H95+'SÃO JOSÉ BARRA'!H95+SERRANIA!H95+'TRÊS PONTAS'!H95+VARGINHA!H95+COLATINA!H95+ARACRUZ!H95+'JOÃO PESSOA'!H95+LINHARES!H95+IPATINGA!H95 -> 5301.7045 | J95: =I95*H95 -> 0
B96: JAZIGO
A97: CPU | B97: Fornecimento de jazigo completo com 4 espaços para sepultamento | G97: und | H97: =AGUANIL!H97+ALFENAS!H97+ALPINOPOLIS!H97+ALTEROSA!H97+AREADO!H97+'BOA ESPERANÇA'!H97+'CAMPO BELO'!H97+'CABO VERDE'!H97+CAMACHO!H97+'CAMPO DO MEIO'!H97+'CAMPOS GERAIS'!H97+'CANA VERDE'!H97+CANDEIAS!H97+CAPITÓLIO!H97+'CARMO DO RIO CLARO'!H97+'CONCEIÇÃO DA APARECIDA'!H97+COQUEIRAL!H97+CRISTAIS!H97+'DIVISA NOVA'!H97+'ELÓI MENDES'!H97+FAMA!H97+FORMIGA!H97+GUAPÉ!H97+ILICÍNEA!H97+JURUAIA!H97+LAVRAS!H97+MACHADO!H97+MUZAMBINHO!H97+NEPOMUCENO!H97+PARAGUAÇU!H97+PERDÕES!H97+PIMENTA!H97+'POÇO FUNDO'!H97+'RIBEIRÃO VERMELHO'!H97+'SÃO JOÃO BATISTA'!H97+'SÃO JOSÉ BARRA'!H97+SERRANIA!H97+'TRÊS PONTAS'!H97+VARGINHA!H97+COLATINA!H97+ARACRUZ!H97+'JOÃO PESSOA'!H97+LINHARES!H97+IPATINGA!H97 -> 2150 | J97: =H97*I97 -> 0
A98: CPU | B98: Fornecimento de jazigo completo com 3 espaços para sepultamento | G98: und | H98: =AGUANIL!H98+ALFENAS!H98+ALPINOPOLIS!H98+ALTEROSA!H98+AREADO!H98+'BOA ESPERANÇA'!H98+'CAMPO BELO'!H98+'CABO VERDE'!H98+CAMACHO!H98+'CAMPO DO MEIO'!H98+'CAMPOS GERAIS'!H98+'CANA VERDE'!H98+CANDEIAS!H98+CAPITÓLIO!H98+'CARMO DO RIO CLARO'!H98+'CONCEIÇÃO DA APARECIDA'!H98+COQUEIRAL!H98+CRISTAIS!H98+'DIVISA NOVA'!H98+'ELÓI MENDES'!H98+FAMA!H98+FORMIGA!H98+GUAPÉ!H98+ILICÍNEA!H98+JURUAIA!H98+LAVRAS!H98+MACHADO!H98+MUZAMBINHO!H98+NEPOMUCENO!H98+PARAGUAÇU!H98+PERDÕES!H98+PIMENTA!H98+'POÇO FUNDO'!H98+'RIBEIRÃO VERMELHO'!H98+'SÃO JOÃO BATISTA'!H98+'SÃO JOSÉ BARRA'!H98+SERRANIA!H98+'TRÊS PONTAS'!H98+VARGINHA!H98+COLATINA!H98+ARACRUZ!H98+'JOÃO PESSOA'!H98+LINHARES!H98+IPATINGA!H98 -> 3418 | J98: =H98*I98 -> 0
A99: CPU | B99: Fornecimento de jazigo completo com 2 espaços para sepultamento | G99: und | H99: =AGUANIL!H99+ALFENAS!H99+ALPINOPOLIS!H99+ALTEROSA!H99+AREADO!H99+'BOA ESPERANÇA'!H99+'CAMPO BELO'!H99+'CABO VERDE'!H99+CAMACHO!H99+'CAMPO DO MEIO'!H99+'CAMPOS GERAIS'!H99+'CANA VERDE'!H99+CANDEIAS!H99+CAPITÓLIO!H99+'CARMO DO RIO CLARO'!H99+'CONCEIÇÃO DA APARECIDA'!H99+COQUEIRAL!H99+CRISTAIS!H99+'DIVISA NOVA'!H99+'ELÓI MENDES'!H99+FAMA!H99+FORMIGA!H99+GUAPÉ!H99+ILICÍNEA!H99+JURUAIA!H99+LAVRAS!H99+MACHADO!H99+MUZAMBINHO!H99+NEPOMUCENO!H99+PARAGUAÇU!H99+PERDÕES!H99+PIMENTA!H99+'POÇO FUNDO'!H99+'RIBEIRÃO VERMELHO'!H99+'SÃO JOÃO BATISTA'!H99+'SÃO JOSÉ BARRA'!H99+SERRANIA!H99+'TRÊS PONTAS'!H99+VARGINHA!H99+COLATINA!H99+ARACRUZ!H99+'JOÃO PESSOA'!H99+LINHARES!H99+IPATINGA!H99 -> 737 | J99: =H99*I99 -> 0
B100: SERVIÇOS e FERRAMENTAS
A101: CPU | B101: Varrição | G101: m² | H101: =AGUANIL!H101+ALFENAS!H101+ALPINOPOLIS!H101+ALTEROSA!H101+AREADO!H101+'BOA ESPERANÇA'!H101+'CAMPO BELO'!H101+'CABO VERDE'!H101+CAMACHO!H101+'CAMPO DO MEIO'!H101+'CAMPOS GERAIS'!H101+'CANA VERDE'!H101+CANDEIAS!H101+CAPITÓLIO!H101+'CARMO DO RIO CLARO'!H101+'CONCEIÇÃO DA APARECIDA'!H101+COQUEIRAL!H101+CRISTAIS!H101+'DIVISA NOVA'!H101+'ELÓI MENDES'!H101+FAMA!H101+FORMIGA!H101+GUAPÉ!H101+ILICÍNEA!H101+JURUAIA!H101+LAVRAS!H101+MACHADO!H101+MUZAMBINHO!H101+NEPOMUCENO!H101+PARAGUAÇU!H101+PERDÕES!H101+PIMENTA!H101+'POÇO FUNDO'!H101+'RIBEIRÃO VERMELHO'!H101+'SÃO JOÃO BATISTA'!H101+'SÃO JOSÉ BARRA'!H101+SERRANIA!H101+'TRÊS PONTAS'!H101+VARGINHA!H101+COLATINA!H101+ARACRUZ!H101+'JOÃO PESSOA'!H101+LINHARES!H101+IPATINGA!H101 -> 4271204.3 | J101: =I101*H101 -> 0
A102: CPU | B102: Serviço de sepultamento de cadáveres incluindo abertura e fechamento de sepulturas | G102: und | H102: =AGUANIL!H102+ALFENAS!H102+ALPINOPOLIS!H102+ALTEROSA!H102+AREADO!H102+'BOA ESPERANÇA'!H102+'CAMPO BELO'!H102+'CABO VERDE'!H102+CAMACHO!H102+'CAMPO DO MEIO'!H102+'CAMPOS GERAIS'!H102+'CANA VERDE'!H102+CANDEIAS!H102+CAPITÓLIO!H102+'CARMO DO RIO CLARO'!H102+'CONCEIÇÃO DA APARECIDA'!H102+COQUEIRAL!H102+CRISTAIS!H102+'DIVISA NOVA'!H102+'ELÓI MENDES'!H102+FAMA!H102+FORMIGA!H102+GUAPÉ!H102+ILICÍNEA!H102+JURUAIA!H102+LAVRAS!H102+MACHADO!H102+MUZAMBINHO!H102+NEPOMUCENO!H102+PARAGUAÇU!H102+PERDÕES!H102+PIMENTA!H102+'POÇO FUNDO'!H102+'RIBEIRÃO VERMELHO'!H102+'SÃO JOÃO BATISTA'!H102+'SÃO JOSÉ BARRA'!H102+SERRANIA!H102+'TRÊS PONTAS'!H102+VARGINHA!H102+COLATINA!H102+ARACRUZ!H102+'JOÃO PESSOA'!H102+LINHARES!H102+IPATINGA!H102 -> 14277 | J102: =I102*H102 -> 0
A103: CPU | B103: Serviços de exumação de cadáveres incluindo colocação em saco apropriado com etiqueta de identificação | G103: und | H103: =AGUANIL!H103+ALFENAS!H103+ALPINOPOLIS!H103+ALTEROSA!H103+AREADO!H103+'BOA ESPERANÇA'!H103+'CAMPO BELO'!H103+'CABO VERDE'!H103+CAMACHO!H103+'CAMPO DO MEIO'!H103+'CAMPOS GERAIS'!H103+'CANA VERDE'!H103+CANDEIAS!H103+CAPITÓLIO!H103+'CARMO DO RIO CLARO'!H103+'CONCEIÇÃO DA APARECIDA'!H103+COQUEIRAL!H103+CRISTAIS!H103+'DIVISA NOVA'!H103+'ELÓI MENDES'!H103+FAMA!H103+FORMIGA!H103+GUAPÉ!H103+ILICÍNEA!H103+JURUAIA!H103+LAVRAS!H103+MACHADO!H103+MUZAMBINHO!H103+NEPOMUCENO!H103+PARAGUAÇU!H103+PERDÕES!H103+PIMENTA!H103+'POÇO FUNDO'!H103+'RIBEIRÃO VERMELHO'!H103+'SÃO JOÃO BATISTA'!H103+'SÃO JOSÉ BARRA'!H103+SERRANIA!H103+'TRÊS PONTAS'!H103+VARGINHA!H103+COLATINA!H103+ARACRUZ!H103+'JOÃO PESSOA'!H103+LINHARES!H103+IPATINGA!H103 -> 26598 | J103: =I103*H103 -> 0
A104: CPU | B104: Relocação (inumação) de ossada | G104: und | H104: =AGUANIL!H104+ALFENAS!H104+ALPINOPOLIS!H104+ALTEROSA!H104+AREADO!H104+'BOA ESPERANÇA'!H104+'CAMPO BELO'!H104+'CABO VERDE'!H104+CAMACHO!H104+'CAMPO DO MEIO'!H104+'CAMPOS GERAIS'!H104+'CANA VERDE'!H104+CANDEIAS!H104+CAPITÓLIO!H104+'CARMO DO RIO CLARO'!H104+'CONCEIÇÃO DA APARECIDA'!H104+COQUEIRAL!H104+CRISTAIS!H104+'DIVISA NOVA'!H104+'ELÓI MENDES'!H104+FAMA!H104+FORMIGA!H104+GUAPÉ!H104+ILICÍNEA!H104+JURUAIA!H104+LAVRAS!H104+MACHADO!H104+MUZAMBINHO!H104+NEPOMUCENO!H104+PARAGUAÇU!H104+PERDÕES!H104+PIMENTA!H104+'POÇO FUNDO'!H104+'RIBEIRÃO VERMELHO'!H104+'SÃO JOÃO BATISTA'!H104+'SÃO JOSÉ BARRA'!H104+SERRANIA!H104+'TRÊS PONTAS'!H104+VARGINHA!H104+COLATINA!H104+ARACRUZ!H104+'JOÃO PESSOA'!H104+LINHARES!H104+IPATINGA!H104 -> 17206 | J104: =I104*H104 -> 0
A105: CPU | B105: Saco plástico com ziper para armazenamento de ossada e identificação com lacre numerado | G105: und | H105: =AGUANIL!H105+ALFENAS!H105+ALPINOPOLIS!H105+ALTEROSA!H105+AREADO!H105+'BOA ESPERANÇA'!H105+'CAMPO BELO'!H105+'CABO VERDE'!H105+CAMACHO!H105+'CAMPO DO MEIO'!H105+'CAMPOS GERAIS'!H105+'CANA VERDE'!H105+CANDEIAS!H105+CAPITÓLIO!H105+'CARMO DO RIO CLARO'!H105+'CONCEIÇÃO DA APARECIDA'!H105+COQUEIRAL!H105+CRISTAIS!H105+'DIVISA NOVA'!H105+'ELÓI MENDES'!H105+FAMA!H105+FORMIGA!H105+GUAPÉ!H105+ILICÍNEA!H105+JURUAIA!H105+LAVRAS!H105+MACHADO!H105+MUZAMBINHO!H105+NEPOMUCENO!H105+PARAGUAÇU!H105+PERDÕES!H105+PIMENTA!H105+'POÇO FUNDO'!H105+'RIBEIRÃO VERMELHO'!H105+'SÃO JOÃO BATISTA'!H105+'SÃO JOSÉ BARRA'!H105+SERRANIA!H105+'TRÊS PONTAS'!H105+VARGINHA!H105+COLATINA!H105+ARACRUZ!H105+'JOÃO PESSOA'!H105+LINHARES!H105+IPATINGA!H105 -> 27222 | J105: =I105*H105 -> 0
A106: CPU | B106: Urna ossaria individual com kit respeito | G106: und | H106: =AGUANIL!H106+ALFENAS!H106+ALPINOPOLIS!H106+ALTEROSA!H106+AREADO!H106+'BOA ESPERANÇA'!H106+'CAMPO BELO'!H106+'CABO VERDE'!H106+CAMACHO!H106+'CAMPO DO MEIO'!H106+'CAMPOS GERAIS'!H106+'CANA VERDE'!H106+CANDEIAS!H106+CAPITÓLIO!H106+'CARMO DO RIO CLARO'!H106+'CONCEIÇÃO DA APARECIDA'!H106+COQUEIRAL!H106+CRISTAIS!H106+'DIVISA NOVA'!H106+'ELÓI MENDES'!H106+FAMA!H106+FORMIGA!H106+GUAPÉ!H106+ILICÍNEA!H106+JURUAIA!H106+LAVRAS!H106+MACHADO!H106+MUZAMBINHO!H106+NEPOMUCENO!H106+PARAGUAÇU!H106+PERDÕES!H106+PIMENTA!H106+'POÇO FUNDO'!H106+'RIBEIRÃO VERMELHO'!H106+'SÃO JOÃO BATISTA'!H106+'SÃO JOSÉ BARRA'!H106+SERRANIA!H106+'TRÊS PONTAS'!H106+VARGINHA!H106+COLATINA!H106+ARACRUZ!H106+'JOÃO PESSOA'!H106+LINHARES!H106+IPATINGA!H106 -> 10311 | J106: =I106*H106 -> 0
A107: CPU | B107: Fornecimento de coroa de flores | G107: und | H107: =AGUANIL!H107+ALFENAS!H107+ALPINOPOLIS!H107+ALTEROSA!H107+AREADO!H107+'BOA ESPERANÇA'!H107+'CAMPO BELO'!H107+'CABO VERDE'!H107+CAMACHO!H107+'CAMPO DO MEIO'!H107+'CAMPOS GERAIS'!H107+'CANA VERDE'!H107+CANDEIAS!H107+CAPITÓLIO!H107+'CARMO DO RIO CLARO'!H107+'CONCEIÇÃO DA APARECIDA'!H107+COQUEIRAL!H107+CRISTAIS!H107+'DIVISA NOVA'!H107+'ELÓI MENDES'!H107+FAMA!H107+FORMIGA!H107+GUAPÉ!H107+ILICÍNEA!H107+JURUAIA!H107+LAVRAS!H107+MACHADO!H107+MUZAMBINHO!H107+NEPOMUCENO!H107+PARAGUAÇU!H107+PERDÕES!H107+PIMENTA!H107+'POÇO FUNDO'!H107+'RIBEIRÃO VERMELHO'!H107+'SÃO JOÃO BATISTA'!H107+'SÃO JOSÉ BARRA'!H107+SERRANIA!H107+'TRÊS PONTAS'!H107+VARGINHA!H107+COLATINA!H107+ARACRUZ!H107+'JOÃO PESSOA'!H107+LINHARES!H107+IPATINGA!H107 -> 3558 | J107: =I107*H107 -> 0
A108: CPU | B108: Controle de pragas | G108: m² | H108: =AGUANIL!H108+ALFENAS!H108+ALPINOPOLIS!H108+ALTEROSA!H108+AREADO!H108+'BOA ESPERANÇA'!H108+'CAMPO BELO'!H108+'CABO VERDE'!H108+CAMACHO!H108+'CAMPO DO MEIO'!H108+'CAMPOS GERAIS'!H108+'CANA VERDE'!H108+CANDEIAS!H108+CAPITÓLIO!H108+'CARMO DO RIO CLARO'!H108+'CONCEIÇÃO DA APARECIDA'!H108+COQUEIRAL!H108+CRISTAIS!H108+'DIVISA NOVA'!H108+'ELÓI MENDES'!H108+FAMA!H108+FORMIGA!H108+GUAPÉ!H108+ILICÍNEA!H108+JURUAIA!H108+LAVRAS!H108+MACHADO!H108+MUZAMBINHO!H108+NEPOMUCENO!H108+PARAGUAÇU!H108+PERDÕES!H108+PIMENTA!H108+'POÇO FUNDO'!H108+'RIBEIRÃO VERMELHO'!H108+'SÃO JOÃO BATISTA'!H108+'SÃO JOSÉ BARRA'!H108+SERRANIA!H108+'TRÊS PONTAS'!H108+VARGINHA!H108+COLATINA!H108+ARACRUZ!H108+'JOÃO PESSOA'!H108+LINHARES!H108+IPATINGA!H108 -> 1540507.3 | J108: =I108*H108 -> 0
A109: CPU | B109: Fornecimento de serviços de fumacê | G109: m² | H109: =AGUANIL!H109+ALFENAS!H109+ALPINOPOLIS!H109+ALTEROSA!H109+AREADO!H109+'BOA ESPERANÇA'!H109+'CAMPO BELO'!H109+'CABO VERDE'!H109+CAMACHO!H109+'CAMPO DO MEIO'!H109+'CAMPOS GERAIS'!H109+'CANA VERDE'!H109+CANDEIAS!H109+CAPITÓLIO!H109+'CARMO DO RIO CLARO'!H109+'CONCEIÇÃO DA APARECIDA'!H109+COQUEIRAL!H109+CRISTAIS!H109+'DIVISA NOVA'!H109+'ELÓI MENDES'!H109+FAMA!H109+FORMIGA!H109+GUAPÉ!H109+ILICÍNEA!H109+JURUAIA!H109+LAVRAS!H109+MACHADO!H109+MUZAMBINHO!H109+NEPOMUCENO!H109+PARAGUAÇU!H109+PERDÕES!H109+PIMENTA!H109+'POÇO FUNDO'!H109+'RIBEIRÃO VERMELHO'!H109+'SÃO JOÃO BATISTA'!H109+'SÃO JOSÉ BARRA'!H109+SERRANIA!H109+'TRÊS PONTAS'!H109+VARGINHA!H109+COLATINA!H109+ARACRUZ!H109+'JOÃO PESSOA'!H109+LINHARES!H109+IPATINGA!H109 -> 2143025.9 | J109: =I109*H109 -> 0
A110: CPU | B110: Lápide memorial em ACM 20x30cm (MUDAR) | G110: und | H110: =AGUANIL!H110+ALFENAS!H110+ALPINOPOLIS!H110+ALTEROSA!H110+AREADO!H110+'BOA ESPERANÇA'!H110+'CAMPO BELO'!H110+'CABO VERDE'!H110+CAMACHO!H110+'CAMPO DO MEIO'!H110+'CAMPOS GERAIS'!H110+'CANA VERDE'!H110+CANDEIAS!H110+CAPITÓLIO!H110+'CARMO DO RIO CLARO'!H110+'CONCEIÇÃO DA APARECIDA'!H110+COQUEIRAL!H110+CRISTAIS!H110+'DIVISA NOVA'!H110+'ELÓI MENDES'!H110+FAMA!H110+FORMIGA!H110+GUAPÉ!H110+ILICÍNEA!H110+JURUAIA!H110+LAVRAS!H110+MACHADO!H110+MUZAMBINHO!H110+NEPOMUCENO!H110+PARAGUAÇU!H110+PERDÕES!H110+PIMENTA!H110+'POÇO FUNDO'!H110+'RIBEIRÃO VERMELHO'!H110+'SÃO JOÃO BATISTA'!H110+'SÃO JOSÉ BARRA'!H110+SERRANIA!H110+'TRÊS PONTAS'!H110+VARGINHA!H110+COLATINA!H110+ARACRUZ!H110+'JOÃO PESSOA'!H110+LINHARES!H110+IPATINGA!H110 -> 49208.507 | J110: =I110*H110 -> 0
A111: CPU | B111: Totem de segurança com 3m de altura, 15 cm de diâmetro em PVC com câmeras IP TWG, botão do pânico, com dispositivo de comunicação via telefone móvel, giroflex. | G111: und | H111: =AGUANIL!H111+ALFENAS!H111+ALPINOPOLIS!H111+ALTEROSA!H111+AREADO!H111+'BOA ESPERANÇA'!H111+'CAMPO BELO'!H111+'CABO VERDE'!H111+CAMACHO!H111+'CAMPO DO MEIO'!H111+'CAMPOS GERAIS'!H111+'CANA VERDE'!H111+CANDEIAS!H111+CAPITÓLIO!H111+'CARMO DO RIO CLARO'!H111+'CONCEIÇÃO DA APARECIDA'!H111+COQUEIRAL!H111+CRISTAIS!H111+'DIVISA NOVA'!H111+'ELÓI MENDES'!H111+FAMA!H111+FORMIGA!H111+GUAPÉ!H111+ILICÍNEA!H111+JURUAIA!H111+LAVRAS!H111+MACHADO!H111+MUZAMBINHO!H111+NEPOMUCENO!H111+PARAGUAÇU!H111+PERDÕES!H111+PIMENTA!H111+'POÇO FUNDO'!H111+'RIBEIRÃO VERMELHO'!H111+'SÃO JOÃO BATISTA'!H111+'SÃO JOSÉ BARRA'!H111+SERRANIA!H111+'TRÊS PONTAS'!H111+VARGINHA!H111+COLATINA!H111+ARACRUZ!H111+'JOÃO PESSOA'!H111+LINHARES!H111+IPATINGA!H111 -> 956 | J111: =I111*H111 -> 0
A112: CPU | B112: Veículo tipo picape com carroceria | G112: und | H112: =AGUANIL!H112+ALFENAS!H112+ALPINOPOLIS!H112+ALTEROSA!H112+AREADO!H112+'BOA ESPERANÇA'!H112+'CAMPO BELO'!H112+'CABO VERDE'!H112+CAMACHO!H112+'CAMPO DO MEIO'!H112+'CAMPOS GERAIS'!H112+'CANA VERDE'!H112+CANDEIAS!H112+CAPITÓLIO!H112+'CARMO DO RIO CLARO'!H112+'CONCEIÇÃO DA APARECIDA'!H112+COQUEIRAL!H112+CRISTAIS!H112+'DIVISA NOVA'!H112+'ELÓI MENDES'!H112+FAMA!H112+FORMIGA!H112+GUAPÉ!H112+ILICÍNEA!H112+JURUAIA!H112+LAVRAS!H112+MACHADO!H112+MUZAMBINHO!H112+NEPOMUCENO!H112+PARAGUAÇU!H112+PERDÕES!H112+PIMENTA!H112+'POÇO FUNDO'!H112+'RIBEIRÃO VERMELHO'!H112+'SÃO JOÃO BATISTA'!H112+'SÃO JOSÉ BARRA'!H112+SERRANIA!H112+'TRÊS PONTAS'!H112+VARGINHA!H112+COLATINA!H112+ARACRUZ!H112+'JOÃO PESSOA'!H112+LINHARES!H112+IPATINGA!H112 -> 500 | J112: =I112*H112 -> 0
... A116: CPU | B116: Macacão químico impermeável | G116: und | H116: =AGUANIL!H116+ALFENAS!H116+ALPINOPOLIS!H116+ALTEROSA!H116+AREADO!H116+'BOA ESPERANÇA'!H116+'CAMPO BELO'!H116+'CABO VERDE'!H116+CAMACHO!H116+'CAMPO DO MEIO'!H116+'CAMPOS GERAIS'!H116+'CANA VERDE'!H116+CANDEIAS!H116+CAPITÓLIO!H116+'CARMO DO RIO CLARO'!H116+'CONCEIÇÃO DA APARECIDA'!H116+COQUEIRAL!H116+CRISTAIS!H116+'DIVISA NOVA'!H116+'ELÓI MENDES'!H116+FAMA!H116+FORMIGA!H116+GUAPÉ!H116+ILICÍNEA!H116+JURUAIA!H116+LAVRAS!H116+MACHADO!H116+MUZAMBINHO!H116+NEPOMUCENO!H116+PARAGUAÇU!H116+PERDÕES!H116+PIMENTA!H116+'POÇO FUNDO'!H116+'RIBEIRÃO VERMELHO'!H116+'SÃO JOÃO BATISTA'!H116+'SÃO JOSÉ BARRA'!H116+SERRANIA!H116+'TRÊS PONTAS'!H116+VARGINHA!H116+COLATINA!H116+ARACRUZ!H116+'JOÃO PESSOA'!H116+LINHARES!H116+IPATINGA!H116 -> 3273.599 | J116: =I116*H116 -> 0
B117: MANUTENÇÃO
A118: CPU | B118: Limpeza de caixa d'água | G118: und | H118: =AGUANIL!H118+ALFENAS!H118+ALPINOPOLIS!H118+ALTEROSA!H118+AREADO!H118+'BOA ESPERANÇA'!H118+'CAMPO BELO'!H118+'CABO VERDE'!H118+CAMACHO!H118+'CAMPO DO MEIO'!H118+'CAMPOS GERAIS'!H118+'CANA VERDE'!H118+CANDEIAS!H118+CAPITÓLIO!H118+'CARMO DO RIO CLARO'!H118+'CONCEIÇÃO DA APARECIDA'!H118+COQUEIRAL!H118+CRISTAIS!H118+'DIVISA NOVA'!H118+'ELÓI MENDES'!H118+FAMA!H118+FORMIGA!H118+GUAPÉ!H118+ILICÍNEA!H118+JURUAIA!H118+LAVRAS!H118+MACHADO!H118+MUZAMBINHO!H118+NEPOMUCENO!H118+PARAGUAÇU!H118+PERDÕES!H118+PIMENTA!H118+'POÇO FUNDO'!H118+'RIBEIRÃO VERMELHO'!H118+'SÃO JOÃO BATISTA'!H118+'SÃO JOSÉ BARRA'!H118+SERRANIA!H118+'TRÊS PONTAS'!H118+VARGINHA!H118+COLATINA!H118+ARACRUZ!H118+'JOÃO PESSOA'!H118+LINHARES!H118+IPATINGA!H118 -> 258 | J118: =H118*I118 -> 0
A119: CPU | B119: Poste de aço com 3m, com luminária solar 200w + braço de suporte de led | G119: und | H119: =AGUANIL!H119+ALFENAS!H119+ALPINOPOLIS!H119+ALTEROSA!H119+AREADO!H119+'BOA ESPERANÇA'!H119+'CAMPO BELO'!H119+'CABO VERDE'!H119+CAMACHO!H119+'CAMPO DO MEIO'!H119+'CAMPOS GERAIS'!H119+'CANA VERDE'!H119+CANDEIAS!H119+CAPITÓLIO!H119+'CARMO DO RIO CLARO'!H119+'CONCEIÇÃO DA APARECIDA'!H119+COQUEIRAL!H119+CRISTAIS!H119+'DIVISA NOVA'!H119+'ELÓI MENDES'!H119+FAMA!H119+FORMIGA!H119+GUAPÉ!H119+ILICÍNEA!H119+JURUAIA!H119+LAVRAS!H119+MACHADO!H119+MUZAMBINHO!H119+NEPOMUCENO!H119+PARAGUAÇU!H119+PERDÕES!H119+PIMENTA!H119+'POÇO FUNDO'!H119+'RIBEIRÃO VERMELHO'!H119+'SÃO JOÃO BATISTA'!H119+'SÃO JOSÉ BARRA'!H119+SERRANIA!H119+'TRÊS PONTAS'!H119+VARGINHA!H119+COLATINA!H119+ARACRUZ!H119+'JOÃO PESSOA'!H119+LINHARES!H119+IPATINGA!H119 -> 690 | J119: =H119*I119 -> 0
A120: CPU | B120: Placa de sinalização (MUDAR) | G120: und | H120: =AGUANIL!H120+ALFENAS!H120+ALPINOPOLIS!H120+ALTEROSA!H120+AREADO!H120+'BOA ESPERANÇA'!H120+'CAMPO BELO'!H120+'CABO VERDE'!H120+CAMACHO!H120+'CAMPO DO MEIO'!H120+'CAMPOS GERAIS'!H120+'CANA VERDE'!H120+CANDEIAS!H120+CAPITÓLIO!H120+'CARMO DO RIO CLARO'!H120+'CONCEIÇÃO DA APARECIDA'!H120+COQUEIRAL!H120+CRISTAIS!H120+'DIVISA NOVA'!H120+'ELÓI MENDES'!H120+FAMA!H120+FORMIGA!H120+GUAPÉ!H120+ILICÍNEA!H120+JURUAIA!H120+LAVRAS!H120+MACHADO!H120+MUZAMBINHO!H120+NEPOMUCENO!H120+PARAGUAÇU!H120+PERDÕES!H120+PIMENTA!H120+'POÇO FUNDO'!H120+'RIBEIRÃO VERMELHO'!H120+'SÃO JOÃO BATISTA'!H120+'SÃO JOSÉ BARRA'!H120+SERRANIA!H120+'TRÊS PONTAS'!H120+VARGINHA!H120+COLATINA!H120+ARACRUZ!H120+'JOÃO PESSOA'!H120+LINHARES!H120+IPATINGA!H120 -> 1040 | J120: =H120*I120 -> 0
B121: PROFISSIONAIS
A122: CPU | B122: Vigia noturno | G122: und | H122: =AGUANIL!H122+ALFENAS!H122+ALPINOPOLIS!H122+ALTEROSA!H122+AREADO!H122+'BOA ESPERANÇA'!H122+'CAMPO BELO'!H122+'CABO VERDE'!H122+CAMACHO!H122+'CAMPO DO MEIO'!H122+'CAMPOS GERAIS'!H122+'CANA VERDE'!H122+CANDEIAS!H122+CAPITÓLIO!H122+'CARMO DO RIO CLARO'!H122+'CONCEIÇÃO DA APARECIDA'!H122+COQUEIRAL!H122+CRISTAIS!H122+'DIVISA NOVA'!H122+'ELÓI MENDES'!H122+FAMA!H122+FORMIGA!H122+GUAPÉ!H122+ILICÍNEA!H122+JURUAIA!H122+LAVRAS!H122+MACHADO!H122+MUZAMBINHO!H122+NEPOMUCENO!H122+PARAGUAÇU!H122+PERDÕES!H122+PIMENTA!H122+'POÇO FUNDO'!H122+'RIBEIRÃO VERMELHO'!H122+'SÃO JOÃO BATISTA'!H122+'SÃO JOSÉ BARRA'!H122+SERRANIA!H122+'TRÊS PONTAS'!H122+VARGINHA!H122+COLATINA!H122+ARACRUZ!H122+'JOÃO PESSOA'!H122+LINHARES!H122+IPATINGA!H122 -> 1128 | J122: =H122*I122 -> 0
A123: CPU | B123: Auxiliar de serviços gerais | G123: und | H123: =AGUANIL!H123+ALFENAS!H123+ALPINOPOLIS!H123+ALTEROSA!H123+AREADO!H123+'BOA ESPERANÇA'!H123+'CAMPO BELO'!H123+'CABO VERDE'!H123+CAMACHO!H123+'CAMPO DO MEIO'!H123+'CAMPOS GERAIS'!H123+'CANA VERDE'!H123+CANDEIAS!H123+CAPITÓLIO!H123+'CARMO DO RIO CLARO'!H123+'CONCEIÇÃO DA APARECIDA'!H123+COQUEIRAL!H123+CRISTAIS!H123+'DIVISA NOVA'!H123+'ELÓI MENDES'!H123+FAMA!H123+FORMIGA!H123+GUAPÉ!H123+ILICÍNEA!H123+JURUAIA!H123+LAVRAS!H123+MACHADO!H123+MUZAMBINHO!H123+NEPOMUCENO!H123+PARAGUAÇU!H123+PERDÕES!H123+PIMENTA!H123+'POÇO FUNDO'!H123+'RIBEIRÃO VERMELHO'!H123+'SÃO JOÃO BATISTA'!H123+'SÃO JOSÉ BARRA'!H123+SERRANIA!H123+'TRÊS PONTAS'!H123+VARGINHA!H123+COLATINA!H123+ARACRUZ!H123+'JOÃO PESSOA'!H123+LINHARES!H123+IPATINGA!H123 -> 1224 | J123: =H123*I123 -> 0
A124: CPU | B124: Assistente administrativo | G124: und | H124: =AGUANIL!H124+ALFENAS!H124+ALPINOPOLIS!H124+ALTEROSA!H124+AREADO!H124+'BOA ESPERANÇA'!H124+'CAMPO BELO'!H124+'CABO VERDE'!H124+CAMACHO!H124+'CAMPO DO MEIO'!H124+'CAMPOS GERAIS'!H124+'CANA VERDE'!H124+CANDEIAS!H124+CAPITÓLIO!H124+'CARMO DO RIO CLARO'!H124+'CONCEIÇÃO DA APARECIDA'!H124+COQUEIRAL!H124+CRISTAIS!H124+'DIVISA NOVA'!H124+'ELÓI MENDES'!H124+FAMA!H124+FORMIGA!H124+GUAPÉ!H124+ILICÍNEA!H124+JURUAIA!H124+LAVRAS!H124+MACHADO!H124+MUZAMBINHO!H124+NEPOMUCENO!H124+PARAGUAÇU!H124+PERDÕES!H124+PIMENTA!H124+'POÇO FUNDO'!H124+'RIBEIRÃO VERMELHO'!H124+'SÃO JOÃO BATISTA'!H124+'SÃO JOSÉ BARRA'!H124+SERRANIA!H124+'TRÊS PONTAS'!H124+VARGINHA!H124+COLATINA!H124+ARACRUZ!H124+'JOÃO PESSOA'!H124+LINHARES!H124+IPATINGA!H124 -> 1056 | J124: =H124*I124 -> 0
A125: CPU | B125: Encarregado de Equipe | G125: und | H125: =AGUANIL!H125+ALFENAS!H125+ALPINOPOLIS!H125+ALTEROSA!H125+AREADO!H125+'BOA ESPERANÇA'!H125+'CAMPO BELO'!H125+'CABO VERDE'!H125+CAMACHO!H125+'CAMPO DO MEIO'!H125+'CAMPOS GERAIS'!H125+'CANA VERDE'!H125+CANDEIAS!H125+CAPITÓLIO!H125+'CARMO DO RIO CLARO'!H125+'CONCEIÇÃO DA APARECIDA'!H125+COQUEIRAL!H125+CRISTAIS!H125+'DIVISA NOVA'!H125+'ELÓI MENDES'!H125+FAMA!H125+FORMIGA!H125+GUAPÉ!H125+ILICÍNEA!H125+JURUAIA!H125+LAVRAS!H125+MACHADO!H125+MUZAMBINHO!H125+NEPOMUCENO!H125+PARAGUAÇU!H125+PERDÕES!H125+PIMENTA!H125+'POÇO FUNDO'!H125+'RIBEIRÃO VERMELHO'!H125+'SÃO JOÃO BATISTA'!H125+'SÃO JOSÉ BARRA'!H125+SERRANIA!H125+'TRÊS PONTAS'!H125+VARGINHA!H125+COLATINA!H125+ARACRUZ!H125+'JOÃO PESSOA'!H125+LINHARES!H125+IPATINGA!H125 -> 516 | J125: =H125*I125 -> 0
B126: SISTEMA DE GESTÃO
A127: CPU | B127: Georreferenciamento e mapeamento de jazigos | G127: m² | H127: =AGUANIL!H127+ALFENAS!H127+ALPINOPOLIS!H127+ALTEROSA!H127+AREADO!H127+'BOA ESPERANÇA'!H127+'CAMPO BELO'!H127+'CABO VERDE'!H127+CAMACHO!H127+'CAMPO DO MEIO'!H127+'CAMPOS GERAIS'!H127+'CANA VERDE'!H127+CANDEIAS!H127+CAPITÓLIO!H127+'CARMO DO RIO CLARO'!H127+'CONCEIÇÃO DA APARECIDA'!H127+COQUEIRAL!H127+CRISTAIS!H127+'DIVISA NOVA'!H127+'ELÓI MENDES'!H127+FAMA!H127+FORMIGA!H127+GUAPÉ!H127+ILICÍNEA!H127+JURUAIA!H127+LAVRAS!H127+MACHADO!H127+MUZAMBINHO!H127+NEPOMUCENO!H127+PARAGUAÇU!H127+PERDÕES!H127+PIMENTA!H127+'POÇO FUNDO'!H127+'RIBEIRÃO VERMELHO'!H127+'SÃO JOÃO BATISTA'!H127+'SÃO JOSÉ BARRA'!H127+SERRANIA!H127+'TRÊS PONTAS'!H127+VARGINHA!H127+COLATINA!H127+ARACRUZ!H127+'JOÃO PESSOA'!H127+LINHARES!H127+IPATINGA!H127 -> 1083293.2 | J127: =H127*I127 -> 0
A128: CPU | B128: Cadastro de jazigo | G128: und | H128: =AGUANIL!H128+ALFENAS!H128+ALPINOPOLIS!H128+ALTEROSA!H128+AREADO!H128+'BOA ESPERANÇA'!H128+'CAMPO BELO'!H128+'CABO VERDE'!H128+CAMACHO!H128+'CAMPO DO MEIO'!H128+'CAMPOS GERAIS'!H128+'CANA VERDE'!H128+CANDEIAS!H128+CAPITÓLIO!H128+'CARMO DO RIO CLARO'!H128+'CONCEIÇÃO DA APARECIDA'!H128+COQUEIRAL!H128+CRISTAIS!H128+'DIVISA NOVA'!H128+'ELÓI MENDES'!H128+FAMA!H128+FORMIGA!H128+GUAPÉ!H128+ILICÍNEA!H128+JURUAIA!H128+LAVRAS!H128+MACHADO!H128+MUZAMBINHO!H128+NEPOMUCENO!H128+PARAGUAÇU!H128+PERDÕES!H128+PIMENTA!H128+'POÇO FUNDO'!H128+'RIBEIRÃO VERMELHO'!H128+'SÃO JOÃO BATISTA'!H128+'SÃO JOSÉ BARRA'!H128+SERRANIA!H128+'TRÊS PONTAS'!H128+VARGINHA!H128+COLATINA!H128+ARACRUZ!H128+'JOÃO PESSOA'!H128+LINHARES!H128+IPATINGA!H128 -> 185280.35 | J128: =H128*I128 -> 0
A129: CPU | B129: Inventário de sepultamentos antigos | G129: und | H129: =AGUANIL!H129+ALFENAS!H129+ALPINOPOLIS!H129+ALTEROSA!H129+AREADO!H129+'BOA ESPERANÇA'!H129+'CAMPO BELO'!H129+'CABO VERDE'!H129+CAMACHO!H129+'CAMPO DO MEIO'!H129+'CAMPOS GERAIS'!H129+'CANA VERDE'!H129+CANDEIAS!H129+CAPITÓLIO!H129+'CARMO DO RIO CLARO'!H129+'CONCEIÇÃO DA APARECIDA'!H129+COQUEIRAL!H129+CRISTAIS!H129+'DIVISA NOVA'!H129+'ELÓI MENDES'!H129+FAMA!H129+FORMIGA!H129+GUAPÉ!H129+ILICÍNEA!H129+JURUAIA!H129+LAVRAS!H129+MACHADO!H129+MUZAMBINHO!H129+NEPOMUCENO!H129+PARAGUAÇU!H129+PERDÕES!H129+PIMENTA!H129+'POÇO FUNDO'!H129+'RIBEIRÃO VERMELHO'!H129+'SÃO JOÃO BATISTA'!H129+'SÃO JOSÉ BARRA'!H129+SERRANIA!H129+'TRÊS PONTAS'!H129+VARGINHA!H129+COLATINA!H129+ARACRUZ!H129+'JOÃO PESSOA'!H129+LINHARES!H129+IPATINGA!H129 -> 185280.35 | J129: =H129*I129 -> 0
A130: CPU | B130: Cadastro de óbitos (antigos e atuais) | G130: und | H130: =AGUANIL!H130+ALFENAS!H130+ALPINOPOLIS!H130+ALTEROSA!H130+AREADO!H130+'BOA ESPERANÇA'!H130+'CAMPO BELO'!H130+'CABO VERDE'!H130+CAMACHO!H130+'CAMPO DO MEIO'!H130+'CAMPOS GERAIS'!H130+'CANA VERDE'!H130+CANDEIAS!H130+CAPITÓLIO!H130+'CARMO DO RIO CLARO'!H130+'CONCEIÇÃO DA APARECIDA'!H130+COQUEIRAL!H130+CRISTAIS!H130+'DIVISA NOVA'!H130+'ELÓI MENDES'!H130+FAMA!H130+FORMIGA!H130+GUAPÉ!H130+ILICÍNEA!H130+JURUAIA!H130+LAVRAS!H130+MACHADO!H130+MUZAMBINHO!H130+NEPOMUCENO!H130+PARAGUAÇU!H130+PERDÕES!H130+PIMENTA!H130+'POÇO FUNDO'!H130+'RIBEIRÃO VERMELHO'!H130+'SÃO JOÃO BATISTA'!H130+'SÃO JOSÉ BARRA'!H130+SERRANIA!H130+'TRÊS PONTAS'!H130+VARGINHA!H130+COLATINA!H130+ARACRUZ!H130+'JOÃO PESSOA'!H130+LINHARES!H130+IPATINGA!H130 -> 185280.35 | J130: =H130*I130 -> 0
A131: CPU | B131: Implantação de software de gestão de cemitérios | G131: und | H131: =AGUANIL!H131+ALFENAS!H131+ALPINOPOLIS!H131+ALTEROSA!H131+AREADO!H131+'BOA ESPERANÇA'!H131+'CAMPO BELO'!H131+'CABO VERDE'!H131+CAMACHO!H131+'CAMPO DO MEIO'!H131+'CAMPOS GERAIS'!H131+'CANA VERDE'!H131+CANDEIAS!H131+CAPITÓLIO!H131+'CARMO DO RIO CLARO'!H131+'CONCEIÇÃO DA APARECIDA'!H131+COQUEIRAL!H131+CRISTAIS!H131+'DIVISA NOVA'!H131+'ELÓI MENDES'!H131+FAMA!H131+FORMIGA!H131+GUAPÉ!H131+ILICÍNEA!H131+JURUAIA!H131+LAVRAS!H131+MACHADO!H131+MUZAMBINHO!H131+NEPOMUCENO!H131+PARAGUAÇU!H131+PERDÕES!H131+PIMENTA!H131+'POÇO FUNDO'!H131+'RIBEIRÃO VERMELHO'!H131+'SÃO JOÃO BATISTA'!H131+'SÃO JOSÉ BARRA'!H131+SERRANIA!H131+'TRÊS PONTAS'!H131+VARGINHA!H131+COLATINA!H131+ARACRUZ!H131+'JOÃO PESSOA'!H131+LINHARES!H131+IPATINGA!H131 -> 44 | J131: =H131*I131 -> 0
A132: CPU | B132: Licença de software de gestão de cemitérios com a respectiva manutenção e assitência técnica. | G132: und | H132: =AGUANIL!H132+ALFENAS!H132+ALPINOPOLIS!H132+ALTEROSA!H132+AREADO!H132+'BOA ESPERANÇA'!H132+'CAMPO BELO'!H132+'CABO VERDE'!H132+CAMACHO!H132+'CAMPO DO MEIO'!H132+'CAMPOS GERAIS'!H132+'CANA VERDE'!H132+CANDEIAS!H132+CAPITÓLIO!H132+'CARMO DO RIO CLARO'!H132+'CONCEIÇÃO DA APARECIDA'!H132+COQUEIRAL!H132+CRISTAIS!H132+'DIVISA NOVA'!H132+'ELÓI MENDES'!H132+FAMA!H132+FORMIGA!H132+GUAPÉ!H132+ILICÍNEA!H132+JURUAIA!H132+LAVRAS!H132+MACHADO!H132+MUZAMBINHO!H132+NEPOMUCENO!H132+PARAGUAÇU!H132+PERDÕES!H132+PIMENTA!H132+'POÇO FUNDO'!H132+'RIBEIRÃO VERMELHO'!H132+'SÃO JOÃO BATISTA'!H132+'SÃO JOSÉ BARRA'!H132+SERRANIA!H132+'TRÊS PONTAS'!H132+VARGINHA!H132+COLATINA!H132+ARACRUZ!H132+'JOÃO PESSOA'!H132+LINHARES!H132+IPATINGA!H132 -> 528 | J132: =H132*I132 -> 0
B133: MÓDULOS
A134: CPU | B134: Equipamento modular em aço com capacidade 63 (sessenta e três) ossadas humanas exumadas | G134: und | H134: =AGUANIL!H134+ALFENAS!H134+ALPINOPOLIS!H134+ALTEROSA!H134+AREADO!H134+'BOA ESPERANÇA'!H134+'CAMPO BELO'!H134+'CABO VERDE'!H134+CAMACHO!H134+'CAMPO DO MEIO'!H134+'CAMPOS GERAIS'!H134+'CANA VERDE'!H134+CANDEIAS!H134+CAPITÓLIO!H134+'CARMO DO RIO CLARO'!H134+'CONCEIÇÃO DA APARECIDA'!H134+COQUEIRAL!H134+CRISTAIS!H134+'DIVISA NOVA'!H134+'ELÓI MENDES'!H134+FAMA!H134+FORMIGA!H134+GUAPÉ!H134+ILICÍNEA!H134+JURUAIA!H134+LAVRAS!H134+MACHADO!H134+MUZAMBINHO!H134+NEPOMUCENO!H134+PARAGUAÇU!H134+PERDÕES!H134+PIMENTA!H134+'POÇO FUNDO'!H134+'RIBEIRÃO VERMELHO'!H134+'SÃO JOÃO BATISTA'!H134+'SÃO JOSÉ BARRA'!H134+SERRANIA!H134+'TRÊS PONTAS'!H134+VARGINHA!H134+COLATINA!H134+ARACRUZ!H134+'JOÃO PESSOA'!H134+LINHARES!H134+IPATINGA!H134 -> 129 | J134: =H134*I134 -> 0
A135: CPU | B135: Equipamento modular em aço com capacidade 126 (cento e vinte e seis) ossadas humanas exumadas | G135: und | H135: =AGUANIL!H135+ALFENAS!H135+ALPINOPOLIS!H135+ALTEROSA!H135+AREADO!H135+'BOA ESPERANÇA'!H135+'CAMPO BELO'!H135+'CABO VERDE'!H135+CAMACHO!H135+'CAMPO DO MEIO'!H135+'CAMPOS GERAIS'!H135+'CANA VERDE'!H135+CANDEIAS!H135+CAPITÓLIO!H135+'CARMO DO RIO CLARO'!H135+'CONCEIÇÃO DA APARECIDA'!H135+COQUEIRAL!H135+CRISTAIS!H135+'DIVISA NOVA'!H135+'ELÓI MENDES'!H135+FAMA!H135+FORMIGA!H135+GUAPÉ!H135+ILICÍNEA!H135+JURUAIA!H135+LAVRAS!H135+MACHADO!H135+MUZAMBINHO!H135+NEPOMUCENO!H135+PARAGUAÇU!H135+PERDÕES!H135+PIMENTA!H135+'POÇO FUNDO'!H135+'RIBEIRÃO VERMELHO'!H135+'SÃO JOÃO BATISTA'!H135+'SÃO JOSÉ BARRA'!H135+SERRANIA!H135+'TRÊS PONTAS'!H135+VARGINHA!H135+COLATINA!H135+ARACRUZ!H135+'JOÃO PESSOA'!H135+LINHARES!H135+IPATINGA!H135 -> 86 | J135: =H135*I135 -> 0
A136: CPU | B136: Equipamento modular em aço com capacidade 189 (cento e oitenta e nove) ossadas humanas exumadas | G136: und | H136: =AGUANIL!H136+ALFENAS!H136+ALPINOPOLIS!H136+ALTEROSA!H136+AREADO!H136+'BOA ESPERANÇA'!H136+'CAMPO BELO'!H136+'CABO VERDE'!H136+CAMACHO!H136+'CAMPO DO MEIO'!H136+'CAMPOS GERAIS'!H136+'CANA VERDE'!H136+CANDEIAS!H136+CAPITÓLIO!H136+'CARMO DO RIO CLARO'!H136+'CONCEIÇÃO DA APARECIDA'!H136+COQUEIRAL!H136+CRISTAIS!H136+'DIVISA NOVA'!H136+'ELÓI MENDES'!H136+FAMA!H136+FORMIGA!H136+GUAPÉ!H136+ILICÍNEA!H136+JURUAIA!H136+LAVRAS!H136+MACHADO!H136+MUZAMBINHO!H136+NEPOMUCENO!H136+PARAGUAÇU!H136+PERDÕES!H136+PIMENTA!H136+'POÇO FUNDO'!H136+'RIBEIRÃO VERMELHO'!H136+'SÃO JOÃO BATISTA'!H136+'SÃO JOSÉ BARRA'!H136+SERRANIA!H136+'TRÊS PONTAS'!H136+VARGINHA!H136+COLATINA!H136+ARACRUZ!H136+'JOÃO PESSOA'!H136+LINHARES!H136+IPATINGA!H136 -> 86 | J136: =H136*I136 -> 0
A137: CPU | B137: Equipamento modular em aço com capacidade 612 (seiscentos e doze) ossadas humanas exumadas | G137: und | H137: =AGUANIL!H137+ALFENAS!H137+ALPINOPOLIS!H137+ALTEROSA!H137+AREADO!H137+'BOA ESPERANÇA'!H137+'CAMPO BELO'!H137+'CABO VERDE'!H137+CAMACHO!H137+'CAMPO DO MEIO'!H137+'CAMPOS GERAIS'!H137+'CANA VERDE'!H137+CANDEIAS!H137+CAPITÓLIO!H137+'CARMO DO RIO CLARO'!H137+'CONCEIÇÃO DA APARECIDA'!H137+COQUEIRAL!H137+CRISTAIS!H137+'DIVISA NOVA'!H137+'ELÓI MENDES'!H137+FAMA!H137+FORMIGA!H137+GUAPÉ!H137+ILICÍNEA!H137+JURUAIA!H137+LAVRAS!H137+MACHADO!H137+MUZAMBINHO!H137+NEPOMUCENO!H137+PARAGUAÇU!H137+PERDÕES!H137+PIMENTA!H137+'POÇO FUNDO'!H137+'RIBEIRÃO VERMELHO'!H137+'SÃO JOÃO BATISTA'!H137+'SÃO JOSÉ BARRA'!H137+SERRANIA!H137+'TRÊS PONTAS'!H137+VARGINHA!H137+COLATINA!H137+ARACRUZ!H137+'JOÃO PESSOA'!H137+LINHARES!H137+IPATINGA!H137 -> 26 | J137: =H137*I137 -> 0
A139: VALOR TOTAL: | J139: =SUM(J5:J138) -> 0

Sheet AGUANIL
A1: AGUANIL | E1: PLANILHA ORÇAMENTÁRIA - SINAPI - DATA BASE JUNHO DE 2025 PUBLICADO EM 11/07/2025 | K1: 2972.08
A3: CÓDIGO SINAPI | B3: DESCRIÇÃO DOS SERVIÇOS | G3: Und. | H3: Qtd. | I3: Valor Médio Unitário | J3: Valor Total
B4: ESCAVAÇÕES
A5: 5678 | B5: RETROESCAVADEIRA SOBRE RODAS COM CARREGADEIRA, TRAÇÃO 4X4, POTÊNCIA LÍQ. 88 HP, CAÇAMBA CARREG. CAP. MÍN. 1 M3, CAÇAMBA RETRO CAP. 0,26 M3, PESO OPERACIONAL MÍN. 6.674 KG, PROFUNDIDADE ESCAVAÇÃO MÁX. 4,37 M - CHP DIURNO. AF_06/2014 | G5: chp | H5: =K1*K5 -> 10.319682 | J5: =I5*H5 -> 0 | K5: 0.0034722085
A6: 93358 | B6: Escavação manual de vala com profundido menor ou igual a 1,30m. AF_02/2021 | G6: m³ | H6: =K1*K6 -> 97.843403 | J6: =I6*H6 -> 0 | K6: 0.032920851
A7: 93382 | B7: Reaterro manual de valas, com compactador de solos de percussão. AF_08/2023 | G7: m³ | H7: =K1*K7 -> 71.304028 | J7: =I7*H7 -> 0 | K7: 0.023991288
A8: 101616 | B8: Preparo de fundo de vala com largura menor que 1,5m (acerto de solo natural). AF_08/2020 | G8: m² | H8: =K1*K8 -> 102.84235 | J8: =I8*H8 -> 0 | K8: 0.034602819
B9: TRANSPORTES
A10: 100981 | B10: Carga, manobra e descarga de entulho em caminhão basculante de 6m³ - Carga com escavadeira hidráulica (caçamba de 0,80 m³ / 111hp) e descarga livre. AF_07/2020 | G10: m³ | H10: =H6-H7 -> 26.539375 | J10: =I10*H10 -> 0 | K10: 0.0089295629
B11: PAISAGISMO
A12: 103946 | B12: Plantio de grama esmeralda ou são carlos ou curitibana, em placas. AF_07/2024 | G12: m² | H12: =K1*K12 -> 539.35094 | J12: =I12*H12 -> 0 | K12: 0.18147255
A13: 98516 | B13: Plantio de palmeira com altura de muda menor ou igual a 2,0m . AF_07/2024 | G13: und | H13: 8 | J13: =I13*H13 -> 0 | K13: 0.0027508711
A14: 98509 | B14: Plantio de arbusto ou cerva viva. AF_07/2024 | G14: und | H14: 8 | J14: =I14*H14 -> 0 | K14: 0.0030001111
A15: 98511 | B15: Plantio de árvore ornamental com altura de muda maior que 2,0m e menor ou igual a 4,0m. AF_07/2024 | G15: und | H15: 8 | J15: =I15*H15 -> 0 | K15: 0.0027785644
A16: 98505 | B16: Plantio de forração | G16: m² | H16: 115 | J16: =I16*H16 -> 0 | K16: 0.038078333
A17: 98526 | B17: Remoção de raízes remanescentes de tronco de árvore com diâmetro maior ou igual a 0,20m e menor que 0,40m. AF_03/2024 | G17: und | H17: 4 | J17: =I17*H17 -> 0 | K17: 0.0013846666
A18: 98527 | B18: Remoção de raízes remanescentes de tronco de árvore com diâmetro maior ou igual a 0,40m e menor que 0,60m. AF_03/2024 | G18: und | H18: 4 | J18: =I18*H18 -> 0 | K18: 0.0013846666
A19: 98528 | B19: Remoção de raízes remanescentes de tronco de árvore com diâmetro maior ou igual a 0,60m. AF_03/2024 | G19: und | H19: 4 | J19: =I19*H19 -> 0 | K19: 0.0013846666
A20: 98533 | B20: Poda em altura de árvore com diâmetro de tronco maior ou igual a 0,20m e menor que 0,40m. AF_03/2024 | G20: und | H20: 4 | J20: =I20*H20 -> 0 | K20: 0.0013846666
A21: 98534 | B21: Poda em altura de árvore com diâmetro de tronco maior ou igual a 0,40m e menor que 0,60m. AF_03/2024 | G21: und | H21: 4 | J21: =I21*H21 -> 0 | K21: 0.0013846666
A22: 98535 | B22: Poda em altura de árvore com diâmetro de tronco maior ou igual a 0,60m. AF_03/2024 | G22: und | H22: 4 | J22: =I22*H22 -> 0 | K22: 0.0013846666
A23: 105521 | B23: Espalhamento de terra vegetal para o plantio. AF_07/2024 | G23: m² | H23: 115 | J23: =I23*H23 -> 0 | K23: 0.049232592
B24: SERVIÇOS e FERRAMENTAS
A25: 98519 | B25: Revolvimento e limpeza manual de solo | G25: m² | H25: =K1*K25 -> 6339.3522 | J25: =I25*H25 -> 0 | K25: 2.1329682
A26: 98525 | B26: Limpeza mecanizada de camada vegetal, vegetação e pequenas árvores (diâmetro de tronco menor que 0,20m) com trator de esteiras. AF_03/2024 | G26: m² | H26: =K1*K26 -> 239.01069 | J26: =I26*H26 -> 0 | K26: 0.080418658
A27: 99062 | B27: Marcação de pontos em gabarito ou cavalete. AF_03/2024 | G27: und | H27: 7 | J27: =I27*H27 -> 0 | K27: 0.0024000888
A28: 100210 | B28: Transporte horizontal com carrinho de mão, de blocos vazados de concreto ou cerâmico de 19x19x39 cm. AF_07/2019 | G28: unxkm | H28: =K1*K28 -> 58.163473 | J28: =I28*H28 -> 0 | K28: 0.019569955
B29: PROFISSIONAIS
A30: 93567 | B30: Engenheiro Civil de obra pleno | G30: mês | H30: 3 | J30: =I30*H30 -> 0 | K30: 0.00012185066
A31: 93570 | B31: Arquiteto de obra pleno | G31: mês | H31: 3 | J31: =I31*H31 -> 0 | K31: 0.00012185066
B32: MÁQUINAS E EQUIPAMENTOS
A33: 5678 | B33: Retroescavadeira sobre rodas com carregadeira, tração 4x4, potência líq. 88HP, caçamba carreg. cap. mín. 1m³, caçamba retro cap. 0,26 m³, peso operacional mín. 6.674kg, profundidade escavação máxim 4,37m - CHP diurno. AF_06/2014 | G33: chp | H33: =$K$1*K33 -> 74.076121 | J33: =I33*H33 -> 0 | K33: 0.024924
A34: 89882 | B34: Caminhão basculante 18 m³, com cavalo mecânico de capacidade máxima de tração combinado de 45000kg. Potência de 330CV, inclusive semireboque com caçamba metálica - Materiais na operação. AF_12/2014 | G34: H | H34: =$K$1*K34 -> 74.076121 | J34: =I34*H34 -> 0 | K34: 0.024924
A35: 95630 | B35: Rolo compactador vibratório tandem, aço liso, potência 125 HP, peso sem/com lastro 10,20/11,65 T, largura de trabalho 1,73m - materiais na operação. AF_11/2016 | G35: H | H35: =$K$1*K35 -> 54.8712 | J35: =I35*H35 -> 0 | K35: 0.018462222
A36: 53849 | B36: Motoniveladora potência básica líquida (primeira marcha) 125 HP, peso bruto 13032 kg, largura da lâmina de 3,7m - materiais na operação. AF_06/2014 | G36: H | H36: =$K$1*K36 -> 54.8712 | J36: =I36*H36 -> 0 | K36: 0.018462222
A37: 101006 | B37: Carga, manobra e descarga de água em caminhão pipa 10 m³. AF_07/2020 | G37: m³ | H37: =$K$1*K37 -> 115.22952 | J37: =I37*H37 -> 0 | K37: 0.038770666
A38: 5851 | B38: Trator de esteira, potência 150 HP, peso operacional 16,7T, com roda motriz elevada e lâmina 3,18 m³ - CHP diurno. AF_06/2014 | G38: chp | H38: =$K$1*K38 -> 54.8712 | J38: =I38*H38 -> 0 | K38: 0.018462222
A39: 95719 | B39: Escavadeira hidraulica sobre esteira, equipada com clamshell, com capacidade de caçambra entre 1,20 e 1,50 m³. Peso operacional entre 20 e 22 ton, potencia liquida entre 150 e 160 HP - materiais na operação. AF_11/2016 | G39: H | H39: =$K$1*K39 -> 54.8712 | J39: =I39*H39 -> 0 | K39: 0.018462222
B40: MANUTENÇÃO
A41: 96535 | B41: Fabricação, montagem e desmontagem de fôrma para sapata, em madeira serrada, e=25 mm, 4 utilizações. Af_06/2017 | G41: m² | H41: =(12450/2)/44 -> 141.47727 | J41: =I41*H41 -> 0 | K41: 0.0057463666
A42: 92760 | B42: Armação de pilar ou viga de estrutura convencional de concreto armado utilizando AÇO CA-50 de 6,3mm - MONTAGEM. AF_06/2022 | G42: kg | H42: =(124500/2)/44 -> 1414.7727 | J42: =I42*H42 -> 0 | K42: 0.057463666
A43: 92761 | B43: Armação de pilar ou viga de estrutura convencional de concreto armado utilizando AÇO CA-50 de 8,0mm - MONTAGEM. AF_06/2022 | G43: kg | H43: =(49800/2)/44 -> 565.90909 | J43: =I43*H43 -> 0 | K43: 0.022985466
A44: 96555 | B44: Concretagem de bloco de coroamento ou viga baldrame, FCK 30 MPA, com uso de jerica. Lançamento adensamento e acabamento. AF_01/2024 | G44: m³ | H44: =(2100/2)/44 -> 23.863636 | J44: =I44*H44 -> 0 | K44: 0.00096926665
A45: 103317 | B45: Alvenaria de vedação de blocos vazados de concreto 9x19x39 cm (espessura 9cm)e argamassa de assentamento com preparo manual. AF_12/2021 | G45: m² | H45: =(59000/2)/44 -> 670.45455 | J45: =I45*H45 -> 0 | K45: 0.027231777
A46: 87792 | B46: Emboço ou massa única em argamassa traço 1:2:8. Preparo mecânico com betoneira 400L, aplicada manualmente em panos cegos de fachada (sem presença de vãos), espessura de 25mm. AF_08/2022 | G46: m² | H46: =(118000/2)/44 -> 1340.9091 | J46: =I46*H46 -> 0 | K46: 0.054463555
A47: 101966 | B47: Chapim sobre muros lineares, em granito ou mármore, L=25cm, assentado com argamassa 1:6 com aditivo. AF_11/2020 | G47: m | H47: =(15850/2)/44 -> 180.11364 | J47: =I47*H47 -> 0 | K47: 0.0073156554
A48: 87275 | B48: Revestimento cerâmica para paredes internas com placas tipo esmaltada de dimensões 33x45 cm aplicadas a meia altura das paredes. AF_02/2023_PE | G48: m² | H48: =(8800/2)/44 -> 100 | J48: =I48*H48 -> 0 | K48: 0.0040616888
A49: 87250 | B49: Revestimento cerâmico para piso com placas tipo esmaltada de dimensões 45x45 cm aplicada em ambientes de área entre 5 e 10 m². AF_02/2023_PE | G49: m² | H49: =(8800/2)/44 -> 100 | J49: =I49*H49 -> 0 | K49: 0.0040616888
A50: 88415 | B50: Aplicação manual de fundo selador acrílico em paredes externas. AF_03/2024 | G50: m² | H50: =(118000/2)/44 -> 1340.9091 | J50: =I50*H50 -> 0 | K50: 0.054463555
A51: 88423 | B51: Aplicação manual de pintura com tinta texturizada acrílica em paredes externas. Uma cor AF_03/2024 | G51: m² | H51: =(118000/2)/44 -> 1340.9091 | J51: =I51*H51 -> 0 | K51: 0.054463555
A52: 102623 | B52: Caixa d'água em polietileno, 1000L (inclusos tubos, conexões e torneira de bóia) - fornecimento e instalação | G52: und | H52: =(420/2)/44 -> 4.7727273 | J52: =I52*H52 -> 0 | K52: 0.00019385333
A53: 90512 | B53: Limpeza de calhas e coletores | G53: m³ | H53: =(39250/2)/44 -> 446.02273 | J53: =I53*H53 -> 0 | K53: 0.018116055
A54: 100434 | B54: Calha de beiral, semicircular de pvc, diâmetro 125mm, incluindo cabeceiras, emendas, bocais, suporte e vedações, excluindo condutores, incluso transporte vertical. AF_07/2019 | G54: m | H54: =(4150/2)/44 -> 47.159091 | J54: =I54*H54 -> 0 | K54: 0.0019154555
A55: 103782 | B55: Luminária tipo plafon circular, de sobrepor, com led de12/13W - fornecimento e instalação. AF_09/2024 | G55: und | H55: =(2450/2)/44 -> 27.840909 | J55: =I55*H55 -> 0 | K55: 0.0011308111
A56: 94273 | B56: Assentamento de guia (meio-fio) em trecho reto, confeccionada em concreto pré-fabricado, dimensões 100x15x13x30 (comprimento X base inferior X base superior X altura). AF_01/2024 | G56: m | H56: =(42000/2)/44 -> 477.27273 | J56: =I56*H56 -> 0 | K56: 0.019385333
A57: 102498 | B57: Pintura de meio-fio com tinta branca a base de cal (caiação). Af_05/2021 | G57: m | H57: =(14700/2)/44 -> 167.04545 | J57: =I57*H57 -> 0 | K57: 0.0067848665
A58: 92400 | B58: Execução de pavimento em piso intertravado, com bloco retangular de 20x10cm, espessura 10cm. AF_10/22 | G58: m² | H58: =(29500/2)/44 -> 335.22727 | J58: =I58*H58 -> 0 | K58: 0.013615889
A59: 103247 | B59: Ar condiciondo split inverter, hi-wall (parede), 12000 btu/h, ciclo frio - fornecimento e instalação. AF_11/2021_PE | G59: und | H59: =(465/2)/44 -> 5.2840909 | J59: =I59*H59 -> 0 | K59: 0.00021462333
A60: 94570 | B60: Janela de alumínio de correr com 2 folhas para vidros (vidros inclusos), batente/requadro 6 a 17 cm, acabamento com acetato ou brilhante, fixação com parafuso, sem guarnição/alizar, dimensões 100x120cm, vedação com silicone, exclusive contramarco - fornecimento e instalação. af_11/2024 | G60: und | H60: =(1270/2)/44 -> 14.431818 | J60: =I60*H60 -> 0 | K60: 0.00058617555
A61: 100683 | B61: Kit de porta de madeira para verniz, semi-oca (leve ou média) padrão médio, 80x210cm, espessura de 3,5cm. Itens inclusos: dobradiças, montagem e instalação de batente, fechadura com execução do furo - fornecimento e instalação. AF_12/2019 | G61: und | H61: =(490/2)/44 -> 5.5681818 | J61: =I61*H61 -> 0 | K61: 0.00022616222
A62: 94807 | B62: Porta em aço de abrir tipo veneziana sem guarnição, 87x210 cm, fixação com parafusos - fornecimento e instalação. AF_12/2019 | G62: und | H62: =(490/2)/44 -> 5.5681818 | J62: =I62*H62 -> 0 | K62: 0.00022616222
A63: 86888 | B63: Vaso sanitário sifonado com caixa acoplada louça branca - fornecimento e instalação. AF_01/2020 | G63: und | H63: =(490/2)/44 -> 5.5681818 | J63: =I63*H63 -> 0 | K63: 0.00022616222
A64: 86939 | B64: Lavatório louça branca com coluna, *44x33,5* cm, padrão popular incluso sifão flexível em pvc, válvula e engate flexivel 30cm em plastico e com torneira cromada padrão popular - fornecimento e instalação. AF_01/2020 | G64: und | H64: =(490/2)/44 -> 5.5681818 | J64: =I64*H64 -> 0 | K64: 0.00022616222
A65: 86920 | B65: Tanque de louça branca com coluna, 30L ou equivalente, incluso sifão flexivel em pvc, valvula plastica e torneira de metal cromado padrão popular - fornecimento e instalação. AF_01/2020 | G65: und | H65: =(490/2)/44 -> 5.5681818 | J65: =I65*H65 -> 0 | K65: 0.00022616222
A66: 103697 | B66: Fornecimento e instalação de suporte de madeira para placas de sinalização, em base de concreto, com h = 2m e seção de 7,5x7,5 cm. AF_03/2022 | G66: und | H66: =(1280/2)/44 -> 14.545455 | J66: =I66*H66 -> 0 | K66: 0.0005907911
A67: 94210 | B67: Telhamento com telha ondulada de fibrocimento E = 6mm, com recobrimento lateral de 1 1/4 de onda para telhado com inclinação máxima de 10 graus, com até 2 águas, incluso içamento. AF_07/2019 | G67: m² | H67: =(8300/2)/44 -> 94.318182 | J67: =I67*H67 -> 0 | K67: 0.003830911
A68: 104803 | B68: Remoção calhas e rufos de forma manual, sem reaproveitamento. AF_09/2023 | G68: m | H68: =(6350/2)/44 -> 72.159091 | J68: =I68*H68 -> 0 | K68: 0.0029308777
A69: 97647 | B69: Remoção de telhas de fibrocimento, metálica e cerâmica de forma manual, sem reaproveitamento. AF_09/2023 | G69: m² | H69: =(10300/2)/44 -> 117.04545 | J69: =I69*H69 -> 0 | K69: 0.0047540221
A70: 97663 | B70: Remoção de louças, de forma manual, sem reaproveitamento. AF_09/2023 | G70: und | H70: =(1030/2)/44 -> 11.704545 | J70: =I70*H70 -> 0 | K70: 0.00047540221
A71: 97665 | B71: Remoção de luminárias, de forma manual, sem reaproveitamento. AF_09/2023 | G71: und | H71: =(4150/2)/44 -> 47.159091 | J71: =I71*H71 -> 0 | K71: 0.0019154555
A72: 97666 | B72: Remoção de metais sanitários, de forma manual, sem reaproveitamento. AF_09/2023 | G72: und | H72: =(2200/2)/44 -> 25 | J72: =I72*H72 -> 0 | K72: 0.0010154222
A73: 97644 | B73: Remoção de portas, de forma manual, sem reaproveitamento. AF_09/2023 | G73: und | H73: =(2200/2)/44 -> 25 | J73: =I73*H73 -> 0 | K73: 0.0010154222
A74: 97660 | B74: Remoção de interruptores/tomadas elétricas, de forma manual, sem reaproveitamento. AF_09/2023 | G74: und | H74: =(2450/2)/44 -> 27.840909 | J74: =I74*H74 -> 0 | K74: 0.0011308111
A75: 92029 | B75: Interruptor simples(1 módulo) com 1 tomada de embutir 2P+T 10A, incluindo suporte e placa - fornecimento e instalação | G75: und | H75: =(4400/2)/44 -> 50 | J75: =I75*H75 -> 0 | K75: 0.0020308444
A76: 92031 | B76: Interruptor simples (1 módulo) com 2 tomadas de embutir 2P+T 10A, incluindo suporte e placa - fornecimento e instalação | G76: und | H76: =(4400/2)/44 -> 50 | J76: =I76*H76 -> 0 | K76: 0.0020308444
A77: 92000 | B77: Tomada baixa de embutir (1 módulo), 2P+T 10A, incluindo suporte e placa - fornecimento e instalação | G77: und | H77: =(4400/2)/44 -> 50 | J77: =I77*H77 -> 0 | K77: 0.0020308444
A78: 91996 | B78: Tomada média de embutir (1 módulo), 2P+T 10A, incluindo suporte e placa - fornecimento e instalação | G78: und | H78: =(4400/2)/44 -> 50 | J78: =I78*H78 -> 0 | K78: 0.0020308444
A79: 91992 | B79: Tomada alta de embutir (1 módulo), 2P+T 10A, incluindo suporte e placa - fornecimento e instalação | G79: und | H79: =(3950/2)/44 -> 44.886364 | J79: =I79*H79 -> 0 | K79: 0.0018231444
A80: 101876 | B80: Quadro de distribuição de energia, em PVC, de embutir, sem barramento, para 6 disjuntores - fornecimento e instalação | G80: und | H80: =(440/2)/44 -> 5 | J80: =I80*H80 -> 0 | K80: 0.00020308444
A81: 93654 | B81: Disjuntor monopolar tipo DIN, corrente nominal de 16A - Fornecimento e instalação. AF_10/2020 | G81: und | H81: =(440/2)/44 -> 5 | J81: =I81*H81 -> 0 | K81: 0.00020308444
A82: 93662 | B82: Disjuntor bipolar tipo DIN, corrente nominal de 20A - Fornecimento e instalação. AF_10/2020 | G82: und | H82: =(440/2)/44 -> 5 | J82: =I82*H82 -> 0 | K82: 0.00020308444
A83: 93664 | B83: Disjuntor bipolar tipo DIN, corrente nominal de 32A - Fornecimento e instalação. AF_10/2020 | G83: und | H83: =(440/2)/44 -> 5 | J83: =I83*H83 -> 0 | K83: 0.00020308444
A84: 91927 | B84: Cabo de cobre flexivel isolado, 2.5mm², anti-chama 0,6/1,0 KV, para circuitos terminais - fornecimento e instalação. AF_03/2023 | G84: m | H84: =(8800/2)/44 -> 100 | J84: =I84*H84 -> 0 | K84: 0.0040616888
A85: 91929 | B85: Cabo de cobre flexivel isolado, 4.0mm², anti-chama 0,6/1,0 KV, para circuitos terminais - fornecimento e instalação. AF_03/2023 | G85: m | H85: =(8800/2)/44 -> 100 | J85: =I85*H85 -> 0 | K85: 0.0040616888
A86: 91931 | B86: Cabo de cobre flexivel isolado, 6.0mm², anti-chama 0,6/1,0 KV, para circuitos terminais - fornecimento e instalação. AF_03/2023 | G86: m | H86: =(8800/2)/44 -> 100 | J86: =I86*H86 -> 0 | K86: 0.0040616888
A87: 91933 | B87: Cabo de cobre flexivel isolado, 10.0mm², anti-chama 0,6/1,0 KV, para circuitos terminais - fornecimento e instalação. AF_03/2023 | G87: m | H87: =(8800/2)/44 -> 100 | J87: =I87*H87 -> 0 | K87: 0.0040616888
A88: 90447 | B88: Rasgo linear manual em alvenaria, para eletrodutos, diâmetros menores ou iguais a 40mm. AF_09/2023 | G88: m | H88: =(2450/2)/44 -> 27.840909 | J88: =I88*H88 -> 0 | K88: 0.0011308111
A89: 91222 | B89: Rasgo linear manual em alvenaria, para ramais/distribuição de instalações hidraulicas, diâmetros maiores que 40mm e menores ou iguais a 75mm. AF_09/2023 | G89: m | H89: =(2450/2)/44 -> 27.840909 | J89: =I89*H89 -> 0 | K89: 0.0011308111
A90: 90443 | B90: Rasgo linear manual em alvenaria, para ramais/distribuição de instalações hidraulicas, diâmetros menores ou iguais que 40mm. AF_09/2023 | G90: m | H90: =(2450/2)/44 -> 27.840909 | J90: =I90*H90 -> 0 | K90: 0.0011308111
A91: 98547 | B91: Impermeabilização de superfície com manta asfáltica, duas camadas, inclusive aplicação de primer asfáltico, E = 3mm e E = 4mm. AF_09/2023 | G91: m² | H91: =(4400/2)/44 -> 50 | J91: =I91*H91 -> 0 | K91: 0.0020308444
A92: 87632 | B92: Contrapiso em argamassa traço 1:3 (cimento e areia), preparo manual, aplicado em áreas secas sobre laje, aderido, acabamento não reforçado, espessura 3cm. AF_07/2021 | G92: m² | H92: =(8800/2)/44 -> 100 | J92: =I92*H92 -> 0 | K92: 0.0040616888
A93: 87886 | B93: Chapisco aplicado no teto ou em estrutura, com desempenadeira dentada. Argamassa industrializada com preparo manual. AF_10/2022 | G93: m² | H93: =(8800/2)/44 -> 100 | J93: =I93*H93 -> 0 | K93: 0.0040616888
A94: 94995 | B94: Execução de passeio (calçada) ou piso de concreto com concreto moldado in loco, usinado, acabamento convencional, espessura 8 cm, armado. AF_08/2022 | G94: m² | H94: =(6400/2)/44 -> 72.727273 | J94: =I94*H94 -> 0 | K94: 0.0029539555
A95: 200401 | B95: Limpeza geral de obra | G95: m² | H95: =(10850/2)/44 -> 123.29545 | J95: =I95*H95 -> 0 | K95: 0.0050078777
B96: JAZIGO
A97: CPU | B97: Fornecimento de jazigo completo com 4 espaços para sepultamento | G97: und | H97: 10 | J97: =H97*I97 -> 0 | K97: 0.0018462222
A98: CPU | B98: Fornecimento de jazigo completo com 3 espaços para sepultamento | G98: und | H98: 10 | J98: =H98*I98 -> 0 | K98: 0.0027693333
A99: CPU | B99: Fornecimento de jazigo completo com 2 espaços para sepultamento | G99: und | H99: 0 | J99: =H99*I99 -> 0 | K99: 0.0009231111
B100: SERVIÇOS e FERRAMENTAS
A101: CPU | B101: Varrição | G101: m² | H101: =$K$1*K101 -> 12851.607 | J101: =I101*H101 -> 0 | K101: 4.3241121
...

Sheet ALFENAS
A1: ALFENAS | E1: PLANILHA ORÇAMENTÁRIA - SINAPI - DATA BASE JUNHO DE 2025 PUBLICADO EM 11/07/2025 | K1: 60788.43
A3: CÓDIGO SINAPI | B3: DESCRIÇÃO DOS SERVIÇOS | G3: Und. | H3: Qtd. | I3: Valor Médio Unitário | J3: Valor Total
B4: ESCAVAÇÕES
A5: 5678 | B5: RETROESCAVADEIRA SOBRE RODAS COM CARREGADEIRA, TRAÇÃO 4X4, POTÊNCIA LÍQ. 88 HP, CAÇAMBA CARREG. CAP. MÍN. 1 M3, CAÇAMBA RETRO CAP. 0,26 M3, PESO OPERACIONAL MÍN. 6.674 KG, PROFUNDIDADE ESCAVAÇÃO MÁX. 4,37 M - CHP DIURNO. AF_06/2014 | G5: chp | H5: =K1*K5 -> 211.07011 | J5: =I5*H5 -> 0 | K5: 0.0034722085
A6: 93358 | B6: Escavação manual de vala com profundido menor ou igual a 1,30m. AF_02/2021 | G6: m³ | H6: =K1*K6 -> 2001.2068 | J6: =I6*H6 -> 0 | K6: 0.032920851
A7: 93382 | B7: Reaterro manual de valas, com compactador de solos de percussão. AF_08/2023 | G7: m³ | H7: =K1*K7 -> 1458.3927 | J7: =I7*H7 -> 0 | K7: 0.023991288
A8: 101616 | B8: Preparo de fundo de vala com largura menor que 1,5m (acerto de solo natural). AF_08/2020 | G8: m² | H8: =K1*K8 -> 2103.4511 | J8: =I8*H8 -> 0 | K8: 0.034602819
B9: TRANSPORTES
A10: 100981 | B10: Carga, manobra e descarga de entulho em caminhão basculante de 6m³ - Carga com escavadeira hidráulica (caçamba de 0,80 m³ / 111hp) e descarga livre. AF_07/2020 | G10: m³ | H10: =H6-H7 -> 542.81411 | J10: =I10*H10 -> 0 | K10: 0.0089295629
B11: PAISAGISMO
A12: 103946 | B12: Plantio de grama esmeralda ou são carlos ou curitibana, em placas. AF_07/2024 | G12: m² | H12: =K1*K12 -> 11031.432 | J12: =I12*H12 -> 0 | K12: 0.18147255
A13: 98516 | B13: Plantio de palmeira com altura de muda menor ou igual a 2,0m . AF_07/2024 | G13: und | H13: 167 | J13: =I13*H13 -> 0 | K13: 0.0027508711
A14: 98509 | B14: Plantio de arbusto ou cerva viva. AF_07/2024 | G14: und | H14: 183 | J14: =I14*H14 -> 0 | K14: 0.0030001111
A15: 98511 | B15: Plantio de árvore ornamental com altura de muda maior que 2,0m e menor ou igual a 4,0m. AF_07/2024 | G15: und | H15: 168 | J15: =I15*H15 -> 0 | K15: 0.0027785644
A16: 98505 | B16: Plantio de forração | G16: m² | H16: =K1*K16 -> 2314.7221 | J16: =I16*H16 -> 0 | K16: 0.038078333
A17: 98526 | B17: Remoção de raízes remanescentes de tronco de árvore com diâmetro maior ou igual a 0,20m e menor que 0,40m. AF_03/2024 | G17: und | H17: 84 | J17: =I17*H17 -> 0 | K17: 0.0013846666
A18: 98527 | B18: Remoção de raízes remanescentes de tronco de árvore com diâmetro maior ou igual a 0,40m e menor que 0,60m. AF_03/2024 | G18: und | H18: 84 | J18: =I18*H18 -> 0 | K18: 0.0013846666
A19: 98528 | B19: Remoção de raízes remanescentes de tronco de árvore com diâmetro maior ou igual a 0,60m. AF_03/2024 | G19: und | H19: 84 | J19: =I19*H19 -> 0 | K19: 0.0013846666
A20: 98533 | B20: Poda em altura de árvore com diâmetro de tronco maior ou igual a 0,20m e menor que 0,40m. AF_03/2024 | G20: und | H20: 84 | J20: =I20*H20 -> 0 | K20: 0.0013846666
A21: 98534 | B21: Poda em altura de árvore com diâmetro de tronco maior ou igual a 0,40m e menor que 0,60m. AF_03/2024 | G21: und | H21: 84 | J21: =I21*H21 -> 0 | K21: 0.0013846666
A22: 98535 | B22: Poda em altura de árvore com diâmetro de tronco maior ou igual a 0,60m. AF_03/2024 | G22: und | H22: 84 | J22: =I22*H22 -> 0 | K22: 0.0013846666
A23: 105521 | B23: Espalhamento de terra vegetal para o plantio. AF_07/2024 | G23: m² | H23: 2314.72 | J23: =I23*H23 -> 0 | K23: 0.049232592
B24: SERVIÇOS e FERRAMENTAS
A25: 98519 | B25: Revolvimento e limpeza manual de solo | G25: m² | H25: =K1*K25 -> 129659.79 | J25: =I25*H25 -> 0 | K25: 2.1329682
A26: 98525 | B26: Limpeza mecanizada de camada vegetal, vegetação e pequenas árvores (diâmetro de tronco menor que 0,20m) com trator de esteiras. AF_03/2024 | G26: m² | H26: =K1*K26 -> 4888.524 | J26: =I26*H26 -> 0 | K26: 0.080418658
A27: 99062 | B27: Marcação de pontos em gabarito ou cavalete. AF_03/2024 | G27: und | H27: 146 | J27: =I27*H27 -> 0 | K27: 0.0024000888
A28: 100210 | B28: Transporte horizontal com carrinho de mão, de blocos vazados de concreto ou cerâmico de 19x19x39 cm. AF_07/2019 | G28: unxkm | H28: =K1*K28 -> 1189.6269 | J28: =I28*H28 -> 0 | K28: 0.019569955
B29: PROFISSIONAIS
A30: 93567 | B30: Engenheiro Civil de obra pleno | G30: mês | H30: 3 | J30: =I30*H30 -> 0 | K30: 0.00012185066
A31: 93570 | B31: Arquiteto de obra pleno | G31: mês | H31: 3 | J31: =I31*H31 -> 0 | K31: 0.00012185066
B32: MÁQUINAS E EQUIPAMENTOS
A33: 5678 | B33: Retroescavadeira sobre rodas com carregadeira, tração 4x4, potência líq. 88HP, caçamba carreg. cap. mín. 1m³, caçamba retro cap. 0,26 m³, peso operacional mín. 6.674kg, profundidade escavação máxim 4,37m - CHP diurno. AF_06/2014 | G33: chp | H33: =$K$1*K33 -> 1515.0908 | J33: =I33*H33 -> 0 | K33: 0.024924
A34: 89882 | B34: Caminhão basculante 18 m³, com cavalo mecânico de capacidade máxima de tração combinado de 45000kg. Potência de 330CV, inclusive semireboque com caçamba metálica - Materiais na operação. AF_12/2014 | G34: H | H34: =$K$1*K34 -> 1515.0908 | J34: =I34*H34 -> 0 | K34: 0.024924
A35: 95630 | B35: Rolo compactador vibratório tandem, aço liso, potência 125 HP, peso sem/com lastro 10,20/11,65 T, largura de trabalho 1,73m - materiais na operação. AF_11/2016 | G35: H | H35: =$K$1*K35 -> 1122.2895 | J35: =I35*H35 -> 0 | K35: 0.018462222
A36: 53849 | B36: Motoniveladora potência básica líquida (primeira marcha) 125 HP, peso bruto 13032 kg, largura da lâmina de 3,7m - materiais na operação. AF_06/2014 | G36: H | H36: =$K$1*K36 -> 1122.2895 | J36: =I36*H36 -> 0 | K36: 0.018462222
A37: 101006 | B37: Carga, manobra e descarga de água em caminhão pipa 10 m³. AF_07/2020 | G37: m³ | H37: =$K$1*K37 -> 2356.8079 | J37: =I37*H37 -> 0 | K37: 0.038770666
A38: 5851 | B38: Trator de esteira, potência 150 HP, peso operacional 16,7T, com roda motriz elevada e lâmina 3,18 m³ - CHP diurno. AF_06/2014 | G38: chp | H38: =$K$1*K38 -> 1122.2895 | J38: =I38*H38 -> 0 | K38: 0.018462222
A39: 95719 | B39: Escavadeira hidraulica sobre esteira, equipada com clamshell, com capacidade de caçambra entre 1,20 e 1,50 m³. Peso operacional entre 20 e 22 ton, potencia liquida entre 150 e 160 HP - materiais na operação. AF_11/2016 | G39: H | H39: =$K$1*K39 -> 1122.2895 | J39: =I39*H39 -> 0 | K39: 0.018462222
B40: MANUTENÇÃO
A41: 96535 | B41: Fabricação, montagem e desmontagem de fôrma para sapata, em madeira serrada, e=25 mm, 4 utilizações. Af_06/2017 | G41: m² | H41: =(12450/2)/44 -> 141.47727 | J41: =I41*H41 -> 0 | K41: 0.0057463666
A42: 92760 | B42: Armação de pilar ou viga de estrutura convencional de concreto armado utilizando AÇO CA-50 de 6,3mm - MONTAGEM. AF_06/2022 | G42: kg | H42: =(124500/2)/44 -> 1414.7727 | J42: =I42*H42 -> 0 | K42: 0.057463666
A43: 92761 | B43: Armação de pilar ou viga de estrutura convencional de concreto armado utilizando AÇO CA-50 de 8,0mm - MONTAGEM. AF_06/2022 | G43: kg | H43: =(49800/2)/44 -> 565.90909 | J43: =I43*H43 -> 0 | K43: 0.022985466
A44: 96555 | B44: Concretagem de bloco de coroamento ou viga baldrame, FCK 30 MPA, com uso de jerica. Lançamento adensamento e acabamento. AF_01/2024 | G44: m³ | H44: =(2100/2)/44 -> 23.863636 | J44: =I44*H44 -> 0 | K44: 0.00096926665
A45: 103317 | B45: Alvenaria de vedação de blocos vazados de concreto 9x19x39 cm (espessura 9cm)e argamassa de assentamento com preparo manual. AF_12/2021 | G45: m² | H45: =(59000/2)/44 -> 670.45455 | J45: =I45*H45 -> 0 | K45: 0.027231777
A46: 87792 | B46: Emboço ou massa única em argamassa traço 1:2:8. Preparo mecânico com betoneira 400L, aplicada manualmente em panos cegos de fachada (sem presença de vãos), espessura de 25mm. AF_08/2022 | G46: m² | H46: =(118000/2)/44 -> 1340.9091 | J46: =I46*H46 -> 0 | K46: 0.054463555
A47: 101966 | B47: Chapim sobre muros lineares, em granito ou mármore, L=25cm, assentado com argamassa 1:6 com aditivo. AF_11/2020 | G47: m | H47: =(15850/2)/44 -> 180.11364 | J47: =I47*H47 -> 0 | K47: 0.0073156554
A48: 87275 | B48: Revestimento cerâmica para paredes internas com placas tipo esmaltada de dimensões 33x45 cm aplicadas a meia altura das paredes. AF_02/2023_PE | G48: m² | H48: =(8800/2)/44 -> 100 | J48: =I48*H48 -> 0 | K48: 0.0040616888
A49: 87250 | B49: Revestimento cerâmico para piso com placas tipo esmaltada de dimensões 45x45 cm aplicada em ambientes de área entre 5 e 10 m². AF_02/2023_PE | G49: m² | H49: =(8800/2)/44 -> 100 | J49: =I49*H49 -> 0 | K49: 0.0040616888
A50: 88415 | B50: Aplicação manual de fundo selador acrílico em paredes externas. AF_03/2024 | G50: m² | H50: =(118000/2)/44 -> 1340.9091 | J50: =I50*H50 -> 0 | K50: 0.054463555
A51: 88423 | B51: Aplicação manual de pintura com tinta texturizada acrílica em paredes externas. Uma cor AF_03/2024 | G51: m² | H51: =(118000/2)/44 -> 1340.9091 | J51: =I51*H51 -> 0 | K51: 0.054463555
A52: 102623 | B52: Caixa d'água em polietileno, 1000L (inclusos tubos, conexões e torneira de bóia) - fornecimento e instalação | G52: und | H52: =(420/2)/44 -> 4.7727273 | J52: =I52*H52 -> 0 | K52: 0.00019385333
A53: 90512 | B53: Limpeza de calhas e coletores | G53: m³ | H53: =(39250/2)/44 -> 446.02273 | J53: =I53*H53 -> 0 | K53: 0.018116055
A54: 100434 | B54: Calha de beiral, semicircular de pvc, diâmetro 125mm, incluindo cabeceiras, emendas, bocais, suporte e vedações, excluindo condutores, incluso transporte vertical. AF_07/2019 | G54: m | H54: =(4150/2)/44 -> 47.159091 | J54: =I54*H54 -> 0 | K54: 0.0019154555
A55: 103782 | B55: Luminária tipo plafon circular, de sobrepor, com led de12/13W - fornecimento e instalação. AF_09/2024 | G55: und | H55: =(2450/2)/44 -> 27.840909 | J55: =I55*H55 -> 0 | K55: 0.0011308111
A56: 94273 | B56: Assentamento de guia (meio-fio) em trecho reto, confeccionada em concreto pré-fabricado, dimensões 100x15x13x30 (comprimento X base inferior X base superior X altura). AF_01/2024 | G56: m | H56: =(42000/2)/44 -> 477.27273 | J56: =I56*H56 -> 0 | K56: 0.019385333
A57: 102498 | B57: Pintura de meio-fio com tinta branca a base de cal (caiação). Af_05/2021 | G57: m | H57: =(14700/2)/44 -> 167.04545 | J57: =I57*H57 -> 0 | K57: 0.0067848665
A58: 92400 | B58: Execução de pavimento em piso intertravado, com bloco retangular de 20x10cm, espessura 10cm. AF_10/22 | G58: m² | H58: =(29500/2)/44 -> 335.22727 | J58: =I58*H58 -> 0 | K58: 0.013615889
A59: 103247 | B59: Ar condiciondo split inverter, hi-wall (parede), 12000 btu/h, ciclo frio - fornecimento e instalação. AF_11/2021_PE | G59: und | H59: =(465/2)/44 -> 5.2840909 | J59: =I59*H59 -> 0 | K59: 0.00021462333
A60: 94570 | B60: Janela de alumínio de correr com 2 folhas para vidros (vidros inclusos), batente/requadro 6 a 17 cm, acabamento com acetato ou brilhante, fixação com parafuso, sem guarnição/alizar, dimensões 100x120cm, vedação com silicone, exclusive contramarco - fornecimento e instalação. af_11/2024 | G60: und | H60: =(1270/2)/44 -> 14.431818 | J60: =I60*H60 -> 0 | K60: 0.00058617555
A61: 100683 | B61: Kit de porta de madeira para verniz, semi-oca (leve ou média) padrão médio, 80x210cm, espessura de 3,5cm. Itens inclusos: dobradiças, montagem e instalação de batente, fechadura com execução do furo - fornecimento e instalação. AF_12/2019 | G61: und | H61: =(490/2)/44 -> 5.5681818 | J61: =I61*H61 -> 0 | K61: 0.00022616222
A62: 94807 | B62: Porta em aço de abrir tipo veneziana sem guarnição, 87x210 cm, fixação com parafusos - fornecimento e instalação. AF_12/2019 | G62: und | H62: =(490/2)/44 -> 5.5681818 | J62: =I62*H62 -> 0 | K62: 0.00022616222
A63: 86888 | B63: Vaso sanitário sifonado com caixa acoplada louça branca - fornecimento e instalação. AF_01/2020 | G63: und | H63: =(490/2)/44 -> 5.5681818 | J63: =I63*H63 -> 0 | K63: 0.00022616222
A64: 86939 | B64: Lavatório louça branca com coluna, *44x33,5* cm, padrão popular incluso sifão flexível em pvc, válvula e engate flexivel 30cm em plastico e com torneira cromada padrão popular - fornecimento e instalação. AF_01/2020 | G64: und | H64: =(490/2)/44 -> 5.5681818 | J64: =I64*H64 -> 0 | K64: 0.00022616222
A65: 86920 | B65: Tanque de louça branca com coluna, 30L ou equivalente, incluso sifão flexivel em pvc, valvula plastica e torneira de metal cromado padrão popular - fornecimento e instalação. AF_01/2020 | G65: und | H65: =(490/2)/44 -> 5.5681818 | J65: =I65*H65 -> 0 | K65: 0.00022616222
A66: 103697 | B66: Fornecimento e instalação de suporte de madeira para placas de sinalização, em base de concreto, com h = 2m e seção de 7,5x7,5 cm. AF_03/2022 | G66: und | H66: =(1280/2)/44 -> 14.545455 | J66: =I66*H66 -> 0 | K66: 0.0005907911
A67: 94210 | B67: Telhamento com telha ondulada de fibrocimento E = 6mm, com recobrimento lateral de 1 1/4 de onda para telhado com inclinação máxima de 10 graus, com até 2 águas, incluso içamento. AF_07/2019 | G67: m² | H67: =(8300/2)/44 -> 94.318182 | J67: =I67*H67 -> 0 | K67: 0.003830911
A68: 104803 | B68: Remoção calhas e rufos de forma manual, sem reaproveitamento. AF_09/2023 | G68: m | H68: =(6350/2)/44 -> 72.159091 | J68: =I68*H68 -> 0 | K68: 0.0029308777
A69: 97647 | B69: Remoção de telhas de fibrocimento, metálica e cerâmica de forma manual, sem reaproveitamento. AF_09/2023 | G69: m² | H69: =(10300/2)/44 -> 117.04545 | J69: =I69*H69 -> 0 | K69: 0.0047540221
A70: 97663 | B70: Remoção de louças, de forma manual, sem reaproveitamento. AF_09/2023 | G70: und | H70: =(1030/2)/44 -> 11.704545 | J70: =I70*H70 -> 0 | K70: 0.00047540221
A71: 97665 | B71: Remoção de luminárias, de forma manual, sem reaproveitamento. AF_09/2023 | G71: und | H71: =(4150/2)/44 -> 47.159091 | J71: =I71*H71 -> 0 | K71: 0.0019154555
A72: 97666 | B72: Remoção de metais sanitários, de forma manual, sem reaproveitamento. AF_09/2023 | G72: und | H72: =(2200/2)/44 -> 25 | J72: =I72*H72 -> 0 | K72: 0.0010154222
A73: 97644 | B73: Remoção de portas, de forma manual, sem reaproveitamento. AF_09/2023 | G73: und | H73: =(2200/2)/44 -> 25 | J73: =I73*H73 -> 0 | K73: 0.0010154222
A74: 97660 | B74: Remoção de interruptores/tomadas elétricas, de forma manual, sem reaproveitamento. AF_09/2023 | G74: und | H74: =(2450/2)/44 -> 27.840909 | J74: =I74*H74 -> 0 | K74: 0.0011308111
A75: 92029 | B75: Interruptor simples(1 módulo) com 1 tomada de embutir 2P+T 10A, incluindo suporte e placa - fornecimento e instalação | G75: und | H75: =(4400/2)/44 -> 50 | J75: =I75*H75 -> 0 | K75: 0.0020308444
A76: 92031 | B76: Interruptor simples (1 módulo) com 2 tomadas de embutir 2P+T 10A, incluindo suporte e placa - fornecimento e instalação | G76: und | H76: =(4400/2)/44 -> 50 | J76: =I76*H76 -> 0 | K76: 0.0020308444
A77: 92000 | B77: Tomada baixa de embutir (1 módulo), 2P+T 10A, incluindo suporte e placa - fornecimento e instalação | G77: und | H77: =(4400/2)/44 -> 50 | J77: =I77*H77 -> 0 | K77: 0.0020308444
A78: 91996 | B78: Tomada média de embutir (1 módulo), 2P+T 10A, incluindo suporte e placa - fornecimento e instalação | G78: und | H78: =(4400/2)/44 -> 50 | J78: =I78*H78 -> 0 | K78: 0.0020308444
A79: 91992 | B79: Tomada alta de embutir (1 módulo), 2P+T 10A, incluindo suporte e placa - fornecimento e instalação | G79: und | H79: =(3950/2)/44 -> 44.886364 | J79: =I79*H79 -> 0 | K79: 0.0018231444
A80: 101876 | B80: Quadro de distribuição de energia, em PVC, de embutir, sem barramento, para 6 disjuntores - fornecimento e instalação | G80: und | H80: =(440/2)/44 -> 5 | J80: =I80*H80 -> 0 | K80: 0.00020308444
A81: 93654 | B81: Disjuntor monopolar tipo DIN, corrente nominal de 16A - Fornecimento e instalação. AF_10/2020 | G81: und | H81: =(440/2)/44 -> 5 | J81: =I81*H81 -> 0 | K81: 0.00020308444
A82: 93662 | B82: Disjuntor bipolar tipo DIN, corrente nominal de 20A - Fornecimento e instalação. AF_10/2020 | G82: und | H82: =(440/2)/44 -> 5 | J82: =I82*H82 -> 0 | K82: 0.00020308444
A83: 93664 | B83: Disjuntor bipolar tipo DIN, corrente nominal de 32A - Fornecimento e instalação. AF_10/2020 | G83: und | H83: =(440/2)/44 -> 5 | J83: =I83*H83 -> 0 | K83: 0.00020308444
A84: 91927 | B84: Cabo de cobre flexivel isolado, 2.5mm², anti-chama 0,6/1,0 KV, para circuitos terminais - fornecimento e instalação. AF_03/2023 | G84: m | H84: =(8800/2)/44 -> 100 | J84: =I84*H84 -> 0 | K84: 0.0040616888
A85: 91929 | B85: Cabo de cobre flexivel isolado, 4.0mm², anti-chama 0,6/1,0 KV, para circuitos terminais - fornecimento e instalação. AF_03/2023 | G85: m | H85: =(8800/2)/44 -> 100 | J85: =I85*H85 -> 0 | K85: 0.0040616888
A86: 91931 | B86: Cabo de cobre flexivel isolado, 6.0mm², anti-chama 0,6/1,0 KV, para circuitos terminais - fornecimento e instalação. AF_03/2023 | G86: m | H86: =(8800/2)/44 -> 100 | J86: =I86*H86 -> 0 | K86: 0.0040616888
A87: 91933 | B87: Cabo de cobre flexivel isolado, 10.0mm², anti-chama 0,6/1,0 KV, para circuitos terminais - fornecimento e instalação. AF_03/2023 | G87: m | H87: =(8800/2)/44 -> 100 | J87: =I87*H87 -> 0 | K87: 0.0040616888
A88: 90447 | B88: Rasgo linear manual em alvenaria, para eletrodutos, diâmetros menores ou iguais a 40mm. AF_09/2023 | G88: m | H88: =(2450/2)/44 -> 27.840909 | J88: =I88*H88 -> 0 | K88: 0.0011308111
A89: 91222 | B89: Rasgo linear manual em alvenaria, para ramais/distribuição de instalações hidraulicas, diâmetros maiores que 40mm e menores ou iguais a 75mm. AF_09/2023 | G89: m | H89: =(2450/2)/44 -> 27.840909 | J89: =I89*H89 -> 0 | K89: 0.0011308111
A90: 90443 | B90: Rasgo linear manual em alvenaria, para ramais/distribuição de instalações hidraulicas, diâmetros menores ou iguais que 40mm. AF_09/2023 | G90: m | H90: =(2450/2)/44 -> 27.840909 | J90: =I90*H90 -> 0 | K90: 0.0011308111
A91: 98547 | B91: Impermeabilização de superfície com manta asfáltica, duas camadas, inclusive aplicação de primer asfáltico, E = 3mm e E = 4mm. AF_09/2023 | G91: m² | H91: =(4400/2)/44 -> 50 | J91: =I91*H91 -> 0 | K91: 0.0020308444
A92: 87632 | B92: Contrapiso em argamassa traço 1:3 (cimento e areia), preparo manual, aplicado em áreas secas sobre laje, aderido, acabamento não reforçado, espessura 3cm. AF_07/2021 | G92: m² | H92: =(8800/2)/44 -> 100 | J92: =I92*H92 -> 0 | K92: 0.0040616888
A93: 87886 | B93: Chapisco aplicado no teto ou em estrutura, com desempenadeira dentada. Argamassa industrializada com preparo manual. AF_10/2022 | G93: m² | H93: =(8800/2)/44 -> 100 | J93: =I93*H93 -> 0 | K93: 0.0040616888
A94: 94995 | B94: Execução de passeio (calçada) ou piso de concreto com concreto moldado in loco, usinado, acabamento convencional, espessura 8 cm, armado. AF_08/2022 | G94: m² | H94: =(6400/2)/44 -> 72.727273 | J94: =I94*H94 -> 0 | K94: 0.0029539555
A95: 200401 | B95: Limpeza geral de obra | G95: m² | H95: =(10850/2)/44 -> 123.29545 | J95: =I95*H95 -> 0 | K95: 0.0050078777
B96: JAZIGO
A97: CPU | B97: Fornecimento de jazigo completo com 4 espaços para sepultamento | G97: und | H97: 110 | J97: =H97*I97 -> 0 | K97: 0.0018462222
A98: CPU | B98: Fornecimento de jazigo completo com 3 espaços para sepultamento | G98: und | H98: 170 | J98: =H98*I98 -> 0 | K98: 0.0027693333
A99: CPU | B99: Fornecimento de jazigo completo com 2 espaços para sepultamento | G99: und | H99: 50 | J99: =H99*I99 -> 0 | K99: 0.0009231111
B100: SERVIÇOS e FERRAMENTAS
A101: CPU | B101: Varrição | G101: m² | H101: =$K$1*K101 -> 262855.98 | J101: =I101*H101 -> 0 | K101: 4.3241121
...

Sheet ALPINOPOLIS
A1: ALPINOPOLIS | E1: PLANILHA ORÇAMENTÁRIA - SINAPI - DATA BASE JUNHO DE 2025 PUBLICADO EM 11/07/2025 | K1: 17438.67
A3: CÓDIGO SINAPI | B3: DESCRIÇÃO DOS SERVIÇOS | G3: Und. | H3: Qtd. | I3: Valor Médio Unitário | J3: Valor Total
B4: ESCAVAÇÕES
A5: 5678 | B5: RETROESCAVADEIRA SOBRE RODAS COM CARREGADEIRA, TRAÇÃO 4X4, POTÊNCIA LÍQ. 88 HP, CAÇAMBA CARREG. CAP. MÍN. 1 M3, CAÇAMBA RETRO CAP. 0,26 M3, PESO OPERACIONAL MÍN. 6.674 KG, PROFUNDIDADE ESCAVAÇÃO MÁX. 4,37 M - CHP DIURNO. AF_06/2014 | G5: chp | H5: =K1*K5 -> 60.550699 | J5: =I5*H5 -> 0 | K5: 0.0034722085
A6: 93358 | B6: Escavação manual de vala com profundido menor ou igual a 1,30m. AF_02/2021 | G6: m³ | H6: =K1*K6 -> 574.09586 | J6: =I6*H6 -> 0 | K6: 0.032920851
A7: 93382 | B7: Reaterro manual de valas, com compactador de solos de percussão. AF_08/2023 | G7: m³ | H7: =K1*K7 -> 418.37616 | J7: =I7*H7 -> 0 | K7: 0.023991288
A8: 101616 | B8: Preparo de fundo de vala com largura menor que 1,5m (acerto de solo natural). AF_08/2020 | G8: m² | H8: =K1*K8 -> 603.42715 | J8: =I8*H8 -> 0 | K8: 0.034602819
B9: TRANSPORTES
A10: 100981 | B10: Carga, manobra e descarga de entulho em caminhão basculante de 6m³ - Carga com escavadeira hidráulica (caçamba de 0,80 m³ / 111hp) e descarga livre. AF_07/2020 | G10: m³ | H10: =H6-H7 -> 155.7197 | J10: =I10*H10 -> 0 | K10: 0.0089295629
B11: PAISAGISMO
A12: 103946 | B12: Plantio de grama esmeralda ou são carlos ou curitibana, em placas. AF_07/2024 | G12: m² | H12: =K1*K12 -> 3164.6399 | J12: =I12*H12 -> 0 | K12: 0.18147255
A13: 98516 | B13: Plantio de palmeira com altura de muda menor ou igual a 2,0m . AF_07/2024 | G13: und | H13: 48 | J13: =I13*H13 -> 0 | K13: 0.0027508711
A14: 98509 | B14: Plantio de arbusto ou cerva viva. AF_07/2024 | G14: und | H14: 52 | J14: =I14*H14 -> 0 | K14: 0.0030001111
A15: 98511 | B15: Plantio de árvore ornamental com altura de muda maior que 2,0m e menor ou igual a 4,0m. AF_07/2024 | G15: und | H15: 48 | J15: =I15*H15 -> 0 | K15: 0.0027785644
A16: 98505 | B16: Plantio de forração | G16: m² | H16: 664.04 | J16: =I16*H16 -> 0 | K16: 0.038078333
A17: 98526 | B17: Remoção de raízes remanescentes de tronco de árvore com diâmetro maior ou igual a 0,20m e menor que 0,40m. AF_03/2024 | G17: und | H17: 24 | J17: =I17*H17 -> 0 | K17: 0.0013846666
A18: 98527 | B18: Remoção de raízes remanescentes de tronco de árvore com diâmetro maior ou igual a 0,40m e menor que 0,60m. AF_03/2024 | G18: und | H18: 24 | J18: =I18*H18 -> 0 | K18: 0.0013846666
A19: 98528 | B19: Remoção de raízes remanescentes de tronco de árvore com diâmetro maior ou igual a 0,60m. AF_03/2024 | G19: und | H19: 24 | J19: =I19*H19 -> 0 | K19: 0.0013846666
A20: 98533 | B20: Poda em altura de árvore com diâmetro de tronco maior ou igual a 0,20m e menor que 0,40m. AF_03/2024 | G20: und | H20: 24 | J20: =I20*H20 -> 0 | K20: 0.0013846666
A21: 98534 | B21: Poda em altura de árvore com diâmetro de tronco maior ou igual a 0,40m e menor que 0,60m. AF_03/2024 | G21: und | H21: 24 | J21: =I21*H21 -> 0 | K21: 0.0013846666
A22: 98535 | B22: Poda em altura de árvore com diâmetro de tronco maior ou igual a 0,60m. AF_03/2024 | G22: und | H22: 24 | J22: =I22*H22 -> 0 | K22: 0.0013846666
A23: 105521 | B23: Espalhamento de terra vegetal para o plantio. AF_07/2024 | G23: m² | H23: 664.04 | J23: =I23*H23 -> 0 | K23: 0.049232592
B24: SERVIÇOS e FERRAMENTAS
A25: 98519 | B25: Revolvimento e limpeza manual de solo | G25: m² | H25: =K1*K25 -> 37196.129 | J25: =I25*H25 -> 0 | K25: 2.1329682
A26: 98525 | B26: Limpeza mecanizada de camada vegetal, vegetação e pequenas árvores (diâmetro de tronco menor que 0,20m) com trator de esteiras. AF_03/2024 | G26: m² | H26: =K1*K26 -> 1402.3944 | J26: =I26*H26 -> 0 | K26: 0.080418658
A27: 99062 | B27: Marcação de pontos em gabarito ou cavalete. AF_03/2024 | G27: und | H27: 42 | J27: =I27*H27 -> 0 | K27: 0.0024000888
A28: 100210 | B28: Transporte horizontal com carrinho de mão, de blocos vazados de concreto ou cerâmico de 19x19x39 cm. AF_07/2019 | G28: unxkm | H28: =K1*K28 -> 341.27399 | J28: =I28*H28 -> 0 | K28: 0.019569955
B29: PROFISSIONAIS
A30: 93567 | B30: Engenheiro Civil de obra pleno | G30: mês | H30: 3 | J30: =I30*H30 -> 0 | K30: 0.00012185066
A31: 93570 | B31: Arquiteto de obra pleno | G31: mês | H31: 3 | J31: =I31*H31 -> 0 | K31: 0.00012185066
B32: MÁQUINAS E EQUIPAMENTOS
A33: 5678 | B33: Retroescavadeira sobre rodas com carregadeira, tração 4x4, potência líq. 88HP, caçamba carreg. cap. mín. 1m³, caçamba retro cap. 0,26 m³, peso operacional mín. 6.674kg, profundidade escavação máxim 4,37m - CHP diurno. AF_06/2014 | G33: chp | H33: =$K$1*K33 -> 434.6414 | J33: =I33*H33 -> 0 | K33: 0.024924
A34: 89882 | B34: Caminhão basculante 18 m³, com cavalo mecânico de capacidade máxima de tração combinado de 45000kg. Potência de 330CV, inclusive semireboque com caçamba metálica - Materiais na operação. AF_12/2014 | G34: H | H34: =$K$1*K34 -> 434.6414 | J34: =I34*H34 -> 0 | K34: 0.024924
A35: 95630 | B35: Rolo compactador vibratório tandem, aço liso, potência 125 HP, peso sem/com lastro 10,20/11,65 T, largura de trabalho 1,73m - materiais na operação. AF_11/2016 | G35: H | H35: =$K$1*K35 -> 321.9566 | J35: =I35*H35 -> 0 | K35: 0.018462222
A36: 53849 | B36: Motoniveladora potência básica líquida (primeira marcha) 125 HP, peso bruto 13032 kg, largura da lâmina de 3,7m - materiais na operação. AF_06/2014 | G36: H | H36: =$K$1*K36 -> 321.9566 | J36: =I36*H36 -> 0 | K36: 0.018462222
A37: 101006 | B37: Carga, manobra e descarga de água em caminhão pipa 10 m³. AF_07/2020 | G37: m³ | H37: =$K$1*K37 -> 676.10885 | J37: =I37*H37 -> 0 | K37: 0.038770666
A38: 5851 | B38: Trator de esteira, potência 150 HP, peso operacional 16,7T, com roda motriz elevada e lâmina 3,18 m³ - CHP diurno. AF_06/2014 | G38: chp | H38: =$K$1*K38 -> 321.9566 | J38: =I38*H38 -> 0 | K38: 0.018462222
A39: 95719 | B39: Escavadeira hidraulica sobre esteira, equipada com clamshell, com capacidade de caçambra entre 1,20 e 1,50 m³. Peso operacional entre 20 e 22 ton, potencia liquida entre 150 e 160 HP - materiais na operação. AF_11/2016 | G39: H | H39: =$K$1*K39 -> 321.9566 | J39: =I39*H39 -> 0 | K39: 0.018462222
B40: MANUTENÇÃO
A41: 96535 | B41: Fabricação, montagem e desmontagem de fôrma para sapata, em madeira serrada, e=25 mm, 4 utilizações. Af_06/2017 | G41: m² | H41: =(12450/2)/44 -> 141.47727 | J41: =I41*H41 -> 0 | K41: 0.0057463666
A42: 92760 | B42: Armação de pilar ou viga de estrutura convencional de concreto armado utilizando AÇO CA-50 de 6,3mm - MONTAGEM. AF_06/2022 | G42: kg | H42: =(124500/2)/44 -> 1414.7727 | J42: =I42*H42 -> 0 | K42: 0.057463666
A43: 92761 | B43: Armação de pilar ou viga de estrutura convencional de concreto armado utilizando AÇO CA-50 de 8,0mm - MONTAGEM. AF_06/2022 | G43: kg | H43: =(49800/2)/44 -> 565.90909 | J43: =I43*H43 -> 0 | K43: 0.022985466
A44: 96555 | B44: Concretagem de bloco de coroamento ou viga baldrame, FCK 30 MPA, com uso de jerica. Lançamento adensamento e acabamento. AF_01/2024 | G44: m³ | H44: =(2100/2)/44 -> 23.863636 | J44: =I44*H44 -> 0 | K44: 0.00096926665
A45: 103317 | B45: Alvenaria de vedação de blocos vazados de concreto 9x19x39 cm (espessura 9cm)e argamassa de assentamento com preparo manual. AF_12/2021 | G45: m² | H45: =(59000/2)/44 -> 670.45455 | J45: =I45*H45 -> 0 | K45: 0.027231777
A46: 87792 | B46: Emboço ou massa única em argamassa traço 1:2:8. Preparo mecânico com betoneira 400L, aplicada manualmente em panos cegos de fachada (sem presença de vãos), espessura de 25mm. AF_08/2022 | G46: m² | H46: =(118000/2)/44 -> 1340.9091 | J46: =I46*H46 -> 0 | K46: 0.054463555
A47: 101966 | B47: Chapim sobre muros lineares, em granito ou mármore, L=25cm, assentado com argamassa 1:6 com aditivo. AF_11/2020 | G47: m | H47: =(15850/2)/44 -> 180.11364 | J47: =I47*H47 -> 0 | K47: 0.0073156554
A48: 87275 | B48: Revestimento cerâmica para paredes internas com placas tipo esmaltada de dimensões 33x45 cm aplicadas a meia altura das paredes. AF_02/2023_PE | G48: m² | H48: =(8800/2)/44 -> 100 | J48: =I48*H48 -> 0 | K48: 0.0040616888
A49: 87250 | B49: Revestimento cerâmico para piso com placas tipo esmaltada de dimensões 45x45 cm aplicada em ambientes de área entre 5 e 10 m². AF_02/2023_PE | G49: m² | H49: =(8800/2)/44 -> 100 | J49: =I49*H49 -> 0 | K49: 0.0040616888
A50: 88415 | B50: Aplicação manual de fundo selador acrílico em paredes externas. AF_03/2024 | G50: m² | H50: =(118000/2)/44 -> 1340.9091 | J50: =I50*H50 -> 0 | K50: 0.054463555
A51: 88423 | B51: Aplicação manual de pintura com tinta texturizada acrílica em paredes externas. Uma cor AF_03/2024 | G51: m² | H51: =(118000/2)/44 -> 1340.9091 | J51: =I51*H51 -> 0 | K51: 0.054463555
A52: 102623 | B52: Caixa d'água em polietileno, 1000L (inclusos tubos, conexões e torneira de bóia) - fornecimento e instalação | G52: und | H52: =(420/2)/44 -> 4.7727273 | J52: =I52*H52 -> 0 | K52: 0.00019385333
A53: 90512 | B53: Limpeza de calhas e coletores | G53: m³ | H53: =(39250/2)/44 -> 446.02273 | J53: =I53*H53 -> 0 | K53: 0.018116055
A54: 100434 | B54: Calha de beiral, semicircular de pvc, diâmetro 125mm, incluindo cabeceiras, emendas, bocais, suporte e vedações, excluindo condutores, incluso transporte vertical. AF_07/2019 | G54: m | H54: =(4150/2)/44 -> 47.159091 | J54: =I54*H54 -> 0 | K54: 0.0019154555
A55: 103782 | B55: Luminária tipo plafon circular, de sobrepor, com led de12/13W - fornecimento e instalação. AF_09/2024 | G55: und | H55: =(2450/2)/44 -> 27.840909 | J55: =I55*H55 -> 0 | K55: 0.0011308111
A56: 94273 | B56: Assentamento de guia (meio-fio) em trecho reto, confeccionada em concreto pré-fabricado, dimensões 100x15x13x30 (comprimento X base inferior X base superior X altura). AF_01/2024 | G56: m | H56: =(42000/2)/44 -> 477.27273 | J56: =I56*H56 -> 0 | K56: 0.019385333
A57: 102498 | B57: Pintura de meio-fio com tinta branca a base de cal (caiação). Af_05/2021 | G57: m | H57: =(14700/2)/44 -> 167.04545 | J57: =I57*H57 -> 0 | K57: 0.0067848665
A58: 92400 | B58: Execução de pavimento em piso intertravado, com bloco retangular de 20x10cm, espessura 10cm. AF_10/22 | G58: m² | H58: =(29500/2)/44 -> 335.22727 | J58: =I58*H58 -> 0 | K58: 0.013615889
A59: 103247 | B59: Ar condiciondo split inverter, hi-wall (parede), 12000 btu/h, ciclo frio - fornecimento e instalação. AF_11/2021_PE | G59: und | H59: =(465/2)/44 -> 5.2840909 | J59: =I59*H59 -> 0 | K59: 0.00021462333
A60: 94570 | B60: Janela de alumínio de correr com 2 folhas para vidros (vidros inclusos), batente/requadro 6 a 17 cm, acabamento com acetato ou brilhante, fixação com parafuso, sem guarnição/alizar, dimensões 100x120cm, vedação com silicone, exclusive contramarco - fornecimento e instalação. af_11/2024 | G60: und | H60: =(1270/2)/44 -> 14.431818 | J60: =I60*H60 -> 0 | K60: 0.00058617555
A61: 100683 | B61: Kit de porta de madeira para verniz, semi-oca (leve ou média) padrão médio, 80x210cm, espessura de 3,5cm. Itens inclusos: dobradiças, montagem e instalação de batente, fechadura com execução do furo - fornecimento e instalação. AF_12/2019 | G61: und | H61: =(490/2)/44 -> 5.5681818 | J61: =I61*H61 -> 0 | K61: 0.00022616222
A62: 94807 | B62: Porta em aço de abrir tipo veneziana sem guarnição, 87x210 cm, fixação com parafusos - fornecimento e instalação. AF_12/2019 | G62: und | H62: =(490/2)/44 -> 5.5681818 | J62: =I62*H62 -> 0 | K62: 0.00022616222
A63: 86888 | B63: Vaso sanitário sifonado com caixa acoplada louça branca - fornecimento e instalação. AF_01/2020 | G63: und | H63: =(490/2)/44 -> 5.5681818 | J63: =I63*H63 -> 0 | K63: 0.00022616222
A64: 86939 | B64: Lavatório louça branca com coluna, *44x33,5* cm, padrão popular incluso sifão flexível em pvc, válvula e engate flexivel 30cm em plastico e com torneira cromada padrão popular - fornecimento e instalação. AF_01/2020 | G64: und | H64: =(490/2)/44 -> 5.5681818 | J64: =I64*H64 -> 0 | K64: 0.00022616222
A65: 86920 | B65: Tanque de louça branca com coluna, 30L ou equivalente, incluso sifão flexivel em pvc, valvula plastica e torneira de metal cromado padrão popular - fornecimento e instalação. AF_01/2020 | G65: und | H65: =(490/2)/44 -> 5.5681818 | J65: =I65*H65 -> 0 | K65: 0.00022616222
A66: 103697 | B66: Fornecimento e instalação de suporte de madeira para placas de sinalização, em base de concreto, com h = 2m e seção de 7,5x7,5 cm. AF_03/2022 | G66: und | H66: =(1280/2)/44 -> 14.545455 | J66: =I66*H66 -> 0 | K66: 0.0005907911
A67: 94210 | B67: Telhamento com telha ondulada de fibrocimento E = 6mm, com recobrimento lateral de 1 1/4 de onda para telhado com inclinação máxima de 10 graus, com até 2 águas, incluso içamento. AF_07/2019 | G67: m² | H67: =(8300/2)/44 -> 94.318182 | J67: =I67*H67 -> 0 | K67: 0.003830911
A68: 104803 | B68: Remoção calhas e rufos de forma manual, sem reaproveitamento. AF_09/2023 | G68: m | H68: =(6350/2)/44 -> 72.159091 | J68: =I68*H68 -> 0 | K68: 0.0029308777
A69: 97647 | B69: Remoção de telhas de fibrocimento, metálica e cerâmica de forma manual, sem reaproveitamento. AF_09/2023 | G69: m² | H69: =(10300/2)/44 -> 117.04545 | J69: =I69*H69 -> 0 | K69: 0.0047540221
A70: 97663 | B70: Remoção de louças, de forma manual, sem reaproveitamento. AF_09/2023 | G70: und | H70: =(1030/2)/44 -> 11.704545 | J70: =I70*H70 -> 0 | K70: 0.00047540221
A71: 97665 | B71: Remoção de luminárias, de forma manual, sem reaproveitamento. AF_09/2023 | G71: und | H71: =(4150/2)/44 -> 47.159091 | J71: =I71*H71 -> 0 | K71: 0.0019154555
A72: 97666 | B72: Remoção de metais sanitários, de forma manual, sem reaproveitamento. AF_09/2023 | G72: und | H72: =(2200/2)/44 -> 25 | J72: =I72*H72 -> 0 | K72: 0.0010154222
A73: 97644 | B73: Remoção de portas, de forma manual, sem reaproveitamento. AF_09/2023 | G73: und | H73: =(2200/2)/44 -> 25 | J73: =I73*H73 -> 0 | K73: 0.0010154222
A74: 97660 | B74: Remoção de interruptores/tomadas elétricas, de forma manual, sem reaproveitamento. AF_09/2023 | G74: und | H74: =(2450/2)/44 -> 27.840909 | J74: =I74*H74 -> 0 | K74: 0.0011308111
A75: 92029 | B75: Interruptor simples(1 módulo) com 1 tomada de embutir 2P+T 10A, incluindo suporte e placa - fornecimento e instalação | G75: und | H75: =(4400/2)/44 -> 50 | J75: =I75*H75 -> 0 | K75: 0.0020308444
A76: 92031 | B76: Interruptor simples (1 módulo) com 2 tomadas de embutir 2P+T 10A, incluindo suporte e placa - fornecimento e instalação | G76: und | H76: =(4400/2)/44 -> 50 | J76: =I76*H76 -> 0 | K76: 0.0020308444
A77: 92000 | B77: Tomada baixa de embutir (1 módulo), 2P+T 10A, incluindo suporte e placa - fornecimento e instalação | G77: und | H77: =(4400/2)/44 -> 50 | J77: =I77*H77 -> 0 | K77: 0.0020308444
A78: 91996 | B78: Tomada média de embutir (1 módulo), 2P+T 10A, incluindo suporte e placa - fornecimento e instalação | G78: und | H78: =(4400/2)/44 -> 50 | J78: =I78*H78 -> 0 | K78: 0.0020308444
A79: 91992 | B79: Tomada alta de embutir (1 módulo), 2P+T 10A, incluindo suporte e placa - fornecimento e instalação | G79: und | H79: =(3950/2)/44 -> 44.886364 | J79: =I79*H79 -> 0 | K79: 0.0018231444
A80: 101876 | B80: Quadro de distribuição de energia, em PVC, de embutir, sem barramento, para 6 disjuntores - fornecimento e instalação | G80: und | H80: =(440/2)/44 -> 5 | J80: =I80*H80 -> 0 | K80: 0.00020308444
A81: 93654 | B81: Disjuntor monopolar tipo DIN, corrente nominal de 16A - Fornecimento e instalação. AF_10/2020 | G81: und | H81: =(440/2)/44 -> 5 | J81: =I81*H81 -> 0 | K81: 0.00020308444
A82: 93662 | B82: Disjuntor bipolar tipo DIN, corrente nominal de 20A - Fornecimento e instalação. AF_10/2020 | G82: und | H82: =(440/2)/44 -> 5 | J82: =I82*H82 -> 0 | K82: 0.00020308444
A83: 93664 | B83: Disjuntor bipolar tipo DIN, corrente nominal de 32A - Fornecimento e instalação. AF_10/2020 | G83: und | H83: =(440/2)/44 -> 5 | J83: =I83*H83 -> 0 | K83: 0.00020308444
A84: 91927 | B84: Cabo de cobre flexivel isolado, 2.5mm², anti-chama 0,6/1,0 KV, para circuitos terminais - fornecimento e instalação. AF_03/2023 | G84: m | H84: =(8800/2)/44 -> 100 | J84: =I84*H84 -> 0 | K84: 0.0040616888
A85: 91929 | B85: Cabo de cobre flexivel isolado, 4.0mm², anti-chama 0,6/1,0 KV, para circuitos terminais - fornecimento e instalação. AF_03/2023 | G85: m | H85: =(8800/2)/44 -> 100 | J85: =I85*H85 -> 0 | K85: 0.0040616888
A86: 91931 | B86: Cabo de cobre flexivel isolado, 6.0mm², anti-chama 0,6/1,0 KV, para circuitos terminais - fornecimento e instalação. AF_03/2023 | G86: m | H86: =(8800/2)/44 -> 100 | J86: =I86*H86 -> 0 | K86: 0.0040616888
A87: 91933 | B87: Cabo de cobre flexivel isolado, 10.0mm², anti-chama 0,6/1,0 KV, para circuitos terminais - fornecimento e instalação. AF_03/2023 | G87: m | H87: =(8800/2)/44 -> 100 | J87: =I87*H87 -> 0 | K87: 0.0040616888
A88: 90447 | B88: Rasgo linear manual em alvenaria, para eletrodutos, diâmetros menores ou iguais a 40mm. AF_09/2023 | G88: m | H88: =(2450/2)/44 -> 27.840909 | J88: =I88*H88 -> 0 | K88: 0.0011308111
A89: 91222 | B89: Rasgo linear manual em alvenaria, para ramais/distribuição de instalações hidraulicas, diâmetros maiores que 40mm e menores ou iguais a 75mm. AF_09/2023 | G89: m | H89: =(2450/2)/44 -> 27.840909 | J89: =I89*H89 -> 0 | K89: 0.0011308111
A90: 90443 | B90: Rasgo linear manual em alvenaria, para ramais/distribuição de instalações hidraulicas, diâmetros menores ou iguais que 40mm. AF_09/2023 | G90: m | H90: =(2450/2)/44 -> 27.840909 | J90: =I90*H90 -> 0 | K90: 0.0011308111
A91: 98547 | B91: Impermeabilização de superfície com manta asfáltica, duas camadas, inclusive aplicação de primer asfáltico, E = 3mm e E = 4mm. AF_09/2023 | G91: m² | H91: =(4400/2)/44 -> 50 | J91: =I91*H91 -> 0 | K91: 0.0020308444
A92: 87632 | B92: Contrapiso em argamassa traço 1:3 (cimento e areia), preparo manual, aplicado em áreas secas sobre laje, aderido, acabamento não reforçado, espessura 3cm. AF_07/2021 | G92: m² | H92: =(8800/2)/44 -> 100 | J92: =I92*H92 -> 0 | K92: 0.0040616888
A93: 87886 | B93: Chapisco aplicado no teto ou em estrutura, com desempenadeira dentada. Argamassa industrializada com preparo manual. AF_10/2022 | G93: m² | H93: =(8800/2)/44 -> 100 | J93: =I93*H93 -> 0 | K93: 0.0040616888
A94: 94995 | B94: Execução de passeio (calçada) ou piso de concreto com concreto moldado in loco, usinado, acabamento convencional, espessura 8 cm, armado. AF_08/2022 | G94: m² | H94: =(6400/2)/44 -> 72.727273 | J94: =I94*H94 -> 0 | K94: 0.0029539555
A95: 200401 | B95: Limpeza geral de obra | G95: m² | H95: =(10850/2)/44 -> 123.29545 | J95: =I95*H95 -> 0 | K95: 0.0050078777
B96: JAZIGO
A97: CPU | B97: Fornecimento de jazigo completo com 4 espaços para sepultamento | G97: und | H97: 32 | J97: =H97*I97 -> 0 | K97: 0.0018462222
A98: CPU | B98: Fornecimento de jazigo completo com 3 espaços para sepultamento | G98: und | H98: 50 | J98: =H98*I98 -> 0 | K98: 0.0027693333
A99: CPU | B99: Fornecimento de jazigo completo com 2 espaços para sepultamento | G99: und | H99: 10 | J99: =H99*I99 -> 0 | K99: 0.0009231111
B100: SERVIÇOS e FERRAMENTAS
A101: CPU | B101: Varrição | G101: m² | H101: =$K$1*K101 -> 75406.764 | J101: =I101*H101 -> 0 | K101: 4.3241121
...

Sheet ALTEROSA
A1: ALTEROSA | E1: PLANILHA ORÇAMENTÁRIA - SINAPI - DATA BASE JUNHO DE 2025 PUBLICADO EM 11/07/2025 | K1: 14843.8
A3: CÓDIGO SINAPI | B3: DESCRIÇÃO DOS SERVIÇOS | G3: Und. | H3: Qtd. | I3: Valor Médio Unitário | J3: Valor Total
B4: ESCAVAÇÕES
A5: 5678 | B5: RETROESCAVADEIRA SOBRE RODAS COM CARREGADEIRA, TRAÇÃO 4X4, POTÊNCIA LÍQ. 88 HP, CAÇAMBA CARREG. CAP. MÍN. 1 M3, CAÇAMBA RETRO CAP. 0,26 M3, PESO OPERACIONAL MÍN. 6.674 KG, PROFUNDIDADE ESCAVAÇÃO MÁX. 4,37 M - CHP DIURNO. AF_06/2014 | G5: chp | H5: =K1*K5 -> 51.540769 | J5: =I5*H5 -> 0 | K5: 0.0034722085
A6: 93358 | B6: Escavação manual de vala com profundido menor ou igual a 1,30m. AF_02/2021 | G6: m³ | H6: =K1*K6 -> 488.67053 | J6: =I6*H6 -> 0 | K6: 0.032920851
A7: 93382 | B7: Reaterro manual de valas, com compactador de solos de percussão. AF_08/2023 | G7: m³ | H7: =K1*K7 -> 356.12188 | J7: =I7*H7 -> 0 | K7: 0.023991288
A8: 101616 | B8: Preparo de fundo de vala com largura menor que 1,5m (acerto de solo natural). AF_08/2020 | G8: m² | H8: =K1*K8 -> 513.63733 | J8: =I8*H8 -> 0 | K8: 0.034602819
B9: TRANSPORTES
A10: 100981 | B10: Carga, manobra e descarga de entulho em caminhão basculante de 6m³ - Carga com escavadeira hidráulica (caçamba de 0,80 m³ / 111hp) e descarga livre. AF_07/2020 | G10: m³ | H10: =H6-H7 -> 132.54865 | J10: =I10*H10 -> 0 | K10: 0.0089295629
B11: PAISAGISMO
A12: 103946 | B12: Plantio de grama esmeralda ou são carlos ou curitibana, em placas. AF_07/2024 | G12: m² | H12: =K1*K12 -> 2693.7423 | J12: =I12*H12 -> 0 | K12: 0.18147255
A13: 98516 | B13: Plantio de palmeira com altura de muda menor ou igual a 2,0m . AF_07/2024 | G13: und | H13: 41 | J13: =I13*H13 -> 0 | K13: 0.0027508711
A14: 98509 | B14: Plantio de arbusto ou cerva viva. AF_07/2024 | G14: und | H14: 44 | J14: =I14*H14 -> 0 | K14: 0.0030001111
A15: 98511 | B15: Plantio de árvore ornamental com altura de muda maior que 2,0m e menor ou igual a 4,0m. AF_07/2024 | G15: und | H15: 41 | J15: =I15*H15 -> 0 | K15: 0.0027785644
A16: 98505 | B16: Plantio de forração | G16: m² | H16: =K1*K16 -> 565.22715 | J16: =I16*H16 -> 0 | K16: 0.038078333
A17: 98526 | B17: Remoção de raízes remanescentes de tronco de árvore com diâmetro maior ou igual a 0,20m e menor que 0,40m. AF_03/2024 | G17: und | H17: 20 | J17: =I17*H17 -> 0 | K17: 0.0013846666
A18: 98527 | B18: Remoção de raízes remanescentes de tronco de árvore com diâmetro maior ou igual a 0,40m e menor que 0,60m. AF_03/2024 | G18: und | H18: 20 | J18: =I18*H18 -> 0 | K18: 0.0013846666
A19: 98528 | B19: Remoção de raízes remanescentes de tronco de árvore com diâmetro maior ou igual a 0,60m. AF_03/2024 | G19: und | H19: 20 | J19: =I19*H19 -> 0 | K19: 0.0013846666
A20: 98533 | B20: Poda em altura de árvore com diâmetro de tronco maior ou igual a 0,20m e menor que 0,40m. AF_03/2024 | G20: und | H20: 20 | J20: =I20*H20 -> 0 | K20: 0.0013846666
A21: 98534 | B21: Poda em altura de árvore com diâmetro de tronco maior ou igual a 0,40m e menor que 0,60m. AF_03/2024 | G21: und | H21: 20 | J21: =I21*H21 -> 0 | K21: 0.0013846666
A22: 98535 | B22: Poda em altura de árvore com diâmetro de tronco maior ou igual a 0,60m. AF_03/2024 | G22: und | H22: 20 | J22: =I22*H22 -> 0 | K22: 0.0013846666
A23: 105521 | B23: Espalhamento de terra vegetal para o plantio. AF_07/2024 | G23: m² | H23: 565.23 | J23: =I23*H23 -> 0 | K23: 0.049232592
B24: SERVIÇOS e FERRAMENTAS
A25: 98519 | B25: Revolvimento e limpeza manual de solo | G25: m² | H25: =K1*K25 -> 31661.354 | J25: =I25*H25 -> 0 | K25: 2.1329682
A26: 98525 | B26: Limpeza mecanizada de camada vegetal, vegetação e pequenas árvores (diâmetro de tronco menor que 0,20m) com trator de esteiras. AF_03/2024 | G26: m² | H26: =K1*K26 -> 1193.7185 | J26: =I26*H26 -> 0 | K26: 0.080418658
A27: 99062 | B27: Marcação de pontos em gabarito ou cavalete. AF_03/2024 | G27: und | H27: 36 | J27: =I27*H27 -> 0 | K27: 0.0024000888
A28: 100210 | B28: Transporte horizontal com carrinho de mão, de blocos vazados de concreto ou cerâmico de 19x19x39 cm. AF_07/2019 | G28: unxkm | H28: =K1*K28 -> 290.4925 | J28: =I28*H28 -> 0 | K28: 0.019569955
B29: PROFISSIONAIS
A30: 93567 | B30: Engenheiro Civil de obra pleno | G30: mês | H30: 3 | J30: =I30*H30 -> 0 | K30: 0.00012185066
A31: 93570 | B31: Arquiteto de obra pleno | G31: mês | H31: 3 | J31: =I31*H31 -> 0 | K31: 0.00012185066
B32: MÁQUINAS E EQUIPAMENTOS
A33: 5678 | B33: Retroescavadeira sobre rodas com carregadeira, tração 4x4, potência líq. 88HP, caçamba carreg. cap. mín. 1m³, caçamba retro cap. 0,26 m³, peso operacional mín. 6.674kg, profundidade escavação máxim 4,37m - CHP diurno. AF_06/2014 | G33: chp | H33: =$K$1*K33 -> 369.96686 | J33: =I33*H33 -> 0 | K33: 0.024924
A34: 89882 | B34: Caminhão basculante 18 m³, com cavalo mecânico de capacidade máxima de tração combinado de 45000kg. Potência de 330CV, inclusive semireboque com caçamba metálica - Materiais na operação. AF_12/2014 | G34: H | H34: =$K$1*K34 -> 369.96686 | J34: =I34*H34 -> 0 | K34: 0.024924
A35: 95630 | B35: Rolo compactador vibratório tandem, aço liso, potência 125 HP, peso sem/com lastro 10,20/11,65 T, largura de trabalho 1,73m - materiais na operação. AF_11/2016 | G35: H | H35: =$K$1*K35 -> 274.04953 | J35: =I35*H35 -> 0 | K35: 0.018462222
A36: 53849 | B36: Motoniveladora potência básica líquida (primeira marcha) 125 HP, peso bruto 13032 kg, largura da lâmina de 3,7m - materiais na operação. AF_06/2014 | G36: H | H36: =$K$1*K36 -> 274.04953 | J36: =I36*H36 -> 0 | K36: 0.018462222
A37: 101006 | B37: Carga, manobra e descarga de água em caminhão pipa 10 m³. AF_07/2020 | G37: m³ | H37: =$K$1*K37 -> 575.50401 | J37: =I37*H37 -> 0 | K37: 0.038770666
A38: 5851 | B38: Trator de esteira, potência 150 HP, peso operacional 16,7T, com roda motriz elevada e lâmina 3,18 m³ - CHP diurno. AF_06/2014 | G38: chp | H38: =$K$1*K38 -> 274.04953 | J38: =I38*H38 -> 0 | K38: 0.018462222
A39: 95719 | B39: Escavadeira hidraulica sobre esteira, equipada com clamshell, com capacidade de caçambra entre 1,20 e 1,50 m³. Peso operacional entre 20 e 22 ton, potencia liquida entre 150 e 160 HP - materiais na operação. AF_11/2016 | G39: H | H39: =$K$1*K39 -> 274.04953 | J39: =I39*H39 -> 0 | K39: 0.018462222
B40: MANUTENÇÃO
A41: 96535 | B41: Fabricação, montagem e desmontagem de fôrma para sapata, em madeira serrada, e=25 mm, 4 utilizações. Af_06/2017 | G41: m² | H41: =(12450/2)/44 -> 141.47727 | J41: =I41*H41 -> 0 | K41: 0.0057463666
A42: 92760 | B42: Armação de pilar ou viga de estrutura convencional de concreto armado utilizando AÇO CA-50 de 6,3mm - MONTAGEM. AF_06/2022 | G42: kg | H42: =(124500/2)/44 -> 1414.7727 | J42: =I42*H42 -> 0 | K42: 0.057463666
A43: 92761 | B43: Armação de pilar ou viga de estrutura convencional de concreto armado utilizando AÇO CA-50 de 8,0mm - MONTAGEM. AF_06/2022 | G43: kg | H43: =(49800/2)/44 -> 565.90909 | J43: =I43*H43 -> 0 | K43: 0.022985466
A44: 96555 | B44: Concretagem de bloco de coroamento ou viga baldrame, FCK 30 MPA, com uso de jerica. Lançamento adensamento e acabamento. AF_01/2024 | G44: m³ | H44: =(2100/2)/44 -> 23.863636 | J44: =I44*H44 -> 0 | K44: 0.00096926665
A45: 103317 | B45: Alvenaria de vedação de blocos vazados de concreto 9x19x39 cm (espessura 9cm)e argamassa de assentamento com preparo manual. AF_12/2021 | G45: m² | H45: =(59000/2)/44 -> 670.45455 | J45: =I45*H45 -> 0 | K45: 0.027231777
A46: 87792 | B46: Emboço ou massa única em argamassa traço 1:2:8. Preparo mecânico com betoneira 400L, aplicada manualmente em panos cegos de fachada (sem presença de vãos), espessura de 25mm. AF_08/2022 | G46: m² | H46: =(118000/2)/44 -> 1340.9091 | J46: =I46*H46 -> 0 | K46: 0.054463555
A47: 101966 | B47: Chapim sobre muros lineares, em granito ou mármore, L=25cm, assentado com argamassa 1:6 com aditivo. AF_11/2020 | G47: m | H47: =(15850/2)/44 -> 180.11364 | J47: =I47*H47 -> 0 | K47: 0.0073156554
A48: 87275 | B48: Revestimento cerâmica para paredes internas com placas tipo esmaltada de dimensões 33x45 cm aplicadas a meia altura das paredes. AF_02/2023_PE | G48: m² | H48: =(8800/2)/44 -> 100 | J48: =I48*H48 -> 0 | K48: 0.0040616888
A49: 87250 | B49: Revestimento cerâmico para piso com placas tipo esmaltada de dimensões 45x45 cm aplicada em ambientes de área entre 5 e 10 m². AF_02/2023_PE | G49: m² | H49: =(8800/2)/44 -> 100 | J49: =I49*H49 -> 0 | K49: 0.0040616888
A50: 88415 | B50: Aplicação manual de fundo selador acrílico em paredes externas. AF_03/2024 | G50: m² | H50: =(118000/2)/44 -> 1340.9091 | J50: =I50*H50 -> 0 | K50: 0.054463555
A51: 88423 | B51: Aplicação manual de pintura com tinta texturizada acrílica em paredes externas. Uma cor AF_03/2024 | G51: m² | H51: =(118000/2)/44 -> 1340.9091 | J51: =I51*H51 -> 0 | K51: 0.054463555
A52: 102623 | B52: Caixa d'água em polietileno, 1000L (inclusos tubos, conexões e torneira de bóia) - fornecimento e instalação | G52: und | H52: =(420/2)/44 -> 4.7727273 | J52: =I52*H52 -> 0 | K52: 0.00019385333
A53: 90512 | B53: Limpeza de calhas e coletores | G53: m³ | H53: =(39250/2)/44 -> 446.02273 | J53: =I53*H53 -> 0 | K53: 0.018116055
A54: 100434 | B54: Calha de beiral, semicircular de pvc, diâmetro 125mm, incluindo cabeceiras, emendas, bocais, suporte e vedações, excluindo condutores, incluso transporte vertical. AF_07/2019 | G54: m | H54: =(4150/2)/44 -> 47.159091 | J54: =I54*H54 -> 0 | K54: 0.0019154555
A55: 103782 | B55: Luminária tipo plafon circular, de sobrepor, com led de12/13W - fornecimento e instalação. AF_09/2024 | G55: und | H55: =(2450/2)/44 -> 27.840909 | J55: =I55*H55 -> 0 | K55: 0.0011308111
A56: 94273 | B56: Assentamento de guia (meio-fio) em trecho reto, confeccionada em concreto pré-fabricado, dimensões 100x15x13x30 (comprimento X base inferior X base superior X altura). AF_01/2024 | G56: m | H56: =(42000/2)/44 -> 477.27273 | J56: =I56*H56 -> 0 | K56: 0.019385333
A57: 102498 | B57: Pintura de meio-fio com tinta branca a base de cal (caiação). Af_05/2021 | G57: m | H57: =(14700/2)/44 -> 167.04545 | J57: =I57*H57 -> 0 | K57: 0.0067848665
A58: 92400 | B58: Execução de pavimento em piso intertravado, com bloco retangular de 20x10cm, espessura 10cm. AF_10/22 | G58: m² | H58: =(29500/2)/44 -> 335.22727 | J58: =I58*H58 -> 0 | K58: 0.013615889
A59: 103247 | B59: Ar condiciondo split inverter, hi-wall (parede), 12000 btu/h, ciclo frio - fornecimento e instalação. AF_11/2021_PE | G59: und | H59: =(465/2)/44 -> 5.2840909 | J59: =I59*H59 -> 0 | K59: 0.00021462333
A60: 94570 | B60: Janela de alumínio de correr com 2 folhas para vidros (vidros inclusos), batente/requadro 6 a 17 cm, acabamento com acetato ou brilhante, fixação com parafuso, sem guarnição/alizar, dimensões 100x120cm, vedação com silicone, exclusive contramarco - fornecimento e instalação. af_11/2024 | G60: und | H60: =(1270/2)/44 -> 14.431818 | J60: =I60*H60 -> 0 | K60: 0.00058617555
A61: 100683 | B61: Kit de porta de madeira para verniz, semi-oca (leve ou média) padrão médio, 80x210cm, espessura de 3,5cm. Itens inclusos: dobradiças, montagem e instalação de batente, fechadura com execução do furo - fornecimento e instalação. AF_12/2019 | G61: und | H61: =(490/2)/44 -> 5.5681818 | J61: =I61*H61 -> 0 | K61: 0.00022616222
A62: 94807 | B62: Porta em aço de abrir tipo veneziana sem guarnição, 87x210 cm, fixação com parafusos - fornecimento e instalação. AF_12/2019 | G62: und | H62: =(490/2)/44 -> 5.5681818 | J62: =I62*H62 -> 0 | K62: 0.00022616222
A63: 86888 | B63: Vaso sanitário sifonado com caixa acoplada louça branca - fornecimento e instalação. AF_01/2020 | G63: und | H63: =(490/2)/44 -> 5.5681818 | J63: =I63*H63 -> 0 | K63: 0.00022616222
A64: 86939 | B64: Lavatório louça branca com coluna, *44x33,5* cm, padrão popular incluso sifão flexível em pvc, válvula e engate flexivel 30cm em plastico e com torneira cromada padrão popular - fornecimento e instalação. AF_01/2020 | G64: und | H64: =(490/2)/44 -> 5.5681818 | J64: =I64*H64 -> 0 | K64: 0.00022616222
A65: 86920 | B65: Tanque de louça branca com coluna, 30L ou equivalente, incluso sifão flexivel em pvc, valvula plastica e torneira de metal cromado padrão popular - fornecimento e instalação. AF_01/2020 | G65: und | H65: =(490/2)/44 -> 5.5681818 | J65: =I65*H65 -> 0 | K65: 0.00022616222
A66: 103697 | B66: Fornecimento e instalação de suporte de madeira para placas de sinalização, em base de concreto, com h = 2m e seção de 7,5x7,5 cm. AF_03/2022 | G66: und | H66: =(1280/2)/44 -> 14.545455 | J66: =I66*H66 -> 0 | K66: 0.0005907911
A67: 94210 | B67: Telhamento com telha ondulada de fibrocimento E = 6mm, com recobrimento lateral de 1 1/4 de onda para telhado com inclinação máxima de 10 graus, com até 2 águas, incluso içamento. AF_07/2019 | G67: m² | H67: =(8300/2)/44 -> 94.318182 | J67: =I67*H67 -> 0 | K67: 0.003830911
A68: 104803 | B68: Remoção calhas e rufos de forma manual, sem reaproveitamento. AF_09/2023 | G68: m | H68: =(6350/2)/44 -> 72.159091 | J68: =I68*H68 -> 0 | K68: 0.0029308777
A69: 97647 | B69: Remoção de telhas de fibrocimento, metálica e cerâmica de forma manual, sem reaproveitamento. AF_09/2023 | G69: m² | H69: =(10300/2)/44 -> 117.04545 | J69: =I69*H69 -> 0 | K69: 0.0047540221
A70: 97663 | B70: Remoção de louças, de forma manual, sem reaproveitamento. AF_09/2023 | G70: und | H70: =(1030/2)/44 -> 11.704545 | J70: =I70*H70 -> 0 | K70: 0.00047540221
A71: 97665 | B71: Remoção de luminárias, de forma manual, sem reaproveitamento. AF_09/2023 | G71: und | H71: =(4150/2)/44 -> 47.159091 | J71: =I71*H71 -> 0 | K71: 0.0019154555
A72: 97666 | B72: Remoção de metais sanitários, de forma manual, sem reaproveitamento. AF_09/2023 | G72: und | H72: =(2200/2)/44 -> 25 | J72: =I72*H72 -> 0 | K72: 0.0010154222
A73: 97644 | B73: Remoção de portas, de forma manual, sem reaproveitamento. AF_09/2023 | G73: und | H73: =(2200/2)/44 -> 25 | J73: =I73*H73 -> 0 | K73: 0.0010154222
A74: 97660 | B74: Remoção de interruptores/tomadas elétricas, de forma manual, sem reaproveitamento. AF_09/2023 | G74: und | H74: =(2450/2)/44 -> 27.840909 | J74: =I74*H74 -> 0 | K74: 0.0011308111
A75: 92029 | B75: Interruptor simples(1 módulo) com 1 tomada de embutir 2P+T 10A, incluindo suporte e placa - fornecimento e instalação | G75: und | H75: =(4400/2)/44 -> 50 | J75: =I75*H75 -> 0 | K75: 0.0020308444
A76: 92031 | B76: Interruptor simples (1 módulo) com 2 tomadas de embutir 2P+T 10A, incluindo suporte e placa - fornecimento e instalação | G76: und | H76: =(4400/2)/44 -> 50 | J76: =I76*H76 -> 0 | K76: 0.0020308444
A77: 92000 | B77: Tomada baixa de embutir (1 módulo), 2P+T 10A, incluindo suporte e placa - fornecimento e instalação | G77: und | H77: =(4400/2)/44 -> 50 | J77: =I77*H77 -> 0 | K77: 0.0020308444
A78: 91996 | B78: Tomada média de embutir (1 módulo), 2P+T 10A, incluindo suporte e placa - fornecimento e instalação | G78: und | H78: =(4400/2)/44 -> 50 | J78: =I78*H78 -> 0 | K78: 0.0020308444
A79: 91992 | B79: Tomada alta de embutir (1 módulo), 2P+T 10A, incluindo suporte e placa - fornecimento e instalação | G79: und | H79: =(3950/2)/44 -> 44.886364 | J79: =I79*H79 -> 0 | K79: 0.0018231444
A80: 101876 | B80: Quadro de distribuição de energia, em PVC, de embutir, sem barramento, para 6 disjuntores - fornecimento e instalação | G80: und | H80: =(440/2)/44 -> 5 | J80: =I80*H80 -> 0 | K80: 0.00020308444
A81: 93654 | B81: Disjuntor monopolar tipo DIN, corrente nominal de 16A - Fornecimento e instalação. AF_10/2020 | G81: und | H81: =(440/2)/44 -> 5 | J81: =I81*H81 -> 0 | K81: 0.00020308444
A82: 93662 | B82: Disjuntor bipolar tipo DIN, corrente nominal de 20A - Fornecimento e instalação. AF_10/2020 | G82: und | H82: =(440/2)/44 -> 5 | J82: =I82*H82 -> 0 | K82: 0.00020308444
A83: 93664 | B83: Disjuntor bipolar tipo DIN, corrente nominal de 32A - Fornecimento e instalação. AF_10/2020 | G83: und | H83: =(440/2)/44 -> 5 | J83: =I83*H83 -> 0 | K83: 0.00020308444
A84: 91927 | B84: Cabo de cobre flexivel isolado, 2.5mm², anti-chama 0,6/1,0 KV, para circuitos terminais - fornecimento e instalação. AF_03/2023 | G84: m | H84: =(8800/2)/44 -> 100 | J84: =I84*H84 -> 0 | K84: 0.0040616888
A85: 91929 | B85: Cabo de cobre flexivel isolado, 4.0mm², anti-chama 0,6/1,0 KV, para circuitos terminais - fornecimento e instalação. AF_03/2023 | G85: m | H85: =(8800/2)/44 -> 100 | J85: =I85*H85 -> 0 | K85: 0.0040616888
A86: 91931 | B86: Cabo de cobre flexivel isolado, 6.0mm², anti-chama 0,6/1,0 KV, para circuitos terminais - fornecimento e instalação. AF_03/2023 | G86: m | H86: =(8800/2)/44 -> 100 | J86: =I86*H86 -> 0 | K86: 0.0040616888
A87: 91933 | B87: Cabo de cobre flexivel isolado, 10.0mm², anti-chama 0,6/1,0 KV, para circuitos terminais - fornecimento e instalação. AF_03/2023 | G87: m | H87: =(8800/2)/44 -> 100 | J87: =I87*H87 -> 0 | K87: 0.0040616888
A88: 90447 | B88: Rasgo linear manual em alvenaria, para eletrodutos, diâmetros menores ou iguais a 40mm. AF_09/2023 | G88: m | H88: =(2450/2)/44 -> 27.840909 | J88: =I88*H88 -> 0 | K88: 0.0011308111
A89: 91222 | B89: Rasgo linear manual em alvenaria, para ramais/distribuição de instalações hidraulicas, diâmetros maiores que 40mm e menores ou iguais a 75mm. AF_09/2023 | G89: m | H89: =(2450/2)/44 -> 27.840909 | J89: =I89*H89 -> 0 | K89: 0.0011308111
A90: 90443 | B90: Rasgo linear manual em alvenaria, para ramais/distribuição de instalações hidraulicas, diâmetros menores ou iguais que 40mm. AF_09/2023 | G90: m | H90: =(2450/2)/44 -> 27.840909 | J90: =I90*H90 -> 0 | K90: 0.0011308111
A91: 98547 | B91: Impermeabilização de superfície com manta asfáltica, duas camadas, inclusive aplicação de primer asfáltico, E = 3mm e E = 4mm. AF_09/2023 | G91: m² | H91: =(4400/2)/44 -> 50 | J91: =I91*H91 -> 0 | K91: 0.0020308444
A92: 87632 | B92: Contrapiso em argamassa traço 1:3 (cimento e areia), preparo manual, aplicado em áreas secas sobre laje, aderido, acabamento não reforçado, espessura 3cm. AF_07/2021 | G92: m² | H92: =(8800/2)/44 -> 100 | J92: =I92*H92 -> 0 | K92: 0.0040616888
A93: 87886 | B93: Chapisco aplicado no teto ou em estrutura, com desempenadeira dentada. Argamassa industrializada com preparo manual. AF_10/2022 | G93: m² | H93: =(8800/2)/44 -> 100 | J93: =I93*H93 -> 0 | K93: 0.0040616888
A94: 94995 | B94: Execução de passeio (calçada) ou piso de concreto com concreto moldado in loco, usinado, acabamento convencional, espessura 8 cm, armado. AF_08/2022 | G94: m² | H94: =(6400/2)/44 -> 72.727273 | J94: =I94*H94 -> 0 | K94: 0.0029539555
A95: 200401 | B95: Limpeza geral de obra | G95: m² | H95: =(10850/2)/44 -> 123.29545 | J95: =I95*H95 -> 0 | K95: 0.0050078777
B96: JAZIGO
A97: CPU | B97: Fornecimento de jazigo completo com 4 espaços para sepultamento | G97: und | H97: 27 | J97: =H97*I97 -> 0 | K97: 0.0018462222
A98: CPU | B98: Fornecimento de jazigo completo com 3 espaços para sepultamento | G98: und | H98: 40 | J98: =H98*I98 -> 0 | K98: 0.0027693333
A99: CPU | B99: Fornecimento de jazigo completo com 2 espaços para sepultamento | G99: und | H99: 13 | J99: =H99*I99 -> 0 | K99: 0.0009231111
B100: SERVIÇOS e FERRAMENTAS
A101: CPU | B101: Varrição | G101: m² | H101: =$K$1*K101 -> 64186.255 | J101: =I101*H101 -> 0 | K101: 4.3241121
...

Sheet AREADO
A1: AREADO | E1: PLANILHA ORÇAMENTÁRIA - SINAPI - DATA BASE JUNHO DE 2025 PUBLICADO EM 11/07/2025 | K1: 30960.55
A3: CÓDIGO SINAPI | B3: DESCRIÇÃO DOS SERVIÇOS | G3: Und. | H3: Qtd. | I3: Valor Médio Unitário | J3: Valor Total
B4: ESCAVAÇÕES
A5: 5678 | B5: RETROESCAVADEIRA SOBRE RODAS COM CARREGADEIRA, TRAÇÃO 4X4, POTÊNCIA LÍQ. 88 HP, CAÇAMBA CARREG. CAP. MÍN. 1 M3, CAÇAMBA RETRO CAP. 0,26 M3, PESO OPERACIONAL MÍN. 6.674 KG, PROFUNDIDADE ESCAVAÇÃO MÁX. 4,37 M - CHP DIURNO. AF_06/2014 | G5: chp | H5: =K1*K5 -> 107.50149 | J5: =I5*H5 -> 0 | K5: 0.0034722085
A6: 93358 | B6: Escavação manual de vala com profundido menor ou igual a 1,30m. AF_02/2021 | G6: m³ | H6: =K1*K6 -> 1019.2477 | J6: =I6*H6 -> 0 | K6: 0.032920851
A7: 93382 | B7: Reaterro manual de valas, com compactador de solos de percussão. AF_08/2023 | G7: m³ | H7: =K1*K7 -> 742.78348 | J7: =I7*H7 -> 0 | K7: 0.023991288
A8: 101616 | B8: Preparo de fundo de vala com largura menor que 1,5m (acerto de solo natural). AF_08/2020 | G8: m² | H8: =K1*K8 -> 1071.3223 | J8: =I8*H8 -> 0 | K8: 0.034602819
B9: TRANSPORTES
A10: 100981 | B10: Carga, manobra e descarga de entulho em caminhão basculante de 6m³ - Carga com escavadeira hidráulica (caçamba de 0,80 m³ / 111hp) e descarga livre. AF_07/2020 | G10: m³ | H10: =H6-H7 -> 276.46418 | J10: =I10*H10 -> 0 | K10: 0.0089295629
B11: PAISAGISMO
A12: 103946 | B12: Plantio de grama esmeralda ou são carlos ou curitibana, em placas. AF_07/2024 | G12: m² | H12: =K1*K12 -> 5618.49 | J12: =I12*H12 -> 0 | K12: 0.18147255
A13: 98516 | B13: Plantio de palmeira com altura de muda menor ou igual a 2,0m . AF_07/2024 | G13: und | H13: 85 | J13: =I13*H13 -> 0 | K13: 0.0027508711
A14: 98509 | B14: Plantio de arbusto ou cerva viva. AF_07/2024 | G14: und | H14: 93 | J14: =I14*H14 -> 0 | K14: 0.0030001111
A15: 98511 | B15: Plantio de árvore ornamental com altura de muda maior que 2,0m e menor ou igual a 4,0m. AF_07/2024 | G15: und | H15: 86 | J15: =I15*H15 -> 0 | K15: 0.0027785644
A16: 98505 | B16: Plantio de forração | G16: m² | H16: =K1*K16 -> 1178.9261 | J16: =I16*H16 -> 0 | K16: 0.038078333
A17: 98526 | B17: Remoção de raízes remanescentes de tronco de árvore com diâmetro maior ou igual a 0,20m e menor que 0,40m. AF_03/2024 | G17: und | H17: 43 | J17: =I17*H17 -> 0 | K17: 0.0013846666
A18: 98527 | B18: Remoção de raízes remanescentes de tronco de árvore com diâmetro maior ou igual a 0,40m e menor que 0,60m. AF_03/2024 | G18: und | H18: 43 | J18: =I18*H18 -> 0 | K18: 0.0013846666
A19: 98528 | B19: Remoção de raízes remanescentes de tronco de árvore com diâmetro maior ou igual a 0,60m. AF_03/2024 | G19: und | H19: 43 | J19: =I19*H19 -> 0 | K19: 0.0013846666
A20: 98533 | B20: Poda em altura de árvore com diâmetro de tronco maior ou igual a 0,20m e menor que 0,40m. AF_03/2024 | G20: und | H20: 43 | J20: =I20*H20 -> 0 | K20: 0.0013846666
A21: 98534 | B21: Poda em altura de árvore com diâmetro de tronco maior ou igual a 0,40m e menor que 0,60m. AF_03/2024 | G21: und | H21: 43 | J21: =I21*H21 -> 0 | K21: 0.0013846666
A22: 98535 | B22: Poda em altura de árvore com diâmetro de tronco maior ou igual a 0,60m. AF_03/2024 | G22: und | H22: 43 | J22: =I22*H22 -> 0 | K22: 0.0013846666
A23: 105521 | B23: Espalhamento de terra vegetal para o plantio. AF_07/2024 | G23: m² | H23: 1178.93 | J23: =I23*H23 -> 0 | K23: 0.049232592
B24: SERVIÇOS e FERRAMENTAS
A25: 98519 | B25: Revolvimento e limpeza manual de solo | G25: m² | H25: =K1*K25 -> 66037.869 | J25: =I25*H25 -> 0 | K25: 2.1329682
A26: 98525 | B26: Limpeza mecanizada de camada vegetal, vegetação e pequenas árvores (diâmetro de tronco menor que 0,20m) com trator de esteiras. AF_03/2024 | G26: m² | H26: =K1*K26 -> 2489.8059 | J26: =I26*H26 -> 0 | K26: 0.080418658
A27: 99062 | B27: Marcação de pontos em gabarito ou cavalete. AF_03/2024 | G27: und | H27: 74 | J27: =I27*H27 -> 0 | K27: 0.0024000888
A28: 100210 | B28: Transporte horizontal com carrinho de mão, de blocos vazados de concreto ou cerâmico de 19x19x39 cm. AF_07/2019 | G28: unxkm | H28: =K1*K28 -> 605.89658 | J28: =I28*H28 -> 0 | K28: 0.019569955
B29: PROFISSIONAIS
A30: 93567 | B30: Engenheiro Civil de obra pleno | G30: mês | H30: 3 | J30: =I30*H30 -> 0 | K30: 0.00012185066
A31: 93570 | B31: Arquiteto de obra pleno | G31: mês | H31: 3 | J31: =I31*H31 -> 0 | K31: 0.00012185066
B32: MÁQUINAS E EQUIPAMENTOS
A33: 5678 | B33: Retroescavadeira sobre rodas com carregadeira, tração 4x4, potência líq. 88HP, caçamba carreg. cap. mín. 1m³, caçamba retro cap. 0,26 m³, peso operacional mín. 6.674kg, profundidade escavação máxim 4,37m - CHP diurno. AF_06/2014 | G33: chp | H33: =$K$1*K33 -> 771.66073 | J33: =I33*H33 -> 0 | K33: 0.024924
A34: 89882 | B34: Caminhão basculante 18 m³, com cavalo mecânico de capacidade máxima de tração combinado de 45000kg. Potência de 330CV, inclusive semireboque com caçamba metálica - Materiais na operação. AF_12/2014 | G34: H | H34: =$K$1*K34 -> 771.66073 | J34: =I34*H34 -> 0 | K34: 0.024924
A35: 95630 | B35: Rolo compactador vibratório tandem, aço liso, potência 125 HP, peso sem/com lastro 10,20/11,65 T, largura de trabalho 1,73m - materiais na operação. AF_11/2016 | G35: H | H35: =$K$1*K35 -> 571.60054 | J35: =I35*H35 -> 0 | K35: 0.018462222
A36: 53849 | B36: Motoniveladora potência básica líquida (primeira marcha) 125 HP, peso bruto 13032 kg, largura da lâmina de 3,7m - materiais na operação. AF_06/2014 | G36: H | H36: =$K$1*K36 -> 571.60054 | J36: =I36*H36 -> 0 | K36: 0.018462222
A37: 101006 | B37: Carga, manobra e descarga de água em caminhão pipa 10 m³. AF_07/2020 | G37: m³ | H37: =$K$1*K37 -> 1200.3611 | J37: =I37*H37 -> 0 | K37: 0.038770666
A38: 5851 | B38: Trator de esteira, potência 150 HP, peso operacional 16,7T, com roda motriz elevada e lâmina 3,18 m³ - CHP diurno. AF_06/2014 | G38: chp | H38: =$K$1*K38 -> 571.60054 | J38: =I38*H38 -> 0 | K38: 0.018462222
A39: 95719 | B39: Escavadeira hidraulica sobre esteira, equipada com clamshell, com capacidade de caçambra entre 1,20 e 1,50 m³. Peso operacional entre 20 e 22 ton, potencia liquida entre 150 e 160 HP - materiais na operação. AF_11/2016 | G39: H | H39: =$K$1*K39 -> 571.60054 | J39: =I39*H39 -> 0 | K39: 0.018462222
B40: MANUTENÇÃO
A41: 96535 | B41: Fabricação, montagem e desmontagem de fôrma para sapata, em madeira serrada, e=25 mm, 4 utilizações. Af_06/2017 | G41: m² | H41: =(12450/2)/44 -> 141.47727 | J41: =I41*H41 -> 0 | K41: 0.0057463666
A42: 92760 | B42: Armação de pilar ou viga de estrutura convencional de concreto armado utilizando AÇO CA-50 de 6,3mm - MONTAGEM. AF_06/2022 | G42: kg | H42: =(124500/2)/44 -> 1414.7727 | J42: =I42*H42 -> 0 | K42: 0.057463666
A43: 92761 | B43: Armação de pilar ou viga de estrutura convencional de concreto armado utilizando AÇO CA-50 de 8,0mm - MONTAGEM. AF_06/2022 | G43: kg | H43: =(49800/2)/44 -> 565.90909 | J43: =I43*H43 -> 0 | K43: 0.022985466
A44: 96555 | B44: Concretagem de bloco de coroamento ou viga baldrame, FCK 30 MPA, com uso de jerica. Lançamento adensamento e acabamento. AF_01/2024 | G44: m³ | H44: =(2100/2)/44 -> 23.863636 | J44: =I44*H44 -> 0 | K44: 0.00096926665
A45: 103317 | B45: Alvenaria de vedação de blocos vazados de concreto 9x19x39 cm (espessura 9cm)e argamassa de assentamento com preparo manual. AF_12/2021 | G45: m² | H45: =(59000/2)/44 -> 670.45455 | J45: =I45*H45 -> 0 | K45: 0.027231777
A46: 87792 | B46: Emboço ou massa única em argamassa traço 1:2:8. Preparo mecânico com betoneira 400L, aplicada manualmente em panos cegos de fachada (sem presença de vãos), espessura de 25mm. AF_08/2022 | G46: m² | H46: =(118000/2)/44 -> 1340.9091 | J46: =I46*H46 -> 0 | K46: 0.054463555
A47: 101966 | B47: Chapim sobre muros lineares, em granito ou mármore, L=25cm, assentado com argamassa 1:6 com aditivo. AF_11/2020 | G47: m | H47: =(15850/2)/44 -> 180.11364 | J47: =I47*H47 -> 0 | K47: 0.0073156554
A48: 87275 | B48: Revestimento cerâmica para paredes internas com placas tipo esmaltada de dimensões 33x45 cm aplicadas a meia altura das paredes. AF_02/2023_PE | G48: m² | H48: =(8800/2)/44 -> 100 | J48: =I48*H48 -> 0 | K48: 0.0040616888
A49: 87250 | B49: Revestimento cerâmico para piso com placas tipo esmaltada de dimensões 45x45 cm aplicada em ambientes de área entre 5 e 10 m². AF_02/2023_PE | G49: m² | H49: =(8800/2)/44 -> 100 | J49: =I49*H49 -> 0 | K49: 0.0040616888
A50: 88415 | B50: Aplicação manual de fundo selador acrílico em paredes externas. AF_03/2024 | G50: m² | H50: =(118000/2)/44 -> 1340.9091 | J50: =I50*H50 -> 0 | K50: 0.054463555
A51: 88423 | B51: Aplicação manual de pintura com tinta texturizada acrílica em paredes externas. Uma cor AF_03/2024 | G51: m² | H51: =(118000/2)/44 -> 1340.9091 | J51: =I51*H51 -> 0 | K51: 0.054463555
A52: 102623 | B52: Caixa d'água em polietileno, 1000L (inclusos tubos, conexões e torneira de bóia) - fornecimento e instalação | G52: und | H52: =(420/2)/44 -> 4.7727273 | J52: =I52*H52 -> 0 | K52: 0.00019385333
A53: 90512 | B53: Limpeza de calhas e coletores | G53: m³ | H53: =(39250/2)/44 -> 446.02273 | J53: =I53*H53 -> 0 | K53: 0.018116055
A54: 100434 | B54: Calha de beiral, semicircular de pvc, diâmetro 125mm, incluindo cabeceiras, emendas, bocais, suporte e vedações, excluindo condutores, incluso transporte vertical. AF_07/2019 | G54: m | H54: =(4150/2)/44 -> 47.159091 | J54: =I54*H54 -> 0 | K54: 0.0019154555
A55: 103782 | B55: Luminária tipo plafon circular, de sobrepor, com led de12/13W - fornecimento e instalação. AF_09/2024 | G55: und | H55: =(2450/2)/44 -> 27.840909 | J55: =I55*H55 -> 0 | K55: 0.0011308111
A56: 94273 | B56: Assentamento de guia (meio-fio) em trecho reto, confeccionada em concreto pré-fabricado, dimensões 100x15x13x30 (comprimento X base inferior X base superior X altura). AF_01/2024 | G56: m | H56: =(42000/2)/44 -> 477.27273 | J56: =I56*H56 -> 0 | K56: 0.019385333
A57: 102498 | B57: Pintura de meio-fio com tinta branca a base de cal (caiação). Af_05/2021 | G57: m | H57: =(14700/2)/44 -> 167.04545 | J57: =I57*H57 -> 0 | K57: 0.0067848665
A58: 92400 | B58: Execução de pavimento em piso intertravado, com bloco retangular de 20x10cm, espessura 10cm. AF_10/22 | G58: m² | H58: =(29500/2)/44 -> 335.22727 | J58: =I58*H58 -> 0 | K58: 0.013615889
A59: 103247 | B59: Ar condiciondo split inverter, hi-wall (parede), 12000 btu/h, ciclo frio - fornecimento e instalação. AF_11/2021_PE | G59: und | H59: =(465/2)/44 -> 5.2840909 | J59: =I59*H59 -> 0 | K59: 0.00021462333
A60: 94570 | B60: Janela de alumínio de correr com 2 folhas para vidros (vidros inclusos), batente/requadro 6 a 17 cm, acabamento com acetato ou brilhante, fixação com parafuso, sem guarnição/alizar, dimensões 100x120cm, vedação com silicone, exclusive contramarco - fornecimento e instalação. af_11/2024 | G60: und | H60: =(1270/2)/44 -> 14.431818 | J60: =I60*H60 -> 0 | K60: 0.00058617555
A61: 100683 | B61: Kit de porta de madeira para verniz, semi-oca (leve ou média) padrão médio, 80x210cm, espessura de 3,5cm. Itens inclusos: dobradiças, montagem e instalação de batente, fechadura com execução do furo - fornecimento e instalação. AF_12/2019 | G61: und | H61: =(490/2)/44 -> 5.5681818 | J61: =I61*H61 -> 0 | K61: 0.00022616222
A62: 94807 | B62: Porta em aço de abrir tipo veneziana sem guarnição, 87x210 cm, fixação com parafusos - fornecimento e instalação. AF_12/2019 | G62: und | H62: =(490/2)/44 -> 5.5681818 | J62: =I62*H62 -> 0 | K62: 0.00022616222
A63: 86888 | B63: Vaso sanitário sifonado com caixa acoplada louça branca - fornecimento e instalação. AF_01/2020 | G63: und | H63: =(490/2)/44 -> 5.5681818 | J63: =I63*H63 -> 0 | K63: 0.00022616222
A64: 86939 | B64: Lavatório louça branca com coluna, *44x33,5* cm, padrão popular incluso sifão flexível em pvc, válvula e engate flexivel 30cm em plastico e com torneira cromada padrão popular - fornecimento e instalação. AF_01/2020 | G64: und | H64: =(490/2)/44 -> 5.5681818 | J64: =I64*H64 -> 0 | K64: 0.00022616222
A65: 86920 | B65: Tanque de louça branca com coluna, 30L ou equivalente, incluso sifão flexivel em pvc, valvula plastica e torneira de metal cromado padrão popular - fornecimento e instalação. AF_01/2020 | G65: und | H65: =(490/2)/44 -> 5.5681818 | J65: =I65*H65 -> 0 | K65: 0.00022616222
A66: 103697 | B66: Fornecimento e instalação de suporte de madeira para placas de sinalização, em base de concreto, com h = 2m e seção de 7,5x7,5 cm. AF_03/2022 | G66: und | H66: =(1280/2)/44 -> 14.545455 | J66: =I66*H66 -> 0 | K66: 0.0005907911
A67: 94210 | B67: Telhamento com telha ondulada de fibrocimento E = 6mm, com recobrimento lateral de 1 1/4 de onda para telhado com inclinação máxima de 10 graus, com até 2 águas, incluso içamento. AF_07/2019 | G67: m² | H67: =(8300/2)/44 -> 94.318182 | J67: =I67*H67 -> 0 | K67: 0.003830911
A68: 104803 | B68: Remoção calhas e rufos de forma manual, sem reaproveitamento. AF_09/2023 | G68: m | H68: =(6350/2)/44 -> 72.159091 | J68: =I68*H68 -> 0 | K68: 0.0029308777
A69: 97647 | B69: Remoção de telhas de fibrocimento, metálica e cerâmica de forma manual, sem reaproveitamento. AF_09/2023 | G69: m² | H69: =(10300/2)/44 -> 117.04545 | J69: =I69*H69 -> 0 | K69: 0.0047540221
A70: 97663 | B70: Remoção de louças, de forma manual, sem reaproveitamento. AF_09/2023 | G70: und | H70: =(1030/2)/44 -> 11.704545 | J70: =I70*H70 -> 0 | K70: 0.00047540221
A71: 97665 | B71: Remoção de luminárias, de forma manual, sem reaproveitamento. AF_09/2023 | G71: und | H71: =(4150/2)/44 -> 47.159091 | J71: =I71*H71 -> 0 | K71: 0.0019154555
A72: 97666 | B72: Remoção de metais sanitários, de forma manual, sem reaproveitamento. AF_09/2023 | G72: und | H72: =(2200/2)/44 -> 25 | J72: =I72*H72 -> 0 | K72: 0.0010154222
A73: 97644 | B73: Remoção de portas, de forma manual, sem reaproveitamento. AF_09/2023 | G73: und | H73: =(2200/2)/44 -> 25 | J73: =I73*H73 -> 0 | K73: 0.0010154222
A74: 97660 | B74: Remoção de interruptores/tomadas elétricas, de forma manual, sem reaproveitamento. AF_09/2023 | G74: und | H74: =(2450/2)/44 -> 27.840909 | J74: =I74*H74 -> 0 | K74: 0.0011308111
A75: 92029 | B75: Interruptor simples(1 módulo) com 1 tomada de embutir 2P+T 10A, incluindo suporte e placa - fornecimento e instalação | G75: und | H75: =(4400/2)/44 -> 50 | J75: =I75*H75 -> 0 | K75: 0.0020308444
A76: 92031 | B76: Interruptor simples (1 módulo) com 2 tomadas de embutir 2P+T 10A, incluindo suporte e placa - fornecimento e instalação | G76: und | H76: =(4400/2)/44 -> 50 | J76: =I76*H76 -> 0 | K76: 0.0020308444
A77: 92000 | B77: Tomada baixa de embutir (1 módulo), 2P+T 10A, incluindo suporte e placa - fornecimento e instalação | G77: und | H77: =(4400/2)/44 -> 50 | J77: =I77*H77 -> 0 | K77: 0.0020308444
A78: 91996 | B78: Tomada média de embutir (1 módulo), 2P+T 10A, incluindo suporte e placa - fornecimento e instalação | G78: und | H78: =(4400/2)/44 -> 50 | J78: =I78*H78 -> 0 | K78: 0.0020308444
A79: 91992 | B79: Tomada alta de embutir (1 módulo), 2P+T 10A, incluindo suporte e placa - fornecimento e instalação | G79: und | H79: =(3950/2)/44 -> 44.886364 | J79: =I79*H79 -> 0 | K79: 0.0018231444
A80: 101876 | B80: Quadro de distribuição de energia, em PVC, de embutir, sem barramento, para 6 disjuntores - fornecimento e instalação | G80: und | H80: =(440/2)/44 -> 5 | J80: =I80*H80 -> 0 | K80: 0.00020308444
A81: 93654 | B81: Disjuntor monopolar tipo DIN, corrente nominal de 16A - Fornecimento e instalação. AF_10/2020 | G81: und | H81: =(440/2)/44 -> 5 | J81: =I81*H81 -> 0 | K81: 0.00020308444
A82: 93662 | B82: Disjuntor bipolar tipo DIN, corrente nominal de 20A - Fornecimento e instalação. AF_10/2020 | G82: und | H82: =(440/2)/44 -> 5 | J82: =I82*H82 -> 0 | K82: 0.00020308444
A83: 93664 | B83: Disjuntor bipolar tipo DIN, corrente nominal de 32A - Fornecimento e instalação. AF_10/2020 | G83: und | H83: =(440/2)/44 -> 5 | J83: =I83*H83 -> 0 | K83: 0.00020308444
A84: 91927 | B84: Cabo de cobre flexivel isolado, 2.5mm², anti-chama 0,6/1,0 KV, para circuitos terminais - fornecimento e instalação. AF_03/2023 | G84: m | H84: =(8800/2)/44 -> 100 | J84: =I84*H84 -> 0 | K84: 0.0040616888
A85: 91929 | B85: Cabo de cobre flexivel isolado, 4.0mm², anti-chama 0,6/1,0 KV, para circuitos terminais - fornecimento e instalação. AF_03/2023 | G85: m | H85: =(8800/2)/44 -> 100 | J85: =I85*H85 -> 0 | K85: 0.0040616888
A86: 91931 | B86: Cabo de cobre flexivel isolado, 6.0mm², anti-chama 0,6/1,0 KV, para circuitos terminais - fornecimento e instalação. AF_03/2023 | G86: m | H86: =(8800/2)/44 -> 100 | J86: =I86*H86 -> 0 | K86: 0.0040616888
A87: 91933 | B87: Cabo de cobre flexivel isolado, 10.0mm², anti-chama 0,6/1,0 KV, para circuitos terminais - fornecimento e instalação. AF_03/2023 | G87: m | H87: =(8800/2)/44 -> 100 | J87: =I87*H87 -> 0 | K87: 0.0040616888
A88: 90447 | B88: Rasgo linear manual em alvenaria, para eletrodutos, diâmetros menores ou iguais a 40mm. AF_09/2023 | G88: m | H88: =(2450/2)/44 -> 27.840909 | J88: =I88*H88 -> 0 | K88: 0.0011308111
A89: 91222 | B89: Rasgo linear manual em alvenaria, para ramais/distribuição de instalações hidraulicas, diâmetros maiores que 40mm e menores ou iguais a 75mm. AF_09/2023 | G89: m | H89: =(2450/2)/44 -> 27.840909 | J89: =I89*H89 -> 0 | K89: 0.0011308111
A90: 90443 | B90: Rasgo linear manual em alvenaria, para ramais/distribuição de instalações hidraulicas, diâmetros menores ou iguais que 40mm. AF_09/2023 | G90: m | H90: =(2450/2)/44 -> 27.840909 | J90: =I90*H90 -> 0 | K90: 0.0011308111
A91: 98547 | B91: Impermeabilização de superfície com manta asfáltica, duas camadas, inclusive aplicação de primer asfáltico, E = 3mm e E = 4mm. AF_09/2023 | G91: m² | H91: =(4400/2)/44 -> 50 | J91: =I91*H91 -> 0 | K91: 0.0020308444
A92: 87632 | B92: Contrapiso em argamassa traço 1:3 (cimento e areia), preparo manual, aplicado em áreas secas sobre laje, aderido, acabamento não reforçado, espessura 3cm. AF_07/2021 | G92: m² | H92: =(8800/2)/44 -> 100 | J92: =I92*H92 -> 0 | K92: 0.0040616888
A93: 87886 | B93: Chapisco aplicado no teto ou em estrutura, com desempenadeira dentada. Argamassa industrializada com preparo manual. AF_10/2022 | G93: m² | H93: =(8800/2)/44 -> 100 | J93: =I93*H93 -> 0 | K93: 0.0040616888
A94: 94995 | B94: Execução de passeio (calçada) ou piso de concreto com concreto moldado in loco, usinado, acabamento convencional, espessura 8 cm, armado. AF_08/2022 | G94: m² | H94: =(6400/2)/44 -> 72.727273 | J94: =I94*H94 -> 0 | K94: 0.0029539555
A95: 200401 | B95: Limpeza geral de obra | G95: m² | H95: =(10850/2)/44 -> 123.29545 | J95: =I95*H95 -> 0 | K95: 0.0050078777
B96: JAZIGO
A97: CPU | B97: Fornecimento de jazigo completo com 4 espaços para sepultamento | G97: und | H97: 60 | J97: =H97*I97 -> 0 | K97: 0.0018462222
A98: CPU | B98: Fornecimento de jazigo completo com 3 espaços para sepultamento | G98: und | H98: 100 | J98: =H98*I98 -> 0 | K98: 0.0027693333
A99: CPU | B99: Fornecimento de jazigo completo com 2 espaços para sepultamento | G99: und | H99: 20 | J99: =H99*I99 -> 0 | K99: 0.0009231111
B100: SERVIÇOS e FERRAMENTAS
A101: CPU | B101: Varrição | G101: m² | H101: =$K$1*K101 -> 133876.89 | J101: =I101*H101 -> 0 | K101: 4.3241121
...

Sheet BOA ESPERANÇA
A1: BOA ESPERANÇA | E1: PLANILHA ORÇAMENTÁRIA - SINAPI - DATA BASE JUNHO DE 2025 PUBLICADO EM 11/07/2025 | K1: 35171.11
A3: CÓDIGO SINAPI | B3: DESCRIÇÃO DOS SERVIÇOS | G3: Und. | H3: Qtd. | I3: Valor Médio Unitário | J3: Valor Total
B4: ESCAVAÇÕES
A5: 5678 | B5: RETROESCAVADEIRA SOBRE RODAS COM CARREGADEIRA, TRAÇÃO 4X4, POTÊNCIA LÍQ. 88 HP, CAÇAMBA CARREG. CAP. MÍN. 1 M3, CAÇAMBA RETRO CAP. 0,26 M3, PESO OPERACIONAL MÍN. 6.674 KG, PROFUNDIDADE ESCAVAÇÃO MÁX. 4,37 M - CHP DIURNO. AF_06/2014 | G5: chp | H5: =K1*K5 -> 122.12143 | J5: =I5*H5 -> 0 | K5: 0.0034722085
A6: 93358 | B6: Escavação manual de vala com profundido menor ou igual a 1,30m. AF_02/2021 | G6: m³ | H6: =K1*K6 -> 1157.8629 | J6: =I6*H6 -> 0 | K6: 0.032920851
A7: 93382 | B7: Reaterro manual de valas, com compactador de solos de percussão. AF_08/2023 | G7: m³ | H7: =K1*K7 -> 843.80023 | J7: =I7*H7 -> 0 | K7: 0.023991288
A8: 101616 | B8: Preparo de fundo de vala com largura menor que 1,5m (acerto de solo natural). AF_08/2020 | G8: m² | H8: =K1*K8 -> 1217.0196 | J8: =I8*H8 -> 0 | K8: 0.034602819
B9: TRANSPORTES
A10: 100981 | B10: Carga, manobra e descarga de entulho em caminhão basculante de 6m³ - Carga com escavadeira hidráulica (caçamba de 0,80 m³ / 111hp) e descarga livre. AF_07/2020 | G10: m³ | H10: =H6-H7 -> 314.06264 | J10: =I10*H10 -> 0 | K10: 0.0089295629
B11: PAISAGISMO
A12: 103946 | B12: Plantio de grama esmeralda ou são carlos ou curitibana, em placas. AF_07/2024 | G12: m² | H12: =K1*K12 -> 6382.5911 | J12: =I12*H12 -> 0 | K12: 0.18147255
A13: 98516 | B13: Plantio de palmeira com altura de muda menor ou igual a 2,0m . AF_07/2024 | G13: und | H13: 97 | J13: =I13*H13 -> 0 | K13: 0.0027508711
A14: 98509 | B14: Plantio de arbusto ou cerva viva. AF_07/2024 | G14: und | H14: 105 | J14: =I14*H14 -> 0 | K14: 0.0030001111
A15: 98511 | B15: Plantio de árvore ornamental com altura de muda maior que 2,0m e menor ou igual a 4,0m. AF_07/2024 | G15: und | H15: 97 | J15: =I15*H15 -> 0 | K15: 0.0027785644
A16: 98505 | B16: Plantio de forração | G16: m² | H16: =K1*K16 -> 1339.2572 | J16: =I16*H16 -> 0 | K16: 0.038078333
A17: 98526 | B17: Remoção de raízes remanescentes de tronco de árvore com diâmetro maior ou igual a 0,20m e menor que 0,40m. AF_03/2024 | G17: und | H17: 49 | J17: =I17*H17 -> 0 | K17: 0.0013846666
A18: 98527 | B18: Remoção de raízes remanescentes de tronco de árvore com diâmetro maior ou igual a 0,40m e menor que 0,60m. AF_03/2024 | G18: und | H18: 49 | J18: =I18*H18 -> 0 | K18: 0.0013846666
A19: 98528 | B19: Remoção de raízes remanescentes de tronco de árvore com diâmetro maior ou igual a 0,60m. AF_03/2024 | G19: und | H19: 49 | J19: =I19*H19 -> 0 | K19: 0.0013846666
A20: 98533 | B20: Poda em altura de árvore com diâmetro de tronco maior ou igual a 0,20m e menor que 0,40m. AF_03/2024 | G20: und | H20: 49 | J20: =I20*H20 -> 0 | K20: 0.0013846666
A21: 98534 | B21: Poda em altura de árvore com diâmetro de tronco maior ou igual a 0,40m e menor que 0,60m. AF_03/2024 | G21: und | H21: 49 | J21: =I21*H21 -> 0 | K21: 0.0013846666
A22: 98535 | B22: Poda em altura de árvore com diâmetro de tronco maior ou igual a 0,60m. AF_03/2024 | G22: und | H22: 49 | J22: =I22*H22 -> 0 | K22: 0.0013846666
A23: 105521 | B23: Espalhamento de terra vegetal para o plantio. AF_07/2024 | G23: m² | H23: 1339.26 | J23: =I23*H23 -> 0 | K23: 0.049232592
B24: SERVIÇOS e FERRAMENTAS
A25: 98519 | B25: Revolvimento e limpeza manual de solo | G25: m² | H25: =K1*K25 -> 75018.86 | J25: =I25*H25 -> 0 | K25: 2.1329682
A26: 98525 | B26: Limpeza mecanizada de camada vegetal, vegetação e pequenas árvores (diâmetro de tronco menor que 0,20m) com trator de esteiras. AF_03/2024 | G26: m² | H26: =K1*K26 -> 2828.4135 | J26: =I26*H26 -> 0 | K26: 0.080418658
A27: 99062 | B27: Marcação de pontos em gabarito ou cavalete. AF_03/2024 | G27: und | H27: 84 | J27: =I27*H27 -> 0 | K27: 0.0024000888
A28: 100210 | B28: Transporte horizontal com carrinho de mão, de blocos vazados de concreto ou cerâmico de 19x19x39 cm. AF_07/2019 | G28: unxkm | H28: =K1*K28 -> 688.29705 | J28: =I28*H28 -> 0 | K28: 0.019569955
B29: PROFISSIONAIS
A30: 93567 | B30: Engenheiro Civil de obra pleno | G30: mês | H30: 3 | J30: =I30*H30 -> 0 | K30: 0.00012185066
A31: 93570 | B31: Arquiteto de obra pleno | G31: mês | H31: 3 | J31: =I31*H31 -> 0 | K31: 0.00012185066
B32: MÁQUINAS E EQUIPAMENTOS
A33: 5678 | B33: Retroescavadeira sobre rodas com carregadeira, tração 4x4, potência líq. 88HP, caçamba carreg. cap. mín. 1m³, caçamba retro cap. 0,26 m³, peso operacional mín. 6.674kg, profundidade escavação máxim 4,37m - CHP diurno. AF_06/2014 | G33: chp | H33: =$K$1*K33 -> 876.60473 | J33: =I33*H33 -> 0 | K33: 0.024924
A34: 89882 | B34: Caminhão basculante 18 m³, com cavalo mecânico de capacidade máxima de tração combinado de 45000kg. Potência de 330CV, inclusive semireboque com caçamba metálica - Materiais na operação. AF_12/2014 | G34: H | H34: =$K$1*K34 -> 876.60473 | J34: =I34*H34 -> 0 | K34: 0.024924
A35: 95630 | B35: Rolo compactador vibratório tandem, aço liso, potência 125 HP, peso sem/com lastro 10,20/11,65 T, largura de trabalho 1,73m - materiais na operação. AF_11/2016 | G35: H | H35: =$K$1*K35 -> 649.33684 | J35: =I35*H35 -> 0 | K35: 0.018462222
A36: 53849 | B36: Motoniveladora potência básica líquida (primeira marcha) 125 HP, peso bruto 13032 kg, largura da lâmina de 3,7m - materiais na operação. AF_06/2014 | G36: H | H36: =$K$1*K36 -> 649.33684 | J36: =I36*H36 -> 0 | K36: 0.018462222
A37: 101006 | B37: Carga, manobra e descarga de água em caminhão pipa 10 m³. AF_07/2020 | G37: m³ | H37: =$K$1*K37 -> 1363.6074 | J37: =I37*H37 -> 0 | K37: 0.038770666
A38: 5851 | B38: Trator de esteira, potência 150 HP, peso operacional 16,7T, com roda motriz elevada e lâmina 3,18 m³ - CHP diurno. AF_06/2014 | G38: chp | H38: =$K$1*K38 -> 649.33684 | J38: =I38*H38 -> 0 | K38: 0.018462222
A39: 95719 | B39: Escavadeira hidraulica sobre esteira, equipada com clamshell, com capacidade de caçambra entre 1,20 e 1,50 m³. Peso operacional entre 20 e 22 ton, potencia liquida entre 150 e 160 HP - materiais na operação. AF_11/2016 | G39: H | H39: =$K$1*K39 -> 649.33684 | J39: =I39*H39 -> 0 | K39: 0.018462222
B40: MANUTENÇÃO
A41: 96535 | B41: Fabricação, montagem e desmontagem de fôrma para sapata, em madeira serrada, e=25 mm, 4 utilizações. Af_06/2017 | G41: m² | H41: =(12450/2)/44 -> 141.47727 | J41: =I41*H41 -> 0 | K41: 0.0057463666
A42: 92760 | B42: Armação de pilar ou viga de estrutura convencional de concreto armado utilizando AÇO CA-50 de 6,3mm - MONTAGEM. AF_06/2022 | G42: kg | H42: =(124500/2)/44 -> 1414.7727 | J42: =I42*H42 -> 0 | K42: 0.057463666
A43: 92761 | B43: Armação de pilar ou viga de estrutura convencional de concreto armado utilizando AÇO CA-50 de 8,0mm - MONTAGEM. AF_06/2022 | G43: kg | H43: =(49800/2)/44 -> 565.90909 | J43: =I43*H43 -> 0 | K43: 0.022985466
A44: 96555 | B44: Concretagem de bloco de coroamento ou viga baldrame, FCK 30 MPA, com uso de jerica. Lançamento adensamento e acabamento. AF_01/2024 | G44: m³ | H44: =(2100/2)/44 -> 23.863636 | J44: =I44*H44 -> 0 | K44: 0.00096926665
A45: 103317 | B45: Alvenaria de vedação de blocos vazados de concreto 9x19x39 cm (espessura 9cm)e argamassa de assentamento com preparo manual. AF_12/2021 | G45: m² | H45: =(59000/2)/44 -> 670.45455 | J45: =I45*H45 -> 0 | K45: 0.027231777
A46: 87792 | B46: Emboço ou massa única em argamassa traço 1:2:8. Preparo mecânico com betoneira 400L, aplicada manualmente em panos cegos de fachada (sem presença de vãos), espessura de 25mm. AF_08/2022 | G46: m² | H46: =(118000/2)/44 -> 1340.9091 | J46: =I46*H46 -> 0 | K46: 0.054463555
A47: 101966 | B47: Chapim sobre muros lineares, em granito ou mármore, L=25cm, assentado com argamassa 1:6 com aditivo. AF_11/2020 | G47: m | H47: =(15850/2)/44 -> 180.11364 | J47: =I47*H47 -> 0 | K47: 0.0073156554
A48: 87275 | B48: Revestimento cerâmica para paredes internas com placas tipo esmaltada de dimensões 33x45 cm aplicadas a meia altura das paredes. AF_02/2023_PE | G48: m² | H48: =(8800/2)/44 -> 100 | J48: =I48*H48 -> 0 | K48: 0.0040616888
A49: 87250 | B49: Revestimento cerâmico para piso com placas tipo esmaltada de dimensões 45x45 cm aplicada em ambientes de área entre 5 e 10 m². AF_02/2023_PE | G49: m² | H49: =(8800/2)/44 -> 100 | J49: =I49*H49 -> 0 | K49: 0.0040616888
A50: 88415 | B50: Aplicação manual de fundo selador acrílico em paredes externas. AF_03/2024 | G50: m² | H50: =(118000/2)/44 -> 1340.9091 | J50: =I50*H50 -> 0 | K50: 0.054463555
A51: 88423 | B51: Aplicação manual de pintura com tinta texturizada acrílica em paredes externas. Uma cor AF_03/2024 | G51: m² | H51: =(118000/2)/44 -> 1340.9091 | J51: =I51*H51 -> 0 | K51: 0.054463555
A52: 102623 | B52: Caixa d'água em polietileno, 1000L (inclusos tubos, conexões e torneira de bóia) - fornecimento e instalação | G52: und | H52: =(420/2)/44 -> 4.7727273 | J52: =I52*H52 -> 0 | K52: 0.00019385333
A53: 90512 | B53: Limpeza de calhas e coletores | G53: m³ | H53: =(39250/2)/44 -> 446.02273 | J53: =I53*H53 -> 0 | K53: 0.018116055
A54: 100434 | B54: Calha de beiral, semicircular de pvc, diâmetro 125mm, incluindo cabeceiras, emendas, bocais, suporte e vedações, excluindo condutores, incluso transporte vertical. AF_07/2019 | G54: m | H54: =(4150/2)/44 -> 47.159091 | J54: =I54*H54 -> 0 | K54: 0.0019154555
A55: 103782 | B55: Luminária tipo plafon circular, de sobrepor, com led de12/13W - fornecimento e instalação. AF_09/2024 | G55: und | H55: =(2450/2)/44 -> 27.840909 | J55: =I55*H55 -> 0 | K55: 0.0011308111
A56: 94273 | B56: Assentamento de guia (meio-fio) em trecho reto, confeccionada em concreto pré-fabricado, dimensões 100x15x13x30 (comprimento X base inferior X base superior X altura). AF_01/2024 | G56: m | H56: =(42000/2)/44 -> 477.27273 | J56: =I56*H56 -> 0 | K56: 0.019385333
A57: 102498 | B57: Pintura de meio-fio com tinta branca a base de cal (caiação). Af_05/2021 | G57: m | H57: =(14700/2)/44 -> 167.04545 | J57: =I57*H57 -> 0 | K57: 0.0067848665
A58: 92400 | B58: Execução de pavimento em piso intertravado, com bloco retangular de 20x10cm, espessura 10cm. AF_10/22 | G58: m² | H58: =(29500/2)/44 -> 335.22727 | J58: =I58*H58 -> 0 | K58: 0.013615889
A59: 103247 | B59: Ar condiciondo split inverter, hi-wall (parede), 12000 btu/h, ciclo frio - fornecimento e instalação. AF_11/2021_PE | G59: und | H59: =(465/2)/44 -> 5.2840909 | J59: =I59*H59 -> 0 | K59: 0.00021462333
A60: 94570 | B60: Janela de alumínio de correr com 2 folhas para vidros (vidros inclusos), batente/requadro 6 a 17 cm, acabamento com acetato ou brilhante, fixação com parafuso, sem guarnição/alizar, dimensões 100x120cm, vedação com silicone, exclusive contramarco - fornecimento e instalação. af_11/2024 | G60: und | H60: =(1270/2)/44 -> 14.431818 | J60: =I60*H60 -> 0 | K60: 0.00058617555
A61: 100683 | B61: Kit de porta de madeira para verniz, semi-oca (leve ou média) padrão médio, 80x210cm, espessura de 3,5cm. Itens inclusos: dobradiças, montagem e instalação de batente, fechadura com execução do furo - fornecimento e instalação. AF_12/2019 | G61: und | H61: =(490/2)/44 -> 5.5681818 | J61: =I61*H61 -> 0 | K61: 0.00022616222
A62: 94807 | B62: Porta em aço de abrir tipo veneziana sem guarnição, 87x210 cm, fixação com parafusos - fornecimento e instalação. AF_12/2019 | G62: und | H62: =(490/2)/44 -> 5.5681818 | J62: =I62*H62 -> 0 | K62: 0.00022616222
A63: 86888 | B63: Vaso sanitário sifonado com caixa acoplada louça branca - fornecimento e instalação. AF_01/2020 | G63: und | H63: =(490/2)/44 -> 5.5681818 | J63: =I63*H63 -> 0 | K63: 0.00022616222
A64: 86939 | B64: Lavatório louça branca com coluna, *44x33,5* cm, padrão popular incluso sifão flexível em pvc, válvula e engate flexivel 30cm em plastico e com torneira cromada padrão popular - fornecimento e instalação. AF_01/2020 | G64: und | H64: =(490/2)/44 -> 5.5681818 | J64: =I64*H64 -> 0 | K64: 0.00022616222
A65: 86920 | B65: Tanque de louça branca com coluna, 30L ou equivalente, incluso sifão flexivel em pvc, valvula plastica e torneira de metal cromado padrão popular - fornecimento e instalação. AF_01/2020 | G65: und | H65: =(490/2)/44 -> 5.5681818 | J65: =I65*H65 -> 0 | K65: 0.00022616222
A66: 103697 | B66: Fornecimento e instalação de suporte de madeira para placas de sinalização, em base de concreto, com h = 2m e seção de 7,5x7,5 cm. AF_03/2022 | G66: und | H66: =(1280/2)/44 -> 14.545455 | J66: =I66*H66 -> 0 | K66: 0.0005907911
A67: 94210 | B67: Telhamento com telha ondulada de fibrocimento E = 6mm, com recobrimento lateral de 1 1/4 de onda para telhado com inclinação máxima de 10 graus, com até 2 águas, incluso içamento. AF_07/2019 | G67: m² | H67: =(8300/2)/44 -> 94.318182 | J67: =I67*H67 -> 0 | K67: 0.003830911
A68: 104803 | B68: Remoção calhas e rufos de forma manual, sem reaproveitamento. AF_09/2023 | G68: m | H68: =(6350/2)/44 -> 72.159091 | J68: =I68*H68 -> 0 | K68: 0.0029308777
A69: 97647 | B69: Remoção de telhas de fibrocimento, metálica e cerâmica de forma manual, sem reaproveitamento. AF_09/2023 | G69: m² | H69: =(10300/2)/44 -> 117.04545 | J69: =I69*H69 -> 0 | K69: 0.0047540221
A70: 97663 | B70: Remoção de louças, de forma manual, sem reaproveitamento. AF_09/2023 | G70: und | H70: =(1030/2)/44 -> 11.704545 | J70: =I70*H70 -> 0 | K70: 0.00047540221
A71: 97665 | B71: Remoção de luminárias, de forma manual, sem reaproveitamento. AF_09/2023 | G71: und | H71: =(4150/2)/44 -> 47.159091 | J71: =I71*H71 -> 0 | K71: 0.0019154555
A72: 97666 | B72: Remoção de metais sanitários, de forma manual, sem reaproveitamento. AF_09/2023 | G72: und | H72: =(2200/2)/44 -> 25 | J72: =I72*H72 -> 0 | K72: 0.0010154222
A73: 97644 | B73: Remoção de portas, de forma manual, sem reaproveitamento. AF_09/2023 | G73: und | H73: =(2200/2)/44 -> 25 | J73: =I73*H73 -> 0 | K73: 0.0010154222
A74: 97660 | B74: Remoção de interruptores/tomadas elétricas, de forma manual, sem reaproveitamento. AF_09/2023 | G74: und | H74: =(2450/2)/44 -> 27.840909 | J74: =I74*H74 -> 0 | K74: 0.0011308111
A75: 92029 | B75: Interruptor simples(1 módulo) com 1 tomada de embutir 2P+T 10A, incluindo suporte e placa - fornecimento e instalação | G75: und | H75: =(4400/2)/44 -> 50 | J75: =I75*H75 -> 0 | K75: 0.0020308444
A76: 92031 | B76: Interruptor simples (1 módulo) com 2 tomadas de embutir 2P+T 10A, incluindo suporte e placa - fornecimento e instalação | G76: und | H76: =(4400/2)/44 -> 50 | J76: =I76*H76 -> 0 | K76: 0.0020308444
A77: 92000 | B77: Tomada baixa de embutir (1 módulo), 2P+T 10A, incluindo suporte e placa - fornecimento e instalação | G77: und | H77: =(4400/2)/44 -> 50 | J77: =I77*H77 -> 0 | K77: 0.0020308444
A78: 91996 | B78: Tomada média de embutir (1 módulo), 2P+T 10A, incluindo suporte e placa - fornecimento e instalação | G78: und | H78: =(4400/2)/44 -> 50 | J78: =I78*H78 -> 0 | K78: 0.0020308444
A79: 91992 | B79: Tomada alta de embutir (1 módulo), 2P+T 10A, incluindo suporte e placa - fornecimento e instalação | G79: und | H79: =(3950/2)/44 -> 44.886364 | J79: =I79*H79 -> 0 | K79: 0.0018231444
A80: 101876 | B80: Quadro de distribuição de energia, em PVC, de embutir, sem barramento, para 6 disjuntores - fornecimento e instalação | G80: und | H80: =(440/2)/44 -> 5 | J80: =I80*H80 -> 0 | K80: 0.00020308444
A81: 93654 | B81: Disjuntor monopolar tipo DIN, corrente nominal de 16A - Fornecimento e instalação. AF_10/2020 | G81: und | H81: =(440/2)/44 -> 5 | J81: =I81*H81 -> 0 | K81: 0.00020308444
A82: 93662 | B82: Disjuntor bipolar tipo DIN, corrente nominal de 20A - Fornecimento e instalação. AF_10/2020 | G82: und | H82: =(440/2)/44 -> 5 | J82: =I82*H82 -> 0 | K82: 0.00020308444
A83: 93664 | B83: Disjuntor bipolar tipo DIN, corrente nominal de 32A - Fornecimento e instalação. AF_10/2020 | G83: und | H83: =(440/2)/44 -> 5 | J83: =I83*H83 -> 0 | K83: 0.00020308444
A84: 91927 | B84: Cabo de cobre flexivel isolado, 2.5mm², anti-chama 0,6/1,0 KV, para circuitos terminais - fornecimento e instalação. AF_03/2023 | G84: m | H84: =(8800/2)/44 -> 100 | J84: =I84*H84 -> 0 | K84: 0.0040616888
A85: 91929 | B85: Cabo de cobre flexivel isolado, 4.0mm², anti-chama 0,6/1,0 KV, para circuitos terminais - fornecimento e instalação. AF_03/2023 | G85: m | H85: =(8800/2)/44 -> 100 | J85: =I85*H85 -> 0 | K85: 0.0040616888
A86: 91931 | B86: Cabo de cobre flexivel isolado, 6.0mm², anti-chama 0,6/1,0 KV, para circuitos terminais - fornecimento e instalação. AF_03/2023 | G86: m | H86: =(8800/2)/44 -> 100 | J86: =I86*H86 -> 0 | K86: 0.0040616888
A87: 91933 | B87: Cabo de cobre flexivel isolado, 10.0mm², anti-chama 0,6/1,0 KV, para circuitos terminais - fornecimento e instalação. AF_03/2023 | G87: m | H87: =(8800/2)/44 -> 100 | J87: =I87*H87 -> 0 | K87: 0.0040616888
A88: 90447 | B88: Rasgo linear manual em alvenaria, para eletrodutos, diâmetros menores ou iguais a 40mm. AF_09/2023 | G88: m | H88: =(2450/2)/44 -> 27.840909 | J88: =I88*H88 -> 0 | K88: 0.0011308111
A89: 91222 | B89: Rasgo linear manual em alvenaria, para ramais/distribuição de instalações hidraulicas, diâmetros maiores que 40mm e menores ou iguais a 75mm. AF_09/2023 | G89: m | H89: =(2450/2)/44 -> 27.840909 | J89: =I89*H89 -> 0 | K89: 0.0011308111
A90: 90443 | B90: Rasgo linear manual em alvenaria, para ramais/distribuição de instalações hidraulicas, diâmetros menores ou iguais que 40mm. AF_09/2023 | G90: m | H90: =(2450/2)/44 -> 27.840909 | J90: =I90*H90 -> 0 | K90: 0.0011308111
A91: 98547 | B91: Impermeabilização de superfície com manta asfáltica, duas camadas, inclusive aplicação de primer asfáltico, E = 3mm e E = 4mm. AF_09/2023 | G91: m² | H91: =(4400/2)/44 -> 50 | J91: =I91*H91 -> 0 | K91: 0.0020308444
A92: 87632 | B92: Contrapiso em argamassa traço 1:3 (cimento e areia), preparo manual, aplicado em áreas secas sobre laje, aderido, acabamento não reforçado, espessura 3cm. AF_07/2021 | G92: m² | H92: =(8800/2)/44 -> 100 | J92: =I92*H92 -> 0 | K92: 0.0040616888
A93: 87886 | B93: Chapisco aplicado no teto ou em estrutura, com desempenadeira dentada. Argamassa industrializada com preparo manual. AF_10/2022 | G93: m² | H93: =(8800/2)/44 -> 100 | J93: =I93*H93 -> 0 | K93: 0.0040616888
A94: 94995 | B94: Execução de passeio (calçada) ou piso de concreto com concreto moldado in loco, usinado, acabamento convencional, espessura 8 cm, armado. AF_08/2022 | G94: m² | H94: =(6400/2)/44 -> 72.727273 | J94: =I94*H94 -> 0 | K94: 0.0029539555
A95: 200401 | B95: Limpeza geral de obra | G95: m² | H95: =(10850/2)/44 -> 123.29545 | J95: =I95*H95 -> 0 | K95: 0.0050078777
B96: JAZIGO
A97: CPU | B97: Fornecimento de jazigo completo com 4 espaços para sepultamento | G97: und | H97: 65 | J97: =H97*I97 -> 0 | K97: 0.0018462222
A98: CPU | B98: Fornecimento de jazigo completo com 3 espaços para sepultamento | G98: und | H98: 100 | J98: =H98*I98 -> 0 | K98: 0.0027693333
A99: CPU | B99: Fornecimento de jazigo completo com 2 espaços para sepultamento | G99: und | H99: 20 | J99: =H99*I99 -> 0 | K99: 0.0009231111
B100: SERVIÇOS e FERRAMENTAS
A101: CPU | B101: Varrição | G101: m² | H101: =$K$1*K101 -> 152083.82 | J101: =I101*H101 -> 0 | K101: 4.3241121
...

Sheet CAMPO BELO
A1: CAMPO BELO | E1: PLANILHA ORÇAMENTÁRIA - SINAPI - DATA BASE JUNHO DE 2025 PUBLICADO EM 11/07/2025 | K1: 37302.08
A3: CÓDIGO SINAPI | B3: DESCRIÇÃO DOS SERVIÇOS | G3: Und. | H3: Qtd. | I3: Valor Médio Unitário | J3: Valor Total
B4: ESCAVAÇÕES
A5: 5678 | B5: RETROESCAVADEIRA SOBRE RODAS COM CARREGADEIRA, TRAÇÃO 4X4, POTÊNCIA LÍQ. 88 HP, CAÇAMBA CARREG. CAP. MÍN. 1 M3, CAÇAMBA RETRO CAP. 0,26 M3, PESO OPERACIONAL MÍN. 6.674 KG, PROFUNDIDADE ESCAVAÇÃO MÁX. 4,37 M - CHP DIURNO. AF_06/2014 | G5: chp | H5: =K1*K5 -> 129.5206 | J5: =I5*H5 -> 0 | K5: 0.0034722085
A6: 93358 | B6: Escavação manual de vala com profundido menor ou igual a 1,30m. AF_02/2021 | G6: m³ | H6: =K1*K6 -> 1228.0162 | J6: =I6*H6 -> 0 | K6: 0.032920851
A7: 93382 | B7: Reaterro manual de valas, com compactador de solos de percussão. AF_08/2023 | G7: m³ | H7: =K1*K7 -> 894.92495 | J7: =I7*H7 -> 0 | K7: 0.023991288
A8: 101616 | B8: Preparo de fundo de vala com largura menor que 1,5m (acerto de solo natural). AF_08/2020 | G8: m² | H8: =K1*K8 -> 1290.7571 | J8: =I8*H8 -> 0 | K8: 0.034602819
B9: TRANSPORTES
A10: 100981 | B10: Carga, manobra e descarga de entulho em caminhão basculante de 6m³ - Carga com escavadeira hidráulica (caçamba de 0,80 m³ / 111hp) e descarga livre. AF_07/2020 | G10: m³ | H10: =H6-H7 -> 333.09127 | J10: =I10*H10 -> 0 | K10: 0.0089295629
B11: PAISAGISMO
A12: 103946 | B12: Plantio de grama esmeralda ou são carlos ou curitibana, em placas. AF_07/2024 | G12: m² | H12: =K1*K12 -> 6769.3036 | J12: =I12*H12 -> 0 | K12: 0.18147255
A13: 98516 | B13: Plantio de palmeira com altura de muda menor ou igual a 2,0m . AF_07/2024 | G13: und | H13: 103 | J13: =I13*H13 -> 0 | K13: 0.0027508711
A14: 98509 | B14: Plantio de arbusto ou cerva viva. AF_07/2024 | G14: und | H14: 112 | J14: =I14*H14 -> 0 | K14: 0.0030001111
A15: 98511 | B15: Plantio de árvore ornamental com altura de muda maior que 2,0m e menor ou igual a 4,0m. AF_07/2024 | G15: und | H15: 104 | J15: =I15*H15 -> 0 | K15: 0.0027785644
A16: 98505 | B16: Plantio de forração | G16: m² | H16: =K1*K16 -> 1420.401 | J16: =I16*H16 -> 0 | K16: 0.038078333
A17: 98526 | B17: Remoção de raízes remanescentes de tronco de árvore com diâmetro maior ou igual a 0,20m e menor que 0,40m. AF_03/2024 | G17: und | H17: 52 | J17: =I17*H17 -> 0 | K17: 0.0013846666
A18: 98527 | B18: Remoção de raízes remanescentes de tronco de árvore com diâmetro maior ou igual a 0,40m e menor que 0,60m. AF_03/2024 | G18: und | H18: 52 | J18: =I18*H18 -> 0 | K18: 0.0013846666
A19: 98528 | B19: Remoção de raízes remanescentes de tronco de árvore com diâmetro maior ou igual a 0,60m. AF_03/2024 | G19: und | H19: 52 | J19: =I19*H19 -> 0 | K19: 0.0013846666
A20: 98533 | B20: Poda em altura de árvore com diâmetro de tronco maior ou igual a 0,20m e menor que 0,40m. AF_03/2024 | G20: und | H20: 52 | J20: =I20*H20 -> 0 | K20: 0.0013846666
A21: 98534 | B21: Poda em altura de árvore com diâmetro de tronco maior ou igual a 0,40m e menor que 0,60m. AF_03/2024 | G21: und | H21: 52 | J21: =I21*H21 -> 0 | K21: 0.0013846666
A22: 98535 | B22: Poda em altura de árvore com diâmetro de tronco maior ou igual a 0,60m. AF_03/2024 | G22: und | H22: 52 | J22: =I22*H22 -> 0 | K22: 0.0013846666
A23: 105521 | B23: Espalhamento de terra vegetal para o plantio. AF_07/2024 | G23: m² | H23: 1420.4 | J23: =I23*H23 -> 0 | K23: 0.049232592
B24: SERVIÇOS e FERRAMENTAS
A25: 98519 | B25: Revolvimento e limpeza manual de solo | G25: m² | H25: =K1*K25 -> 79564.151 | J25: =I25*H25 -> 0 | K25: 2.1329682
A26: 98525 | B26: Limpeza mecanizada de camada vegetal, vegetação e pequenas árvores (diâmetro de tronco menor que 0,20m) com trator de esteiras. AF_03/2024 | G26: m² | H26: =K1*K26 -> 2999.7832 | J26: =I26*H26 -> 0 | K26: 0.080418658
A27: 99062 | B27: Marcação de pontos em gabarito ou cavalete. AF_03/2024 | G27: und | H27: 90 | J27: =I27*H27 -> 0 | K27: 0.0024000888
A28: 100210 | B28: Transporte horizontal com carrinho de mão, de blocos vazados de concreto ou cerâmico de 19x19x39 cm. AF_07/2019 | G28: unxkm | H28: =K1*K28 -> 730.00004 | J28: =I28*H28 -> 0 | K28: 0.019569955
B29: PROFISSIONAIS
A30: 93567 | B30: Engenheiro Civil de obra pleno | G30: mês | H30: 3 | J30: =I30*H30 -> 0 | K30: 0.00012185066
A31: 93570 | B31: Arquiteto de obra pleno | G31: mês | H31: 3 | J31: =I31*H31 -> 0 | K31: 0.00012185066
B32: MÁQUINAS E EQUIPAMENTOS
A33: 5678 | B33: Retroescavadeira sobre rodas com carregadeira, tração 4x4, potência líq. 88HP, caçamba carreg. cap. mín. 1m³, caçamba retro cap. 0,26 m³, peso operacional mín. 6.674kg, profundidade escavação máxim 4,37m - CHP diurno. AF_06/2014 | G33: chp | H33: =$K$1*K33 -> 929.71703 | J33: =I33*H33 -> 0 | K33: 0.024924
A34: 89882 | B34: Caminhão basculante 18 m³, com cavalo mecânico de capacidade máxima de tração combinado de 45000kg. Potência de 330CV, inclusive semireboque com caçamba metálica - Materiais na operação. AF_12/2014 | G34: H | H34: =$K$1*K34 -> 929.71703 | J34: =I34*H34 -> 0 | K34: 0.024924
A35: 95630 | B35: Rolo compactador vibratório tandem, aço liso, potência 125 HP, peso sem/com lastro 10,20/11,65 T, largura de trabalho 1,73m - materiais na operação. AF_11/2016 | G35: H | H35: =$K$1*K35 -> 688.67928 | J35: =I35*H35 -> 0 | K35: 0.018462222
A36: 53849 | B36: Motoniveladora potência básica líquida (primeira marcha) 125 HP, peso bruto 13032 kg, largura da lâmina de 3,7m - materiais na operação. AF_06/2014 | G36: H | H36: =$K$1*K36 -> 688.67928 | J36: =I36*H36 -> 0 | K36: 0.018462222
A37: 101006 | B37: Carga, manobra e descarga de água em caminhão pipa 10 m³. AF_07/2020 | G37: m³ | H37: =$K$1*K37 -> 1446.2265 | J37: =I37*H37 -> 0 | K37: 0.038770666
A38: 5851 | B38: Trator de esteira, potência 150 HP, peso operacional 16,7T, com roda motriz elevada e lâmina 3,18 m³ - CHP diurno. AF_06/2014 | G38: chp | H38: =$K$1*K38 -> 688.67928 | J38: =I38*H38 -> 0 | K38: 0.018462222
A39: 95719 | B39: Escavadeira hidraulica sobre esteira, equipada com clamshell, com capacidade de caçambra entre 1,20 e 1,50 m³. Peso operacional entre 20 e 22 ton, potencia liquida entre 150 e 160 HP - materiais na operação. AF_11/2016 | G39: H | H39: =$K$1*K39 -> 688.67928 | J39: =I39*H39 -> 0 | K39: 0.018462222
B40: MANUTENÇÃO
A41: 96535 | B41: Fabricação, montagem e desmontagem de fôrma para sapata, em madeira serrada, e=25 mm, 4 utilizações. Af_06/2017 | G41: m² | H41: =(12450/2)/44 -> 141.47727 | J41: =I41*H41 -> 0 | K41: 0.0057463666
A42: 92760 | B42: Armação de pilar ou viga de estrutura convencional de concreto armado utilizando AÇO CA-50 de 6,3mm - MONTAGEM. AF_06/2022 | G42: kg | H42: =(124500/2)/44 -> 1414.7727 | J42: =I42*H42 -> 0 | K42: 0.057463666
A43: 92761 | B43: Armação de pilar ou viga de estrutura convencional de concreto armado utilizando AÇO CA-50 de 8,0mm - MONTAGEM. AF_06/2022 | G43: kg | H43: =(49800/2)/44 -> 565.90909 | J43: =I43*H43 -> 0 | K43: 0.022985466
A44: 96555 | B44: Concretagem de bloco de coroamento ou viga baldrame, FCK 30 MPA, com uso de jerica. Lançamento adensamento e acabamento. AF_01/2024 | G44: m³ | H44: =(2100/2)/44 -> 23.863636 | J44: =I44*H44 -> 0 | K44: 0.00096926665
A45: 103317 | B45: Alvenaria de vedação de blocos vazados de concreto 9x19x39 cm (espessura 9cm)e argamassa de assentamento com preparo manual. AF_12/2021 | G45: m² | H45: =(59000/2)/44 -> 670.45455 | J45: =I45*H45 -> 0 | K45: 0.027231777
A46: 87792 | B46: Emboço ou massa única em argamassa traço 1:2:8. Preparo mecânico com betoneira 400L, aplicada manualmente em panos cegos de fachada (sem presença de vãos), espessura de 25mm. AF_08/2022 | G46: m² | H46: =(118000/2)/44 -> 1340.9091 | J46: =I46*H46 -> 0 | K46: 0.054463555
A47: 101966 | B47: Chapim sobre muros lineares, em granito ou mármore, L=25cm, assentado com argamassa 1:6 com aditivo. AF_11/2020 | G47: m | H47: =(15850/2)/44 -> 180.11364 | J47: =I47*H47 -> 0 | K47: 0.0073156554
A48: 87275 | B48: Revestimento cerâmica para paredes internas com placas tipo esmaltada de dimensões 33x45 cm aplicadas a meia altura das paredes. AF_02/2023_PE | G48: m² | H48: =(8800/2)/44 -> 100 | J48: =I48*H48 -> 0 | K48: 0.0040616888
A49: 87250 | B49: Revestimento cerâmico para piso com placas tipo esmaltada de dimensões 45x45 cm aplicada em ambientes de área entre 5 e 10 m². AF_02/2023_PE | G49: m² | H49: =(8800/2)/44 -> 100 | J49: =I49*H49 -> 0 | K49: 0.0040616888
A50: 88415 | B50: Aplicação manual de fundo selador acrílico em paredes externas. AF_03/2024 | G50: m² | H50: =(118000/2)/44 -> 1340.9091 | J50: =I50*H50 -> 0 | K50: 0.054463555
A51: 88423 | B51: Aplicação manual de pintura com tinta texturizada acrílica em paredes externas. Uma cor AF_03/2024 | G51: m² | H51: =(118000/2)/44 -> 1340.9091 | J51: =I51*H51 -> 0 | K51: 0.054463555
A52: 102623 | B52: Caixa d'água em polietileno, 1000L (inclusos tubos, conexões e torneira de bóia) - fornecimento e instalação | G52: und | H52: =(420/2)/44 -> 4.7727273 | J52: =I52*H52 -> 0 | K52: 0.00019385333
A53: 90512 | B53: Limpeza de calhas e coletores | G53: m³ | H53: =(39250/2)/44 -> 446.02273 | J53: =I53*H53 -> 0 | K53: 0.018116055
A54: 100434 | B54: Calha de beiral, semicircular de pvc, diâmetro 125mm, incluindo cabeceiras, emendas, bocais, suporte e vedações, excluindo condutores, incluso transporte vertical. AF_07/2019 | G54: m | H54: =(4150/2)/44 -> 47.159091 | J54: =I54*H54 -> 0 | K54: 0.0019154555
A55: 103782 | B55: Luminária tipo plafon circular, de sobrepor, com led de12/13W - fornecimento e instalação. AF_09/2024 | G55: und | H55: =(2450/2)/44 -> 27.840909 | J55: =I55*H55 -> 0 | K55: 0.0011308111
A56: 94273 | B56: Assentamento de guia (meio-fio) em trecho reto, confeccionada em concreto pré-fabricado, dimensões 100x15x13x30 (comprimento X base inferior X base superior X altura). AF_01/2024 | G56: m | H56: =(42000/2)/44 -> 477.27273 | J56: =I56*H56 -> 0 | K56: 0.019385333
A57: 102498 | B57: Pintura de meio-fio com tinta branca a base de cal (caiação). Af_05/2021 | G57: m | H57: =(14700/2)/44 -> 167.04545 | J57: =I57*H57 -> 0 | K57: 0.0067848665
A58: 92400 | B58: Execução de pavimento em piso intertravado, com bloco retangular de 20x10cm, espessura 10cm. AF_10/22 | G58: m² | H58: =(29500/2)/44 -> 335.22727 | J58: =I58*H58 -> 0 | K58: 0.013615889
A59: 103247 | B59: Ar condiciondo split inverter, hi-wall (parede), 12000 btu/h, ciclo frio - fornecimento e instalação. AF_11/2021_PE | G59: und | H59: =(465/2)/44 -> 5.2840909 | J59: =I59*H59 -> 0 | K59: 0.00021462333
A60: 94570 | B60: Janela de alumínio de correr com 2 folhas para vidros (vidros inclusos), batente/requadro 6 a 17 cm, acabamento com acetato ou brilhante, fixação com parafuso, sem guarnição/alizar, dimensões 100x120cm, vedação com silicone, exclusive contramarco - fornecimento e instalação. af_11/2024 | G60: und | H60: =(1270/2)/44 -> 14.431818 | J60: =I60*H60 -> 0 | K60: 0.00058617555
A61: 100683 | B61: Kit de porta de madeira para verniz, semi-oca (leve ou média) padrão médio, 80x210cm, espessura de 3,5cm. Itens inclusos: dobradiças, montagem e instalação de batente, fechadura com execução do furo - fornecimento e instalação. AF_12/2019 | G61: und | H61: =(490/2)/44 -> 5.5681818 | J61: =I61*H61 -> 0 | K61: 0.00022616222
A62: 94807 | B62: Porta em aço de abrir tipo veneziana sem guarnição, 87x210 cm, fixação com parafusos - fornecimento e instalação. AF_12/2019 | G62: und | H62: =(490/2)/44 -> 5.5681818 | J62: =I62*H62 -> 0 | K62: 0.00022616222
A63: 86888 | B63: Vaso sanitário sifonado com caixa acoplada louça branca - fornecimento e instalação. AF_01/2020 | G63: und | H63: =(490/2)/44 -> 5.5681818 | J63: =I63*H63 -> 0 | K63: 0.00022616222
A64: 86939 | B64: Lavatório louça branca com coluna, *44x33,5* cm, padrão popular incluso sifão flexível em pvc, válvula e engate flexivel 30cm em plastico e com torneira cromada padrão popular - fornecimento e instalação. AF_01/2020 | G64: und | H64: =(490/2)/44 -> 5.5681818 | J64: =I64*H64 -> 0 | K64: 0.00022616222
A65: 86920 | B65: Tanque de louça branca com coluna, 30L ou equivalente, incluso sifão flexivel em pvc, valvula plastica e torneira de metal cromado padrão popular - fornecimento e instalação. AF_01/2020 | G65: und | H65: =(490/2)/44 -> 5.5681818 | J65: =I65*H65 -> 0 | K65: 0.00022616222
A66: 103697 | B66: Fornecimento e instalação de suporte de madeira para placas de sinalização, em base de concreto, com h = 2m e seção de 7,5x7,5 cm. AF_03/2022 | G66: und | H66: =(1280/2)/44 -> 14.545455 | J66: =I66*H66 -> 0 | K66: 0.0005907911
A67: 94210 | B67: Telhamento com telha ondulada de fibrocimento E = 6mm, com recobrimento lateral de 1 1/4 de onda para telhado com inclinação máxima de 10 graus, com até 2 águas, incluso içamento. AF_07/2019 | G67: m² | H67: =(8300/2)/44 -> 94.318182 | J67: =I67*H67 -> 0 | K67: 0.003830911
A68: 104803 | B68: Remoção calhas e rufos de forma manual, sem reaproveitamento. AF_09/2023 | G68: m | H68: =(6350/2)/44 -> 72.159091 | J68: =I68*H68 -> 0 | K68: 0.0029308777
A69: 97647 | B69: Remoção de telhas de fibrocimento, metálica e cerâmica de forma manual, sem reaproveitamento. AF_09/2023 | G69: m² | H69: =(10300/2)/44 -> 117.04545 | J69: =I69*H69 -> 0 | K69: 0.0047540221
A70: 97663 | B70: Remoção de louças, de forma manual, sem reaproveitamento. AF_09/2023 | G70: und | H70: =(1030/2)/44 -> 11.704545 | J70: =I70*H70 -> 0 | K70: 0.00047540221
A71: 97665 | B71: Remoção de luminárias, de forma manual, sem reaproveitamento. AF_09/2023 | G71: und | H71: =(4150/2)/44 -> 47.159091 | J71: =I71*H71 -> 0 | K71: 0.0019154555
A72: 97666 | B72: Remoção de metais sanitários, de forma manual, sem reaproveitamento. AF_09/2023 | G72: und | H72: =(2200/2)/44 -> 25 | J72: =I72*H72 -> 0 | K72: 0.0010154222
A73: 97644 | B73: Remoção de portas, de forma manual, sem reaproveitamento. AF_09/2023 | G73: und | H73: =(2200/2)/44 -> 25 | J73: =I73*H73 -> 0 | K73: 0.0010154222
A74: 97660 | B74: Remoção de interruptores/tomadas elétricas, de forma manual, sem reaproveitamento. AF_09/2023 | G74: und | H74: =(2450/2)/44 -> 27.840909 | J74: =I74*H74 -> 0 | K74: 0.0011308111
A75: 92029 | B75: Interruptor simples(1 módulo) com 1 tomada de embutir 2P+T 10A, incluindo suporte e placa - fornecimento e instalação | G75: und | H75: =(4400/2)/44 -> 50 | J75: =I75*H75 -> 0 | K75: 0.0020308444
A76: 92031 | B76: Interruptor simples (1 módulo) com 2 tomadas de embutir 2P+T 10A, incluindo suporte e placa - fornecimento e instalação | G76: und | H76: =(4400/2)/44 -> 50 | J76: =I76*H76 -> 0 | K76: 0.0020308444
A77: 92000 | B77: Tomada baixa de embutir (1 módulo), 2P+T 10A, incluindo suporte e placa - fornecimento e instalação | G77: und | H77: =(4400/2)/44 -> 50 | J77: =I77*H77 -> 0 | K77: 0.0020308444
A78: 91996 | B78: Tomada média de embutir (1 módulo), 2P+T 10A, incluindo suporte e placa - fornecimento e instalação | G78: und | H78: =(4400/2)/44 -> 50 | J78: =I78*H78 -> 0 | K78: 0.0020308444
A79: 91992 | B79: Tomada alta de embutir (1 módulo), 2P+T 10A, incluindo suporte e placa - fornecimento e instalação | G79: und | H79: =(3950/2)/44 -> 44.886364 | J79: =I79*H79 -> 0 | K79: 0.0018231444
A80: 101876 | B80: Quadro de distribuição de energia, em PVC, de embutir, sem barramento, para 6 disjuntores - fornecimento e instalação | G80: und | H80: =(440/2)/44 -> 5 | J80: =I80*H80 -> 0 | K80: 0.00020308444
A81: 93654 | B81: Disjuntor monopolar tipo DIN, corrente nominal de 16A - Fornecimento e instalação. AF_10/2020 | G81: und | H81: =(440/2)/44 -> 5 | J81: =I81*H81 -> 0 | K81: 0.00020308444
A82: 93662 | B82: Disjuntor bipolar tipo DIN, corrente nominal de 20A - Fornecimento e instalação. AF_10/2020 | G82: und | H82: =(440/2)/44 -> 5 | J82: =I82*H82 -> 0 | K82: 0.00020308444
A83: 93664 | B83: Disjuntor bipolar tipo DIN, corrente nominal de 32A - Fornecimento e instalação. AF_10/2020 | G83: und | H83: =(440/2)/44 -> 5 | J83: =I83*H83 -> 0 | K83: 0.00020308444
A84: 91927 | B84: Cabo de cobre flexivel isolado, 2.5mm², anti-chama 0,6/1,0 KV, para circuitos terminais - fornecimento e instalação. AF_03/2023 | G84: m | H84: =(8800/2)/44 -> 100 | J84: =I84*H84 -> 0 | K84: 0.0040616888
A85: 91929 | B85: Cabo de cobre flexivel isolado, 4.0mm², anti-chama 0,6/1,0 KV, para circuitos terminais - fornecimento e instalação. AF_03/2023 | G85: m | H85: =(8800/2)/44 -> 100 | J85: =I85*H85 -> 0 | K85: 0.0040616888
A86: 91931 | B86: Cabo de cobre flexivel isolado, 6.0mm², anti-chama 0,6/1,0 KV, para circuitos terminais - fornecimento e instalação. AF_03/2023 | G86: m | H86: =(8800/2)/44 -> 100 | J86: =I86*H86 -> 0 | K86: 0.0040616888
A87: 91933 | B87: Cabo de cobre flexivel isolado, 10.0mm², anti-chama 0,6/1,0 KV, para circuitos terminais - fornecimento e instalação. AF_03/2023 | G87: m | H87: =(8800/2)/44 -> 100 | J87: =I87*H87 -> 0 | K87: 0.0040616888
A88: 90447 | B88: Rasgo linear manual em alvenaria, para eletrodutos, diâmetros menores ou iguais a 40mm. AF_09/2023 | G88: m | H88: =(2450/2)/44 -> 27.840909 | J88: =I88*H88 -> 0 | K88: 0.0011308111
A89: 91222 | B89: Rasgo linear manual em alvenaria, para ramais/distribuição de instalações hidraulicas, diâmetros maiores que 40mm e menores ou iguais a 75mm. AF_09/2023 | G89: m | H89: =(2450/2)/44 -> 27.840909 | J89: =I89*H89 -> 0 | K89: 0.0011308111
A90: 90443 | B90: Rasgo linear manual em alvenaria, para ramais/distribuição de instalações hidraulicas, diâmetros menores ou iguais que 40mm. AF_09/2023 | G90: m | H90: =(2450/2)/44 -> 27.840909 | J90: =I90*H90 -> 0 | K90: 0.0011308111
A91: 98547 | B91: Impermeabilização de superfície com manta asfáltica, duas camadas, inclusive aplicação de primer asfáltico, E = 3mm e E = 4mm. AF_09/2023 | G91: m² | H91: =(4400/2)/44 -> 50 | J91: =I91*H91 -> 0 | K91: 0.0020308444
A92: 87632 | B92: Contrapiso em argamassa traço 1:3 (cimento e areia), preparo manual, aplicado em áreas secas sobre laje, aderido, acabamento não reforçado, espessura 3cm. AF_07/2021 | G92: m² | H92: =(8800/2)/44 -> 100 | J92: =I92*H92 -> 0 | K92: 0.0040616888
A93: 87886 | B93: Chapisco aplicado no teto ou em estrutura, com desempenadeira dentada. Argamassa industrializada com preparo manual. AF_10/2022 | G93: m² | H93: =(8800/2)/44 -> 100 | J93: =I93*H93 -> 0 | K93: 0.0040616888
A94: 94995 | B94: Execução de passeio (calçada) ou piso de concreto com concreto moldado in loco, usinado, acabamento convencional, espessura 8 cm, armado. AF_08/2022 | G94: m² | H94: =(6400/2)/44 -> 72.727273 | J94: =I94*H94 -> 0 | K94: 0.0029539555
A95: 200401 | B95: Limpeza geral de obra | G95: m² | H95: =(10850/2)/44 -> 123.29545 | J95: =I95*H95 -> 0 | K95: 0.0050078777
B96: JAZIGO
A97: CPU | B97: Fornecimento de jazigo completo com 4 espaços para sepultamento | G97: und | H97: 70 | J97: =H97*I97 -> 0 | K97: 0.0018462222
A98: CPU | B98: Fornecimento de jazigo completo com 3 espaços para sepultamento | G98: und | H98: 100 | J98: =H98*I98 -> 0 | K98: 0.0027693333
A99: CPU | B99: Fornecimento de jazigo completo com 2 espaços para sepultamento | G99: und | H99: 30 | J99: =H99*I99 -> 0 | K99: 0.0009231111
B100: SERVIÇOS e FERRAMENTAS
A101: CPU | B101: Varrição | G101: m² | H101: =$K$1*K101 -> 161298.37 | J101: =I101*H101 -> 0 | K101: 4.3241121
...

Sheet CABO VERDE
A1: CABO VERDE | E1: PLANILHA ORÇAMENTÁRIA - SINAPI - DATA BASE JUNHO DE 2025 PUBLICADO EM 11/07/2025 | K1: 13034.82
A3: CÓDIGO SINAPI | B3: DESCRIÇÃO DOS SERVIÇOS | G3: Und. | H3: Qtd. | I3: Valor Médio Unitário | J3: Valor Total
B4: ESCAVAÇÕES
A5: 5678 | B5: RETROESCAVADEIRA SOBRE RODAS COM CARREGADEIRA, TRAÇÃO 4X4, POTÊNCIA LÍQ. 88 HP, CAÇAMBA CARREG. CAP. MÍN. 1 M3, CAÇAMBA RETRO CAP. 0,26 M3, PESO OPERACIONAL MÍN. 6.674 KG, PROFUNDIDADE ESCAVAÇÃO MÁX. 4,37 M - CHP DIURNO. AF_06/2014 | G5: chp | H5: =K1*K5 -> 45.259613 | J5: =I5*H5 -> 0 | K5: 0.0034722085
A6: 93358 | B6: Escavação manual de vala com profundido menor ou igual a 1,30m. AF_02/2021 | G6: m³ | H6: =K1*K6 -> 429.11737 | J6: =I6*H6 -> 0 | K6: 0.032920851
A7: 93382 | B7: Reaterro manual de valas, com compactador de solos de percussão. AF_08/2023 | G7: m³ | H7: =K1*K7 -> 312.72212 | J7: =I7*H7 -> 0 | K7: 0.023991288
