Workbook
Name Foto: INDIRECT('[1]Anexo A'!$I$15)

Sheet Dados da Empresa
B2: INSTRUÇÕES PARA PREENCHIMENTO
B3: • Preencher apenas as células destacadas em azul, nas abas "Dados da Empresa", "Dados de custos" e "Encargos sociais"; • Arredondar valores para a segunda casa decimal.
B5: DADOS DA EMPRESA
B6: Razão Social
B7: CNPJ
B8: Endereço
B9: Telefone
B10: Contato
B11: E-mail
B12: RAT | C12: 0.03
B13: FAP
B14: Regime de tributação
B15: A empresa utiliza crédito de PIS/Cofins?
B16: Sindicato da Categoria
B17: Data-Base
B19: COMPONENTES DO BDI
B20: Item | C20: Componentes | D20: % do faturamento | E20: Total
B21: Despesas indiretas | C21: Administração Central | E21: =SUM(D21:D22) -> 0
C22: Seguros
B23: Lucro bruto | C23: Lucro | E23: =D23 -> 0
B24: Despesas fiscais | C24: PIS | D24: =IF($C$14="Lucro real - Incidência cumulativa de PIS e COFINS",1.65%,IF($C$14="Lucro presumido - Incidência cumulativa de PIS e COFINS",0.65%,"Informar regime de tributação")) -> Informar regime de tributação | E24: =SUM(D24:D25) -> 0
C25: COFINS | D25: =IF($C$14="Lucro real - Incidência cumulativa de PIS e COFINS",7.6%,IF($C$14="Lucro presumido - Incidência cumulativa de PIS e COFINS",3%,"Informar regime de tributação")) -> Informar regime de tributação
B27: DADOS DOS MUNICÍPIOS - VALE TRANSPORTE, ISS E RESULTADO BDI
B28: Local | C28: Vale Transporte | D28: Alíquota - ISS | E28: BDI
B29: Guaratinguetá | E29: =IFERROR((1+$E$21)*(1+$E$23)/(1-($D$24+$D$25+$D$29))-1,"-") -> -
B30: Observações:
B31: Alíquota - ISS - Fonte: códigos tributários municipais e outras legislações pertinentes.
B32: BDI - Calculado de acordo com a seguinte fórmula:
B34: Fonte: CadTerc Vol. 19. - 2024

Sheet Dados de custos
B2: INSTRUÇÕES PARA PREENCHIMENTO
B3: • Preencher apenas as células destacadas em azul; • Arredondar valores para a segunda casa decimal; • Não inserir valores menores do que os estabelecidos na Convenção Coletiva da categoria.
B5: Local | C5: Guaratinguetá
B6: Dias efetivamente trabalhados por mês | C6: 20.68 | D6: Fonte: CadTerc vol. 19 - 2024 - Jornada 44h seg a sex
B7: Prazo contratual (meses) | C7: 12
C9: ORÇAMENTO - POR POSTO
C10: Recepcionista
B11: (1) Remuneração | C11: =C13+C12 -> 0
B12: Salário Base
B13: Adicional | C13: 0
B15: (2) Benefícios mensais e diários | C15: =C20+C16+C26+C29+C32+C35+C36 -> 0
B16: Vale Transporte | C16: =C17-C18+C19 -> 0
B17: Custo mensal | C17: =ROUND('Dados da Empresa'!$C$29*$C$6*2,2) -> 0
B18: Parcela do trabalhador | C18: =ROUND(C12*0.06,2) -> 0
B19: Crédito PIS/COFINS | C19: =IF(AND('Dados da Empresa'!$C$14="Lucro real - Incidência cumulativa de PIS e COFINS",'Dados da Empresa'!$C$15="Sim"),-ROUND((C17+C18)*0.0925,2),0) -> 0
B20: Vale Refeição | C20: =ROUND(C21*$C$6,2)+C24+C25 -> 0
B21: Valor diário | C21: =C22-C23 -> 0
B22: Valor Unitário
B23: Parcela trabalhador
B24: Vale adicional - Dia da categoria | C24: =ROUND(C22/12,2) -> 0
B25: Crédito PIS/COFINS | C25: =IF(AND('Dados da Empresa'!$C$14="Lucro real - Incidência cumulativa de PIS e COFINS",'Dados da Empresa'!$C$15="Sim"),-ROUND((C22*$C$6+C23*$C$6+C24)*0.0925,2),0) -> 0
B26: Cesta Básica | C26: =C27+C28 -> 0
B27: Valor
B28: Crédito PIS/COFINS | C28: =IF(AND('Dados da Empresa'!$C$14="Lucro real - Incidência cumulativa de PIS e COFINS",'Dados da Empresa'!$C$15="Sim"),-ROUND(C27*0.0925,2),0) -> 0
B29: Benefício social | C29: =C30+C31 -> 0
B30: Valor
B31: Crédito PIS/COFINS | C31: =IF(AND('Dados da Empresa'!$C$14="Lucro real - Incidência cumulativa de PIS e COFINS",'Dados da Empresa'!$C$15="Sim"),-ROUND((C30)*0.0925,2),0) -> 0
B32: Assistência Médica Familiar | C32: =C33+C34 -> 0
B33: Valor
B34: Crédito PIS/COFINS | C34: =IF(AND('Dados da Empresa'!$C$14="Lucro real - Incidência cumulativa de PIS e COFINS",'Dados da Empresa'!$C$15="Sim"),-ROUND(C33*0.0925,2),0) -> 0
B35: Auxílio Creche
B36: Norma Regulamentadora nº 07
B38: (3) Insumos diversos | C38: =C39+C42 -> 0
B39: Uniformes e EPIs | C39: =C40+C41 -> 0
B40: Custo mensal
B41: Crédito PIS/COFINS | C41: =IF(AND('Dados da Empresa'!$C$14="Lucro real - Incidência cumulativa de PIS e COFINS",'Dados da Empresa'!$C$15="Sim"),-ROUND(C40*0.0925,2),0) -> 0
B42: Outros Itens
B44: (4) Encargos Sociais e Trabalhistas | C44: =ROUND('Dados de custos'!C11*C45,2) -> 0
B45: Percentual sobre o salário base | C45: ='Encargos sociais'!$C$42 -> 0.6260714
B47: (5) Prêmios (a ser pago mediante contraprestação)
...

Sheet Encargos sociais
B2: INSTRUÇÕES PARA PREENCHIMENTO
B3: • Preencher apenas as células destacadas em azul; • Arredondar valores para a quarta casa decimal; • Os valores deverão ser preenchidos com os percentuais próprios da empresa, tendo por base a sua realidade.
B5: CÁLCULO DOS ENCARGOS SOCIAIS E TRABALHISTAS
B6: Grupo A - Encargos sociais básicos | C6: =SUM(C7:C13)+C14 -> 0.338
B7: Previdência Social | C7: 0.2
B8: SESI | C8: 0.015
B9: SENAI | C9: 0.01
B10: INCRA | C10: 0.002
B11: SEBRAE | C11: 0.006
B12: Salário-educação | C12: 0.025
B13: Fundo de Garantia por Tempo de Serviço | C13: 0.08
B14: Seguro contra acidentes de trabalho (SAT) (RATxFAP) | C14: ='Dados da Empresa'!C12*'Dados da Empresa'!C13 -> 0
B15: Grupo B - Tempo remunerado e não trabalhado | C15: =SUM(C16:C21) -> 0.09128
B16: Férias | C16: 0.09128
B17: Ausência por enfermidade <= 15 dias
B18: Ausências legais
B19: Licença paternidade
B20: Acidente de trabalho
B21: Aviso prévio trabalho
B22: GRUPO C - Adicional de férias e 13º Salário | C22: =SUM(C23:C24) -> 0.12402
B23: Adicional de férias | C23: 0.03043
B24: 13º salário | C24: 0.09359
B25: GRUPO D -Obrigações rescisórias | C25: =SUM(C26:C30) -> 0
B26: Aviso prévio indenizado
B27: Incidência do FGTS sobre o aviso prévio indenizado
B28: Inc. da multa FGTS e da Contribuição Social sobre os depósitos do FGTS
B29: Inc. da multa FGTS e da Contribuição Social sobre o aviso prévio indenizado
B30: Inc. da multa FGTS e da Contribuição Social sobre o aviso prévio trabalhado
B31: GRUPO E - Aprovisionamento de casos especiais | C31: =SUM(C32:C38) -> 0
B32: Incidência do Grupo A sobre afastamento por licença maternidade
B33: Incidência do FGTS sobre o acidente de trabalho > 15 dias
B34: Percentual referente ao abono pecúniário
B35: Percentual referente ao reflexo do aviso prévio indenizado sobre férias e 13º salário
B36: Incidência do FGTS sobre reflexo do aviso prévio indenizado sobre 13º salário
B37: Percentual referente a demitidos a 30 dias da data-base
B38: Outros
B39: GRUPO F – Incidências cumulativas - Incidência Grupo A x (Grupos B + C) | C39: =SUM(C40:C41) -> 0.0727714
B40: Incidência Grupo A sobre o Grupo B | C40: =C6*C15 -> 0.03085264
B41: Incidência Grupo A sobre o Grupo C | C41: =C6*C22 -> 0.04191876
B42: TOTAL DOS ENCARGOS SOCIAIS (Percentual do salário base) | C42: =SUM(C39,C31,C25,C22,C15,C6) -> 0.6260714

Sheet Orçam. sintético
C2: ORÇAMENTO SINTÉTICO - CONSOLIDADO POR ITEM
C3: Item | D3: Unidade | E3: Quantidade | F3: Periodicidade do pagamento | G3: Valor total mensal | H3: Prazo Contratual | I3: Valor total do contrato
C4: Recepcionista | D4: Posto | F4: Mensal | G4: ='Orçam. analítico'!F5 -> #VALUE! | H4: 12 | I4: =G4*H4 -> #VALUE!
C5: Total | G5: =SUM(G4:G4) -> #VALUE! | I5: =SUM(I4:I4) -> #VALUE!

Sheet Orçam. analítico
B2: ORÇAMENTO ANALÍTICO
B3: Item | C3: Unidade | D3: Quantidade | E3: Valor unitário mensal | F3: Valor total mensal | G3: Prazo | H3: Valor total contrato | I3: Detalhamento valor unitário
I4: Remuneração | J4: Vale Transporte | K4: Outros benefícios | L4: Insumos diversos | M4: Encargos sociais e trabalhistas | N4: BDI
B5: Recepcionista | C5: Posto | D5: ='Orçam. sintético'!E4 -> 0 | E5: ='Dados de custos'!C53 -> - | F5: =ROUND(D5*E5,2) -> #VALUE! | G5: 12 | H5: =F5*G5 -> #VALUE! | I5: ='Dados de custos'!C11 -> 0 | J5: ='Dados de custos'!C16 -> 0 | K5: ='Dados de custos'!$C$20+'Dados de custos'!$C$26+'Dados de custos'!$C$29+'Dados de custos'!$C$32+'Dados de custos'!$C$35+'Dados de custos'!$C$36 -> 0 | L5: ='Dados de custos'!$C$38 -> 0 | M5: ='Dados de custos'!$C$44 -> 0 | N5: =ROUND('Dados da Empresa'!$E$29*(M5+L5+K5+J5+I5),2) -> #VALUE!
B6: Total | F6: =SUM(F5:F5) -> #VALUE! | H6: =SUM(H5:H5) -> #VALUE!
