Workbook

Sheet Home

Sheet Dados Cadastrais
A1: FICHA CADASTRAL DA EMPRESA
A2: Pregão Nº | D2: Processo nº | J2: Sim
A3: DADOS CADASTRAIS | J3: Não
A4: CNPJ
A5: Razão Social
A6: Endereço
A7: Bairro | D7: Cidade | G7: UF
A8: CEP | C8: Telefone
A9: e-mail
A10: REPRESENTANTE(S) DA EMPRESA
A11: CPF | B11: Nome | C11: e-mail | E11: Telefone | F11: Sócio Administrador? | G11: Signatário do Contrato?
F12: (sim/não) | G12: (sim/não)
A19: Local | B19: Data | C19: Assinatura

Sheet Indicadores Financeiros
A1: DADOS DA EMPRESA | M1: Não | N1: Incidência cumulativa de PIS e de COFINS
A2: CNPJ | F2: =IF('Dados Cadastrais'!B4=0,"",'Dados Cadastrais'!B4) | M2: Sim | N2: Incidência não-cumulativa de PIS e de COFINS
A3: Razão Social | F3: =IF('Dados Cadastrais'!B5=0,"",'Dados Cadastrais'!B5) | N3: Simples Nacional
A4: Sindicato da categoria
A5: Data base da categoria
A6: Fornecimento de cesta básica aos funcionários? (sim/não) | F6: Sim
A7: Regime Tributário | F7: Incidência cumulativa de PIS e de COFINS
A8: SAT (RATxFAP) (%)
A9: Despesas Administrativas(%)
A10: Lucro Bruto (%)
A11: COFINS
A12: PIS
A13: Desoneração da folha (%)
A14: Vigência Contratual | F14: 12 | G14: meses
A16: Módulo I - Encargos previdenciários e FGTS | J16: Percentual
A17: 1 | B17: Previdência Social | J17: =IF($F$13>0%,0,20%) -> 0.2
A18: 2 | B18: SESI/SESC | J18: =IF($F$7="Simples Nacional",0,IF($F$7<>"",1.5%,"Informar regime tributário")) -> 0.015
A19: 3 | B19: SENAI/SENAC | J19: =IF($F$7="Simples Nacional",0,IF($F$7<>"",1%,"Informar regime tributário")) -> 0.01
A20: 4 | B20: INCRA | J20: =IF($F$7="Simples Nacional",0,IF($F$7<>"",0.2%,"Informar regime tributário")) -> 0.002
A21: 5 | B21: Salário Educação | J21: =IF($F$7="Simples Nacional",0,IF($F$7<>"",2.5%,"Informar regime tributário")) -> 0.025
A22: 6 | B22: FGTS | J22: 0.08
A23: 7 | B23: SAT (RAT X FAP) | J23: =IF(F8=0,"Informar SAT",$F$8) -> Informar SAT
A24: 8 | B24: SEBRAE | J24: =IF($F$7="Simples Nacional",0,IF($F$7<>"",0.6%,"Informar regime tributário")) -> 0.006
A25: Total Módulo I | J25: =SUM(J17:J24) -> 0.338
A27: Módulo II - 13º Salário e Adicional de Férias
A28: 1 | B28: 13º salário | J28: =ROUND(5/56,4) -> 0.0893
A29: 2 | B29: Abono de férias | J29: =ROUND(J28/3,4) -> 0.0298
A30: 3 | B30: Encargos sociais incidentes | J30: =ROUND((J28+J29)*J25,4) -> 0.0403
A31: Total Módulo II | J31: =SUM(J28:J30) -> 0.1594
A33: Módulo III - Afastamento Maternidade
A34: 1 | B34: Encargos sociais incidentes | J34: =((120*0.6794*64.589%*70.91%*5.5714%)/220.2768)*J22 -> 0.00075554164
A35: Total Módulo III | J35: =SUM(J34:J34) -> 0.00075554164
A37: Módulo IV - Provisão para Rescisão
A38: 1 | B38: Aviso prévio indenizado | J38: =ROUND((98%*27.7988%*33)/220.2768,4) -> 0.0408
A39: 2 | B39: Incidência FGTS sobre o aviso prévio indenizado | J39: =ROUND(J38*$J$22,4) -> 0.0033
A40: 3 | B40: Multa FGTS sobre o aviso prévio indenizado | J40: =ROUND(J39*40%,4) -> 0.0013
A41: 4 | B41: Aviso prévio trabalhado | J41: =ROUND((7*0.6794*2%*27.7988%/220.2768),4) -> 0.0001
A42: 5 | B42: Encargos sociais incidentes sobre aviso prévio trabalhado | J42: =ROUND(J41*$J$25,4) -> 0
A43: 6 | B43: Multa FGTS sobre o aviso prévio trabalhado | J43: =ROUND(J41*8%*40%,4) -> 0
A44: 7 | B44: Indenização Adicional | J44: =ROUND((1%*(1/12)),4) -> 0.0008
...

Sheet Relatório Custo
A1: Agrupador | B1: Código Local | C1: Descrição Local | D1: Comarca | E1: Código | F1: Função | G1: Unidade | H1: Periodicidade | I1: Dias Úteis Estimados | J1: Horas | K1: Quantidade - Horas/Posto/M2 | L1: Valor M2 | M1: REMUNERAÇÃO | N1: Encargos Sociais e Trabalhistas | O1: Benefícios | P1: Vale Transporte | Q1: Uniformes e EPI´s | R1: Materiais | S1: Valor Total Mensal Unitário | T1: BDI | U1: Valor Total Unitário com BDI | V1: Valor Total Mensal | W1: Mês de inicio da Prestação do Serviço | X1: Valor Total período contratual | Z1: Valor Total Mensal Remuneração | AA1: Valor Mensal a Contigenciar | AC1: Desconto - Falta sem reposição (por funcionário) | AD1: Desconto - Dia útil não trabalhado (por funcionário) | AE1: Desconto Mensal - Benefício Assiduidade (por funcionário)
A3: 1 | B3: =VLOOKUP($A3,'Indicadores Financeiros'!$A$127:$J$229,2,FALSE) -> 316 | C3: =VLOOKUP($A3,'Indicadores Financeiros'!$A$127:$J$229,3,FALSE) -> São Paulo - Fórum Fazenda Pública - Hely Lopes Meirelles | D3: =VLOOKUP($B3,BIP!A:E,5,FALSE) -> São Paulo | E3: 690001 | F3: =VLOOKUP($E3,'Tabela de Códigos e Valores'!$A:$M,2,FALSE) -> Auxiliar de limpeza - diurno - 44 horas semanais (segunda a sexta-feira) | G3: =VLOOKUP($E3,'Tabela de Códigos e Valores'!$A:$M,5,FALSE) -> Posto | H3: =VLOOKUP($E3,'Tabela de Códigos e Valores'!$A:$M,6,FALSE) -> Mensal | I3: =VLOOKUP($E3,'Tabela de Códigos e Valores'!$A:$M,7,FALSE) -> 21 | J3: =VLOOKUP($E3,'Tabela de Códigos e Valores'!$A:$M,8,FALSE) -> 0 | K3: 27 | L3: =IFERROR(VLOOKUP(E3,'Indicadores Financeiros'!$A$90:$J$92,10,FALSE),0) -> 0 | M3: =VLOOKUP($E3,'Tabela de Códigos e Valores'!$A:$Z,16,FALSE) -> 0 | N3: =VLOOKUP($E3,'Tabela de Códigos e Valores'!$A:$Z,17,FALSE) -> 0 | O3: =VLOOKUP($E3,'Tabela de Códigos e Valores'!$A:$AAB,28,FALSE) -> 0 | P3: =ROUND(IF($G3<>"M2",IF(VLOOKUP($E3,'Tabela de Códigos e Valores'!$A:$J,10,FALSE)*6%>=VLOOKUP('Relatório Custo'!$A3,'Indicadores Financeiros'!$A$127:$I$131,9,FALSE)*'Relatório Custo'!I3,0,VLOOKUP('Relatório Custo'!$A3,'Indicadores Financeiros'!$A$127:$I$131,9,FALSE)*'Relatório Custo'!I3-VLOOKUP($E3,'Tabela de Códigos e Valores'!$A:$J,10,FALSE)*6%),0),2) -> 0 | Q3: =VLOOKUP($E3,'Tabela de Códigos e Valores'!$A:$AAC,30,FALSE) -> 0 | R3: =ROUND(ROUND(($M3+$N3+$O3+$P3+$Q3),2)*VLOOKUP($E3,'Tabela de Códigos e Valores'!$A:$AE,31,FALSE)/(1-VLOOKUP($E3,'Tabela de Códigos e Valores'!$A:$AE,31,FALSE)),2) -> 0 | S3: =SUM(L3:R3) -> 0 | T3: =VLOOKUP($A3,'Indicadores Financeiros'!$A$127:$J$131,8,FALSE) -> 0.0204 | U3: =ROUND(S3*(1+T3),2) -> 0 | V3: =ROUND(U3*K3,2) -> 0 | W3: =VLOOKUP($A3,'Indicadores Financeiros'!$A$127:$J$131,10) -> 1 | X3: =U3*IF(H3="Mensal",('Indicadores Financeiros'!$F$14-W3+1),IF(H3="Trimestral",INT(('Indicadores Financeiros'!$F$14-W3+1)/3),INT(('Indicadores Financeiros'!$F$14-W3+1)/12)))*K3 -> 0 | Z3: =IF(G3="Posto",M3,0)*K3 -> 0 | AA3: =ROUND('Indicadores Financeiros'!$J$71*$Z3,4) -> 0 | AC3: =ROUND(IF(OR($G3="Posto",$G3="Plantão"),$U3/$I3,0),2) -> 0 | AD3: =ROUND((ROUND(VLOOKUP($E3,'Tabela de Códigos e Valores'!$A:$AB,26,FALSE)/I3,2)+ROUND(P3/I3,2)+ROUND(M3*'Indicadores Financeiros'!$J$61/I3,2)+ROUND(R3/I3,2))*(1+T3),2) -> 0 | AE3: =IF(G3="posto",IF(OR(E3=690018,E3=690019),'Indicadores Financeiros'!$J$108,IF(OR(E3=690002,E3=690016,E3=690019,E3=690035,E3=690038,E3=690064),'Indicadores Financeiros'!$G$108/2*(1+T3),'Indicadores Financeiros'!$G$108*(1+T3))),0) -> 0
A4: 1 | B4: =VLOOKUP($A4,'Indicadores Financeiros'!$A$127:$J$229,2,FALSE) -> 316 | C4: =VLOOKUP($A4,'Indicadores Financeiros'!$A$127:$J$229,3,FALSE) -> São Paulo - Fórum Fazenda Pública - Hely Lopes Meirelles | D4: =VLOOKUP($B4,BIP!A:E,5,FALSE) -> São Paulo | E4: 690020 | F4: =VLOOKUP($E4,'Tabela de Códigos e Valores'!$A:$M,2,FALSE) -> Serviço de Jardinagem | G4: =VLOOKUP($E4,'Tabela de Códigos e Valores'!$A:$M,5,FALSE) -> M2 | H4: =VLOOKUP($E4,'Tabela de Códigos e Valores'!$A:$M,6,FALSE) -> Mensal | I4: =VLOOKUP($E4,'Tabela de Códigos e Valores'!$A:$M,7,FALSE) -> 0 | J4: =VLOOKUP($E4,'Tabela de Códigos e Valores'!$A:$M,8,FALSE) -> 0 | K4: 90 | L4: =IFERROR(VLOOKUP(E4,'Indicadores Financeiros'!$A$90:$J$92,10,FALSE),0) -> 0 | M4: =VLOOKUP($E4,'Tabela de Códigos e Valores'!$A:$Z,16,FALSE) -> 0 | N4: =VLOOKUP($E4,'Tabela de Códigos e Valores'!$A:$Z,17,FALSE) -> 0 | O4: =VLOOKUP($E4,'Tabela de Códigos e Valores'!$A:$AAB,28,FALSE) -> 0 | P4: =ROUND(IF($G4<>"M2",IF(VLOOKUP($E4,'Tabela de Códigos e Valores'!$A:$J,10,FALSE)*6%>=VLOOKUP('Relatório Custo'!$A4,'Indicadores Financeiros'!$A$127:$I$131,9,FALSE)*'Relatório Custo'!I4,0,VLOOKUP('Relatório Custo'!$A4,'Indicadores Financeiros'!$A$127:$I$131,9,FALSE)*'Relatório Custo'!I4-VLOOKUP($E4,'Tabela de Códigos e Valores'!$A:$J,10,FALSE)*6%),0),2) -> 0 | Q4: =VLOOKUP($E4,'Tabela de Códigos e Valores'!$A:$AAC,30,FALSE) -> 0 | R4: =ROUND(ROUND(($M4+$N4+$O4+$P4+$Q4),2)*VLOOKUP($E4,'Tabela de Códigos e Valores'!$A:$AE,31,FALSE)/(1-VLOOKUP($E4,'Tabela de Códigos e Valores'!$A:$AE,31,FALSE)),2) -> 0 | S4: =SUM(L4:R4) -> 0 | T4: =VLOOKUP($A4,'Indicadores Financeiros'!$A$127:$J$131,8,FALSE) -> 0.0204 | U4: =ROUND(S4*(1+T4),2) -> 0 | V4: =ROUND(U4*K4,2) -> 0 | W4: =VLOOKUP($A4,'Indicadores Financeiros'!$A$127:$J$131,10) -> 1 | X4: =U4*IF(H4="Mensal",('Indicadores Financeiros'!$F$14-W4+1),IF(H4="Trimestral",INT(('Indicadores Financeiros'!$F$14-W4+1)/3),INT(('Indicadores Financeiros'!$F$14-W4+1)/12)))*K4 -> 0 | Z4: =IF(G4="Posto",M4,0)*K4 -> 0 | AA4: =ROUND('Indicadores Financeiros'!$J$71*$Z4,4) -> 0 | AC4: =ROUND(IF(OR($G4="Posto",$G4="Plantão"),$U4/$I4,0),2) -> 0 | AD4: =IF(G4="m2",0,ROUND((ROUND(VLOOKUP($E4,'Tabela de Códigos e Valores'!$A:$AB,26,FALSE)/I4,2)+ROUND(P4/I4,2)+ROUND(M4*'Indicadores Financeiros'!$J$61/I4,2)+ROUND(R4/I4,2))*(1+T4),2)) -> 0 | AE4: =IF(G4="posto",IF(OR(E4=690018,E4=690019),'Indicadores Financeiros'!$J$108,IF(OR(E4=690002,E4=690016,E4=690019,E4=690035,E4=690038,E4=690064),'Indicadores Financeiros'!$G$108/2*(1+T4),'Indicadores Financeiros'!$G$108*(1+T4))),0) -> 0
A5: 1 | B5: =VLOOKUP($A5,'Indicadores Financeiros'!$A$127:$J$229,2,FALSE) -> 316 | C5: =VLOOKUP($A5,'Indicadores Financeiros'!$A$127:$J$229,3,FALSE) -> São Paulo - Fórum Fazenda Pública - Hely Lopes Meirelles | D5: =VLOOKUP($B5,BIP!A:E,5,FALSE) -> São Paulo | E5: 690021 | F5: =VLOOKUP($E5,'Tabela de Códigos e Valores'!$A:$M,2,FALSE) -> Serviço de limpeza de vidros com exposição à situação de risco | G5: =VLOOKUP($E5,'Tabela de Códigos e Valores'!$A:$M,5,FALSE) -> M2 | H5: =VLOOKUP($E5,'Tabela de Códigos e Valores'!$A:$M,6,FALSE) -> Trimestral | I5: =VLOOKUP($E5,'Tabela de Códigos e Valores'!$A:$M,7,FALSE) -> 0 | J5: =VLOOKUP($E5,'Tabela de Códigos e Valores'!$A:$M,8,FALSE) -> 0 | K5: 280 | L5: =IFERROR(VLOOKUP(E5,'Indicadores Financeiros'!$A$90:$J$92,10,FALSE),0) -> 0 | M5: =VLOOKUP($E5,'Tabela de Códigos e Valores'!$A:$Z,16,FALSE) -> 0 | N5: =VLOOKUP($E5,'Tabela de Códigos e Valores'!$A:$Z,17,FALSE) -> 0 | O5: =VLOOKUP($E5,'Tabela de Códigos e Valores'!$A:$AAB,28,FALSE) -> 0 | P5: =ROUND(IF($G5<>"M2",IF(VLOOKUP($E5,'Tabela de Códigos e Valores'!$A:$J,10,FALSE)*6%>=VLOOKUP('Relatório Custo'!$A5,'Indicadores Financeiros'!$A$127:$I$131,9,FALSE)*'Relatório Custo'!I5,0,VLOOKUP('Relatório Custo'!$A5,'Indicadores Financeiros'!$A$127:$I$131,9,FALSE)*'Relatório Custo'!I5-VLOOKUP($E5,'Tabela de Códigos e Valores'!$A:$J,10,FALSE)*6%),0),2) -> 0 | Q5: =VLOOKUP($E5,'Tabela de Códigos e Valores'!$A:$AAC,30,FALSE) -> 0 | R5: =ROUND(ROUND(($M5+$N5+$O5+$P5+$Q5),2)*VLOOKUP($E5,'Tabela de Códigos e Valores'!$A:$AE,31,FALSE)/(1-VLOOKUP($E5,'Tabela de Códigos e Valores'!$A:$AE,31,FALSE)),2) -> 0 | S5: =SUM(L5:R5) -> 0 | T5: =VLOOKUP($A5,'Indicadores Financeiros'!$A$127:$J$131,8,FALSE) -> 0.0204 | U5: =ROUND(S5*(1+T5),2) -> 0 | V5: =ROUND(U5*K5,2) -> 0 | W5: =VLOOKUP($A5,'Indicadores Financeiros'!$A$127:$J$131,10) -> 1 | X5: =U5*IF(H5="Mensal",('Indicadores Financeiros'!$F$14-W5+1),IF(H5="Trimestral",INT(('Indicadores Financeiros'!$F$14-W5+1)/3),INT(('Indicadores Financeiros'!$F$14-W5+1)/12)))*K5 -> 0 | Z5: =IF(G5="Posto",M5,0)*K5 -> 0 | AA5: =ROUND('Indicadores Financeiros'!$J$71*$Z5,4) -> 0 | AC5: =ROUND(IF(OR($G5="Posto",$G5="Plantão"),$U5/$I5,0),2) -> 0 | AD5: =IF(G5="m2",0,ROUND((ROUND(VLOOKUP($E5,'Tabela de Códigos e Valores'!$A:$AB,26,FALSE)/I5,2)+ROUND(P5/I5,2)+ROUND(M5*'Indicadores Financeiros'!$J$61/I5,2)+ROUND(R5/I5,2))*(1+T5),2)) -> 0 | AE5: =IF(G5="posto",IF(OR(E5=690018,E5=690019),'Indicadores Financeiros'!$J$108,IF(OR(E5=690002,E5=690016,E5=690019,E5=690035,E5=690038,E5=690064),'Indicadores Financeiros'!$G$108/2*(1+T5),'Indicadores Financeiros'!$G$108*(1+T5))),0) -> 0
A6: 1 | B6: =VLOOKUP($A6,'Indicadores Financeiros'!$A$127:$J$229,2,FALSE) -> 316 | C6: =VLOOKUP($A6,'Indicadores Financeiros'!$A$127:$J$229,3,FALSE) -> São Paulo - Fórum Fazenda Pública - Hely Lopes Meirelles | D6: =VLOOKUP($B6,BIP!A:E,5,FALSE) -> São Paulo | E6: 690029 | F6: =VLOOKUP($E6,'Tabela de Códigos e Valores'!$A:$M,2,FALSE) -> Serviço de limpeza de vidros sem exposição à situação de risco | G6: =VLOOKUP($E6,'Tabela de Códigos e Valores'!$A:$M,5,FALSE) -> M2 | H6: =VLOOKUP($E6,'Tabela de Códigos e Valores'!$A:$M,6,FALSE) -> Trimestral | I6: =VLOOKUP($E6,'Tabela de Códigos e Valores'!$A:$M,7,FALSE) -> 0 | J6: =VLOOKUP($E6,'Tabela de Códigos e Valores'!$A:$M,8,FALSE) -> 0 | K6: 3556 | L6: =IFERROR(VLOOKUP(E6,'Indicadores Financeiros'!$A$90:$J$92,10,FALSE),0) -> 0 | M6: =VLOOKUP($E6,'Tabela de Códigos e Valores'!$A:$Z,16,FALSE) -> 0 | N6: =VLOOKUP($E6,'Tabela de Códigos e Valores'!$A:$Z,17,FALSE) -> 0 | O6: =VLOOKUP($E6,'Tabela de Códigos e Valores'!$A:$AAB,28,FALSE) -> 0 | P6: =ROUND(IF($G6<>"M2",IF(VLOOKUP($E6,'Tabela de Códigos e Valores'!$A:$J,10,FALSE)*6%>=VLOOKUP('Relatório Custo'!$A6,'Indicadores Financeiros'!$A$127:$I$131,9,FALSE)*'Relatório Custo'!I6,0,VLOOKUP('Relatório Custo'!$A6,'Indicadores Financeiros'!$A$127:$I$131,9,FALSE)*'Relatório Custo'!I6-VLOOKUP($E6,'Tabela de Códigos e Valores'!$A:$J,10,FALSE)*6%),0),2) -> 0 | Q6: =VLOOKUP($E6,'Tabela de Códigos e Valores'!$A:$AAC,30,FALSE) -> 0 | R6: =ROUND(ROUND(($M6+$N6+$O6+$P6+$Q6),2)*VLOOKUP($E6,'Tabela de Códigos e Valores'!$A:$AE,31,FALSE)/(1-VLOOKUP($E6,'Tabela de Códigos e Valores'!$A:$AE,31,FALSE)),2) -> 0 | S6: =SUM(L6:R6) -> 0 | T6: =VLOOKUP($A6,'Indicadores Financeiros'!$A$127:$J$131,8,FALSE) -> 0.0204 | U6: =ROUND(S6*(1+T6),2) -> 0 | V6: =ROUND(U6*K6,2) -> 0 | W6: =VLOOKUP($A6,'Indicadores Financeiros'!$A$127:$J$131,10) -> 1 | X6: =U6*IF(H6="Mensal",('Indicadores Financeiros'!$F$14-W6+1),IF(H6="Trimestral",INT(('Indicadores Financeiros'!$F$14-W6+1)/3),INT(('Indicadores Financeiros'!$F$14-W6+1)/12)))*K6 -> 0 | Z6: =IF(G6="Posto",M6,0)*K6 -> 0 | AA6: =ROUND('Indicadores Financeiros'!$J$71*$Z6,4) -> 0 | AC6: =ROUND(IF(OR($G6="Posto",$G6="Plantão"),$U6/$I6,0),2) -> 0 | AD6: =IF(G6="m2",0,ROUND((ROUND(VLOOKUP($E6,'Tabela de Códigos e Valores'!$A:$AB,26,FALSE)/I6,2)+ROUND(P6/I6,2)+ROUND(M6*'Indicadores Financeiros'!$J$61/I6,2)+ROUND(R6/I6,2))*(1+T6),2)) -> 0 | AE6: =IF(G6="posto",IF(OR(E6=690018,E6=690019),'Indicadores Financeiros'!$J$108,IF(OR(E6=690002,E6=690016,E6=690019,E6=690035,E6=690038,E6=690064),'Indicadores Financeiros'!$G$108/2*(1+T6),'Indicadores Financeiros'!$G$108*(1+T6))),0) -> 0
A7: 1 | B7: =VLOOKUP($A7,'Indicadores Financeiros'!$A$127:$J$229,2,FALSE) -> 316 | C7: =VLOOKUP($A7,'Indicadores Financeiros'!$A$127:$J$229,3,FALSE) -> São Paulo - Fórum Fazenda Pública - Hely Lopes Meirelles | D7: =VLOOKUP($B7,BIP!A:E,5,FALSE) -> São Paulo | E7: 690037 | F7: =VLOOKUP($E7,'Tabela de Códigos e Valores'!$A:$M,2,FALSE) -> Agente de Higienização (Tempo Integral) - (40%) - 44 horas semanais | G7: =VLOOKUP($E7,'Tabela de Códigos e Valores'!$A:$M,5,FALSE) -> Posto | H7: =VLOOKUP($E7,'Tabela de Códigos e Valores'!$A:$M,6,FALSE) -> Mensal | I7: =VLOOKUP($E7,'Tabela de Códigos e Valores'!$A:$M,7,FALSE) -> 21 | J7: =VLOOKUP($E7,'Tabela de Códigos e Valores'!$A:$M,8,FALSE) -> 0 | K7: 6 | L7: =IFERROR(VLOOKUP(E7,'Indicadores Financeiros'!$A$90:$J$92,10,FALSE),0) -> 0 | M7: =VLOOKUP($E7,'Tabela de Códigos e Valores'!$A:$Z,16,FALSE) -> 0 | N7: =VLOOKUP($E7,'Tabela de Códigos e Valores'!$A:$Z,17,FALSE) -> 0 | O7: =VLOOKUP($E7,'Tabela de Códigos e Valores'!$A:$AAB,28,FALSE) -> 0 | P7: =ROUND(IF($G7<>"M2",IF(VLOOKUP($E7,'Tabela de Códigos e Valores'!$A:$J,10,FALSE)*6%>=VLOOKUP('Relatório Custo'!$A7,'Indicadores Financeiros'!$A$127:$I$131,9,FALSE)*'Relatório Custo'!I7,0,VLOOKUP('Relatório Custo'!$A7,'Indicadores Financeiros'!$A$127:$I$131,9,FALSE)*'Relatório Custo'!I7-VLOOKUP($E7,'Tabela de Códigos e Valores'!$A:$J,10,FALSE)*6%),0),2) -> 0 | Q7: =VLOOKUP($E7,'Tabela de Códigos e Valores'!$A:$AAC,30,FALSE) -> 0 | R7: =ROUND(ROUND(($M7+$N7+$O7+$P7+$Q7),2)*VLOOKUP($E7,'Tabela de Códigos e Valores'!$A:$AE,31,FALSE)/(1-VLOOKUP($E7,'Tabela de Códigos e Valores'!$A:$AE,31,FALSE)),2) -> 0 | S7: =SUM(L7:R7) -> 0 | T7: =VLOOKUP($A7,'Indicadores Financeiros'!$A$127:$J$131,8,FALSE) -> 0.0204 | U7: =ROUND(S7*(1+T7),2) -> 0 | V7: =ROUND(U7*K7,2) -> 0 | W7: =VLOOKUP($A7,'Indicadores Financeiros'!$A$127:$J$131,10) -> 1 | X7: =U7*IF(H7="Mensal",('Indicadores Financeiros'!$F$14-W7+1),IF(H7="Trimestral",INT(('Indicadores Financeiros'!$F$14-W7+1)/3),INT(('Indicadores Financeiros'!$F$14-W7+1)/12)))*K7 -> 0 | Z7: =IF(G7="Posto",M7,0)*K7 -> 0 | AA7: =ROUND('Indicadores Financeiros'!$J$71*$Z7,4) -> 0 | AC7: =ROUND(IF(OR($G7="Posto",$G7="Plantão"),$U7/$I7,0),2) -> 0 | AD7: =ROUND((ROUND(VLOOKUP($E7,'Tabela de Códigos e Valores'!$A:$AB,26,FALSE)/I7,2)+ROUND(P7/I7,2)+ROUND(M7*'Indicadores Financeiros'!$J$61/I7,2)+ROUND(R7/I7,2))*(1+T7),2) -> 0 | AE7: =IF(G7="posto",IF(OR(E7=690018,E7=690019),'Indicadores Financeiros'!$J$108,IF(OR(E7=690002,E7=690016,E7=690019,E7=690035,E7=690038,E7=690064),'Indicadores Financeiros'!$G$108/2*(1+T7),'Indicadores Financeiros'!$G$108*(1+T7))),0) -> 0
A8: 1 | B8: =VLOOKUP($A8,'Indicadores Financeiros'!$A$127:$J$229,2,FALSE) -> 316 | C8: =VLOOKUP($A8,'Indicadores Financeiros'!$A$127:$J$229,3,FALSE) -> São Paulo - Fórum Fazenda Pública - Hely Lopes Meirelles | D8: =VLOOKUP($B8,BIP!A:E,5,FALSE) -> São Paulo | E8: 690056 | F8: =VLOOKUP($E8,'Tabela de Códigos e Valores'!$A:$M,2,FALSE) -> Encarregado(a) 11 ou mais subordinados - diurno - 44 horas semanais | G8: =VLOOKUP($E8,'Tabela de Códigos e Valores'!$A:$M,5,FALSE) -> Posto | H8: =VLOOKUP($E8,'Tabela de Códigos e Valores'!$A:$M,6,FALSE) -> Mensal | I8: =VLOOKUP($E8,'Tabela de Códigos e Valores'!$A:$M,7,FALSE) -> 21 | J8: =VLOOKUP($E8,'Tabela de Códigos e Valores'!$A:$M,8,FALSE) -> 0 | K8: 1 | L8: =IFERROR(VLOOKUP(E8,'Indicadores Financeiros'!$A$90:$J$92,10,FALSE),0) -> 0 | M8: =VLOOKUP($E8,'Tabela de Códigos e Valores'!$A:$Z,16,FALSE) -> 0 | N8: =VLOOKUP($E8,'Tabela de Códigos e Valores'!$A:$Z,17,FALSE) -> 0 | O8: =VLOOKUP($E8,'Tabela de Códigos e Valores'!$A:$AAB,28,FALSE) -> 0 | P8: =ROUND(IF($G8<>"M2",IF(VLOOKUP($E8,'Tabela de Códigos e Valores'!$A:$J,10,FALSE)*6%>=VLOOKUP('Relatório Custo'!$A8,'Indicadores Financeiros'!$A$127:$I$131,9,FALSE)*'Relatório Custo'!I8,0,VLOOKUP('Relatório Custo'!$A8,'Indicadores Financeiros'!$A$127:$I$131,9,FALSE)*'Relatório Custo'!I8-VLOOKUP($E8,'Tabela de Códigos e Valores'!$A:$J,10,FALSE)*6%),0),2) -> 0 | Q8: =VLOOKUP($E8,'Tabela de Códigos e Valores'!$A:$AAC,30,FALSE) -> 0 | R8: =ROUND(ROUND(($M8+$N8+$O8+$P8+$Q8),2)*VLOOKUP($E8,'Tabela de Códigos e Valores'!$A:$AE,31,FALSE)/(1-VLOOKUP($E8,'Tabela de Códigos e Valores'!$A:$AE,31,FALSE)),2) -> 0 | S8: =SUM(L8:R8) -> 0 | T8: =VLOOKUP($A8,'Indicadores Financeiros'!$A$127:$J$131,8,FALSE) -> 0.0204 | U8: =ROUND(S8*(1+T8),2) -> 0 | V8: =ROUND(U8*K8,2) -> 0 | W8: =VLOOKUP($A8,'Indicadores Financeiros'!$A$127:$J$131,10) -> 1 | X8: =U8*IF(H8="Mensal",('Indicadores Financeiros'!$F$14-W8+1),IF(H8="Trimestral",INT(('Indicadores Financeiros'!$F$14-W8+1)/3),INT(('Indicadores Financeiros'!$F$14-W8+1)/12)))*K8 -> 0 | Z8: =IF(G8="Posto",M8,0)*K8 -> 0 | AA8: =ROUND('Indicadores Financeiros'!$J$71*$Z8,4) -> 0 | AC8: =ROUND(IF(OR($G8="Posto",$G8="Plantão"),$U8/$I8,0),2) -> 0 | AD8: =ROUND((ROUND(VLOOKUP($E8,'Tabela de Códigos e Valores'!$A:$AB,26,FALSE)/I8,2)+ROUND(P8/I8,2)+ROUND(M8*'Indicadores Financeiros'!$J$61/I8,2)+ROUND(R8/I8,2))*(1+T8),2) -> 0 | AE8: =IF(G8="posto",IF(OR(E8=690018,E8=690019),'Indicadores Financeiros'!$J$108,IF(OR(E8=690002,E8=690016,E8=690019,E8=690035,E8=690038,E8=690064),'Indicadores Financeiros'!$G$108/2*(1+T8),'Indicadores Financeiros'!$G$108*(1+T8))),0) -> 0
A9: 2 | B9: =VLOOKUP($A9,'Indicadores Financeiros'!$A$127:$J$229,2,FALSE) -> 339 | C9: =VLOOKUP($A9,'Indicadores Financeiros'!$A$127:$J$229,3,FALSE) -> São Paulo - Consolação EPM | D9: =VLOOKUP($B9,BIP!A:E,5,FALSE) -> São Paulo | E9: 690001 | F9: =VLOOKUP($E9,'Tabela de Códigos e Valores'!$A:$M,2,FALSE) -> Auxiliar de limpeza - diurno - 44 horas semanais (segunda a sexta-feira) | G9: =VLOOKUP($E9,'Tabela de Códigos e Valores'!$A:$M,5,FALSE) -> Posto | H9: =VLOOKUP($E9,'Tabela de Códigos e Valores'!$A:$M,6,FALSE) -> Mensal | I9: =VLOOKUP($E9,'Tabela de Códigos e Valores'!$A:$M,7,FALSE) -> 21 | J9: =VLOOKUP($E9,'Tabela de Códigos e Valores'!$A:$M,8,FALSE) -> 0 | K9: 15 | L9: =IFERROR(VLOOKUP(E9,'Indicadores Financeiros'!$A$90:$J$92,10,FALSE),0) -> 0 | M9: =VLOOKUP($E9,'Tabela de Códigos e Valores'!$A:$Z,16,FALSE) -> 0 | N9: =VLOOKUP($E9,'Tabela de Códigos e Valores'!$A:$Z,17,FALSE) -> 0 | O9: =VLOOKUP($E9,'Tabela de Códigos e Valores'!$A:$AAB,28,FALSE) -> 0 | P9: =ROUND(IF($G9<>"M2",IF(VLOOKUP($E9,'Tabela de Códigos e Valores'!$A:$J,10,FALSE)*6%>=VLOOKUP('Relatório Custo'!$A9,'Indicadores Financeiros'!$A$127:$I$131,9,FALSE)*'Relatório Custo'!I9,0,VLOOKUP('Relatório Custo'!$A9,'Indicadores Financeiros'!$A$127:$I$131,9,FALSE)*'Relatório Custo'!I9-VLOOKUP($E9,'Tabela de Códigos e Valores'!$A:$J,10,FALSE)*6%),0),2) -> 0 | Q9: =VLOOKUP($E9,'Tabela de Códigos e Valores'!$A:$AAC,30,FALSE) -> 0 | R9: =ROUND(ROUND(($M9+$N9+$O9+$P9+$Q9),2)*VLOOKUP($E9,'Tabela de Códigos e Valores'!$A:$AE,31,FALSE)/(1-VLOOKUP($E9,'Tabela de Códigos e Valores'!$A:$AE,31,FALSE)),2) -> 0 | S9: =SUM(L9:R9) -> 0 | T9: =VLOOKUP($A9,'Indicadores Financeiros'!$A$127:$J$131,8,FALSE) -> 0.0204 | U9: =ROUND(S9*(1+T9),2) -> 0 | V9: =ROUND(U9*K9,2) -> 0 | W9: =VLOOKUP($A9,'Indicadores Financeiros'!$A$127:$J$131,10) -> 1 | X9: =U9*IF(H9="Mensal",('Indicadores Financeiros'!$F$14-W9+1),IF(H9="Trimestral",INT(('Indicadores Financeiros'!$F$14-W9+1)/3),INT(('Indicadores Financeiros'!$F$14-W9+1)/12)))*K9 -> 0 | Z9: =IF(G9="Posto",M9,0)*K9 -> 0 | AA9: =ROUND('Indicadores Financeiros'!$J$71*$Z9,4) -> 0 | AC9: =ROUND(IF(OR($G9="Posto",$G9="Plantão"),$U9/$I9,0),2) -> 0 | AD9: =ROUND((ROUND(VLOOKUP($E9,'Tabela de Códigos e Valores'!$A:$AB,26,FALSE)/I9,2)+ROUND(P9/I9,2)+ROUND(M9*'Indicadores Financeiros'!$J$61/I9,2)+ROUND(R9/I9,2))*(1+T9),2) -> 0 | AE9: =IF(G9="posto",IF(OR(E9=690018,E9=690019),'Indicadores Financeiros'!$J$108,IF(OR(E9=690002,E9=690016,E9=690019,E9=690035,E9=690038,E9=690064),'Indicadores Financeiros'!$G$108/2*(1+T9),'Indicadores Financeiros'!$G$108*(1+T9))),0) -> 0
A10: 2 | B10: =VLOOKUP($A10,'Indicadores Financeiros'!$A$127:$J$229,2,FALSE) -> 339 | C10: =VLOOKUP($A10,'Indicadores Financeiros'!$A$127:$J$229,3,FALSE) -> São Paulo - Consolação EPM | D10: =VLOOKUP($B10,BIP!A:E,5,FALSE) -> São Paulo | E10: 690020 | F10: =VLOOKUP($E10,'Tabela de Códigos e Valores'!$A:$M,2,FALSE) -> Serviço de Jardinagem | G10: =VLOOKUP($E10,'Tabela de Códigos e Valores'!$A:$M,5,FALSE) -> M2 | H10: =VLOOKUP($E10,'Tabela de Códigos e Valores'!$A:$M,6,FALSE) -> Mensal | I10: =VLOOKUP($E10,'Tabela de Códigos e Valores'!$A:$M,7,FALSE) -> 0 | J10: =VLOOKUP($E10,'Tabela de Códigos e Valores'!$A:$M,8,FALSE) -> 0 | K10: 100 | L10: =IFERROR(VLOOKUP(E10,'Indicadores Financeiros'!$A$90:$J$92,10,FALSE),0) -> 0 | M10: =VLOOKUP($E10,'Tabela de Códigos e Valores'!$A:$Z,16,FALSE) -> 0 | N10: =VLOOKUP($E10,'Tabela de Códigos e Valores'!$A:$Z,17,FALSE) -> 0 | O10: =VLOOKUP($E10,'Tabela de Códigos e Valores'!$A:$AAB,28,FALSE) -> 0 | P10: =ROUND(IF($G10<>"M2",IF(VLOOKUP($E10,'Tabela de Códigos e Valores'!$A:$J,10,FALSE)*6%>=VLOOKUP('Relatório Custo'!$A10,'Indicadores Financeiros'!$A$127:$I$131,9,FALSE)*'Relatório Custo'!I10,0,VLOOKUP('Relatório Custo'!$A10,'Indicadores Financeiros'!$A$127:$I$131,9,FALSE)*'Relatório Custo'!I10-VLOOKUP($E10,'Tabela de Códigos e Valores'!$A:$J,10,FALSE)*6%),0),2) -> 0 | Q10: =VLOOKUP($E10,'Tabela de Códigos e Valores'!$A:$AAC,30,FALSE) -> 0 | R10: =ROUND(ROUND(($M10+$N10+$O10+$P10+$Q10),2)*VLOOKUP($E10,'Tabela de Códigos e Valores'!$A:$AE,31,FALSE)/(1-VLOOKUP($E10,'Tabela de Códigos e Valores'!$A:$AE,31,FALSE)),2) -> 0 | S10: =SUM(L10:R10) -> 0 | T10: =VLOOKUP($A10,'Indicadores Financeiros'!$A$127:$J$131,8,FALSE) -> 0.0204 | U10: =ROUND(S10*(1+T10),2) -> 0 | V10: =ROUND(U10*K10,2) -> 0 | W10: =VLOOKUP($A10,'Indicadores Financeiros'!$A$127:$J$131,10) -> 1 | X10: =U10*IF(H10="Mensal",('Indicadores Financeiros'!$F$14-W10+1),IF(H10="Trimestral",INT(('Indicadores Financeiros'!$F$14-W10+1)/3),INT(('Indicadores Financeiros'!$F$14-W10+1)/12)))*K10 -> 0 | Z10: =IF(G10="Posto",M10,0)*K10 -> 0 | AA10: =ROUND('Indicadores Financeiros'!$J$71*$Z10,4) -> 0 | AC10: =ROUND(IF(OR($G10="Posto",$G10="Plantão"),$U10/$I10,0),2) -> 0 | AD10: =IF(G10="m2",0,ROUND((ROUND(VLOOKUP($E10,'Tabela de Códigos e Valores'!$A:$AB,26,FALSE)/I10,2)+ROUND(P10/I10,2)+ROUND(M10*'Indicadores Financeiros'!$J$61/I10,2)+ROUND(R10/I10,2))*(1+T10),2)) -> 0 | AE10: =IF(G10="posto",IF(OR(E10=690018,E10=690019),'Indicadores Financeiros'!$J$108,IF(OR(E10=690002,E10=690016,E10=690019,E10=690035,E10=690038,E10=690064),'Indicadores Financeiros'!$G$108/2*(1+T10),'Indicadores Financeiros'!$G$108*(1+T10))),0) -> 0
A11: 2 | B11: =VLOOKUP($A11,'Indicadores Financeiros'!$A$127:$J$229,2,FALSE) -> 339 | C11: =VLOOKUP($A11,'Indicadores Financeiros'!$A$127:$J$229,3,FALSE) -> São Paulo - Consolação EPM | D11: =VLOOKUP($B11,BIP!A:E,5,FALSE) -> São Paulo | E11: 690021 | F11: =VLOOKUP($E11,'Tabela de Códigos e Valores'!$A:$M,2,FALSE) -> Serviço de limpeza de vidros com exposição à situação de risco | G11: =VLOOKUP($E11,'Tabela de Códigos e Valores'!$A:$M,5,FALSE) -> M2 | H11: =VLOOKUP($E11,'Tabela de Códigos e Valores'!$A:$M,6,FALSE) -> Trimestral | I11: =VLOOKUP($E11,'Tabela de Códigos e Valores'!$A:$M,7,FALSE) -> 0 | J11: =VLOOKUP($E11,'Tabela de Códigos e Valores'!$A:$M,8,FALSE) -> 0 | K11: 1900 | L11: =IFERROR(VLOOKUP(E11,'Indicadores Financeiros'!$A$90:$J$92,10,FALSE),0) -> 0 | M11: =VLOOKUP($E11,'Tabela de Códigos e Valores'!$A:$Z,16,FALSE) -> 0 | N11: =VLOOKUP($E11,'Tabela de Códigos e Valores'!$A:$Z,17,FALSE) -> 0 | O11: =VLOOKUP($E11,'Tabela de Códigos e Valores'!$A:$AAB,28,FALSE) -> 0 | P11: =ROUND(IF($G11<>"M2",IF(VLOOKUP($E11,'Tabela de Códigos e Valores'!$A:$J,10,FALSE)*6%>=VLOOKUP('Relatório Custo'!$A11,'Indicadores Financeiros'!$A$127:$I$131,9,FALSE)*'Relatório Custo'!I11,0,VLOOKUP('Relatório Custo'!$A11,'Indicadores Financeiros'!$A$127:$I$131,9,FALSE)*'Relatório Custo'!I11-VLOOKUP($E11,'Tabela de Códigos e Valores'!$A:$J,10,FALSE)*6%),0),2) -> 0 | Q11: =VLOOKUP($E11,'Tabela de Códigos e Valores'!$A:$AAC,30,FALSE) -> 0 | R11: =ROUND(ROUND(($M11+$N11+$O11+$P11+$Q11),2)*VLOOKUP($E11,'Tabela de Códigos e Valores'!$A:$AE,31,FALSE)/(1-VLOOKUP($E11,'Tabela de Códigos e Valores'!$A:$AE,31,FALSE)),2) -> 0 | S11: =SUM(L11:R11) -> 0 | T11: =VLOOKUP($A11,'Indicadores Financeiros'!$A$127:$J$131,8,FALSE) -> 0.0204 | U11: =ROUND(S11*(1+T11),2) -> 0 | V11: =ROUND(U11*K11,2) -> 0 | W11: =VLOOKUP($A11,'Indicadores Financeiros'!$A$127:$J$131,10) -> 1 | X11: =U11*IF(H11="Mensal",('Indicadores Financeiros'!$F$14-W11+1),IF(H11="Trimestral",INT(('Indicadores Financeiros'!$F$14-W11+1)/3),INT(('Indicadores Financeiros'!$F$14-W11+1)/12)))*K11 -> 0 | Z11: =IF(G11="Posto",M11,0)*K11 -> 0 | AA11: =ROUND('Indicadores Financeiros'!$J$71*$Z11,4) -> 0 | AC11: =ROUND(IF(OR($G11="Posto",$G11="Plantão"),$U11/$I11,0),2) -> 0 | AD11: =IF(G11="m2",0,ROUND((ROUND(VLOOKUP($E11,'Tabela de Códigos e Valores'!$A:$AB,26,FALSE)/I11,2)+ROUND(P11/I11,2)+ROUND(M11*'Indicadores Financeiros'!$J$61/I11,2)+ROUND(R11/I11,2))*(1+T11),2)) -> 0 | AE11: =IF(G11="posto",IF(OR(E11=690018,E11=690019),'Indicadores Financeiros'!$J$108,IF(OR(E11=690002,E11=690016,E11=690019,E11=690035,E11=690038,E11=690064),'Indicadores Financeiros'!$G$108/2*(1+T11),'Indicadores Financeiros'!$G$108*(1+T11))),0) -> 0
A12: 2 | B12: =VLOOKUP($A12,'Indicadores Financeiros'!$A$127:$J$229,2,FALSE) -> 339 | C12: =VLOOKUP($A12,'Indicadores Financeiros'!$A$127:$J$229,3,FALSE) -> São Paulo - Consolação EPM | D12: =VLOOKUP($B12,BIP!A:E,5,FALSE) -> São Paulo | E12: 690022 | F12: =VLOOKUP($E12,'Tabela de Códigos e Valores'!$A:$M,2,FALSE) -> Auxiliar de limpeza área médica - diurno - 44 horas semanais | G12: =VLOOKUP($E12,'Tabela de Códigos e Valores'!$A:$M,5,FALSE) -> Posto | H12: =VLOOKUP($E12,'Tabela de Códigos e Valores'!$A:$M,6,FALSE) -> Mensal | I12: =VLOOKUP($E12,'Tabela de Códigos e Valores'!$A:$M,7,FALSE) -> 21 | J12: =VLOOKUP($E12,'Tabela de Códigos e Valores'!$A:$M,8,FALSE) -> 0 | K12: 1 | L12: =IFERROR(VLOOKUP(E12,'Indicadores Financeiros'!$A$90:$J$92,10,FALSE),0) -> 0 | M12: =VLOOKUP($E12,'Tabela de Códigos e Valores'!$A:$Z,16,FALSE) -> 0 | N12: =VLOOKUP($E12,'Tabela de Códigos e Valores'!$A:$Z,17,FALSE) -> 0 | O12: =VLOOKUP($E12,'Tabela de Códigos e Valores'!$A:$AAB,28,FALSE) -> 0 | P12: =ROUND(IF($G12<>"M2",IF(VLOOKUP($E12,'Tabela de Códigos e Valores'!$A:$J,10,FALSE)*6%>=VLOOKUP('Relatório Custo'!$A12,'Indicadores Financeiros'!$A$127:$I$131,9,FALSE)*'Relatório Custo'!I12,0,VLOOKUP('Relatório Custo'!$A12,'Indicadores Financeiros'!$A$127:$I$131,9,FALSE)*'Relatório Custo'!I12-VLOOKUP($E12,'Tabela de Códigos e Valores'!$A:$J,10,FALSE)*6%),0),2) -> 0 | Q12: =VLOOKUP($E12,'Tabela de Códigos e Valores'!$A:$AAC,30,FALSE) -> 0 | R12: =ROUND(ROUND(($M12+$N12+$O12+$P12+$Q12),2)*VLOOKUP($E12,'Tabela de Códigos e Valores'!$A:$AE,31,FALSE)/(1-VLOOKUP($E12,'Tabela de Códigos e Valores'!$A:$AE,31,FALSE)),2) -> 0 | S12: =SUM(L12:R12) -> 0 | T12: =VLOOKUP($A12,'Indicadores Financeiros'!$A$127:$J$131,8,FALSE) -> 0.0204 | U12: =ROUND(S12*(1+T12),2) -> 0 | V12: =ROUND(U12*K12,2) -> 0 | W12: =VLOOKUP($A12,'Indicadores Financeiros'!$A$127:$J$131,10) -> 1 | X12: =U12*IF(H12="Mensal",('Indicadores Financeiros'!$F$14-W12+1),IF(H12="Trimestral",INT(('Indicadores Financeiros'!$F$14-W12+1)/3),INT(('Indicadores Financeiros'!$F$14-W12+1)/12)))*K12 -> 0 | Z12: =IF(G12="Posto",M12,0)*K12 -> 0 | AA12: =ROUND('Indicadores Financeiros'!$J$71*$Z12,4) -> 0 | AC12: =ROUND(IF(OR($G12="Posto",$G12="Plantão"),$U12/$I12,0),2) -> 0 | AD12: =ROUND((ROUND(VLOOKUP($E12,'Tabela de Códigos e Valores'!$A:$AB,26,FALSE)/I12,2)+ROUND(P12/I12,2)+ROUND(M12*'Indicadores Financeiros'!$J$61/I12,2)+ROUND(R12/I12,2))*(1+T12),2) -> 0 | AE12: =IF(G12="posto",IF(OR(E12=690018,E12=690019),'Indicadores Financeiros'!$J$108,IF(OR(E12=690002,E12=690016,E12=690019,E12=690035,E12=690038,E12=690064),'Indicadores Financeiros'!$G$108/2*(1+T12),'Indicadores Financeiros'!$G$108*(1+T12))),0) -> 0
A13: 2 | B13: =VLOOKUP($A13,'Indicadores Financeiros'!$A$127:$J$229,2,FALSE) -> 339 | C13: =VLOOKUP($A13,'Indicadores Financeiros'!$A$127:$J$229,3,FALSE) -> São Paulo - Consolação EPM | D13: =VLOOKUP($B13,BIP!A:E,5,FALSE) -> São Paulo | E13: 690037 | F13: =VLOOKUP($E13,'Tabela de Códigos e Valores'!$A:$M,2,FALSE) -> Agente de Higienização (Tempo Integral) - (40%) - 44 horas semanais | G13: =VLOOKUP($E13,'Tabela de Códigos e Valores'!$A:$M,5,FALSE) -> Posto | H13: =VLOOKUP($E13,'Tabela de Códigos e Valores'!$A:$M,6,FALSE) -> Mensal | I13: =VLOOKUP($E13,'Tabela de Códigos e Valores'!$A:$M,7,FALSE) -> 21 | J13: =VLOOKUP($E13,'Tabela de Códigos e Valores'!$A:$M,8,FALSE) -> 0 | K13: 2 | L13: =IFERROR(VLOOKUP(E13,'Indicadores Financeiros'!$A$90:$J$92,10,FALSE),0) -> 0 | M13: =VLOOKUP($E13,'Tabela de Códigos e Valores'!$A:$Z,16,FALSE) -> 0 | N13: =VLOOKUP($E13,'Tabela de Códigos e Valores'!$A:$Z,17,FALSE) -> 0 | O13: =VLOOKUP($E13,'Tabela de Códigos e Valores'!$A:$AAB,28,FALSE) -> 0 | P13: =ROUND(IF($G13<>"M2",IF(VLOOKUP($E13,'Tabela de Códigos e Valores'!$A:$J,10,FALSE)*6%>=VLOOKUP('Relatório Custo'!$A13,'Indicadores Financeiros'!$A$127:$I$131,9,FALSE)*'Relatório Custo'!I13,0,VLOOKUP('Relatório Custo'!$A13,'Indicadores Financeiros'!$A$127:$I$131,9,FALSE)*'Relatório Custo'!I13-VLOOKUP($E13,'Tabela de Códigos e Valores'!$A:$J,10,FALSE)*6%),0),2) -> 0 | Q13: =VLOOKUP($E13,'Tabela de Códigos e Valores'!$A:$AAC,30,FALSE) -> 0 | R13: =ROUND(ROUND(($M13+$N13+$O13+$P13+$Q13),2)*VLOOKUP($E13,'Tabela de Códigos e Valores'!$A:$AE,31,FALSE)/(1-VLOOKUP($E13,'Tabela de Códigos e Valores'!$A:$AE,31,FALSE)),2) -> 0 | S13: =SUM(L13:R13) -> 0 | T13: =VLOOKUP($A13,'Indicadores Financeiros'!$A$127:$J$131,8,FALSE) -> 0.0204 | U13: =ROUND(S13*(1+T13),2) -> 0 | V13: =ROUND(U13*K13,2) -> 0 | W13: =VLOOKUP($A13,'Indicadores Financeiros'!$A$127:$J$131,10) -> 1 | X13: =U13*IF(H13="Mensal",('Indicadores Financeiros'!$F$14-W13+1),IF(H13="Trimestral",INT(('Indicadores Financeiros'!$F$14-W13+1)/3),INT(('Indicadores Financeiros'!$F$14-W13+1)/12)))*K13 -> 0 | Z13: =IF(G13="Posto",M13,0)*K13 -> 0 | AA13: =ROUND('Indicadores Financeiros'!$J$71*$Z13,4) -> 0 | AC13: =ROUND(IF(OR($G13="Posto",$G13="Plantão"),$U13/$I13,0),2) -> 0 | AD13: =ROUND((ROUND(VLOOKUP($E13,'Tabela de Códigos e Valores'!$A:$AB,26,FALSE)/I13,2)+ROUND(P13/I13,2)+ROUND(M13*'Indicadores Financeiros'!$J$61/I13,2)+ROUND(R13/I13,2))*(1+T13),2) -> 0 | AE13: =IF(G13="posto",IF(OR(E13=690018,E13=690019),'Indicadores Financeiros'!$J$108,IF(OR(E13=690002,E13=690016,E13=690019,E13=690035,E13=690038,E13=690064),'Indicadores Financeiros'!$G$108/2*(1+T13),'Indicadores Financeiros'!$G$108*(1+T13))),0) -> 0
A14: 2 | B14: =VLOOKUP($A14,'Indicadores Financeiros'!$A$127:$J$229,2,FALSE) -> 339 | C14: =VLOOKUP($A14,'Indicadores Financeiros'!$A$127:$J$229,3,FALSE) -> São Paulo - Consolação EPM | D14: =VLOOKUP($B14,BIP!A:E,5,FALSE) -> São Paulo | E14: 690056 | F14: =VLOOKUP($E14,'Tabela de Códigos e Valores'!$A:$M,2,FALSE) -> Encarregado(a) 11 ou mais subordinados - diurno - 44 horas semanais | G14: =VLOOKUP($E14,'Tabela de Códigos e Valores'!$A:$M,5,FALSE) -> Posto | H14: =VLOOKUP($E14,'Tabela de Códigos e Valores'!$A:$M,6,FALSE) -> Mensal | I14: =VLOOKUP($E14,'Tabela de Códigos e Valores'!$A:$M,7,FALSE) -> 21 | J14: =VLOOKUP($E14,'Tabela de Códigos e Valores'!$A:$M,8,FALSE) -> 0 | K14: 1 | L14: =IFERROR(VLOOKUP(E14,'Indicadores Financeiros'!$A$90:$J$92,10,FALSE),0) -> 0 | M14: =VLOOKUP($E14,'Tabela de Códigos e Valores'!$A:$Z,16,FALSE) -> 0 | N14: =VLOOKUP($E14,'Tabela de Códigos e Valores'!$A:$Z,17,FALSE) -> 0 | O14: =VLOOKUP($E14,'Tabela de Códigos e Valores'!$A:$AAB,28,FALSE) -> 0 | P14: =ROUND(IF($G14<>"M2",IF(VLOOKUP($E14,'Tabela de Códigos e Valores'!$A:$J,10,FALSE)*6%>=VLOOKUP('Relatório Custo'!$A14,'Indicadores Financeiros'!$A$127:$I$131,9,FALSE)*'Relatório Custo'!I14,0,VLOOKUP('Relatório Custo'!$A14,'Indicadores Financeiros'!$A$127:$I$131,9,FALSE)*'Relatório Custo'!I14-VLOOKUP($E14,'Tabela de Códigos e Valores'!$A:$J,10,FALSE)*6%),0),2) -> 0 | Q14: =VLOOKUP($E14,'Tabela de Códigos e Valores'!$A:$AAC,30,FALSE) -> 0 | R14: =ROUND(ROUND(($M14+$N14+$O14+$P14+$Q14),2)*VLOOKUP($E14,'Tabela de Códigos e Valores'!$A:$AE,31,FALSE)/(1-VLOOKUP($E14,'Tabela de Códigos e Valores'!$A:$AE,31,FALSE)),2) -> 0 | S14: =SUM(L14:R14) -> 0 | T14: =VLOOKUP($A14,'Indicadores Financeiros'!$A$127:$J$131,8,FALSE) -> 0.0204 | U14: =ROUND(S14*(1+T14),2) -> 0 | V14: =ROUND(U14*K14,2) -> 0 | W14: =VLOOKUP($A14,'Indicadores Financeiros'!$A$127:$J$131,10) -> 1 | X14: =U14*IF(H14="Mensal",('Indicadores Financeiros'!$F$14-W14+1),IF(H14="Trimestral",INT(('Indicadores Financeiros'!$F$14-W14+1)/3),INT(('Indicadores Financeiros'!$F$14-W14+1)/12)))*K14 -> 0 | Z14: =IF(G14="Posto",M14,0)*K14 -> 0 | AA14: =ROUND('Indicadores Financeiros'!$J$71*$Z14,4) -> 0 | AC14: =ROUND(IF(OR($G14="Posto",$G14="Plantão"),$U14/$I14,0),2) -> 0 | AD14: =ROUND((ROUND(VLOOKUP($E14,'Tabela de Códigos e Valores'!$A:$AB,26,FALSE)/I14,2)+ROUND(P14/I14,2)+ROUND(M14*'Indicadores Financeiros'!$J$61/I14,2)+ROUND(R14/I14,2))*(1+T14),2) -> 0 | AE14: =IF(G14="posto",IF(OR(E14=690018,E14=690019),'Indicadores Financeiros'!$J$108,IF(OR(E14=690002,E14=690016,E14=690019,E14=690035,E14=690038,E14=690064),'Indicadores Financeiros'!$G$108/2*(1+T14),'Indicadores Financeiros'!$G$108*(1+T14))),0) -> 0
A15: 3 | B15: =VLOOKUP($A15,'Indicadores Financeiros'!$A$127:$J$229,2,FALSE) -> 629 | C15: =VLOOKUP($A15,'Indicadores Financeiros'!$A$127:$J$229,3,FALSE) -> São Paulo - JEC / JECRIM I - Central | D15: =VLOOKUP($B15,BIP!A:E,5,FALSE) -> São Paulo | E15: 690001 | F15: =VLOOKUP($E15,'Tabela de Códigos e Valores'!$A:$M,2,FALSE) -> Auxiliar de limpeza - diurno - 44 horas semanais (segunda a sexta-feira) | G15: =VLOOKUP($E15,'Tabela de Códigos e Valores'!$A:$M,5,FALSE) -> Posto | H15: =VLOOKUP($E15,'Tabela de Códigos e Valores'!$A:$M,6,FALSE) -> Mensal | I15: =VLOOKUP($E15,'Tabela de Códigos e Valores'!$A:$M,7,FALSE) -> 21 | J15: =VLOOKUP($E15,'Tabela de Códigos e Valores'!$A:$M,8,FALSE) -> 0 | K15: 3 | L15: =IFERROR(VLOOKUP(E15,'Indicadores Financeiros'!$A$90:$J$92,10,FALSE),0) -> 0 | M15: =VLOOKUP($E15,'Tabela de Códigos e Valores'!$A:$Z,16,FALSE) -> 0 | N15: =VLOOKUP($E15,'Tabela de Códigos e Valores'!$A:$Z,17,FALSE) -> 0 | O15: =VLOOKUP($E15,'Tabela de Códigos e Valores'!$A:$AAB,28,FALSE) -> 0 | P15: =ROUND(IF($G15<>"M2",IF(VLOOKUP($E15,'Tabela de Códigos e Valores'!$A:$J,10,FALSE)*6%>=VLOOKUP('Relatório Custo'!$A15,'Indicadores Financeiros'!$A$127:$I$131,9,FALSE)*'Relatório Custo'!I15,0,VLOOKUP('Relatório Custo'!$A15,'Indicadores Financeiros'!$A$127:$I$131,9,FALSE)*'Relatório Custo'!I15-VLOOKUP($E15,'Tabela de Códigos e Valores'!$A:$J,10,FALSE)*6%),0),2) -> 0 | Q15: =VLOOKUP($E15,'Tabela de Códigos e Valores'!$A:$AAC,30,FALSE) -> 0 | R15: =ROUND(ROUND(($M15+$N15+$O15+$P15+$Q15),2)*VLOOKUP($E15,'Tabela de Códigos e Valores'!$A:$AE,31,FALSE)/(1-VLOOKUP($E15,'Tabela de Códigos e Valores'!$A:$AE,31,FALSE)),2) -> 0 | S15: =SUM(L15:R15) -> 0 | T15: =VLOOKUP($A15,'Indicadores Financeiros'!$A$127:$J$131,8,FALSE) -> 0.0204 | U15: =ROUND(S15*(1+T15),2) -> 0 | V15: =ROUND(U15*K15,2) -> 0 | W15: =VLOOKUP($A15,'Indicadores Financeiros'!$A$127:$J$131,10) -> 1 | X15: =U15*IF(H15="Mensal",('Indicadores Financeiros'!$F$14-W15+1),IF(H15="Trimestral",INT(('Indicadores Financeiros'!$F$14-W15+1)/3),INT(('Indicadores Financeiros'!$F$14-W15+1)/12)))*K15 -> 0 | Z15: =IF(G15="Posto",M15,0)*K15 -> 0 | AA15: =ROUND('Indicadores Financeiros'!$J$71*$Z15,4) -> 0 | AC15: =ROUND(IF(OR($G15="Posto",$G15="Plantão"),$U15/$I15,0),2) -> 0 | AD15: =ROUND((ROUND(VLOOKUP($E15,'Tabela de Códigos e Valores'!$A:$AB,26,FALSE)/I15,2)+ROUND(P15/I15,2)+ROUND(M15*'Indicadores Financeiros'!$J$61/I15,2)+ROUND(R15/I15,2))*(1+T15),2) -> 0 | AE15: =IF(G15="posto",IF(OR(E15=690018,E15=690019),'Indicadores Financeiros'!$J$108,IF(OR(E15=690002,E15=690016,E15=690019,E15=690035,E15=690038,E15=690064),'Indicadores Financeiros'!$G$108/2*(1+T15),'Indicadores Financeiros'!$G$108*(1+T15))),0) -> 0
A16: 3 | B16: =VLOOKUP($A16,'Indicadores Financeiros'!$A$127:$J$229,2,FALSE) -> 629 | C16: =VLOOKUP($A16,'Indicadores Financeiros'!$A$127:$J$229,3,FALSE) -> São Paulo - JEC / JECRIM I - Central | D16: =VLOOKUP($B16,BIP!A:E,5,FALSE) -> São Paulo | E16: 690002 | F16: =VLOOKUP($E16,'Tabela de Códigos e Valores'!$A:$M,2,FALSE) -> Auxiliar de limpeza - diurno - 24 horas semanais | G16: =VLOOKUP($E16,'Tabela de Códigos e Valores'!$A:$M,5,FALSE) -> Posto | H16: =VLOOKUP($E16,'Tabela de Códigos e Valores'!$A:$M,6,FALSE) -> Mensal | I16: =VLOOKUP($E16,'Tabela de Códigos e Valores'!$A:$M,7,FALSE) -> 21 | J16: =VLOOKUP($E16,'Tabela de Códigos e Valores'!$A:$M,8,FALSE) -> 0 | K16: 1 | L16: =IFERROR(VLOOKUP(E16,'Indicadores Financeiros'!$A$90:$J$92,10,FALSE),0) -> 0 | M16: =VLOOKUP($E16,'Tabela de Códigos e Valores'!$A:$Z,16,FALSE) -> 0 | N16: =VLOOKUP($E16,'Tabela de Códigos e Valores'!$A:$Z,17,FALSE) -> 0 | O16: =VLOOKUP($E16,'Tabela de Códigos e Valores'!$A:$AAB,28,FALSE) -> 0 | P16: =ROUND(IF($G16<>"M2",IF(VLOOKUP($E16,'Tabela de Códigos e Valores'!$A:$J,10,FALSE)*6%>=VLOOKUP('Relatório Custo'!$A16,'Indicadores Financeiros'!$A$127:$I$131,9,FALSE)*'Relatório Custo'!I16,0,VLOOKUP('Relatório Custo'!$A16,'Indicadores Financeiros'!$A$127:$I$131,9,FALSE)*'Relatório Custo'!I16-VLOOKUP($E16,'Tabela de Códigos e Valores'!$A:$J,10,FALSE)*6%),0),2) -> 0 | Q16: =VLOOKUP($E16,'Tabela de Códigos e Valores'!$A:$AAC,30,FALSE) -> 0 | R16: =ROUND(ROUND(($M16+$N16+$O16+$P16+$Q16),2)*VLOOKUP($E16,'Tabela de Códigos e Valores'!$A:$AE,31,FALSE)/(1-VLOOKUP($E16,'Tabela de Códigos e Valores'!$A:$AE,31,FALSE)),2) -> 0 | S16: =SUM(L16:R16) -> 0 | T16: =VLOOKUP($A16,'Indicadores Financeiros'!$A$127:$J$131,8,FALSE) -> 0.0204 | U16: =ROUND(S16*(1+T16),2) -> 0 | V16: =ROUND(U16*K16,2) -> 0 | W16: =VLOOKUP($A16,'Indicadores Financeiros'!$A$127:$J$131,10) -> 1 | X16: =U16*IF(H16="Mensal",('Indicadores Financeiros'!$F$14-W16+1),IF(H16="Trimestral",INT(('Indicadores Financeiros'!$F$14-W16+1)/3),INT(('Indicadores Financeiros'!$F$14-W16+1)/12)))*K16 -> 0 | Z16: =IF(G16="Posto",M16,0)*K16 -> 0 | AA16: =ROUND('Indicadores Financeiros'!$J$71*$Z16,4) -> 0 | AC16: =ROUND(IF(OR($G16="Posto",$G16="Plantão"),$U16/$I16,0),2) -> 0 | AD16: =ROUND((ROUND(VLOOKUP($E16,'Tabela de Códigos e Valores'!$A:$AB,26,FALSE)/I16,2)+ROUND(P16/I16,2)+ROUND(M16*'Indicadores Financeiros'!$J$61/I16,2)+ROUND(R16/I16,2))*(1+T16),2) -> 0 | AE16: =IF(G16="posto",IF(OR(E16=690018,E16=690019),'Indicadores Financeiros'!$J$108,IF(OR(E16=690002,E16=690016,E16=690019,E16=690035,E16=690038,E16=690064),'Indicadores Financeiros'!$G$108/2*(1+T16),'Indicadores Financeiros'!$G$108*(1+T16))),0) -> 0
A17: 3 | B17: =VLOOKUP($A17,'Indicadores Financeiros'!$A$127:$J$229,2,FALSE) -> 629 | C17: =VLOOKUP($A17,'Indicadores Financeiros'!$A$127:$J$229,3,FALSE) -> São Paulo - JEC / JECRIM I - Central | D17: =VLOOKUP($B17,BIP!A:E,5,FALSE) -> São Paulo | E17: 690020 | F17: =VLOOKUP($E17,'Tabela de Códigos e Valores'!$A:$M,2,FALSE) -> Serviço de Jardinagem | G17: =VLOOKUP($E17,'Tabela de Códigos e Valores'!$A:$M,5,FALSE) -> M2 | H17: =VLOOKUP($E17,'Tabela de Códigos e Valores'!$A:$M,6,FALSE) -> Mensal | I17: =VLOOKUP($E17,'Tabela de Códigos e Valores'!$A:$M,7,FALSE) -> 0 | J17: =VLOOKUP($E17,'Tabela de Códigos e Valores'!$A:$M,8,FALSE) -> 0 | K17: 150 | L17: =IFERROR(VLOOKUP(E17,'Indicadores Financeiros'!$A$90:$J$92,10,FALSE),0) -> 0 | M17: =VLOOKUP($E17,'Tabela de Códigos e Valores'!$A:$Z,16,FALSE) -> 0 | N17: =VLOOKUP($E17,'Tabela de Códigos e Valores'!$A:$Z,17,FALSE) -> 0 | O17: =VLOOKUP($E17,'Tabela de Códigos e Valores'!$A:$AAB,28,FALSE) -> 0 | P17: =ROUND(IF($G17<>"M2",IF(VLOOKUP($E17,'Tabela de Códigos e Valores'!$A:$J,10,FALSE)*6%>=VLOOKUP('Relatório Custo'!$A17,'Indicadores Financeiros'!$A$127:$I$131,9,FALSE)*'Relatório Custo'!I17,0,VLOOKUP('Relatório Custo'!$A17,'Indicadores Financeiros'!$A$127:$I$131,9,FALSE)*'Relatório Custo'!I17-VLOOKUP($E17,'Tabela de Códigos e Valores'!$A:$J,10,FALSE)*6%),0),2) -> 0 | Q17: =VLOOKUP($E17,'Tabela de Códigos e Valores'!$A:$AAC,30,FALSE) -> 0 | R17: =ROUND(ROUND(($M17+$N17+$O17+$P17+$Q17),2)*VLOOKUP($E17,'Tabela de Códigos e Valores'!$A:$AE,31,FALSE)/(1-VLOOKUP($E17,'Tabela de Códigos e Valores'!$A:$AE,31,FALSE)),2) -> 0 | S17: =SUM(L17:R17) -> 0 | T17: =VLOOKUP($A17,'Indicadores Financeiros'!$A$127:$J$131,8,FALSE) -> 0.0204 | U17: =ROUND(S17*(1+T17),2) -> 0 | V17: =ROUND(U17*K17,2) -> 0 | W17: =VLOOKUP($A17,'Indicadores Financeiros'!$A$127:$J$131,10) -> 1 | X17: =U17*IF(H17="Mensal",('Indicadores Financeiros'!$F$14-W17+1),IF(H17="Trimestral",INT(('Indicadores Financeiros'!$F$14-W17+1)/3),INT(('Indicadores Financeiros'!$F$14-W17+1)/12)))*K17 -> 0 | Z17: =IF(G17="Posto",M17,0)*K17 -> 0 | AA17: =ROUND('Indicadores Financeiros'!$J$71*$Z17,4) -> 0 | AC17: =ROUND(IF(OR($G17="Posto",$G17="Plantão"),$U17/$I17,0),2) -> 0 | AD17: =IF(G17="m2",0,ROUND((ROUND(VLOOKUP($E17,'Tabela de Códigos e Valores'!$A:$AB,26,FALSE)/I17,2)+ROUND(P17/I17,2)+ROUND(M17*'Indicadores Financeiros'!$J$61/I17,2)+ROUND(R17/I17,2))*(1+T17),2)) -> 0 | AE17: =IF(G17="posto",IF(OR(E17=690018,E17=690019),'Indicadores Financeiros'!$J$108,IF(OR(E17=690002,E17=690016,E17=690019,E17=690035,E17=690038,E17=690064),'Indicadores Financeiros'!$G$108/2*(1+T17),'Indicadores Financeiros'!$G$108*(1+T17))),0) -> 0
A18: 3 | B18: =VLOOKUP($A18,'Indicadores Financeiros'!$A$127:$J$229,2,FALSE) -> 629 | C18: =VLOOKUP($A18,'Indicadores Financeiros'!$A$127:$J$229,3,FALSE) -> São Paulo - JEC / JECRIM I - Central | D18: =VLOOKUP($B18,BIP!A:E,5,FALSE) -> São Paulo | E18: 690021 | F18: =VLOOKUP($E18,'Tabela de Códigos e Valores'!$A:$M,2,FALSE) -> Serviço de limpeza de vidros com exposição à situação de risco | G18: =VLOOKUP($E18,'Tabela de Códigos e Valores'!$A:$M,5,FALSE) -> M2 | H18: =VLOOKUP($E18,'Tabela de Códigos e Valores'!$A:$M,6,FALSE) -> Trimestral | I18: =VLOOKUP($E18,'Tabela de Códigos e Valores'!$A:$M,7,FALSE) -> 0 | J18: =VLOOKUP($E18,'Tabela de Códigos e Valores'!$A:$M,8,FALSE) -> 0 | K18: 790 | L18: =IFERROR(VLOOKUP(E18,'Indicadores Financeiros'!$A$90:$J$92,10,FALSE),0) -> 0 | M18: =VLOOKUP($E18,'Tabela de Códigos e Valores'!$A:$Z,16,FALSE) -> 0 | N18: =VLOOKUP($E18,'Tabela de Códigos e Valores'!$A:$Z,17,FALSE) -> 0 | O18: =VLOOKUP($E18,'Tabela de Códigos e Valores'!$A:$AAB,28,FALSE) -> 0 | P18: =ROUND(IF($G18<>"M2",IF(VLOOKUP($E18,'Tabela de Códigos e Valores'!$A:$J,10,FALSE)*6%>=VLOOKUP('Relatório Custo'!$A18,'Indicadores Financeiros'!$A$127:$I$131,9,FALSE)*'Relatório Custo'!I18,0,VLOOKUP('Relatório Custo'!$A18,'Indicadores Financeiros'!$A$127:$I$131,9,FALSE)*'Relatório Custo'!I18-VLOOKUP($E18,'Tabela de Códigos e Valores'!$A:$J,10,FALSE)*6%),0),2) -> 0 | Q18: =VLOOKUP($E18,'Tabela de Códigos e Valores'!$A:$AAC,30,FALSE) -> 0 | R18: =ROUND(ROUND(($M18+$N18+$O18+$P18+$Q18),2)*VLOOKUP($E18,'Tabela de Códigos e Valores'!$A:$AE,31,FALSE)/(1-VLOOKUP($E18,'Tabela de Códigos e Valores'!$A:$AE,31,FALSE)),2) -> 0 | S18: =SUM(L18:R18) -> 0 | T18: =VLOOKUP($A18,'Indicadores Financeiros'!$A$127:$J$131,8,FALSE) -> 0.0204 | U18: =ROUND(S18*(1+T18),2) -> 0 | V18: =ROUND(U18*K18,2) -> 0 | W18: =VLOOKUP($A18,'Indicadores Financeiros'!$A$127:$J$131,10) -> 1 | X18: =U18*IF(H18="Mensal",('Indicadores Financeiros'!$F$14-W18+1),IF(H18="Trimestral",INT(('Indicadores Financeiros'!$F$14-W18+1)/3),INT(('Indicadores Financeiros'!$F$14-W18+1)/12)))*K18 -> 0 | Z18: =IF(G18="Posto",M18,0)*K18 -> 0 | AA18: =ROUND('Indicadores Financeiros'!$J$71*$Z18,4) -> 0 | AC18: =ROUND(IF(OR($G18="Posto",$G18="Plantão"),$U18/$I18,0),2) -> 0 | AD18: =IF(G18="m2",0,ROUND((ROUND(VLOOKUP($E18,'Tabela de Códigos e Valores'!$A:$AB,26,FALSE)/I18,2)+ROUND(P18/I18,2)+ROUND(M18*'Indicadores Financeiros'!$J$61/I18,2)+ROUND(R18/I18,2))*(1+T18),2)) -> 0 | AE18: =IF(G18="posto",IF(OR(E18=690018,E18=690019),'Indicadores Financeiros'!$J$108,IF(OR(E18=690002,E18=690016,E18=690019,E18=690035,E18=690038,E18=690064),'Indicadores Financeiros'!$G$108/2*(1+T18),'Indicadores Financeiros'!$G$108*(1+T18))),0) -> 0
A19: 3 | B19: =VLOOKUP($A19,'Indicadores Financeiros'!$A$127:$J$229,2,FALSE) -> 629 | C19: =VLOOKUP($A19,'Indicadores Financeiros'!$A$127:$J$229,3,FALSE) -> São Paulo - JEC / JECRIM I - Central | D19: =VLOOKUP($B19,BIP!A:E,5,FALSE) -> São Paulo | E19: 690029 | F19: =VLOOKUP($E19,'Tabela de Códigos e Valores'!$A:$M,2,FALSE) -> Serviço de limpeza de vidros sem exposição à situação de risco | G19: =VLOOKUP($E19,'Tabela de Códigos e Valores'!$A:$M,5,FALSE) -> M2 | H19: =VLOOKUP($E19,'Tabela de Códigos e Valores'!$A:$M,6,FALSE) -> Trimestral | I19: =VLOOKUP($E19,'Tabela de Códigos e Valores'!$A:$M,7,FALSE) -> 0 | J19: =VLOOKUP($E19,'Tabela de Códigos e Valores'!$A:$M,8,FALSE) -> 0 | K19: 120 | L19: =IFERROR(VLOOKUP(E19,'Indicadores Financeiros'!$A$90:$J$92,10,FALSE),0) -> 0 | M19: =VLOOKUP($E19,'Tabela de Códigos e Valores'!$A:$Z,16,FALSE) -> 0 | N19: =VLOOKUP($E19,'Tabela de Códigos e Valores'!$A:$Z,17,FALSE) -> 0 | O19: =VLOOKUP($E19,'Tabela de Códigos e Valores'!$A:$AAB,28,FALSE) -> 0 | P19: =ROUND(IF($G19<>"M2",IF(VLOOKUP($E19,'Tabela de Códigos e Valores'!$A:$J,10,FALSE)*6%>=VLOOKUP('Relatório Custo'!$A19,'Indicadores Financeiros'!$A$127:$I$131,9,FALSE)*'Relatório Custo'!I19,0,VLOOKUP('Relatório Custo'!$A19,'Indicadores Financeiros'!$A$127:$I$131,9,FALSE)*'Relatório Custo'!I19-VLOOKUP($E19,'Tabela de Códigos e Valores'!$A:$J,10,FALSE)*6%),0),2) -> 0 | Q19: =VLOOKUP($E19,'Tabela de Códigos e Valores'!$A:$AAC,30,FALSE) -> 0 | R19: =ROUND(ROUND(($M19+$N19+$O19+$P19+$Q19),2)*VLOOKUP($E19,'Tabela de Códigos e Valores'!$A:$AE,31,FALSE)/(1-VLOOKUP($E19,'Tabela de Códigos e Valores'!$A:$AE,31,FALSE)),2) -> 0 | S19: =SUM(L19:R19) -> 0 | T19: =VLOOKUP($A19,'Indicadores Financeiros'!$A$127:$J$131,8,FALSE) -> 0.0204 | U19: =ROUND(S19*(1+T19),2) -> 0 | V19: =ROUND(U19*K19,2) -> 0 | W19: =VLOOKUP($A19,'Indicadores Financeiros'!$A$127:$J$131,10) -> 1 | X19: =U19*IF(H19="Mensal",('Indicadores Financeiros'!$F$14-W19+1),IF(H19="Trimestral",INT(('Indicadores Financeiros'!$F$14-W19+1)/3),INT(('Indicadores Financeiros'!$F$14-W19+1)/12)))*K19 -> 0 | Z19: =IF(G19="Posto",M19,0)*K19 -> 0 | AA19: =ROUND('Indicadores Financeiros'!$J$71*$Z19,4) -> 0 | AC19: =ROUND(IF(OR($G19="Posto",$G19="Plantão"),$U19/$I19,0),2) -> 0 | AD19: =IF(G19="m2",0,ROUND((ROUND(VLOOKUP($E19,'Tabela de Códigos e Valores'!$A:$AB,26,FALSE)/I19,2)+ROUND(P19/I19,2)+ROUND(M19*'Indicadores Financeiros'!$J$61/I19,2)+ROUND(R19/I19,2))*(1+T19),2)) -> 0 | AE19: =IF(G19="posto",IF(OR(E19=690018,E19=690019),'Indicadores Financeiros'!$J$108,IF(OR(E19=690002,E19=690016,E19=690019,E19=690035,E19=690038,E19=690064),'Indicadores Financeiros'!$G$108/2*(1+T19),'Indicadores Financeiros'!$G$108*(1+T19))),0) -> 0
A20: 3 | B20: =VLOOKUP($A20,'Indicadores Financeiros'!$A$127:$J$229,2,FALSE) -> 629 | C20: =VLOOKUP($A20,'Indicadores Financeiros'!$A$127:$J$229,3,FALSE) -> São Paulo - JEC / JECRIM I - Central | D20: =VLOOKUP($B20,BIP!A:E,5,FALSE) -> São Paulo | E20: 690037 | F20: =VLOOKUP($E20,'Tabela de Códigos e Valores'!$A:$M,2,FALSE) -> Agente de Higienização (Tempo Integral) - (40%) - 44 horas semanais | G20: =VLOOKUP($E20,'Tabela de Códigos e Valores'!$A:$M,5,FALSE) -> Posto | H20: =VLOOKUP($E20,'Tabela de Códigos e Valores'!$A:$M,6,FALSE) -> Mensal | I20: =VLOOKUP($E20,'Tabela de Códigos e Valores'!$A:$M,7,FALSE) -> 21 | J20: =VLOOKUP($E20,'Tabela de Códigos e Valores'!$A:$M,8,FALSE) -> 0 | K20: 1 | L20: =IFERROR(VLOOKUP(E20,'Indicadores Financeiros'!$A$90:$J$92,10,FALSE),0) -> 0 | M20: =VLOOKUP($E20,'Tabela de Códigos e Valores'!$A:$Z,16,FALSE) -> 0 | N20: =VLOOKUP($E20,'Tabela de Códigos e Valores'!$A:$Z,17,FALSE) -> 0 | O20: =VLOOKUP($E20,'Tabela de Códigos e Valores'!$A:$AAB,28,FALSE) -> 0 | P20: =ROUND(IF($G20<>"M2",IF(VLOOKUP($E20,'Tabela de Códigos e Valores'!$A:$J,10,FALSE)*6%>=VLOOKUP('Relatório Custo'!$A20,'Indicadores Financeiros'!$A$127:$I$131,9,FALSE)*'Relatório Custo'!I20,0,VLOOKUP('Relatório Custo'!$A20,'Indicadores Financeiros'!$A$127:$I$131,9,FALSE)*'Relatório Custo'!I20-VLOOKUP($E20,'Tabela de Códigos e Valores'!$A:$J,10,FALSE)*6%),0),2) -> 0 | Q20: =VLOOKUP($E20,'Tabela de Códigos e Valores'!$A:$AAC,30,FALSE) -> 0 | R20: =ROUND(ROUND(($M20+$N20+$O20+$P20+$Q20),2)*VLOOKUP($E20,'Tabela de Códigos e Valores'!$A:$AE,31,FALSE)/(1-VLOOKUP($E20,'Tabela de Códigos e Valores'!$A:$AE,31,FALSE)),2) -> 0 | S20: =SUM(L20:R20) -> 0 | T20: =VLOOKUP($A20,'Indicadores Financeiros'!$A$127:$J$131,8,FALSE) -> 0.0204 | U20: =ROUND(S20*(1+T20),2) -> 0 | V20: =ROUND(U20*K20,2) -> 0 | W20: =VLOOKUP($A20,'Indicadores Financeiros'!$A$127:$J$131,10) -> 1 | X20: =U20*IF(H20="Mensal",('Indicadores Financeiros'!$F$14-W20+1),IF(H20="Trimestral",INT(('Indicadores Financeiros'!$F$14-W20+1)/3),INT(('Indicadores Financeiros'!$F$14-W20+1)/12)))*K20 -> 0 | Z20: =IF(G20="Posto",M20,0)*K20 -> 0 | AA20: =ROUND('Indicadores Financeiros'!$J$71*$Z20,4) -> 0 | AC20: =ROUND(IF(OR($G20="Posto",$G20="Plantão"),$U20/$I20,0),2) -> 0 | AD20: =ROUND((ROUND(VLOOKUP($E20,'Tabela de Códigos e Valores'!$A:$AB,26,FALSE)/I20,2)+ROUND(P20/I20,2)+ROUND(M20*'Indicadores Financeiros'!$J$61/I20,2)+ROUND(R20/I20,2))*(1+T20),2) -> 0 | AE20: =IF(G20="posto",IF(OR(E20=690018,E20=690019),'Indicadores Financeiros'!$J$108,IF(OR(E20=690002,E20=690016,E20=690019,E20=690035,E20=690038,E20=690064),'Indicadores Financeiros'!$G$108/2*(1+T20),'Indicadores Financeiros'!$G$108*(1+T20))),0) -> 0
A21: 4 | B21: =VLOOKUP($A21,'Indicadores Financeiros'!$A$127:$J$229,2,FALSE) -> 353 | C21: =VLOOKUP($A21,'Indicadores Financeiros'!$A$127:$J$229,3,FALSE) -> São Paulo - JEC / JECRIM II - Central Vergueiro | D21: =VLOOKUP($B21,BIP!A:E,5,FALSE) -> São Paulo | E21: 690001 | F21: =VLOOKUP($E21,'Tabela de Códigos e Valores'!$A:$M,2,FALSE) -> Auxiliar de limpeza - diurno - 44 horas semanais (segunda a sexta-feira) | G21: =VLOOKUP($E21,'Tabela de Códigos e Valores'!$A:$M,5,FALSE) -> Posto | H21: =VLOOKUP($E21,'Tabela de Códigos e Valores'!$A:$M,6,FALSE) -> Mensal | I21: =VLOOKUP($E21,'Tabela de Códigos e Valores'!$A:$M,7,FALSE) -> 21 | J21: =VLOOKUP($E21,'Tabela de Códigos e Valores'!$A:$M,8,FALSE) -> 0 | K21: 5 | L21: =IFERROR(VLOOKUP(E21,'Indicadores Financeiros'!$A$90:$J$92,10,FALSE),0) -> 0 | M21: =VLOOKUP($E21,'Tabela de Códigos e Valores'!$A:$Z,16,FALSE) -> 0 | N21: =VLOOKUP($E21,'Tabela de Códigos e Valores'!$A:$Z,17,FALSE) -> 0 | O21: =VLOOKUP($E21,'Tabela de Códigos e Valores'!$A:$AAB,28,FALSE) -> 0 | P21: =ROUND(IF($G21<>"M2",IF(VLOOKUP($E21,'Tabela de Códigos e Valores'!$A:$J,10,FALSE)*6%>=VLOOKUP('Relatório Custo'!$A21,'Indicadores Financeiros'!$A$127:$I$131,9,FALSE)*'Relatório Custo'!I21,0,VLOOKUP('Relatório Custo'!$A21,'Indicadores Financeiros'!$A$127:$I$131,9,FALSE)*'Relatório Custo'!I21-VLOOKUP($E21,'Tabela de Códigos e Valores'!$A:$J,10,FALSE)*6%),0),2) -> 0 | Q21: =VLOOKUP($E21,'Tabela de Códigos e Valores'!$A:$AAC,30,FALSE) -> 0 | R21: =ROUND(ROUND(($M21+$N21+$O21+$P21+$Q21),2)*VLOOKUP($E21,'Tabela de Códigos e Valores'!$A:$AE,31,FALSE)/(1-VLOOKUP($E21,'Tabela de Códigos e Valores'!$A:$AE,31,FALSE)),2) -> 0 | S21: =SUM(L21:R21) -> 0 | T21: =VLOOKUP($A21,'Indicadores Financeiros'!$A$127:$J$131,8,FALSE) -> 0.0204 | U21: =ROUND(S21*(1+T21),2) -> 0 | V21: =ROUND(U21*K21,2) -> 0 | W21: =VLOOKUP($A21,'Indicadores Financeiros'!$A$127:$J$131,10) -> 1 | X21: =U21*IF(H21="Mensal",('Indicadores Financeiros'!$F$14-W21+1),IF(H21="Trimestral",INT(('Indicadores Financeiros'!$F$14-W21+1)/3),INT(('Indicadores Financeiros'!$F$14-W21+1)/12)))*K21 -> 0 | Z21: =IF(G21="Posto",M21,0)*K21 -> 0 | AA21: =ROUND('Indicadores Financeiros'!$J$71*$Z21,4) -> 0 | AC21: =ROUND(IF(OR($G21="Posto",$G21="Plantão"),$U21/$I21,0),2) -> 0 | AD21: =ROUND((ROUND(VLOOKUP($E21,'Tabela de Códigos e Valores'!$A:$AB,26,FALSE)/I21,2)+ROUND(P21/I21,2)+ROUND(M21*'Indicadores Financeiros'!$J$61/I21,2)+ROUND(R21/I21,2))*(1+T21),2) -> 0 | AE21: =IF(G21="posto",IF(OR(E21=690018,E21=690019),'Indicadores Financeiros'!$J$108,IF(OR(E21=690002,E21=690016,E21=690019,E21=690035,E21=690038,E21=690064),'Indicadores Financeiros'!$G$108/2*(1+T21),'Indicadores Financeiros'!$G$108*(1+T21))),0) -> 0
A22: 4 | B22: =VLOOKUP($A22,'Indicadores Financeiros'!$A$127:$J$229,2,FALSE) -> 353 | C22: =VLOOKUP($A22,'Indicadores Financeiros'!$A$127:$J$229,3,FALSE) -> São Paulo - JEC / JECRIM II - Central Vergueiro | D22: =VLOOKUP($B22,BIP!A:E,5,FALSE) -> São Paulo | E22: 690002 | F22: =VLOOKUP($E22,'Tabela de Códigos e Valores'!$A:$M,2,FALSE) -> Auxiliar de limpeza - diurno - 24 horas semanais | G22: =VLOOKUP($E22,'Tabela de Códigos e Valores'!$A:$M,5,FALSE) -> Posto | H22: =VLOOKUP($E22,'Tabela de Códigos e Valores'!$A:$M,6,FALSE) -> Mensal | I22: =VLOOKUP($E22,'Tabela de Códigos e Valores'!$A:$M,7,FALSE) -> 21 | J22: =VLOOKUP($E22,'Tabela de Códigos e Valores'!$A:$M,8,FALSE) -> 0 | K22: 1 | L22: =IFERROR(VLOOKUP(E22,'Indicadores Financeiros'!$A$90:$J$92,10,FALSE),0) -> 0 | M22: =VLOOKUP($E22,'Tabela de Códigos e Valores'!$A:$Z,16,FALSE) -> 0 | N22: =VLOOKUP($E22,'Tabela de Códigos e Valores'!$A:$Z,17,FALSE) -> 0 | O22: =VLOOKUP($E22,'Tabela de Códigos e Valores'!$A:$AAB,28,FALSE) -> 0 | P22: =ROUND(IF($G22<>"M2",IF(VLOOKUP($E22,'Tabela de Códigos e Valores'!$A:$J,10,FALSE)*6%>=VLOOKUP('Relatório Custo'!$A22,'Indicadores Financeiros'!$A$127:$I$131,9,FALSE)*'Relatório Custo'!I22,0,VLOOKUP('Relatório Custo'!$A22,'Indicadores Financeiros'!$A$127:$I$131,9,FALSE)*'Relatório Custo'!I22-VLOOKUP($E22,'Tabela de Códigos e Valores'!$A:$J,10,FALSE)*6%),0),2) -> 0 | Q22: =VLOOKUP($E22,'Tabela de Códigos e Valores'!$A:$AAC,30,FALSE) -> 0 | R22: =ROUND(ROUND(($M22+$N22+$O22+$P22+$Q22),2)*VLOOKUP($E22,'Tabela de Códigos e Valores'!$A:$AE,31,FALSE)/(1-VLOOKUP($E22,'Tabela de Códigos e Valores'!$A:$AE,31,FALSE)),2) -> 0 | S22: =SUM(L22:R22) -> 0 | T22: =VLOOKUP($A22,'Indicadores Financeiros'!$A$127:$J$131,8,FALSE) -> 0.0204 | U22: =ROUND(S22*(1+T22),2) -> 0 | V22: =ROUND(U22*K22,2) -> 0 | W22: =VLOOKUP($A22,'Indicadores Financeiros'!$A$127:$J$131,10) -> 1 | X22: =U22*IF(H22="Mensal",('Indicadores Financeiros'!$F$14-W22+1),IF(H22="Trimestral",INT(('Indicadores Financeiros'!$F$14-W22+1)/3),INT(('Indicadores Financeiros'!$F$14-W22+1)/12)))*K22 -> 0 | Z22: =IF(G22="Posto",M22,0)*K22 -> 0 | AA22: =ROUND('Indicadores Financeiros'!$J$71*$Z22,4) -> 0 | AC22: =ROUND(IF(OR($G22="Posto",$G22="Plantão"),$U22/$I22,0),2) -> 0 | AD22: =ROUND((ROUND(VLOOKUP($E22,'Tabela de Códigos e Valores'!$A:$AB,26,FALSE)/I22,2)+ROUND(P22/I22,2)+ROUND(M22*'Indicadores Financeiros'!$J$61/I22,2)+ROUND(R22/I22,2))*(1+T22),2) -> 0 | AE22: =IF(G22="posto",IF(OR(E22=690018,E22=690019),'Indicadores Financeiros'!$J$108,IF(OR(E22=690002,E22=690016,E22=690019,E22=690035,E22=690038,E22=690064),'Indicadores Financeiros'!$G$108/2*(1+T22),'Indicadores Financeiros'!$G$108*(1+T22))),0) -> 0
A23: 4 | B23: =VLOOKUP($A23,'Indicadores Financeiros'!$A$127:$J$229,2,FALSE) -> 353 | C23: =VLOOKUP($A23,'Indicadores Financeiros'!$A$127:$J$229,3,FALSE) -> São Paulo - JEC / JECRIM II - Central Vergueiro | D23: =VLOOKUP($B23,BIP!A:E,5,FALSE) -> São Paulo | E23: 690021 | F23: =VLOOKUP($E23,'Tabela de Códigos e Valores'!$A:$M,2,FALSE) -> Serviço de limpeza de vidros com exposição à situação de risco | G23: =VLOOKUP($E23,'Tabela de Códigos e Valores'!$A:$M,5,FALSE) -> M2 | H23: =VLOOKUP($E23,'Tabela de Códigos e Valores'!$A:$M,6,FALSE) -> Trimestral | I23: =VLOOKUP($E23,'Tabela de Códigos e Valores'!$A:$M,7,FALSE) -> 0 | J23: =VLOOKUP($E23,'Tabela de Códigos e Valores'!$A:$M,8,FALSE) -> 0 | K23: 481 | L23: =IFERROR(VLOOKUP(E23,'Indicadores Financeiros'!$A$90:$J$92,10,FALSE),0) -> 0 | M23: =VLOOKUP($E23,'Tabela de Códigos e Valores'!$A:$Z,16,FALSE) -> 0 | N23: =VLOOKUP($E23,'Tabela de Códigos e Valores'!$A:$Z,17,FALSE) -> 0 | O23: =VLOOKUP($E23,'Tabela de Códigos e Valores'!$A:$AAB,28,FALSE) -> 0 | P23: =ROUND(IF($G23<>"M2",IF(VLOOKUP($E23,'Tabela de Códigos e Valores'!$A:$J,10,FALSE)*6%>=VLOOKUP('Relatório Custo'!$A23,'Indicadores Financeiros'!$A$127:$I$131,9,FALSE)*'Relatório Custo'!I23,0,VLOOKUP('Relatório Custo'!$A23,'Indicadores Financeiros'!$A$127:$I$131,9,FALSE)*'Relatório Custo'!I23-VLOOKUP($E23,'Tabela de Códigos e Valores'!$A:$J,10,FALSE)*6%),0),2) -> 0 | Q23: =VLOOKUP($E23,'Tabela de Códigos e Valores'!$A:$AAC,30,FALSE) -> 0 | R23: =ROUND(ROUND(($M23+$N23+$O23+$P23+$Q23),2)*VLOOKUP($E23,'Tabela de Códigos e Valores'!$A:$AE,31,FALSE)/(1-VLOOKUP($E23,'Tabela de Códigos e Valores'!$A:$AE,31,FALSE)),2) -> 0 | S23: =SUM(L23:R23) -> 0 | T23: =VLOOKUP($A23,'Indicadores Financeiros'!$A$127:$J$131,8,FALSE) -> 0.0204 | U23: =ROUND(S23*(1+T23),2) -> 0 | V23: =ROUND(U23*K23,2) -> 0 | W23: =VLOOKUP($A23,'Indicadores Financeiros'!$A$127:$J$131,10) -> 1 | X23: =U23*IF(H23="Mensal",('Indicadores Financeiros'!$F$14-W23+1),IF(H23="Trimestral",INT(('Indicadores Financeiros'!$F$14-W23+1)/3),INT(('Indicadores Financeiros'!$F$14-W23+1)/12)))*K23 -> 0 | Z23: =IF(G23="Posto",M23,0)*K23 -> 0 | AA23: =ROUND('Indicadores Financeiros'!$J$71*$Z23,4) -> 0 | AC23: =ROUND(IF(OR($G23="Posto",$G23="Plantão"),$U23/$I23,0),2) -> 0 | AD23: =IF(G23="m2",0,ROUND((ROUND(VLOOKUP($E23,'Tabela de Códigos e Valores'!$A:$AB,26,FALSE)/I23,2)+ROUND(P23/I23,2)+ROUND(M23*'Indicadores Financeiros'!$J$61/I23,2)+ROUND(R23/I23,2))*(1+T23),2)) -> 0 | AE23: =IF(G23="posto",IF(OR(E23=690018,E23=690019),'Indicadores Financeiros'!$J$108,IF(OR(E23=690002,E23=690016,E23=690019,E23=690035,E23=690038,E23=690064),'Indicadores Financeiros'!$G$108/2*(1+T23),'Indicadores Financeiros'!$G$108*(1+T23))),0) -> 0
