Workbook

Sheet Home

Sheet Dados Cadastrais
A1: FICHA CADASTRAL DA EMPRESA
A2: Pregão Nº | D2: Processo nº | J2: Sim
A3: DADOS CADASTRAIS | J3: Não
A4: CNPJ
A5: Razão Social
A6: Endereço
A7: Bairro | D7: Cidade | G7: UF
A8: CEP | C8: Telefone
A9: e-mail
A10: REPRESENTANTE(S) DA EMPRESA
A11: CPF | B11: Nome | C11: e-mail | E11: Telefone | F11: Sócio Administrador? | G11: Signatário do Contrato?
F12: (sim/não) | G12: (sim/não)
A21: Local | B21: Data | C21: Assinatura

Sheet Indicadores Financeiros
A1: DADOS DA EMPRESA | M1: Não | N1: Incidência cumulativa de PIS e de COFINS
A2: CNPJ | F2: =IF('Dados Cadastrais'!B4=0,"",'Dados Cadastrais'!B4) | M2: Sim | N2: Incidência não-cumulativa de PIS e de COFINS
A3: Razão Social | F3: =IF('Dados Cadastrais'!B5=0,"",'Dados Cadastrais'!B5) | N3: Simples Nacional
A4: Sindicato da categoria
A5: Data base da categoria
A6: Fornecimento de cesta básica aos funcionários? (sim/não) | F6: Sim
A7: Regime Tributário | F7: Incidência cumulativa de PIS e de COFINS
A8: SAT (RATxFAP) (%)
A9: Despesas Administrativas(%)
A10: Lucro Bruto (%)
A11: COFINS
A12: PIS
A13: Desoneração da Folha (%)
A14: Vigência Contratual | F14: 30 | G14: meses
A16: Módulo I - Encargos previdenciários e FGTS | J16: Percentual
A17: 1 | B17: Previdência Social | J17: 0.2
A18: 2 | B18: SESI/SESC | J18: =IF($F$7="Simples Nacional",0,IF($F$7<>"",1.5%,"Informar regime tributário")) -> 0.015
A19: 3 | B19: SENAI/SENAC | J19: =IF($F$7="Simples Nacional",0,IF($F$7<>"",1%,"Informar regime tributário")) -> 0.01
A20: 4 | B20: INCRA | J20: =IF($F$7="Simples Nacional",0,IF($F$7<>"",0.2%,"Informar regime tributário")) -> 0.002
A21: 5 | B21: Salário Educação | J21: =IF($F$7="Simples Nacional",0,IF($F$7<>"",2.5%,"Informar regime tributário")) -> 0.025
A22: 6 | B22: FGTS | J22: 0.08
A23: 7 | B23: SAT (RAT X FAP) | J23: =IF(F8=0,"Informar SAT",$F$8) -> Informar SAT
A24: 8 | B24: SEBRAE | J24: =IF($F$7="Simples Nacional",0,IF($F$7<>"",0.6%,"Informar regime tributário")) -> 0.006
A25: Total Módulo I | J25: =SUM(J17:J24) -> 0.338
A27: Módulo II - 13º Salário e Adicional de Férias
A28: 1 | B28: 13º salário | J28: =ROUND(5/56,4) -> 0.0893
A29: 2 | B29: Abono de férias | J29: =ROUND(J28/3,4) -> 0.0298
A30: 3 | B30: Encargos sociais incidentes | J30: =ROUND((J28+J29)*J25,4) -> 0.0403
A31: Total Módulo II | J31: =SUM(J28:J30) -> 0.1594
A33: Módulo III - Afastamento Maternidade
A34: 1 | B34: Afastamento Maternidade | J34: =120*0.6814*0.1881*0.8238*4.035%/222.4682 -> 0.0022981034
A35: 2 | B35: Encargos sociais incidentes | J35: =ROUND(J34*J22,4) -> 0.0002
A36: Total Módulo III | J36: =J35 -> 0.0002
A38: Módulo IV - Provisão para Rescisão
A39: 1 | B39: Aviso prévio indenizado | J39: =ROUND(98%*43.7717%*33/222.4682,4) -> 0.0636
A40: 2 | B40: Incidência FGTS sobre o aviso prévio indenizado | J40: =ROUND(J39*$J$22,4) -> 0.0051
A41: 3 | B41: Multa FGTS sobre o aviso prévio indenizado | J41: =ROUND(J40*40%,4) -> 0.002
A42: 4 | B42: Aviso prévio trabalhado | J42: =ROUND(2%*43.7717%*0.6814*7/222.4682,4) -> 0.0002
A43: 5 | B43: Encargos sociais incidentes sobre aviso prévio trabalhado | J43: =ROUND(J42*$J$25,4) -> 0.0001
A44: 6 | B44: Multa FGTS sobre o aviso prévio trabalhado | J44: =ROUND(J42*8%*40%,4) -> 0
...

Sheet Relatório Custo
A1: Lote | B1: Localidade | C1: Código | D1: Função | E1: Unidade | F1: Mês de Início da Prestação | G1: Periodicidade | H1: Quantidade de Funcionários por Posto | I1: Dias Estimados por Mês | J1: Quantidade de Postos/Horas | K1: Remuneração (Salários + Adicionais) | L1: Encargos Sociais e Trabalhistas | M1: Benefícios | N1: Vale Transporte | O1: Uniformes e EPI´s | P1: Valor Total Mensal Unitário | Q1: BDI | R1: Valor Total Mensal Unitário com BDI | S1: Valor Total Mensal | T1: Valor Total período contratual | V1: Valor Total Mensal Remuneração | W1: Valor Mensal a Contigenciar | Y1: Desconto - Falta sem reposição (por funcionário) | Z1: Desconto - Dia útil não trabalhado (por funcionário)
A3: 5 | B3: =VLOOKUP($A3,'Indicadores Financeiros'!$A$114:$J$217,2,FALSE) -> São Paulo - Fórum Criminal - Complexo Judiciário Ministro Mário Guimarães | C3: 551188 | D3: =VLOOKUP($C3,'Tabela de Códigos e Valores'!$A:$J,2,FALSE) -> Supervisor geral especializado em refrigeração, controle e administração | E3: =VLOOKUP($C3,'Tabela de Códigos e Valores'!$A:$J,5,FALSE) -> Posto | F3: =VLOOKUP($A3,'Indicadores Financeiros'!$A$114:$J$1120,10,FALSE) -> 1 | G3: =VLOOKUP($C3,'Tabela de Códigos e Valores'!$A:$J,6,FALSE) -> Mensal | H3: =VLOOKUP($C3,'Tabela de Códigos e Valores'!$A:$AE,7,FALSE) -> 1 | I3: =VLOOKUP($C3,'Tabela de Códigos e Valores'!$A:$AE,8,FALSE) -> 20.75 | J3: 1 | K3: =VLOOKUP($C3,'Tabela de Códigos e Valores'!$A:$AE,12,FALSE) -> 0 | L3: =VLOOKUP($C3,'Tabela de Códigos e Valores'!$A:$AE,13,FALSE) -> 0 | M3: =VLOOKUP($C3,'Tabela de Códigos e Valores'!$A:$AE,25,FALSE) -> 0 | N3: =IF(E3<>"posto",VLOOKUP($C3,'Tabela de Códigos e Valores'!$A:$AA,26,FALSE),IF(ROUND((VLOOKUP($B3,'Indicadores Financeiros'!$B$114:$J$119,8,FALSE)*I3)-(VLOOKUP($C3,'Tabela de Códigos e Valores'!A:I,9,FALSE)*6%),2)<0,0,ROUND((VLOOKUP($B3,'Indicadores Financeiros'!$B$114:$J$119,8,FALSE)*I3)-(VLOOKUP($C3,'Tabela de Códigos e Valores'!A:I,9,FALSE)*6%),2))) -> 0 | O3: =VLOOKUP($C3,'Tabela de Códigos e Valores'!$A:$AE,27,FALSE) -> 0 | P3: =ROUND(SUM(K3:O3),2) -> 0 | Q3: =VLOOKUP($A3,'Indicadores Financeiros'!$A$114:$J$119,8,FALSE) -> 0.0526 | R3: =ROUND(P3*(1+Q3),2) -> 0 | S3: =ROUND(R3*J3,2) -> 0 | T3: =ROUND(S3*ROUND(('Indicadores Financeiros'!$F$14-F3+1),2),2) -> 0 | V3: =IF(E3="Posto",ROUND(J3*K3,2),0) -> 0 | W3: =ROUND('Indicadores Financeiros'!$J$72*$V3,2) -> 0 | Y3: =IF(J3=0,0,IF(E3="Posto",ROUND($R3/$I3,2),0)) -> 0 | Z3: =IF(J3=0,0,IF(E3="Posto",ROUND(ROUND(ROUND((VLOOKUP($C3,'Tabela de Códigos e Valores'!$A:$AE,23,FALSE)/'Relatório Custo'!I3),2)+ROUND(VLOOKUP($C3,'Tabela de Códigos e Valores'!$A:$AE,26,FALSE)/'Relatório Custo'!I3,2)+ROUND((('Indicadores Financeiros'!$J$62*'Relatório Custo'!K3)/'Relatório Custo'!I3),2),2)*(1+Q3),2),0)) -> 0
A4: 5 | B4: =VLOOKUP($A4,'Indicadores Financeiros'!$A$114:$J$217,2,FALSE) -> São Paulo - Fórum Criminal - Complexo Judiciário Ministro Mário Guimarães | C4: 551189 | D4: =VLOOKUP($C4,'Tabela de Códigos e Valores'!$A:$J,2,FALSE) -> Técnico mecânico especializado em Refrigeração | E4: =VLOOKUP($C4,'Tabela de Códigos e Valores'!$A:$J,5,FALSE) -> Posto | F4: =VLOOKUP($A4,'Indicadores Financeiros'!$A$114:$J$1120,10,FALSE) -> 1 | G4: =VLOOKUP($C4,'Tabela de Códigos e Valores'!$A:$J,6,FALSE) -> Mensal | H4: =VLOOKUP($C4,'Tabela de Códigos e Valores'!$A:$AE,7,FALSE) -> 1 | I4: =VLOOKUP($C4,'Tabela de Códigos e Valores'!$A:$AE,8,FALSE) -> 20.75 | J4: 2 | K4: =VLOOKUP($C4,'Tabela de Códigos e Valores'!$A:$AE,12,FALSE) -> 0 | L4: =VLOOKUP($C4,'Tabela de Códigos e Valores'!$A:$AE,13,FALSE) -> 0 | M4: =VLOOKUP($C4,'Tabela de Códigos e Valores'!$A:$AE,25,FALSE) -> 0 | N4: =IF(E4<>"posto",VLOOKUP($C4,'Tabela de Códigos e Valores'!$A:$AA,26,FALSE),IF(ROUND((VLOOKUP($B4,'Indicadores Financeiros'!$B$114:$J$119,8,FALSE)*I4)-(VLOOKUP($C4,'Tabela de Códigos e Valores'!A:I,9,FALSE)*6%),2)<0,0,ROUND((VLOOKUP($B4,'Indicadores Financeiros'!$B$114:$J$119,8,FALSE)*I4)-(VLOOKUP($C4,'Tabela de Códigos e Valores'!A:I,9,FALSE)*6%),2))) -> 0 | O4: =VLOOKUP($C4,'Tabela de Códigos e Valores'!$A:$AE,27,FALSE) -> 0 | P4: =ROUND(SUM(K4:O4),2) -> 0 | Q4: =VLOOKUP($A4,'Indicadores Financeiros'!$A$114:$J$119,8,FALSE) -> 0.0526 | R4: =ROUND(P4*(1+Q4),2) -> 0 | S4: =ROUND(R4*J4,2) -> 0 | T4: =ROUND(S4*ROUND(('Indicadores Financeiros'!$F$14-F4+1),2),2) -> 0 | V4: =IF(E4="Posto",ROUND(J4*K4,2),0) -> 0 | W4: =ROUND('Indicadores Financeiros'!$J$72*$V4,2) -> 0 | Y4: =IF(J4=0,0,IF(E4="Posto",ROUND($R4/$I4,2),0)) -> 0 | Z4: =IF(J4=0,0,IF(E4="Posto",ROUND(ROUND(ROUND((VLOOKUP($C4,'Tabela de Códigos e Valores'!$A:$AE,23,FALSE)/'Relatório Custo'!I4),2)+ROUND(VLOOKUP($C4,'Tabela de Códigos e Valores'!$A:$AE,26,FALSE)/'Relatório Custo'!I4,2)+ROUND((('Indicadores Financeiros'!$J$62*'Relatório Custo'!K4)/'Relatório Custo'!I4),2),2)*(1+Q4),2),0)) -> 0
A5: 5 | B5: =VLOOKUP($A5,'Indicadores Financeiros'!$A$114:$J$217,2,FALSE) -> São Paulo - Fórum Criminal - Complexo Judiciário Ministro Mário Guimarães | C5: 551190 | D5: =VLOOKUP($C5,'Tabela de Códigos e Valores'!$A:$J,2,FALSE) -> Operador | E5: =VLOOKUP($C5,'Tabela de Códigos e Valores'!$A:$J,5,FALSE) -> Posto | F5: =VLOOKUP($A5,'Indicadores Financeiros'!$A$114:$J$1120,10,FALSE) -> 1 | G5: =VLOOKUP($C5,'Tabela de Códigos e Valores'!$A:$J,6,FALSE) -> Mensal | H5: =VLOOKUP($C5,'Tabela de Códigos e Valores'!$A:$AE,7,FALSE) -> 1 | I5: =VLOOKUP($C5,'Tabela de Códigos e Valores'!$A:$AE,8,FALSE) -> 20.75 | J5: 2 | K5: =VLOOKUP($C5,'Tabela de Códigos e Valores'!$A:$AE,12,FALSE) -> 0 | L5: =VLOOKUP($C5,'Tabela de Códigos e Valores'!$A:$AE,13,FALSE) -> 0 | M5: =VLOOKUP($C5,'Tabela de Códigos e Valores'!$A:$AE,25,FALSE) -> 0 | N5: =IF(E5<>"posto",VLOOKUP($C5,'Tabela de Códigos e Valores'!$A:$AA,26,FALSE),IF(ROUND((VLOOKUP($B5,'Indicadores Financeiros'!$B$114:$J$119,8,FALSE)*I5)-(VLOOKUP($C5,'Tabela de Códigos e Valores'!A:I,9,FALSE)*6%),2)<0,0,ROUND((VLOOKUP($B5,'Indicadores Financeiros'!$B$114:$J$119,8,FALSE)*I5)-(VLOOKUP($C5,'Tabela de Códigos e Valores'!A:I,9,FALSE)*6%),2))) -> 0 | O5: =VLOOKUP($C5,'Tabela de Códigos e Valores'!$A:$AE,27,FALSE) -> 0 | P5: =ROUND(SUM(K5:O5),2) -> 0 | Q5: =VLOOKUP($A5,'Indicadores Financeiros'!$A$114:$J$119,8,FALSE) -> 0.0526 | R5: =ROUND(P5*(1+Q5),2) -> 0 | S5: =ROUND(R5*J5,2) -> 0 | T5: =ROUND(S5*ROUND(('Indicadores Financeiros'!$F$14-F5+1),2),2) -> 0 | V5: =IF(E5="Posto",ROUND(J5*K5,2),0) -> 0 | W5: =ROUND('Indicadores Financeiros'!$J$72*$V5,2) -> 0 | Y5: =IF(J5=0,0,IF(E5="Posto",ROUND($R5/$I5,2),0)) -> 0 | Z5: =IF(J5=0,0,IF(E5="Posto",ROUND(ROUND(ROUND((VLOOKUP($C5,'Tabela de Códigos e Valores'!$A:$AE,23,FALSE)/'Relatório Custo'!I5),2)+ROUND(VLOOKUP($C5,'Tabela de Códigos e Valores'!$A:$AE,26,FALSE)/'Relatório Custo'!I5,2)+ROUND((('Indicadores Financeiros'!$J$62*'Relatório Custo'!K5)/'Relatório Custo'!I5),2),2)*(1+Q5),2),0)) -> 0
A6: 5 | B6: =VLOOKUP($A6,'Indicadores Financeiros'!$A$114:$J$217,2,FALSE) -> São Paulo - Fórum Criminal - Complexo Judiciário Ministro Mário Guimarães | C6: 551191 | D6: =VLOOKUP($C6,'Tabela de Códigos e Valores'!$A:$J,2,FALSE) -> Auxiliar Técnico especializado em Refrigeração | E6: =VLOOKUP($C6,'Tabela de Códigos e Valores'!$A:$J,5,FALSE) -> Posto | F6: =VLOOKUP($A6,'Indicadores Financeiros'!$A$114:$J$1120,10,FALSE) -> 1 | G6: =VLOOKUP($C6,'Tabela de Códigos e Valores'!$A:$J,6,FALSE) -> Mensal | H6: =VLOOKUP($C6,'Tabela de Códigos e Valores'!$A:$AE,7,FALSE) -> 1 | I6: =VLOOKUP($C6,'Tabela de Códigos e Valores'!$A:$AE,8,FALSE) -> 20.75 | J6: 2 | K6: =VLOOKUP($C6,'Tabela de Códigos e Valores'!$A:$AE,12,FALSE) -> 0 | L6: =VLOOKUP($C6,'Tabela de Códigos e Valores'!$A:$AE,13,FALSE) -> 0 | M6: =VLOOKUP($C6,'Tabela de Códigos e Valores'!$A:$AE,25,FALSE) -> 0 | N6: =IF(E6<>"posto",VLOOKUP($C6,'Tabela de Códigos e Valores'!$A:$AA,26,FALSE),IF(ROUND((VLOOKUP($B6,'Indicadores Financeiros'!$B$114:$J$119,8,FALSE)*I6)-(VLOOKUP($C6,'Tabela de Códigos e Valores'!A:I,9,FALSE)*6%),2)<0,0,ROUND((VLOOKUP($B6,'Indicadores Financeiros'!$B$114:$J$119,8,FALSE)*I6)-(VLOOKUP($C6,'Tabela de Códigos e Valores'!A:I,9,FALSE)*6%),2))) -> 0 | O6: =VLOOKUP($C6,'Tabela de Códigos e Valores'!$A:$AE,27,FALSE) -> 0 | P6: =ROUND(SUM(K6:O6),2) -> 0 | Q6: =VLOOKUP($A6,'Indicadores Financeiros'!$A$114:$J$119,8,FALSE) -> 0.0526 | R6: =ROUND(P6*(1+Q6),2) -> 0 | S6: =ROUND(R6*J6,2) -> 0 | T6: =ROUND(S6*ROUND(('Indicadores Financeiros'!$F$14-F6+1),2),2) -> 0 | V6: =IF(E6="Posto",ROUND(J6*K6,2),0) -> 0 | W6: =ROUND('Indicadores Financeiros'!$J$72*$V6,2) -> 0 | Y6: =IF(J6=0,0,IF(E6="Posto",ROUND($R6/$I6,2),0)) -> 0 | Z6: =IF(J6=0,0,IF(E6="Posto",ROUND(ROUND(ROUND((VLOOKUP($C6,'Tabela de Códigos e Valores'!$A:$AE,23,FALSE)/'Relatório Custo'!I6),2)+ROUND(VLOOKUP($C6,'Tabela de Códigos e Valores'!$A:$AE,26,FALSE)/'Relatório Custo'!I6,2)+ROUND((('Indicadores Financeiros'!$J$62*'Relatório Custo'!K6)/'Relatório Custo'!I6),2),2)*(1+Q6),2),0)) -> 0
A7: 5 | B7: =VLOOKUP($A7,'Indicadores Financeiros'!$A$114:$J$217,2,FALSE) -> São Paulo - Fórum Criminal - Complexo Judiciário Ministro Mário Guimarães | C7: 551192 | D7: =VLOOKUP($C7,'Tabela de Códigos e Valores'!$A:$J,2,FALSE) -> Técnico Elétrico/ Eletrônico/ Eletrotécnico, especializado em refrigeração | E7: =VLOOKUP($C7,'Tabela de Códigos e Valores'!$A:$J,5,FALSE) -> Posto | F7: =VLOOKUP($A7,'Indicadores Financeiros'!$A$114:$J$1120,10,FALSE) -> 1 | G7: =VLOOKUP($C7,'Tabela de Códigos e Valores'!$A:$J,6,FALSE) -> Mensal | H7: =VLOOKUP($C7,'Tabela de Códigos e Valores'!$A:$AE,7,FALSE) -> 1 | I7: =VLOOKUP($C7,'Tabela de Códigos e Valores'!$A:$AE,8,FALSE) -> 20.75 | J7: 2 | K7: =VLOOKUP($C7,'Tabela de Códigos e Valores'!$A:$AE,12,FALSE) -> 0 | L7: =VLOOKUP($C7,'Tabela de Códigos e Valores'!$A:$AE,13,FALSE) -> 0 | M7: =VLOOKUP($C7,'Tabela de Códigos e Valores'!$A:$AE,25,FALSE) -> 0 | N7: =IF(E7<>"posto",VLOOKUP($C7,'Tabela de Códigos e Valores'!$A:$AA,26,FALSE),IF(ROUND((VLOOKUP($B7,'Indicadores Financeiros'!$B$114:$J$119,8,FALSE)*I7)-(VLOOKUP($C7,'Tabela de Códigos e Valores'!A:I,9,FALSE)*6%),2)<0,0,ROUND((VLOOKUP($B7,'Indicadores Financeiros'!$B$114:$J$119,8,FALSE)*I7)-(VLOOKUP($C7,'Tabela de Códigos e Valores'!A:I,9,FALSE)*6%),2))) -> 0 | O7: =VLOOKUP($C7,'Tabela de Códigos e Valores'!$A:$AE,27,FALSE) -> 0 | P7: =ROUND(SUM(K7:O7),2) -> 0 | Q7: =VLOOKUP($A7,'Indicadores Financeiros'!$A$114:$J$119,8,FALSE) -> 0.0526 | R7: =ROUND(P7*(1+Q7),2) -> 0 | S7: =ROUND(R7*J7,2) -> 0 | T7: =ROUND(S7*ROUND(('Indicadores Financeiros'!$F$14-F7+1),2),2) -> 0 | V7: =IF(E7="Posto",ROUND(J7*K7,2),0) -> 0 | W7: =ROUND('Indicadores Financeiros'!$J$72*$V7,2) -> 0 | Y7: =IF(J7=0,0,IF(E7="Posto",ROUND($R7/$I7,2),0)) -> 0 | Z7: =IF(J7=0,0,IF(E7="Posto",ROUND(ROUND(ROUND((VLOOKUP($C7,'Tabela de Códigos e Valores'!$A:$AE,23,FALSE)/'Relatório Custo'!I7),2)+ROUND(VLOOKUP($C7,'Tabela de Códigos e Valores'!$A:$AE,26,FALSE)/'Relatório Custo'!I7,2)+ROUND((('Indicadores Financeiros'!$J$62*'Relatório Custo'!K7)/'Relatório Custo'!I7),2),2)*(1+Q7),2),0)) -> 0
A8: 5 | B8: =VLOOKUP($A8,'Indicadores Financeiros'!$A$114:$J$217,2,FALSE) -> São Paulo - Fórum Criminal - Complexo Judiciário Ministro Mário Guimarães | C8: 551195 | D8: =VLOOKUP($C8,'Tabela de Códigos e Valores'!$A:$J,2,FALSE) -> Técnico em Refrigeração Mecânico - Hora Extra Noturna | E8: =VLOOKUP($C8,'Tabela de Códigos e Valores'!$A:$J,5,FALSE) -> Hora Extra | F8: =VLOOKUP($A8,'Indicadores Financeiros'!$A$114:$J$1120,10,FALSE) -> 1 | G8: =VLOOKUP($C8,'Tabela de Códigos e Valores'!$A:$J,6,FALSE) -> Mensal | H8: =VLOOKUP($C8,'Tabela de Códigos e Valores'!$A:$AE,7,FALSE) -> 1 | I8: =VLOOKUP($C8,'Tabela de Códigos e Valores'!$A:$AE,8,FALSE) -> 20.75 | J8: 20 | K8: =VLOOKUP($C8,'Tabela de Códigos e Valores'!$A:$AE,12,FALSE) -> 0 | L8: =VLOOKUP($C8,'Tabela de Códigos e Valores'!$A:$AE,13,FALSE) -> 0 | M8: =VLOOKUP($C8,'Tabela de Códigos e Valores'!$A:$AE,25,FALSE) -> 0 | N8: =IF(E8<>"posto",VLOOKUP($C8,'Tabela de Códigos e Valores'!$A:$AA,26,FALSE),IF(ROUND((VLOOKUP($B8,'Indicadores Financeiros'!$B$114:$J$119,8,FALSE)*I8)-(VLOOKUP($C8,'Tabela de Códigos e Valores'!A:I,9,FALSE)*6%),2)<0,0,ROUND((VLOOKUP($B8,'Indicadores Financeiros'!$B$114:$J$119,8,FALSE)*I8)-(VLOOKUP($C8,'Tabela de Códigos e Valores'!A:I,9,FALSE)*6%),2))) -> 0 | O8: =VLOOKUP($C8,'Tabela de Códigos e Valores'!$A:$AE,27,FALSE) -> 0 | P8: =ROUND(SUM(K8:O8),2) -> 0 | Q8: =VLOOKUP($A8,'Indicadores Financeiros'!$A$114:$J$119,8,FALSE) -> 0.0526 | R8: =ROUND(P8*(1+Q8),2) -> 0 | S8: =ROUND(R8*J8,2) -> 0 | T8: =ROUND(S8*ROUND(('Indicadores Financeiros'!$F$14-F8+1),2),2) -> 0 | V8: =IF(E8="Posto",ROUND(J8*K8,2),0) -> 0 | W8: =ROUND('Indicadores Financeiros'!$J$72*$V8,2) -> 0 | Y8: =IF(J8=0,0,IF(E8="Posto",ROUND($R8/$I8,2),0)) -> 0 | Z8: =IF(J8=0,0,IF(E8="Posto",ROUND(ROUND(ROUND((VLOOKUP($C8,'Tabela de Códigos e Valores'!$A:$AE,23,FALSE)/'Relatório Custo'!I8),2)+ROUND(VLOOKUP($C8,'Tabela de Códigos e Valores'!$A:$AE,26,FALSE)/'Relatório Custo'!I8,2)+ROUND((('Indicadores Financeiros'!$J$62*'Relatório Custo'!K8)/'Relatório Custo'!I8),2),2)*(1+Q8),2),0)) -> 0
A9: 5 | B9: =VLOOKUP($A9,'Indicadores Financeiros'!$A$114:$J$217,2,FALSE) -> São Paulo - Fórum Criminal - Complexo Judiciário Ministro Mário Guimarães | C9: 551196 | D9: =VLOOKUP($C9,'Tabela de Códigos e Valores'!$A:$J,2,FALSE) -> Técnico em Refrigeração Mecânico - Hora Extra Sábado | E9: =VLOOKUP($C9,'Tabela de Códigos e Valores'!$A:$J,5,FALSE) -> Hora Extra | F9: =VLOOKUP($A9,'Indicadores Financeiros'!$A$114:$J$1120,10,FALSE) -> 1 | G9: =VLOOKUP($C9,'Tabela de Códigos e Valores'!$A:$J,6,FALSE) -> Mensal | H9: =VLOOKUP($C9,'Tabela de Códigos e Valores'!$A:$AE,7,FALSE) -> 1 | I9: =VLOOKUP($C9,'Tabela de Códigos e Valores'!$A:$AE,8,FALSE) -> 20.75 | J9: 8 | K9: =VLOOKUP($C9,'Tabela de Códigos e Valores'!$A:$AE,12,FALSE) -> 0 | L9: =VLOOKUP($C9,'Tabela de Códigos e Valores'!$A:$AE,13,FALSE) -> 0 | M9: =VLOOKUP($C9,'Tabela de Códigos e Valores'!$A:$AE,25,FALSE) -> 0 | N9: =IF(E9<>"posto",VLOOKUP($C9,'Tabela de Códigos e Valores'!$A:$AA,26,FALSE),IF(ROUND((VLOOKUP($B9,'Indicadores Financeiros'!$B$114:$J$119,8,FALSE)*I9)-(VLOOKUP($C9,'Tabela de Códigos e Valores'!A:I,9,FALSE)*6%),2)<0,0,ROUND((VLOOKUP($B9,'Indicadores Financeiros'!$B$114:$J$119,8,FALSE)*I9)-(VLOOKUP($C9,'Tabela de Códigos e Valores'!A:I,9,FALSE)*6%),2))) -> 0 | O9: =VLOOKUP($C9,'Tabela de Códigos e Valores'!$A:$AE,27,FALSE) -> 0 | P9: =ROUND(SUM(K9:O9),2) -> 0 | Q9: =VLOOKUP($A9,'Indicadores Financeiros'!$A$114:$J$119,8,FALSE) -> 0.0526 | R9: =ROUND(P9*(1+Q9),2) -> 0 | S9: =ROUND(R9*J9,2) -> 0 | T9: =ROUND(S9*ROUND(('Indicadores Financeiros'!$F$14-F9+1),2),2) -> 0 | V9: =IF(E9="Posto",ROUND(J9*K9,2),0) -> 0 | W9: =ROUND('Indicadores Financeiros'!$J$72*$V9,2) -> 0 | Y9: =IF(J9=0,0,IF(E9="Posto",ROUND($R9/$I9,2),0)) -> 0 | Z9: =IF(J9=0,0,IF(E9="Posto",ROUND(ROUND(ROUND((VLOOKUP($C9,'Tabela de Códigos e Valores'!$A:$AE,23,FALSE)/'Relatório Custo'!I9),2)+ROUND(VLOOKUP($C9,'Tabela de Códigos e Valores'!$A:$AE,26,FALSE)/'Relatório Custo'!I9,2)+ROUND((('Indicadores Financeiros'!$J$62*'Relatório Custo'!K9)/'Relatório Custo'!I9),2),2)*(1+Q9),2),0)) -> 0
A10: 5 | B10: =VLOOKUP($A10,'Indicadores Financeiros'!$A$114:$J$217,2,FALSE) -> São Paulo - Fórum Criminal - Complexo Judiciário Ministro Mário Guimarães | C10: 551197 | D10: =VLOOKUP($C10,'Tabela de Códigos e Valores'!$A:$J,2,FALSE) -> Técnico em Refrigeração Mecânico - Hora Extra Domingo e Feriado | E10: =VLOOKUP($C10,'Tabela de Códigos e Valores'!$A:$J,5,FALSE) -> Hora Extra | F10: =VLOOKUP($A10,'Indicadores Financeiros'!$A$114:$J$1120,10,FALSE) -> 1 | G10: =VLOOKUP($C10,'Tabela de Códigos e Valores'!$A:$J,6,FALSE) -> Mensal | H10: =VLOOKUP($C10,'Tabela de Códigos e Valores'!$A:$AE,7,FALSE) -> 1 | I10: =VLOOKUP($C10,'Tabela de Códigos e Valores'!$A:$AE,8,FALSE) -> 20.75 | J10: 8 | K10: =VLOOKUP($C10,'Tabela de Códigos e Valores'!$A:$AE,12,FALSE) -> 0 | L10: =VLOOKUP($C10,'Tabela de Códigos e Valores'!$A:$AE,13,FALSE) -> 0 | M10: =VLOOKUP($C10,'Tabela de Códigos e Valores'!$A:$AE,25,FALSE) -> 0 | N10: =IF(E10<>"posto",VLOOKUP($C10,'Tabela de Códigos e Valores'!$A:$AA,26,FALSE),IF(ROUND((VLOOKUP($B10,'Indicadores Financeiros'!$B$114:$J$119,8,FALSE)*I10)-(VLOOKUP($C10,'Tabela de Códigos e Valores'!A:I,9,FALSE)*6%),2)<0,0,ROUND((VLOOKUP($B10,'Indicadores Financeiros'!$B$114:$J$119,8,FALSE)*I10)-(VLOOKUP($C10,'Tabela de Códigos e Valores'!A:I,9,FALSE)*6%),2))) -> 0 | O10: =VLOOKUP($C10,'Tabela de Códigos e Valores'!$A:$AE,27,FALSE) -> 0 | P10: =ROUND(SUM(K10:O10),2) -> 0 | Q10: =VLOOKUP($A10,'Indicadores Financeiros'!$A$114:$J$119,8,FALSE) -> 0.0526 | R10: =ROUND(P10*(1+Q10),2) -> 0 | S10: =ROUND(R10*J10,2) -> 0 | T10: =ROUND(S10*ROUND(('Indicadores Financeiros'!$F$14-F10+1),2),2) -> 0 | V10: =IF(E10="Posto",ROUND(J10*K10,2),0) -> 0 | W10: =ROUND('Indicadores Financeiros'!$J$72*$V10,2) -> 0 | Y10: =IF(J10=0,0,IF(E10="Posto",ROUND($R10/$I10,2),0)) -> 0 | Z10: =IF(J10=0,0,IF(E10="Posto",ROUND(ROUND(ROUND((VLOOKUP($C10,'Tabela de Códigos e Valores'!$A:$AE,23,FALSE)/'Relatório Custo'!I10),2)+ROUND(VLOOKUP($C10,'Tabela de Códigos e Valores'!$A:$AE,26,FALSE)/'Relatório Custo'!I10,2)+ROUND((('Indicadores Financeiros'!$J$62*'Relatório Custo'!K10)/'Relatório Custo'!I10),2),2)*(1+Q10),2),0)) -> 0
A11: 5 | B11: =VLOOKUP($A11,'Indicadores Financeiros'!$A$114:$J$217,2,FALSE) -> São Paulo - Fórum Criminal - Complexo Judiciário Ministro Mário Guimarães | C11: 551198 | D11: =VLOOKUP($C11,'Tabela de Códigos e Valores'!$A:$J,2,FALSE) -> Auxiliar Técnico em Refrigeração - Hora Extra Noturna | E11: =VLOOKUP($C11,'Tabela de Códigos e Valores'!$A:$J,5,FALSE) -> Hora Extra | F11: =VLOOKUP($A11,'Indicadores Financeiros'!$A$114:$J$1120,10,FALSE) -> 1 | G11: =VLOOKUP($C11,'Tabela de Códigos e Valores'!$A:$J,6,FALSE) -> Mensal | H11: =VLOOKUP($C11,'Tabela de Códigos e Valores'!$A:$AE,7,FALSE) -> 1 | I11: =VLOOKUP($C11,'Tabela de Códigos e Valores'!$A:$AE,8,FALSE) -> 20.75 | J11: 20 | K11: =VLOOKUP($C11,'Tabela de Códigos e Valores'!$A:$AE,12,FALSE) -> 0 | L11: =VLOOKUP($C11,'Tabela de Códigos e Valores'!$A:$AE,13,FALSE) -> 0 | M11: =VLOOKUP($C11,'Tabela de Códigos e Valores'!$A:$AE,25,FALSE) -> 0 | N11: =IF(E11<>"posto",VLOOKUP($C11,'Tabela de Códigos e Valores'!$A:$AA,26,FALSE),IF(ROUND((VLOOKUP($B11,'Indicadores Financeiros'!$B$114:$J$119,8,FALSE)*I11)-(VLOOKUP($C11,'Tabela de Códigos e Valores'!A:I,9,FALSE)*6%),2)<0,0,ROUND((VLOOKUP($B11,'Indicadores Financeiros'!$B$114:$J$119,8,FALSE)*I11)-(VLOOKUP($C11,'Tabela de Códigos e Valores'!A:I,9,FALSE)*6%),2))) -> 0 | O11: =VLOOKUP($C11,'Tabela de Códigos e Valores'!$A:$AE,27,FALSE) -> 0 | P11: =ROUND(SUM(K11:O11),2) -> 0 | Q11: =VLOOKUP($A11,'Indicadores Financeiros'!$A$114:$J$119,8,FALSE) -> 0.0526 | R11: =ROUND(P11*(1+Q11),2) -> 0 | S11: =ROUND(R11*J11,2) -> 0 | T11: =ROUND(S11*ROUND(('Indicadores Financeiros'!$F$14-F11+1),2),2) -> 0 | V11: =IF(E11="Posto",ROUND(J11*K11,2),0) -> 0 | W11: =ROUND('Indicadores Financeiros'!$J$72*$V11,2) -> 0 | Y11: =IF(J11=0,0,IF(E11="Posto",ROUND($R11/$I11,2),0)) -> 0 | Z11: =IF(J11=0,0,IF(E11="Posto",ROUND(ROUND(ROUND((VLOOKUP($C11,'Tabela de Códigos e Valores'!$A:$AE,23,FALSE)/'Relatório Custo'!I11),2)+ROUND(VLOOKUP($C11,'Tabela de Códigos e Valores'!$A:$AE,26,FALSE)/'Relatório Custo'!I11,2)+ROUND((('Indicadores Financeiros'!$J$62*'Relatório Custo'!K11)/'Relatório Custo'!I11),2),2)*(1+Q11),2),0)) -> 0
A12: 5 | B12: =VLOOKUP($A12,'Indicadores Financeiros'!$A$114:$J$217,2,FALSE) -> São Paulo - Fórum Criminal - Complexo Judiciário Ministro Mário Guimarães | C12: 551199 | D12: =VLOOKUP($C12,'Tabela de Códigos e Valores'!$A:$J,2,FALSE) -> Auxiliar Técnico em Refrigeração - Hora Extra Sábado | E12: =VLOOKUP($C12,'Tabela de Códigos e Valores'!$A:$J,5,FALSE) -> Hora Extra | F12: =VLOOKUP($A12,'Indicadores Financeiros'!$A$114:$J$1120,10,FALSE) -> 1 | G12: =VLOOKUP($C12,'Tabela de Códigos e Valores'!$A:$J,6,FALSE) -> Mensal | H12: =VLOOKUP($C12,'Tabela de Códigos e Valores'!$A:$AE,7,FALSE) -> 1 | I12: =VLOOKUP($C12,'Tabela de Códigos e Valores'!$A:$AE,8,FALSE) -> 20.75 | J12: 8 | K12: =VLOOKUP($C12,'Tabela de Códigos e Valores'!$A:$AE,12,FALSE) -> 0 | L12: =VLOOKUP($C12,'Tabela de Códigos e Valores'!$A:$AE,13,FALSE) -> 0 | M12: =VLOOKUP($C12,'Tabela de Códigos e Valores'!$A:$AE,25,FALSE) -> 0 | N12: =IF(E12<>"posto",VLOOKUP($C12,'Tabela de Códigos e Valores'!$A:$AA,26,FALSE),IF(ROUND((VLOOKUP($B12,'Indicadores Financeiros'!$B$114:$J$119,8,FALSE)*I12)-(VLOOKUP($C12,'Tabela de Códigos e Valores'!A:I,9,FALSE)*6%),2)<0,0,ROUND((VLOOKUP($B12,'Indicadores Financeiros'!$B$114:$J$119,8,FALSE)*I12)-(VLOOKUP($C12,'Tabela de Códigos e Valores'!A:I,9,FALSE)*6%),2))) -> 0 | O12: =VLOOKUP($C12,'Tabela de Códigos e Valores'!$A:$AE,27,FALSE) -> 0 | P12: =ROUND(SUM(K12:O12),2) -> 0 | Q12: =VLOOKUP($A12,'Indicadores Financeiros'!$A$114:$J$119,8,FALSE) -> 0.0526 | R12: =ROUND(P12*(1+Q12),2) -> 0 | S12: =ROUND(R12*J12,2) -> 0 | T12: =ROUND(S12*ROUND(('Indicadores Financeiros'!$F$14-F12+1),2),2) -> 0 | V12: =IF(E12="Posto",ROUND(J12*K12,2),0) -> 0 | W12: =ROUND('Indicadores Financeiros'!$J$72*$V12,2) -> 0 | Y12: =IF(J12=0,0,IF(E12="Posto",ROUND($R12/$I12,2),0)) -> 0 | Z12: =IF(J12=0,0,IF(E12="Posto",ROUND(ROUND(ROUND((VLOOKUP($C12,'Tabela de Códigos e Valores'!$A:$AE,23,FALSE)/'Relatório Custo'!I12),2)+ROUND(VLOOKUP($C12,'Tabela de Códigos e Valores'!$A:$AE,26,FALSE)/'Relatório Custo'!I12,2)+ROUND((('Indicadores Financeiros'!$J$62*'Relatório Custo'!K12)/'Relatório Custo'!I12),2),2)*(1+Q12),2),0)) -> 0
A13: 5 | B13: =VLOOKUP($A13,'Indicadores Financeiros'!$A$114:$J$217,2,FALSE) -> São Paulo - Fórum Criminal - Complexo Judiciário Ministro Mário Guimarães | C13: 551200 | D13: =VLOOKUP($C13,'Tabela de Códigos e Valores'!$A:$J,2,FALSE) -> Auxiliar Técnico em Refrigeração - Hora Extra Domingos e Feriados | E13: =VLOOKUP($C13,'Tabela de Códigos e Valores'!$A:$J,5,FALSE) -> Hora Extra | F13: =VLOOKUP($A13,'Indicadores Financeiros'!$A$114:$J$1120,10,FALSE) -> 1 | G13: =VLOOKUP($C13,'Tabela de Códigos e Valores'!$A:$J,6,FALSE) -> Mensal | H13: =VLOOKUP($C13,'Tabela de Códigos e Valores'!$A:$AE,7,FALSE) -> 1 | I13: =VLOOKUP($C13,'Tabela de Códigos e Valores'!$A:$AE,8,FALSE) -> 20.75 | J13: 8 | K13: =VLOOKUP($C13,'Tabela de Códigos e Valores'!$A:$AE,12,FALSE) -> 0 | L13: =VLOOKUP($C13,'Tabela de Códigos e Valores'!$A:$AE,13,FALSE) -> 0 | M13: =VLOOKUP($C13,'Tabela de Códigos e Valores'!$A:$AE,25,FALSE) -> 0 | N13: =IF(E13<>"posto",VLOOKUP($C13,'Tabela de Códigos e Valores'!$A:$AA,26,FALSE),IF(ROUND((VLOOKUP($B13,'Indicadores Financeiros'!$B$114:$J$119,8,FALSE)*I13)-(VLOOKUP($C13,'Tabela de Códigos e Valores'!A:I,9,FALSE)*6%),2)<0,0,ROUND((VLOOKUP($B13,'Indicadores Financeiros'!$B$114:$J$119,8,FALSE)*I13)-(VLOOKUP($C13,'Tabela de Códigos e Valores'!A:I,9,FALSE)*6%),2))) -> 0 | O13: =VLOOKUP($C13,'Tabela de Códigos e Valores'!$A:$AE,27,FALSE) -> 0 | P13: =ROUND(SUM(K13:O13),2) -> 0 | Q13: =VLOOKUP($A13,'Indicadores Financeiros'!$A$114:$J$119,8,FALSE) -> 0.0526 | R13: =ROUND(P13*(1+Q13),2) -> 0 | S13: =ROUND(R13*J13,2) -> 0 | T13: =ROUND(S13*ROUND(('Indicadores Financeiros'!$F$14-F13+1),2),2) -> 0 | V13: =IF(E13="Posto",ROUND(J13*K13,2),0) -> 0 | W13: =ROUND('Indicadores Financeiros'!$J$72*$V13,2) -> 0 | Y13: =IF(J13=0,0,IF(E13="Posto",ROUND($R13/$I13,2),0)) -> 0 | Z13: =IF(J13=0,0,IF(E13="Posto",ROUND(ROUND(ROUND((VLOOKUP($C13,'Tabela de Códigos e Valores'!$A:$AE,23,FALSE)/'Relatório Custo'!I13),2)+ROUND(VLOOKUP($C13,'Tabela de Códigos e Valores'!$A:$AE,26,FALSE)/'Relatório Custo'!I13,2)+ROUND((('Indicadores Financeiros'!$J$62*'Relatório Custo'!K13)/'Relatório Custo'!I13),2),2)*(1+Q13),2),0)) -> 0
A14: 9 | B14: =VLOOKUP($A14,'Indicadores Financeiros'!$A$114:$J$217,2,FALSE) -> São Paulo - GADE IV - 23 de Maio | C14: 551189 | D14: =VLOOKUP($C14,'Tabela de Códigos e Valores'!$A:$J,2,FALSE) -> Técnico mecânico especializado em Refrigeração | E14: =VLOOKUP($C14,'Tabela de Códigos e Valores'!$A:$J,5,FALSE) -> Posto | F14: =VLOOKUP($A14,'Indicadores Financeiros'!$A$114:$J$1120,10,FALSE) -> 1 | G14: =VLOOKUP($C14,'Tabela de Códigos e Valores'!$A:$J,6,FALSE) -> Mensal | H14: =VLOOKUP($C14,'Tabela de Códigos e Valores'!$A:$AE,7,FALSE) -> 1 | I14: =VLOOKUP($C14,'Tabela de Códigos e Valores'!$A:$AE,8,FALSE) -> 20.75 | J14: 2 | K14: =VLOOKUP($C14,'Tabela de Códigos e Valores'!$A:$AE,12,FALSE) -> 0 | L14: =VLOOKUP($C14,'Tabela de Códigos e Valores'!$A:$AE,13,FALSE) -> 0 | M14: =VLOOKUP($C14,'Tabela de Códigos e Valores'!$A:$AE,25,FALSE) -> 0 | N14: =IF(E14<>"posto",VLOOKUP($C14,'Tabela de Códigos e Valores'!$A:$AA,26,FALSE),IF(ROUND((VLOOKUP($B14,'Indicadores Financeiros'!$B$114:$J$119,8,FALSE)*I14)-(VLOOKUP($C14,'Tabela de Códigos e Valores'!A:I,9,FALSE)*6%),2)<0,0,ROUND((VLOOKUP($B14,'Indicadores Financeiros'!$B$114:$J$119,8,FALSE)*I14)-(VLOOKUP($C14,'Tabela de Códigos e Valores'!A:I,9,FALSE)*6%),2))) -> 0 | O14: =VLOOKUP($C14,'Tabela de Códigos e Valores'!$A:$AE,27,FALSE) -> 0 | P14: =ROUND(SUM(K14:O14),2) -> 0 | Q14: =VLOOKUP($A14,'Indicadores Financeiros'!$A$114:$J$119,8,FALSE) -> 0.0526 | R14: =ROUND(P14*(1+Q14),2) -> 0 | S14: =ROUND(R14*J14,2) -> 0 | T14: =ROUND(S14*ROUND(('Indicadores Financeiros'!$F$14-F14+1),2),2) -> 0 | V14: =IF(E14="Posto",ROUND(J14*K14,2),0) -> 0 | W14: =ROUND('Indicadores Financeiros'!$J$72*$V14,2) -> 0 | Y14: =IF(J14=0,0,IF(E14="Posto",ROUND($R14/$I14,2),0)) -> 0 | Z14: =IF(J14=0,0,IF(E14="Posto",ROUND(ROUND(ROUND((VLOOKUP($C14,'Tabela de Códigos e Valores'!$A:$AE,23,FALSE)/'Relatório Custo'!I14),2)+ROUND(VLOOKUP($C14,'Tabela de Códigos e Valores'!$A:$AE,26,FALSE)/'Relatório Custo'!I14,2)+ROUND((('Indicadores Financeiros'!$J$62*'Relatório Custo'!K14)/'Relatório Custo'!I14),2),2)*(1+Q14),2),0)) -> 0
... A21: 15 | B21: =VLOOKUP($A21,'Indicadores Financeiros'!$A$114:$J$217,2,FALSE) -> São Paulo - Unidade Administrativa I - Praça do Patriarca | C21: 551196 | D21: =VLOOKUP($C21,'Tabela de Códigos e Valores'!$A:$J,2,FALSE) -> Técnico em Refrigeração Mecânico - Hora Extra Sábado | E21: =VLOOKUP($C21,'Tabela de Códigos e Valores'!$A:$J,5,FALSE) -> Hora Extra | F21: =VLOOKUP($A21,'Indicadores Financeiros'!$A$114:$J$1120,10,FALSE) -> 1 | G21: =VLOOKUP($C21,'Tabela de Códigos e Valores'!$A:$J,6,FALSE) -> Mensal | H21: =VLOOKUP($C21,'Tabela de Códigos e Valores'!$A:$AE,7,FALSE) -> 1 | I21: =VLOOKUP($C21,'Tabela de Códigos e Valores'!$A:$AE,8,FALSE) -> 20.75 | J21: 42 | K21: =VLOOKUP($C21,'Tabela de Códigos e Valores'!$A:$AE,12,FALSE) -> 0 | L21: =VLOOKUP($C21,'Tabela de Códigos e Valores'!$A:$AE,13,FALSE) -> 0 | M21: =VLOOKUP($C21,'Tabela de Códigos e Valores'!$A:$AE,25,FALSE) -> 0 | N21: =IF(E21<>"posto",VLOOKUP($C21,'Tabela de Códigos e Valores'!$A:$AA,26,FALSE),IF(ROUND((VLOOKUP($B21,'Indicadores Financeiros'!$B$114:$J$119,8,FALSE)*I21)-(VLOOKUP($C21,'Tabela de Códigos e Valores'!A:I,9,FALSE)*6%),2)<0,0,ROUND((VLOOKUP($B21,'Indicadores Financeiros'!$B$114:$J$119,8,FALSE)*I21)-(VLOOKUP($C21,'Tabela de Códigos e Valores'!A:I,9,FALSE)*6%),2))) -> 0 | O21: =VLOOKUP($C21,'Tabela de Códigos e Valores'!$A:$AE,27,FALSE) -> 0 | P21: =ROUND(SUM(K21:O21),2) -> 0 | Q21: =VLOOKUP($A21,'Indicadores Financeiros'!$A$114:$J$119,8,FALSE) -> 0.0526 | R21: =ROUND(P21*(1+Q21),2) -> 0 | S21: =ROUND(R21*J21,2) -> 0 | T21: =ROUND(S21*ROUND(('Indicadores Financeiros'!$F$14-F21+1),2),2) -> 0 | V21: =IF(E21="Posto",ROUND(J21*K21,2),0) -> 0 | W21: =ROUND('Indicadores Financeiros'!$J$72*$V21,2) -> 0 | Y21: =IF(J21=0,0,IF(E21="Posto",ROUND($R21/$I21,2),0)) -> 0 | Z21: =IF(J21=0,0,IF(E21="Posto",ROUND(ROUND(ROUND((VLOOKUP($C21,'Tabela de Códigos e Valores'!$A:$AE,23,FALSE)/'Relatório Custo'!I21),2)+ROUND(VLOOKUP($C21,'Tabela de Códigos e Valores'!$A:$AE,26,FALSE)/'Relatório Custo'!I21,2)+ROUND((('Indicadores Financeiros'!$J$62*'Relatório Custo'!K21)/'Relatório Custo'!I21),2),2)*(1+Q21),2),0)) -> 0
S22: =SUBTOTAL(9,S3:S21) -> 0 | T22: =SUBTOTAL(9,T3:T21) -> 0 | V22: =SUBTOTAL(9,V3:V21) -> 0 | W22: =SUBTOTAL(9,W3:W21) -> 0

Sheet Horas Extras
A1: Lote | B1: Grupo | C1: Localidade | D1: Código | E1: Função | F1: Unidade | G1: Quantidade de Horas | H1: Remuneração (Salários + Adicionais) | I1: Adicional de Hora Extra | J1: Remuneração Total | K1: Encargos Sociais e Trabalhistas | L1: Benefícios (Vale refeição) | M1: Vale Transporte | N1: Uniformes e EPI´s | O1: Valor Unitário da Hora- sem BDI | P1: BDI | Q1: Valor Unitário da Hora- com BDI
A3: 5 | B3: 2 | C3: =VLOOKUP(A3,'Indicadores Financeiros'!$A$114:$F$118,2,FALSE) -> São Paulo - Fórum Criminal - Complexo Judiciário Ministro Mário Guimarães | D3: 551195 | E3: =VLOOKUP(D3,'Tabela de Códigos e Valores'!$A$5:$B$15,2,FALSE) -> Técnico em Refrigeração Mecânico - Hora Extra Noturna | F3: =VLOOKUP(D3,'Tabela de Códigos e Valores'!$A$5:$E$15,5,FALSE) -> Hora Extra | H3: =ROUND(VLOOKUP(B3,'Indicadores Financeiros'!$A$84:$J$88,10,FALSE)/220,2) -> 0 | I3: =ROUND(H3*(1+'Indicadores Financeiros'!$H$77)*(1+'Indicadores Financeiros'!$H$78)-H3,2) -> 0 | J3: =ROUND(H3+I3,2) -> 0 | K3: =ROUND(J3*'Indicadores Financeiros'!$J$64,2) -> 0 | L3: =IF(OR(D3=551195,D3=551198),0,ROUND('Indicadores Financeiros'!$J$101/6,2)) -> 0 | M3: =IF(OR(D3=551195,D3=551198),0,ROUND(VLOOKUP(A3,'Indicadores Financeiros'!$A$114:$J$118,9,FALSE)/8,2)) -> 0 | O3: =ROUND(SUM(J3:N3),2) -> 0 | P3: =VLOOKUP(A3,'Indicadores Financeiros'!$A$114:$J$118,8,FALSE) -> 0.0526 | Q3: =ROUND(G3*ROUND(O3*(1+P3),2),2) -> 0 | R3: =Q3-'Tabela de Códigos e Valores'!AE10 -> 0
A4: 5 | B4: 2 | C4: =VLOOKUP(A4,'Indicadores Financeiros'!$A$114:$F$118,2,FALSE) -> São Paulo - Fórum Criminal - Complexo Judiciário Ministro Mário Guimarães | D4: 551196 | E4: =VLOOKUP(D4,'Tabela de Códigos e Valores'!$A$5:$B$15,2,FALSE) -> Técnico em Refrigeração Mecânico - Hora Extra Sábado | F4: =VLOOKUP(D4,'Tabela de Códigos e Valores'!$A$5:$E$15,5,FALSE) -> Hora Extra | H4: =ROUND(VLOOKUP(B4,'Indicadores Financeiros'!$A$84:$J$88,10,FALSE)/220,2) -> 0 | I4: =ROUND('Indicadores Financeiros'!$H$79*H4,2) -> 0 | J4: =ROUND(H4+I4,2) -> 0 | K4: =ROUND(J4*'Indicadores Financeiros'!$J$64,2) -> 0 | L4: =IF(OR(D4=551195,D4=551198),0,ROUND('Indicadores Financeiros'!$J$101/6,2)) -> 0 | M4: =IF(OR(D4=551195,D4=551198),0,ROUND(VLOOKUP(A4,'Indicadores Financeiros'!$A$114:$J$118,9,FALSE)/8,2)) -> 0 | O4: =ROUND(SUM(J4:N4),2) -> 0 | P4: =VLOOKUP(A4,'Indicadores Financeiros'!$A$114:$J$118,8,FALSE) -> 0.0526 | Q4: =ROUND(G4*ROUND(O4*(1+P4),2),2) -> 0 | R4: =Q4-'Tabela de Códigos e Valores'!AE11 -> 0
A5: 5 | B5: 2 | C5: =VLOOKUP(A5,'Indicadores Financeiros'!$A$114:$F$118,2,FALSE) -> São Paulo - Fórum Criminal - Complexo Judiciário Ministro Mário Guimarães | D5: 551197 | E5: =VLOOKUP(D5,'Tabela de Códigos e Valores'!$A$5:$B$15,2,FALSE) -> Técnico em Refrigeração Mecânico - Hora Extra Domingo e Feriado | F5: =VLOOKUP(D5,'Tabela de Códigos e Valores'!$A$5:$E$15,5,FALSE) -> Hora Extra | H5: =ROUND(VLOOKUP(B5,'Indicadores Financeiros'!$A$84:$J$88,10,FALSE)/220,2) -> 0 | I5: =ROUND('Indicadores Financeiros'!$H$80*H5,2) -> 0 | J5: =ROUND(H5+I5,2) -> 0 | K5: =ROUND(J5*'Indicadores Financeiros'!$J$64,2) -> 0 | L5: =IF(OR(D5=551195,D5=551198),0,ROUND('Indicadores Financeiros'!$J$101/6,2)) -> 0 | M5: =IF(OR(D5=551195,D5=551198),0,ROUND(VLOOKUP(A5,'Indicadores Financeiros'!$A$114:$J$118,9,FALSE)/8,2)) -> 0 | O5: =ROUND(SUM(J5:N5),2) -> 0 | P5: =VLOOKUP(A5,'Indicadores Financeiros'!$A$114:$J$118,8,FALSE) -> 0.0526 | Q5: =ROUND(G5*ROUND(O5*(1+P5),2),2) -> 0 | R5: =Q5-'Tabela de Códigos e Valores'!AE12 -> 0
A6: 5 | B6: 5 | C6: =VLOOKUP(A6,'Indicadores Financeiros'!$A$114:$F$118,2,FALSE) -> São Paulo - Fórum Criminal - Complexo Judiciário Ministro Mário Guimarães | D6: 551198 | E6: =VLOOKUP(D6,'Tabela de Códigos e Valores'!$A$5:$B$15,2,FALSE) -> Auxiliar Técnico em Refrigeração - Hora Extra Noturna | F6: =VLOOKUP(D6,'Tabela de Códigos e Valores'!$A$5:$E$15,5,FALSE) -> Hora Extra | H6: =ROUND(VLOOKUP(B6,'Indicadores Financeiros'!$A$84:$J$88,10,FALSE)/220,2) -> 0 | I6: =ROUND(H6*(1+'Indicadores Financeiros'!$H$77)*(1+'Indicadores Financeiros'!$H$78)-H6,2) -> 0 | J6: =ROUND(H6+I6,2) -> 0 | K6: =ROUND(J6*'Indicadores Financeiros'!$J$64,2) -> 0 | L6: =IF(OR(D6=551195,D6=551198),0,ROUND('Indicadores Financeiros'!$J$101/6,2)) -> 0 | M6: =IF(OR(D6=551195,D6=551198),0,ROUND(VLOOKUP(A6,'Indicadores Financeiros'!$A$114:$J$118,9,FALSE)/8,2)) -> 0 | O6: =ROUND(SUM(J6:N6),2) -> 0 | P6: =VLOOKUP(A6,'Indicadores Financeiros'!$A$114:$J$118,8,FALSE) -> 0.0526 | Q6: =ROUND(G6*ROUND(O6*(1+P6),2),2) -> 0 | R6: =Q6-'Tabela de Códigos e Valores'!AE13 -> 0
A7: 5 | B7: 5 | C7: =VLOOKUP(A7,'Indicadores Financeiros'!$A$114:$F$118,2,FALSE) -> São Paulo - Fórum Criminal - Complexo Judiciário Ministro Mário Guimarães | D7: 551199 | E7: =VLOOKUP(D7,'Tabela de Códigos e Valores'!$A$5:$B$15,2,FALSE) -> Auxiliar Técnico em Refrigeração - Hora Extra Sábado | F7: =VLOOKUP(D7,'Tabela de Códigos e Valores'!$A$5:$E$15,5,FALSE) -> Hora Extra | H7: =ROUND(VLOOKUP(B7,'Indicadores Financeiros'!$A$84:$J$88,10,FALSE)/220,2) -> 0 | I7: =ROUND('Indicadores Financeiros'!$H$79*H7,2) -> 0 | J7: =ROUND(H7+I7,2) -> 0 | K7: =ROUND(J7*'Indicadores Financeiros'!$J$64,2) -> 0 | L7: =IF(OR(D7=551195,D7=551198),0,ROUND('Indicadores Financeiros'!$J$101/6,2)) -> 0 | M7: =IF(OR(D7=551195,D7=551198),0,ROUND(VLOOKUP(A7,'Indicadores Financeiros'!$A$114:$J$118,9,FALSE)/8,2)) -> 0 | O7: =ROUND(SUM(J7:N7),2) -> 0 | P7: =VLOOKUP(A7,'Indicadores Financeiros'!$A$114:$J$118,8,FALSE) -> 0.0526 | Q7: =ROUND(G7*ROUND(O7*(1+P7),2),2) -> 0 | R7: =Q7-'Tabela de Códigos e Valores'!AE14 -> 0
A8: 5 | B8: 5 | C8: =VLOOKUP(A8,'Indicadores Financeiros'!$A$114:$F$118,2,FALSE) -> São Paulo - Fórum Criminal - Complexo Judiciário Ministro Mário Guimarães | D8: 551200 | E8: =VLOOKUP(D8,'Tabela de Códigos e Valores'!$A$5:$B$15,2,FALSE) -> Auxiliar Técnico em Refrigeração - Hora Extra Domingos e Feriados | F8: =VLOOKUP(D8,'Tabela de Códigos e Valores'!$A$5:$E$15,5,FALSE) -> Hora Extra | H8: =ROUND(VLOOKUP(B8,'Indicadores Financeiros'!$A$84:$J$88,10,FALSE)/220,2) -> 0 | I8: =ROUND('Indicadores Financeiros'!$H$80*H8,2) -> 0 | J8: =ROUND(H8+I8,2) -> 0 | K8: =ROUND(J8*'Indicadores Financeiros'!$J$64,2) -> 0 | L8: =IF(OR(D8=551195,D8=551198),0,ROUND('Indicadores Financeiros'!$J$101/6,2)) -> 0 | M8: =IF(OR(D8=551195,D8=551198),0,ROUND(VLOOKUP(A8,'Indicadores Financeiros'!$A$114:$J$118,9,FALSE)/8,2)) -> 0 | O8: =ROUND(SUM(J8:N8),2) -> 0 | P8: =VLOOKUP(A8,'Indicadores Financeiros'!$A$114:$J$118,8,FALSE) -> 0.0526 | Q8: =ROUND(G8*ROUND(O8*(1+P8),2),2) -> 0 | R8: =Q8-'Tabela de Códigos e Valores'!AE15 -> 0
A9: 15 | B9: 2 | C9: =VLOOKUP(A9,'Indicadores Financeiros'!$A$114:$F$118,2,FALSE) -> São Paulo - Unidade Administrativa I - Praça do Patriarca | D9: 551196 | E9: =VLOOKUP(D9,'Tabela de Códigos e Valores'!$A$5:$B$15,2,FALSE) -> Técnico em Refrigeração Mecânico - Hora Extra Sábado | F9: =VLOOKUP(D9,'Tabela de Códigos e Valores'!$A$5:$E$15,5,FALSE) -> Hora Extra | H9: =ROUND(VLOOKUP(B9,'Indicadores Financeiros'!$A$84:$J$88,10,FALSE)/220,2) -> 0 | I9: =ROUND('Indicadores Financeiros'!$H$79*H9,2) -> 0 | J9: =ROUND(H9+I9,2) -> 0 | K9: =ROUND(J9*'Indicadores Financeiros'!$J$64,2) -> 0 | L9: =IF(OR(D9=551195,D9=551198),0,ROUND('Indicadores Financeiros'!$J$101/6,2)) -> 0 | M9: =IF(OR(D9=551195,D9=551198),0,ROUND(VLOOKUP(A9,'Indicadores Financeiros'!$A$114:$J$118,9,FALSE)/8,2)) -> 0 | O9: =ROUND(SUM(J9:N9),2) -> 0 | P9: =VLOOKUP(A9,'Indicadores Financeiros'!$A$114:$J$118,8,FALSE) -> 0.0526 | Q9: =ROUND(G9*ROUND(O9*(1+P9),2),2) -> 0 | R9: =Q9-'Tabela de Códigos e Valores'!AE11 -> 0

Sheet Custo  Resumido
A1: QUADRO RESUMO
A2: Código | B2: Função | F2: Unidade | G2: Periodicidade | H2: Quantidade | I2: Remuneração Mensal * | J2: Valor Total Mensal | K2: Valor Total
A3: 551188 | B3: =VLOOKUP(A3,'Tabela de Códigos e Valores'!A:B,2,FALSE) -> Supervisor geral especializado em refrigeração, controle e administração | F3: =VLOOKUP($A3,'Tabela de Códigos e Valores'!$A:$J,5,FALSE) -> Posto | G3: =VLOOKUP($A3,'Tabela de Códigos e Valores'!$A:$J,6,FALSE) -> Mensal | H3: =SUMIF('Relatório Custo'!$C:$C,$A3,'Relatório Custo'!$J:$J) -> 1 | I3: =SUMIF('Relatório Custo'!$C:$C,$A3,'Relatório Custo'!$V:$V) -> 0 | J3: =SUMIF('Relatório Custo'!$C:$C,$A3,'Relatório Custo'!$S:$S) -> 0 | K3: =SUMIF('Relatório Custo'!$C:$C,$A3,'Relatório Custo'!$T:$T) -> 0
A4: 551189 | B4: =VLOOKUP(A4,'Tabela de Códigos e Valores'!A:B,2,FALSE) -> Técnico mecânico especializado em Refrigeração | F4: =VLOOKUP($A4,'Tabela de Códigos e Valores'!$A:$J,5,FALSE) -> Posto | G4: =VLOOKUP($A4,'Tabela de Códigos e Valores'!$A:$J,6,FALSE) -> Mensal | H4: =SUMIF('Relatório Custo'!$C:$C,$A4,'Relatório Custo'!$J:$J) -> 9 | I4: =SUMIF('Relatório Custo'!$C:$C,$A4,'Relatório Custo'!$V:$V) -> 0 | J4: =SUMIF('Relatório Custo'!$C:$C,$A4,'Relatório Custo'!$S:$S) -> 0 | K4: =SUMIF('Relatório Custo'!$C:$C,$A4,'Relatório Custo'!$T:$T) -> 0
A5: 551190 | B5: =VLOOKUP(A5,'Tabela de Códigos e Valores'!A:B,2,FALSE) -> Operador | F5: =VLOOKUP($A5,'Tabela de Códigos e Valores'!$A:$J,5,FALSE) -> Posto | G5: =VLOOKUP($A5,'Tabela de Códigos e Valores'!$A:$J,6,FALSE) -> Mensal | H5: =SUMIF('Relatório Custo'!$C:$C,$A5,'Relatório Custo'!$J:$J) -> 2 | I5: =SUMIF('Relatório Custo'!$C:$C,$A5,'Relatório Custo'!$V:$V) -> 0 | J5: =SUMIF('Relatório Custo'!$C:$C,$A5,'Relatório Custo'!$S:$S) -> 0 | K5: =SUMIF('Relatório Custo'!$C:$C,$A5,'Relatório Custo'!$T:$T) -> 0
A6: 551191 | B6: =VLOOKUP(A6,'Tabela de Códigos e Valores'!A:B,2,FALSE) -> Auxiliar Técnico especializado em Refrigeração | F6: =VLOOKUP($A6,'Tabela de Códigos e Valores'!$A:$J,5,FALSE) -> Posto | G6: =VLOOKUP($A6,'Tabela de Códigos e Valores'!$A:$J,6,FALSE) -> Mensal | H6: =SUMIF('Relatório Custo'!$C:$C,$A6,'Relatório Custo'!$J:$J) -> 4 | I6: =SUMIF('Relatório Custo'!$C:$C,$A6,'Relatório Custo'!$V:$V) -> 0 | J6: =SUMIF('Relatório Custo'!$C:$C,$A6,'Relatório Custo'!$S:$S) -> 0 | K6: =SUMIF('Relatório Custo'!$C:$C,$A6,'Relatório Custo'!$T:$T) -> 0
A7: 551192 | B7: =VLOOKUP(A7,'Tabela de Códigos e Valores'!A:B,2,FALSE) -> Técnico Elétrico/ Eletrônico/ Eletrotécnico, especializado em refrigeração | F7: =VLOOKUP($A7,'Tabela de Códigos e Valores'!$A:$J,5,FALSE) -> Posto | G7: =VLOOKUP($A7,'Tabela de Códigos e Valores'!$A:$J,6,FALSE) -> Mensal | H7: =SUMIF('Relatório Custo'!$C:$C,$A7,'Relatório Custo'!$J:$J) -> 5 | I7: =SUMIF('Relatório Custo'!$C:$C,$A7,'Relatório Custo'!$V:$V) -> 0 | J7: =SUMIF('Relatório Custo'!$C:$C,$A7,'Relatório Custo'!$S:$S) -> 0 | K7: =SUMIF('Relatório Custo'!$C:$C,$A7,'Relatório Custo'!$T:$T) -> 0
A8: 551195 | B8: =VLOOKUP(A8,'Tabela de Códigos e Valores'!A:B,2,FALSE) -> Técnico em Refrigeração Mecânico - Hora Extra Noturna | F8: =VLOOKUP($A8,'Tabela de Códigos e Valores'!$A:$J,5,FALSE) -> Hora Extra | G8: =VLOOKUP($A8,'Tabela de Códigos e Valores'!$A:$J,6,FALSE) -> Mensal | H8: =SUMIF('Relatório Custo'!$C:$C,$A8,'Relatório Custo'!$J:$J) -> 20 | I8: =SUMIF('Relatório Custo'!$C:$C,$A8,'Relatório Custo'!$V:$V) -> 0 | J8: =SUMIF('Relatório Custo'!$C:$C,$A8,'Relatório Custo'!$S:$S) -> 0 | K8: =SUMIF('Relatório Custo'!$C:$C,$A8,'Relatório Custo'!$T:$T) -> 0
A9: 551196 | B9: =VLOOKUP(A9,'Tabela de Códigos e Valores'!A:B,2,FALSE) -> Técnico em Refrigeração Mecânico - Hora Extra Sábado | F9: =VLOOKUP($A9,'Tabela de Códigos e Valores'!$A:$J,5,FALSE) -> Hora Extra | G9: =VLOOKUP($A9,'Tabela de Códigos e Valores'!$A:$J,6,FALSE) -> Mensal | H9: =SUMIF('Relatório Custo'!$C:$C,$A9,'Relatório Custo'!$J:$J) -> 50 | I9: =SUMIF('Relatório Custo'!$C:$C,$A9,'Relatório Custo'!$V:$V) -> 0 | J9: =SUMIF('Relatório Custo'!$C:$C,$A9,'Relatório Custo'!$S:$S) -> 0 | K9: =SUMIF('Relatório Custo'!$C:$C,$A9,'Relatório Custo'!$T:$T) -> 0
A10: 551197 | B10: =VLOOKUP(A10,'Tabela de Códigos e Valores'!A:B,2,FALSE) -> Técnico em Refrigeração Mecânico - Hora Extra Domingo e Feriado | F10: =VLOOKUP($A10,'Tabela de Códigos e Valores'!$A:$J,5,FALSE) -> Hora Extra | G10: =VLOOKUP($A10,'Tabela de Códigos e Valores'!$A:$J,6,FALSE) -> Mensal | H10: =SUMIF('Relatório Custo'!$C:$C,$A10,'Relatório Custo'!$J:$J) -> 8 | I10: =SUMIF('Relatório Custo'!$C:$C,$A10,'Relatório Custo'!$V:$V) -> 0 | J10: =SUMIF('Relatório Custo'!$C:$C,$A10,'Relatório Custo'!$S:$S) -> 0 | K10: =SUMIF('Relatório Custo'!$C:$C,$A10,'Relatório Custo'!$T:$T) -> 0
A11: 551198 | B11: =VLOOKUP(A11,'Tabela de Códigos e Valores'!A:B,2,FALSE) -> Auxiliar Técnico em Refrigeração - Hora Extra Noturna | F11: =VLOOKUP($A11,'Tabela de Códigos e Valores'!$A:$J,5,FALSE) -> Hora Extra | G11: =VLOOKUP($A11,'Tabela de Códigos e Valores'!$A:$J,6,FALSE) -> Mensal | H11: =SUMIF('Relatório Custo'!$C:$C,$A11,'Relatório Custo'!$J:$J) -> 20 | I11: =SUMIF('Relatório Custo'!$C:$C,$A11,'Relatório Custo'!$V:$V) -> 0 | J11: =SUMIF('Relatório Custo'!$C:$C,$A11,'Relatório Custo'!$S:$S) -> 0 | K11: =SUMIF('Relatório Custo'!$C:$C,$A11,'Relatório Custo'!$T:$T) -> 0
A12: 551199 | B12: =VLOOKUP(A12,'Tabela de Códigos e Valores'!A:B,2,FALSE) -> Auxiliar Técnico em Refrigeração - Hora Extra Sábado | F12: =VLOOKUP($A12,'Tabela de Códigos e Valores'!$A:$J,5,FALSE) -> Hora Extra | G12: =VLOOKUP($A12,'Tabela de Códigos e Valores'!$A:$J,6,FALSE) -> Mensal | H12: =SUMIF('Relatório Custo'!$C:$C,$A12,'Relatório Custo'!$J:$J) -> 8 | I12: =SUMIF('Relatório Custo'!$C:$C,$A12,'Relatório Custo'!$V:$V) -> 0 | J12: =SUMIF('Relatório Custo'!$C:$C,$A12,'Relatório Custo'!$S:$S) -> 0 | K12: =SUMIF('Relatório Custo'!$C:$C,$A12,'Relatório Custo'!$T:$T) -> 0
A13: 551200 | B13: =VLOOKUP(A13,'Tabela de Códigos e Valores'!A:B,2,FALSE) -> Auxiliar Técnico em Refrigeração - Hora Extra Domingos e Feriados | F13: =VLOOKUP($A13,'Tabela de Códigos e Valores'!$A:$J,5,FALSE) -> Hora Extra | G13: =VLOOKUP($A13,'Tabela de Códigos e Valores'!$A:$J,6,FALSE) -> Mensal | H13: =SUMIF('Relatório Custo'!$C:$C,$A13,'Relatório Custo'!$J:$J) -> 8 | I13: =SUMIF('Relatório Custo'!$C:$C,$A13,'Relatório Custo'!$V:$V) -> 0 | J13: =SUMIF('Relatório Custo'!$C:$C,$A13,'Relatório Custo'!$S:$S) -> 0 | K13: =SUMIF('Relatório Custo'!$C:$C,$A13,'Relatório Custo'!$T:$T) -> 0
H14: TOTAL | I14: =SUBTOTAL(9,I3:I13) -> 0 | J14: =SUBTOTAL(9,J3:J13) -> 0 | K14: =SUBTOTAL(9,K3:K13) -> 0
A15: * Remuneração mensal para cálculo do contingenciamento de encargos trabalhistas
A16: PERCENTUAIS DE CONTIGENCIAMENTO MENSAL DE ENCARGOS TRABALHISTAS
A17: A | B17: Total da Mão de Obra (remuneração Mensal) | K17: =$I$14 -> 0
A18: B | B18: 13º Salário | J18: ='Indicadores Financeiros'!$J$28 -> 0.0893
A19: C | B19: Férias | J19: ='Indicadores Financeiros'!$J$56 -> 0.0893
A20: D | B20: Abono de Férias | J20: ='Indicadores Financeiros'!$J$29 -> 0.0298
A21: E | B21: Incidência de encargos trabalhistas: percentual total do Módulo I s/ os itens A,B, C e D | H21: Percentual | I21: ='Indicadores Financeiros'!$J$25 -> 0.338 | J21: =ROUND(I21*SUM(J18:J20),4) -> 0.0704
A22: F | B22: Multa FGTS | J22: ='Indicadores Financeiros'!$J$53 -> 0.0348
A23: Valor total mensal a contingenciar | J23: =ROUND(SUM(J18:J22),4) -> 0.3136 | K23: =ROUND($K$17*$J$23,2) -> 0
A25: CRONOGRAMA FÍSICO FINANCEIRO
A26: Mês | C26: Valor | H26: Total Mensal Remuneração | J26: Total Mensal Contingenciamento
A28: 1 | C28: =IF(A28<='Indicadores Financeiros'!$F$14,SUMIF('Relatório Custo'!$F:$F,"<="&$A28,'Relatório Custo'!$S:$S),0) -> 0 | H28: =IF(A28<='Indicadores Financeiros'!$F$14,SUMIF('Relatório Custo'!$F:$F,"<="&$A28,'Relatório Custo'!$V:$V),0) -> 0 | J28: =IF(A28<='Indicadores Financeiros'!$F$14,SUMIF('Relatório Custo'!$F:$F,"<="&$A28,'Relatório Custo'!$W:$W),0) -> 0
A29: 2 | C29: =IF(A29<='Indicadores Financeiros'!$F$14,SUMIF('Relatório Custo'!$F:$F,"<="&$A29,'Relatório Custo'!$S:$S),0) -> 0 | H29: =IF(A29<='Indicadores Financeiros'!$F$14,SUMIF('Relatório Custo'!$F:$F,"<="&$A29,'Relatório Custo'!$V:$V),0) -> 0 | J29: =IF(A29<='Indicadores Financeiros'!$F$14,SUMIF('Relatório Custo'!$F:$F,"<="&$A29,'Relatório Custo'!$W:$W),0) -> 0
A30: 3 | C30: =IF(A30<='Indicadores Financeiros'!$F$14,SUMIF('Relatório Custo'!$F:$F,"<="&$A30,'Relatório Custo'!$S:$S),0) -> 0 | H30: =IF(A30<='Indicadores Financeiros'!$F$14,SUMIF('Relatório Custo'!$F:$F,"<="&$A30,'Relatório Custo'!$V:$V),0) -> 0 | J30: =IF(A30<='Indicadores Financeiros'!$F$14,SUMIF('Relatório Custo'!$F:$F,"<="&$A30,'Relatório Custo'!$W:$W),0) -> 0
A31: 4 | C31: =IF(A31<='Indicadores Financeiros'!$F$14,SUMIF('Relatório Custo'!$F:$F,"<="&$A31,'Relatório Custo'!$S:$S),0) -> 0 | H31: =IF(A31<='Indicadores Financeiros'!$F$14,SUMIF('Relatório Custo'!$F:$F,"<="&$A31,'Relatório Custo'!$V:$V),0) -> 0 | J31: =IF(A31<='Indicadores Financeiros'!$F$14,SUMIF('Relatório Custo'!$F:$F,"<="&$A31,'Relatório Custo'!$W:$W),0) -> 0
A32: 5 | C32: =IF(A32<='Indicadores Financeiros'!$F$14,SUMIF('Relatório Custo'!$F:$F,"<="&$A32,'Relatório Custo'!$S:$S),0) -> 0 | H32: =IF(A32<='Indicadores Financeiros'!$F$14,SUMIF('Relatório Custo'!$F:$F,"<="&$A32,'Relatório Custo'!$V:$V),0) -> 0 | J32: =IF(A32<='Indicadores Financeiros'!$F$14,SUMIF('Relatório Custo'!$F:$F,"<="&$A32,'Relatório Custo'!$W:$W),0) -> 0
A33: 6 | C33: =IF(A33<='Indicadores Financeiros'!$F$14,SUMIF('Relatório Custo'!$F:$F,"<="&$A33,'Relatório Custo'!$S:$S),0) -> 0 | H33: =IF(A33<='Indicadores Financeiros'!$F$14,SUMIF('Relatório Custo'!$F:$F,"<="&$A33,'Relatório Custo'!$V:$V),0) -> 0 | J33: =IF(A33<='Indicadores Financeiros'!$F$14,SUMIF('Relatório Custo'!$F:$F,"<="&$A33,'Relatório Custo'!$W:$W),0) -> 0
A34: 7 | C34: =IF(A34<='Indicadores Financeiros'!$F$14,SUMIF('Relatório Custo'!$F:$F,"<="&$A34,'Relatório Custo'!$S:$S),0) -> 0 | H34: =IF(A34<='Indicadores Financeiros'!$F$14,SUMIF('Relatório Custo'!$F:$F,"<="&$A34,'Relatório Custo'!$V:$V),0) -> 0 | J34: =IF(A34<='Indicadores Financeiros'!$F$14,SUMIF('Relatório Custo'!$F:$F,"<="&$A34,'Relatório Custo'!$W:$W),0) -> 0
A35: 8 | C35: =IF(A35<='Indicadores Financeiros'!$F$14,SUMIF('Relatório Custo'!$F:$F,"<="&$A35,'Relatório Custo'!$S:$S),0) -> 0 | H35: =IF(A35<='Indicadores Financeiros'!$F$14,SUMIF('Relatório Custo'!$F:$F,"<="&$A35,'Relatório Custo'!$V:$V),0) -> 0 | J35: =IF(A35<='Indicadores Financeiros'!$F$14,SUMIF('Relatório Custo'!$F:$F,"<="&$A35,'Relatório Custo'!$W:$W),0) -> 0
A36: 9 | C36: =IF(A36<='Indicadores Financeiros'!$F$14,SUMIF('Relatório Custo'!$F:$F,"<="&$A36,'Relatório Custo'!$S:$S),0) -> 0 | H36: =IF(A36<='Indicadores Financeiros'!$F$14,SUMIF('Relatório Custo'!$F:$F,"<="&$A36,'Relatório Custo'!$V:$V),0) -> 0 | J36: =IF(A36<='Indicadores Financeiros'!$F$14,SUMIF('Relatório Custo'!$F:$F,"<="&$A36,'Relatório Custo'!$W:$W),0) -> 0
A37: 10 | C37: =IF(A37<='Indicadores Financeiros'!$F$14,SUMIF('Relatório Custo'!$F:$F,"<="&$A37,'Relatório Custo'!$S:$S),0) -> 0 | H37: =IF(A37<='Indicadores Financeiros'!$F$14,SUMIF('Relatório Custo'!$F:$F,"<="&$A37,'Relatório Custo'!$V:$V),0) -> 0 | J37: =IF(A37<='Indicadores Financeiros'!$F$14,SUMIF('Relatório Custo'!$F:$F,"<="&$A37,'Relatório Custo'!$W:$W),0) -> 0
A38: 11 | C38: =IF(A38<='Indicadores Financeiros'!$F$14,SUMIF('Relatório Custo'!$F:$F,"<="&$A38,'Relatório Custo'!$S:$S),0) -> 0 | H38: =IF(A38<='Indicadores Financeiros'!$F$14,SUMIF('Relatório Custo'!$F:$F,"<="&$A38,'Relatório Custo'!$V:$V),0) -> 0 | J38: =IF(A38<='Indicadores Financeiros'!$F$14,SUMIF('Relatório Custo'!$F:$F,"<="&$A38,'Relatório Custo'!$W:$W),0) -> 0
A39: 12 | C39: =IF(A39<='Indicadores Financeiros'!$F$14,SUMIF('Relatório Custo'!$F:$F,"<="&$A39,'Relatório Custo'!$S:$S),0) -> 0 | H39: =IF(A39<='Indicadores Financeiros'!$F$14,SUMIF('Relatório Custo'!$F:$F,"<="&$A39,'Relatório Custo'!$V:$V),0) -> 0 | J39: =IF(A39<='Indicadores Financeiros'!$F$14,SUMIF('Relatório Custo'!$F:$F,"<="&$A39,'Relatório Custo'!$W:$W),0) -> 0
... A57: 30 | C57: =IF(A57<='Indicadores Financeiros'!$F$14,SUMIF('Relatório Custo'!$F:$F,"<="&$A57,'Relatório Custo'!$S:$S),0) -> 0 | H57: =IF(A57<='Indicadores Financeiros'!$F$14,SUMIF('Relatório Custo'!$F:$F,"<="&$A57,'Relatório Custo'!$V:$V),0) -> 0 | J57: =IF(A57<='Indicadores Financeiros'!$F$14,SUMIF('Relatório Custo'!$F:$F,"<="&$A57,'Relatório Custo'!$W:$W),0) -> 0
A58: Total Geral | C58: =ROUND(SUM(C28:G57),2) -> 0 | H58: =ROUND(SUM(H28:I57),2) -> 0 | J58: =ROUND(SUM(J28:K57),2) -> 0
G59: =C58-K14 -> 0

Sheet Custo  Resumido por local
B1: Localidade: | C1: São Paulo - Fórum Criminal - Complexo Judiciário Ministro Mário Guimarães
A3: QUADRO RESUMO
A4: Código | B4: Função | F4: Unidade | G4: Periodicidade | H4: Quantidade | I4: Remuneração Mensal * | J4: Valor Mensal | K4: Valor Total
A5: 551188 | B5: =VLOOKUP(A5,'Tabela de Códigos e Valores'!A:B,2,FALSE) -> Supervisor geral especializado em refrigeração, controle e administração | F5: =VLOOKUP($A5,'Tabela de Códigos e Valores'!$A:$N,5,FALSE) -> Posto | G5: =VLOOKUP($A5,'Tabela de Códigos e Valores'!$A:$N,6,FALSE) -> Mensal | H5: =SUMIFS('Relatório Custo'!$J:$J,'Relatório Custo'!$C:$C,$A5,'Relatório Custo'!$B:$B,'Custo Resumido por local'!$C$1) -> 1 | I5: =IF(F5="Posto",SUMIFS('Relatório Custo'!$V:$V,'Relatório Custo'!$C:$C,$A5,'Relatório Custo'!$B:$B,'Custo Resumido por local'!$C$1),0) -> 0 | J5: =SUMIFS('Relatório Custo'!$S:$S,'Relatório Custo'!$C:$C,$A5,'Relatório Custo'!$B:$B,'Custo Resumido por local'!$C$1) -> 0 | K5: =SUMIFS('Relatório Custo'!$T:$T,'Relatório Custo'!$C:$C,$A5,'Relatório Custo'!$B:$B,'Custo Resumido por local'!$C$1) -> 0
A6: 551189 | B6: =VLOOKUP(A6,'Tabela de Códigos e Valores'!A:B,2,FALSE) -> Técnico mecânico especializado em Refrigeração | F6: =VLOOKUP($A6,'Tabela de Códigos e Valores'!$A:$N,5,FALSE) -> Posto | G6: =VLOOKUP($A6,'Tabela de Códigos e Valores'!$A:$N,6,FALSE) -> Mensal | H6: =SUMIFS('Relatório Custo'!$J:$J,'Relatório Custo'!$C:$C,$A6,'Relatório Custo'!$B:$B,'Custo Resumido por local'!$C$1) -> 2 | I6: =IF(F6="Posto",SUMIFS('Relatório Custo'!$V:$V,'Relatório Custo'!$C:$C,$A6,'Relatório Custo'!$B:$B,'Custo Resumido por local'!$C$1),0) -> 0 | J6: =SUMIFS('Relatório Custo'!$S:$S,'Relatório Custo'!$C:$C,$A6,'Relatório Custo'!$B:$B,'Custo Resumido por local'!$C$1) -> 0 | K6: =SUMIFS('Relatório Custo'!$T:$T,'Relatório Custo'!$C:$C,$A6,'Relatório Custo'!$B:$B,'Custo Resumido por local'!$C$1) -> 0
A7: 551190 | B7: =VLOOKUP(A7,'Tabela de Códigos e Valores'!A:B,2,FALSE) -> Operador | F7: =VLOOKUP($A7,'Tabela de Códigos e Valores'!$A:$N,5,FALSE) -> Posto | G7: =VLOOKUP($A7,'Tabela de Códigos e Valores'!$A:$N,6,FALSE) -> Mensal | H7: =SUMIFS('Relatório Custo'!$J:$J,'Relatório Custo'!$C:$C,$A7,'Relatório Custo'!$B:$B,'Custo Resumido por local'!$C$1) -> 2 | I7: =IF(F7="Posto",SUMIFS('Relatório Custo'!$V:$V,'Relatório Custo'!$C:$C,$A7,'Relatório Custo'!$B:$B,'Custo Resumido por local'!$C$1),0) -> 0 | J7: =SUMIFS('Relatório Custo'!$S:$S,'Relatório Custo'!$C:$C,$A7,'Relatório Custo'!$B:$B,'Custo Resumido por local'!$C$1) -> 0 | K7: =SUMIFS('Relatório Custo'!$T:$T,'Relatório Custo'!$C:$C,$A7,'Relatório Custo'!$B:$B,'Custo Resumido por local'!$C$1) -> 0
A8: 551191 | B8: =VLOOKUP(A8,'Tabela de Códigos e Valores'!A:B,2,FALSE) -> Auxiliar Técnico especializado em Refrigeração | F8: =VLOOKUP($A8,'Tabela de Códigos e Valores'!$A:$N,5,FALSE) -> Posto | G8: =VLOOKUP($A8,'Tabela de Códigos e Valores'!$A:$N,6,FALSE) -> Mensal | H8: =SUMIFS('Relatório Custo'!$J:$J,'Relatório Custo'!$C:$C,$A8,'Relatório Custo'!$B:$B,'Custo Resumido por local'!$C$1) -> 2 | I8: =IF(F8="Posto",SUMIFS('Relatório Custo'!$V:$V,'Relatório Custo'!$C:$C,$A8,'Relatório Custo'!$B:$B,'Custo Resumido por local'!$C$1),0) -> 0 | J8: =SUMIFS('Relatório Custo'!$S:$S,'Relatório Custo'!$C:$C,$A8,'Relatório Custo'!$B:$B,'Custo Resumido por local'!$C$1) -> 0 | K8: =SUMIFS('Relatório Custo'!$T:$T,'Relatório Custo'!$C:$C,$A8,'Relatório Custo'!$B:$B,'Custo Resumido por local'!$C$1) -> 0
A9: 551192 | B9: =VLOOKUP(A9,'Tabela de Códigos e Valores'!A:B,2,FALSE) -> Técnico Elétrico/ Eletrônico/ Eletrotécnico, especializado em refrigeração | F9: =VLOOKUP($A9,'Tabela de Códigos e Valores'!$A:$N,5,FALSE) -> Posto | G9: =VLOOKUP($A9,'Tabela de Códigos e Valores'!$A:$N,6,FALSE) -> Mensal | H9: =SUMIFS('Relatório Custo'!$J:$J,'Relatório Custo'!$C:$C,$A9,'Relatório Custo'!$B:$B,'Custo Resumido por local'!$C$1) -> 2 | I9: =IF(F9="Posto",SUMIFS('Relatório Custo'!$V:$V,'Relatório Custo'!$C:$C,$A9,'Relatório Custo'!$B:$B,'Custo Resumido por local'!$C$1),0) -> 0 | J9: =SUMIFS('Relatório Custo'!$S:$S,'Relatório Custo'!$C:$C,$A9,'Relatório Custo'!$B:$B,'Custo Resumido por local'!$C$1) -> 0 | K9: =SUMIFS('Relatório Custo'!$T:$T,'Relatório Custo'!$C:$C,$A9,'Relatório Custo'!$B:$B,'Custo Resumido por local'!$C$1) -> 0
A10: 551195 | B10: =VLOOKUP(A10,'Tabela de Códigos e Valores'!A:B,2,FALSE) -> Técnico em Refrigeração Mecânico - Hora Extra Noturna | F10: =VLOOKUP($A10,'Tabela de Códigos e Valores'!$A:$N,5,FALSE) -> Hora Extra | G10: =VLOOKUP($A10,'Tabela de Códigos e Valores'!$A:$N,6,FALSE) -> Mensal | H10: =SUMIFS('Relatório Custo'!$J:$J,'Relatório Custo'!$C:$C,$A10,'Relatório Custo'!$B:$B,'Custo Resumido por local'!$C$1) -> 20 | I10: =IF(F10="Posto",SUMIFS('Relatório Custo'!$V:$V,'Relatório Custo'!$C:$C,$A10,'Relatório Custo'!$B:$B,'Custo Resumido por local'!$C$1),0) -> 0 | J10: =SUMIFS('Relatório Custo'!$S:$S,'Relatório Custo'!$C:$C,$A10,'Relatório Custo'!$B:$B,'Custo Resumido por local'!$C$1) -> 0 | K10: =SUMIFS('Relatório Custo'!$T:$T,'Relatório Custo'!$C:$C,$A10,'Relatório Custo'!$B:$B,'Custo Resumido por local'!$C$1) -> 0
A11: 551196 | B11: =VLOOKUP(A11,'Tabela de Códigos e Valores'!A:B,2,FALSE) -> Técnico em Refrigeração Mecânico - Hora Extra Sábado | F11: =VLOOKUP($A11,'Tabela de Códigos e Valores'!$A:$N,5,FALSE) -> Hora Extra | G11: =VLOOKUP($A11,'Tabela de Códigos e Valores'!$A:$N,6,FALSE) -> Mensal | H11: =SUMIFS('Relatório Custo'!$J:$J,'Relatório Custo'!$C:$C,$A11,'Relatório Custo'!$B:$B,'Custo Resumido por local'!$C$1) -> 8 | I11: =IF(F11="Posto",SUMIFS('Relatório Custo'!$V:$V,'Relatório Custo'!$C:$C,$A11,'Relatório Custo'!$B:$B,'Custo Resumido por local'!$C$1),0) -> 0 | J11: =SUMIFS('Relatório Custo'!$S:$S,'Relatório Custo'!$C:$C,$A11,'Relatório Custo'!$B:$B,'Custo Resumido por local'!$C$1) -> 0 | K11: =SUMIFS('Relatório Custo'!$T:$T,'Relatório Custo'!$C:$C,$A11,'Relatório Custo'!$B:$B,'Custo Resumido por local'!$C$1) -> 0
A12: 551197 | B12: =VLOOKUP(A12,'Tabela de Códigos e Valores'!A:B,2,FALSE) -> Técnico em Refrigeração Mecânico - Hora Extra Domingo e Feriado | F12: =VLOOKUP($A12,'Tabela de Códigos e Valores'!$A:$N,5,FALSE) -> Hora Extra | G12: =VLOOKUP($A12,'Tabela de Códigos e Valores'!$A:$N,6,FALSE) -> Mensal | H12: =SUMIFS('Relatório Custo'!$J:$J,'Relatório Custo'!$C:$C,$A12,'Relatório Custo'!$B:$B,'Custo Resumido por local'!$C$1) -> 8 | I12: =IF(F12="Posto",SUMIFS('Relatório Custo'!$V:$V,'Relatório Custo'!$C:$C,$A12,'Relatório Custo'!$B:$B,'Custo Resumido por local'!$C$1),0) -> 0 | J12: =SUMIFS('Relatório Custo'!$S:$S,'Relatório Custo'!$C:$C,$A12,'Relatório Custo'!$B:$B,'Custo Resumido por local'!$C$1) -> 0 | K12: =SUMIFS('Relatório Custo'!$T:$T,'Relatório Custo'!$C:$C,$A12,'Relatório Custo'!$B:$B,'Custo Resumido por local'!$C$1) -> 0
A13: 551198 | B13: =VLOOKUP(A13,'Tabela de Códigos e Valores'!A:B,2,FALSE) -> Auxiliar Técnico em Refrigeração - Hora Extra Noturna | F13: =VLOOKUP($A13,'Tabela de Códigos e Valores'!$A:$N,5,FALSE) -> Hora Extra | G13: =VLOOKUP($A13,'Tabela de Códigos e Valores'!$A:$N,6,FALSE) -> Mensal | H13: =SUMIFS('Relatório Custo'!$J:$J,'Relatório Custo'!$C:$C,$A13,'Relatório Custo'!$B:$B,'Custo Resumido por local'!$C$1) -> 20 | I13: =IF(F13="Posto",SUMIFS('Relatório Custo'!$V:$V,'Relatório Custo'!$C:$C,$A13,'Relatório Custo'!$B:$B,'Custo Resumido por local'!$C$1),0) -> 0 | J13: =SUMIFS('Relatório Custo'!$S:$S,'Relatório Custo'!$C:$C,$A13,'Relatório Custo'!$B:$B,'Custo Resumido por local'!$C$1) -> 0 | K13: =SUMIFS('Relatório Custo'!$T:$T,'Relatório Custo'!$C:$C,$A13,'Relatório Custo'!$B:$B,'Custo Resumido por local'!$C$1) -> 0
A14: 551199 | B14: =VLOOKUP(A14,'Tabela de Códigos e Valores'!A:B,2,FALSE) -> Auxiliar Técnico em Refrigeração - Hora Extra Sábado | F14: =VLOOKUP($A14,'Tabela de Códigos e Valores'!$A:$N,5,FALSE) -> Hora Extra | G14: =VLOOKUP($A14,'Tabela de Códigos e Valores'!$A:$N,6,FALSE) -> Mensal | H14: =SUMIFS('Relatório Custo'!$J:$J,'Relatório Custo'!$C:$C,$A14,'Relatório Custo'!$B:$B,'Custo Resumido por local'!$C$1) -> 8 | I14: =IF(F14="Posto",SUMIFS('Relatório Custo'!$V:$V,'Relatório Custo'!$C:$C,$A14,'Relatório Custo'!$B:$B,'Custo Resumido por local'!$C$1),0) -> 0 | J14: =SUMIFS('Relatório Custo'!$S:$S,'Relatório Custo'!$C:$C,$A14,'Relatório Custo'!$B:$B,'Custo Resumido por local'!$C$1) -> 0 | K14: =SUMIFS('Relatório Custo'!$T:$T,'Relatório Custo'!$C:$C,$A14,'Relatório Custo'!$B:$B,'Custo Resumido por local'!$C$1) -> 0
