Workbook

Sheet Planilha
A1: CONSÓRCIO INTERMUNICIPAL MULTIFINALITÁRIO DE GESTÇAO PÚBLICA DOS MUNICÍPIOS DO CENTRO OESTE MINEIRO Endereço: Avenida Doutor Guido, nº 297, Centro, Abaeté - MG CNPJ: 53.255.914/0001-60
A2: PLANILHA ORÇAMENTÁRIA
A3: ÓRGÃO | B3: CONSÓRCIO INTERMUNICIPAL MULTIFINALITÁRIO DE GESTÇAO PÚBLICA DOS MUNICÍPIOS DO CENTRO OESTE MINEIRO - CIMGEP | G3: DATA: 08/12/2025
A4: OBJETO | B4: TABELA REFERÊNCIAL DE PROJETOS E CONSULTORIA TÉCNICA | F4: MUNICÍPIO | G4: CONSORCIADOS DO CIMGEP
F5: BDI: 29,35%
A7: REFERÊNCIA | B7: CÓDIGO | C7: DESCRIÇÃO | D7: UNIDADE | E7: QUANTIDADE | F7: CUSTO UNITÁRIO S/ BDI | G7: CUSTO UNITÁRIO C/ BDI | H7: VALOR TOTAL C/ BDI
H8: =H9+H44+H54+H70+H75+H98+H104+H118+H155 -> 4040345.5
C9: PROJETOS DE EDIFICAÇÃO | H9: =SUM(H10:H43) -> 675529.66
A10: CIMGEP | B10: CIMGEP 01 | C10: =Composições!C5 -> PROJETO EXECUTIVO DE ARQUITETURA | D10: =Composições!F5 -> PR A1 | E10: 30 | F10: =TRUNC(G10 * (1/1.2935),2) -> 1179.45 | G10: 1525.63 | H10: =ROUND(E10*G10,4) -> 45768.9
A11: CIMGEP | B11: CIMGEP 02 | C11: =Composições!C27 -> PROJETO EXECUTIVO DE TERRAPLENAGEM PLANTA | D11: =Composições!F27 -> PR A1 | E11: 15 | F11: =TRUNC(G11 * (1/1.2935),2) -> 731.55 | G11: 946.27 | H11: =TRUNC(E11*G11,2) -> 14194.05
A12: CIMGEP | B12: CIMGEP 03 | C12: =Composições!C48 -> PROJETO EXECUTIVO DE TERRAPLENAGEM SEÇÕES | D12: =Composições!F67 -> PR A1 | E12: 15 | F12: =TRUNC(G12 * (1/1.2935),2) -> 488.89 | G12: 632.39 | H12: =TRUNC(E12*G12,2) -> 9485.85
A13: CIMGEP | B13: CIMGEP 04 | C13: =Composições!C67 -> PROJETO EXECUTIVO DE DRENAGEM PLUVIAL | D13: =Composições!F67 -> PR A1 | E13: 15 | F13: =TRUNC(G13 * (1/1.2935),2) -> 934.03 | G13: 1208.17 | H13: =TRUNC(E13*G13,2) -> 18122.55
A14: CIMGEP | B14: CIMGEP 05 | C14: =Composições!C87 -> PROJETO PAISAGISTICO PRAÇA, PARQUE E AREA DE LAZER | D14: =Composições!F87 -> A1 | E14: 15 | F14: =TRUNC(G14 * (1/1.2935),2) -> 2228.52 | G14: 2882.6 | H14: =TRUNC(E14*G14,2) -> 43239
A15: CIMGEP | B15: CIMGEP 06 | C15: =Composições!C102 -> PROJETO EXECUTIVO DE PAISAGISMO | D15: =Composições!F102 -> PR A1 | E15: 10 | F15: =TRUNC(G15 * (1/1.2935),2) -> 1033.66 | G15: 1337.04 | H15: =TRUNC(E15*G15,2) -> 13370.4
A16: CIMGEP | B16: CIMGEP 07 | C16: =Composições!C123 -> PROJETO PAISAGISTICO AREAS LIVRES OBRAS EDIFICAÇAO | D16: =Composições!F123 -> A1 | E16: 10 | F16: =TRUNC(G16 * (1/1.2935),2) -> 1010.56 | G16: 1307.16 | H16: =TRUNC(E16*G16,2) -> 13071.6
A17: CIMGEP | B17: CIMGEP 08 | C17: =Composições!C138 -> PROJETO GEOMETRICO DE CONTENÇAO | D17: =Composições!F138 -> A1 | E17: 10 | F17: =TRUNC(G17 * (1/1.2935),2) -> 1051.85 | G17: 1360.58 | H17: =TRUNC(E17*G17,2) -> 13605.8
A18: CIMGEP | B18: CIMGEP 09 | C18: =Composições!C152 -> PROJETO ESTRUTURAL DE CONTENCAO / CANAL | D18: =Composições!F152 -> A1 | E18: 15 | F18: =TRUNC(G18 * (1/1.2935),2) -> 1052.01 | G18: 1360.78 | H18: =TRUNC(E18*G18,2) -> 20411.7
A19: CIMGEP | B19: CIMGEP 10 | C19: =Composições!C167 -> PROJETO EXECUTIVO DE ESTRUTURA DE CONCRETO | D19: =Composições!F167 -> PR A1 | E19: 25 | F19: =TRUNC(G19 * (1/1.2935),2) -> 1058.2 | G19: 1368.79 | H19: =TRUNC(E19*G19,2) -> 34219.75
A20: CIMGEP | B20: CIMGEP 11 | C20: =Composições!$C$187 -> PROJETO EXECUTIVO DE INSTALAÇÕES ELÉTRICAS | D20: =Composições!$F$187 -> PR A1 | E20: 20 | F20: =TRUNC(G20 * (1/1.2935),2) -> 1180.53 | G20: 1527.02 | H20: =TRUNC(E20*G20,2) -> 30540.4
A21: CIMGEP | B21: CIMGEP 12 | C21: =Composições!$C$208 -> PROJETO EXECUTIVO DE CABEAMENTO ESTRUTURADO | D21: =Composições!$F$208 -> PR A1 | E21: 15 | F21: =TRUNC(G21 * (1/1.2935),2) -> 1384.02 | G21: 1790.24 | H21: =TRUNC(E21*G21,2) -> 26853.6
A22: CIMGEP | B22: CIMGEP 13 | C22: =Composições!$C$229 -> PROJETO EXECUTIVO DE ESTRUTURA METÁLICA | D22: =Composições!$F$229 -> PR A1 | E22: 15 | F22: =TRUNC(G22 * (1/1.2935),2) -> 1584.77 | G22: 2049.91 | H22: =TRUNC(E22*G22,2) -> 30748.65
A23: CIMGEP | B23: CIMGEP 14 | C23: =Composições!$C$250 -> PROJETO EXECUTIVO DE INSTALAÇÕES HIDRÁULICAS/SANITÁRIAS | D23: =Composições!$F$250 -> PR A1 | E23: 28 | F23: =TRUNC(G23 * (1/1.2935),2) -> 1161.39 | G23: 1502.27 | H23: =TRUNC(E23*G23,2) -> 42063.56
A24: CIMGEP | B24: CIMGEP 15 | C24: =Composições!$C$271 -> PROJETO EXECUTIVO DE PREVENÇÃO E COMBATE A INCÊNDIO | D24: =Composições!$F$271 -> PR A1 | E24: 25 | F24: =TRUNC(G24 * (1/1.2935),2) -> 1142.25 | G24: 1477.51 | H24: =TRUNC(E24*G24,2) -> 36937.75
A25: CIMGEP | B25: CIMGEP 16 | C25: =Composições!$C$292 -> PROJETO DE PREVENÇÃO E COMBATE A INCÊNDIO | D25: =Composições!$F$292 -> PR A1 | E25: 20 | F25: =TRUNC(G25 * (1/1.2935),2) -> 912.57 | G25: 1180.42 | H25: =TRUNC(E25*G25,2) -> 23608.4
A26: CIMGEP | B26: CIMGEP 17 | C26: =Composições!$C$313 -> PROJETO EXECUTIVO DE SPDA | D26: =Composições!$F$313 -> PR A1 | E26: 15 | F26: =TRUNC(G26 * (1/1.2935),2) -> 875.34 | G26: 1132.26 | H26: =TRUNC(E26*G26,2) -> 16983.9
A27: CIMGEP | B27: CIMGEP 18 | C27: =Composições!$C$334 -> PROJETO EXECUTIVO DE IRRIGAÇÃO | D27: =Composições!$F$334 -> PR A1 | E27: 10 | F27: =TRUNC(G27 * (1/1.2935),2) -> 1102.36 | G27: 1425.91 | H27: =TRUNC(E27*G27,2) -> 14259.1
A28: CIMGEP | B28: CIMGEP 19 | C28: =Composições!$C$355 -> PROJETO EXECUTIVO DE AR CONDICIONADO/VENTILAÇÃO/CLIMATIZAÇÃO | D28: =Composições!$F$355 -> PR A1 | E28: 15 | F28: =TRUNC(G28 * (1/1.2935),2) -> 1192.74 | G28: 1542.81 | H28: =TRUNC(E28*G28,2) -> 23142.15
A29: CIMGEP | B29: CIMGEP 20 | C29: =Composições!$C$376 -> DESENVOLVIMENTO E DETALH. PROJ. ARQUIT. E ESTRURAL | D29: =Composições!$F$376 -> A1 | E29: 25 | F29: =TRUNC(G29 * (1/1.2935),2) -> 398.5 | G29: 515.47 | H29: =TRUNC(E29*G29,2) -> 12886.75
A30: CIMGEP | B30: CIMGEP 21 | C30: =Composições!$C$388 -> DESENVOLVIMENTO E DETALHAMENTO DE PROJETO ARQUITETÔNICO | D30: =Composições!$F$388 -> PR A1 | E30: 20 | F30: =TRUNC(G30 * (1/1.2935),2) -> 359.72 | G30: 465.31 | H30: =TRUNC(E30*G30,2) -> 9306.2
A31: CIMGEP | B31: CIMGEP 22 | C31: =Composições!$C$407 -> DESENVOLVIMENTO E DETALH. PROJ. ARQUIT. E ESTRURAL | D31: =Composições!$F$407 -> A1 | E31: 15 | F31: =TRUNC(G31 * (1/1.2935),2) -> 407.73 | G31: 527.41 | H31: =TRUNC(E31*G31,2) -> 7911.15
A32: CIMGEP | B32: CIMGEP 23 | C32: =Composições!$C$419 -> DESENHO E COPIA - ARQUITETURA/ESTRUTURAL/METALICA | D32: =Composições!$F$419 -> A1 | E32: 15 | F32: =TRUNC(G32 * (1/1.2935),2) -> 364.62 | G32: 471.64 | H32: =TRUNC(E32*G32,2) -> 7074.6
A33: CIMGEP | B33: CIMGEP 24 | C33: =Composições!$C$431 -> PROJETO ELETRICO/TV A CABO/ANTENA EXTERNA | D33: =Composições!$F$431 -> A1 | E33: 10 | F33: =TRUNC(G33 * (1/1.2935),2) -> 1207.14 | G33: 1561.44 | H33: =TRUNC(E33*G33,2) -> 15614.4
A34: CIMGEP | B34: CIMGEP 25 | C34: =Composições!C445 -> DESENHO E COPIA - PROJETOS COMPLEMENTARES | D34: =Composições!F445 -> A1 | E34: 15 | F34: =TRUNC(G34 * (1/1.2935),2) -> 398.76 | G34: 515.8 | H34: =TRUNC(E34*G34,2) -> 7737
A35: CIMGEP | B35: CIMGEP 26 | C35: =Composições!C457 -> PROJETO DE AR CONDICIONADO MECANICO/ELETRICO | D35: =Composições!F457 -> A1 | E35: 15 | F35: =TRUNC(G35 * (1/1.2935),2) -> 718.05 | G35: 928.81 | H35: =TRUNC(E35*G35,2) -> 13932.15
A36: CIMGEP | B36: CIMGEP 27 | C36: =Composições!C471 -> PROJETO EXECUTIVO LUMINOTÉCNICO | D36: =Composições!F471 -> PR A1 | E36: 20 | F36: =TRUNC(G36 * (1/1.2935),2) -> 457.94 | G36: 592.35 | H36: =TRUNC(E36*G36,2) -> 11847
A37: CIMGEP | B37: CIMGEP 28 | C37: =Composições!C491 -> COMPATIBILIZACAO DE PROJETOS DE EDIFICACAO | D37: =Composições!F491 -> A1 | E37: 15 | F37: =TRUNC(G37 * (1/1.2935),2) -> 918.22 | G37: 1187.73 | H37: =TRUNC(E37*G37,2) -> 17815.95
A38: CIMGEP | B38: CIMGEP 29 | C38: =Composições!C505 -> PERSPECTIVA COLORIDA (50X70)CM | D38: =Composições!F505 -> un | E38: 15 | F38: =TRUNC(G38 * (1/1.2935),2) -> 1227.92 | G38: 1588.32 | H38: =TRUNC(E38*G38,2) -> 23824.8
A39: CIMGEP | B39: CIMGEP 30 | C39: =Composições!C524 -> VISTA TRATADA COLORIDA (50X70)CM | D39: =Composições!F524 -> PR A1 | E39: 15 | F39: =TRUNC(G39 * (1/1.2935),2) -> 603.77 | G39: 780.98 | H39: =TRUNC(E39*G39,2) -> 11714.7
A40: CIMGEP | B40: CIMGEP 31 | C40: =Composições!C543 -> PLANTA HUMANIZADA COLORIDA (50X70)CM | D40: =Composições!F543 -> PR A1 | E40: 15 | F40: =TRUNC(G40 * (1/1.2935),2) -> 603.77 | G40: 780.98 | H40: =TRUNC(E40*G40,2) -> 11714.7
A41: CIMGEP | B41: CIMGEP 32 | C41: =Composições!C562 -> PROJETO EXECUTIVO DE IMPERMEABILIZAÇÃO | D41: =Composições!F562 -> PR A1 | E41: 15 | F41: =TRUNC(G41 * (1/1.2935),2) -> 1212.55 | G41: 1568.44 | H41: =TRUNC(E41*G41,2) -> 23526.6
...

Sheet Composições
F1: B.D.I. | H1: Encargos Sociais
F2: 29,35% | H2: Desonerado: embutido nos preços unitário dos insumos de mão de obra, de acordo com as bases.
A4: 1 | B4: Código | C4: Descrição | D4: Tipo | F4: Und | G4: Quant. | H4: Valor Unit | I4: Total
A5: Composição | B5: CIMGEP 01 | C5: PROJETO EXECUTIVO DE ARQUITETURA | D5: CO- | F5: PR A1 | G5: 1 | H5: =I23 -> 1525.6315 | I5: =H5*G5 -> 1525.6315
A7: F | B7: Código | C7: Materiais | D7: Quantidade | E7: Unidade | F7: Preço Unitário | I7: Custo Horário
A8: Insumo | B8: MATCO-27505 | C8: PLOTAGEM (TIPO DE PAPEL: SULFITE|GRAMATURA: 90GR/CM2|TIPO DE FORMATO: A1|IMPRESSÃO: PRETO/BRANCO) | D8: 5 | E8: un | F8: 3.13 | I8: =TRUNC(D8*F8,2) -> 15.65
A9: Insumo | B9: MATCO-27500 | C9: PLOTAGEM (TIPO DE PAPEL: VEGETAL|GRAMATURA: 90GR/CM2|TIPO DE FORMATO: A1|IMPRESSÃO: PRETO/BRANCO) | D9: 1 | E9: un | F9: 15 | I9: =TRUNC(D9*F9,2) -> 15
A10: Insumo | B10: MATCO-27503 | C10: ENCADERNAÇÃO (TIPO: ESPIRAL|TIPO DE FORMATO: A4|MATERIAL DA CAPA: PP|COR: TRANSPARENTE|ESPESSURA*: 0,30MM)*VALORES REFERENCIAIS APROXIMADOS | D10: 0.5 | E10: un | F10: 3.6 | I10: =TRUNC(D10*F10,2) -> 1.8
A11: Insumo | B11: MATCO-27504 | C11: PLOTAGEM (TIPO DE PAPEL: SULFITE|GRAMATURA: 90GR/CM2|TIPO DE FORMATO: A1|IMPRESSÃO: COLORIDA) | D11: 2 | E11: un | F11: 9.1 | I11: =TRUNC(D11*F11,2) -> 18.2
A12: Insumo | B12: MATCO-27506 | C12: FOTOCÓPIA/XEROX (IMPRESSÃO: PRETO/BRANCO|ACABAMENTO: OPACO|TIPO DE FORMATO: A4) | D12: 20 | E12: un | F12: 0.19 | I12: =TRUNC(D12*F12,2) -> 3.8
A13: Insumo | B13: MATCO-27502 | C13: DIGITALIZAÇÃO DE DOCUMENTO (TIPO DE FORMATO: A1) | D13: 1 | E13: un | F13: 6.78 | I13: =TRUNC(D13*F13,2) -> 6.78
E14: Total: | I14: =SUM(I8:I13) -> 61.23
A15: G | B15: Código | C15: Serviços | D15: Quantidade | E15: Unidade | F15: Preço Unitário | I15: Custo Horário
A16: Composição | B16: CO-33107 | C16: DESENHISTA TÉCNICO/CADISTA, INCLUSIVE ENCARGOS COMPLEMENTARES | D16: 2 | E16: hora | F16: 38.28 | I16: =TRUNC(D16*F16,2) -> 76.56
A17: Composição | B17: CO-27498 | C17: TÉCNICO DE NÍVEL MÉDIO, INCLUSIVE ENCARGOS COMPLEMENTARES | D17: 2 | E17: hora | F17: 38.28 | I17: =TRUNC(D17*F17,2) -> 76.56
A18: Composição | B18: CO-27344 | C18: ENGENHEIRO/ARQUITETO, NÍVEL SÊNIOR, INCLUSIVE ENCARGOS COMPLEMENTARES | D18: 1 | E18: hora | F18: 167.07 | I18: =TRUNC(D18*F18,2) -> 167.07
A19: Composição | B19: CO-27348 | C19: ENGENHEIRO/ARQUITETO, NÍVEL JÚNIOR, INCLUSIVE ENCARGOS COMPLEMENTARES | D19: 2 | E19: hora | F19: 126.46 | I19: =TRUNC(D19*F19,2) -> 252.92
A20: Composição | B20: CO-27347 | C20: ENGENHEIRO/ARQUITETO, NÍVEL PLENO, INCLUSIVE ENCARGOS COMPLEMENTARES | D20: 4 | E20: hora | F20: 136.28 | I20: =TRUNC(D20*F20,2) -> 545.12
E21: Total: | I21: =SUM(I16:I20) -> 1118.23
D22: Valor do BDI => | E22: =(0.2935*(I21+I14)) -> 346.17151 | G22: Valor com BDI => | I22: =(I21+I14+E22) -> 1525.6315
F23: Quant. => | G23: 1,00 | H23: Preço Total => | I23: =SUM(I22:I22) -> 1525.6315
A26: 2 | B26: Código | C26: Descrição | D26: Tipo | F26: Und | G26: Quant. | H26: Valor Unit | I26: Total
A27: Composição | B27: CIMGEP 02 | C27: PROJETO EXECUTIVO DE TERRAPLENAGEM PLANTA | D27: CO- | F27: PR A1 | G27: 1 | H27: =I44 -> 946.27286 | I27: =H27*G27 -> 946.27286
A29: F | B29: Código | C29: Materiais | D29: Quantidade | E29: Unidade | F29: Preço Unitário | I29: Custo Horário
A30: Insumo | B30: MATCO-27500 | C30: PLOTAGEM (TIPO DE PAPEL: VEGETAL|GRAMATURA: 90GR/CM2|TIPO DE FORMATO: A1|IMPRESSÃO: PRETO/BRANCO) | D30: 1 | E30: un | F30: 15 | I30: =TRUNC(F30*D30,2) -> 15
A31: Insumo | B31: MATCO-27505 | C31: PLOTAGEM (TIPO DE PAPEL: SULFITE|GRAMATURA: 90GR/CM2|TIPO DE FORMATO: A1|IMPRESSÃO: PRETO/BRANCO) | D31: 4 | E31: un | F31: 3.13 | I31: =TRUNC(F31*D31,2) -> 12.52
A32: Insumo | B32: MATCO-27504 | C32: PLOTAGEM (TIPO DE PAPEL: SULFITE|GRAMATURA: 90GR/CM2|TIPO DE FORMATO: A1|IMPRESSÃO: COLORIDA) | D32: 2 | E32: un | F32: 9.1 | I32: =TRUNC(F32*D32,2) -> 18.2
A33: Insumo | B33: MATCO-27502 | C33: DIGITALIZAÇÃO DE DOCUMENTO (TIPO DE FORMATO: A1) | D33: 1 | E33: un | F33: 6.78 | I33: =TRUNC(F33*D33,2) -> 6.78
A34: Insumo | B34: MATCO-27503 | C34: ENCADERNAÇÃO (TIPO: ESPIRAL|TIPO DE FORMATO: A4|MATERIAL DA CAPA: PP|COR: TRANSPARENTE|ESPESSURA*: 0,30MM)*VALORES REFERENCIAIS APROXIMADOS | D34: 0.1 | E34: un | F34: 3.6 | I34: =TRUNC(F34*D34,2) -> 0.36
A35: Insumo | B35: MATCO-27506 | C35: FOTOCÓPIA/XEROX (IMPRESSÃO: PRETO/BRANCO|ACABAMENTO: OPACO|TIPO DE FORMATO: A4) | D35: 10 | E35: un | F35: 0.19 | I35: =TRUNC(F35*D35,2) -> 1.9
E36: Total: | I36: =SUM(I30:I35) -> 54.76
A37: G | B37: Código | C37: Serviços | D37: Quantidade | E37: Unidade | F37: Preço Unitário | I37: Custo Horário
A38: Composição | B38: CO-27498 | C38: TÉCNICO DE NÍVEL MÉDIO, INCLUSIVE ENCARGOS COMPLEMENTARES | D38: 4 | E38: hora | F38: 38.28 | I38: =TRUNC(F38*D38,2) -> 153.12
A39: Composição | B39: CO-33107 | C39: DESENHISTA TÉCNICO/CADISTA, INCLUSIVE ENCARGOS COMPLEMENTARES | D39: 3 | E39: hora | F39: 38.28 | I39: =TRUNC(F39*D39,2) -> 114.84
A40: Composição | B40: CO-27347 | C40: ENGENHEIRO/ARQUITETO, NÍVEL PLENO, INCLUSIVE ENCARGOS COMPLEMENTARES | D40: 3 | E40: hora | F40: 136.28 | I40: =TRUNC(F40*D40,2) -> 408.84
E41: Total: | I41: =SUM(I38:I40) -> 676.8
D43: Valor do BDI => | E43: =(I36+I41)*0.2935 -> 214.71286 | G43: Valor com BDI => | I43: =I41+I36+E43 -> 946.27286
F44: Quant. => | G44: 1 | H44: Preço Total => | I44: =I43*G44 -> 946.27286
A47: 3 | B47: Código | C47: Descrição | D47: Tipo | F47: Und | G47: Quant. | H47: Valor Unit | I47: Total
A48: Composição | B48: CIMGEP 03 | C48: PROJETO EXECUTIVO DE TERRAPLENAGEM SEÇÕES | D48: CO- | F48: PR A1 | G48: 1 | H48: =I64 -> 632.39215 | I48: =H48*G48 -> 632.39215
...
