Workbook

Sheet ORÇ
A1: PLANILHA DE ORÇAMENTO
A3: OBRA: | B3: CONTRATO DE RECOMPOSIÇÃO ASFALTICA
A4: LOCAL : SANTA BÁRBARA D'OESTE - S.P.
A6: 1 | C6: CANTEIRO DE OBRAS | D6: unid | E6: Quant. | F6: Valor Unit. | G6: Valor Total
A7: 1.1 | C7: Instalação do Canteiro de obras | D7: un | E7: 12 | F7: 4000 | G7: =E7*F7 -> 48000
C8: SUBTOTAL - 1 | G8: =SUM(G7:G7) -> 48000
A10: 2 | C10: SERVIÇOS PRELIMINARES
A11: 2.1 | B11: 70020004 | C11: Sinalização de tráfego | D11: m | E11: 25000 | F11: 6.48 | G11: =E11*F11 -> 162000
A12: 2.2 | B12: 7010008 | C12: Corte de asfalto cm equipamento serra cliper para esquadrejamento da vala. | D12: m | E12: 35000 | F12: 7.92 | G12: =E12*F12 -> 277200
C13: SUBTOTAL - 2 | G13: =SUM(G10:G12) -> 439200
A15: 3 | C15: MOVIMENTO DE TERRA
A16: 3.1 | B16: 70030068 | C16: Escavação Mecanizada de Valas em solo não rochoso com profundidade h= 0,80 m | D16: m³ | E16: 24000 | F16: 11.6 | G16: =E16*F16 -> 278400
A17: 3.2 | B17: 70030019 | C17: Reaterro de valas, poços e cavas compactado mecanicamente em camadas de 20 cm, sem controle de GC | D17: m³ | E17: 19500 | F17: 11 | G17: =E17*F17 -> 214500
A18: 3.3 | B18: 70030090 | C18: Carga e descarga de solo escavado | D18: m³ | E18: 4500 | F18: 8.45 | G18: =E18*F18 -> 38025
A19: 3.4 | B19: 70030095 | C19: Transporte de material escavado (até 25 km ida e volta ao bota-fora) | D19: m³ | E19: 4500 | F19: =4.89*25 -> 122.25 | G19: =E19*F19 -> 550125
A20: 3.5 | B20: 70030044 | C20: Escavação de jazida de solo. | D20: m³ | E20: 3000 | F20: 14.17 | G20: =E20*F20 -> 42510
A21: 3.6 | B21: 70030090 | C21: Carga e descarga de solo escavado | D21: m³ | E21: 3000 | F21: 8.45 | G21: =E21*F21 -> 25350
A22: 3.7 | B22: 70030092 | C22: Transporte de material escavado (até 6 km ida e volta ao bota-fora) | D22: m³ | E22: 3000 | F22: =10.74*6 -> 64.44 | G22: =E22*F22 -> 193320
A23: 3.8 | B23: CV00215 | C23: Fornecimento de rachão e execução de base espessura 20 cm | D23: m³ | E23: 550 | F23: 83.29 | G23: =E23*F23 -> 45809.5
C24: SUBTOTAL - 3 | G24: =SUM(G15:G23) -> 1388039.5
A26: 4 | C26: PAVIMENTAÇÃO
A27: 4.1 | B27: 70090083 | C27: Preparo de caixa, regularização, homogeneização e compactação a 95 do proctor normal do sub-leito. | D27: m² | E27: 22000 | F27: 14.75 | G27: =E27*F27 -> 324500
A28: 4.2 | B28: 70090084 | C28: Sub base em brita graduada com tratamento de cimento (BGTC) (espessura 12 cm) (5 kg de cimento por m²) | D28: m³ | E28: 2640 | F28: 206.92 | G28: =E28*F28 -> 546268.8
A29: 4.3 | B29: CV00191 | C29: Cimento CP-II E32 - COMPOSTO COM ESCÓRIA - NBR 11578 - SACO COM 50 KG (1 saco / 10 m²) | D29: saco | E29: =E27/10 -> 2200 | F29: 29.7 | G29: =E29*F29 -> 65340
A30: 4.4 | B30: 70090086 | C30: Execução de imprimação betuminosa ligante - RR-1C ou RR-2C, a uma taxa de aplicação de 0,9 a 1,3 L/m³ | D30: m² | E30: 23100 | F30: 15.56 | G30: =E30*F30 -> 359436
A31: 4.5 | B31: 70090088 | C31: Capa de concreto asfaltico CBQU faixa "D" do DER, espessura = 4,0 cm. | D31: m³ | E31: 924 | F31: 2231.87 | G31: =E31*F31 -> 2062247.9
C32: SUB TOTAL - 4 | G32: =SUM(G27:G31) -> 3357792.7
B34: REFERÊNCIA: SABESPMAI/2024
A35: TOTAL GERAL | G35: =G8+G13+G24+G32 -> 5233032.2
A39: Denis Duarte
A40: Chefe do Departamento de Obas e Manutenção Civil

Sheet Cronograma
A2: DAE - DEPARTAMENTO DE ÁGUA E ESGOTO DE SANTA BÁRBARA D'OESTE
A3: CRONOGRAMA FÍSICO-FINANCEIRO
A4: OBRA: | B4: RECOMPOSIÇÃO DE PAVIMENTAÇÃO ASFÁLTICA (TAPA BURACOS)
A5: LOCAL : SANTA BÁRBARA D'OESTE - S.P.
A6: ITEM | B6: DISCRIMINAÇÃO | C6: VALOR | D6: % | E6: PERÍODO (MESES)
E7: 1 | F7: 2 | G7: 3 | H7: 4 | I7: 5 | J7: 6 | K7: 7 | L7: 8 | M7: 9 | N7: 10 | O7: 11 | P7: 12
A8: 1 | B8: CANTEIRO DE OBRA | C8: =ORÇ!G8 -> 48000 | E8: =C$8/12 -> 4000 | F8: =C$8/12 -> 4000 | G8: =C$8/12 -> 4000 | H8: =C$8/12 -> 4000 | I8: =C$8/12 -> 4000 | J8: =C$8/12 -> 4000 | K8: =C$8/12 -> 4000 | L8: =C$8/12 -> 4000 | M8: =C$8/12 -> 4000 | N8: =C$8/12 -> 4000 | O8: =C$8/12 -> 4000 | P8: =C$8/12 -> 4000
D9: =(C8/C16)*100 -> 0.91725024 | E9: =E$8*1/C8 -> 0.083333333 | F9: =F$8*1/C8 -> 0.083333333 | G9: =G$8*1/C8 -> 0.083333333 | H9: =H$8*1/C8 -> 0.083333333 | I9: =I$8*1/C8 -> 0.083333333 | J9: =J$8*1/C8 -> 0.083333333 | K9: =K$8*1/C8 -> 0.083333333 | L9: =L$8*1/C8 -> 0.083333333 | M9: =M$8*1/C8 -> 0.083333333 | N9: =N$8*1/C8 -> 0.083333333 | O9: =O$8*1/C8 -> 0.083333333 | P9: =P$8*1/C8 -> 0.083333333
A10: 2 | B10: =ORÇ!C10 -> SERVIÇOS PRELIMINARES | C10: =ORÇ!G13 -> 439200 | E10: =C$10/14 -> 31371.429 | F10: =C$10/14 -> 31371.429 | G10: =C$10/14 -> 31371.429 | H10: =C$10/9.88 -> 44453.441 | I10: =C$10/9.88 -> 44453.441 | J10: =C$10/12 -> 36600 | K10: =C$10/12 -> 36600 | L10: =C$10/12 -> 36600 | M10: =C$10/12 -> 36600 | N10: =C$10/12 -> 36600 | O10: =C$10/12 -> 36600 | P10: =C$10/12 -> 36600
D11: =(C10/C16)*100 -> 8.3928397 | E11: =E10*1/C10 -> 0.071428571 | F11: =F10*1/C10 -> 0.071428571 | G11: =G10*1/C10 -> 0.071428571 | H11: =H10*1/C10 -> 0.10121457 | I11: =I10*1/C10 -> 0.10121457 | J11: =J10*1/C10 -> 0.083333333 | K11: =K$10*1/C10 -> 0.083333333 | L11: =L10*1/C10 -> 0.083333333 | M11: =M10*1/C10 -> 0.083333333 | N11: =N10*1/C10 -> 0.083333333 | O11: =O10*1/C10 -> 0.083333333 | P11: =P10*1/C10 -> 0.083333333
A12: 3 | B12: =ORÇ!C15 -> MOVIMENTO DE TERRA | C12: =ORÇ!G24 -> 1388039.5 | E12: =C$12/14 -> 99145.679 | F12: =C$12/14 -> 99145.679 | G12: =C$12/14 -> 99145.679 | H12: =C$12/9.88 -> 140489.83 | I12: =C$12/9.88 -> 140489.83 | J12: =C$12/12 -> 115669.96 | K12: =C$12/12 -> 115669.96 | L12: =C$12/12 -> 115669.96 | M12: =C$12/12 -> 115669.96 | N12: =C$12/12 -> 115669.96 | O12: =C$12/12 -> 115669.96 | P12: =C$12/12 -> 115669.96
D13: =(C12/C16)*100 -> 26.524574 | E13: =E12*1/C12 -> 0.071428571 | F13: =F12*1/C12 -> 0.071428571 | G13: =G12*1/C12 -> 0.071428571 | H13: =H12*1/C12 -> 0.10121457 | I13: =I12*1/C12 -> 0.10121457 | J13: =J12*1/C12 -> 0.083333333 | K13: =K$12*1/C12 -> 0.083333333 | L13: =L12*1/C12 -> 0.083333333 | M13: =M12*1/C12 -> 0.083333333 | N13: =N12*1/C12 -> 0.083333333 | O13: =O12*1/C12 -> 0.083333333 | P13: =P12*1/C12 -> 0.083333333
A14: 4 | B14: PAVIMENTAÇÃO | C14: =ORÇ!G32 -> 3357792.7 | E14: =C$14/14 -> 239842.33 | F14: =C$14/14 -> 239842.33 | G14: =C$14/14 -> 239842.33 | H14: =C$14/9.88 -> 339857.56 | I14: =C$14/9.88 -> 339857.56 | J14: =C$14/12 -> 279816.06 | K14: =C$14/12 -> 279816.06 | L14: =C$14/12 -> 279816.06 | M14: =C$14/12 -> 279816.06 | N14: =C$14/12 -> 279816.06 | O14: =C$14/12 -> 279816.06 | P14: =C$14/12 -> 279816.06
D15: =(C14/C16)*100 -> 64.165336 | E15: =E14*1/C14 -> 0.071428571 | F15: =F14*1/C14 -> 0.071428571 | G15: =G14*1/C14 -> 0.071428571 | H15: =H14*1/C14 -> 0.10121457 | I15: =I14*1/C14 -> 0.10121457 | J15: =J14*1/C14 -> 0.083333333 | K15: =K$14*1/C14 -> 0.083333333 | L15: =L14*1/C14 -> 0.083333333 | M15: =M14*1/C14 -> 0.083333333 | N15: =N14*1/C14 -> 0.083333333 | O15: =O14*1/C14 -> 0.083333333 | P15: =P14*1/C14 -> 0.083333333
B16: TOTAL | C16: =SUM(C8:C15) -> 5233032.2 | E16: =C$16/14 -> 373788.01 | F16: =C$16/14 -> 373788.01 | G16: =C$16/14 -> 373788.01 | H16: =C$16/9.88 -> 529659.13 | I16: =C$16/9.88 -> 529659.13 | J16: =C$16/12 -> 436086.01 | K16: =C$16/12 -> 436086.01 | L16: =C$16/12 -> 436086.01 | M16: =C$16/12 -> 436086.01 | N16: =C$16/12 -> 436086.01 | O16: =C$16/12 -> 436086.01 | P16: 435833.8
D17: =(C16/C16)*100 -> 100 | E17: =E16*1/C16 -> 0.071428571 | F17: =F16*1/C16 -> 0.071428571 | G17: =G16*1/C16 -> 0.071428571 | H17: =H16*1/C16 -> 0.10121457 | I17: =I16*1/C16 -> 0.10121457 | J17: =J16*1/C16 -> 0.083333333 | K17: =K$16*1/C16 -> 0.083333333 | L17: =L16*1/C16 -> 0.083333333 | M17: =M16*1/C16 -> 0.083333333 | N17: =N16*1/C16 -> 0.083333333 | O17: =O16*1/C16 -> 0.083333333 | P17: =P16*1/C16 -> 0.083285137
F23: Denis Duarte
F24: Chefe do Departamento de Manutenção Civil

Sheet Plan1
