Workbook
Name JR_PAGE_ANCHOR_0_1: #REF!
Name JR_PAGE_ANCHOR_1_1: #REF!
Name JR_PAGE_ANCHOR_10_1: #REF!
Name JR_PAGE_ANCHOR_11_1: #REF!
Name JR_PAGE_ANCHOR_12_1: #REF!
Name JR_PAGE_ANCHOR_13_1: #REF!
Name JR_PAGE_ANCHOR_14_1: #REF!
Name JR_PAGE_ANCHOR_15_1: #REF!
Name JR_PAGE_ANCHOR_16_1: #REF!
Name JR_PAGE_ANCHOR_17_1: #REF!
Name JR_PAGE_ANCHOR_18_1: #REF!
Name JR_PAGE_ANCHOR_19_1: #REF!
Name JR_PAGE_ANCHOR_2_1: #REF!
Name JR_PAGE_ANCHOR_20_1: #REF!
Name JR_PAGE_ANCHOR_21_1: #REF!
Name JR_PAGE_ANCHOR_22_1: #REF!
Name JR_PAGE_ANCHOR_23_1: #REF!
Name JR_PAGE_ANCHOR_24_1: #REF!
Name JR_PAGE_ANCHOR_25_1: SP!#REF!
Name JR_PAGE_ANCHOR_26_1: #REF!
Name JR_PAGE_ANCHOR_3_1: #REF!
Name JR_PAGE_ANCHOR_4_1: #REF!
Name JR_PAGE_ANCHOR_5_1: #REF!
Name JR_PAGE_ANCHOR_6_1: #REF!
Name JR_PAGE_ANCHOR_7_1: #REF!
Name JR_PAGE_ANCHOR_8_1: #REF!
Name JR_PAGE_ANCHOR_9_1: #REF!

Sheet SP
A5: Obra: Construção da Creche de Educação Infantil, FNDE - Creche Tipo 2 | G5: BDI : | J5: 0.2247
A6: Local: | B6: Rua Dirce de Souza Machado, n.º 250 | F6: Fonte
A7: Bairro: | B7: Varadouro | F7: SINAPI | G7: 2026/01 | J7: SEM DESONERAÇÃO
A8: Município: Santa Isabel - SP | F8: SP OBRAS | G8: 200 | J8: SEM DESONERAÇÃO
F9: PRÓPRIA | G9: COMPOSIÇÃO FNDE
F10: CDHU | G10: 200 | J10: SEM DESONERAÇÃO
A13: ITEM | B13: CÓDIGO | C13: DESCRIÇÃO | D13: FONTE | E13: UND | F13: QUANTIDADE | G13: PREÇO UNITÁRIO R$ | H13: PREÇO UNITÁRIO COM BDI R$ | I13: PREÇO TOTAL R$ | J13: PREÇO TOTAL COM BDI R$
A14: 1 | B14: SERVIÇOS PRELIMINARES | J14: =SUM(J15:J23) -> 0
A15: 1.1 | B15: 103689 | C15: FORNECIMENTO E INSTALAÇÃO DE PLACA DE OBRA COM CHAPA GALVANIZADA E ESTRUTURA DE MADEIRA. AF_03/2022_PS | D15: SINAPI | E15: M2 | F15: 10 | H15: =ROUND((G15*1.2247),2) -> 0 | I15: =G15*F15 -> 0 | J15: =H15*F15 -> 0
A16: 1.2 | B16: 98459 | C16: TAPUME COM TELHA METÁLICA. AF_03/2024 | D16: SINAPI | E16: M2 | F16: 99 | H16: =ROUND((G16*1.2247),2) -> 0 | I16: =G16*F16 -> 0 | J16: =H16*F16 -> 0
A17: 1.3 | B17: 101509 | C17: ENTRADA DE ENERGIA ELÉTRICA, AÉREA, TRIFÁSICA, COM CAIXA DE EMBUTIR, CABO DE 10 MM2 E DISJUNTOR DIN 50A (NÃO INCLUSO O POSTE DE CONCRETO). AF_12/2025 | D17: SINAPI | E17: UN | F17: 1 | H17: =ROUND((G17*1.2247),2) -> 0 | I17: =G17*F17 -> 0 | J17: =H17*F17 -> 0
A18: 1.4 | B18: FNDE 03 | C18: LIGAÇÃO PROVISÓRIA DE ÁGUA E ESGOTO | D18: PRÓPRIA | E18: UN | F18: 1 | H18: =ROUND((G18*1.2247),2) -> 0 | I18: =G18*F18 -> 0 | J18: =H18*F18 -> 0
A19: 1.5 | B19: 99059 | C19: LOCAÇÃO CONVENCIONAL DE OBRA, UTILIZANDO GABARITO DE TÁBUAS CORRIDAS PONTALETADAS A CADA 2,00M - 2 UTILIZAÇÕES. AF_03/2024 | D19: SINAPI | E19: M | F19: 127.78 | H19: =ROUND((G19*1.2247),2) -> 0 | I19: =G19*F19 -> 0 | J19: =H19*F19 -> 0
A20: 1.6 | B20: FNDE 231 | C20: LOCACAO DE CONTAINER 2,30 X 6,00 M, ALT. 2,50 M, COM 1 SANITARIO, PARA ESCRITORIO, COMPLETO, SEM DIVISORIAS INTERNAS (NAO INCLUI MOBILIZACAO/DESMOBILIZACAO) | D20: PRÓPRIA | E20: MÊS | F20: 8 | H20: =ROUND((G20*1.2247),2) -> 0 | I20: =G20*F20 -> 0 | J20: =H20*F20 -> 0
A21: 1.7 | B21: FNDE 230 | C21: LOCACAO DE CONTAINER 2,30 X 6,00 M, ALT. 2,50 M, PARA ESCRITORIO, SEM DIVISORIAS INTERNAS E SEM SANITARIO (NAO INCLUI MOBILIZACAO/DESMOBILIZACAO) | D21: PRÓPRIA | E21: MÊS | F21: 8 | H21: =ROUND((G21*1.2247),2) -> 0 | I21: =G21*F21 -> 0 | J21: =H21*F21 -> 0
A22: 1.8 | B22: FNDE 232 | C22: LOCACAO DE CONTAINER 2,30 X 6,00 M, ALT. 2,50 M, PARA SANITARIO, COM 4 BACIAS, 8 CHUVEIROS,1 LAVATORIO E 1 MICTORIO (NAO INCLUI MOBILIZACAO/DESMOBILIZACAO) | D22: PRÓPRIA | E22: MÊS | F22: 8 | H22: =ROUND((G22*1.2247),2) -> 0 | I22: =G22*F22 -> 0 | J22: =H22*F22 -> 0
A23: 1.9 | B23: 68.01.670 | C23: Poste de concreto circular, 300 kg, H = 9,00 m | D23: CDHU | E23: UN | F23: 1 | H23: =ROUND((G23*1.2247),2) -> 0 | I23: =G23*F23 -> 0 | J23: =H23*F23 -> 0
A24: 2 | B24: ADMINISTRAÇÃO LOCAL | J24: =J25 -> 0
A25: 2.1 | B25: FNDE 392 | C25: ADMINISTRAÇÃO LOCAL TIPO 2 | D25: PRÓPRIA | E25: UN | F25: 1 | H25: =ROUND((G25*1.2247),2) -> 0 | I25: =G25*F25 -> 0 | J25: =(H25*F25) -> 0
A26: 3 | B26: MOVIMENTO DE TERRA PARA FUNDAÇÕES | J26: =J27+J33+J37 -> 0
A27: 3.1 | B27: EDIFICAÇÃO | J27: =SUM(J28:J32) -> 0
A28: 3.1.1 | B28: 98525 | C28: LIMPEZA MECANIZADA DE CAMADA VEGETAL, VEGETAÇÃO E PEQUENAS ÁRVORES (DIÂMETRO DE TRONCO MENOR QUE 0,20 M), COM TRATOR DE ESTEIRAS. AF_03/2024 | D28: SINAPI | E28: M2 | F28: 1575 | H28: =ROUND((G28*1.2247),2) -> 0 | I28: =G28*F28 -> 0 | J28: =ROUND((H28*F28),2) -> 0
A29: 3.1.2 | B29: 94306 | C29: ATERRO MECANIZADO DE VALA COM ESCAVADEIRA HIDRÁULICA (CAPACIDADE DA CAÇAMBA: 0,8 M³ / POTÊNCIA: 111 HP), LARGURA ATÉ 2,5 M, PROFUNDIDADE DE 1,5 A 3,0 M, COM SOLO ARGILO-ARENOSO. AF_08/2023 | D29: SINAPI | E29: M3 | F29: 158.44 | H29: =ROUND((G29*1.2247),2) -> 0 | I29: =G29*F29 -> 0 | J29: =ROUND((H29*F29),2) -> 0
A30: 3.1.3 | B30: 96523 | C30: ESCAVAÇÃO MANUAL PARA BLOCO DE COROAMENTO OU SAPATA (INCLUINDO ESCAVAÇÃO PARA COLOCAÇÃO DE FÔRMAS). AF_01/2024 | D30: SINAPI | E30: M3 | F30: 250.58 | H30: =ROUND((G30*1.2247),2) -> 0 | I30: =G30*F30 -> 0 | J30: =ROUND((H30*F30),2) -> 0
A31: 3.1.4 | B31: 101617 | C31: PREPARO DE FUNDO DE VALA COM LARGURA MAIOR OU IGUAL A 1,5 M E MENOR QUE 2,5 M (ACERTO DO SOLO NATURAL), EM LOCAL COM NÍVEL BAIXO DE INTERFERÊNCIA. AF_01/2026 | D31: SINAPI | E31: M2 | F31: 107.09 | H31: =ROUND((G31*1.2247),2) -> 0 | I31: =G31*F31 -> 0 | J31: =ROUND((H31*F31),2) -> 0
A32: 3.1.5 | B32: 93381 | C32: REATERRO MECANIZADO DE VALA COM RETROESCAVADEIRA (CAPACIDADE DA CAÇAMBA DA RETRO: 0,26 M³/POTÊNCIA: 88 HP), LARGURA 0,8 A 1,5 M, PROFUNDIDADE 1,5 A 3,0 M, COM SOLO (SEM SUBSTITUIÇÃO) DE 1ª CATEGORIA E COMPACTADOR DE SOLOS DE PERCUSSÃO. AF_08/2023 | D32: SINAPI | E32: M3 | F32: 210.86 | H32: =ROUND((G32*1.2247),2) -> 0 | I32: =G32*F32 -> 0 | J32: =ROUND((H32*F32),2) -> 0
A33: 3.2 | B33: MURETA ABRIGO DE GÁS | J33: =SUM(J34:J36) -> 0
A34: 3.2.1 | B34: 96523 | C34: ESCAVAÇÃO MANUAL PARA BLOCO DE COROAMENTO OU SAPATA (INCLUINDO ESCAVAÇÃO PARA COLOCAÇÃO DE FÔRMAS). AF_01/2024 | D34: SINAPI | E34: M3 | F34: 15.68 | H34: =ROUND((G34*1.2247),2) -> 0 | I34: =G34*F34 -> 0 | J34: =ROUND((F34*H34),2) -> 0
A35: 3.2.2 | B35: 101617 | C35: PREPARO DE FUNDO DE VALA COM LARGURA MAIOR OU IGUAL A 1,5 M E MENOR QUE 2,5 M (ACERTO DO SOLO NATURAL), EM LOCAL COM NÍVEL BAIXO DE INTERFERÊNCIA. AF_01/2026 | D35: SINAPI | E35: M2 | F35: 13.37 | H35: =ROUND((G35*1.2247),2) -> 0 | I35: =G35*F35 -> 0 | J35: =ROUND((F35*H35),2) -> 0
A36: 3.2.3 | B36: 93381 | C36: REATERRO MECANIZADO DE VALA COM RETROESCAVADEIRA (CAPACIDADE DA CAÇAMBA DA RETRO: 0,26 M³/POTÊNCIA: 88 HP), LARGURA 0,8 A 1,5 M, PROFUNDIDADE 1,5 A 3,0 M, COM SOLO (SEM SUBSTITUIÇÃO) DE 1ª CATEGORIA E COMPACTADOR DE SOLOS DE PERCUSSÃO. AF_08/2023 | D36: SINAPI | E36: M3 | F36: 11.42 | H36: =ROUND((G36*1.2247),2) -> 0 | I36: =G36*F36 -> 0 | J36: =ROUND((F36*H36),2) -> 0
A37: 3.3 | B37: CASTELO D'ÁGUA | J37: =ROUND(SUM(J38:J40),2) -> 0
A38: 3.3.1 | B38: 96523 | C38: ESCAVAÇÃO MANUAL PARA BLOCO DE COROAMENTO OU SAPATA (INCLUINDO ESCAVAÇÃO PARA COLOCAÇÃO DE FÔRMAS). AF_01/2024 | D38: SINAPI | E38: M3 | F38: 3.65 | H38: =ROUND((G38*1.2247),2) -> 0 | I38: =G38*F38 -> 0 | J38: =ROUND((F38*H38),2) -> 0
A39: 3.3.2 | B39: 101617 | C39: PREPARO DE FUNDO DE VALA COM LARGURA MAIOR OU IGUAL A 1,5 M E MENOR QUE 2,5 M (ACERTO DO SOLO NATURAL), EM LOCAL COM NÍVEL BAIXO DE INTERFERÊNCIA. AF_01/2026 | D39: SINAPI | E39: M2 | F39: 4.84 | H39: =ROUND((G39*1.2247),2) -> 0 | I39: =G39*F39 -> 0 | J39: =ROUND((F39*H39),2) -> 0
A40: 3.3.3 | B40: 93381 | C40: REATERRO MECANIZADO DE VALA COM RETROESCAVADEIRA (CAPACIDADE DA CAÇAMBA DA RETRO: 0,26 M³/POTÊNCIA: 88 HP), LARGURA 0,8 A 1,5 M, PROFUNDIDADE 1,5 A 3,0 M, COM SOLO (SEM SUBSTITUIÇÃO) DE 1ª CATEGORIA E COMPACTADOR DE SOLOS DE PERCUSSÃO. AF_08/2023 | D40: SINAPI | E40: M3 | F40: 1.23 | H40: =ROUND((G40*1.2247),2) -> 0 | I40: =G40*F40 -> 0 | J40: =ROUND((F40*H40),2) -> 0
A41: 4 | B41: FUNDAÇÕES | J41: =ROUND((J42+J52+J61+J71+J78),2) -> 0
A42: 4.1 | B42: FUNDAÇÃO EDIFICAÇÃO | J42: =ROUND((SUM(J43:J51)),2) -> 0
A43: 4.1.1 | B43: 100651 | C43: ESTACA HÉLICE CONTÍNUA, DIÂMETRO DE 30 CM, INCLUSO CONCRETO FCK=30MPA E ARMADURA MÍNIMA (EXCLUSIVE BOMBEAMENTO, MOBILIZAÇÃO E DESMOBILIZAÇÃO). AF_12/2019 | D43: SINAPI | E43: M | F43: 858 | H43: =ROUND((G43*1.2247),2) -> 0 | I43: =G43*F43 -> 0 | J43: =H43*F43 -> 0
A44: 4.1.2 | B44: 96540 | C44: FABRICAÇÃO, MONTAGEM E DESMONTAGEM DE FÔRMA PARA BLOCO DE COROAMENTO, EM CHAPA DE MADEIRA COMPENSADA RESINADA, E=17 MM, 4 UTILIZAÇÕES. AF_01/2024 | D44: SINAPI | E44: M2 | F44: 112.32 | H44: =ROUND((G44*1.2247),2) -> 0 | I44: =G44*F44 -> 0 | J44: =H44*F44 -> 0
A45: 4.1.3 | B45: 96619 | C45: LASTRO DE CONCRETO MAGRO, APLICADO EM BLOCOS DE COROAMENTO OU SAPATAS, ESPESSURA DE 5 CM. AF_01/2024 | D45: SINAPI | E45: M2 | F45: 48.92 | H45: =ROUND((G45*1.2247),2) -> 0 | I45: =G45*F45 -> 0 | J45: =H45*F45 -> 0
A46: 4.1.4 | B46: 96546 | C46: ARMAÇÃO DE BLOCO UTILIZANDO AÇO CA-50 DE 10 MM - MONTAGEM. AF_01/2024 | D46: SINAPI | E46: KG | F46: 951.93 | H46: =ROUND((G46*1.2247),2) -> 0 | I46: =G46*F46 -> 0 | J46: =H46*F46 -> 0
A47: 4.1.5 | B47: 92921 | C47: ARMAÇÃO DE ESTRUTURAS DIVERSAS DE CONCRETO ARMADO, EXCETO VIGAS, PILARES, LAJES E FUNDAÇÕES, UTILIZANDO AÇO CA-50 DE 12,5 MM - MONTAGEM. AF_06/2022 | D47: SINAPI | E47: KG | F47: 308.25 | H47: =ROUND((G47*1.2247),2) -> 0 | I47: =G47*F47 -> 0 | J47: =H47*F47 -> 0
A48: 4.1.6 | B48: 92919 | C48: ARMAÇÃO DE ESTRUTURAS DIVERSAS DE CONCRETO ARMADO, EXCETO VIGAS, PILARES, LAJES E FUNDAÇÕES, UTILIZANDO AÇO CA-50 DE 10,0 MM - MONTAGEM. AF_06/2022 | D48: SINAPI | E48: KG | F48: 210.32 | H48: =ROUND((G48*1.2247),2) -> 0 | I48: =G48*F48 -> 0 | J48: =H48*F48 -> 0
A49: 4.1.7 | B49: 96557 | C49: CONCRETAGEM DE BLOCO DE COROAMENTO OU VIGA BALDRAME, FCK 30 MPA, COM USO DE BOMBA - LANÇAMENTO, ADENSAMENTO E ACABAMENTO. AF_01/2024 | D49: SINAPI | E49: M3 | F49: 22.46 | H49: =ROUND((G49*1.2247),2) -> 0 | I49: =G49*F49 -> 0 | J49: =H49*F49 -> 0
A50: 4.1.8 | B50: 12.12.010 | C50: Taxa de mobilização e desmobilização de equipamentos para execução de estaca tipo hélice contínua em solo | D50: CDHU | E50: TX | F50: 1 | H50: =ROUND((G50*1.2247),2) -> 0 | I50: =G50*F50 -> 0 | J50: =H50*F50 -> 0
A51: 4.1.9 | B51: 95601 | C51: ARRASAMENTO MECANICO DE ESTACA DE CONCRETO ARMADO, DIAMETROS DE ATÉ 40 CM. AF_05/2021 | D51: SINAPI | E51: UN | F51: 83 | H51: =ROUND((G51*1.2247),2) -> 0 | I51: =G51*F51 -> 0 | J51: =ROUND((H51*F51),2) -> 0
A52: 4.2 | B52: CONCRETO ARMADO PARA VIGA BALDRAME | J52: =ROUND((SUM(J53:J60)),2) -> 0
A53: 4.2.1 | B53: 96619 | C53: LASTRO DE CONCRETO MAGRO, APLICADO EM BLOCOS DE COROAMENTO OU SAPATAS, ESPESSURA DE 5 CM. AF_01/2024 | D53: SINAPI | E53: M2 | F53: 60.44 | H53: =ROUND((G53*1.2247),2) -> 0 | I53: =G53*F53 -> 0 | J53: =ROUND((F53*H53),2) -> 0
A54: 4.2.2 | B54: 96616 | C54: LASTRO DE CONCRETO MAGRO, APLICADO EM BLOCOS DE COROAMENTO OU SAPATAS. AF_01/2024 | D54: SINAPI | E54: M3 | F54: 3.89 | H54: =ROUND((G54*1.2247),2) -> 0 | I54: =G54*F54 -> 0 | J54: =ROUND((F54*H54),2) -> 0
A55: 4.2.3 | B55: 96534 | C55: FABRICAÇÃO, MONTAGEM E DESMONTAGEM DE FÔRMA PARA BLOCO DE COROAMENTO, EM MADEIRA SERRADA, E=25 MM, 4 UTILIZAÇÕES. AF_01/2024 | D55: SINAPI | E55: M2 | F55: 349.55 | H55: =ROUND((G55*1.2247),2) -> 0 | I55: =G55*F55 -> 0 | J55: =ROUND((F55*H55),2) -> 0
A56: 4.2.4 | B56: 104918 | C56: ARMAÇÃO DE SAPATA ISOLADA, VIGA BALDRAME E SAPATA CORRIDA UTILIZANDO AÇO CA-50 DE 8 MM - MONTAGEM. AF_01/2024 | D56: SINAPI | E56: KG | F56: 660.1 | H56: =ROUND((G56*1.2247),2) -> 0 | I56: =G56*F56 -> 0 | J56: =ROUND((F56*H56),2) -> 0
A57: 4.2.5 | B57: 104919 | C57: ARMAÇÃO DE SAPATA ISOLADA, VIGA BALDRAME E SAPATA CORRIDA UTILIZANDO AÇO CA-50 DE 10 MM - MONTAGEM. AF_01/2024 | D57: SINAPI | E57: KG | F57: 113.6 | H57: =ROUND((G57*1.2247),2) -> 0 | I57: =G57*F57 -> 0 | J57: =ROUND((F57*H57),2) -> 0
A58: 4.2.6 | B58: 104920 | C58: ARMAÇÃO DE BLOCO, SAPATA ISOLADA, VIGA BALDRAME E SAPATA CORRIDA UTILIZANDO AÇO CA-50 DE 12,5 MM - MONTAGEM. AF_01/2024 | D58: SINAPI | E58: KG | F58: 26.41 | H58: =ROUND((G58*1.2247),2) -> 0 | I58: =G58*F58 -> 0 | J58: =ROUND((F58*H58),2) -> 0
A59: 4.2.7 | B59: 96543 | C59: ARMAÇÃO DE BLOCO UTILIZANDO AÇO CA-60 DE 5 MM - MONTAGEM. AF_01/2024 | D59: SINAPI | E59: KG | F59: 356.91 | H59: =ROUND((G59*1.2247),2) -> 0 | I59: =G59*F59 -> 0 | J59: =ROUND((F59*H59),2) -> 0
A60: 4.2.8 | B60: 96557 | C60: CONCRETAGEM DE BLOCO DE COROAMENTO OU VIGA BALDRAME, FCK 30 MPA, COM USO DE BOMBA - LANÇAMENTO, ADENSAMENTO E ACABAMENTO. AF_01/2024 | D60: SINAPI | E60: M3 | F60: 24.18 | H60: =ROUND((G60*1.2247),2) -> 0 | I60: =G60*F60 -> 0 | J60: =ROUND((F60*H60),2) -> 0
A61: 4.3 | B61: FUNDAÇÃO CASTELO D'ÁGUA | J61: =ROUND((SUM(J62:J69)),2) -> 0
A62: 4.3.1 | B62: 100651 | C62: ESTACA HÉLICE CONTÍNUA, DIÂMETRO DE 30 CM, INCLUSO CONCRETO FCK=30MPA E ARMADURA MÍNIMA (EXCLUSIVE BOMBEAMENTO, MOBILIZAÇÃO E DESMOBILIZAÇÃO). AF_12/2019 | D62: SINAPI | E62: M | F62: 55 | H62: =ROUND((G62*1.2247),2) -> 0 | I62: =G62*F62 -> 0 | J62: =ROUND((F62*H62),2) -> 0
A63: 4.3.2 | B63: 96540 | C63: FABRICAÇÃO, MONTAGEM E DESMONTAGEM DE FÔRMA PARA BLOCO DE COROAMENTO, EM CHAPA DE MADEIRA COMPENSADA RESINADA, E=17 MM, 4 UTILIZAÇÕES. AF_01/2024 | D63: SINAPI | E63: M2 | F63: 4.4 | H63: =ROUND((G63*1.2247),2) -> 0 | I63: =G63*F63 -> 0 | J63: =ROUND((F63*H63),2) -> 0
A64: 4.3.3 | B64: 96619 | C64: LASTRO DE CONCRETO MAGRO, APLICADO EM BLOCOS DE COROAMENTO OU SAPATAS, ESPESSURA DE 5 CM. AF_01/2024 | D64: SINAPI | E64: M2 | F64: 4.84 | H64: =ROUND((G64*1.2247),2) -> 0 | I64: =G64*F64 -> 0 | J64: =ROUND((F64*H64),2) -> 0
A65: 4.3.4 | B65: 104920 | C65: ARMAÇÃO DE BLOCO, SAPATA ISOLADA, VIGA BALDRAME E SAPATA CORRIDA UTILIZANDO AÇO CA-50 DE 12,5 MM - MONTAGEM. AF_01/2024 | D65: SINAPI | E65: KG | F65: 83.78 | H65: =ROUND((G65*1.2247),2) -> 0 | I65: =G65*F65 -> 0 | J65: =ROUND((F65*H65),2) -> 0
A66: 4.3.5 | B66: 104915 | C66: ARMAÇÃO DE BLOCO E SAPATA UTILIZANDO AÇO CA-50 DE 25 MM - MONTAGEM. AF_01/2024 | D66: SINAPI | E66: KG | F66: 13.87 | H66: =ROUND((G66*1.2247),2) -> 0 | I66: =G66*F66 -> 0 | J66: =ROUND((F66*H66),2) -> 0
A67: 4.3.6 | B67: 96543 | C67: ARMAÇÃO DE BLOCO UTILIZANDO AÇO CA-60 DE 5 MM - MONTAGEM. AF_01/2024 | D67: SINAPI | E67: KG | F67: 9.24 | H67: =ROUND((G67*1.2247),2) -> 0 | I67: =G67*F67 -> 0 | J67: =ROUND((F67*H67),2) -> 0
A68: 4.3.7 | B68: 96546 | C68: ARMAÇÃO DE BLOCO UTILIZANDO AÇO CA-50 DE 10 MM - MONTAGEM. AF_01/2024 | D68: SINAPI | E68: KG | F68: 104.27 | H68: =ROUND((G68*1.2247),2) -> 0 | I68: =G68*F68 -> 0 | J68: =ROUND((F68*H68),2) -> 0
A69: 4.3.8 | B69: 96557 | C69: CONCRETAGEM DE BLOCO DE COROAMENTO OU VIGA BALDRAME, FCK 30 MPA, COM USO DE BOMBA - LANÇAMENTO, ADENSAMENTO E ACABAMENTO. AF_01/2024 | D69: SINAPI | E69: M3 | F69: 2.42 | H69: =ROUND((G69*1.2247),2) -> 0 | I69: =G69*F69 -> 0 | J69: =ROUND((F69*H69),2) -> 0
A71: 4.4 | B71: ABRIGO DE GÁS - BLOCOS | J71: =SUM(J72:J77) -> 0
A72: 4.4.1 | B72: 100896 | C72: ESTACA ESCAVADA MECANICAMENTE, SEM FLUIDO ESTABILIZANTE, COM 25CM DE DIÂMETRO, CONCRETO LANÇADO POR CAMINHÃO BETONEIRA (EXCLUSIVE MOBILIZAÇÃO E DESMOBILIZAÇÃO). AF_01/2020 | D72: SINAPI | E72: M | F72: 17.5 | H72: =ROUND((G72*1.2247),2) -> 0 | I72: =G72*F72 -> 0 | J72: =F72*H72 -> 0
A73: 4.4.2 | B73: 96619 | C73: LASTRO DE CONCRETO MAGRO, APLICADO EM BLOCOS DE COROAMENTO OU SAPATAS, ESPESSURA DE 5 CM. AF_01/2024 | D73: SINAPI | E73: M2 | F73: 1.25 | H73: =ROUND((G73*1.2247),2) -> 0 | I73: =G73*F73 -> 0 | J73: =F73*H73 -> 0
A74: 4.4.3 | B74: 96540 | C74: FABRICAÇÃO, MONTAGEM E DESMONTAGEM DE FÔRMA PARA BLOCO DE COROAMENTO, EM CHAPA DE MADEIRA COMPENSADA RESINADA, E=17 MM, 4 UTILIZAÇÕES. AF_01/2024 | D74: SINAPI | E74: M2 | F74: 5 | H74: =ROUND((G74*1.2247),2) -> 0 | I74: =G74*F74 -> 0 | J74: =F74*H74 -> 0
A75: 4.4.4 | B75: 103797 | C75: ARMAÇÃO DE DESCIDA D'ÁGUA UTILIZANDO AÇO CA-60 DE 5 MM - MONTAGEM. AF_08/2022 | D75: SINAPI | E75: KG | F75: 10.19 | H75: =ROUND((G75*1.2247),2) -> 0 | I75: =G75*F75 -> 0 | J75: =F75*H75 -> 0
A76: 4.4.5 | B76: 96557 | C76: CONCRETAGEM DE BLOCO DE COROAMENTO OU VIGA BALDRAME, FCK 30 MPA, COM USO DE BOMBA - LANÇAMENTO, ADENSAMENTO E ACABAMENTO. AF_01/2024 | D76: SINAPI | E76: M3 | F76: 0.63 | H76: =ROUND((G76*1.2247),2) -> 0 | I76: =G76*F76 -> 0 | J76: =F76*H76 -> 0
A77: 4.4.6 | B77: 12.05.010 | C77: Taxa de mobilização e desmobilização de equipamentos para execução de estaca escavada | D77: CDHU | E77: TX | F77: 1 | H77: =ROUND((G77*1.2247),2) -> 0 | I77: =G77*F77 -> 0 | J77: =F77*H77 -> 0
A78: 4.5 | B78: MURETA E ABRIGO DE GÁS - VIGAS BALDRAME | J78: =ROUND((SUM(J79:J82)),2) -> 0
A79: 4.5.1 | B79: 96619 | C79: LASTRO DE CONCRETO MAGRO, APLICADO EM BLOCOS DE COROAMENTO OU SAPATAS, ESPESSURA DE 5 CM. AF_01/2024 | D79: SINAPI | E79: M2 | F79: 13.25 | H79: =ROUND((G79*1.2247),2) -> 0 | I79: =G79*F79 -> 0 | J79: =ROUND((F79*H79),2) -> 0
A80: 4.5.2 | B80: 96542 | C80: FABRICAÇÃO, MONTAGEM E DESMONTAGEM DE FÔRMA PARA VIGA BALDRAME, EM CHAPA DE MADEIRA COMPENSADA RESINADA, E=17 MM, 4 UTILIZAÇÕES. AF_01/2024 | D80: SINAPI | E80: M2 | F80: 44.97 | H80: =ROUND((G80*1.2247),2) -> 0 | I80: =G80*F80 -> 0 | J80: =ROUND((F80*H80),2) -> 0
A81: 4.5.3 | B81: 104918 | C81: ARMAÇÃO DE SAPATA ISOLADA, VIGA BALDRAME E SAPATA CORRIDA UTILIZANDO AÇO CA-50 DE 8 MM - MONTAGEM. AF_01/2024 | D81: SINAPI | E81: KG | F81: 84.2 | H81: =ROUND((G81*1.2247),2) -> 0 | I81: =G81*F81 -> 0 | J81: =ROUND((F81*H81),2) -> 0
A82: 4.5.4 | B82: 96557 | C82: CONCRETAGEM DE BLOCO DE COROAMENTO OU VIGA BALDRAME, FCK 30 MPA, COM USO DE BOMBA - LANÇAMENTO, ADENSAMENTO E ACABAMENTO. AF_01/2024 | D82: SINAPI | E82: M3 | F82: 3.64 | H82: =ROUND((G82*1.2247),2) -> 0 | I82: =G82*F82 -> 0 | J82: =ROUND((F82*H82),2) -> 0
A83: 5 | B83: SUPERESTRUTURA | J83: =ROUND((J84+J90+J96+J98+J103+J110+J112),2) -> 0
A84: 5.1 | B84: CONCRETO ARMADO - PILARES | J84: =ROUND((SUM(J85:J89)),2) -> 0
A85: 5.1.1 | B85: 92443 | C85: MONTAGEM E DESMONTAGEM DE FÔRMA DE PILARES RETANGULARES E ESTRUTURAS SIMILARES, PÉ-DIREITO SIMPLES, EM CHAPA DE MADEIRA COMPENSADA PLASTIFICADA, 18 UTILIZAÇÕES. AF_09/2020 | D85: SINAPI | E85: M2 | F85: 333.34 | H85: =ROUND((G85*1.2247),2) -> 0 | I85: =G85*F85 -> 0 | J85: =F85*H85 -> 0
A86: 5.1.2 | B86: 92762 | C86: ARMAÇÃO DE PILAR OU VIGA DE ESTRUTURA CONVENCIONAL DE CONCRETO ARMADO UTILIZANDO AÇO CA-50 DE 10,0 MM - MONTAGEM. AF_06/2022 | D86: SINAPI | E86: KG | F86: 839.33 | H86: =ROUND((G86*1.2247),2) -> 0 | I86: =G86*F86 -> 0 | J86: =F86*H86 -> 0
A87: 5.1.3 | B87: 92763 | C87: ARMAÇÃO DE PILAR OU VIGA DE ESTRUTURA CONVENCIONAL DE CONCRETO ARMADO UTILIZANDO AÇO CA-50 DE 12,5 MM - MONTAGEM. AF_06/2022 | D87: SINAPI | E87: KG | F87: 312.88 | H87: =ROUND((G87*1.2247),2) -> 0 | I87: =G87*F87 -> 0 | J87: =F87*H87 -> 0
A88: 5.1.4 | B88: 92759 | C88: ARMAÇÃO DE PILAR OU VIGA DE ESTRUTURA CONVENCIONAL DE CONCRETO ARMADO UTILIZANDO AÇO CA-60 DE 5,0 MM - MONTAGEM. AF_06/2022 | D88: SINAPI | E88: KG | F88: 450.22 | H88: =ROUND((G88*1.2247),2) -> 0 | I88: =G88*F88 -> 0 | J88: =F88*H88 -> 0
A89: 5.1.5 | B89: 103672 | C89: CONCRETAGEM DE PILARES, FCK = 25 MPA, COM USO DE BOMBA - LANÇAMENTO, ADENSAMENTO E ACABAMENTO. AF_02/2022_PS | D89: SINAPI | E89: M3 | F89: 18.25 | H89: =ROUND((G89*1.2247),2) -> 0 | I89: =G89*F89 -> 0 | J89: =F89*H89 -> 0
A90: 5.2 | B90: CONCRETO ARMADO - VIGAS | J90: =SUM(J91:J95) -> 0
A91: 5.2.1 | B91: 92443 | C91: MONTAGEM E DESMONTAGEM DE FÔRMA DE PILARES RETANGULARES E ESTRUTURAS SIMILARES, PÉ-DIREITO SIMPLES, EM CHAPA DE MADEIRA COMPENSADA PLASTIFICADA, 18 UTILIZAÇÕES. AF_09/2020 | D91: SINAPI | E91: M2 | F91: 344.1 | H91: =ROUND((G91*1.2247),2) -> 0 | I91: =G91*F91 -> 0 | J91: =F91*H91 -> 0
A92: 5.2.2 | B92: 92761 | C92: ARMAÇÃO DE PILAR OU VIGA DE ESTRUTURA CONVENCIONAL DE CONCRETO ARMADO UTILIZANDO AÇO CA-50 DE 8,0 MM - MONTAGEM. AF_06/2022 | D92: SINAPI | E92: KG | F92: 675.91 | H92: =ROUND((G92*1.2247),2) -> 0 | I92: =G92*F92 -> 0 | J92: =F92*H92 -> 0
A93: 5.2.3 | B93: 92762 | C93: ARMAÇÃO DE PILAR OU VIGA DE ESTRUTURA CONVENCIONAL DE CONCRETO ARMADO UTILIZANDO AÇO CA-50 DE 10,0 MM - MONTAGEM. AF_06/2022 | D93: SINAPI | E93: KG | F93: 9.64 | H93: =ROUND((G93*1.2247),2) -> 0 | I93: =G93*F93 -> 0 | J93: =F93*H93 -> 0
A94: 5.2.4 | B94: 92759 | C94: ARMAÇÃO DE PILAR OU VIGA DE ESTRUTURA CONVENCIONAL DE CONCRETO ARMADO UTILIZANDO AÇO CA-60 DE 5,0 MM - MONTAGEM. AF_06/2022 | D94: SINAPI | E94: KG | F94: 365.31 | H94: =ROUND((G94*1.2247),2) -> 0 | I94: =G94*F94 -> 0 | J94: =F94*H94 -> 0
A95: 5.2.5 | B95: 103675 | C95: CONCRETAGEM DE VIGAS E LAJES, FCK=25 MPA, PARA LAJES MACIÇAS OU NERVURADAS COM USO DE BOMBA - LANÇAMENTO, ADENSAMENTO E ACABAMENTO. AF_02/2022_PS | D95: SINAPI | E95: M3 | F95: 24.55 | H95: =ROUND((G95*1.2247),2) -> 0 | I95: =G95*F95 -> 0 | J95: =F95*H95 -> 0
A96: 5.3 | B96: CONCRETO ARMADO PARA VERGAS | J96: =J97 -> 0
A97: 5.3.1 | B97: 93184 | C97: VERGA PRÉ-MOLDADA COM ATÉ 1,5 M DE VÃO, ESPESSURA DE *20* CM. AF_03/2024 | D97: SINAPI | E97: M | F97: 124.12 | H97: =ROUND((G97*1.2247),2) -> 0 | I97: =G97*F97 -> 0 | J97: =F97*H97 -> 0
A98: 5.4 | B98: CONCRETO ARMADO - MURETA - PILARES | J98: =ROUND((SUM(J99:J102)),2) -> 0
A99: 5.4.1 | B99: 92443 | C99: MONTAGEM E DESMONTAGEM DE FÔRMA DE PILARES RETANGULARES E ESTRUTURAS SIMILARES, PÉ-DIREITO SIMPLES, EM CHAPA DE MADEIRA COMPENSADA PLASTIFICADA, 18 UTILIZAÇÕES. AF_09/2020 | D99: SINAPI | E99: M2 | F99: 18 | H99: =ROUND((G99*1.2247),2) -> 0 | I99: =G99*F99 -> 0 | J99: =ROUND((F99*H99),2) -> 0
A100: 5.4.2 | B100: 92761 | C100: ARMAÇÃO DE PILAR OU VIGA DE ESTRUTURA CONVENCIONAL DE CONCRETO ARMADO UTILIZANDO AÇO CA-50 DE 8,0 MM - MONTAGEM. AF_06/2022 | D100: SINAPI | E100: KG | F100: 43.92 | H100: =ROUND((G100*1.2247),2) -> 0 | I100: =G100*F100 -> 0 | J100: =ROUND((F100*H100),2) -> 0
A101: 5.4.3 | B101: 92759 | C101: ARMAÇÃO DE PILAR OU VIGA DE ESTRUTURA CONVENCIONAL DE CONCRETO ARMADO UTILIZANDO AÇO CA-60 DE 5,0 MM - MONTAGEM. AF_06/2022 | D101: SINAPI | E101: KG | F101: 13.66 | H101: =ROUND((G101*1.2247),2) -> 0 | I101: =G101*F101 -> 0 | J101: =ROUND((F101*H101),2) -> 0
A102: 5.4.4 | B102: 103672 | C102: CONCRETAGEM DE PILARES, FCK = 25 MPA, COM USO DE BOMBA - LANÇAMENTO, ADENSAMENTO E ACABAMENTO. AF_02/2022_PS | D102: SINAPI | E102: M3 | F102: 0.76 | H102: =ROUND((G102*1.2247),2) -> 0 | I102: =G102*F102 -> 0 | J102: =ROUND((F102*H102),2) -> 0
A103: 5.5 | B103: CONCRETO ARMADO - CASA DE GÁS - PILARES VIGAS E LAJE | J103: =SUM(J104:J109) -> 0
A104: 5.5.1 | B104: 92443 | C104: MONTAGEM E DESMONTAGEM DE FÔRMA DE PILARES RETANGULARES E ESTRUTURAS SIMILARES, PÉ-DIREITO SIMPLES, EM CHAPA DE MADEIRA COMPENSADA PLASTIFICADA, 18 UTILIZAÇÕES. AF_09/2020 | D104: SINAPI | E104: M2 | F104: 19.24 | H104: =ROUND((G104*1.2247),2) -> 0 | I104: =G104*F104 -> 0 | J104: =F104*H104 -> 0
A105: 5.5.2 | B105: 92760 | C105: ARMAÇÃO DE PILAR OU VIGA DE ESTRUTURA CONVENCIONAL DE CONCRETO ARMADO UTILIZANDO AÇO CA-50 DE 6,3 MM - MONTAGEM. AF_06/2022 | D105: SINAPI | E105: KG | F105: 15.26 | H105: =ROUND((G105*1.2247),2) -> 0 | I105: =G105*F105 -> 0 | J105: =F105*H105 -> 0
A106: 5.5.3 | B106: 92761 | C106: ARMAÇÃO DE PILAR OU VIGA DE ESTRUTURA CONVENCIONAL DE CONCRETO ARMADO UTILIZANDO AÇO CA-50 DE 8,0 MM - MONTAGEM. AF_06/2022 | D106: SINAPI | E106: KG | F106: 19.45 | H106: =ROUND((G106*1.2247),2) -> 0 | I106: =G106*F106 -> 0 | J106: =F106*H106 -> 0
A107: 5.5.4 | B107: 92762 | C107: ARMAÇÃO DE PILAR OU VIGA DE ESTRUTURA CONVENCIONAL DE CONCRETO ARMADO UTILIZANDO AÇO CA-50 DE 10,0 MM - MONTAGEM. AF_06/2022 | D107: SINAPI | E107: KG | F107: 28.01 | H107: =ROUND((G107*1.2247),2) -> 0 | I107: =G107*F107 -> 0 | J107: =F107*H107 -> 0
...

Sheet CRONOGRAMA GERAL DA OBRA
A9: CRONOGRAMA FÍSICO-FINANCEIRO
A11: =SP!A5 -> Obra: Construção da Creche de Educação Infantil, FNDE - Creche Tipo 2
A12: =SP!A6 -> Local: | B12: =SP!B6 -> Rua Dirce de Souza Machado, n.º 250
A13: =SP!A7 -> Bairro: | B13: =SP!B7 -> Varadouro
A14: =SP!A8 -> Município: Santa Isabel - SP
A16: ITEM | B16: ETAPA | C16: CRONOGRAMA FÍSICO-FINANCEIRO
C17: 1ª | D17: 2ª | E17: 3ª | F17: 4ª | G17: 5ª | H17: 6ª | I17: 7ª | J17: 8ª | K17: 9ª | L17: 10ª | M17: 11ª | N17: 12ª | O17: R$ | P17: %
C18: 30 | D18: 60 | E18: 90 | F18: 120 | G18: 150 | H18: 180 | I18: 210 | J18: 240 | K18: 270 | L18: 300 | M18: 330 | N18: 360 | O18: DA ETAPA | P18: DA ETAPA
A19: 1 | B19: =SP!B14 -> SERVIÇOS PRELIMINARES | C19: =Planilha2!L21 -> 5810.5 | D19: =Planilha2!N21 -> 37309.242 | E19: =Planilha2!P21 -> 4214.74 | F19: =Planilha2!R21 -> 4214.74 | G19: =Planilha2!T21 -> 4214.74 | H19: =Planilha2!V21 -> 4214.74 | I19: =Planilha2!X21 -> 4214.74 | J19: =Planilha2!Z21 -> 4214.74 | K19: =Planilha2!AB21 -> 4214.74 | O19: =C19+D19+E19+F19+G19+H19+I19+J19+K19 -> 72622.922 | P19: =O19/O72 -> 0.018535547
A21: =SP!A24 -> 2 | B21: =SP!B24 -> ADMINISTRAÇÃO LOCAL | D21: =Planilha2!N31 -> 29214.718 | E21: =Planilha2!P31 -> 24345.598 | F21: =Planilha2!R31 -> 29214.718 | G21: =Planilha2!T31 -> 68167.674 | H21: =Planilha2!V31 -> 68167.674 | I21: =Planilha2!X31 -> 53560.316 | J21: =Planilha2!Z31 -> 58429.435 | K21: =Planilha2!AB31 -> 29214.718 | L21: =Planilha2!AD31 -> 34083.837 | M21: =Planilha2!AF31 -> 73036.794 | N21: =Planilha2!AH31 -> 19476.478 | O21: =SUM(D21:N21)+0.01 -> 486911.97 | P21: =O21/O72 -> 0.12427453
A23: 3 | B23: =SP!B26 -> MOVIMENTO DE TERRA PARA FUNDAÇÕES | D23: =Planilha2!N33 -> 64182.63 | O23: =SUM(D23:N23) -> 64182.63 | P23: =O23/O72 -> 0.016381331
A25: 4 | B25: =SP!B41 -> FUNDAÇÕES | D25: =Planilha2!N48 -> 203573.43 | E25: =Planilha2!P48 -> 173839.8 | F25: =Planilha2!R48 -> 2496.53 | O25: =SUM(D25:N25) -> 379909.76 | P25: =O25/O72 -> 0.096964358
A27: 5 | B27: =SP!B83 -> SUPERESTRUTURA | F27: =Planilha2!R90 -> 66318.096 | G27: =Planilha2!T90 -> 134945.59 | H27: =Planilha2!V90 -> 115879.07 | I27: =Planilha2!X90 -> 41194.508 | O27: =SUM(D27:N27)+0.01 -> 358337.27 | P27: =O27/O72 -> 0.091458412
A29: 6 | B29: =SP!B123 -> SISTEMA DE VEDAÇÃO VERTICAL | F29: =Planilha2!R130 -> 132672.88 | G29: =Planilha2!T130 -> 139707.16 | J29: =Planilha2!Z130 -> 14659.627 | O29: =SUM(D29:N29) -> 287039.67 | P29: =O29/O72 -> 0.073261127
A31: 7 | B31: =SP!B138 -> ESQUADRIAS | J31: =Planilha2!Z145 -> 137470.41 | K31: =Planilha2!AB145 -> 236092.89 | O31: =SUM(D31:N31) -> 373563.3 | P31: =O31/O72 -> 0.095344551
A33: 8 | B33: =SP!B183 -> SISTEMAS DE COBERTURA | G33: =Planilha2!T190 -> 131847.65 | H33: =Planilha2!V190 -> 131845.51 | O33: =SUM(D33:N33) -> 263693.16 | P33: =O33/O72 -> 0.067302399
A35: 9 | B35: =SP!B190 -> IMPERMEABILIZAÇÃO | E35: =Planilha2!P197 -> 28773.997 | O35: =SUM(D35:N35) -> 28773.997 | P35: =O35/O72 -> 0.0073439866
A37: 10 | B37: =SP!B193 -> REVESTIMENTOS INTERNO E EXTERNO | I37: =Planilha2!X200 -> 159948.28 | J37: =Planilha2!Z200 -> 159953.25 | O37: =SUM(D37:N37)+0.01 -> 319901.53 | P37: =O37/O72 -> 0.081648461
A39: 11 | B39: =SP!B210 -> SISTEMAS DE PISOS | I39: =Planilha2!X217 -> 81155.084 | J39: =Planilha2!Z217 -> 89379.502 | O39: =SUM(D39:N39)-0.01 -> 170534.58 | P39: =O39/O72 -> 0.043525536
A41: 12 | B41: =SP!B232 -> PINTURAS E ACABAMENTOS | L41: =Planilha2!AD239 -> 98244.848 | M41: =Planilha2!AF239 -> 98241.2 | O41: =SUM(D41:N41) -> 196486.05 | P41: =O41/O72 -> 0.050149129
A43: 13 | B43: =SP!B249 -> INSTALAÇÃO HIDRÁULICA | G43: =Planilha2!T256 -> 25486.029 | H43: =Planilha2!V256 -> 71915.687 | O43: =SUM(D43:N43) -> 97401.716 | P43: =O43/O72 -> 0.024859838
A45: 14 | B45: =SP!B302 -> DRENAGEM DE ÁGUAS PLUVIAIS | H45: =Planilha2!V309 -> 24415.566 | O45: =SUM(D45:N45) -> 24415.566 | P45: =O45/O72 -> 0.0062315843
A47: 15 | B47: =SP!B313 -> INSTALAÇÃO SANITÁRIA | H47: =Planilha2!V320 -> 101838.7 | O47: =SUM(D47:N47) -> 101838.7 | P47: =O47/O72 -> 0.025992288
A49: 16 | B49: =SP!B349 -> LOUÇAS, ACESSÓRIOS E METAIS | M49: =Planilha2!AF356 -> 20808.721 | N49: =Planilha2!AH356 -> 51191.911 | O49: =SUM(D49:N49) -> 72000.633 | P49: =O49/O72 -> 0.01837672
A51: 17 | B51: =SP!B384 -> INSTALAÇÃO DE GÁS COMBUSTÍVEL | I51: =Planilha2!X391 -> 5144.534 | O51: =SUM(D51:N51) -> 5144.534 | P51: =O51/O72 -> 0.0013130393
A53: 18 | B53: =SP!B398 -> SISTEMA DE PROTEÇÃO CONTRA INCÊNDIO | I53: =Planilha2!X405 -> 11618.519 | M53: =Planilha2!AF405 -> 22616.12 | N53: =Planilha2!AH405 -> 9544.24 | O53: =SUM(D53:N53) -> 43778.879 | P53: =O53/O72 -> 0.011173682
A55: 19 | B55: =SP!B425 -> INSTALAÇÃO ELÉTRICA - 110V | I55: =Planilha2!X432 -> 58117.242 | M55: =Planilha2!AF432 -> 262569.98 | O55: =SUM(D55:N55) -> 320687.23 | P55: =O55/O72 -> 0.081848993
A57: 20 | B57: =SP!B486 -> INSTALAÇÕES DE CLIMATIZAÇÃO | N57: =Planilha2!AH493 -> 16829.039 | O57: =SUM(D57:N57) -> 16829.039 | P57: =O57/O72 -> 0.0042952752
A59: 21 | B59: =SP!B498 -> INSTALAÇÕES DE CABEAMENTO ESTRUTURADO | L59: =Planilha2!AD505 -> 41104.029 | O59: =SUM(D59:N59) -> 41104.029 | P59: =O59/O72 -> 0.01049098
A61: 22 | B61: =SP!B524 -> SISTEMA DE EXAUSTÃO MECÂNICA | N61: =Planilha2!AH531 -> 11550.77 | O61: =SUM(D61:N61) -> 11550.77 | P61: =O61/O72 -> 0.0029481027
A63: 23 | B63: =SP!B527 -> SISTEMA DE PROTEÇÃO CONTRA DESCARGAS ATMOSFÉRICAS (SPDA) | L63: =Planilha2!AD534 -> 62630.433 | O63: =SUM(D63:N63) -> 62630.433 | P63: =O63/O72 -> 0.015985164
A65: 24 | B65: =SP!B543 -> SERVIÇOS COMPLEMENTARES | M65: =Planilha2!AF550 -> 111756.53 | O65: =SUM(D65:N65) -> 111756.53 | P65: =O65/O72 -> 0.028523618
A67: 25 | B67: =SP!B553 -> SERVIÇOS FINAIS | N67: =Planilha2!AH560 -> 6940.1864 | O67: =SUM(D67:N67) -> 6940.1864 | P67: =O67/O72 -> 0.0017713436
B69: R$ MENSAL | C69: =C19 -> 5810.5 | D69: =D19+D21+D23+D25 -> 334280.02 | E69: 231174.14 | F69: 234916.97 | G69: =G19+G21+G27+G29+G33+G43 -> 504368.84 | H69: =H19+H21+H27+H33+H43+H45+H47 -> 518276.95 | I69: 414953.23 | J69: =J19+J21+J29+J31+J37+J39 -> 464106.96 | K69: =K19+K21+K31 -> 269522.35 | L69: =L21+L41+L59+L63 -> 236063.15 | M69: =M21+M41+M49+M53+M55+M65 -> 589029.35 | N69: =N21+N49+N53+N57+N61+N67 -> 115532.63
B70: R$ ACUMULADO | C70: =C69 -> 5810.5 | D70: =D69+C70 -> 340090.52 | E70: =E69+D70 -> 571264.66 | F70: =F69+E70 -> 806181.63 | G70: =G69+F70 -> 1310550.5 | H70: =H69+G70 -> 1828827.4 | I70: =I69+H70 -> 2243780.6 | J70: =J69+I70 -> 2707887.6 | K70: =K69+J70 -> 2977409.9 | ... M70: =M69+L70 -> 3802502.4 | N70: =N69+M70+0.02 -> 3918035.1
B71: % MENSAL | C71: =C70/O72 -> 0.0014830138 | D71: =D69/O72 -> 0.085318281 | E71: =E69/O72 -> 0.05900257 | F71: =F69/O72 -> 0.059957853 | G71: =G69/O72 -> 0.12873005 | H71: =H69/O72 -> 0.13227981 | I71: =I69/O72 -> 0.1059085 | J71: =J69/O72 -> 0.11845401 | K71: =K69/O72 -> 0.068790182 | L71: =L69/O72 -> 0.060250391 | M71: =M69/O72 -> 0.15033795 | N71: =N69/O72 -> 0.029487389
B72: % ACUMULADO | C72: =C71 -> 0.0014830138 | D72: =D71+C72 -> 0.086801295 | E72: =E71+D72 -> 0.14580387 | F72: =F71+E72 -> 0.20576172 | G72: =G71+F72 -> 0.33449176 | H72: =H71+G72 -> 0.46677158 | I72: =I71+H72 -> 0.57268008 | J72: =J71+I72 -> 0.69113409 | K72: =K71+J72 -> 0.75992427 | ... N72: =N71+M72 -> 1 | O72: =SUM(O19:O68)+0.02 -> 3918035.1 | P72: =SUM(P19:P67) -> 0.99999999
A74: Santa Isabel,03 de julho de 2026
C77: Responsável Técnico pela Elaboração do Orçamento | H77: Secretária de Educação
C78: Kelly Cristina Nogueira da Silva | H78: Maria Donizeti de Queluz Camargo
C79: CREA SP 5069602262 ART 2620260349411 | H79: Secretaria de Educação
C80: Secretaria de Planejamentos Urbano, Obras e Habitação

Sheet Planilha2
A9: CRONOGRAMA DE EXECUÇÃO
A11: =SP!A5 -> Obra: Construção da Creche de Educação Infantil, FNDE - Creche Tipo 2
A12: =SP!A6 -> Local: | B12: =SP!B6 -> Rua Dirce de Souza Machado, n.º 250
A13: =SP!A7 -> Bairro: | B13: =SP!B7 -> Varadouro
A14: =SP!A8 -> Município: Santa Isabel - SP
K19: 1º mês | M19: 2º mês | O19: 3º mês | Q19: 4º mês | S19: 5º mês | U19: 6º mês | W19: 7º mês | Y19: 8º mês | AA19: 9º mês | AC19: 10º mês | AE19: 11º mês | AG19: 12º mês
K20: Quantidade | L20: R$ | M20: Quantidade | N20: R$ | O20: Quantidade | P20: R$ | Q20: Quantidade | R20: R$ | S20: Quantidade | T20: R$ | U20: Quantidade | V20: R$ | W20: Quantidade | X20: R$ | Y20: Quantidade | Z20: R$ | AA20: Quantidade | AB20: R$ | AC20: Quantidade | AD20: R$ | AE20: Quantidade | AF20: R$ | AG20: Quantidade | AH20: R$
A21: 1 | B21: SERVIÇOS PRELIMINARES | J21: =SUM(J22:J30) -> 72622.922 | L21: =SUM(L22:L30) -> 5810.5 | N21: =SUM(N22:N30) -> 37309.242 | P21: =SUM(P22:P30) -> 4214.74 | R21: =SUM(R22:R30) -> 4214.74 | T21: =SUM(T22:T30) -> 4214.74 | V21: =SUM(V22:V30) -> 4214.74 | X21: =SUM(X22:X30) -> 4214.74 | Z21: =SUM(Z22:Z30) -> 4214.74 | AB21: =SUM(AB22:AB30) -> 4214.74 | AD21: =SUM(AD22:AD30) -> 0 | AF21: =SUM(AF22:AF30) -> 0 | AH21: =SUM(AH22:AH30) -> 0
A22: 1.1 | B22: 103689 | C22: FORNECIMENTO E INSTALAÇÃO DE PLACA DE OBRA COM CHAPA GALVANIZADA E ESTRUTURA DE MADEIRA. AF_03/2022_PS | D22: SINAPI | E22: M2 | F22: 10 | G22: 474.44 | H22: =ROUND((G22*1.2247),2) -> 581.05 | I22: =G22*F22 -> 4744.4 | J22: =H22*F22 -> 5810.5 | K22: 10 | L22: =K22*H22 -> 5810.5 | N22: =M22*H22 -> 0 | P22: =O22*H22 -> 0 | R22: =Q22*H22 -> 0 | T22: =S22*H22 -> 0 | V22: =U22*H22 -> 0 | X22: =W22*H22 -> 0 | Z22: =Y22*H22 -> 0 | AB22: =AA22*H22 -> 0 | AD22: =AC22*H22 -> 0 | AF22: =AE22*H22 -> 0 | AH22: =AG22*H22 -> 0 | AJ22: =AH22+AF22+AD22+AB22+Z22+X22+V22+T22+R22+P22+N22+L22 -> 5810.5
A23: 1.2 | B23: 98459 | C23: TAPUME COM TELHA METÁLICA. AF_03/2024 | D23: SINAPI | E23: M2 | F23: 99 | G23: 96.32 | H23: =ROUND((G23*1.2247),2) -> 117.96 | I23: =G23*F23 -> 9535.68 | J23: =H23*F23 -> 11678.04 | L23: =K23*H23 -> 0 | M23: 99 | N23: =M23*H23 -> 11678.04 | P23: =O23*H23 -> 0 | R23: =Q23*H23 -> 0 | T23: =S23*H23 -> 0 | V23: =U23*H23 -> 0 | X23: =W23*H23 -> 0 | Z23: =Y23*H23 -> 0 | AB23: =AA23*H23 -> 0 | AD23: =AC23*H23 -> 0 | AF23: =AE23*H23 -> 0 | AH23: =AG23*H23 -> 0 | AJ23: =AH23+AF23+AD23+AB23+Z23+X23+V23+T23+R23+P23+N23+L23 -> 11678.04
A24: 1.3 | B24: 101509 | C24: ENTRADA DE ENERGIA ELÉTRICA, AÉREA, TRIFÁSICA, COM CAIXA DE EMBUTIR, CABO DE 10 MM2 E DISJUNTOR DIN 50A (NÃO INCLUSO O POSTE DE CONCRETO). AF_12/2025 | D24: SINAPI | E24: UN | F24: 1 | G24: 2187.16 | H24: =ROUND((G24*1.2247),2) -> 2678.61 | I24: =G24*F24 -> 2187.16 | J24: =H24*F24 -> 2678.61 | L24: =K24*H24 -> 0 | M24: 1 | N24: =M24*H24 -> 2678.61 | P24: =O24*H24 -> 0 | R24: =Q24*H24 -> 0 | T24: =S24*H24 -> 0 | V24: =U24*H24 -> 0 | X24: =W24*H24 -> 0 | Z24: =Y24*H24 -> 0 | AB24: =AA24*H24 -> 0 | AD24: =AC24*H24 -> 0 | AF24: =AE24*H24 -> 0 | AH24: =AG24*H24 -> 0 | AJ24: =AH24+AF24+AD24+AB24+Z24+X24+V24+T24+R24+P24+N24+L24 -> 2678.61
A25: 1.4 | B25: FNDE 03 | C25: LIGAÇÃO PROVISÓRIA DE ÁGUA E ESGOTO | D25: PRÓPRIA | E25: UN | F25: 1 | G25: 3221.17 | H25: =ROUND((G25*1.2247),2) -> 3944.97 | I25: =G25*F25 -> 3221.17 | J25: =H25*F25 -> 3944.97 | L25: =K25*H25 -> 0 | M25: 1 | N25: =M25*H25 -> 3944.97 | P25: =O25*H25 -> 0 | R25: =Q25*H25 -> 0 | T25: =S25*H25 -> 0 | V25: =U25*H25 -> 0 | X25: =W25*H25 -> 0 | Z25: =Y25*H25 -> 0 | AB25: =AA25*H25 -> 0 | AD25: =AC25*H25 -> 0 | AF25: =AE25*H25 -> 0 | AH25: =AG25*H25 -> 0 | AJ25: =AH25+AF25+AD25+AB25+Z25+X25+V25+T25+R25+P25+N25+L25 -> 3944.97
A26: 1.5 | B26: 99059 | C26: LOCAÇÃO CONVENCIONAL DE OBRA, UTILIZANDO GABARITO DE TÁBUAS CORRIDAS PONTALETADAS A CADA 2,00M - 2 UTILIZAÇÕES. AF_03/2024 | D26: SINAPI | E26: M | F26: 127.78 | G26: 80.01 | H26: =ROUND((G26*1.2247),2) -> 97.99 | I26: =G26*F26 -> 10223.678 | J26: =H26*F26 -> 12521.162 | L26: =K26*H26 -> 0 | M26: 127.78 | N26: =M26*H26 -> 12521.162 | P26: =O26*H26 -> 0 | R26: =Q26*H26 -> 0 | T26: =S26*H26 -> 0 | V26: =U26*H26 -> 0 | X26: =W26*H26 -> 0 | Z26: =Y26*H26 -> 0 | AB26: =AA26*H26 -> 0 | AD26: =AC26*H26 -> 0 | AF26: =AE26*H26 -> 0 | AH26: =AG26*H26 -> 0 | AJ26: =AH26+AF26+AD26+AB26+Z26+X26+V26+T26+R26+P26+N26+L26 -> 12521.162
A27: 1.6 | B27: FNDE 231 | C27: LOCACAO DE CONTAINER 2,30 X 6,00 M, ALT. 2,50 M, COM 1 SANITARIO, PARA ESCRITORIO, COMPLETO, SEM DIVISORIAS INTERNAS (NAO INCLUI MOBILIZACAO/DESMOBILIZACAO) | D27: PRÓPRIA | E27: MÊS | F27: 8 | G27: 1137.48 | H27: =ROUND((G27*1.2247),2) -> 1393.07 | I27: =G27*F27 -> 9099.84 | J27: =H27*F27 -> 11144.56 | L27: =K27*H27 -> 0 | M27: 1 | N27: =M27*H27 -> 1393.07 | O27: 1 | P27: =O27*H27 -> 1393.07 | Q27: 1 | R27: =Q27*H27 -> 1393.07 | S27: 1 | T27: =S27*H27 -> 1393.07 | U27: 1 | V27: =U27*H27 -> 1393.07 | W27: 1 | X27: =W27*H27 -> 1393.07 | Y27: 1 | Z27: =Y27*H27 -> 1393.07 | AA27: 1 | AB27: =AA27*H27 -> 1393.07 | AD27: =AC27*H27 -> 0 | AF27: =AE27*H27 -> 0 | AH27: =AG27*H27 -> 0 | AJ27: =AH27+AF27+AD27+AB27+Z27+X27+V27+T27+R27+P27+N27+L27 -> 11144.56
A28: 1.7 | B28: FNDE 230 | C28: LOCACAO DE CONTAINER 2,30 X 6,00 M, ALT. 2,50 M, PARA ESCRITORIO, SEM DIVISORIAS INTERNAS E SEM SANITARIO (NAO INCLUI MOBILIZACAO/DESMOBILIZACAO) | D28: PRÓPRIA | E28: MÊS | F28: 8 | G28: 934.31 | H28: =ROUND((G28*1.2247),2) -> 1144.25 | I28: =G28*F28 -> 7474.48 | J28: =H28*F28 -> 9154 | L28: =K28*H28 -> 0 | M28: 1 | N28: =M28*H28 -> 1144.25 | O28: 1 | P28: =O28*H28 -> 1144.25 | Q28: 1 | R28: =Q28*H28 -> 1144.25 | S28: 1 | T28: =S28*H28 -> 1144.25 | U28: 1 | V28: =U28*H28 -> 1144.25 | W28: 1 | X28: =W28*H28 -> 1144.25 | Y28: 1 | Z28: =Y28*H28 -> 1144.25 | AA28: 1 | AB28: =AA28*H28 -> 1144.25 | AD28: =AC28*H28 -> 0 | AF28: =AE28*H28 -> 0 | AH28: =AG28*H28 -> 0 | AJ28: =AH28+AF28+AD28+AB28+Z28+X28+V28+T28+R28+P28+N28+L28 -> 9154
A29: 1.8 | B29: FNDE 232 | C29: LOCACAO DE CONTAINER 2,30 X 6,00 M, ALT. 2,50 M, PARA SANITARIO, COM 4 BACIAS, 8 CHUVEIROS,1 LAVATORIO E 1 MICTORIO (NAO INCLUI MOBILIZACAO/DESMOBILIZACAO) | D29: PRÓPRIA | E29: MÊS | F29: 8 | G29: 1369.66 | H29: =ROUND((G29*1.2247),2) -> 1677.42 | I29: =G29*F29 -> 10957.28 | J29: =H29*F29 -> 13419.36 | L29: =K29*H29 -> 0 | M29: 1 | N29: =M29*H29 -> 1677.42 | O29: 1 | P29: =O29*H29 -> 1677.42 | Q29: 1 | R29: =Q29*H29 -> 1677.42 | S29: 1 | T29: =S29*H29 -> 1677.42 | U29: 1 | V29: =U29*H29 -> 1677.42 | W29: 1 | X29: =W29*H29 -> 1677.42 | Y29: 1 | Z29: =Y29*H29 -> 1677.42 | AA29: 1 | AB29: =AA29*H29 -> 1677.42 | AD29: =AC29*H29 -> 0 | AF29: =AE29*H29 -> 0 | AH29: =AG29*H29 -> 0 | AJ29: =AH29+AF29+AD29+AB29+Z29+X29+V29+T29+R29+P29+N29+L29 -> 13419.36
A30: 1.9 | B30: 68.01.670 | C30: Poste de concreto circular, 300 kg, H = 9,00 m | D30: CDHU | E30: UN | F30: 1 | G30: 1854.92 | H30: =ROUND((G30*1.2247),2) -> 2271.72 | I30: =G30*F30 -> 1854.92 | J30: =H30*F30 -> 2271.72 | L30: =K30*H30 -> 0 | M30: 1 | N30: =M30*H30 -> 2271.72 | P30: =O30*H30 -> 0 | R30: =Q30*H30 -> 0 | T30: =S30*H30 -> 0 | V30: =U30*H30 -> 0 | X30: =W30*H30 -> 0 | Z30: =Y30*H30 -> 0 | AB30: =AA30*H30 -> 0 | AD30: =AC30*H30 -> 0 | AF30: =AE30*H30 -> 0 | AH30: =AG30*H30 -> 0 | AJ30: =AH30+AF30+AD30+AB30+Z30+X30+V30+T30+R30+P30+N30+L30 -> 2271.72
A31: 2 | B31: ADMINISTRAÇÃO LOCAL | J31: =J32 -> 486911.96 | L31: =L32 -> 0 | N31: =N32 -> 29214.718 | P31: =P32 -> 24345.598 | R31: =R32 -> 29214.718 | T31: =T32 -> 68167.674 | V31: =V32 -> 68167.674 | X31: =X32 -> 53560.316 | Z31: =Z32 -> 58429.435 | AB31: =AB32 -> 29214.718 | AD31: =AD32 -> 34083.837 | AF31: =AF32 -> 73036.794 | AH31: =AH32 -> 19476.478
A32: 2.1 | B32: FNDE 392 | C32: ADMINISTRAÇÃO LOCAL TIPO 2 | D32: PRÓPRIA | E32: UN | F32: 1 | G32: 397576.52 | H32: =ROUND((G32*1.2247),2) -> 486911.96 | I32: =G32*F32 -> 397576.52 | J32: =H32*F32 -> 486911.96 | L32: =K32*H32 -> 0 | M32: 0.06 | N32: =M32*H32 -> 29214.718 | O32: 0.05 | P32: =O32*H32 -> 24345.598 | Q32: 0.06 | R32: =Q32*H32 -> 29214.718 | S32: 0.14 | T32: =S32*H32 -> 68167.674 | U32: 0.14 | V32: =U32*H32 -> 68167.674 | W32: 0.11 | X32: =W32*H32 -> 53560.316 | Y32: 0.12 | Z32: =Y32*H32 -> 58429.435 | AA32: 0.06 | AB32: =AA32*H32 -> 29214.718 | AC32: 0.07 | AD32: =AC32*H32 -> 34083.837 | AE32: 0.15 | AF32: =AE32*H32 -> 73036.794 | AG32: 0.04 | AH32: =AG32*H32 -> 19476.478 | AJ32: =AH32+AF32+AD32+AB32+Z32+X32+V32+T32+R32+P32+N32+L32 -> 486911.96
A33: 3 | B33: MOVIMENTO DE TERRA PARA FUNDAÇÕES | J33: =J34+J40+J44 -> 64182.63 | L33: =SUM(L34:L47) -> 0 | N33: =SUM(N34:N47)-0.01 -> 64182.63 | P33: =SUM(P34:P47) -> 0 | R33: =SUM(R34:R47) -> 0 | T33: =SUM(T34:T47) -> 0 | V33: =SUM(V34:V47) -> 0 | X33: =SUM(X34:X47) -> 0 | Z33: =SUM(Z34:Z47) -> 0 | AB33: =SUM(AB34:AB47) -> 0 | AD33: =SUM(AD34:AD47) -> 0 | AF33: =SUM(AF34:AF47) -> 0 | AH33: =SUM(AH34:AH47) -> 0
A34: 3.1 | B34: EDIFICAÇÃO | J34: =SUM(J35:J39) -> 60720.03
A35: 3.1.1 | B35: 98525 | C35: LIMPEZA MECANIZADA DE CAMADA VEGETAL, VEGETAÇÃO E PEQUENAS ÁRVORES (DIÂMETRO DE TRONCO MENOR QUE 0,20 M), COM TRATOR DE ESTEIRAS. AF_03/2024 | D35: SINAPI | E35: M2 | F35: 1575 | G35: 0.74 | H35: =ROUND((G35*1.2247),2) -> 0.91 | I35: =G35*F35 -> 1165.5 | J35: =ROUND((H35*F35),2) -> 1433.25 | L35: =K35*H35 -> 0 | M35: 1575 | N35: =M35*H35 -> 1433.25 | P35: =O35*H35 -> 0 | R35: =Q35*H35 -> 0 | T35: =S35*H35 -> 0 | V35: =U35*H35 -> 0 | X35: =W35*H35 -> 0 | Z35: =Y35*H35 -> 0 | AB35: =AA35*H35 -> 0 | AD35: =AC35*H35 -> 0 | AF35: =AE35*H35 -> 0 | AH35: =AG35*H35 -> 0 | AJ35: =AH35+AF35+AD35+AB35+Z35+X35+V35+T35+R35+P35+N35+L35 -> 1433.25
A36: 3.1.2 | B36: 94306 | C36: ATERRO MECANIZADO DE VALA COM ESCAVADEIRA HIDRÁULICA (CAPACIDADE DA CAÇAMBA: 0,8 M³ / POTÊNCIA: 111 HP), LARGURA ATÉ 2,5 M, PROFUNDIDADE DE 1,5 A 3,0 M, COM SOLO ARGILO-ARENOSO. AF_08/2023 | D36: SINAPI | E36: M3 | F36: 158.44 | G36: 73.52 | H36: =ROUND((G36*1.2247),2) -> 90.04 | I36: =G36*F36 -> 11648.509 | J36: =ROUND((H36*F36),2) -> 14265.94 | L36: =K36*H36 -> 0 | M36: 158.44 | N36: =M36*H36 -> 14265.938 | P36: =O36*H36 -> 0 | R36: =Q36*H36 -> 0 | T36: =S36*H36 -> 0 | V36: =U36*H36 -> 0 | X36: =W36*H36 -> 0 | Z36: =Y36*H36 -> 0 | AB36: =AA36*H36 -> 0 | AD36: =AC36*H36 -> 0 | AF36: =AE36*H36 -> 0 | AH36: =AG36*H36 -> 0 | AJ36: =AH36+AF36+AD36+AB36+Z36+X36+V36+T36+R36+P36+N36+L36 -> 14265.938
A37: 3.1.3 | B37: 96523 | C37: ESCAVAÇÃO MANUAL PARA BLOCO DE COROAMENTO OU SAPATA (INCLUINDO ESCAVAÇÃO PARA COLOCAÇÃO DE FÔRMAS). AF_01/2024 | D37: SINAPI | E37: M3 | F37: 250.58 | G37: 132.02 | H37: =ROUND((G37*1.2247),2) -> 161.68 | I37: =G37*F37 -> 33081.572 | J37: =ROUND((H37*F37),2) -> 40513.77 | L37: =K37*H37 -> 0 | M37: 250.58 | N37: =M37*H37 -> 40513.774 | P37: =O37*H37 -> 0 | R37: =Q37*H37 -> 0 | T37: =S37*H37 -> 0 | V37: =U37*H37 -> 0 | X37: =W37*H37 -> 0 | Z37: =Y37*H37 -> 0 | AB37: =AA37*H37 -> 0 | AD37: =AC37*H37 -> 0 | AF37: =AE37*H37 -> 0 | AH37: =AG37*H37 -> 0 | AJ37: =AH37+AF37+AD37+AB37+Z37+X37+V37+T37+R37+P37+N37+L37 -> 40513.774
A38: 3.1.4 | B38: 101617 | C38: PREPARO DE FUNDO DE VALA COM LARGURA MAIOR OU IGUAL A 1,5 M E MENOR QUE 2,5 M (ACERTO DO SOLO NATURAL), EM LOCAL COM NÍVEL BAIXO DE INTERFERÊNCIA. AF_01/2026 | D38: SINAPI | E38: M2 | F38: 107.09 | G38: 4.64 | H38: =ROUND((G38*1.2247),2) -> 5.68 | I38: =G38*F38 -> 496.8976 | J38: =ROUND((H38*F38),2) -> 608.27 | L38: =K38*H38 -> 0 | M38: 107.09 | N38: =M38*H38 -> 608.2712 | P38: =O38*H38 -> 0 | R38: =Q38*H38 -> 0 | T38: =S38*H38 -> 0 | V38: =U38*H38 -> 0 | X38: =W38*H38 -> 0 | Z38: =Y38*H38 -> 0 | AB38: =AA38*H38 -> 0 | AD38: =AC38*H38 -> 0 | AF38: =AE38*H38 -> 0 | AH38: =AG38*H38 -> 0 | AJ38: =AH38+AF38+AD38+AB38+Z38+X38+V38+T38+R38+P38+N38+L38 -> 608.2712
A39: 3.1.5 | B39: 93381 | C39: REATERRO MECANIZADO DE VALA COM RETROESCAVADEIRA (CAPACIDADE DA CAÇAMBA DA RETRO: 0,26 M³/POTÊNCIA: 88 HP), LARGURA 0,8 A 1,5 M, PROFUNDIDADE 1,5 A 3,0 M, COM SOLO (SEM SUBSTITUIÇÃO) DE 1ª CATEGORIA E COMPACTADOR DE SOLOS DE PERCUSSÃO. AF_08/2023 | D39: SINAPI | E39: M3 | F39: 210.86 | G39: 15.1 | H39: =ROUND((G39*1.2247),2) -> 18.49 | I39: =G39*F39 -> 3183.986 | J39: =ROUND((H39*F39),2) -> 3898.8 | L39: =K39*H39 -> 0 | M39: 210.86 | N39: =M39*H39 -> 3898.8014 | P39: =O39*H39 -> 0 | R39: =Q39*H39 -> 0 | T39: =S39*H39 -> 0 | V39: =U39*H39 -> 0 | X39: =W39*H39 -> 0 | Z39: =Y39*H39 -> 0 | AB39: =AA39*H39 -> 0 | AD39: =AC39*H39 -> 0 | AF39: =AE39*H39 -> 0 | AH39: =AG39*H39 -> 0 | AJ39: =AH39+AF39+AD39+AB39+Z39+X39+V39+T39+R39+P39+N39+L39 -> 3898.8014
A40: 3.2 | B40: MURETA ABRIGO DE GÁS | J40: =SUM(J41:J43) -> 2822.24
A41: 3.2.1 | B41: 96523 | C41: ESCAVAÇÃO MANUAL PARA BLOCO DE COROAMENTO OU SAPATA (INCLUINDO ESCAVAÇÃO PARA COLOCAÇÃO DE FÔRMAS). AF_01/2024 | D41: SINAPI | E41: M3 | F41: 15.68 | G41: 132.02 | H41: =ROUND((G41*1.2247),2) -> 161.68 | I41: =G41*F41 -> 2070.0736 | J41: =ROUND((F41*H41),2) -> 2535.14 | L41: =K41*H41 -> 0 | M41: 15.68 | N41: =M41*H41 -> 2535.1424 | P41: =O41*H41 -> 0 | R41: =Q41*H41 -> 0 | T41: =S41*H41 -> 0 | V41: =U41*H41 -> 0 | X41: =W41*H41 -> 0 | Z41: =Y41*H41 -> 0 | AB41: =AA41*H41 -> 0 | AD41: =AC41*H41 -> 0 | AF41: =AE41*H41 -> 0 | AH41: =AG41*H41 -> 0 | AJ41: =AH41+AF41+AD41+AB41+Z41+X41+V41+T41+R41+P41+N41+L41 -> 2535.1424
A42: 3.2.2 | B42: 101617 | C42: PREPARO DE FUNDO DE VALA COM LARGURA MAIOR OU IGUAL A 1,5 M E MENOR QUE 2,5 M (ACERTO DO SOLO NATURAL), EM LOCAL COM NÍVEL BAIXO DE INTERFERÊNCIA. AF_01/2026 | D42: SINAPI | E42: M2 | F42: 13.37 | G42: 4.64 | H42: =ROUND((G42*1.2247),2) -> 5.68 | I42: =G42*F42 -> 62.0368 | J42: =ROUND((F42*H42),2) -> 75.94 | L42: =K42*H42 -> 0 | M42: 13.37 | N42: =M42*H42 -> 75.9416 | P42: =O42*H42 -> 0 | R42: =Q42*H42 -> 0 | T42: =S42*H42 -> 0 | V42: =U42*H42 -> 0 | X42: =W42*H42 -> 0 | Z42: =Y42*H42 -> 0 | AB42: =AA42*H42 -> 0 | AD42: =AC42*H42 -> 0 | AF42: =AE42*H42 -> 0 | AH42: =AG42*H42 -> 0 | AJ42: =AH42+AF42+AD42+AB42+Z42+X42+V42+T42+R42+P42+N42+L42 -> 75.9416
A43: 3.2.3 | B43: 93381 | C43: REATERRO MECANIZADO DE VALA COM RETROESCAVADEIRA (CAPACIDADE DA CAÇAMBA DA RETRO: 0,26 M³/POTÊNCIA: 88 HP), LARGURA 0,8 A 1,5 M, PROFUNDIDADE 1,5 A 3,0 M, COM SOLO (SEM SUBSTITUIÇÃO) DE 1ª CATEGORIA E COMPACTADOR DE SOLOS DE PERCUSSÃO. AF_08/2023 | D43: SINAPI | E43: M3 | F43: 11.42 | G43: 15.1 | H43: =ROUND((G43*1.2247),2) -> 18.49 | I43: =G43*F43 -> 172.442 | J43: =ROUND((F43*H43),2) -> 211.16 | L43: =K43*H43 -> 0 | M43: 11.42 | N43: =M43*H43 -> 211.1558 | P43: =O43*H43 -> 0 | R43: =Q43*H43 -> 0 | T43: =S43*H43 -> 0 | V43: =U43*H43 -> 0 | X43: =W43*H43 -> 0 | Z43: =Y43*H43 -> 0 | AB43: =AA43*H43 -> 0 | AD43: =AC43*H43 -> 0 | AF43: =AE43*H43 -> 0 | AH43: =AG43*H43 -> 0 | AJ43: =AH43+AF43+AD43+AB43+Z43+X43+V43+T43+R43+P43+N43+L43 -> 211.1558
A44: 3.3 | B44: CASTELO D'ÁGUA | J44: =ROUND(SUM(J45:J47),2) -> 640.36
A45: 3.3.1 | B45: 96523 | C45: ESCAVAÇÃO MANUAL PARA BLOCO DE COROAMENTO OU SAPATA (INCLUINDO ESCAVAÇÃO PARA COLOCAÇÃO DE FÔRMAS). AF_01/2024 | D45: SINAPI | E45: M3 | F45: 3.65 | G45: 132.02 | H45: =ROUND((G45*1.2247),2) -> 161.68 | I45: =G45*F45 -> 481.873 | J45: =ROUND((F45*H45),2) -> 590.13 | L45: =K45*H45 -> 0 | M45: 3.65 | N45: =M45*H45 -> 590.132 | P45: =O45*H45 -> 0 | R45: =Q45*H45 -> 0 | T45: =S45*H45 -> 0 | V45: =U45*H45 -> 0 | X45: =W45*H45 -> 0 | Z45: =Y45*H45 -> 0 | AB45: =AA45*H45 -> 0 | AD45: =AC45*H45 -> 0 | AF45: =AE45*H45 -> 0 | AH45: =AG45*H45 -> 0 | AJ45: =AH45+AF45+AD45+AB45+Z45+X45+V45+T45+R45+P45+N45+L45 -> 590.132
A46: 3.3.2 | B46: 101617 | C46: PREPARO DE FUNDO DE VALA COM LARGURA MAIOR OU IGUAL A 1,5 M E MENOR QUE 2,5 M (ACERTO DO SOLO NATURAL), EM LOCAL COM NÍVEL BAIXO DE INTERFERÊNCIA. AF_01/2026 | D46: SINAPI | E46: M2 | F46: 4.84 | G46: 4.64 | H46: =ROUND((G46*1.2247),2) -> 5.68 | I46: =G46*F46 -> 22.4576 | J46: =ROUND((F46*H46),2) -> 27.49 | L46: =K46*H46 -> 0 | M46: 4.84 | N46: =M46*H46 -> 27.4912 | P46: =O46*H46 -> 0 | R46: =Q46*H46 -> 0 | T46: =S46*H46 -> 0 | V46: =U46*H46 -> 0 | X46: =W46*H46 -> 0 | Z46: =Y46*H46 -> 0 | AB46: =AA46*H46 -> 0 | AD46: =AC46*H46 -> 0 | AF46: =AE46*H46 -> 0 | AH46: =AG46*H46 -> 0 | AJ46: =AH46+AF46+AD46+AB46+Z46+X46+V46+T46+R46+P46+N46+L46 -> 27.4912
A47: 3.3.3 | B47: 93381 | C47: REATERRO MECANIZADO DE VALA COM RETROESCAVADEIRA (CAPACIDADE DA CAÇAMBA DA RETRO: 0,26 M³/POTÊNCIA: 88 HP), LARGURA 0,8 A 1,5 M, PROFUNDIDADE 1,5 A 3,0 M, COM SOLO (SEM SUBSTITUIÇÃO) DE 1ª CATEGORIA E COMPACTADOR DE SOLOS DE PERCUSSÃO. AF_08/2023 | D47: SINAPI | E47: M3 | F47: 1.23 | G47: 15.1 | H47: =ROUND((G47*1.2247),2) -> 18.49 | I47: =G47*F47 -> 18.573 | J47: =ROUND((F47*H47),2) -> 22.74 | L47: =K47*H47 -> 0 | M47: 1.23 | N47: =M47*H47 -> 22.7427 | P47: =O47*H47 -> 0 | R47: =Q47*H47 -> 0 | T47: =S47*H47 -> 0 | V47: =U47*H47 -> 0 | X47: =W47*H47 -> 0 | Z47: =Y47*H47 -> 0 | AB47: =AA47*H47 -> 0 | AD47: =AC47*H47 -> 0 | AF47: =AE47*H47 -> 0 | AH47: =AG47*H47 -> 0 | AJ47: =AH47+AF47+AD47+AB47+Z47+X47+V47+T47+R47+P47+N47+L47 -> 22.7427
A48: 4 | B48: FUNDAÇÕES | J48: =ROUND((J49+J59+J68+J78+J85),2) -> 379909.87 | L48: =SUM(L49:L89) -> 0 | N48: =SUM(N49:N89) -> 203573.43 | P48: =SUM(P49:P89)-0.03 -> 173839.8 | R48: =SUM(R49:R89) -> 2496.53 | T48: =SUM(T49:T89) -> 0 | V48: =SUM(V49:V89) -> 0 | X48: =SUM(X49:X89) -> 0 | Z48: =SUM(Z49:Z89) -> 0 | AB48: =SUM(AB49:AB89) -> 0 | AD48: =SUM(AD49:AD89) -> 0 | AF48: =SUM(AF49:AF89) -> 0 | AH48: =SUM(AH49:AH89) -> 0
A49: 4.1 | B49: FUNDAÇÃO EDIFICAÇÃO | J49: =ROUND((SUM(J50:J58)),2) -> 259484.25
A50: 4.1.1 | B50: 100651 | C50: ESTACA HÉLICE CONTÍNUA, DIÂMETRO DE 30 CM, INCLUSO CONCRETO FCK=30MPA E ARMADURA MÍNIMA (EXCLUSIVE BOMBEAMENTO, MOBILIZAÇÃO E DESMOBILIZAÇÃO). AF_12/2019 | D50: SINAPI | E50: M | F50: 858 | G50: 134.38 | H50: =ROUND((G50*1.2247),2) -> 164.58 | I50: =G50*F50 -> 115298.04 | J50: =H50*F50 -> 141209.64 | L50: =K50*H50 -> 0 | M50: 858 | N50: =M50*H50 -> 141209.64 | P50: =O50*H50 -> 0 | R50: =Q50*H50 -> 0 | T50: =S50*H50 -> 0 | V50: =U50*H50 -> 0 | X50: =W50*H50 -> 0 | Z50: =Y50*H50 -> 0 | AB50: =AA50*H50 -> 0 | AD50: =AC50*H50 -> 0 | AF50: =AE50*H50 -> 0 | AH50: =AG50*H50 -> 0 | AJ50: =AH50+AF50+AD50+AB50+Z50+X50+V50+T50+R50+P50+N50+L50 -> 141209.64
A51: 4.1.2 | B51: 96540 | C51: FABRICAÇÃO, MONTAGEM E DESMONTAGEM DE FÔRMA PARA BLOCO DE COROAMENTO, EM CHAPA DE MADEIRA COMPENSADA RESINADA, E=17 MM, 4 UTILIZAÇÕES. AF_01/2024 | D51: SINAPI | E51: M2 | F51: 112.32 | G51: 150.09 | H51: =ROUND((G51*1.2247),2) -> 183.82 | I51: =G51*F51 -> 16858.109 | J51: =H51*F51 -> 20646.662 | L51: =K51*H51 -> 0 | N51: =M51*H51 -> 0 | O51: 112.32 | P51: =O51*H51 -> 20646.662 | R51: =Q51*H51 -> 0 | T51: =S51*H51 -> 0 | V51: =U51*H51 -> 0 | X51: =W51*H51 -> 0 | Z51: =Y51*H51 -> 0 | AB51: =AA51*H51 -> 0 | AD51: =AC51*H51 -> 0 | AF51: =AE51*H51 -> 0 | AH51: =AG51*H51 -> 0 | AJ51: =AH51+AF51+AD51+AB51+Z51+X51+V51+T51+R51+P51+N51+L51 -> 20646.662
A52: 4.1.3 | B52: 96619 | C52: LASTRO DE CONCRETO MAGRO, APLICADO EM BLOCOS DE COROAMENTO OU SAPATAS, ESPESSURA DE 5 CM. AF_01/2024 | D52: SINAPI | E52: M2 | F52: 48.92 | G52: 41.85 | H52: =ROUND((G52*1.2247),2) -> 51.25 | I52: =G52*F52 -> 2047.302 | J52: =H52*F52 -> 2507.15 | L52: =K52*H52 -> 0 | N52: =M52*H52 -> 0 | O52: 48.92 | P52: =O52*H52 -> 2507.15 | R52: =Q52*H52 -> 0 | T52: =S52*H52 -> 0 | V52: =U52*H52 -> 0 | X52: =W52*H52 -> 0 | Z52: =Y52*H52 -> 0 | AB52: =AA52*H52 -> 0 | AD52: =AC52*H52 -> 0 | AF52: =AE52*H52 -> 0 | AH52: =AG52*H52 -> 0 | AJ52: =AH52+AF52+AD52+AB52+Z52+X52+V52+T52+R52+P52+N52+L52 -> 2507.15
A53: 4.1.4 | B53: 96546 | C53: ARMAÇÃO DE BLOCO UTILIZANDO AÇO CA-50 DE 10 MM - MONTAGEM. AF_01/2024 | D53: SINAPI | E53: KG | F53: 951.93 | G53: 13.5 | H53: =ROUND((G53*1.2247),2) -> 16.53 | I53: =G53*F53 -> 12851.055 | J53: =H53*F53 -> 15735.403 | L53: =K53*H53 -> 0 | N53: =M53*H53 -> 0 | O53: 951.93 | P53: =O53*H53 -> 15735.403 | R53: =Q53*H53 -> 0 | T53: =S53*H53 -> 0 | V53: =U53*H53 -> 0 | X53: =W53*H53 -> 0 | Z53: =Y53*H53 -> 0 | AB53: =AA53*H53 -> 0 | AD53: =AC53*H53 -> 0 | AF53: =AE53*H53 -> 0 | AH53: =AG53*H53 -> 0 | AJ53: =AH53+AF53+AD53+AB53+Z53+X53+V53+T53+R53+P53+N53+L53 -> 15735.403
A54: 4.1.5 | B54: 92921 | C54: ARMAÇÃO DE ESTRUTURAS DIVERSAS DE CONCRETO ARMADO, EXCETO VIGAS, PILARES, LAJES E FUNDAÇÕES, UTILIZANDO AÇO CA-50 DE 12,5 MM - MONTAGEM. AF_06/2022 | D54: SINAPI | E54: KG | F54: 308.25 | G54: 8.7 | H54: =ROUND((G54*1.2247),2) -> 10.65 | I54: =G54*F54 -> 2681.775 | J54: =H54*F54 -> 3282.8625 | L54: =K54*H54 -> 0 | N54: =ROUND((M54*H54),2) -> 0 | O54: 308.25 | P54: =O54*H54 -> 3282.8625 | R54: =Q54*H54 -> 0 | T54: =S54*H54 -> 0 | V54: =U54*H54 -> 0 | X54: =W54*H54 -> 0 | Z54: =Y54*H54 -> 0 | AB54: =AA54*H54 -> 0 | AD54: =AC54*H54 -> 0 | AF54: =AE54*H54 -> 0 | AH54: =AG54*H54 -> 0 | AJ54: =AH54+AF54+AD54+AB54+Z54+X54+V54+T54+R54+P54+N54+L54 -> 3282.8625
A55: 4.1.6 | B55: 92919 | C55: ARMAÇÃO DE ESTRUTURAS DIVERSAS DE CONCRETO ARMADO, EXCETO VIGAS, PILARES, LAJES E FUNDAÇÕES, UTILIZANDO AÇO CA-50 DE 10,0 MM - MONTAGEM. AF_06/2022 | D55: SINAPI | E55: KG | F55: 210.32 | G55: 10.81 | H55: =ROUND((G55*1.2247),2) -> 13.24 | I55: =G55*F55 -> 2273.5592 | J55: =H55*F55 -> 2784.6368 | L55: =K55*H55 -> 0 | N55: =ROUND((M55*H55),2) -> 0 | O55: 210.32 | P55: =O55*H55 -> 2784.6368 | R55: =Q55*H55 -> 0 | T55: =S55*H55 -> 0 | V55: =U55*H55 -> 0 | X55: =W55*H55 -> 0 | Z55: =Y55*H55 -> 0 | AB55: =AA55*H55 -> 0 | AD55: =AC55*H55 -> 0 | AF55: =AE55*H55 -> 0 | AH55: =AG55*H55 -> 0 | AJ55: =AH55+AF55+AD55+AB55+Z55+X55+V55+T55+R55+P55+N55+L55 -> 2784.6368
A56: 4.1.7 | B56: 96557 | C56: CONCRETAGEM DE BLOCO DE COROAMENTO OU VIGA BALDRAME, FCK 30 MPA, COM USO DE BOMBA - LANÇAMENTO, ADENSAMENTO E ACABAMENTO. AF_01/2024 | D56: SINAPI | E56: M3 | F56: 22.46 | G56: 636.55 | H56: =ROUND((G56*1.2247),2) -> 779.58 | I56: =G56*F56 -> 14296.913 | J56: =H56*F56 -> 17509.367 | L56: =K56*H56 -> 0 | N56: =ROUND((M56*H56),2) -> 0 | O56: 22.46 | P56: =O56*H56 -> 17509.367 | R56: =Q56*H56 -> 0 | T56: =S56*H56 -> 0 | V56: =U56*H56 -> 0 | X56: =W56*H56 -> 0 | Z56: =Y56*H56 -> 0 | AB56: =AA56*H56 -> 0 | AD56: =AC56*H56 -> 0 | AF56: =AE56*H56 -> 0 | AH56: =AG56*H56 -> 0 | AJ56: =AH56+AF56+AD56+AB56+Z56+X56+V56+T56+R56+P56+N56+L56 -> 17509.367
A57: 4.1.8 | B57: 12.12.010 | C57: Taxa de mobilização e desmobilização de equipamentos para execução de estaca tipo hélice contínua em solo | D57: CDHU | E57: TX | F57: 1 | G57: 43530.57 | H57: =ROUND((G57*1.2247),2) -> 53311.89 | I57: =G57*F57 -> 43530.57 | J57: =H57*F57 -> 53311.89 | L57: =K57*H57 -> 0 | M57: 1 | N57: =ROUND((M57*H57),2) -> 53311.89 | P57: =O57*H57 -> 0 | R57: =Q57*H57 -> 0 | T57: =S57*H57 -> 0 | V57: =U57*H57 -> 0 | X57: =W57*H57 -> 0 | Z57: =Y57*H57 -> 0 | AB57: =AA57*H57 -> 0 | AD57: =AC57*H57 -> 0 | AF57: =AE57*H57 -> 0 | AH57: =AG57*H57 -> 0 | AJ57: =AH57+AF57+AD57+AB57+Z57+X57+V57+T57+R57+P57+N57+L57 -> 53311.89
A58: 4.1.9 | B58: 95601 | C58: ARRASAMENTO MECANICO DE ESTACA DE CONCRETO ARMADO, DIAMETROS DE ATÉ 40 CM. AF_05/2021 | D58: SINAPI | E58: UN | F58: 83 | G58: 24.56 | H58: =ROUND((G58*1.2247),2) -> 30.08 | I58: =G58*F58 -> 2038.48 | J58: =ROUND((H58*F58),2) -> 2496.64 | L58: =K58*H58 -> 0 | N58: =ROUND((M58*H58),2) -> 0 | P58: =O58*H58 -> 0 | Q58: 83 | R58: =Q58*H58-0.11 -> 2496.53 | T58: =S58*H58 -> 0 | V58: =U58*H58 -> 0 | X58: =W58*H58 -> 0 | Z58: =Y58*H58 -> 0 | AB58: =AA58*H58 -> 0 | AD58: =AC58*H58 -> 0 | AF58: =AE58*H58 -> 0 | AH58: =AG58*H58 -> 0 | AJ58: =AH58+AF58+AD58+AB58+Z58+X58+V58+T58+R58+P58+N58+L58 -> 2496.53
A59: 4.2 | B59: CONCRETO ARMADO PARA VIGA BALDRAME | J59: =ROUND((SUM(J60:J67)),2) -> 88090.06 | N59: =ROUND((M59*H59),2) -> 0
A60: 4.2.1 | B60: 96619 | C60: LASTRO DE CONCRETO MAGRO, APLICADO EM BLOCOS DE COROAMENTO OU SAPATAS, ESPESSURA DE 5 CM. AF_01/2024 | D60: SINAPI | E60: M2 | F60: 60.44 | G60: 41.85 | H60: =ROUND((G60*1.2247),2) -> 51.25 | I60: =G60*F60 -> 2529.414 | J60: =ROUND((F60*H60),2) -> 3097.55 | L60: =K60*H60 -> 0 | N60: =ROUND((M60*H60),2) -> 0 | O60: 60.44 | P60: =O60*H60 -> 3097.55 | R60: =Q60*H60 -> 0 | T60: =S60*H60 -> 0 | V60: =U60*H60 -> 0 | X60: =W60*H60 -> 0 | Z60: =Y60*H60 -> 0 | AB60: =AA60*H60 -> 0 | AD60: =AC60*H60 -> 0 | AF60: =AE60*H60 -> 0 | AH60: =AG60*H60 -> 0 | AJ60: =AH60+AF60+AD60+AB60+Z60+X60+V60+T60+R60+P60+N60+L60 -> 3097.55
A61: 4.2.2 | B61: 96616 | C61: LASTRO DE CONCRETO MAGRO, APLICADO EM BLOCOS DE COROAMENTO OU SAPATAS. AF_01/2024 | D61: SINAPI | E61: M3 | F61: 3.89 | G61: 837.05 | H61: =ROUND((G61*1.2247),2) -> 1025.14 | I61: =G61*F61 -> 3256.1245 | J61: =ROUND((F61*H61),2) -> 3987.79 | L61: =K61*H61 -> 0 | N61: =ROUND((M61*H61),2) -> 0 | O61: 3.89 | P61: =O61*H61 -> 3987.7946 | R61: =Q61*H61 -> 0 | T61: =S61*H61 -> 0 | V61: =U61*H61 -> 0 | X61: =W61*H61 -> 0 | Z61: =Y61*H61 -> 0 | AB61: =AA61*H61 -> 0 | AD61: =AC61*H61 -> 0 | AF61: =AE61*H61 -> 0 | AH61: =AG61*H61 -> 0 | AJ61: =AH61+AF61+AD61+AB61+Z61+X61+V61+T61+R61+P61+N61+L61 -> 3987.7946
A62: 4.2.3 | B62: 96534 | C62: FABRICAÇÃO, MONTAGEM E DESMONTAGEM DE FÔRMA PARA BLOCO DE COROAMENTO, EM MADEIRA SERRADA, E=25 MM, 4 UTILIZAÇÕES. AF_01/2024 | D62: SINAPI | E62: M2 | F62: 349.55 | G62: 92.86 | H62: =ROUND((G62*1.2247),2) -> 113.73 | I62: =G62*F62 -> 32459.213 | J62: =ROUND((F62*H62),2) -> 39754.32 | L62: =K62*H62 -> 0 | N62: =ROUND((M62*H62),2) -> 0 | O62: 349.55 | P62: =O62*H62 -> 39754.322 | R62: =Q62*H62 -> 0 | T62: =S62*H62 -> 0 | V62: =U62*H62 -> 0 | X62: =W62*H62 -> 0 | Z62: =Y62*H62 -> 0 | AB62: =AA62*H62 -> 0 | AD62: =AC62*H62 -> 0 | AF62: =AE62*H62 -> 0 | AH62: =AG62*H62 -> 0 | AJ62: =AH62+AF62+AD62+AB62+Z62+X62+V62+T62+R62+P62+N62+L62 -> 39754.322
A63: 4.2.4 | B63: 104918 | C63: ARMAÇÃO DE SAPATA ISOLADA, VIGA BALDRAME E SAPATA CORRIDA UTILIZANDO AÇO CA-50 DE 8 MM - MONTAGEM. AF_01/2024 | D63: SINAPI | E63: KG | F63: 660.1 | G63: 13.56 | H63: =ROUND((G63*1.2247),2) -> 16.61 | I63: =G63*F63 -> 8950.956 | J63: =ROUND((F63*H63),2) -> 10964.26 | L63: =K63*H63 -> 0 | N63: =ROUND((M63*H63),2) -> 0 | O63: 660.1 | P63: =O63*H63 -> 10964.261 | R63: =Q63*H63 -> 0 | T63: =S63*H63 -> 0 | V63: =U63*H63 -> 0 | X63: =W63*H63 -> 0 | Z63: =Y63*H63 -> 0 | AB63: =AA63*H63 -> 0 | AD63: =AC63*H63 -> 0 | AF63: =AE63*H63 -> 0 | AH63: =AG63*H63 -> 0 | AJ63: =AH63+AF63+AD63+AB63+Z63+X63+V63+T63+R63+P63+N63+L63 -> 10964.261
A64: 4.2.5 | B64: 104919 | C64: ARMAÇÃO DE SAPATA ISOLADA, VIGA BALDRAME E SAPATA CORRIDA UTILIZANDO AÇO CA-50 DE 10 MM - MONTAGEM. AF_01/2024 | D64: SINAPI | E64: KG | F64: 113.6 | G64: 11.79 | H64: =ROUND((G64*1.2247),2) -> 14.44 | I64: =G64*F64 -> 1339.344 | J64: =ROUND((F64*H64),2) -> 1640.38 | L64: =K64*H64 -> 0 | N64: =ROUND((M64*H64),2) -> 0 | O64: 113.6 | P64: =O64*H64 -> 1640.384 | R64: =Q64*H64 -> 0 | T64: =S64*H64 -> 0 | V64: =U64*H64 -> 0 | X64: =W64*H64 -> 0 | Z64: =Y64*H64 -> 0 | AB64: =AA64*H64 -> 0 | AD64: =AC64*H64 -> 0 | AF64: =AE64*H64 -> 0 | AH64: =AG64*H64 -> 0 | AJ64: =AH64+AF64+AD64+AB64+Z64+X64+V64+T64+R64+P64+N64+L64 -> 1640.384
A65: 4.2.6 | B65: 104920 | C65: ARMAÇÃO DE BLOCO, SAPATA ISOLADA, VIGA BALDRAME E SAPATA CORRIDA UTILIZANDO AÇO CA-50 DE 12,5 MM - MONTAGEM. AF_01/2024 | D65: SINAPI | E65: KG | F65: 26.41 | G65: 9.88 | H65: =ROUND((G65*1.2247),2) -> 12.1 | I65: =G65*F65 -> 260.9308 | J65: =ROUND((F65*H65),2) -> 319.56 | L65: =K65*H65 -> 0 | N65: =ROUND((M65*H65),2) -> 0 | O65: 26.41 | P65: =O65*H65 -> 319.561 | R65: =Q65*H65 -> 0 | T65: =S65*H65 -> 0 | V65: =U65*H65 -> 0 | X65: =W65*H65 -> 0 | Z65: =Y65*H65 -> 0 | AB65: =AA65*H65 -> 0 | AD65: =AC65*H65 -> 0 | AF65: =AE65*H65 -> 0 | AH65: =AG65*H65 -> 0 | AJ65: =AH65+AF65+AD65+AB65+Z65+X65+V65+T65+R65+P65+N65+L65 -> 319.561
A66: 4.2.7 | B66: 96543 | C66: ARMAÇÃO DE BLOCO UTILIZANDO AÇO CA-60 DE 5 MM - MONTAGEM. AF_01/2024 | D66: SINAPI | E66: KG | F66: 356.91 | G66: 21.68 | H66: =ROUND((G66*1.2247),2) -> 26.55 | I66: =G66*F66 -> 7737.8088 | J66: =ROUND((F66*H66),2) -> 9475.96 | L66: =K66*H66 -> 0 | N66: =ROUND((M66*H66),2) -> 0 | O66: 356.91 | P66: =O66*H66 -> 9475.9605 | R66: =Q66*H66 -> 0 | T66: =S66*H66 -> 0 | V66: =U66*H66 -> 0 | X66: =W66*H66 -> 0 | Z66: =Y66*H66 -> 0 | AB66: =AA66*H66 -> 0 | AD66: =AC66*H66 -> 0 | AF66: =AE66*H66 -> 0 | AH66: =AG66*H66 -> 0 | AJ66: =AH66+AF66+AD66+AB66+Z66+X66+V66+T66+R66+P66+N66+L66 -> 9475.9605
A67: 4.2.8 | B67: 96557 | C67: CONCRETAGEM DE BLOCO DE COROAMENTO OU VIGA BALDRAME, FCK 30 MPA, COM USO DE BOMBA - LANÇAMENTO, ADENSAMENTO E ACABAMENTO. AF_01/2024 | D67: SINAPI | E67: M3 | F67: 24.18 | G67: 636.55 | H67: =ROUND((G67*1.2247),2) -> 779.58 | I67: =G67*F67 -> 15391.779 | J67: =ROUND((F67*H67),2) -> 18850.24 | L67: =K67*H67 -> 0 | N67: =ROUND((M67*H67),2) -> 0 | O67: 24.18 | P67: =O67*H67 -> 18850.244 | R67: =Q67*H67 -> 0 | T67: =S67*H67 -> 0 | V67: =U67*H67 -> 0 | X67: =W67*H67 -> 0 | Z67: =Y67*H67 -> 0 | AB67: =AA67*H67 -> 0 | AD67: =AC67*H67 -> 0 | AF67: =AE67*H67 -> 0 | AH67: =AG67*H67 -> 0 | AJ67: =AH67+AF67+AD67+AB67+Z67+X67+V67+T67+R67+P67+N67+L67 -> 18850.244
A68: 4.3 | B68: FUNDAÇÃO CASTELO D'ÁGUA | J68: =ROUND((SUM(J69:J76)),2) -> 15118.07 | N68: =ROUND((M68*H68),2) -> 0
A69: 4.3.1 | B69: 100651 | C69: ESTACA HÉLICE CONTÍNUA, DIÂMETRO DE 30 CM, INCLUSO CONCRETO FCK=30MPA E ARMADURA MÍNIMA (EXCLUSIVE BOMBEAMENTO, MOBILIZAÇÃO E DESMOBILIZAÇÃO). AF_12/2019 | D69: SINAPI | E69: M | F69: 55 | G69: 134.38 | H69: =ROUND((G69*1.2247),2) -> 164.58 | I69: =G69*F69 -> 7390.9 | J69: =ROUND((F69*H69),2) -> 9051.9 | L69: =K69*H69 -> 0 | M69: 55 | N69: =ROUND((M69*H69),2) -> 9051.9 | P69: =O69*H69 -> 0 | R69: =Q69*H69 -> 0 | T69: =S69*H69 -> 0 | V69: =U69*H69 -> 0 | X69: =W69*H69 -> 0 | Z69: =Y69*H69 -> 0 | AB69: =AA69*H69 -> 0 | AD69: =AC69*H69 -> 0 | AF69: =AE69*H69 -> 0 | AH69: =AG69*H69 -> 0 | AJ69: =AH69+AF69+AD69+AB69+Z69+X69+V69+T69+R69+P69+N69+L69 -> 9051.9
A70: 4.3.2 | B70: 96540 | C70: FABRICAÇÃO, MONTAGEM E DESMONTAGEM DE FÔRMA PARA BLOCO DE COROAMENTO, EM CHAPA DE MADEIRA COMPENSADA RESINADA, E=17 MM, 4 UTILIZAÇÕES. AF_01/2024 | D70: SINAPI | E70: M2 | F70: 4.4 | G70: 150.09 | H70: =ROUND((G70*1.2247),2) -> 183.82 | I70: =G70*F70 -> 660.396 | J70: =ROUND((F70*H70),2) -> 808.81 | L70: =K70*H70 -> 0 | N70: =ROUND((M70*H70),2) -> 0 | O70: 4.4 | P70: =O70*H70 -> 808.808 | R70: =Q70*H70 -> 0 | T70: =S70*H70 -> 0 | V70: =U70*H70 -> 0 | X70: =W70*H70 -> 0 | Z70: =Y70*H70 -> 0 | AB70: =AA70*H70 -> 0 | AD70: =AC70*H70 -> 0 | AF70: =AE70*H70 -> 0 | AH70: =AG70*H70 -> 0 | AJ70: =AH70+AF70+AD70+AB70+Z70+X70+V70+T70+R70+P70+N70+L70 -> 808.808
A71: 4.3.3 | B71: 96619 | C71: LASTRO DE CONCRETO MAGRO, APLICADO EM BLOCOS DE COROAMENTO OU SAPATAS, ESPESSURA DE 5 CM. AF_01/2024 | D71: SINAPI | E71: M2 | F71: 4.84 | G71: 41.85 | H71: =ROUND((G71*1.2247),2) -> 51.25 | I71: =G71*F71 -> 202.554 | J71: =ROUND((F71*H71),2) -> 248.05 | L71: =K71*H71 -> 0 | N71: =ROUND((M71*H71),2) -> 0 | O71: 4.84 | P71: =O71*H71 -> 248.05 | R71: =Q71*H71 -> 0 | T71: =S71*H71 -> 0 | V71: =U71*H71 -> 0 | X71: =W71*H71 -> 0 | Z71: =Y71*H71 -> 0 | AB71: =AA71*H71 -> 0 | AD71: =AC71*H71 -> 0 | AF71: =AE71*H71 -> 0 | AH71: =AG71*H71 -> 0 | AJ71: =AH71+AF71+AD71+AB71+Z71+X71+V71+T71+R71+P71+N71+L71 -> 248.05
A72: 4.3.4 | B72: 104920 | C72: ARMAÇÃO DE BLOCO, SAPATA ISOLADA, VIGA BALDRAME E SAPATA CORRIDA UTILIZANDO AÇO CA-50 DE 12,5 MM - MONTAGEM. AF_01/2024 | D72: SINAPI | E72: KG | F72: 83.78 | G72: 9.88 | H72: =ROUND((G72*1.2247),2) -> 12.1 | I72: =G72*F72 -> 827.7464 | J72: =ROUND((F72*H72),2) -> 1013.74 | L72: =K72*H72 -> 0 | N72: =ROUND((M72*H72),2) -> 0 | O72: 83.78 | P72: =O72*H72 -> 1013.738 | R72: =Q72*H72 -> 0 | T72: =S72*H72 -> 0 | V72: =U72*H72 -> 0 | X72: =W72*H72 -> 0 | Z72: =Y72*H72 -> 0 | AB72: =AA72*H72 -> 0 | AD72: =AC72*H72 -> 0 | AF72: =AE72*H72 -> 0 | AH72: =AG72*H72 -> 0 | AJ72: =AH72+AF72+AD72+AB72+Z72+X72+V72+T72+R72+P72+N72+L72 -> 1013.738
A73: 4.3.5 | B73: 104915 | C73: ARMAÇÃO DE BLOCO E SAPATA UTILIZANDO AÇO CA-50 DE 25 MM - MONTAGEM. AF_01/2024 | D73: SINAPI | E73: KG | F73: 13.87 | G73: 8.25 | H73: =ROUND((G73*1.2247),2) -> 10.1 | I73: =G73*F73 -> 114.4275 | J73: =ROUND((F73*H73),2) -> 140.09 | L73: =K73*H73 -> 0 | N73: =ROUND((M73*H73),2) -> 0 | O73: 13.87 | P73: =O73*H73 -> 140.087 | R73: =Q73*H73 -> 0 | T73: =S73*H73 -> 0 | V73: =U73*H73 -> 0 | X73: =W73*H73 -> 0 | Z73: =Y73*H73 -> 0 | AB73: =AA73*H73 -> 0 | AD73: =AC73*H73 -> 0 | AF73: =AE73*H73 -> 0 | AH73: =AG73*H73 -> 0 | AJ73: =AH73+AF73+AD73+AB73+Z73+X73+V73+T73+R73+P73+N73+L73 -> 140.087
A74: 4.3.6 | B74: 96543 | C74: ARMAÇÃO DE BLOCO UTILIZANDO AÇO CA-60 DE 5 MM - MONTAGEM. AF_01/2024 | D74: SINAPI | E74: KG | F74: 9.24 | G74: 21.68 | H74: =ROUND((G74*1.2247),2) -> 26.55 | I74: =G74*F74 -> 200.3232 | J74: =ROUND((F74*H74),2) -> 245.32 | L74: =K74*H74 -> 0 | N74: =ROUND((M74*H74),2) -> 0 | O74: 9.24 | P74: =O74*H74 -> 245.322 | R74: =Q74*H74 -> 0 | T74: =S74*H74 -> 0 | V74: =U74*H74 -> 0 | X74: =W74*H74 -> 0 | Z74: =Y74*H74 -> 0 | AB74: =AA74*H74 -> 0 | AD74: =AC74*H74 -> 0 | AF74: =AE74*H74 -> 0 | AH74: =AG74*H74 -> 0 | AJ74: =AH74+AF74+AD74+AB74+Z74+X74+V74+T74+R74+P74+N74+L74 -> 245.322
A75: 4.3.7 | B75: 96546 | C75: ARMAÇÃO DE BLOCO UTILIZANDO AÇO CA-50 DE 10 MM - MONTAGEM. AF_01/2024 | D75: SINAPI | E75: KG | F75: 104.27 | G75: 13.5 | H75: =ROUND((G75*1.2247),2) -> 16.53 | I75: =G75*F75 -> 1407.645 | J75: =ROUND((F75*H75),2) -> 1723.58 | L75: =K75*H75 -> 0 | N75: =ROUND((M75*H75),2) -> 0 | O75: 104.27 | P75: =O75*H75 -> 1723.5831 | R75: =Q75*H75 -> 0 | T75: =S75*H75 -> 0 | V75: =U75*H75 -> 0 | X75: =W75*H75 -> 0 | Z75: =Y75*H75 -> 0 | AB75: =AA75*H75 -> 0 | AD75: =AC75*H75 -> 0 | AF75: =AE75*H75 -> 0 | AH75: =AG75*H75 -> 0 | AJ75: =AH75+AF75+AD75+AB75+Z75+X75+V75+T75+R75+P75+N75+L75 -> 1723.5831
A76: 4.3.8 | B76: 96557 | C76: CONCRETAGEM DE BLOCO DE COROAMENTO OU VIGA BALDRAME, FCK 30 MPA, COM USO DE BOMBA - LANÇAMENTO, ADENSAMENTO E ACABAMENTO. AF_01/2024 | D76: SINAPI | E76: M3 | F76: 2.42 | G76: 636.55 | H76: =ROUND((G76*1.2247),2) -> 779.58 | I76: =G76*F76 -> 1540.451 | J76: =ROUND((F76*H76),2) -> 1886.58 | L76: =K76*H76 -> 0 | N76: =ROUND((M76*H76),2) -> 0 | O76: 2.42 | P76: =O76*H76 -> 1886.5836 | R76: =Q76*H76 -> 0 | T76: =S76*H76 -> 0 | V76: =U76*H76 -> 0 | X76: =W76*H76 -> 0 | Z76: =Y76*H76 -> 0 | AB76: =AA76*H76 -> 0 | AD76: =AC76*H76 -> 0 | AF76: =AE76*H76 -> 0 | AH76: =AG76*H76 -> 0 | AJ76: =AH76+AF76+AD76+AB76+Z76+X76+V76+T76+R76+P76+N76+L76 -> 1886.5836
N77: =ROUND((M77*H77),2) -> 0
A78: 4.4 | B78: ABRIGO DE GÁS - BLOCOS | J78: =SUM(J79:J84) -> 6086.4464 | N78: =ROUND((M78*H78),2) -> 0
A79: 4.4.1 | B79: 100896 | C79: ESTACA ESCAVADA MECANICAMENTE, SEM FLUIDO ESTABILIZANTE, COM 25CM DE DIÂMETRO, CONCRETO LANÇADO POR CAMINHÃO BETONEIRA (EXCLUSIVE MOBILIZAÇÃO E DESMOBILIZAÇÃO). AF_01/2020 | D79: SINAPI | E79: M | F79: 17.5 | G79: 59.53 | H79: =ROUND((G79*1.2247),2) -> 72.91 | I79: =G79*F79 -> 1041.775 | J79: =F79*H79 -> 1275.925 | L79: =K79*H79 -> 0 | N79: =ROUND((M79*H79),2) -> 0 | O79: 17.5 | P79: =O79*H79 -> 1275.925 | R79: =Q79*H79 -> 0 | T79: =S79*H79 -> 0 | V79: =U79*H79 -> 0 | X79: =W79*H79 -> 0 | Z79: =Y79*H79 -> 0 | AB79: =AA79*H79 -> 0 | AD79: =AC79*H79 -> 0 | AF79: =AE79*H79 -> 0 | AH79: =AG79*H79 -> 0 | AJ79: =AH79+AF79+AD79+AB79+Z79+X79+V79+T79+R79+P79+N79+L79 -> 1275.925
A80: 4.4.2 | B80: 96619 | C80: LASTRO DE CONCRETO MAGRO, APLICADO EM BLOCOS DE COROAMENTO OU SAPATAS, ESPESSURA DE 5 CM. AF_01/2024 | D80: SINAPI | E80: M2 | F80: 1.25 | G80: 41.85 | H80: =ROUND((G80*1.2247),2) -> 51.25 | I80: =G80*F80 -> 52.3125 | J80: =F80*H80 -> 64.0625 | L80: =K80*H80 -> 0 | N80: =ROUND((M80*H80),2) -> 0 | O80: 1.25 | P80: =O80*H80 -> 64.0625 | R80: =Q80*H80 -> 0 | T80: =S80*H80 -> 0 | V80: =U80*H80 -> 0 | X80: =W80*H80 -> 0 | Z80: =Y80*H80 -> 0 | AB80: =AA80*H80 -> 0 | AD80: =AC80*H80 -> 0 | AF80: =AE80*H80 -> 0 | AH80: =AG80*H80 -> 0 | AJ80: =AH80+AF80+AD80+AB80+Z80+X80+V80+T80+R80+P80+N80+L80 -> 64.0625
A81: 4.4.3 | B81: 96540 | C81: FABRICAÇÃO, MONTAGEM E DESMONTAGEM DE FÔRMA PARA BLOCO DE COROAMENTO, EM CHAPA DE MADEIRA COMPENSADA RESINADA, E=17 MM, 4 UTILIZAÇÕES. AF_01/2024 | D81: SINAPI | E81: M2 | F81: 5 | G81: 150.09 | H81: =ROUND((G81*1.2247),2) -> 183.82 | I81: =G81*F81 -> 750.45 | J81: =F81*H81 -> 919.1 | L81: =K81*H81 -> 0 | N81: =ROUND((M81*H81),2) -> 0 | O81: 5 | P81: =O81*H81 -> 919.1 | R81: =Q81*H81 -> 0 | T81: =S81*H81 -> 0 | V81: =U81*H81 -> 0 | X81: =W81*H81 -> 0 | Z81: =Y81*H81 -> 0 | AB81: =AA81*H81 -> 0 | AD81: =AC81*H81 -> 0 | AF81: =AE81*H81 -> 0 | AH81: =AG81*H81 -> 0 | AJ81: =AH81+AF81+AD81+AB81+Z81+X81+V81+T81+R81+P81+N81+L81 -> 919.1
A82: 4.4.4 | B82: 103797 | C82: ARMAÇÃO DE DESCIDA D'ÁGUA UTILIZANDO AÇO CA-60 DE 5 MM - MONTAGEM. AF_08/2022 | D82: SINAPI | E82: KG | F82: 10.19 | G82: 16.86 | H82: =ROUND((G82*1.2247),2) -> 20.65 | I82: =G82*F82 -> 171.8034 | J82: =F82*H82 -> 210.4235 | L82: =K82*H82 -> 0 | N82: =ROUND((M82*H82),2) -> 0 | O82: 10.19 | P82: =O82*H82 -> 210.4235 | R82: =Q82*H82 -> 0 | T82: =S82*H82 -> 0 | V82: =U82*H82 -> 0 | X82: =W82*H82 -> 0 | Z82: =Y82*H82 -> 0 | AB82: =AA82*H82 -> 0 | AD82: =AC82*H82 -> 0 | AF82: =AE82*H82 -> 0 | AH82: =AG82*H82 -> 0 | AJ82: =AH82+AF82+AD82+AB82+Z82+X82+V82+T82+R82+P82+N82+L82 -> 210.4235
A83: 4.4.5 | B83: 96557 | C83: CONCRETAGEM DE BLOCO DE COROAMENTO OU VIGA BALDRAME, FCK 30 MPA, COM USO DE BOMBA - LANÇAMENTO, ADENSAMENTO E ACABAMENTO. AF_01/2024 | D83: SINAPI | E83: M3 | F83: 0.63 | G83: 636.55 | H83: =ROUND((G83*1.2247),2) -> 779.58 | I83: =G83*F83 -> 401.0265 | J83: =F83*H83 -> 491.1354 | L83: =K83*H83 -> 0 | N83: =ROUND((M83*H83),2) -> 0 | O83: 0.63 | P83: =O83*H83 -> 491.1354 | R83: =Q83*H83 -> 0 | T83: =S83*H83 -> 0 | V83: =U83*H83 -> 0 | X83: =W83*H83 -> 0 | Z83: =Y83*H83 -> 0 | AB83: =AA83*H83 -> 0 | AD83: =AC83*H83 -> 0 | AF83: =AE83*H83 -> 0 | AH83: =AG83*H83 -> 0 | AJ83: =AH83+AF83+AD83+AB83+Z83+X83+V83+T83+R83+P83+N83+L83 -> 491.1354
A84: 4.4.6 | B84: 12.05.010 | C84: Taxa de mobilização e desmobilização de equipamentos para execução de estaca escavada | D84: CDHU | E84: TX | F84: 1 | G84: 2552.3 | H84: =ROUND((G84*1.2247),2) -> 3125.8 | I84: =G84*F84 -> 2552.3 | J84: =F84*H84 -> 3125.8 | L84: =K84*H84 -> 0 | N84: =ROUND((M84*H84),2) -> 0 | O84: 1 | P84: =O84*H84 -> 3125.8 | R84: =Q84*H84 -> 0 | T84: =S84*H84 -> 0 | V84: =U84*H84 -> 0 | X84: =W84*H84 -> 0 | Z84: =Y84*H84 -> 0 | AB84: =AA84*H84 -> 0 | AD84: =AC84*H84 -> 0 | AF84: =AE84*H84 -> 0 | AH84: =AG84*H84 -> 0 | AJ84: =AH84+AF84+AD84+AB84+Z84+X84+V84+T84+R84+P84+N84+L84 -> 3125.8
A85: 4.5 | B85: MURETA E ABRIGO DE GÁS - VIGAS BALDRAME | J85: =ROUND((SUM(J86:J89)),2) -> 11131.04 | N85: =ROUND((M85*H85),2) -> 0
A86: 4.5.1 | B86: 96619 | C86: LASTRO DE CONCRETO MAGRO, APLICADO EM BLOCOS DE COROAMENTO OU SAPATAS, ESPESSURA DE 5 CM. AF_01/2024 | D86: SINAPI | E86: M2 | F86: 13.25 | G86: 41.85 | H86: =ROUND((G86*1.2247),2) -> 51.25 | I86: =G86*F86 -> 554.5125 | J86: =ROUND((F86*H86),2) -> 679.06 | L86: =K86*H86 -> 0 | N86: =ROUND((M86*H86),2) -> 0 | O86: 13.25 | P86: =O86*H86 -> 679.0625 | R86: =Q86*H86 -> 0 | T86: =S86*H86 -> 0 | V86: =U86*H86 -> 0 | X86: =W86*H86 -> 0 | Z86: =Y86*H86 -> 0 | AB86: =AA86*H86 -> 0 | AD86: =AC86*H86 -> 0 | AF86: =AE86*H86 -> 0 | AH86: =AG86*H86 -> 0 | AJ86: =AH86+AF86+AD86+AB86+Z86+X86+V86+T86+R86+P86+N86+L86 -> 679.0625
A87: 4.5.2 | B87: 96542 | C87: FABRICAÇÃO, MONTAGEM E DESMONTAGEM DE FÔRMA PARA VIGA BALDRAME, EM CHAPA DE MADEIRA COMPENSADA RESINADA, E=17 MM, 4 UTILIZAÇÕES. AF_01/2024 | D87: SINAPI | E87: M2 | F87: 44.97 | G87: 112.86 | H87: =ROUND((G87*1.2247),2) -> 138.22 | I87: =G87*F87 -> 5075.3142 | J87: =ROUND((F87*H87),2) -> 6215.75 | L87: =K87*H87 -> 0 | N87: =ROUND((M87*H87),2) -> 0 | O87: 44.97 | P87: =O87*H87 -> 6215.7534 | R87: =Q87*H87 -> 0 | T87: =S87*H87 -> 0 | V87: =U87*H87 -> 0 | X87: =W87*H87 -> 0 | Z87: =Y87*H87 -> 0 | AB87: =AA87*H87 -> 0 | AD87: =AC87*H87 -> 0 | AF87: =AE87*H87 -> 0 | AH87: =AG87*H87 -> 0 | AJ87: =AH87+AF87+AD87+AB87+Z87+X87+V87+T87+R87+P87+N87+L87 -> 6215.7534
A88: 4.5.3 | B88: 104918 | C88: ARMAÇÃO DE SAPATA ISOLADA, VIGA BALDRAME E SAPATA CORRIDA UTILIZANDO AÇO CA-50 DE 8 MM - MONTAGEM. AF_01/2024 | D88: SINAPI | E88: KG | F88: 84.2 | G88: 13.56 | H88: =ROUND((G88*1.2247),2) -> 16.61 | I88: =G88*F88 -> 1141.752 | J88: =ROUND((F88*H88),2) -> 1398.56 | L88: =K88*H88 -> 0 | N88: =ROUND((M88*H88),2) -> 0 | O88: 84.2 | P88: =O88*H88 -> 1398.562 | R88: =Q88*H88 -> 0 | T88: =S88*H88 -> 0 | V88: =U88*H88 -> 0 | X88: =W88*H88 -> 0 | Z88: =Y88*H88 -> 0 | AB88: =AA88*H88 -> 0 | AD88: =AC88*H88 -> 0 | AF88: =AE88*H88 -> 0 | AH88: =AG88*H88 -> 0 | AJ88: =AH88+AF88+AD88+AB88+Z88+X88+V88+T88+R88+P88+N88+L88 -> 1398.562
A89: 4.5.4 | B89: 96557 | C89: CONCRETAGEM DE BLOCO DE COROAMENTO OU VIGA BALDRAME, FCK 30 MPA, COM USO DE BOMBA - LANÇAMENTO, ADENSAMENTO E ACABAMENTO. AF_01/2024 | D89: SINAPI | E89: M3 | F89: 3.64 | G89: 636.55 | H89: =ROUND((G89*1.2247),2) -> 779.58 | I89: =G89*F89 -> 2317.042 | J89: =ROUND((F89*H89),2) -> 2837.67 | L89: =K89*H89 -> 0 | N89: =ROUND((M89*H89),2) -> 0 | O89: 3.64 | P89: =O89*H89 -> 2837.6712 | R89: =Q89*H89 -> 0 | T89: =S89*H89 -> 0 | V89: =U89*H89 -> 0 | X89: =W89*H89 -> 0 | Z89: =Y89*H89 -> 0 | AB89: =AA89*H89 -> 0 | AD89: =AC89*H89 -> 0 | AF89: =AE89*H89 -> 0 | AH89: =AG89*H89 -> 0 | AJ89: =AH89+AF89+AD89+AB89+Z89+X89+V89+T89+R89+P89+N89+L89 -> 2837.6712
A90: 5 | B90: SUPERESTRUTURA | J90: =ROUND((J91+J97+J103+J105+J110+J117+J119),2) -> 358337.27 | L90: =SUM(L91:L129) -> 0 | N90: =SUM(N91:N129) -> 0 | P90: =SUM(P91:P129) -> 0 | R90: =SUM(R91:R129)+0.01 -> 66318.096 | T90: =SUM(T91:T129) -> 134945.59 | V90: =SUM(V91:V129)+0.01 -> 115879.07 | X90: =SUM(X91:X129)+0.01 -> 41194.508 | Z90: =SUM(Z91:Z129) -> 0 | AB90: =SUM(AB91:AB129) -> 0 | AD90: =SUM(AD91:AD129) -> 0 | AF90: =SUM(AF91:AF129) -> 0 | AH90: =SUM(AH91:AH129) -> 0
A91: 5.1 | B91: CONCRETO ARMADO - PILARES | J91: =ROUND((SUM(J92:J96)),2) -> 57856.54 | N91: =ROUND((M91*H91),2) -> 0
A92: 5.1.1 | B92: 92443 | C92: MONTAGEM E DESMONTAGEM DE FÔRMA DE PILARES RETANGULARES E ESTRUTURAS SIMILARES, PÉ-DIREITO SIMPLES, EM CHAPA DE MADEIRA COMPENSADA PLASTIFICADA, 18 UTILIZAÇÕES. AF_09/2020 | D92: SINAPI | E92: M2 | F92: 333.34 | G92: 59.52 | H92: =ROUND((G92*1.2247),2) -> 72.89 | I92: =G92*F92 -> 19840.397 | J92: 24297.16 | L92: =K92*H92 -> 0 | N92: =ROUND((M92*H92),2) -> 0 | P92: =O92*H92 -> 0 | Q92: 166.67 | R92: =Q92*H92 -> 12148.576 | S92: 166.67 | T92: =S92*H92 -> 12148.576 | V92: =U92*H92 -> 0 | X92: =W92*H92 -> 0 | Z92: =Y92*H92 -> 0 | AB92: =AA92*H92 -> 0 | AD92: =AC92*H92 -> 0 | AF92: =AE92*H92 -> 0 | AH92: =AG92*H92 -> 0 | AJ92: 24297.16
A93: 5.1.2 | B93: 92762 | C93: ARMAÇÃO DE PILAR OU VIGA DE ESTRUTURA CONVENCIONAL DE CONCRETO ARMADO UTILIZANDO AÇO CA-50 DE 10,0 MM - MONTAGEM. AF_06/2022 | D93: SINAPI | E93: KG | F93: 839.33 | G93: 9.51 | H93: =ROUND((G93*1.2247),2) -> 11.65 | I93: =G93*F93 -> 7982.0283 | J93: 9778.2 | L93: =K93*H93 -> 0 | N93: =ROUND((M93*H93),2) -> 0 | P93: =O93*H93 -> 0 | Q93: 419.66 | R93: =Q93*H93 -> 4889.039 | S93: 419.67 | T93: =S93*H93 -> 4889.1555 | V93: =U93*H93 -> 0 | X93: =W93*H93 -> 0 | Z93: =Y93*H93 -> 0 | AB93: =AA93*H93 -> 0 | AD93: =AC93*H93 -> 0 | AF93: =AE93*H93 -> 0 | AH93: =AG93*H93 -> 0 | AJ93: 9778.2
A94: 5.1.3 | B94: 92763 | C94: ARMAÇÃO DE PILAR OU VIGA DE ESTRUTURA CONVENCIONAL DE CONCRETO ARMADO UTILIZANDO AÇO CA-50 DE 12,5 MM - MONTAGEM. AF_06/2022 | D94: SINAPI | E94: KG | F94: 312.88 | G94: 7.85 | H94: =ROUND((G94*1.2247),2) -> 9.61 | I94: =G94*F94 -> 2456.108 | J94: =ROUND((F94*H94),2) -> 3006.78 | L94: =K94*H94 -> 0 | N94: =ROUND((M94*H94),2) -> 0 | P94: =O94*H94 -> 0 | Q94: 156.44 | R94: =Q94*H94 -> 1503.3884 | S94: 156.44 | T94: =S94*H94 -> 1503.3884 | V94: =U94*H94 -> 0 | X94: =W94*H94 -> 0 | Z94: =Y94*H94 -> 0 | AB94: =AA94*H94 -> 0 | AD94: =AC94*H94 -> 0 | AF94: =AE94*H94 -> 0 | AH94: =AG94*H94 -> 0 | AJ94: =AH94+AF94+AD94+AB94+Z94+X94+V94+T94+R94+P94+N94+L94 -> 3006.7768
A95: 5.1.4 | B95: 92759 | C95: ARMAÇÃO DE PILAR OU VIGA DE ESTRUTURA CONVENCIONAL DE CONCRETO ARMADO UTILIZANDO AÇO CA-60 DE 5,0 MM - MONTAGEM. AF_06/2022 | D95: SINAPI | E95: KG | F95: 450.22 | G95: 13.86 | H95: =ROUND((G95*1.2247),2) -> 16.97 | I95: =G95*F95 -> 6240.0492 | J95: 7640.24 | L95: =K95*H95 -> 0 | N95: =ROUND((M95*H95),2) -> 0 | P95: =O95*H95 -> 0 | Q95: 225.11 | R95: =Q95*H95 -> 3820.1167 | S95: 225.11 | T95: =S95*H95 -> 3820.1167 | V95: =U95*H95 -> 0 | X95: =W95*H95 -> 0 | Z95: =Y95*H95 -> 0 | AB95: =AA95*H95 -> 0 | AD95: =AC95*H95 -> 0 | AF95: =AE95*H95 -> 0 | AH95: =AG95*H95 -> 0 | AJ95: 7640.24
A96: 5.1.5 | B96: 103672 | C96: CONCRETAGEM DE PILARES, FCK = 25 MPA, COM USO DE BOMBA - LANÇAMENTO, ADENSAMENTO E ACABAMENTO. AF_02/2022_PS | D96: SINAPI | E96: M3 | F96: 18.25 | G96: 587.64 | H96: =ROUND((G96*1.2247),2) -> 719.68 | I96: =G96*F96 -> 10724.43 | J96: =ROUND((F96*H96),2) -> 13134.16 | L96: =K96*H96 -> 0 | N96: =ROUND((M96*H96),2) -> 0 | P96: =O96*H96 -> 0 | Q96: 9.12 | R96: =Q96*H96 -> 6563.4816 | S96: 9.13 | T96: =S96*H96 -> 6570.6784 | V96: =U96*H96 -> 0 | X96: =W96*H96 -> 0 | Z96: =Y96*H96 -> 0 | AB96: =AA96*H96 -> 0 | AD96: =AC96*H96 -> 0 | AF96: =AE96*H96 -> 0 | AH96: =AG96*H96 -> 0 | AJ96: =AH96+AF96+AD96+AB96+Z96+X96+V96+T96+R96+P96+N96+L96 -> 13134.16
A97: 5.2 | B97: CONCRETO ARMADO - VIGAS | J97: =SUM(J98:J102) -> 58119.763 | N97: =ROUND((M97*H97),2) -> 0
A98: 5.2.1 | B98: 92443 | C98: MONTAGEM E DESMONTAGEM DE FÔRMA DE PILARES RETANGULARES E ESTRUTURAS SIMILARES, PÉ-DIREITO SIMPLES, EM CHAPA DE MADEIRA COMPENSADA PLASTIFICADA, 18 UTILIZAÇÕES. AF_09/2020 | D98: SINAPI | E98: M2 | F98: 344.1 | G98: 59.52 | H98: =ROUND((G98*1.2247),2) -> 72.89 | I98: =G98*F98 -> 20480.832 | J98: 25081.44 | L98: =K98*H98 -> 0 | N98: =ROUND((M98*H98),2) -> 0 | P98: =O98*H98 -> 0 | Q98: 172.05 | R98: =Q98*H98 -> 12540.725 | S98: 172.05 | T98: =S98*H98 -> 12540.725 | V98: =U98*H98 -> 0 | X98: =W98*H98 -> 0 | Z98: =Y98*H98 -> 0 | AB98: =AA98*H98 -> 0 | AD98: =AC98*H98 -> 0 | AF98: =AE98*H98 -> 0 | AH98: =AG98*H98 -> 0 | AJ98: 25081.44
A99: 5.2.2 | B99: 92761 | C99: ARMAÇÃO DE PILAR OU VIGA DE ESTRUTURA CONVENCIONAL DE CONCRETO ARMADO UTILIZANDO AÇO CA-50 DE 8,0 MM - MONTAGEM. AF_06/2022 | D99: SINAPI | E99: KG | F99: 675.91 | G99: 10.97 | H99: =ROUND((G99*1.2247),2) -> 13.43 | I99: =G99*F99 -> 7414.7327 | J99: =F99*H99 -> 9077.4713 | L99: =K99*H99 -> 0 | N99: =ROUND((M99*H99),2) -> 0 | P99: =O99*H99 -> 0 | Q99: 337.95 | R99: =Q99*H99 -> 4538.6685 | S99: 337.96 | T99: =S99*H99 -> 4538.8028 | V99: =U99*H99 -> 0 | X99: =W99*H99 -> 0 | Z99: =Y99*H99 -> 0 | AB99: =AA99*H99 -> 0 | AD99: =AC99*H99 -> 0 | AF99: =AE99*H99 -> 0 | AH99: =AG99*H99 -> 0 | AJ99: =AH99+AF99+AD99+AB99+Z99+X99+V99+T99+R99+P99+N99+L99 -> 9077.4713
A100: 5.2.3 | B100: 92762 | C100: ARMAÇÃO DE PILAR OU VIGA DE ESTRUTURA CONVENCIONAL DE CONCRETO ARMADO UTILIZANDO AÇO CA-50 DE 10,0 MM - MONTAGEM. AF_06/2022 | D100: SINAPI | E100: KG | F100: 9.64 | G100: 9.51 | H100: =ROUND((G100*1.2247),2) -> 11.65 | I100: =G100*F100 -> 91.6764 | J100: 112.3 | L100: =K100*H100 -> 0 | N100: =ROUND((M100*H100),2) -> 0 | P100: =O100*H100 -> 0 | Q100: 4.82 | R100: =Q100*H100 -> 56.153 | S100: 4.82 | T100: =S100*H100 -> 56.153 | V100: =U100*H100 -> 0 | X100: =W100*H100 -> 0 | Z100: =Y100*H100 -> 0 | AB100: =AA100*H100 -> 0 | AD100: =AC100*H100 -> 0 | AF100: =AE100*H100 -> 0 | AH100: =AG100*H100 -> 0 | AJ100: 112.3
A101: 5.2.4 | B101: 92759 | C101: ARMAÇÃO DE PILAR OU VIGA DE ESTRUTURA CONVENCIONAL DE CONCRETO ARMADO UTILIZANDO AÇO CA-60 DE 5,0 MM - MONTAGEM. AF_06/2022 | D101: SINAPI | E101: KG | F101: 365.31 | G101: 13.86 | H101: =ROUND((G101*1.2247),2) -> 16.97 | I101: =G101*F101 -> 5063.1966 | J101: =F101*H101 -> 6199.3107 | L101: =K101*H101 -> 0 | N101: =ROUND((M101*H101),2) -> 0 | P101: =O101*H101 -> 0 | Q101: 182.66 | R101: =Q101*H101 -> 3099.7402 | S101: 182.65 | T101: =S101*H101 -> 3099.5705 | V101: =U101*H101 -> 0 | X101: =W101*H101 -> 0 | Z101: =Y101*H101 -> 0 | AB101: =AA101*H101 -> 0 | AD101: =AC101*H101 -> 0 | AF101: =AE101*H101 -> 0 | AH101: =AG101*H101 -> 0 | AJ101: =AH101+AF101+AD101+AB101+Z101+X101+V101+T101+R101+P101+N101+L101 -> 6199.3107
A102: 5.2.5 | B102: 103675 | C102: CONCRETAGEM DE VIGAS E LAJES, FCK=25 MPA, PARA LAJES MACIÇAS OU NERVURADAS COM USO DE BOMBA - LANÇAMENTO, ADENSAMENTO E ACABAMENTO. AF_02/2022_PS | D102: SINAPI | E102: M3 | F102: 24.55 | G102: 587.01 | H102: =ROUND((G102*1.2247),2) -> 718.91 | I102: =G102*F102 -> 14411.095 | J102: =F102*H102 -> 17649.24 | L102: =K102*H102 -> 0 | N102: =ROUND((M102*H102),2) -> 0 | P102: =O102*H102 -> 0 | Q102: 12.27 | R102: =Q102*H102 -> 8821.0257 | S102: 12.28 | T102: =S102*H102 -> 8828.2148 | V102: =U102*H102 -> 0 | X102: =W102*H102 -> 0 | Z102: =Y102*H102 -> 0 | AB102: =AA102*H102 -> 0 | AD102: =AC102*H102 -> 0 | AF102: =AE102*H102 -> 0 | AH102: =AG102*H102 -> 0 | AJ102: =AH102+AF102+AD102+AB102+Z102+X102+V102+T102+R102+P102+N102+L102 -> 17649.24
A103: 5.3 | B103: CONCRETO ARMADO PARA VERGAS | J103: =J104 -> 4526.6564 | N103: =ROUND((M103*H103),2) -> 0
A104: 5.3.1 | B104: 93184 | C104: VERGA PRÉ-MOLDADA COM ATÉ 1,5 M DE VÃO, ESPESSURA DE *20* CM. AF_03/2024 | D104: SINAPI | E104: M | F104: 124.12 | G104: 29.78 | H104: =ROUND((G104*1.2247),2) -> 36.47 | I104: =G104*F104 -> 3696.2936 | J104: =F104*H104 -> 4526.6564 | L104: =K104*H104 -> 0 | N104: =ROUND((M104*H104),2) -> 0 | P104: =O104*H104 -> 0 | Q104: 62.06 | R104: =Q104*H104 -> 2263.3282 | S104: 62.06 | T104: =S104*H104 -> 2263.3282 | V104: =U104*H104 -> 0 | X104: =W104*H104 -> 0 | Z104: =Y104*H104 -> 0 | AB104: =AA104*H104 -> 0 | AD104: =AC104*H104 -> 0 | AF104: =AE104*H104 -> 0 | AH104: =AG104*H104 -> 0 | AJ104: =AH104+AF104+AD104+AB104+Z104+X104+V104+T104+R104+P104+N104+L104 -> 4526.6564
A105: 5.4 | B105: CONCRETO ARMADO - MURETA - PILARES | J105: =ROUND((SUM(J106:J109)),2) -> 2680.64 | N105: =ROUND((M105*H105),2) -> 0
A106: 5.4.1 | B106: 92443 | C106: MONTAGEM E DESMONTAGEM DE FÔRMA DE PILARES RETANGULARES E ESTRUTURAS SIMILARES, PÉ-DIREITO SIMPLES, EM CHAPA DE MADEIRA COMPENSADA PLASTIFICADA, 18 UTILIZAÇÕES. AF_09/2020 | D106: SINAPI | E106: M2 | F106: 18 | G106: 59.52 | H106: =ROUND((G106*1.2247),2) -> 72.89 | I106: =G106*F106 -> 1071.36 | J106: =ROUND((F106*H106),2) -> 1312.02 | L106: =K106*H106 -> 0 | N106: =ROUND((M106*H106),2) -> 0 | P106: =O106*H106 -> 0 | Q106: 18 | R106: =Q106*H106 -> 1312.02 | T106: =S106*H106 -> 0 | V106: =U106*H106 -> 0 | X106: =W106*H106 -> 0 | Z106: =Y106*H106 -> 0 | AB106: =AA106*H106 -> 0 | AD106: =AC106*H106 -> 0 | AF106: =AE106*H106 -> 0 | AH106: =AG106*H106 -> 0 | AJ106: =AH106+AF106+AD106+AB106+Z106+X106+V106+T106+R106+P106+N106+L106 -> 1312.02
A107: 5.4.2 | B107: 92761 | C107: ARMAÇÃO DE PILAR OU VIGA DE ESTRUTURA CONVENCIONAL DE CONCRETO ARMADO UTILIZANDO AÇO CA-50 DE 8,0 MM - MONTAGEM. AF_06/2022 | D107: SINAPI | E107: KG | F107: 43.92 | G107: 10.97 | H107: =ROUND((G107*1.2247),2) -> 13.43 | I107: =G107*F107 -> 481.8024 | J107: =ROUND((F107*H107),2) -> 589.85 | L107: =K107*H107 -> 0 | N107: =ROUND((M107*H107),2) -> 0 | P107: =O107*H107 -> 0 | Q107: 43.92 | R107: =Q107*H107 -> 589.8456 | T107: =S107*H107 -> 0 | V107: =U107*H107 -> 0 | X107: =W107*H107 -> 0 | Z107: =Y107*H107 -> 0 | AB107: =AA107*H107 -> 0 | AD107: =AC107*H107 -> 0 | AF107: =AE107*H107 -> 0 | AH107: =AG107*H107 -> 0 | AJ107: =AH107+AF107+AD107+AB107+Z107+X107+V107+T107+R107+P107+N107+L107 -> 589.8456
A108: 5.4.3 | B108: 92759 | C108: ARMAÇÃO DE PILAR OU VIGA DE ESTRUTURA CONVENCIONAL DE CONCRETO ARMADO UTILIZANDO AÇO CA-60 DE 5,0 MM - MONTAGEM. AF_06/2022 | D108: SINAPI | E108: KG | F108: 13.66 | G108: 13.86 | H108: =ROUND((G108*1.2247),2) -> 16.97 | I108: =G108*F108 -> 189.3276 | J108: =ROUND((F108*H108),2) -> 231.81 | L108: =K108*H108 -> 0 | N108: =ROUND((M108*H108),2) -> 0 | P108: =O108*H108 -> 0 | Q108: 13.66 | R108: =Q108*H108 -> 231.8102 | T108: =S108*H108 -> 0 | V108: =U108*H108 -> 0 | X108: =W108*H108 -> 0 | Z108: =Y108*H108 -> 0 | AB108: =AA108*H108 -> 0 | AD108: =AC108*H108 -> 0 | AF108: =AE108*H108 -> 0 | AH108: =AG108*H108 -> 0 | AJ108: =AH108+AF108+AD108+AB108+Z108+X108+V108+T108+R108+P108+N108+L108 -> 231.8102
A109: 5.4.4 | B109: 103672 | C109: CONCRETAGEM DE PILARES, FCK = 25 MPA, COM USO DE BOMBA - LANÇAMENTO, ADENSAMENTO E ACABAMENTO. AF_02/2022_PS | D109: SINAPI | E109: M3 | F109: 0.76 | G109: 587.64 | H109: =ROUND((G109*1.2247),2) -> 719.68 | I109: =G109*F109 -> 446.6064 | J109: =ROUND((F109*H109),2) -> 546.96 | L109: =K109*H109 -> 0 | N109: =ROUND((M109*H109),2) -> 0 | P109: =O109*H109 -> 0 | Q109: 0.76 | R109: =Q109*H109 -> 546.9568 | T109: =S109*H109 -> 0 | V109: =U109*H109 -> 0 | X109: =W109*H109 -> 0 | Z109: =Y109*H109 -> 0 | AB109: =AA109*H109 -> 0 | AD109: =AC109*H109 -> 0 | AF109: =AE109*H109 -> 0 | AH109: =AG109*H109 -> 0 | AJ109: =AH109+AF109+AD109+AB109+Z109+X109+V109+T109+R109+P109+N109+L109 -> 546.9568
A110: 5.5 | B110: CONCRETO ARMADO - CASA DE GÁS - PILARES VIGAS E LAJE | J110: =SUM(J111:J116) -> 3393.2115 | N110: =ROUND((M110*H110),2) -> 0
A111: 5.5.1 | B111: 92443 | C111: MONTAGEM E DESMONTAGEM DE FÔRMA DE PILARES RETANGULARES E ESTRUTURAS SIMILARES, PÉ-DIREITO SIMPLES, EM CHAPA DE MADEIRA COMPENSADA PLASTIFICADA, 18 UTILIZAÇÕES. AF_09/2020 | D111: SINAPI | E111: M2 | F111: 19.24 | G111: 59.52 | H111: =ROUND((G111*1.2247),2) -> 72.89 | I111: =G111*F111 -> 1145.1648 | J111: =F111*H111 -> 1402.4036 | L111: =K111*H111 -> 0 | N111: =ROUND((M111*H111),2) -> 0 | P111: =O111*H111 -> 0 | Q111: 19.24 | R111: =Q111*H111 -> 1402.4036 | T111: =S111*H111 -> 0 | V111: =U111*H111 -> 0 | X111: =W111*H111 -> 0 | Z111: =Y111*H111 -> 0 | AB111: =AA111*H111 -> 0 | AD111: =AC111*H111 -> 0 | AF111: =AE111*H111 -> 0 | AH111: =AG111*H111 -> 0 | AJ111: =AH111+AF111+AD111+AB111+Z111+X111+V111+T111+R111+P111+N111+L111 -> 1402.4036
A112: 5.5.2 | B112: 92760 | C112: ARMAÇÃO DE PILAR OU VIGA DE ESTRUTURA CONVENCIONAL DE CONCRETO ARMADO UTILIZANDO AÇO CA-50 DE 6,3 MM - MONTAGEM. AF_06/2022 | D112: SINAPI | E112: KG | F112: 15.26 | G112: 12.28 | H112: =ROUND((G112*1.2247),2) -> 15.04 | I112: =G112*F112 -> 187.3928 | J112: =F112*H112 -> 229.5104 | L112: =K112*H112 -> 0 | N112: =ROUND((M112*H112),2) -> 0 | P112: =O112*H112 -> 0 | Q112: 15.26 | R112: =Q112*H112 -> 229.5104 | T112: =S112*H112 -> 0 | V112: =U112*H112 -> 0 | X112: =W112*H112 -> 0 | Z112: =Y112*H112 -> 0 | AB112: =AA112*H112 -> 0 | AD112: =AC112*H112 -> 0 | AF112: =AE112*H112 -> 0 | AH112: =AG112*H112 -> 0 | AJ112: =AH112+AF112+AD112+AB112+Z112+X112+V112+T112+R112+P112+N112+L112 -> 229.5104
A113: 5.5.3 | B113: 92761 | C113: ARMAÇÃO DE PILAR OU VIGA DE ESTRUTURA CONVENCIONAL DE CONCRETO ARMADO UTILIZANDO AÇO CA-50 DE 8,0 MM - MONTAGEM. AF_06/2022 | D113: SINAPI | E113: KG | F113: 19.45 | G113: 10.97 | H113: =ROUND((G113*1.2247),2) -> 13.43 | I113: =G113*F113 -> 213.3665 | J113: =F113*H113 -> 261.2135 | L113: =K113*H113 -> 0 | N113: =ROUND((M113*H113),2) -> 0 | P113: =O113*H113 -> 0 | Q113: 19.45 | R113: =Q113*H113 -> 261.2135 | T113: =S113*H113 -> 0 | V113: =U113*H113 -> 0 | X113: =W113*H113 -> 0 | Z113: =Y113*H113 -> 0 | AB113: =AA113*H113 -> 0 | AD113: =AC113*H113 -> 0 | AF113: =AE113*H113 -> 0 | AH113: =AG113*H113 -> 0 | AJ113: =AH113+AF113+AD113+AB113+Z113+X113+V113+T113+R113+P113+N113+L113 -> 261.2135
...
