Workbook
Name JR_PAGE_ANCHOR_0_1: #REF!
Name JR_PAGE_ANCHOR_1_1: #REF!
Name JR_PAGE_ANCHOR_10_1: #REF!
Name JR_PAGE_ANCHOR_11_1: #REF!
Name JR_PAGE_ANCHOR_12_1: #REF!
Name JR_PAGE_ANCHOR_13_1: #REF!
Name JR_PAGE_ANCHOR_14_1: #REF!
Name JR_PAGE_ANCHOR_15_1: #REF!
Name JR_PAGE_ANCHOR_16_1: #REF!
Name JR_PAGE_ANCHOR_17_1: #REF!
Name JR_PAGE_ANCHOR_18_1: #REF!
Name JR_PAGE_ANCHOR_19_1: #REF!
Name JR_PAGE_ANCHOR_2_1: #REF!
Name JR_PAGE_ANCHOR_20_1: #REF!
Name JR_PAGE_ANCHOR_21_1: #REF!
Name JR_PAGE_ANCHOR_22_1: #REF!
Name JR_PAGE_ANCHOR_23_1: #REF!
Name JR_PAGE_ANCHOR_24_1: #REF!
Name JR_PAGE_ANCHOR_25_1: SP!#REF!
Name JR_PAGE_ANCHOR_26_1: #REF!
Name JR_PAGE_ANCHOR_3_1: #REF!
Name JR_PAGE_ANCHOR_4_1: #REF!
Name JR_PAGE_ANCHOR_5_1: #REF!
Name JR_PAGE_ANCHOR_6_1: #REF!
Name JR_PAGE_ANCHOR_7_1: #REF!
Name JR_PAGE_ANCHOR_8_1: #REF!
Name JR_PAGE_ANCHOR_9_1: #REF!

Sheet SP
A5: Obra: Construção da Creche de Educação Infantil, FNDE - Creche Tipo 2 | G5: BDI : | J5: 0.2247
A6: Local: | B6: Rua Dirce de Souza Machado, n.º 250 | F6: Fonte
A7: Bairro: | B7: Varadouro | F7: SINAPI | G7: 2026/01 | J7: SEM DESONERAÇÃO
A8: Município: Santa Isabel - SP | F8: SP OBRAS | G8: 200 | J8: SEM DESONERAÇÃO
F9: PRÓPRIA | G9: COMPOSIÇÃO FNDE
F10: CDHU | G10: 200 | J10: SEM DESONERAÇÃO
A13: ITEM | B13: CÓDIGO | C13: DESCRIÇÃO | D13: FONTE | E13: UND | F13: QUANTIDADE | G13: PREÇO UNITÁRIO R$ | H13: PREÇO UNITÁRIO COM BDI R$ | I13: PREÇO TOTAL R$ | J13: PREÇO TOTAL COM BDI R$
A14: 1 | B14: SERVIÇOS PRELIMINARES | J14: =SUM(J15:J23) -> 0
A15: 1.1 | B15: 103689 | C15: FORNECIMENTO E INSTALAÇÃO DE PLACA DE OBRA COM CHAPA GALVANIZADA E ESTRUTURA DE MADEIRA. AF_03/2022_PS | D15: SINAPI | E15: M2 | F15: 10 | H15: =ROUND((G15*1.2247),2) -> 0 | I15: =G15*F15 -> 0 | J15: =H15*F15 -> 0
A16: 1.2 | B16: 98459 | C16: TAPUME COM TELHA METÁLICA. AF_03/2024 | D16: SINAPI | E16: M2 | F16: 99 | H16: =ROUND((G16*1.2247),2) -> 0 | I16: =G16*F16 -> 0 | J16: =H16*F16 -> 0
A17: 1.3 | B17: 101509 | C17: ENTRADA DE ENERGIA ELÉTRICA, AÉREA, TRIFÁSICA, COM CAIXA DE EMBUTIR, CABO DE 10 MM2 E DISJUNTOR DIN 50A (NÃO INCLUSO O POSTE DE CONCRETO). AF_12/2025 | D17: SINAPI | E17: UN | F17: 1 | H17: =ROUND((G17*1.2247),2) -> 0 | I17: =G17*F17 -> 0 | J17: =H17*F17 -> 0
A18: 1.4 | B18: FNDE 03 | C18: LIGAÇÃO PROVISÓRIA DE ÁGUA E ESGOTO | D18: PRÓPRIA | E18: UN | F18: 1 | H18: =ROUND((G18*1.2247),2) -> 0 | I18: =G18*F18 -> 0 | J18: =H18*F18 -> 0
A19: 1.5 | B19: 99059 | C19: LOCAÇÃO CONVENCIONAL DE OBRA, UTILIZANDO GABARITO DE TÁBUAS CORRIDAS PONTALETADAS A CADA 2,00M - 2 UTILIZAÇÕES. AF_03/2024 | D19: SINAPI | E19: M | F19: 127.78 | H19: =ROUND((G19*1.2247),2) -> 0 | I19: =G19*F19 -> 0 | J19: =H19*F19 -> 0
A20: 1.6 | B20: FNDE 231 | C20: LOCACAO DE CONTAINER 2,30 X 6,00 M, ALT. 2,50 M, COM 1 SANITARIO, PARA ESCRITORIO, COMPLETO, SEM DIVISORIAS INTERNAS (NAO INCLUI MOBILIZACAO/DESMOBILIZACAO) | D20: PRÓPRIA | E20: MÊS | F20: 8 | H20: =ROUND((G20*1.2247),2) -> 0 | I20: =G20*F20 -> 0 | J20: =H20*F20 -> 0
A21: 1.7 | B21: FNDE 230 | C21: LOCACAO DE CONTAINER 2,30 X 6,00 M, ALT. 2,50 M, PARA ESCRITORIO, SEM DIVISORIAS INTERNAS E SEM SANITARIO (NAO INCLUI MOBILIZACAO/DESMOBILIZACAO) | D21: PRÓPRIA | E21: MÊS | F21: 8 | H21: =ROUND((G21*1.2247),2) -> 0 | I21: =G21*F21 -> 0 | J21: =H21*F21 -> 0
A22: 1.8 | B22: FNDE 232 | C22: LOCACAO DE CONTAINER 2,30 X 6,00 M, ALT. 2,50 M, PARA SANITARIO, COM 4 BACIAS, 8 CHUVEIROS,1 LAVATORIO E 1 MICTORIO (NAO INCLUI MOBILIZACAO/DESMOBILIZACAO) | D22: PRÓPRIA | E22: MÊS | F22: 8 | H22: =ROUND((G22*1.2247),2) -> 0 | I22: =G22*F22 -> 0 | J22: =H22*F22 -> 0
A23: 1.9 | B23: 68.01.670 | C23: Poste de concreto circular, 300 kg, H = 9,00 m | D23: CDHU | E23: UN | F23: 1 | H23: =ROUND((G23*1.2247),2) -> 0 | I23: =G23*F23 -> 0 | J23: =H23*F23 -> 0
A24: 2 | B24: ADMINISTRAÇÃO LOCAL | J24: =J25 -> 0
A25: 2.1 | B25: FNDE 392 | C25: ADMINISTRAÇÃO LOCAL TIPO 2 | D25: PRÓPRIA | E25: UN | F25: 1 | H25: =ROUND((G25*1.2247),2) -> 0 | I25: =G25*F25 -> 0 | J25: =(H25*F25) -> 0
A26: 3 | B26: MOVIMENTO DE TERRA PARA FUNDAÇÕES | J26: =J27+J33+J37 -> 0
A27: 3.1 | B27: EDIFICAÇÃO | J27: =SUM(J28:J32) -> 0
A28: 3.1.1 | B28: 98525 | C28: LIMPEZA MECANIZADA DE CAMADA VEGETAL, VEGETAÇÃO E PEQUENAS ÁRVORES (DIÂMETRO DE TRONCO MENOR QUE 0,20 M), COM TRATOR DE ESTEIRAS. AF_03/2024 | D28: SINAPI | E28: M2 | F28: 1575 | H28: =ROUND((G28*1.2247),2) -> 0 | I28: =G28*F28 -> 0 | J28: =ROUND((H28*F28),2) -> 0
A29: 3.1.2 | B29: 94306 | C29: ATERRO MECANIZADO DE VALA COM ESCAVADEIRA HIDRÁULICA (CAPACIDADE DA CAÇAMBA: 0,8 M³ / POTÊNCIA: 111 HP), LARGURA ATÉ 2,5 M, PROFUNDIDADE DE 1,5 A 3,0 M, COM SOLO ARGILO-ARENOSO. AF_08/2023 | D29: SINAPI | E29: M3 | F29: 158.44 | H29: =ROUND((G29*1.2247),2) -> 0 | I29: =G29*F29 -> 0 | J29: =ROUND((H29*F29),2) -> 0
A30: 3.1.3 | B30: 96523 | C30: ESCAVAÇÃO MANUAL PARA BLOCO DE COROAMENTO OU SAPATA (INCLUINDO ESCAVAÇÃO PARA COLOCAÇÃO DE FÔRMAS). AF_01/2024 | D30: SINAPI | E30: M3 | F30: 250.58 | H30: =ROUND((G30*1.2247),2) -> 0 | I30: =G30*F30 -> 0 | J30: =ROUND((H30*F30),2) -> 0
A31: 3.1.4 | B31: 101617 | C31: PREPARO DE FUNDO DE VALA COM LARGURA MAIOR OU IGUAL A 1,5 M E MENOR QUE 2,5 M (ACERTO DO SOLO NATURAL), EM LOCAL COM NÍVEL BAIXO DE INTERFERÊNCIA. AF_01/2026 | D31: SINAPI | E31: M2 | F31: 107.09 | H31: =ROUND((G31*1.2247),2) -> 0 | I31: =G31*F31 -> 0 | J31: =ROUND((H31*F31),2) -> 0
A32: 3.1.5 | B32: 93381 | C32: REATERRO MECANIZADO DE VALA COM RETROESCAVADEIRA (CAPACIDADE DA CAÇAMBA DA RETRO: 0,26 M³/POTÊNCIA: 88 HP), LARGURA 0,8 A 1,5 M, PROFUNDIDADE 1,5 A 3,0 M, COM SOLO (SEM SUBSTITUIÇÃO) DE 1ª CATEGORIA E COMPACTADOR DE SOLOS DE PERCUSSÃO. AF_08/2023 | D32: SINAPI | E32: M3 | F32: 210.86 | H32: =ROUND((G32*1.2247),2) -> 0 | I32: =G32*F32 -> 0 | J32: =ROUND((H32*F32),2) -> 0
A33: 3.2 | B33: MURETA ABRIGO DE GÁS | J33: =SUM(J34:J36) -> 0
A34: 3.2.1 | B34: 96523 | C34: ESCAVAÇÃO MANUAL PARA BLOCO DE COROAMENTO OU SAPATA (INCLUINDO ESCAVAÇÃO PARA COLOCAÇÃO DE FÔRMAS). AF_01/2024 | D34: SINAPI | E34: M3 | F34: 15.68 | H34: =ROUND((G34*1.2247),2) -> 0 | I34: =G34*F34 -> 0 | J34: =ROUND((F34*H34),2) -> 0
A35: 3.2.2 | B35: 101617 | C35: PREPARO DE FUNDO DE VALA COM LARGURA MAIOR OU IGUAL A 1,5 M E MENOR QUE 2,5 M (ACERTO DO SOLO NATURAL), EM LOCAL COM NÍVEL BAIXO DE INTERFERÊNCIA. AF_01/2026 | D35: SINAPI | E35: M2 | F35: 13.37 | H35: =ROUND((G35*1.2247),2) -> 0 | I35: =G35*F35 -> 0 | J35: =ROUND((F35*H35),2) -> 0
A36: 3.2.3 | B36: 93381 | C36: REATERRO MECANIZADO DE VALA COM RETROESCAVADEIRA (CAPACIDADE DA CAÇAMBA DA RETRO: 0,26 M³/POTÊNCIA: 88 HP), LARGURA 0,8 A 1,5 M, PROFUNDIDADE 1,5 A 3,0 M, COM SOLO (SEM SUBSTITUIÇÃO) DE 1ª CATEGORIA E COMPACTADOR DE SOLOS DE PERCUSSÃO. AF_08/2023 | D36: SINAPI | E36: M3 | F36: 11.42 | H36: =ROUND((G36*1.2247),2) -> 0 | I36: =G36*F36 -> 0 | J36: =ROUND((F36*H36),2) -> 0
A37: 3.3 | B37: CASTELO D'ÁGUA | J37: =ROUND(SUM(J38:J40),2) -> 0
A38: 3.3.1 | B38: 96523 | C38: ESCAVAÇÃO MANUAL PARA BLOCO DE COROAMENTO OU SAPATA (INCLUINDO ESCAVAÇÃO PARA COLOCAÇÃO DE FÔRMAS). AF_01/2024 | D38: SINAPI | E38: M3 | F38: 3.65 | H38: =ROUND((G38*1.2247),2) -> 0 | I38: =G38*F38 -> 0 | J38: =ROUND((F38*H38),2) -> 0
A39: 3.3.2 | B39: 101617 | C39: PREPARO DE FUNDO DE VALA COM LARGURA MAIOR OU IGUAL A 1,5 M E MENOR QUE 2,5 M (ACERTO DO SOLO NATURAL), EM LOCAL COM NÍVEL BAIXO DE INTERFERÊNCIA. AF_01/2026 | D39: SINAPI | E39: M2 | F39: 4.84 | H39: =ROUND((G39*1.2247),2) -> 0 | I39: =G39*F39 -> 0 | J39: =ROUND((F39*H39),2) -> 0
A40: 3.3.3 | B40: 93381 | C40: REATERRO MECANIZADO DE VALA COM RETROESCAVADEIRA (CAPACIDADE DA CAÇAMBA DA RETRO: 0,26 M³/POTÊNCIA: 88 HP), LARGURA 0,8 A 1,5 M, PROFUNDIDADE 1,5 A 3,0 M, COM SOLO (SEM SUBSTITUIÇÃO) DE 1ª CATEGORIA E COMPACTADOR DE SOLOS DE PERCUSSÃO. AF_08/2023 | D40: SINAPI | E40: M3 | F40: 1.23 | H40: =ROUND((G40*1.2247),2) -> 0 | I40: =G40*F40 -> 0 | J40: =ROUND((F40*H40),2) -> 0
A41: 4 | B41: FUNDAÇÕES | J41: =ROUND((J42+J52+J61+J71+J78),2) -> 0
A42: 4.1 | B42: FUNDAÇÃO EDIFICAÇÃO | J42: =ROUND((SUM(J43:J51)),2) -> 0
A43: 4.1.1 | B43: 100651 | C43: ESTACA HÉLICE CONTÍNUA, DIÂMETRO DE 30 CM, INCLUSO CONCRETO FCK=30MPA E ARMADURA MÍNIMA (EXCLUSIVE BOMBEAMENTO, MOBILIZAÇÃO E DESMOBILIZAÇÃO). AF_12/2019 | D43: SINAPI | E43: M | F43: 858 | H43: =ROUND((G43*1.2247),2) -> 0 | I43: =G43*F43 -> 0 | J43: =H43*F43 -> 0
A44: 4.1.2 | B44: 96540 | C44: FABRICAÇÃO, MONTAGEM E DESMONTAGEM DE FÔRMA PARA BLOCO DE COROAMENTO, EM CHAPA DE MADEIRA COMPENSADA RESINADA, E=17 MM, 4 UTILIZAÇÕES. AF_01/2024 | D44: SINAPI | E44: M2 | F44: 112.32 | H44: =ROUND((G44*1.2247),2) -> 0 | I44: =G44*F44 -> 0 | J44: =H44*F44 -> 0
A45: 4.1.3 | B45: 96619 | C45: LASTRO DE CONCRETO MAGRO, APLICADO EM BLOCOS DE COROAMENTO OU SAPATAS, ESPESSURA DE 5 CM. AF_01/2024 | D45: SINAPI | E45: M2 | F45: 48.92 | H45: =ROUND((G45*1.2247),2) -> 0 | I45: =G45*F45 -> 0 | J45: =H45*F45 -> 0
A46: 4.1.4 | B46: 96546 | C46: ARMAÇÃO DE BLOCO UTILIZANDO AÇO CA-50 DE 10 MM - MONTAGEM. AF_01/2024 | D46: SINAPI | E46: KG | F46: 951.93 | H46: =ROUND((G46*1.2247),2) -> 0 | I46: =G46*F46 -> 0 | J46: =H46*F46 -> 0
...

Sheet CRONOGRAMA GERAL DA OBRA
A9: CRONOGRAMA FÍSICO-FINANCEIRO
A11: =SP!A5 -> Obra: Construção da Creche de Educação Infantil, FNDE - Creche Tipo 2
A12: =SP!A6 -> Local: | B12: =SP!B6 -> Rua Dirce de Souza Machado, n.º 250
A13: =SP!A7 -> Bairro: | B13: =SP!B7 -> Varadouro
A14: =SP!A8 -> Município: Santa Isabel - SP
A16: ITEM | B16: ETAPA | C16: CRONOGRAMA FÍSICO-FINANCEIRO
C17: 1ª | D17: 2ª | E17: 3ª | F17: 4ª | G17: 5ª | H17: 6ª | I17: 7ª | J17: 8ª | K17: 9ª | L17: 10ª | M17: 11ª | N17: 12ª | O17: R$ | P17: %
C18: 30 | D18: 60 | E18: 90 | F18: 120 | G18: 150 | H18: 180 | I18: 210 | J18: 240 | K18: 270 | L18: 300 | M18: 330 | N18: 360 | O18: DA ETAPA | P18: DA ETAPA
A19: 1 | B19: =SP!B14 -> SERVIÇOS PRELIMINARES | C19: =Planilha2!L21 -> 5810.5 | D19: =Planilha2!N21 -> 37309.242 | E19: =Planilha2!P21 -> 4214.74 | F19: =Planilha2!R21 -> 4214.74 | G19: =Planilha2!T21 -> 4214.74 | H19: =Planilha2!V21 -> 4214.74 | I19: =Planilha2!X21 -> 4214.74 | J19: =Planilha2!Z21 -> 4214.74 | K19: =Planilha2!AB21 -> 4214.74 | O19: =C19+D19+E19+F19+G19+H19+I19+J19+K19 -> 72622.922 | P19: =O19/O72 -> 0.018535547
A21: =SP!A24 -> 2 | B21: =SP!B24 -> ADMINISTRAÇÃO LOCAL | D21: =Planilha2!N31 -> 29214.718 | E21: =Planilha2!P31 -> 24345.598 | F21: =Planilha2!R31 -> 29214.718 | G21: =Planilha2!T31 -> 68167.674 | H21: =Planilha2!V31 -> 68167.674 | I21: =Planilha2!X31 -> 53560.316 | J21: =Planilha2!Z31 -> 58429.435 | K21: =Planilha2!AB31 -> 29214.718 | L21: =Planilha2!AD31 -> 34083.837 | M21: =Planilha2!AF31 -> 73036.794 | N21: =Planilha2!AH31 -> 19476.478 | O21: =SUM(D21:N21)+0.01 -> 486911.97 | P21: =O21/O72 -> 0.12427453
A23: 3 | B23: =SP!B26 -> MOVIMENTO DE TERRA PARA FUNDAÇÕES | D23: =Planilha2!N33 -> 64182.63 | O23: =SUM(D23:N23) -> 64182.63 | P23: =O23/O72 -> 0.016381331
A25: 4 | B25: =SP!B41 -> FUNDAÇÕES | D25: =Planilha2!N48 -> 203573.43 | E25: =Planilha2!P48 -> 173839.8 | F25: =Planilha2!R48 -> 2496.53 | O25: =SUM(D25:N25) -> 379909.76 | P25: =O25/O72 -> 0.096964358
A27: 5 | B27: =SP!B83 -> SUPERESTRUTURA | F27: =Planilha2!R90 -> 66318.096 | G27: =Planilha2!T90 -> 134945.59 | H27: =Planilha2!V90 -> 115879.07 | I27: =Planilha2!X90 -> 41194.508 | O27: =SUM(D27:N27)+0.01 -> 358337.27 | P27: =O27/O72 -> 0.091458412
A29: 6 | B29: =SP!B123 -> SISTEMA DE VEDAÇÃO VERTICAL | F29: =Planilha2!R130 -> 132672.88 | G29: =Planilha2!T130 -> 139707.16 | J29: =Planilha2!Z130 -> 14659.627 | O29: =SUM(D29:N29) -> 287039.67 | P29: =O29/O72 -> 0.073261127
A31: 7 | B31: =SP!B138 -> ESQUADRIAS | J31: =Planilha2!Z145 -> 137470.41 | K31: =Planilha2!AB145 -> 236092.89 | O31: =SUM(D31:N31) -> 373563.3 | P31: =O31/O72 -> 0.095344551
A33: 8 | B33: =SP!B183 -> SISTEMAS DE COBERTURA | G33: =Planilha2!T190 -> 131847.65 | H33: =Planilha2!V190 -> 131845.51 | O33: =SUM(D33:N33) -> 263693.16 | P33: =O33/O72 -> 0.067302399
A35: 9 | B35: =SP!B190 -> IMPERMEABILIZAÇÃO | E35: =Planilha2!P197 -> 28773.997 | O35: =SUM(D35:N35) -> 28773.997 | P35: =O35/O72 -> 0.0073439866
A37: 10 | B37: =SP!B193 -> REVESTIMENTOS INTERNO E EXTERNO | I37: =Planilha2!X200 -> 159948.28 | J37: =Planilha2!Z200 -> 159953.25 | O37: =SUM(D37:N37)+0.01 -> 319901.53 | P37: =O37/O72 -> 0.081648461
A39: 11 | B39: =SP!B210 -> SISTEMAS DE PISOS | I39: =Planilha2!X217 -> 81155.084 | J39: =Planilha2!Z217 -> 89379.502 | O39: =SUM(D39:N39)-0.01 -> 170534.58 | P39: =O39/O72 -> 0.043525536
A41: 12 | B41: =SP!B232 -> PINTURAS E ACABAMENTOS | L41: =Planilha2!AD239 -> 98244.848 | M41: =Planilha2!AF239 -> 98241.2 | O41: =SUM(D41:N41) -> 196486.05 | P41: =O41/O72 -> 0.050149129
A43: 13 | B43: =SP!B249 -> INSTALAÇÃO HIDRÁULICA | G43: =Planilha2!T256 -> 25486.029 | H43: =Planilha2!V256 -> 71915.687 | O43: =SUM(D43:N43) -> 97401.716 | P43: =O43/O72 -> 0.024859838
A45: 14 | B45: =SP!B302 -> DRENAGEM DE ÁGUAS PLUVIAIS | H45: =Planilha2!V309 -> 24415.566 | O45: =SUM(D45:N45) -> 24415.566 | P45: =O45/O72 -> 0.0062315843
A47: 15 | B47: =SP!B313 -> INSTALAÇÃO SANITÁRIA | H47: =Planilha2!V320 -> 101838.7 | O47: =SUM(D47:N47) -> 101838.7 | P47: =O47/O72 -> 0.025992288
A49: 16 | B49: =SP!B349 -> LOUÇAS, ACESSÓRIOS E METAIS | M49: =Planilha2!AF356 -> 20808.721 | N49: =Planilha2!AH356 -> 51191.911 | O49: =SUM(D49:N49) -> 72000.633 | P49: =O49/O72 -> 0.01837672
A51: 17 | B51: =SP!B384 -> INSTALAÇÃO DE GÁS COMBUSTÍVEL | I51: =Planilha2!X391 -> 5144.534 | O51: =SUM(D51:N51) -> 5144.534 | P51: =O51/O72 -> 0.0013130393
A53: 18 | B53: =SP!B398 -> SISTEMA DE PROTEÇÃO CONTRA INCÊNDIO | I53: =Planilha2!X405 -> 11618.519 | M53: =Planilha2!AF405 -> 22616.12 | N53: =Planilha2!AH405 -> 9544.24 | O53: =SUM(D53:N53) -> 43778.879 | P53: =O53/O72 -> 0.011173682
A55: 19 | B55: =SP!B425 -> INSTALAÇÃO ELÉTRICA - 110V | I55: =Planilha2!X432 -> 58117.242 | M55: =Planilha2!AF432 -> 262569.98 | O55: =SUM(D55:N55) -> 320687.23 | P55: =O55/O72 -> 0.081848993
A57: 20 | B57: =SP!B486 -> INSTALAÇÕES DE CLIMATIZAÇÃO | N57: =Planilha2!AH493 -> 16829.039 | O57: =SUM(D57:N57) -> 16829.039 | P57: =O57/O72 -> 0.0042952752
A59: 21 | B59: =SP!B498 -> INSTALAÇÕES DE CABEAMENTO ESTRUTURADO | L59: =Planilha2!AD505 -> 41104.029 | O59: =SUM(D59:N59) -> 41104.029 | P59: =O59/O72 -> 0.01049098
A61: 22 | B61: =SP!B524 -> SISTEMA DE EXAUSTÃO MECÂNICA | N61: =Planilha2!AH531 -> 11550.77 | O61: =SUM(D61:N61) -> 11550.77 | P61: =O61/O72 -> 0.0029481027
A63: 23 | B63: =SP!B527 -> SISTEMA DE PROTEÇÃO CONTRA DESCARGAS ATMOSFÉRICAS (SPDA) | L63: =Planilha2!AD534 -> 62630.433 | O63: =SUM(D63:N63) -> 62630.433 | P63: =O63/O72 -> 0.015985164
A65: 24 | B65: =SP!B543 -> SERVIÇOS COMPLEMENTARES | M65: =Planilha2!AF550 -> 111756.53 | O65: =SUM(D65:N65) -> 111756.53 | P65: =O65/O72 -> 0.028523618
A67: 25 | B67: =SP!B553 -> SERVIÇOS FINAIS | N67: =Planilha2!AH560 -> 6940.1864 | O67: =SUM(D67:N67) -> 6940.1864 | P67: =O67/O72 -> 0.0017713436
B69: R$ MENSAL | C69: =C19 -> 5810.5 | D69: =D19+D21+D23+D25 -> 334280.02 | E69: 231174.14 | F69: 234916.97 | G69: =G19+G21+G27+G29+G33+G43 -> 504368.84 | H69: =H19+H21+H27+H33+H43+H45+H47 -> 518276.95 | I69: 414953.23 | J69: =J19+J21+J29+J31+J37+J39 -> 464106.96 | K69: =K19+K21+K31 -> 269522.35 | L69: =L21+L41+L59+L63 -> 236063.15 | M69: =M21+M41+M49+M53+M55+M65 -> 589029.35 | N69: =N21+N49+N53+N57+N61+N67 -> 115532.63
B70: R$ ACUMULADO | C70: =C69 -> 5810.5 | D70: =D69+C70 -> 340090.52 | E70: =E69+D70 -> 571264.66 | F70: =F69+E70 -> 806181.63 | G70: =G69+F70 -> 1310550.5 | H70: =H69+G70 -> 1828827.4 | I70: =I69+H70 -> 2243780.6 | J70: =J69+I70 -> 2707887.6 | K70: =K69+J70 -> 2977409.9 | ... M70: =M69+L70 -> 3802502.4 | N70: =N69+M70+0.02 -> 3918035.1
B71: % MENSAL | C71: =C70/O72 -> 0.0014830138 | D71: =D69/O72 -> 0.085318281 | E71: =E69/O72 -> 0.05900257 | F71: =F69/O72 -> 0.059957853 | G71: =G69/O72 -> 0.12873005 | H71: =H69/O72 -> 0.13227981 | I71: =I69/O72 -> 0.1059085 | J71: =J69/O72 -> 0.11845401 | K71: =K69/O72 -> 0.068790182 | L71: =L69/O72 -> 0.060250391 | M71: =M69/O72 -> 0.15033795 | N71: =N69/O72 -> 0.029487389
B72: % ACUMULADO | C72: =C71 -> 0.0014830138 | D72: =D71+C72 -> 0.086801295 | E72: =E71+D72 -> 0.14580387 | F72: =F71+E72 -> 0.20576172 | G72: =G71+F72 -> 0.33449176 | H72: =H71+G72 -> 0.46677158 | I72: =I71+H72 -> 0.57268008 | J72: =J71+I72 -> 0.69113409 | K72: =K71+J72 -> 0.75992427 | ... N72: =N71+M72 -> 1 | O72: =SUM(O19:O68)+0.02 -> 3918035.1 | P72: =SUM(P19:P67) -> 0.99999999
A74: Santa Isabel,03 de julho de 2026
C77: Responsável Técnico pela Elaboração do Orçamento | H77: Secretária de Educação
C78: Kelly Cristina Nogueira da Silva | H78: Maria Donizeti de Queluz Camargo
...

Sheet Planilha2
A9: CRONOGRAMA DE EXECUÇÃO
A11: =SP!A5 -> Obra: Construção da Creche de Educação Infantil, FNDE - Creche Tipo 2
A12: =SP!A6 -> Local: | B12: =SP!B6 -> Rua Dirce de Souza Machado, n.º 250
A13: =SP!A7 -> Bairro: | B13: =SP!B7 -> Varadouro
A14: =SP!A8 -> Município: Santa Isabel - SP
K19: 1º mês | M19: 2º mês | O19: 3º mês | Q19: 4º mês | S19: 5º mês | U19: 6º mês | W19: 7º mês | Y19: 8º mês | AA19: 9º mês | AC19: 10º mês | AE19: 11º mês | AG19: 12º mês
K20: Quantidade | L20: R$ | M20: Quantidade | N20: R$ | O20: Quantidade | P20: R$ | Q20: Quantidade | R20: R$ | S20: Quantidade | T20: R$ | U20: Quantidade | V20: R$ | W20: Quantidade | X20: R$ | Y20: Quantidade | Z20: R$ | AA20: Quantidade | AB20: R$ | AC20: Quantidade | AD20: R$ | AE20: Quantidade | AF20: R$ | AG20: Quantidade | AH20: R$
A21: 1 | B21: SERVIÇOS PRELIMINARES | J21: =SUM(J22:J30) -> 72622.922 | L21: =SUM(L22:L30) -> 5810.5 | N21: =SUM(N22:N30) -> 37309.242 | P21: =SUM(P22:P30) -> 4214.74 | R21: =SUM(R22:R30) -> 4214.74 | T21: =SUM(T22:T30) -> 4214.74 | V21: =SUM(V22:V30) -> 4214.74 | X21: =SUM(X22:X30) -> 4214.74 | Z21: =SUM(Z22:Z30) -> 4214.74 | AB21: =SUM(AB22:AB30) -> 4214.74 | AD21: =SUM(AD22:AD30) -> 0 | AF21: =SUM(AF22:AF30) -> 0 | AH21: =SUM(AH22:AH30) -> 0
A22: 1.1 | B22: 103689 | C22: FORNECIMENTO E INSTALAÇÃO DE PLACA DE OBRA COM CHAPA GALVANIZADA E ESTRUTURA DE MADEIRA. AF_03/2022_PS | D22: SINAPI | E22: M2 | F22: 10 | G22: 474.44 | H22: =ROUND((G22*1.2247),2) -> 581.05 | I22: =G22*F22 -> 4744.4 | J22: =H22*F22 -> 5810.5 | K22: 10 | L22: =K22*H22 -> 5810.5 | N22: =M22*H22 -> 0 | P22: =O22*H22 -> 0 | R22: =Q22*H22 -> 0 | T22: =S22*H22 -> 0 | V22: =U22*H22 -> 0 | X22: =W22*H22 -> 0 | Z22: =Y22*H22 -> 0 | AB22: =AA22*H22 -> 0 | AD22: =AC22*H22 -> 0 | AF22: =AE22*H22 -> 0 | AH22: =AG22*H22 -> 0 | AJ22: =AH22+AF22+AD22+AB22+Z22+X22+V22+T22+R22+P22+N22+L22 -> 5810.5
A23: 1.2 | B23: 98459 | C23: TAPUME COM TELHA METÁLICA. AF_03/2024 | D23: SINAPI | E23: M2 | F23: 99 | G23: 96.32 | H23: =ROUND((G23*1.2247),2) -> 117.96 | I23: =G23*F23 -> 9535.68 | J23: =H23*F23 -> 11678.04 | L23: =K23*H23 -> 0 | M23: 99 | N23: =M23*H23 -> 11678.04 | P23: =O23*H23 -> 0 | R23: =Q23*H23 -> 0 | T23: =S23*H23 -> 0 | V23: =U23*H23 -> 0 | X23: =W23*H23 -> 0 | Z23: =Y23*H23 -> 0 | AB23: =AA23*H23 -> 0 | AD23: =AC23*H23 -> 0 | AF23: =AE23*H23 -> 0 | AH23: =AG23*H23 -> 0 | AJ23: =AH23+AF23+AD23+AB23+Z23+X23+V23+T23+R23+P23+N23+L23 -> 11678.04
A24: 1.3 | B24: 101509 | C24: ENTRADA DE ENERGIA ELÉTRICA, AÉREA, TRIFÁSICA, COM CAIXA DE EMBUTIR, CABO DE 10 MM2 E DISJUNTOR DIN 50A (NÃO INCLUSO O POSTE DE CONCRETO). AF_12/2025 | D24: SINAPI | E24: UN | F24: 1 | G24: 2187.16 | H24: =ROUND((G24*1.2247),2) -> 2678.61 | I24: =G24*F24 -> 2187.16 | J24: =H24*F24 -> 2678.61 | L24: =K24*H24 -> 0 | M24: 1 | N24: =M24*H24 -> 2678.61 | P24: =O24*H24 -> 0 | R24: =Q24*H24 -> 0 | T24: =S24*H24 -> 0 | V24: =U24*H24 -> 0 | X24: =W24*H24 -> 0 | Z24: =Y24*H24 -> 0 | AB24: =AA24*H24 -> 0 | AD24: =AC24*H24 -> 0 | AF24: =AE24*H24 -> 0 | AH24: =AG24*H24 -> 0 | AJ24: =AH24+AF24+AD24+AB24+Z24+X24+V24+T24+R24+P24+N24+L24 -> 2678.61
A25: 1.4 | B25: FNDE 03 | C25: LIGAÇÃO PROVISÓRIA DE ÁGUA E ESGOTO | D25: PRÓPRIA | E25: UN | F25: 1 | G25: 3221.17 | H25: =ROUND((G25*1.2247),2) -> 3944.97 | I25: =G25*F25 -> 3221.17 | J25: =H25*F25 -> 3944.97 | L25: =K25*H25 -> 0 | M25: 1 | N25: =M25*H25 -> 3944.97 | P25: =O25*H25 -> 0 | R25: =Q25*H25 -> 0 | T25: =S25*H25 -> 0 | V25: =U25*H25 -> 0 | X25: =W25*H25 -> 0 | Z25: =Y25*H25 -> 0 | AB25: =AA25*H25 -> 0 | AD25: =AC25*H25 -> 0 | AF25: =AE25*H25 -> 0 | AH25: =AG25*H25 -> 0 | AJ25: =AH25+AF25+AD25+AB25+Z25+X25+V25+T25+R25+P25+N25+L25 -> 3944.97
A26: 1.5 | B26: 99059 | C26: LOCAÇÃO CONVENCIONAL DE OBRA, UTILIZANDO GABARITO DE TÁBUAS CORRIDAS PONTALETADAS A CADA 2,00M - 2 UTILIZAÇÕES. AF_03/2024 | D26: SINAPI | E26: M | F26: 127.78 | G26: 80.01 | H26: =ROUND((G26*1.2247),2) -> 97.99 | I26: =G26*F26 -> 10223.678 | J26: =H26*F26 -> 12521.162 | L26: =K26*H26 -> 0 | M26: 127.78 | N26: =M26*H26 -> 12521.162 | P26: =O26*H26 -> 0 | R26: =Q26*H26 -> 0 | T26: =S26*H26 -> 0 | V26: =U26*H26 -> 0 | X26: =W26*H26 -> 0 | Z26: =Y26*H26 -> 0 | AB26: =AA26*H26 -> 0 | AD26: =AC26*H26 -> 0 | AF26: =AE26*H26 -> 0 | AH26: =AG26*H26 -> 0 | AJ26: =AH26+AF26+AD26+AB26+Z26+X26+V26+T26+R26+P26+N26+L26 -> 12521.162
A27: 1.6 | B27: FNDE 231 | C27: LOCACAO DE CONTAINER 2,30 X 6,00 M, ALT. 2,50 M, COM 1 SANITARIO, PARA ESCRITORIO, COMPLETO, SEM DIVISORIAS INTERNAS (NAO INCLUI MOBILIZACAO/DESMOBILIZACAO) | D27: PRÓPRIA | E27: MÊS | F27: 8 | G27: 1137.48 | H27: =ROUND((G27*1.2247),2) -> 1393.07 | I27: =G27*F27 -> 9099.84 | J27: =H27*F27 -> 11144.56 | L27: =K27*H27 -> 0 | M27: 1 | N27: =M27*H27 -> 1393.07 | O27: 1 | P27: =O27*H27 -> 1393.07 | Q27: 1 | R27: =Q27*H27 -> 1393.07 | S27: 1 | T27: =S27*H27 -> 1393.07 | U27: 1 | V27: =U27*H27 -> 1393.07 | W27: 1 | X27: =W27*H27 -> 1393.07 | Y27: 1 | Z27: =Y27*H27 -> 1393.07 | AA27: 1 | AB27: =AA27*H27 -> 1393.07 | AD27: =AC27*H27 -> 0 | AF27: =AE27*H27 -> 0 | AH27: =AG27*H27 -> 0 | AJ27: =AH27+AF27+AD27+AB27+Z27+X27+V27+T27+R27+P27+N27+L27 -> 11144.56
A28: 1.7 | B28: FNDE 230 | C28: LOCACAO DE CONTAINER 2,30 X 6,00 M, ALT. 2,50 M, PARA ESCRITORIO, SEM DIVISORIAS INTERNAS E SEM SANITARIO (NAO INCLUI MOBILIZACAO/DESMOBILIZACAO) | D28: PRÓPRIA | E28: MÊS | F28: 8 | G28: 934.31 | H28: =ROUND((G28*1.2247),2) -> 1144.25 | I28: =G28*F28 -> 7474.48 | J28: =H28*F28 -> 9154 | L28: =K28*H28 -> 0 | M28: 1 | N28: =M28*H28 -> 1144.25 | O28: 1 | P28: =O28*H28 -> 1144.25 | Q28: 1 | R28: =Q28*H28 -> 1144.25 | S28: 1 | T28: =S28*H28 -> 1144.25 | U28: 1 | V28: =U28*H28 -> 1144.25 | W28: 1 | X28: =W28*H28 -> 1144.25 | Y28: 1 | Z28: =Y28*H28 -> 1144.25 | AA28: 1 | AB28: =AA28*H28 -> 1144.25 | AD28: =AC28*H28 -> 0 | AF28: =AE28*H28 -> 0 | AH28: =AG28*H28 -> 0 | AJ28: =AH28+AF28+AD28+AB28+Z28+X28+V28+T28+R28+P28+N28+L28 -> 9154
A29: 1.8 | B29: FNDE 232 | C29: LOCACAO DE CONTAINER 2,30 X 6,00 M, ALT. 2,50 M, PARA SANITARIO, COM 4 BACIAS, 8 CHUVEIROS,1 LAVATORIO E 1 MICTORIO (NAO INCLUI MOBILIZACAO/DESMOBILIZACAO) | D29: PRÓPRIA | E29: MÊS | F29: 8 | G29: 1369.66 | H29: =ROUND((G29*1.2247),2) -> 1677.42 | I29: =G29*F29 -> 10957.28 | J29: =H29*F29 -> 13419.36 | L29: =K29*H29 -> 0 | M29: 1 | N29: =M29*H29 -> 1677.42 | O29: 1 | P29: =O29*H29 -> 1677.42 | Q29: 1 | R29: =Q29*H29 -> 1677.42 | S29: 1 | T29: =S29*H29 -> 1677.42 | U29: 1 | V29: =U29*H29 -> 1677.42 | W29: 1 | X29: =W29*H29 -> 1677.42 | Y29: 1 | Z29: =Y29*H29 -> 1677.42 | AA29: 1 | AB29: =AA29*H29 -> 1677.42 | AD29: =AC29*H29 -> 0 | AF29: =AE29*H29 -> 0 | AH29: =AG29*H29 -> 0 | AJ29: =AH29+AF29+AD29+AB29+Z29+X29+V29+T29+R29+P29+N29+L29 -> 13419.36
A30: 1.9 | B30: 68.01.670 | C30: Poste de concreto circular, 300 kg, H = 9,00 m | D30: CDHU | E30: UN | F30: 1 | G30: 1854.92 | H30: =ROUND((G30*1.2247),2) -> 2271.72 | I30: =G30*F30 -> 1854.92 | J30: =H30*F30 -> 2271.72 | L30: =K30*H30 -> 0 | M30: 1 | N30: =M30*H30 -> 2271.72 | P30: =O30*H30 -> 0 | R30: =Q30*H30 -> 0 | T30: =S30*H30 -> 0 | V30: =U30*H30 -> 0 | X30: =W30*H30 -> 0 | Z30: =Y30*H30 -> 0 | AB30: =AA30*H30 -> 0 | AD30: =AC30*H30 -> 0 | AF30: =AE30*H30 -> 0 | AH30: =AG30*H30 -> 0 | AJ30: =AH30+AF30+AD30+AB30+Z30+X30+V30+T30+R30+P30+N30+L30 -> 2271.72
A31: 2 | B31: ADMINISTRAÇÃO LOCAL | J31: =J32 -> 486911.96 | L31: =L32 -> 0 | N31: =N32 -> 29214.718 | P31: =P32 -> 24345.598 | R31: =R32 -> 29214.718 | T31: =T32 -> 68167.674 | V31: =V32 -> 68167.674 | X31: =X32 -> 53560.316 | Z31: =Z32 -> 58429.435 | AB31: =AB32 -> 29214.718 | AD31: =AD32 -> 34083.837 | AF31: =AF32 -> 73036.794 | AH31: =AH32 -> 19476.478
A32: 2.1 | B32: FNDE 392 | C32: ADMINISTRAÇÃO LOCAL TIPO 2 | D32: PRÓPRIA | E32: UN | F32: 1 | G32: 397576.52 | H32: =ROUND((G32*1.2247),2) -> 486911.96 | I32: =G32*F32 -> 397576.52 | J32: =H32*F32 -> 486911.96 | L32: =K32*H32 -> 0 | M32: 0.06 | N32: =M32*H32 -> 29214.718 | O32: 0.05 | P32: =O32*H32 -> 24345.598 | Q32: 0.06 | R32: =Q32*H32 -> 29214.718 | S32: 0.14 | T32: =S32*H32 -> 68167.674 | U32: 0.14 | V32: =U32*H32 -> 68167.674 | W32: 0.11 | X32: =W32*H32 -> 53560.316 | Y32: 0.12 | Z32: =Y32*H32 -> 58429.435 | AA32: 0.06 | AB32: =AA32*H32 -> 29214.718 | AC32: 0.07 | AD32: =AC32*H32 -> 34083.837 | AE32: 0.15 | AF32: =AE32*H32 -> 73036.794 | AG32: 0.04 | AH32: =AG32*H32 -> 19476.478 | AJ32: =AH32+AF32+AD32+AB32+Z32+X32+V32+T32+R32+P32+N32+L32 -> 486911.96
A33: 3 | B33: MOVIMENTO DE TERRA PARA FUNDAÇÕES | J33: =J34+J40+J44 -> 64182.63 | L33: =SUM(L34:L47) -> 0 | N33: =SUM(N34:N47)-0.01 -> 64182.63 | P33: =SUM(P34:P47) -> 0 | R33: =SUM(R34:R47) -> 0 | T33: =SUM(T34:T47) -> 0 | V33: =SUM(V34:V47) -> 0 | X33: =SUM(X34:X47) -> 0 | Z33: =SUM(Z34:Z47) -> 0 | AB33: =SUM(AB34:AB47) -> 0 | AD33: =SUM(AD34:AD47) -> 0 | AF33: =SUM(AF34:AF47) -> 0 | AH33: =SUM(AH34:AH47) -> 0
A34: 3.1 | B34: EDIFICAÇÃO | J34: =SUM(J35:J39) -> 60720.03
A35: 3.1.1 | B35: 98525 | C35: LIMPEZA MECANIZADA DE CAMADA VEGETAL, VEGETAÇÃO E PEQUENAS ÁRVORES (DIÂMETRO DE TRONCO MENOR QUE 0,20 M), COM TRATOR DE ESTEIRAS. AF_03/2024 | D35: SINAPI | E35: M2 | F35: 1575 | G35: 0.74 | H35: =ROUND((G35*1.2247),2) -> 0.91 | I35: =G35*F35 -> 1165.5 | J35: =ROUND((H35*F35),2) -> 1433.25 | L35: =K35*H35 -> 0 | M35: 1575 | N35: =M35*H35 -> 1433.25 | P35: =O35*H35 -> 0 | R35: =Q35*H35 -> 0 | T35: =S35*H35 -> 0 | V35: =U35*H35 -> 0 | X35: =W35*H35 -> 0 | Z35: =Y35*H35 -> 0 | AB35: =AA35*H35 -> 0 | AD35: =AC35*H35 -> 0 | AF35: =AE35*H35 -> 0 | AH35: =AG35*H35 -> 0 | AJ35: =AH35+AF35+AD35+AB35+Z35+X35+V35+T35+R35+P35+N35+L35 -> 1433.25
A36: 3.1.2 | B36: 94306 | C36: ATERRO MECANIZADO DE VALA COM ESCAVADEIRA HIDRÁULICA (CAPACIDADE DA CAÇAMBA: 0,8 M³ / POTÊNCIA: 111 HP), LARGURA ATÉ 2,5 M, PROFUNDIDADE DE 1,5 A 3,0 M, COM SOLO ARGILO-ARENOSO. AF_08/2023 | D36: SINAPI | E36: M3 | F36: 158.44 | G36: 73.52 | H36: =ROUND((G36*1.2247),2) -> 90.04 | I36: =G36*F36 -> 11648.509 | J36: =ROUND((H36*F36),2) -> 14265.94 | L36: =K36*H36 -> 0 | M36: 158.44 | N36: =M36*H36 -> 14265.938 | P36: =O36*H36 -> 0 | R36: =Q36*H36 -> 0 | T36: =S36*H36 -> 0 | V36: =U36*H36 -> 0 | X36: =W36*H36 -> 0 | Z36: =Y36*H36 -> 0 | AB36: =AA36*H36 -> 0 | AD36: =AC36*H36 -> 0 | AF36: =AE36*H36 -> 0 | AH36: =AG36*H36 -> 0 | AJ36: =AH36+AF36+AD36+AB36+Z36+X36+V36+T36+R36+P36+N36+L36 -> 14265.938
A37: 3.1.3 | B37: 96523 | C37: ESCAVAÇÃO MANUAL PARA BLOCO DE COROAMENTO OU SAPATA (INCLUINDO ESCAVAÇÃO PARA COLOCAÇÃO DE FÔRMAS). AF_01/2024 | D37: SINAPI | E37: M3 | F37: 250.58 | G37: 132.02 | H37: =ROUND((G37*1.2247),2) -> 161.68 | I37: =G37*F37 -> 33081.572 | J37: =ROUND((H37*F37),2) -> 40513.77 | L37: =K37*H37 -> 0 | M37: 250.58 | N37: =M37*H37 -> 40513.774 | P37: =O37*H37 -> 0 | R37: =Q37*H37 -> 0 | T37: =S37*H37 -> 0 | V37: =U37*H37 -> 0 | X37: =W37*H37 -> 0 | Z37: =Y37*H37 -> 0 | AB37: =AA37*H37 -> 0 | AD37: =AC37*H37 -> 0 | AF37: =AE37*H37 -> 0 | AH37: =AG37*H37 -> 0 | AJ37: =AH37+AF37+AD37+AB37+Z37+X37+V37+T37+R37+P37+N37+L37 -> 40513.774
A38: 3.1.4 | B38: 101617 | C38: PREPARO DE FUNDO DE VALA COM LARGURA MAIOR OU IGUAL A 1,5 M E MENOR QUE 2,5 M (ACERTO DO SOLO NATURAL), EM LOCAL COM NÍVEL BAIXO DE INTERFERÊNCIA. AF_01/2026 | D38: SINAPI | E38: M2 | F38: 107.09 | G38: 4.64 | H38: =ROUND((G38*1.2247),2) -> 5.68 | I38: =G38*F38 -> 496.8976 | J38: =ROUND((H38*F38),2) -> 608.27 | L38: =K38*H38 -> 0 | M38: 107.09 | N38: =M38*H38 -> 608.2712 | P38: =O38*H38 -> 0 | R38: =Q38*H38 -> 0 | T38: =S38*H38 -> 0 | V38: =U38*H38 -> 0 | X38: =W38*H38 -> 0 | Z38: =Y38*H38 -> 0 | AB38: =AA38*H38 -> 0 | AD38: =AC38*H38 -> 0 | AF38: =AE38*H38 -> 0 | AH38: =AG38*H38 -> 0 | AJ38: =AH38+AF38+AD38+AB38+Z38+X38+V38+T38+R38+P38+N38+L38 -> 608.2712
A39: 3.1.5 | B39: 93381 | C39: REATERRO MECANIZADO DE VALA COM RETROESCAVADEIRA (CAPACIDADE DA CAÇAMBA DA RETRO: 0,26 M³/POTÊNCIA: 88 HP), LARGURA 0,8 A 1,5 M, PROFUNDIDADE 1,5 A 3,0 M, COM SOLO (SEM SUBSTITUIÇÃO) DE 1ª CATEGORIA E COMPACTADOR DE SOLOS DE PERCUSSÃO. AF_08/2023 | D39: SINAPI | E39: M3 | F39: 210.86 | G39: 15.1 | H39: =ROUND((G39*1.2247),2) -> 18.49 | I39: =G39*F39 -> 3183.986 | J39: =ROUND((H39*F39),2) -> 3898.8 | L39: =K39*H39 -> 0 | M39: 210.86 | N39: =M39*H39 -> 3898.8014 | P39: =O39*H39 -> 0 | R39: =Q39*H39 -> 0 | T39: =S39*H39 -> 0 | V39: =U39*H39 -> 0 | X39: =W39*H39 -> 0 | Z39: =Y39*H39 -> 0 | AB39: =AA39*H39 -> 0 | AD39: =AC39*H39 -> 0 | AF39: =AE39*H39 -> 0 | AH39: =AG39*H39 -> 0 | AJ39: =AH39+AF39+AD39+AB39+Z39+X39+V39+T39+R39+P39+N39+L39 -> 3898.8014
A40: 3.2 | B40: MURETA ABRIGO DE GÁS | J40: =SUM(J41:J43) -> 2822.24
A41: 3.2.1 | B41: 96523 | C41: ESCAVAÇÃO MANUAL PARA BLOCO DE COROAMENTO OU SAPATA (INCLUINDO ESCAVAÇÃO PARA COLOCAÇÃO DE FÔRMAS). AF_01/2024 | D41: SINAPI | E41: M3 | F41: 15.68 | G41: 132.02 | H41: =ROUND((G41*1.2247),2) -> 161.68 | I41: =G41*F41 -> 2070.0736 | J41: =ROUND((F41*H41),2) -> 2535.14 | L41: =K41*H41 -> 0 | M41: 15.68 | N41: =M41*H41 -> 2535.1424 | P41: =O41*H41 -> 0 | R41: =Q41*H41 -> 0 | T41: =S41*H41 -> 0 | V41: =U41*H41 -> 0 | X41: =W41*H41 -> 0 | Z41: =Y41*H41 -> 0 | AB41: =AA41*H41 -> 0 | AD41: =AC41*H41 -> 0 | AF41: =AE41*H41 -> 0 | AH41: =AG41*H41 -> 0 | AJ41: =AH41+AF41+AD41+AB41+Z41+X41+V41+T41+R41+P41+N41+L41 -> 2535.1424
A42: 3.2.2 | B42: 101617 | C42: PREPARO DE FUNDO DE VALA COM LARGURA MAIOR OU IGUAL A 1,5 M E MENOR QUE 2,5 M (ACERTO DO SOLO NATURAL), EM LOCAL COM NÍVEL BAIXO DE INTERFERÊNCIA. AF_01/2026 | D42: SINAPI | E42: M2 | F42: 13.37 | G42: 4.64 | H42: =ROUND((G42*1.2247),2) -> 5.68 | I42: =G42*F42 -> 62.0368 | J42: =ROUND((F42*H42),2) -> 75.94 | L42: =K42*H42 -> 0 | M42: 13.37 | N42: =M42*H42 -> 75.9416 | P42: =O42*H42 -> 0 | R42: =Q42*H42 -> 0 | T42: =S42*H42 -> 0 | V42: =U42*H42 -> 0 | X42: =W42*H42 -> 0 | Z42: =Y42*H42 -> 0 | AB42: =AA42*H42 -> 0 | AD42: =AC42*H42 -> 0 | AF42: =AE42*H42 -> 0 | AH42: =AG42*H42 -> 0 | AJ42: =AH42+AF42+AD42+AB42+Z42+X42+V42+T42+R42+P42+N42+L42 -> 75.9416
A43: 3.2.3 | B43: 93381 | C43: REATERRO MECANIZADO DE VALA COM RETROESCAVADEIRA (CAPACIDADE DA CAÇAMBA DA RETRO: 0,26 M³/POTÊNCIA: 88 HP), LARGURA 0,8 A 1,5 M, PROFUNDIDADE 1,5 A 3,0 M, COM SOLO (SEM SUBSTITUIÇÃO) DE 1ª CATEGORIA E COMPACTADOR DE SOLOS DE PERCUSSÃO. AF_08/2023 | D43: SINAPI | E43: M3 | F43: 11.42 | G43: 15.1 | H43: =ROUND((G43*1.2247),2) -> 18.49 | I43: =G43*F43 -> 172.442 | J43: =ROUND((F43*H43),2) -> 211.16 | L43: =K43*H43 -> 0 | M43: 11.42 | N43: =M43*H43 -> 211.1558 | P43: =O43*H43 -> 0 | R43: =Q43*H43 -> 0 | T43: =S43*H43 -> 0 | V43: =U43*H43 -> 0 | X43: =W43*H43 -> 0 | Z43: =Y43*H43 -> 0 | AB43: =AA43*H43 -> 0 | AD43: =AC43*H43 -> 0 | AF43: =AE43*H43 -> 0 | AH43: =AG43*H43 -> 0 | AJ43: =AH43+AF43+AD43+AB43+Z43+X43+V43+T43+R43+P43+N43+L43 -> 211.1558
A44: 3.3 | B44: CASTELO D'ÁGUA | J44: =ROUND(SUM(J45:J47),2) -> 640.36
A45: 3.3.1 | B45: 96523 | C45: ESCAVAÇÃO MANUAL PARA BLOCO DE COROAMENTO OU SAPATA (INCLUINDO ESCAVAÇÃO PARA COLOCAÇÃO DE FÔRMAS). AF_01/2024 | D45: SINAPI | E45: M3 | F45: 3.65 | G45: 132.02 | H45: =ROUND((G45*1.2247),2) -> 161.68 | I45: =G45*F45 -> 481.873 | J45: =ROUND((F45*H45),2) -> 590.13 | L45: =K45*H45 -> 0 | M45: 3.65 | N45: =M45*H45 -> 590.132 | P45: =O45*H45 -> 0 | R45: =Q45*H45 -> 0 | T45: =S45*H45 -> 0 | V45: =U45*H45 -> 0 | X45: =W45*H45 -> 0 | Z45: =Y45*H45 -> 0 | AB45: =AA45*H45 -> 0 | AD45: =AC45*H45 -> 0 | AF45: =AE45*H45 -> 0 | AH45: =AG45*H45 -> 0 | AJ45: =AH45+AF45+AD45+AB45+Z45+X45+V45+T45+R45+P45+N45+L45 -> 590.132
A46: 3.3.2 | B46: 101617 | C46: PREPARO DE FUNDO DE VALA COM LARGURA MAIOR OU IGUAL A 1,5 M E MENOR QUE 2,5 M (ACERTO DO SOLO NATURAL), EM LOCAL COM NÍVEL BAIXO DE INTERFERÊNCIA. AF_01/2026 | D46: SINAPI | E46: M2 | F46: 4.84 | G46: 4.64 | H46: =ROUND((G46*1.2247),2) -> 5.68 | I46: =G46*F46 -> 22.4576 | J46: =ROUND((F46*H46),2) -> 27.49 | L46: =K46*H46 -> 0 | M46: 4.84 | N46: =M46*H46 -> 27.4912 | P46: =O46*H46 -> 0 | R46: =Q46*H46 -> 0 | T46: =S46*H46 -> 0 | V46: =U46*H46 -> 0 | X46: =W46*H46 -> 0 | Z46: =Y46*H46 -> 0 | AB46: =AA46*H46 -> 0 | AD46: =AC46*H46 -> 0 | AF46: =AE46*H46 -> 0 | AH46: =AG46*H46 -> 0 | AJ46: =AH46+AF46+AD46+AB46+Z46+X46+V46+T46+R46+P46+N46+L46 -> 27.4912
A47: 3.3.3 | B47: 93381 | C47: REATERRO MECANIZADO DE VALA COM RETROESCAVADEIRA (CAPACIDADE DA CAÇAMBA DA RETRO: 0,26 M³/POTÊNCIA: 88 HP), LARGURA 0,8 A 1,5 M, PROFUNDIDADE 1,5 A 3,0 M, COM SOLO (SEM SUBSTITUIÇÃO) DE 1ª CATEGORIA E COMPACTADOR DE SOLOS DE PERCUSSÃO. AF_08/2023 | D47: SINAPI | E47: M3 | F47: 1.23 | G47: 15.1 | H47: =ROUND((G47*1.2247),2) -> 18.49 | I47: =G47*F47 -> 18.573 | J47: =ROUND((F47*H47),2) -> 22.74 | L47: =K47*H47 -> 0 | M47: 1.23 | N47: =M47*H47 -> 22.7427 | P47: =O47*H47 -> 0 | R47: =Q47*H47 -> 0 | T47: =S47*H47 -> 0 | V47: =U47*H47 -> 0 | X47: =W47*H47 -> 0 | Z47: =Y47*H47 -> 0 | AB47: =AA47*H47 -> 0 | AD47: =AC47*H47 -> 0 | AF47: =AE47*H47 -> 0 | AH47: =AG47*H47 -> 0 | AJ47: =AH47+AF47+AD47+AB47+Z47+X47+V47+T47+R47+P47+N47+L47 -> 22.7427
A48: 4 | B48: FUNDAÇÕES | J48: =ROUND((J49+J59+J68+J78+J85),2) -> 379909.87 | L48: =SUM(L49:L89) -> 0 | N48: =SUM(N49:N89) -> 203573.43 | P48: =SUM(P49:P89)-0.03 -> 173839.8 | R48: =SUM(R49:R89) -> 2496.53 | T48: =SUM(T49:T89) -> 0 | V48: =SUM(V49:V89) -> 0 | X48: =SUM(X49:X89) -> 0 | Z48: =SUM(Z49:Z89) -> 0 | AB48: =SUM(AB49:AB89) -> 0 | AD48: =SUM(AD49:AD89) -> 0 | AF48: =SUM(AF49:AF89) -> 0 | AH48: =SUM(AH49:AH89) -> 0
A49: 4.1 | B49: FUNDAÇÃO EDIFICAÇÃO | J49: =ROUND((SUM(J50:J58)),2) -> 259484.25
A50: 4.1.1 | B50: 100651 | C50: ESTACA HÉLICE CONTÍNUA, DIÂMETRO DE 30 CM, INCLUSO CONCRETO FCK=30MPA E ARMADURA MÍNIMA (EXCLUSIVE BOMBEAMENTO, MOBILIZAÇÃO E DESMOBILIZAÇÃO). AF_12/2019 | D50: SINAPI | E50: M | F50: 858 | G50: 134.38 | H50: =ROUND((G50*1.2247),2) -> 164.58 | I50: =G50*F50 -> 115298.04 | J50: =H50*F50 -> 141209.64 | L50: =K50*H50 -> 0 | M50: 858 | N50: =M50*H50 -> 141209.64 | P50: =O50*H50 -> 0 | R50: =Q50*H50 -> 0 | T50: =S50*H50 -> 0 | V50: =U50*H50 -> 0 | X50: =W50*H50 -> 0 | Z50: =Y50*H50 -> 0 | AB50: =AA50*H50 -> 0 | AD50: =AC50*H50 -> 0 | AF50: =AE50*H50 -> 0 | AH50: =AG50*H50 -> 0 | AJ50: =AH50+AF50+AD50+AB50+Z50+X50+V50+T50+R50+P50+N50+L50 -> 141209.64
A51: 4.1.2 | B51: 96540 | C51: FABRICAÇÃO, MONTAGEM E DESMONTAGEM DE FÔRMA PARA BLOCO DE COROAMENTO, EM CHAPA DE MADEIRA COMPENSADA RESINADA, E=17 MM, 4 UTILIZAÇÕES. AF_01/2024 | D51: SINAPI | E51: M2 | F51: 112.32 | G51: 150.09 | H51: =ROUND((G51*1.2247),2) -> 183.82 | I51: =G51*F51 -> 16858.109 | J51: =H51*F51 -> 20646.662 | L51: =K51*H51 -> 0 | N51: =M51*H51 -> 0 | O51: 112.32 | P51: =O51*H51 -> 20646.662 | R51: =Q51*H51 -> 0 | T51: =S51*H51 -> 0 | V51: =U51*H51 -> 0 | X51: =W51*H51 -> 0 | Z51: =Y51*H51 -> 0 | AB51: =AA51*H51 -> 0 | AD51: =AC51*H51 -> 0 | AF51: =AE51*H51 -> 0 | AH51: =AG51*H51 -> 0 | AJ51: =AH51+AF51+AD51+AB51+Z51+X51+V51+T51+R51+P51+N51+L51 -> 20646.662
A52: 4.1.3 | B52: 96619 | C52: LASTRO DE CONCRETO MAGRO, APLICADO EM BLOCOS DE COROAMENTO OU SAPATAS, ESPESSURA DE 5 CM. AF_01/2024 | D52: SINAPI | E52: M2 | F52: 48.92 | G52: 41.85 | H52: =ROUND((G52*1.2247),2) -> 51.25 | I52: =G52*F52 -> 2047.302 | J52: =H52*F52 -> 2507.15 | L52: =K52*H52 -> 0 | N52: =M52*H52 -> 0 | O52: 48.92 | P52: =O52*H52 -> 2507.15 | R52: =Q52*H52 -> 0 | T52: =S52*H52 -> 0 | V52: =U52*H52 -> 0 | X52: =W52*H52 -> 0 | Z52: =Y52*H52 -> 0 | AB52: =AA52*H52 -> 0 | AD52: =AC52*H52 -> 0 | AF52: =AE52*H52 -> 0 | AH52: =AG52*H52 -> 0 | AJ52: =AH52+AF52+AD52+AB52+Z52+X52+V52+T52+R52+P52+N52+L52 -> 2507.15
A53: 4.1.4 | B53: 96546 | C53: ARMAÇÃO DE BLOCO UTILIZANDO AÇO CA-50 DE 10 MM - MONTAGEM. AF_01/2024 | D53: SINAPI | E53: KG | F53: 951.93 | G53: 13.5 | H53: =ROUND((G53*1.2247),2) -> 16.53 | I53: =G53*F53 -> 12851.055 | J53: =H53*F53 -> 15735.403 | L53: =K53*H53 -> 0 | N53: =M53*H53 -> 0 | O53: 951.93 | P53: =O53*H53 -> 15735.403 | R53: =Q53*H53 -> 0 | T53: =S53*H53 -> 0 | V53: =U53*H53 -> 0 | X53: =W53*H53 -> 0 | Z53: =Y53*H53 -> 0 | AB53: =AA53*H53 -> 0 | AD53: =AC53*H53 -> 0 | AF53: =AE53*H53 -> 0 | AH53: =AG53*H53 -> 0 | AJ53: =AH53+AF53+AD53+AB53+Z53+X53+V53+T53+R53+P53+N53+L53 -> 15735.403
...
