Workbook
Name EMPRESAS: OFFSET(#REF!,1,0):OFFSET(#REF!,-1,0)

Sheet 1. PQPU
A2: PREFEITURA MUNICIPAL DE ARUJÁ
A3: SECRETARIA MUNICIPAL DE OBRAS
A5: OBRA: | B5: CONTRATAÇÃO DE EMPRESA ESPECIALIZADA PARA EXECUÇÃO DO SALDO REMANESCENTE DA OBRA DE CONSTRUÇÃO DO HOSPITAL GERAL DE ARUJÁ | D5: CONTRATAÇÃO DE EMPRESA ESPECIALIZADA PARA EXECUÇÃO DO SALDO REMANESCENTE DA OBRA DE CONSTRUÇÃO DO HOSPITAL GERAL DE ARUJÁ
A7: ENDEREÇO: | B7: RUA MAJOR BENJAMIN FRANCO, 881 - CENTRO, ARUJÁ - SÃO PAULO. | D7: RUA MAJOR BENJAMIN FRANCO, 881 - CENTRO, ARUJÁ - SÃO PAULO.
A9: COORDENADAS: | B9: 23°23'50.3"S 46°19'55.6"W | D9: 23°23'50.3"S 46°19'55.6"W
A11: DATA BASE: | B11: 46204 | D11: 46204
A13: PQPU - PLANILHA DE QUANTIDADES
A15: ITEM | B15: CÓDIGO | C15: FONTE | D15: DESCRIÇÃO DOS SERVIÇOS | E15: UN | F15: QUANTIDADE
A17: 1.0 | D17: SERVIÇOS PRELIMINARES
A18: 1.1 | B18: CANTEIRO DE OBRAS
A19: 1.1.1 | B19: 103689 | C19: SINAPI | D19: FORNECIMENTO E INSTALAÇÃO DE PLACA DE OBRA COM CHAPA GALVANIZADA E ESTRUTURA DE MADEIRA. AF_03/2022_PS | E19: M2 | F19: 24.4
A20: 1.1.2 | B20: 101508 | C20: SINAPI | D20: ENTRADA DE ENERGIA ELÉTRICA, AÉREA, TRIFÁSICA, COM CAIXA DE SOBREPOR, CABO DE 35 MM2 E DISJUNTOR DIN 50A (NÃO INCLUSO O POSTE DE CONCRETO). AF_12/2025 | E20: UN | F20: 1
A21: 1.1.3 | B21: 5.0 | C21: CPU | D21: MOBILIZAÇÃO / DESMOBILIZAÇÃO DE CANTEIRO | E21: VB | F21: 1
A24: 2.0 | D24: ESTRUTURAS
A25: 2.1 | B25: PILARES - LAJES ELEVADORES
A26: 2.1.1 | B26: 92443 | C26: SINAPI | D26: MONTAGEM E DESMONTAGEM DE FÔRMA DE PILARES RETANGULARES E ESTRUTURAS SIMILARES, PÉ-DIREITO SIMPLES, EM CHAPA DE MADEIRA COMPENSADA PLASTIFICADA, 18 UTILIZAÇÕES. AF_09/2020 | E26: M2 | F26: 209.59
A27: 2.1.2 | B27: 92763 | C27: SINAPI | D27: ARMAÇÃO DE PILAR OU VIGA DE ESTRUTURA CONVENCIONAL DE CONCRETO ARMADO UTILIZANDO AÇO CA-50 DE 12,5 MM - MONTAGEM. AF_06/2022 | E27: KG | F27: 885.2
A28: 2.1.3 | B28: 92764 | C28: SINAPI | D28: ARMAÇÃO DE PILAR OU VIGA DE ESTRUTURA CONVENCIONAL DE CONCRETO ARMADO UTILIZANDO AÇO CA-50 DE 16,0 MM - MONTAGEM. AF_06/2022 | E28: KG | F28: 122.5
A29: 2.1.4 | B29: 92760 | C29: SINAPI | D29: ARMAÇÃO DE PILAR OU VIGA DE ESTRUTURA CONVENCIONAL DE CONCRETO ARMADO UTILIZANDO AÇO CA-50 DE 6,3 MM - MONTAGEM. AF_06/2022 | E29: KG | F29: 234.8
A30: 2.1.5 | B30: 92761 | C30: SINAPI | D30: ARMAÇÃO DE PILAR OU VIGA DE ESTRUTURA CONVENCIONAL DE CONCRETO ARMADO UTILIZANDO AÇO CA-50 DE 8,0 MM - MONTAGEM. AF_06/2022 | E30: KG | F30: 26.4
A31: 2.1.6 | B31: 92759 | C31: SINAPI | D31: ARMAÇÃO DE PILAR OU VIGA DE ESTRUTURA CONVENCIONAL DE CONCRETO ARMADO UTILIZANDO AÇO CA-60 DE 5,0 MM - MONTAGEM. AF_06/2022 | E31: KG | F31: 155.1
A32: 2.1.7 | B32: 92762 | C32: SINAPI | D32: ARMAÇÃO DE PILAR OU VIGA DE ESTRUTURA CONVENCIONAL DE CONCRETO ARMADO UTILIZANDO AÇO CA-50 DE 10,0 MM - MONTAGEM. AF_06/2022 | E32: KG | F32: 49.2
A33: 2.1.8 | B33: 11.01.321 | C33: CDHU | D33: CONCRETO USINADO, FCK = 35 MPA - PARA BOMBEAMENTO | E33: M3 | F33: 19.65
A34: 2.1.9 | B34: 11.16.080 | C34: CDHU | D34: LANÇAMENTO E ADENSAMENTO DE CONCRETO OU MASSA POR BOMBEAMENTO | E34: M3 | F34: 19.65
A35: 2.2 | B35: PILARES - LAJE TÉCNICA DO PAVIMENTO TÉCNICO
A36: 2.2.1 | B36: 92443 | C36: SINAPI | D36: MONTAGEM E DESMONTAGEM DE FÔRMA DE PILARES RETANGULARES E ESTRUTURAS SIMILARES, PÉ-DIREITO SIMPLES, EM CHAPA DE MADEIRA COMPENSADA PLASTIFICADA, 18 UTILIZAÇÕES. AF_09/2020 | E36: M2 | F36: 309.72
A37: 2.2.2 | B37: 92763 | C37: SINAPI | D37: ARMAÇÃO DE PILAR OU VIGA DE ESTRUTURA CONVENCIONAL DE CONCRETO ARMADO UTILIZANDO AÇO CA-50 DE 12,5 MM - MONTAGEM. AF_06/2022 | E37: KG | F37: 1156.8
A38: 2.2.3 | B38: 92760 | C38: SINAPI | D38: ARMAÇÃO DE PILAR OU VIGA DE ESTRUTURA CONVENCIONAL DE CONCRETO ARMADO UTILIZANDO AÇO CA-50 DE 6,3 MM - MONTAGEM. AF_06/2022 | E38: KG | F38: 12.1
A39: 2.2.4 | B39: 92759 | C39: SINAPI | D39: ARMAÇÃO DE PILAR OU VIGA DE ESTRUTURA CONVENCIONAL DE CONCRETO ARMADO UTILIZANDO AÇO CA-60 DE 5,0 MM - MONTAGEM. AF_06/2022 | E39: KG | F39: 497.2
A40: 2.2.5 | B40: 11.01.321 | C40: CDHU | D40: CONCRETO USINADO, FCK = 35 MPA - PARA BOMBEAMENTO | E40: M3 | F40: 29.66
A41: 2.2.6 | B41: 11.16.080 | C41: CDHU | D41: LANÇAMENTO E ADENSAMENTO DE CONCRETO OU MASSA POR BOMBEAMENTO | E41: M3 | F41: 29.66
A42: 2.3 | B42: PILARES - LAJE TÉCNICA RESERVATÓRIOS
A43: 2.3.1 | B43: 92443 | C43: SINAPI | D43: MONTAGEM E DESMONTAGEM DE FÔRMA DE PILARES RETANGULARES E ESTRUTURAS SIMILARES, PÉ-DIREITO SIMPLES, EM CHAPA DE MADEIRA COMPENSADA PLASTIFICADA, 18 UTILIZAÇÕES. AF_09/2020 | E43: M2 | F43: 209.6
A44: 2.3.2 | B44: 92763 | C44: SINAPI | D44: ARMAÇÃO DE PILAR OU VIGA DE ESTRUTURA CONVENCIONAL DE CONCRETO ARMADO UTILIZANDO AÇO CA-50 DE 12,5 MM - MONTAGEM. AF_06/2022 | E44: KG | F44: 735.2
A45: 2.3.3 | B45: 92759 | C45: SINAPI | D45: ARMAÇÃO DE PILAR OU VIGA DE ESTRUTURA CONVENCIONAL DE CONCRETO ARMADO UTILIZANDO AÇO CA-60 DE 5,0 MM - MONTAGEM. AF_06/2022 | E45: KG | F45: 347.8
A46: 2.3.4 | B46: 11.01.321 | C46: CDHU | D46: CONCRETO USINADO, FCK = 35 MPA - PARA BOMBEAMENTO | E46: M3 | F46: 20.16
A47: 2.3.5 | B47: 92764 | C47: SINAPI | D47: ARMAÇÃO DE PILAR OU VIGA DE ESTRUTURA CONVENCIONAL DE CONCRETO ARMADO UTILIZANDO AÇO CA-50 DE 16,0 MM - MONTAGEM. AF_06/2022 | E47: KG | F47: 196
A48: 2.3.6 | B48: 92762 | C48: SINAPI | D48: ARMAÇÃO DE PILAR OU VIGA DE ESTRUTURA CONVENCIONAL DE CONCRETO ARMADO UTILIZANDO AÇO CA-50 DE 10,0 MM - MONTAGEM. AF_06/2022 | E48: KG | F48: 137.6
A49: 2.3.7 | B49: 11.16.080 | C49: CDHU | D49: LANÇAMENTO E ADENSAMENTO DE CONCRETO OU MASSA POR BOMBEAMENTO | E49: M3 | F49: 20.16
A50: 2.4 | B50: LAJE DOS ELEVADORES - COTA 24,40
...

Sheet 2.CRONOGRAMA
B2: ='1. PQPU'!A2 -> PREFEITURA MUNICIPAL DE ARUJÁ
B3: ='1. PQPU'!$A$3 -> SECRETARIA MUNICIPAL DE OBRAS
B5: ='1. PQPU'!A5 -> OBRA: | C5: ='1. PQPU'!B5 -> CONTRATAÇÃO DE EMPRESA ESPECIALIZADA PARA EXECUÇÃO DO SALDO REMANESCENTE DA OBRA DE CONSTRUÇÃO DO HOSPITAL GERAL DE ARUJÁ
B7: ='1. PQPU'!A7 -> ENDEREÇO: | C7: ='1. PQPU'!B7 -> RUA MAJOR BENJAMIN FRANCO, 881 - CENTRO, ARUJÁ - SÃO PAULO.
B9: ='1. PQPU'!A9 -> COORDENADAS: | C9: ='1. PQPU'!B9 -> 23°23'50.3"S 46°19'55.6"W
B12: ='1. PQPU'!A11 -> DATA BASE: | C12: ='1. PQPU'!B11 -> 46204
B15: CRONOGRAMA FÍSICO FINANCEIRO
D17: PRAZO: 12 MESES
B18: ITEM | C18: SERVIÇOS | D18: 1° MÊS | H18: 2° MÊS | L18: 3° MÊS | P18: 4° MÊS | T18: 5° MÊS | X18: 6° MÊS | AB18: 7° MÊS | AF18: 8° MÊS | AJ18: 9° MÊS | AN18: 10° MÊS | AR18: 11° MÊS | AV18: 12° MÊS
B21: ='1. PQPU'!A17 -> 1.0 | C21: ='1. PQPU'!D17 -> SERVIÇOS PRELIMINARES
D22: 1
B23: ='1. PQPU'!A24 -> 2.0 | C23: ='1. PQPU'!D24 -> ESTRUTURAS
D24: 0.2 | H24: 0.2 | L24: 0.3 | P24: 0.3
B25: ='1. PQPU'!A234 -> 3.0 | C25: ='1. PQPU'!D234 -> ALVENARIAS
D26: 0.2 | H26: 0.2 | L26: 0.2 | P26: 0.2 | T26: 0.2
B27: ='1. PQPU'!A276 -> 4.0 | C27: ='1. PQPU'!D276 -> PAREDES DE GESSO
D28: 0.25 | H28: 0.25 | L28: 0.25 | P28: 0.25 | AV28: 0
B29: ='1. PQPU'!A308 -> 5.0 | C29: ='1. PQPU'!D308 -> PROTEÇÃO RADIOLÓGICA
D30: 0 | H30: 0 | P30: 0.25 | T30: 0.25 | X30: 0.25 | AB30: 0.25 | AJ30: 0 | AN30: 0 | AR30: 0 | AV30: 0
B31: ='1. PQPU'!A317 -> 6.0 | C31: ='1. PQPU'!D317 -> PISOS
D32: 0 | P32: 0.15 | T32: 0.15 | X32: 0.15 | AB32: 0.2 | AF32: 0.2 | AJ32: 0.15 | AN32: 0 | AR32: 0 | AV32: 0
B33: ='1. PQPU'!A387 -> 7.0 | C33: ='1. PQPU'!D387 -> ACABAMENTO DAS PAREDES
D34: 0 | T34: 0 | X34: 0.1665 | AB34: 0.1665 | AF34: 0.1665 | AJ34: 0.1665 | AN34: 0.1665 | AR34: 0.1675
B35: ='1. PQPU'!A422 -> 8.0 | C35: ='1. PQPU'!D422 -> FORROS
D36: 0 | H36: 0 | L36: 0 | P36: 0 | T36: 0 | X36: 0 | AB36: 0.2 | AF36: 0.2 | AJ36: 0.2 | AN36: 0.2 | AR36: 0.2 | AV36: 0
B37: ='1. PQPU'!A447 -> 9.0 | C37: ='1. PQPU'!D447 -> LOUÇAS E METAIS
D38: 0 | T38: 0 | X38: 0 | AB38: 0 | AF38: 0 | AJ38: 0 | AN38: 0 | AR38: 0.5 | AV38: 0.5
B39: 10.0 | C39: ='1. PQPU'!D538 -> PORTAS E JANELAS
D40: 0 | H40: 0 | L40: 0 | P40: 0 | T40: 0 | X40: 0 | AB40: 0 | AF40: 0 | AJ40: 0.3 | AN40: 0.3 | AR40: 0.4
B41: ='1. PQPU'!A632 -> 11.0 | C41: ='1. PQPU'!D632 -> BRISES
D42: 0 | H42: 0 | L42: 0 | P42: 0 | T42: 0 | X42: 0 | AB42: 0 | AF42: 0 | AJ42: 0 | AN42: 0 | AR42: 0.5 | AV42: 0.5
B43: ='1. PQPU'!A636 -> 12.0 | C43: ='1. PQPU'!D636 -> PAINEL VAZADO
D44: 0 | H44: 0 | L44: 0 | P44: 0 | T44: 0 | X44: 0 | AB44: 0 | AF44: 0 | AJ44: 0 | AN44: 0 | AR44: 0.5 | AV44: 0.5
B45: ='1. PQPU'!A640 -> 13.0 | C45: ='1. PQPU'!D640 -> GUARITAS
D46: 0.5 | H46: 0.5 | T46: 0 | X46: 0 | AB46: 0 | AF46: 0 | AJ46: 0 | AN46: 0 | AR46: 0 | AV46: 0
B47: ='1. PQPU'!A656 -> 14.0 | C47: ='1. PQPU'!D656 -> ABRIGOS E CABINE PRIMÁRIA
D48: 0 | H48: 0 | L48: 0.2 | P48: 0.2 | T48: 0.2 | X48: 0.2 | AB48: 0.2 | AF48: 0 | AJ48: 0 | AN48: 0 | AR48: 0 | AV48: 0
B49: ='1. PQPU'!A668 -> 15.0 | C49: ='1. PQPU'!D668 -> INSTALAÇÕES HIDROSSANITÁRIAS
D50: 0 | H50: 0.1 | L50: 0.1 | P50: 0.1 | T50: 0.1 | X50: 0.1 | AB50: 0.1 | AF50: 0.1 | AJ50: 0.1 | AN50: 0.2 | AR50: 0 | AV50: 0
B51: ='1. PQPU'!A830 -> 16.0 | C51: ='1. PQPU'!D830 -> COMBATE A INCÊNDIO
...
