Workbook
Name \c: [1]SID_NI_5!#REF!
Name \p: [1]SID_NI_5!#REF!
Name ______ms299: #REF!
Name ___ms299: #REF!
Name __ms299: #REF!
Name _3: #REF!
Name _ms299: #REF!
Name a: #REF!
Name aco: #REF!
Name adfhdfhsd: [1]SID_NI_5!#REF!
Name AGERGADO0: #REF!
Name AGREGADO: '[3]LISTAS - PLANILHA OCULTA'!$A$2:$A$6
Name AGREGADOS: #REF!
Name agua: #REF!
Name alt: #REF!
Name Área_impressão_IM: #REF!
Name ASCAS: #REF!
Name avenida: #REF!
Name BDI: [4]INVENTÁRIO!$B$3
Name BOLETIM: #REF!
Name CAP: '[3]LISTAS - PLANILHA OCULTA'!$E$2:$E$6
Name CASCALHO_MS_299: #REF!
Name ccc: #REF!
Name comp: #REF!
Name COMPOSIÇÃO: [5]cronograma!#REF!
Name consumo: [6]Inventário!$P$3
Name CONTRATO: [7]APONT!$B$5:$G$426
Name CREONOAOAOAOA: #REF!
Name Cronograma: [8]APONT!$B$5:$G$426
Name custo_energia: [6]Inventário!$V$6
Name custo_energiaB4a: [6]Inventário!$V$7
Name d: #REF!
Name des: #REF!
Name Desma: #REF!
Name dghdfhsdf: [1]SID_NI_5!#REF!
Name DIESEL1: '[3]LISTAS - PLANILHA OCULTA'!$K$2:$K$8
Name drenag: #REF!
Name drenagem: #REF!
Name dsghnfxgvnjxf: #REF!
Name edf: #REF!
Name Eu: #REF!
Name extenção: #REF!
Name ferramenta_eq_mensal: [6]Ref_Materiais_Equipe!$J$41
Name fhdfhsfd: [1]SID_NI_5!#REF!
Name FIRMA: [9]DADOS!$B$12
Name fudeu: [1]SID_NI_5!#REF!
Name GERADOR: #REF!
Name ghgh: #REF!
Name IMPRIMAÇÃO: #REF!
Name jnxcfhnxc: #REF!
Name Kincc: #REF!
Name Koae: #REF!
Name Kp: #REF!
Name Kt: #REF!
Name LOCALE1: [9]DADOS!$B$3
Name mmm: #REF!
Name MMMMM: #REF!
Name nivel_coordOeM: [11]Painel!$C$26
Name oac: #REF!
Name oc: #REF!

Sheet RESUMO
A2: OBRA: | B2: PROJETO EXECUTIVO DE CLIMATIZAÇÃO - AEROPORTO REGIONAL DE CÁCERES CCX - MT
A3: ENDEREÇO: | B3: AEROPORTO REGIONAL DE CÁCERES, CARRAPATINHO , CÁCERES-MT | C3: BDI: | D3: =BDI!E16 -> 0.252
A4: MUNICÍPIO: | B4: CÁCERES/MT | C4: DATA: | D4: 45603
A5: ASSUNTO: | B5: PLANILHA ORÇAMENTÁRIA - PROJETO EXECUTIVO DE CLIMATIZAÇÃO - AEROPORTO REGIONAL DE CÁCERES CCX - MT | C5: Boletim SINAPI / SETEMBRO 2024 (NÃO DESONERADO)
A9: RESUMO DA PLANILHA ORÇAMENTARIA
A11: ITEM | B11: ETAPAS | C11: VALOR | D11: %
A12: =ORÇAMENTO!A11 -> 1.0 | B12: =ORÇAMENTO!C11 -> ADMINISTRAÇÃO LOCAL | C12: =ORÇAMENTO!H13 -> 64760.32 | D12: =100*C12/C$17 -> 56.709405
A13: =ORÇAMENTO!A14 -> 2.0 | B13: =ORÇAMENTO!C14 -> MOBILIZAÇÃO E DESMOBILIZAÇÃO DE PESSOAL | C13: =ORÇAMENTO!H16 -> 858.38 | D13: =100*C13/C$17 -> 0.75166736
A14: =ORÇAMENTO!A17 -> 3.0 | B14: =ORÇAMENTO!C17 -> SERVIÇOS DE ALVENARIA E DREANAGEM - ARES-CONDICIONADOS | C14: =ORÇAMENTO!H22 -> 759.67 | D14: =100*C14/C$17 -> 0.66522886
A15: =ORÇAMENTO!A24 -> 4.0 | B15: =ORÇAMENTO!C24 -> SERVIÇOS DE BAIXA TENSÃO | C15: =ORÇAMENTO!H48 -> 46800.82 | D15: =100*C15/C$17 -> 40.982606
A16: =ORÇAMENTO!A49 -> 5.0 | B16: =ORÇAMENTO!C49 -> SERVIÇOS FINAIS | C16: =ORÇAMENTO!H51 -> 1017.6 | D16: =100*C16/C$17 -> 0.89109335
A17: TOTAL DA OBRA | C17: =SUM(C12:C16) -> 114196.79 | D17: =SUM(D12:D16) -> 100
A19: CÁCERES - MT / 07 DE NOVEMBRO DE 2024
A21: =ORÇAMENTO!A59 -> IMPORTA O VALOR TOTAL DO CONTRATO: CENTO E QUATORZE MIL CENTO E NOVENTA E SEIS REAIS E SETENTA E NOVE CENTAVOS.

Sheet ORÇAMENTO
A1: SECRETARIA DE ESTADO DE INFRAESTRUTURA E LOGÍSTICA - SINFRA
A2: =RESUMO!A2 -> OBRA: | B2: =RESUMO!B2 -> PROJETO EXECUTIVO DE CLIMATIZAÇÃO - AEROPORTO REGIONAL DE CÁCERES CCX - MT
A3: =RESUMO!A3 -> ENDEREÇO: | B3: =RESUMO!B3 -> AEROPORTO REGIONAL DE CÁCERES, CARRAPATINHO , CÁCERES-MT
A4: =RESUMO!A4 -> MUNICÍPIO: | B4: =RESUMO!B4 -> CÁCERES/MT | D4: =RESUMO!C5 -> Boletim SINAPI / SETEMBRO 2024 (NÃO DESONERADO) | G4: =RESUMO!C3 -> BDI: | H4: =BDI!E16 -> 0.252
A5: =RESUMO!A5 -> ASSUNTO: | B5: =RESUMO!B5 -> PLANILHA ORÇAMENTÁRIA - PROJETO EXECUTIVO DE CLIMATIZAÇÃO - AEROPORTO REGIONAL DE CÁCERES CCX - MT | G5: =RESUMO!C4 -> DATA: | H5: =RESUMO!D4 -> 45603
A7: PLANILHA ORÇAMENTÁRIA
A9: ITEM | B9: CÓDIGO /SINAPI | C9: DESCRIÇÃO | D9: UNIDADE | E9: QUANT. CONTRATO | F9: VALOR UNITÁRIO | G9: VALOR UNITÁRIO COM BDI | H9: VALOR TOTAL
A11: 1.0 | C11: ADMINISTRAÇÃO LOCAL
A12: 1.1 | B12: =COMPOSIÇÕES!A150 -> COMP 01 | C12: =COMPOSIÇÕES!D150 -> ADMINISTRAÇÃO LOCAL | D12: UND | E12: 2 | F12: =COMPOSIÇÕES!H164 -> 25862.75 | G12: =TRUNC((F12*(1+$H$6))*(1+$H$4),2) -> 32380.16 | H12: =TRUNC(G12*E12,2) -> 64760.32
A13: SUB-TOTAL | H13: =SUM(H12:H12) -> 64760.32
A14: 2.0 | C14: MOBILIZAÇÃO E DESMOBILIZAÇÃO DE PESSOAL
A15: 2.1 | B15: COMPMOB | C15: MOBILIZAÇÃO E DESMOBILIZAÇÃO DE PESSOAL | D15: UND | E15: 1 | F15: 685.61 | G15: =TRUNC((F15*(1+$H$6))*(1+$H$4),2) -> 858.38 | H15: =TRUNC(G15*E15,2) -> 858.38
