Workbook
Name AreaTeste: #REF!
Name AreaTeste: #REF!
Name AreaTeste: #REF!
Name AreaTeste2: #REF!
Name AreaTeste2: #REF!
Name AreaTeste2: #REF!
Name ART_RRT: #REF!
Name ART_RRT: [1]DADOS!$B$16
Name ART_RRT: [2]DADOS!$B$16
Name ART_RRT: #REF!
Name ART_RRT: #REF!
Name BASE_CPOS_I: #REF!
Name BASE_CPOS_I: [3]REFERÊNCIAS!#REF!
Name BASE_CPOS_I: #REF!
Name BASE_CPOS_I: #REF!
Name BASE_CPOS_SERV: #REF!
Name BASE_CPOS_SERV: [3]REFERÊNCIAS!#REF!
Name BASE_CPOS_SERV: [2]REFERÊNCIAS!$C$10
Name BASE_CPOS_SERV: #REF!
Name BASE_CPOS_SERV: #REF!
Name BASE_EDIF: #REF!
Name BASE_EDIF: [3]REFERÊNCIAS!$C$10
Name BASE_EDIF: [2]REFERÊNCIAS!$C$12
Name BASE_EDIF: #REF!
Name BASE_EDIF: #REF!
Name BASE_EDIF_INFRA: #REF!
Name BASE_EDIF_INFRA: #REF!
Name BASE_EDIF_INFRA: #REF!
Name BASE_EDIF_INFRA: #REF!
Name BASE_SINAPI: #REF!
Name BASE_SINAPI: [3]REFERÊNCIAS!$C$8
Name BASE_SINAPI: [2]REFERÊNCIAS!$C$8
Name BASE_SINAPI: #REF!
Name BASE_SINAPI: #REF!
Name BASE_SINAPI_I: #REF!
Name BASE_SINAPI_I: #REF!
Name BASE_SINAPI_I: #REF!
Name BASE_SINAPI_I: #REF!
Name BASE_TCPO: #REF!
Name BASE_TCPO: [3]REFERÊNCIAS!#REF!
Name BASE_TCPO: [2]REFERÊNCIAS!#REF!
Name BASE_TCPO: #REF!
Name BASE_TCPO: #REF!
Name BDI: #REF!
Name BDI: 'BDI 2'!$K$29
Name BDI: [2]REFERÊNCIAS!$B$4
Name BDI: #REF!
Name BDI: #REF!
Name BOOLEANA: '[1]DADOS E VALIDAÇÕES (ocultar)'!$D$17:$D$19
Name BOOLEANA: '[2]DADOS E VALIDAÇÕES (ocultar)'!$D$17:$D$19
Name BOOLEANA: 'DADOS E VALIDAÇÕES (ocultar)'!$D$17:$D$19
Name BuiltIn_Print_Area: #REF!
Name BuiltIn_Print_Area: #REF!
Name BuiltIn_Print_Area: #REF!
Name BuiltIn_Print_Area: #REF!
Name BuiltIn_Print_Area: #REF!
Name BuiltIn_Print_Area: #REF!
Name BuiltIn_Print_Area___0: #REF!
Name BuiltIn_Print_Area___0: #REF!
Name BuiltIn_Print_Area___0: #REF!

Sheet PLANILHA
D1: PREFEITURA MUNICIPAL DE SÃO CAETANO DO SUL
D2: SECRETARIA DE OBRAS E HABITAÇÃO - SEOHAB
D3: OBRAS PÚBLICAS - DO2
C5: CONTRATAÇÃO DE EMPRESA ESPECIALIZADA PARA EXECUÇÃO DE INSTALAÇÃO ELÉTRICA PROVISÓRIA E SERVIÇOS CORRELATOS NA RUA MARIANO PAMPLONA, PARA REALIZAÇÃO DA 33ª FESTA ITALIANA, NO BAIRRO FUNDAÇÃO, NESTE MUNICÍPIO
C8: PREGÃO ELETRÔNICO 25/2026
I10: BDI 1: | J10: 0.25
B11: ITEM | C11: ORIGEM | D11: CÓD. | E11: DESCRITIVO | F11: UN | G11: QUANT. | H11: VALOR UNIT. | I11: BDI APLICADO | J11: VALOR UNIT. BDI | K11: VALOR TOTAL
B12: 1 | E12: CANTEIRO DE APOIO P/ MONTAGEM E DESMONTAGEM | I12: 3.46% | J12: SUBTOTAL | K12: R$ -
B13: 1.1 | C13: CDHU | D13: 02.01.021 | E13: CONSTRUÇÃO PROVISÓRIA EM MADEIRA - FORNECIMENTO E MONTAGEM | F13: M2 | G13: 20 | I13: BDI 1 | K13: R$ -
B14: 2 | E14: MÃO-DE-OBRA - EQUIPE DE MANUTENÇÃO, APOIO TÉCNICO E DESMONTAGEM | I14: 0.0701 | J14: SUBTOTAL | K14: R$ -
B15: 2.1 | C15: SINAPI | D15: 88264 | E15: ELETRICISTA COM ENCARGOS COMPLEMENTARES | F15: H | G15: 192 | I15: BDI 1 | K15: R$ -
B16: 2.2 | C16: SINAPI | D16: 88247 | E16: AUXILIAR DE ELETRICISTA COM ENCARGOS COMPLEMENTARES | F16: H | G16: 192 | I16: BDI 1 | K16: R$ -
B17: 2.3 | C17: SINAPI | D17: 88252 | E17: AUXILIAR DE SERVIÇOS GERAIS COM ENCARGOS COMPLEMENTARES | F17: H | G17: 192 | I17: BDI 1 | K17: R$ -
B18: 2.4 | C18: CDHU | D18: 02.01.200 | E18: DESMOBILIZAÇÃO DE CONSTRUÇÃO PROVISÓRIA | F18: M2 | G18: 20 | I18: BDI 1 | K18: R$ -
B19: 2.5 | C19: CDHU | D19: 05.07.040 | E19: REMOÇÃO DE ENTULHO SEPARADO DE OBRA COM CAÇAMBA METÁLICA - TERRA, ALVENARIA, CONCRETO, ARGAMASSA, MADEIRA, PAPEL, PLÁSTICO OU METAL | F19: M3 | G19: 18 | I19: BDI 1 | K19: R$ -
B20: 3 | E20: SERVIÇOS TÉCNICOS - CONCESSIONÁRIA | I20: 0.0152 | J20: SUBTOTAL | K20: R$ -
B21: 3.1 | C21: COMPOSIÇÃO | D21: CPU-001 | E21: TRÂMITES E HOMOLOGAÇÃO DE LIGAÇÃO COM CONCESSIONÁRIA | F21: GL | G21: 1 | I21: BDI 1 | K21: R$ -
B22: 4 | E22: SERVIÇOS TÉCNICOS - CBPMESP | I22: 0.0962 | J22: SUBTOTAL | K22: R$
B23: 4.1 | C23: COMPOSIÇÃO | D23: CPU-006 | E23: SERVIÇOS TÉCNICOS PROFISSIONAIS PARA PREVENÇÃO E COMBATE A INCÊNDIO | F23: UNIDADE | G23: 1 | I23: BDI 1 | K23: R$ -
B24: 4.2 | C24: COMPOSIÇÃO | D24: CPU-007 | E24: FORNECIMENTO E INSTALAÇÃO COMPLETA DE LUMINÁRIAS DE EMERGÊNCIA COM 2 FARÓIS LED | F24: UNIDADE | G24: 25 | I24: BDI 1 | K24: R$ -
B25: 4.3 | C25: CDHU | D25: 50.10.110 | E25: EXTINTOR MANUAL DE PÓ QUÍMICO SECO ABC - CAPACIDADE DE 4 KG | F25: UN | G25: 40 | I25: BDI 1 | K25: R$ -
B26: 4.4 | C26: CDHU | D26: 97.02.194 | E26: PLACA DE SINALIZAÇÃO EM PVC FOTOLUMINESCENTE (150X150MM), COM INDICAÇÃO DE EQUIPAMENTOS DE COMBATE À INCÊNDIO E ALARME | F26: UN | G26: 40 | I26: BDI 1 | K26: R$ -
B27: 4.5 | C27: CDHU | D27: 97.02.195 | E27: PLACA DE SINALIZAÇÃO EM PVC FOTOLUMINESCENTE (240X120MM), COM INDICAÇÃO DE ROTA DE EVACUAÇÃO E SAÍDA DE EMERGÊNCIA | F27: UN | G27: 23 | I27: BDI 1 | K27: R$ -
B28: 5 | E28: LIGAÇÕES ELÉTRICAS - BARRACAS | I28: 0.1342 | J28: SUBTOTAL
B29: 5.1 | C29: COMPOSIÇÃO | D29: CPU-002 | E29: INSTALAÇÕES ELÉTRICAS PARA BARRACA TIPO 1 | F29: UNIDADE | G29: 10 | I29: BDI 1 | K29: R$ -
B30: 5.2 | C30: COMPOSIÇÃO | D30: CPU-003 | E30: INSTALAÇÕES ELÉTRICAS PARA BARRACA TIPO 2 | F30: UNIDADE | G30: 25 | I30: BDI 1 | K30: R$ -
B31: 6 | E31: PRAÇA ERMELINO MATARAZZO | I31: 0.182 | J31: SUBTOTAL
B32: 6.1 | C32: COMPOSIÇÃO | D32: CPU-004 | E32: FESTÃO DECORATIVO | F32: UNIDADE | G32: 1 | I32: BDI 1 | K32: R$ -
B33: 6.2 | C33: COMPOSIÇÃO | D33: CPU-005 | E33: ILUMINAÇÃO DECORATIVA DA FACHADA DA IGREJA - FITA LED | F33: M | G33: 300 | I33: BDI 1 | K33: R$ -
B34: 7 | E34: CIRCULAÇÃO - EQUIPAMENTOS E ILUMINAÇÃO | I34: 0.0251 | J34: SUBTOTAL | K34: R$
B35: 7.1 | C35: SIURB-EDIF | D35: 09-009-040 | E35: PROJETOR DE SOBREPOR LED DE 200W IP 65 | F35: UN | G35: 16 | I35: BDI 1 | K35: R$ -
B36: 7.2 | C36: CDHU | D36: 40.05.020 | E36: INTERRUPTOR SIMPLES COM 1 TECLA E PLACA | F36: CJ | G36: 4 | I36: BDI 1 | K36: R$ -
B37: 7.3 | C37: CDHU | D37: 61.15.020 | E37: TOMADA SIMPLES DE SOBREPOR UNIVERSAL 2P+T - 10 A - 250 V | F37: UN | G37: 4 | I37: BDI 1 | K37: R$ -
B38: 7.4 | C38: CDHU | D38: 40.07.010 | E38: CAIXA EM PVC DE 4´ X 2´ | F38: UN | G38: 8 | I38: BDI 1 | K38: R$ -
B39: 7.5 | C39: CDHU | D39: 39.21.030 | E39: CABO DE COBRE FLEXÍVEL DE 4 MM², ISOLAMENTO 0,6/1KV - ISOLAÇÃO HEPR 90°C | F39: M | G39: 942 | I39: BDI 1 | K39: R$ -
B40: 8 | E40: ALIMENTADORES E CONEXÕES | I40: 0.3728 | J40: SUBTOTAL | K40: R$
B41: 8.1 | C41: CDHU | D41: 29.03.010 | E41: CABO EM AÇO GALVANIZADO COM ALMA DE AÇO, DIÂMETRO DE 3/16´ (4,76 MM) | F41: M | G41: 520 | I41: BDI 1 | K41: R$ -
B42: 8.2 | C42: CDHU | D42: 39.21.125 | E42: CABO DE COBRE FLEXÍVEL DE 150 MM², ISOLAMENTO 0,6/1 KV - ISOLAÇÃO HEPR 90°C | F42: M | G42: 60 | I42: BDI 1 | K42: R$ -
B43: 8.3 | C43: CDHU | D43: 39.21.070 | E43: CABO DE COBRE FLEXÍVEL DE 25 MM², ISOLAMENTO 0,6/1KV - ISOLAÇÃO HEPR 90°C | F43: M | G43: 3520 | I43: BDI 1 | K43: R$ -
B44: 8.4 | C44: CDHU | D44: 42.05.190 | E44: HASTE DE ATERRAMENTO DE 3/4´ X 3 M | F44: UN | G44: 1 | I44: BDI 1 | K44: R$ -
...

Sheet MEMÓRIA
D1: PREFEITURA MUNICIPAL DE SÃO CAETANO DO SUL
D2: SECRETARIA DE OBRAS E HABITAÇÃO - SEOHAB
D3: OBRAS PÚBLICAS - DO2
B5: ITEM REFERÊNCIA | D5: DESCRIÇÃO | E5: UNIDADE | H5: CÁLCULO DE MEDIDAS | R5: QUANTIDADE TOTAL
D6: PREMISSAS DA OBRA
D8: DURAÇÃO DA OBRA | F8: meses | J8: EMPOLAMENTO ENTULHO | L8: 0.3 | N8: (critério SIURB)
D9: DMT - ENTULHO | F9: km | J9: EMPOLAMENTO TERRA | L9: 0.25 | N9: (critério SIURB)
D10: DMT - TERRA | F10: km | J10: PESOS ESPECÍFICICOS | N10: =IFERROR(VLOOKUP(L10,'PESO DOS MATERIAIS'!$A$4:$B$53,2,FALSE),"") | P10: KG/M3
B12: =PLANILHA!B13 -> 1.1 | D12: =VLOOKUP($B12,PLANILHA!$B$12:$K$601,4,FALSE) -> CONSTRUÇÃO PROVISÓRIA EM MADEIRA - FORNECIMENTO E MONTAGEM
B13: =PLANILHA!B14 -> 2 | D13: =VLOOKUP($B13,PLANILHA!$B$12:$K$601,4,FALSE) -> MÃO-DE-OBRA - EQUIPE DE MANUTENÇÃO, APOIO TÉCNICO E DESMONTAGEM | E13: =VLOOKUP($B13,PLANILHA!$B$12:$K$601,5,FALSE) -> 0 | P13: QUANTIDADE | Q13: = | R13: =R18 -> 20
L14: COMPRIMENTO | M14: X | N14: ALTURA | O14: X | P14: QUANTIDADE | Q14: = | R14: TOTAL
D16: FECHAMENTO DAS LATERAIS - CANTEIRO | L16: 2.5 | M16: X | N16: 2 | O16: X | P16: 4 | Q16: = | R16: =ROUND(L16*N16*P16,4) -> 20
P18: TOTAL CALCULADO DO ITEM | Q18: = | R18: =SUM(R15:R17) -> 20
B19: =PLANILHA!B15 -> 2.1 | D19: =VLOOKUP($B19,PLANILHA!$B$12:$K$601,4,FALSE) -> ELETRICISTA COM ENCARGOS COMPLEMENTARES
B20: =PLANILHA!B16 -> 2.2 | D20: =VLOOKUP($B20,PLANILHA!$B$12:$K$601,4,FALSE) -> AUXILIAR DE ELETRICISTA COM ENCARGOS COMPLEMENTARES | E20: =VLOOKUP($B20,PLANILHA!$B$12:$K$601,5,FALSE) -> H | P20: QUANTIDADE | Q20: = | R20: =R25 -> 192
J21: FUNCIONÁRIOS | K21: X | L21: HORAS | M21: X | N21: DIAS | O21: X | P21: QUANTIDADE | Q21: = | R21: TOTAL
D23: ACOMPANHAMENTO DO EVENTO | J23: 2 | K23: X | L23: 12 | M23: X | N23: 2 | O23: X | P23: 4 | Q23: = | R23: =ROUND(J23*L23*N23*P23,4) -> 192
P25: TOTAL CALCULADO DO ITEM | Q25: = | R25: =SUM(R22:R24) -> 192
B26: =PLANILHA!B17 -> 2.3 | D26: =VLOOKUP($B26,PLANILHA!$B$12:$K$601,4,FALSE) -> AUXILIAR DE SERVIÇOS GERAIS COM ENCARGOS COMPLEMENTARES | E26: =VLOOKUP($B26,PLANILHA!$B$12:$K$601,5,FALSE) -> H | P26: QUANTIDADE | Q26: = | R26: =R31 -> 192
J27: FUNCIONÁRIOS | K27: X | L27: HORAS | M27: X | N27: DIAS | O27: X | P27: QUANTIDADE | Q27: = | R27: TOTAL
D29: ACOMPANHAMENTO DO EVENTO | J29: 2 | K29: X | L29: 12 | M29: X | N29: 2 | O29: X | P29: 4 | Q29: = | R29: =ROUND(J29*L29*N29*P29,4) -> 192
P31: TOTAL CALCULADO DO ITEM | Q31: = | R31: =SUM(R28:R30) -> 192
B32: =PLANILHA!B18 -> 2.4 | D32: =VLOOKUP($B32,PLANILHA!$B$12:$K$601,4,FALSE) -> DESMOBILIZAÇÃO DE CONSTRUÇÃO PROVISÓRIA | E32: =VLOOKUP($B32,PLANILHA!$B$12:$K$601,5,FALSE) -> M2 | P32: QUANTIDADE | Q32: = | R32: =R37 -> 192
J33: FUNCIONÁRIOS | K33: X | L33: HORAS | M33: X | N33: DIAS | O33: X | P33: QUANTIDADE | Q33: = | R33: TOTAL
D35: ACOMPANHAMENTO DO EVENTO | J35: 2 | K35: X | L35: 12 | M35: X | N35: 2 | O35: X | P35: 4 | Q35: = | R35: =ROUND(J35*L35*N35*P35,4) -> 192
P37: TOTAL CALCULADO DO ITEM | Q37: = | R37: =SUM(R34:R36) -> 192
B38: =PLANILHA!B19 -> 2.5 | D38: =VLOOKUP($B38,PLANILHA!$B$12:$K$601,4,FALSE) -> REMOÇÃO DE ENTULHO SEPARADO DE OBRA COM CAÇAMBA METÁLICA - TERRA, ALVENARIA, CONCRETO, ARGAMASSA, MADEIRA, PAPEL, PLÁSTICO OU METAL | E38: =VLOOKUP($B38,PLANILHA!$B$12:$K$601,5,FALSE) -> M3 | P38: QUANTIDADE | Q38: = | R38: =R43 -> 20
P39: QUANTIDADE | Q39: = | R39: TOTAL
D41: SERVIÇO CORRELATO AO ITEM | E41: =B13 -> 2 | P41: =R18 -> 20 | Q41: = | R41: =P41 -> 20
P43: TOTAL CALCULADO DO ITEM | Q43: = | R43: =SUM(R40:R42) -> 20
B44: =PLANILHA!B20 -> 3 | D44: =VLOOKUP($B44,PLANILHA!$B$12:$K$601,4,FALSE) -> SERVIÇOS TÉCNICOS - CONCESSIONÁRIA | E44: =VLOOKUP($B44,PLANILHA!$B$12:$K$601,5,FALSE) -> 0 | P44: QUANTIDADE | Q44: = | R44: =R49 -> 18
L45: CAÇAMBAS | M45: X | N45: VOLUME | O45: X | P45: QUANTIDADE | Q45: = | R45: TOTAL
D47: REMOÇÃO DOS ITENS | E47: =B13 -> 2 | L47: 3 | M47: X | N47: 6 | O47: X | P47: 1 | Q47: = | R47: =ROUND(L47*N47*P47,4) -> 18
P49: TOTAL CALCULADO DO ITEM | Q49: = | R49: =SUM(R46:R48) -> 18
B50: =PLANILHA!B21 -> 3.1 | D50: =VLOOKUP($B50,PLANILHA!$B$12:$K$601,4,FALSE) -> TRÂMITES E HOMOLOGAÇÃO DE LIGAÇÃO COM CONCESSIONÁRIA
B51: =PLANILHA!B22 -> 4 | D51: =VLOOKUP($B51,PLANILHA!$B$12:$K$601,4,FALSE) -> SERVIÇOS TÉCNICOS - CBPMESP | E51: =VLOOKUP($B51,PLANILHA!$B$12:$K$601,5,FALSE) -> 0 | P51: QUANTIDADE | Q51: = | R51: =R56 -> 1
P52: QUANTIDADE | Q52: = | R52: TOTAL
D54: HOMOLOGAÇÃO DA ENTRADA DE ENERGIA PROVISÓRIA | P54: 1 | Q54: = | R54: =P54 -> 1
P56: TOTAL CALCULADO DO ITEM | Q56: = | R56: =SUM(R53:R55) -> 1
B57: =PLANILHA!B23 -> 4.1 | D57: =VLOOKUP($B57,PLANILHA!$B$12:$K$601,4,FALSE) -> SERVIÇOS TÉCNICOS PROFISSIONAIS PARA PREVENÇÃO E COMBATE A INCÊNDIO
...

Sheet COTAÇÃO OLD
D1: PREFEITURA MUNICIPAL DE SÃO CAETANO DO SUL
D2: SECRETARIA DE OBRAS E HABITAÇÃO
D3: DEPARTAMENTO DE OBRAS - SEOHAB-DO
B5: QUADRO DE COTAÇÕES
B8: CÓDIGO | D8: DESCRIÇÃO DO SERVIÇO OU FORNECIMENTO | E8: UNIDADE | F8: DATA BASE | H8: PREÇO REFERENCIAL | I8: =I10 -> 14.47
B9: COT-001 | D9: FITA DE LED RGB | E9: M | F9: 46174
B10: =SUBTOTAL(3,D14:D17,I21:I23,I39:I41) -> 6 | C10: RESULTADOS | E10: VALORES | F10: MEDIANA | G10: =IFERROR(MEDIAN(I12:I14,I21:I23,I39:I41),0) -> 14.47 | H10: MÉDIA | I10: =IFERROR(MEDIAN(I12:I14,I21:I23,I39:I41),0) -> 14.47
B12: I | C12: CONSULTA DIRETA A EMPRESAS E FORNECEDORES | F12: MEDIANA | G12: =IFERROR(MEDIAN(I14:I16),0) -> 0 | H12: MÉDIA | I12: =IFERROR(AVERAGE(I14:I16),0) -> 0
C13: CNPJ | D13: NOME DA EMPRESA FORNECEDORA | E13: DATA COTAÇÃO | F13: UNIDADE | G13: UNIDADE | H13: PREÇO COTADO | I13: VALOR/M
B17: ESPECIFICAÇÃO TÉCNICA:
B19: II | C19: CONTRATAÇÕES PÚBLICAS SEMELHANTES | F19: MEDIANA | G19: =IFERROR(MEDIAN(I21:I24),0) -> 16.01 | H19: MÉDIA | I19: =IFERROR(AVERAGE(I21:I24),0) -> 15.846667
C20: ÓRGÃO | D20: DESCRIÇÃO DO ITEM NO CERTAME | E20: DATA | F20: UNIDADE | G20: QUANTIDADE | H20: VALOR UNITÁRIO HOMOLOGADO REAJUSTADO | I20: VALOR/M
C21: MUNICÍPIO DE COLORADO DO OESTE - RO | D21: MANGUEIRA/FITA LED NEON FLEXÍVEL, COM FORNECIMENTO DO CABO DE FORÇA/FONTE RETIFICADORA E ACESSÓRIOS DE VEDAÇÃO. COMPRIMENTO TOTAL MÍNIMO DE 30 METROS. COR DA LUZ: BRANCO QUENTE (OBRIGATORIAMENTE ENTRE 2700K E 3000K). DENSIDADE DE 120 LEDS/METRO NO MÍNIMO, PARA ILUMINAÇÃO CONTÍNUA. ESPESSURA/PERFIL TIPO NEON DE, NO MÍNIMO, 14MM. GRAU DE PROTEÇÃO MÍNIMO IP65 (PARA USO EXTERNO). VOLTAGEM: 220V | E21: 45982 | F21: UNIDADE ROLO 30M | G21: 12 | H21: =I33 -> 480.2 | I21: =ROUND(H21/30,2) -> 16.01
C22: MUNICÍPIO DE IPORÃ - PR | D22: AQUISIÇÃO de 30 mts de fita de led neon vermelho 220v para contorno em 01 trenó (já existente). | E22: 45975 | F22: UNIDADE ROLO 30M | G22: 1 | H22: =I34 -> 511.77 | I22: =ROUND(H22/30,2) -> 17.06
C23: MUNICÍPIO DE SÃO VICENTE DO SUL - RS | D23: Fita de LED Neon RGB à prova d’água, com comprimento total de 30 metros, tecnologia RGB, controle via Bluetooth e grau de proteção IP65 | E23: 46169 | F23: UNIDADE ROLO 30M | G23: 35 | H23: =I35 -> 434 | I23: =ROUND(H23/30,2) -> 14.47
B24: ESPECIFICAÇÃO TÉCNICA: | D24: FORAM IDENTIFICADOS PROCESSOS DE COMPRA REFERENTE À ROLOS DE 30M. CONSIDERANDO QUE A APLICAÇÃO DEVERÁ SUBMETER MAIORES COMPRIMENTOS, REALIZOU-SE AFERIÇÃO E COMPARATIVO REFERENTES AO VALOR UNITÁRIO POR M PARA COMPATIBILIZAÇÃO COM COMPOSIÇÃO PARA EXECUÇÃO NO LOCAL ESPECIFICADO.
C26: REAJUSTE DE DATA BASE - CONTRATAÇÕES PÚBLICAS SEMELHANTES
H28: IBGE ABR/26 | I28: 1024.95
H29: IBGE NOV/25 | I29: 1003.2
H30: ÍNDICE | I30: =ROUND(I28/I29,4) -> 1.0217
C32: CERTAME | D32: ÓRGÃO | E32: DATA | F32: VALOR UNITÁRIO HOMOLOGADO | G32: QUANTIDADE | H32: ÍNDICE DE REAJUSTE | I32: VALOR REAJUSTADO
C33: DISPENSA ELETRÔNICA 61/2025 | D33: MUNICÍPIO DE COLORADO DO OESTE - RO | E33: 45982 | F33: 470 | G33: 12 | H33: =I30 -> 1.0217 | I33: =ROUND(F33*H33,2) -> 480.2
C34: PREGÃO 92/2025 | D34: MUNICÍPIO DE IPORÃ - PR | E34: 45975 | F34: 500.9 | G34: 1 | H34: =I30 -> 1.0217 | I34: =ROUND(F34*H34,2) -> 511.77
C35: MUNICÍPIO DE SÃO VICENTE DO SUL - RS | D35: MUNICÍPIO DE SÃO VICENTE DO SUL - RS | E35: 46169 | F35: 434 | G35: 35 | H35: 1 | I35: =ROUND(F35*H35,2) -> 434
B37: III | C37: SITES DE AMPLO DOMÍNIO E TABELAS DE REFERÊNCIA | F37: MEDIANA | G37: =IFERROR(MEDIAN(I39:I41),0) -> 11.63 | H37: MÉDIA | I37: =IFERROR(AVERAGE(I39:I41),0) -> 12.533333
C38: CNPJ | D38: NOME DA EMPRESA FORNECEDORA | E38: DATA COTAÇÃO | F38: UNIDADE | G38: UNIDADE | H38: PREÇO COTADO | I38: VALOR/M
C39: 25.256.864/0001-08 | D39: LUMLED ESPECIALIZADA | E39: 46181 | F39: ROLO 30M | G39: 30 | H39: 434 | I39: =ROUND(H39/G39,2) -> 14.47
C40: 15.436.940/0001-03 | D40: AMAZON | E40: 46181 | F40: ROLO 30M | G40: 30 | H40: 349 | I40: =ROUND(H40/G40,2) -> 11.63
C41: 03.007.331/0001-41 | D41: MERCADO LIVRE | E41: 46181 | F41: ROLO 30M | G41: 30 | H41: 345 | I41: =ROUND(H41/G41,2) -> 11.5
B42: ESPECIFICAÇÃO TÉCNICA: | D42: Vide anexo com as cotações de mercado
B44: RELATÓRIO ELABORADO PARA ATENDIMENTO AO ART. 23 DA LEI 14.133/2021 CONFORME EXTRATO ABAIXO: "Art. 23. O valor previamente estimado da contratação deverá ser compatível com os valores praticados pelo mercado, considerados os preços constantes de bancos de dados públicos e as quantidades a serem contratadas, observadas a potencial economia de escala e as peculiaridades do local de execução do objeto. § 1º No processo licitatório para aquisição de bens e contratação de serviços em geral, conforme regulamento, o valor estimado será definido com base no melhor preço aferido por meio da utilização dos seguintes parâmetros, adotados de forma combinada ou não: I - composição de custos unitários menores ou iguais à mediana do item correspondente no painel para consulta de preços ou no banco de preços em saúde disponíveis no Portal Nacional de Contratações Públicas (PNCP); II - contratações similares feitas pela Administração Pública, em execução ou concluídas no período de 1 (um) ano anterior à data da pesquisa de preços, inclusive mediante sistema de registro de preços, observado o índice de atualização de preços correspondente; III - utilização de dados de pesquisa publicada em mídia especializada, de tabela de referência formalmente aprovada pelo Poder Executivo federal e de sítios eletrônicos especializados ou de domínio amplo, desde que contenham a data e hora de acesso; IV - pesquisa direta com no mínimo 3 (três) fornecedores, mediante solicitação formal de cotação, desde que seja apresentada justificativa da escolha desses fornecedores e que não tenham sido obtidos os orçamentos com mais de 6 (seis) meses de antecedência da data de divulgação do edital; V - pesquisa na base nacional de notas fiscais eletrônicas, na forma de regulamento."

Sheet IBGE
A1: Indicadores Econômicos, obtidos do
A2: Sistema Nacional de Pesquisa de Custos e Índices da Construção Civil - SINAPI
A3: Brasil
A4: Números Índices Não considerando Desoneração da Folha de Pagamento
A5: Material-Mão de Obra
A6: ANOS/MESES | B6: Brasil
A7: 1986
A8: março | B8: 3.3e-07
A9: abril | B9: 3.3e-07
A10: maio | B10: 3.4e-07
A11: junho | B11: 3.4e-07
A12: julho | B12: 3.5e-07
A13: agosto | B13: 3.6e-07
A14: setembro | B14: 3.7e-07
A15: outubro | B15: 4e-07
A16: novembro | B16: 4.2e-07
A17: dezembro | B17: 4.5e-07
A18: 1987
A19: janeiro | B19: 5.6e-07
A20: fevereiro | B20: 6.7e-07
A21: março | B21: 8.5e-07
A22: abril | B22: 9.6e-07
A23: maio | B23: 1.15e-06
A24: junho | B24: 1.31e-06
A25: julho | B25: 1.36e-06
A26: agosto | B26: 1.38e-06
A27: setembro | B27: 1.48e-06
A28: outubro | B28: 1.59e-06
A29: novembro | B29: 1.8e-06
A30: dezembro | B30: 2.04e-06
A31: 1988
A32: janeiro | B32: 2.42e-06
A33: fevereiro | B33: 2.8e-06
A34: março | B34: 3.37e-06
A35: abril | B35: 3.92e-06
A36: maio | B36: 4.66e-06
A37: junho | B37: 5.65e-06
A38: julho | B38: 6.78e-06
A39: agosto | B39: 8.42e-06
A40: setembro | B40: 1.054e-05
...

Sheet BDI 2
C1: PREFEITURA MUNICIPAL DE SÃO CAETANO DO SUL
C2: SECRETARIA DE OBRAS E HABITAÇÃO
C3: DEPARTAMENTO DE OBRAS - SEOHAB-DO
B5: QUADRO DE COMPOSIÇÃO DO BDI 2
B7: OBRA: | C7: =PLANILHA!C5 -> CONTRATAÇÃO DE EMPRESA ESPECIALIZADA PARA EXECUÇÃO DE INSTALAÇÃO ELÉTRICA PROVISÓRIA E SERVIÇOS CORRELATOS NA RUA MARIANO PAMPLONA, PARA REALIZAÇÃO DA 33ª FESTA ITALIANA, NO BAIRRO FUNDAÇÃO, NESTE MUNICÍPIO
B8: LOCAL: | C8: =PLANILHA!C7 -> 0 | K8: =PLANILHA!K5 -> 0
B10: Conforme legislação tributária municipal, definir estimativa de percentual da base de cálculo para o ISS: | J10: 1
B11: Sobre a base de cálculo, definir a respectiva alíquota do ISS (entre 2% e 5%): | J11: 0.05
B14: BDI 1
B16: TIPO DE OBRA
B17: CONSTRUÇÃO E REFORMA DE EDIFÍCIOS
N18: =N39 -> CONSTRUÇÃO E REFORMA DE EDIFÍCIOS | R18: =N40 -> CONSTRUÇÃO DE PRAÇAS URBANAS, RODOVIAS, FERROVIAS E RECAPEAMENTO E PAVIMENTAÇÃO DE VIAS URBANAS | V18: =N41 -> CONSTRUÇÃO DE REDES DE ABASTECIMENTO DE ÁGUA, COLETA DE ESGOTO | Z18: =N44 -> FORNECIMENTO DE MATERIAIS E EQUIPAMENTOS (AQUISIÇÃO INDIRETA - EM CONJUNTO COM LICITAÇÃO DE OBRAS) | AD18: =N45 -> FORNECIMENTO DE MATERIAIS E EQUIPAMENTOS (AQUISIÇÃO DIRETA) | AH18: =N46 -> ESTUDOS E PROJETOS, PLANOS E GERENCIAMENTO E OUTROS CORRELATOS
B19: Itens | J19: Siglas | K19: % Adotado | N19: 1º Quartil | O19: Médio | P19: 3º Quartil | R19: 1º Quartil | S19: Médio | T19: 3º Quartil | V19: 1º Quartil | W19: Médio | X19: 3º Quartil | Z19: 1º Quartil | AA19: Médio | AB19: 3º Quartil | AD19: 1º Quartil | AE19: Médio | AF19: 3º Quartil | AH19: 1º Quartil | AI19: Médio | AJ19: 3º Quartil
B21: Administração Central | J21: AC | K21: =Z21 -> 0.015 | N21: 0.03 | O21: 0.04 | P21: 0.055 | R21: 0.038 | S21: 0.0401 | T21: 0.0467 | V21: 0.0343 | W21: 0.0493 | X21: 0.0671 | Z21: 0.015 | AA21: 0.0345 | AB21: 0.0449 | AD21: - | AE21: - | AF21: - | AH21: - | AI21: 0.1272 | AJ21: -
B22: Seguro e Garantia | J22: SG | K22: =Z22 -> 0.003 | N22: 0.008 | O22: 0.008 | P22: 0.01 | R22: 0.0032 | S22: 0.004 | T22: 0.0074 | V22: 0.0028 | W22: 0.0049 | X22: 0.0075 | Z22: 0.003 | AA22: 0.0048 | AB22: 0.0082 | AD22: - | AE22: - | AF22: - | AH22: - | AI22: - | AJ22: -
B23: Risco | J23: R | K23: =Z23 -> 0.0056 | N23: 0.0097 | O23: 0.0127 | P23: 0.0127 | R23: 0.005 | S23: 0.0056 | T23: 0.0097 | V23: 0.01 | W23: 0.0139 | X23: 0.0174 | Z23: 0.0056 | AA23: 0.0085 | AB23: 0.0089 | AD23: - | AE23: - | AF23: - | AH23: - | AI23: - | AJ23: -
B24: Despesas Financeiras | J24: DF | K24: =Z24 -> 0.0085 | N24: 0.0059 | O24: 0.0123 | P24: 0.0139 | R24: 0.0102 | S24: 0.0111 | T24: 0.0121 | V24: 0.0094 | W24: 0.0099 | X24: 0.0117 | Z24: 0.0085 | AA24: 0.0085 | AB24: 0.0111 | AD24: - | AE24: - | AF24: - | AH24: - | AI24: - | AJ24: -
B25: Lucro | J25: L | K25: 0.0336 | N25: 0.0616 | O25: 0.074 | P25: 0.0896 | R25: 0.0664 | S25: 0.073 | T25: 0.0869 | V25: 0.0674 | W25: 0.0804 | X25: 0.094 | Z25: 0.035 | AA25: 0.0511 | AB25: 0.0622 | AD25: - | AE25: - | AF25: - | AH25: - | AI25: 0.08 | AJ25: -
B26: Tributos (impostos COFINS 3%, e PIS 0,65%) | J26: CP | K26: =Z26 -> 0.0365 | N26: 0.0365 | O26: 0.0365 | P26: 0.0365 | R26: 0.0365 | S26: 0.0365 | T26: 0.0365 | V26: 0.0365 | W26: 0.0365 | X26: 0.0365 | Z26: 0.0365 | AA26: 0.0365 | AB26: 0.0365 | AD26: 0.0365 | AE26: 0.0365 | AF26: 0.0365 | AH26: 0.0365 | AI26: 0.0365 | AJ26: 0.0365
B27: Tributos (ISS, variável de acordo com o município) | J27: ISS | K27: =J10*J11 -> 0.05 | N27: 0 | O27: 0.025 | P27: 0.05 | R27: 0 | S27: 0.025 | T27: 0.05 | V27: 0 | W27: 0.025 | X27: 0.05 | Z27: 0 | AA27: 0.025 | AB27: 0.05 | AD27: 0 | AE27: 0.025 | AF27: 0.05 | AH27: 0 | AI27: 0.05 | AJ27: 0.05
B28: Tributos (Contribuição Previdenciária sobre a Receita Bruta - 0% ou 4,5% - Desoneração) | J28: CPRB | K28: =IF(K8="DESONERADO",4.5%,0%) -> 0 | N28: 0 | O28: 0.045 | P28: 0.045 | R28: 0 | S28: 0.045 | T28: 0.045 | V28: 0 | W28: 0.045 | X28: 0.045 | Z28: 0 | AA28: 0.045 | AB28: 0.045 | AD28: 0 | AE28: 0.045 | AF28: 0.045 | AH28: 0 | AI28: 0 | AJ28: 0.045
B29: BDI SEM desoneração | J29: BDI PAD | K29: =ROUND(((((1+$K$21+$K$22+$K$23)*(1+$K$24)*(1+$K$25))/(1-$K$26-$K$27-$K$28))-1),4) -> 0.168 | N29: 0.2034 | O29: 0.2212 | P29: 0.25 | R29: 0.196 | S29: 0.2097 | T29: 0.2423 | V29: 0.2076 | W29: 0.2418 | X29: 0.2644 | Z29: 0.111 | AA29: 0.1402 | AB29: 0.168 | AD29: 0 | AE29: 0 | AF29: 0 | AH29: 0 | AI29: 0 | AJ29: 0
B33: Os valores de BDI foram calculados com o emprego da fórmula:
E34: BDI = | F34: (1+AC + S + R + G)*(1 + DF)*(1+L) | I34: - 1
F35: (1-CP-ISS-CRPB)
B38: Declaro para os devidos fins que o regime de Contribuição Previdenciária sobre a Receita Bruta adotado para elaboração do orçamento foi SEM Desoneração, e que esta é a alternativa mais adequada para a Administração Pública. | N38: Tipo da Obra
N39: =UPPER(Z39) -> CONSTRUÇÃO E REFORMA DE EDIFÍCIOS | Z39: Construção e Reforma de Edifícios
B40: Observações: | N40: =UPPER(Z40) -> CONSTRUÇÃO DE PRAÇAS URBANAS, RODOVIAS, FERROVIAS E RECAPEAMENTO E PAVIMENTAÇÃO DE VIAS URBANAS | Z40: Construção de Praças Urbanas, Rodovias, Ferrovias e recapeamento e pavimentação de vias urbanas
N41: =UPPER(Z41) -> CONSTRUÇÃO DE REDES DE ABASTECIMENTO DE ÁGUA, COLETA DE ESGOTO | Z41: Construção de Redes de Abastecimento de Água, Coleta de Esgoto
N42: =UPPER(Z42) -> CONSTRUÇÃO E MANUTENÇÃO DE ESTAÇÕES E REDES DE DISTRIBUIÇÃO DE ENERGIA ELÉTRICA | Z42: Construção e Manutenção de Estações e Redes de Distribuição de Energia Elétrica
B43: São Caetano do Sul | H43: =TODAY() -> 46190 | N43: =UPPER(Z43) -> OBRAS PORTUÁRIAS, MARÍTIMAS E FLUVIAIS | Z43: Obras Portuárias, Marítimas e Fluviais
B44: Local | H44: Data | N44: =UPPER(Z44) -> FORNECIMENTO DE MATERIAIS E EQUIPAMENTOS (AQUISIÇÃO INDIRETA - EM CONJUNTO COM LICITAÇÃO DE OBRAS) | Z44: Fornecimento de Materiais e Equipamentos (aquisição indireta - em conjunto com licitação de obras)
N45: =UPPER(Z45) -> FORNECIMENTO DE MATERIAIS E EQUIPAMENTOS (AQUISIÇÃO DIRETA) | Z45: Fornecimento de Materiais e Equipamentos (aquisição direta)
N46: ESTUDOS E PROJETOS, PLANOS E GERENCIAMENTO E OUTROS CORRELATOS
N47: Declaro para os devidos fins que o regime de Contribuição Previdenciária sobre a Receita Bruta adotado para elaboração do orçamento foi COM Desoneração, e que esta é a alternativa mais adequada para a Administração Pública.
N49: Declaro para os devidos fins que o regime de Contribuição Previdenciária sobre a Receita Bruta adotado para elaboração do orçamento foi SEM Desoneração, e que esta é a alternativa mais adequada para a Administração Pública.

Sheet PESO DOS MATERIAIS
A1: Fonte: PCRJ SCO-Sistema de Custos de Obras e Serviços de Engenharia FGV
A3: MATERIAL | B3: KG/M3
A4: AREIA SECA | B4: 1600
A5: AREIA ÚMIDA | B5: 2300
A6: AREIA FINA SECA | B6: 1500
A7: AREIA GROSSA SECA | B7: 1800
A8: ARGILA SECA | B8: 1800
A9: ARGILA ÚMIDA | B9: 2100
A10: CAL HIDRATADA | B10: 1800
A11: CAL HIDRÁULICA | B11: 700
A12: CAL EM PÓ | B12: 1000
A13: CAL VIRGEM | B13: 1600
A14: CIMENTO A GRANEL | B14: 1600
A15: CIMENTO EM SACOS | B15: 1200
... A53: ZINCO | B53: 7200

Sheet SINAPII
A1: SINAPI - Sistema Nacional de Pesquisa de Custos e Índices da Construção Civil
A2: RELATÓRIO DE PREÇOS DE INSUMOS - ENCARGOS SOCIAIS SEM DESONERAÇÃO
A3: Mês de Referência: | B3: 04/2026 | E3: Encargos sociais sobre a mão de obra:
A4: Data de emissão: | B4: 12/05/2026 | E4: (SEM DESONERAÇÃO) | F4: AC | G4: AL | H4: AM | I4: AP | J4: BA | K4: CE | L4: DF | M4: ES | N4: GO | O4: MA | P4: MG | Q4: MS | R4: MT | S4: PA | T4: PB | U4: PE | V4: PI | W4: PR | X4: RJ | Y4: RN | Z4: RO | AA4: RR | AB4: RS | AC4: SC | AD4: SE | AE4: SP | AF4: TO
E5: Localidade | F5: RIO BRANCO | G5: MACEIO | H5: MANAUS | I5: MACAPA | J5: SALVADOR | K5: FORTALEZA | L5: BRASILIA | M5: VITORIA | N5: GOIANIA | O5: SAO LUIS | P5: BELO HORIZONTE | Q5: CAMPO GRANDE | R5: CUIABA | S5: BELEM | T5: JOAO PESSOA | U5: RECIFE | V5: TERESINA | W5: CURITIBA | X5: RIO DE JANEIRO | Y5: NATAL | Z5: PORTO VELHO | AA5: BOA VISTA | AB5: PORTO ALEGRE | AC5: FLORIANOPOLIS | AD5: ARACAJU | AE5: SAO PAULO | AF5: PALMAS
A6: Origem de preço: | B6: C = COLETADO | C6: CR = COEFICIENTE DE REPRESENTATIVIDADE | E6: Horista | F6: 1.1261 | G6: 1.1612 | H6: 1.1416 | I6: 1.1518 | J6: 1.1773 | K6: 1.1561 | L6: 1.1008 | M6: 1.183 | N6: 1.0772 | O6: 1.1411 | P6: 1.1623 | Q6: 1.1571 | R6: 1.0533 | S6: 1.1942 | T6: 1.1819 | U6: 1.1463 | V6: 1.1378 | W6: 1.1628 | X6: 1.1249 | Y6: 1.1683 | Z6: 1.1571 | AA6: 1.1479 | AB6: 1.1195 | AC6: 1.1447 | AD6: 1.1151 | AE6: 1.1501 | AF6: 1.1523
A7: Preço em branco para determinado estado significa que não houve coleta mínima de preços no mês de referência | E7: Mensalista | F7: 0.6903 | G7: 0.7125 | H7: 0.708 | I7: 0.7006 | J7: 0.7285 | K7: 0.7246 | L7: 0.6994 | M7: 0.7385 | N7: 0.6928 | O7: 0.713 | P7: 0.7383 | Q7: 0.7157 | R7: 0.6783 | S7: 0.727 | T7: 0.7266 | U7: 0.7067 | V7: 0.7159 | W7: 0.7242 | X7: 0.6966 | Y7: 0.7229 | Z7: 0.7065 | AA7: 0.7035 | AB7: 0.6929 | AC7: 0.7103 | AD7: 0.6972 | AE7: 0.7118 | AF7: 0.7198
A9: Acessar Fichas de Especificação Técnico dos Insumos | E9: Preços Medianos (R$):
A10: Classificação | B10: Código do Insumo | C10: Descrição do Insumo | D10: Unidade | E10: Origem de Preço | F10: AC | G10: AL | H10: AM | I10: AP | J10: BA | K10: CE | L10: DF | M10: ES | N10: GO | O10: MA | P10: MG | Q10: MS | R10: MT | S10: PA | T10: PB | U10: PE | V10: PI | W10: PR | X10: RJ | Y10: RN | Z10: RO | AA10: RR | AB10: RS | AC10: SC | AD10: SE | AE10: SP | AF10: TO
A11: SERVIÇOS | B11: 45333 | C11: ABERTURA PARA ENCAIXE DE CUBA OU LAVATORIO EM BANCADA DE MARMORE/ GRANITO OU OUTRO TIPO DE PEDRA NATURAL | D11: UN | E11: CR | F11: 302.08 | G11: 195.46 | H11: 209.68 | I11: 190.49 | J11: 122.61 | L11: 142.15 | M11: 72.85 | N11: 173.84 | O11: 258.65 | P11: 116.56 | Q11: 190.13 | R11: 156.37 | S11: 177.69 | T11: 152.03 | U11: 199.02 | V11: 189.99 | W11: 151.04 | X11: 159.75 | Z11: 231 | AA11: 159.92 | AB11: 217.5 | AC11: 231 | AD11: 126.36 | AE11: 201.57
A12: MATERIAL | B12: 11270 | C12: ABRACADEIRA DE LATAO PARA FIXACAO DE CABO PARA-RAIO, DIMENSOES 32 X 24 X 24 MM | D12: UN | E12: CR | F12: 2.52 | G12: 2.49 | H12: 2.4 | I12: 3.48 | J12: 2.6 | K12: 3.6 | M12: 2.4 | N12: 2.52 | P12: 3 | Q12: 2.91 | R12: 2.58 | S12: 3.48 | U12: 4.05 | W12: 2.4 | X12: 3.02 | Y12: 2.8 | Z12: 2.82 | AC12: 3.15 | AE12: 2.4 | AF12: 2.52
A13: MATERIAL | B13: 412 | C13: ABRACADEIRA DE NYLON PARA AMARRACAO DE CABOS, COMPRIMENTO DE *230* X *7,6* MM | D13: UN | E13: CR | F13: 1.18 | G13: 0.77 | H13: 1.18 | I13: 1.02 | J13: 0.92 | K13: 0.87 | L13: 1.13 | M13: 1.38 | N13: 0.82 | O13: 1.02 | P13: 0.92 | Q13: 1.54 | R13: 1.13 | S13: 1.38 | T13: 0.92 | U13: 1.28 | V13: 1.28 | W13: 1.08 | X13: 0.92 | Y13: 0.97 | Z13: 1.02 | AB13: 1.13 | AC13: 1.02 | AD13: 0.82 | AE13: 1.13 | AF13: 0.97
A14: MATERIAL | B14: 414 | C14: ABRACADEIRA DE NYLON PARA AMARRACAO DE CABOS, COMPRIMENTO DE 100 X 2,5 MM | D14: UN | E14: CR | F14: 0.07 | G14: 0.04 | H14: 0.07 | I14: 0.06 | J14: 0.05 | K14: 0.05 | L14: 0.07 | M14: 0.08 | N14: 0.05 | O14: 0.06 | P14: 0.05 | Q14: 0.09 | R14: 0.07 | S14: 0.08 | T14: 0.05 | U14: 0.08 | V14: 0.08 | W14: 0.06 | X14: 0.05 | Y14: 0.06 | Z14: 0.06 | AB14: 0.07 | AC14: 0.06 | AD14: 0.05 | AE14: 0.07 | AF14: 0.06
A15: MATERIAL | B15: 410 | C15: ABRACADEIRA DE NYLON PARA AMARRACAO DE CABOS, COMPRIMENTO DE 150 X *3,6* MM | D15: UN | E15: CR | F15: 0.18 | G15: 0.11 | H15: 0.18 | I15: 0.15 | J15: 0.14 | K15: 0.13 | L15: 0.17 | M15: 0.21 | N15: 0.12 | O15: 0.15 | P15: 0.14 | Q15: 0.23 | R15: 0.17 | S15: 0.21 | T15: 0.14 | U15: 0.19 | V15: 0.19 | W15: 0.16 | X15: 0.14 | Y15: 0.15 | Z15: 0.15 | AB15: 0.17 | AC15: 0.15 | AD15: 0.12 | AE15: 0.17 | AF15: 0.15
A16: MATERIAL | B16: 411 | C16: ABRACADEIRA DE NYLON PARA AMARRACAO DE CABOS, COMPRIMENTO DE 200 X *4,6* MM | D16: UN | E16: C | F16: 0.23 | G16: 0.15 | H16: 0.23 | I16: 0.2 | J16: 0.18 | K16: 0.17 | L16: 0.22 | M16: 0.27 | N16: 0.16 | O16: 0.2 | P16: 0.18 | Q16: 0.3 | R16: 0.22 | S16: 0.27 | T16: 0.18 | U16: 0.25 | V16: 0.25 | W16: 0.21 | X16: 0.18 | Y16: 0.19 | Z16: 0.2 | AB16: 0.22 | AC16: 0.2 | AD16: 0.16 | AE16: 0.22 | AF16: 0.19
A17: MATERIAL | B17: 408 | C17: ABRACADEIRA DE NYLON PARA AMARRACAO DE CABOS, COMPRIMENTO DE 390 X *4,6* MM | D17: UN | E17: CR | F17: 1.14 | G17: 0.74 | H17: 1.14 | I17: 0.99 | J17: 0.89 | K17: 0.84 | L17: 1.09 | M17: 1.34 | N17: 0.79 | O17: 0.99 | P17: 0.89 | Q17: 1.48 | R17: 1.09 | S17: 1.34 | T17: 0.89 | U17: 1.24 | V17: 1.24 | W17: 1.04 | X17: 0.89 | Y17: 0.94 | Z17: 0.99 | AB17: 1.09 | AC17: 0.99 | AD17: 0.79 | AE17: 1.09 | AF17: 0.94
A18: MATERIAL | B18: 39131 | C18: ABRACADEIRA EM ACO PARA AMARRACAO DE ELETRODUTOS, TIPO D, COM 1 1/2" E CUNHA DE FIXACAO | D18: UN | E18: CR | F18: 4.81 | G18: 3.71 | H18: 5.95 | I18: 7.33 | J18: 3.93 | K18: 7.69 | L18: 3.89 | M18: 3.59 | N18: 3.13 | O18: 5.85 | P18: 3.35 | Q18: 6.63 | R18: 4.25 | S18: 3.65 | T18: 4.25 | U18: 5.1 | V18: 5.44 | W18: 4.76 | X18: 4.34 | Y18: 5.05 | Z18: 6.12 | AA18: 5.27 | AB18: 3.86 | AC18: 2.12 | AD18: 2.89 | AE18: 2.96 | AF18: 4.83
A19: MATERIAL | B19: 394 | C19: ABRACADEIRA EM ACO PARA AMARRACAO DE ELETRODUTOS, TIPO D, COM 1 1/2" E PARAFUSO DE FIXACAO | D19: UN | E19: CR | F19: 4.87 | G19: 3.75 | H19: 6.03 | I19: 7.42 | J19: 3.98 | K19: 7.78 | L19: 3.94 | M19: 3.63 | N19: 3.17 | O19: 5.92 | P19: 3.39 | Q19: 6.72 | R19: 4.3 | S19: 3.7 | T19: 4.3 | U19: 5.17 | V19: 5.51 | W19: 4.82 | X19: 4.39 | Y19: 5.11 | Z19: 6.2 | AA19: 5.34 | AB19: 3.91 | AC19: 2.15 | AD19: 2.92 | AE19: 2.99 | AF19: 4.89
A20: MATERIAL | B20: 39130 | C20: ABRACADEIRA EM ACO PARA AMARRACAO DE ELETRODUTOS, TIPO D, COM 1 1/4" E CUNHA DE FIXACAO | D20: UN | E20: CR | F20: 4.39 | G20: 3.38 | H20: 5.43 | I20: 6.69 | J20: 3.58 | K20: 7.02 | L20: 3.55 | M20: 3.27 | N20: 2.85 | O20: 5.34 | P20: 3.05 | Q20: 6.05 | R20: 3.88 | S20: 3.33 | T20: 3.88 | U20: 4.65 | V20: 4.97 | W20: 4.34 | X20: 3.96 | Y20: 4.61 | Z20: 5.59 | AA20: 4.81 | AB20: 3.52 | AC20: 1.94 | AD20: 2.64 | AE20: 2.7 | AF20: 4.41
A21: MATERIAL | B21: 395 | C21: ABRACADEIRA EM ACO PARA AMARRACAO DE ELETRODUTOS, TIPO D, COM 1 1/4" E PARAFUSO DE FIXACAO | D21: UN | E21: CR | F21: 4.69 | G21: 3.61 | H21: 5.8 | I21: 7.15 | J21: 3.83 | K21: 7.5 | L21: 3.8 | M21: 3.5 | N21: 3.05 | O21: 5.7 | P21: 3.26 | Q21: 6.47 | R21: 4.14 | S21: 3.56 | T21: 4.14 | U21: 4.97 | V21: 5.31 | W21: 4.64 | X21: 4.23 | Y21: 4.92 | Z21: 5.97 | AA21: 5.14 | AB21: 3.76 | AC21: 2.07 | AD21: 2.82 | AE21: 2.88 | AF21: 4.71
A22: MATERIAL | B22: 39129 | C22: ABRACADEIRA EM ACO PARA AMARRACAO DE ELETRODUTOS, TIPO D, COM 1" E CUNHA DE FIXACAO | D22: UN | E22: CR | F22: 2.7 | G22: 2.08 | H22: 3.35 | I22: 4.12 | J22: 2.21 | K22: 4.32 | L22: 2.19 | M22: 2.02 | N22: 1.76 | O22: 3.29 | P22: 1.88 | Q22: 3.73 | R22: 2.39 | S22: 2.05 | T22: 2.39 | U22: 2.87 | V22: 3.06 | W22: 2.68 | X22: 2.44 | Y22: 2.84 | Z22: 3.44 | AA22: 2.96 | AB22: 2.17 | AC22: 1.19 | AD22: 1.62 | AE22: 1.66 | AF22: 2.71
A23: MATERIAL | B23: 393 | C23: ABRACADEIRA EM ACO PARA AMARRACAO DE ELETRODUTOS, TIPO D, COM 1" E PARAFUSO DE FIXACAO | D23: UN | E23: C | F23: 2.83 | G23: 2.18 | H23: 3.5 | I23: 4.31 | J23: 2.31 | K23: 4.52 | L23: 2.29 | M23: 2.11 | N23: 1.84 | O23: 3.44 | P23: 1.97 | Q23: 3.9 | R23: 2.5 | S23: 2.15 | T23: 2.5 | U23: 3 | V23: 3.2 | W23: 2.8 | X23: 2.55 | Y23: 2.97 | Z23: 3.6 | AA23: 3.1 | AB23: 2.27 | AC23: 1.25 | AD23: 1.7 | AE23: 1.74 | AF23: 2.84
A24: MATERIAL | B24: 39127 | C24: ABRACADEIRA EM ACO PARA AMARRACAO DE ELETRODUTOS, TIPO D, COM 1/2" E CUNHA DE FIXACAO | D24: UN | E24: CR | F24: 2.31 | G24: 1.78 | H24: 2.86 | I24: 3.53 | J24: 1.89 | K24: 3.7 | L24: 1.87 | M24: 1.72 | N24: 1.5 | O24: 2.81 | P24: 1.61 | Q24: 3.19 | R24: 2.04 | S24: 1.76 | T24: 2.04 | U24: 2.45 | V24: 2.62 | W24: 2.29 | X24: 2.08 | Y24: 2.43 | Z24: 2.94 | AA24: 2.53 | AB24: 1.85 | AC24: 1.02 | AD24: 1.39 | AE24: 1.42 | AF24: 2.32
A25: MATERIAL | B25: 392 | C25: ABRACADEIRA EM ACO PARA AMARRACAO DE ELETRODUTOS, TIPO D, COM 1/2" E PARAFUSO DE FIXACAO | D25: UN | E25: CR | F25: 2.37 | G25: 1.83 | H25: 2.94 | I25: 3.62 | J25: 1.94 | K25: 3.79 | L25: 1.92 | M25: 1.77 | N25: 1.54 | O25: 2.89 | P25: 1.65 | Q25: 3.27 | R25: 2.1 | S25: 1.8 | T25: 2.1 | U25: 2.52 | V25: 2.68 | W25: 2.35 | X25: 2.14 | Y25: 2.49 | Z25: 3.02 | AA25: 2.6 | AB25: 1.9 | AC25: 1.05 | AD25: 1.42 | AE25: 1.46 | AF25: 2.38
A26: MATERIAL | B26: 39133 | C26: ABRACADEIRA EM ACO PARA AMARRACAO DE ELETRODUTOS, TIPO D, COM 2 1/2" E CUNHA DE FIXACAO | D26: UN | E26: CR | F26: 6.32 | G26: 4.87 | H26: 7.81 | I26: 9.62 | J26: 5.16 | K26: 10.09 | L26: 5.11 | M26: 4.71 | N26: 4.11 | O26: 7.68 | P26: 4.4 | Q26: 8.71 | R26: 5.58 | S26: 4.8 | T26: 5.58 | U26: 6.7 | V26: 7.14 | W26: 6.25 | X26: 5.69 | Y26: 6.63 | Z26: 8.04 | AA26: 6.92 | AB26: 5.07 | AC26: 2.79 | AD26: 3.79 | AE26: 3.88 | AF26: 6.34
A27: MATERIAL | B27: 397 | C27: ABRACADEIRA EM ACO PARA AMARRACAO DE ELETRODUTOS, TIPO D, COM 2 1/2" E PARAFUSO DE FIXACAO | D27: UN | E27: CR | F27: 6.98 | G27: 5.38 | H27: 8.63 | I27: 10.63 | J27: 5.7 | K27: 11.15 | L27: 5.65 | M27: 5.2 | N27: 4.54 | O27: 8.49 | P27: 4.86 | Q27: 9.62 | R27: 6.17 | S27: 5.3 | T27: 6.17 | U27: 7.4 | V27: 7.89 | W27: 6.91 | X27: 6.29 | Y27: 7.33 | Z27: 8.88 | AA27: 7.65 | AB27: 5.6 | AC27: 3.08 | AD27: 4.19 | AE27: 4.29 | AF27: 7
A28: MATERIAL | B28: 39132 | C28: ABRACADEIRA EM ACO PARA AMARRACAO DE ELETRODUTOS, TIPO D, COM 2" E CUNHA DE FIXACAO | D28: UN | E28: CR | F28: 5.05 | G28: 3.89 | H28: 6.25 | I28: 7.7 | J28: 4.12 | K28: 8.07 | L28: 4.09 | M28: 3.77 | N28: 3.28 | O28: 6.14 | P28: 3.52 | Q28: 6.97 | R28: 4.46 | S28: 3.84 | T28: 4.46 | U28: 5.36 | V28: 5.71 | W28: 5 | X28: 4.55 | Y28: 5.3 | Z28: 6.43 | AA28: 5.54 | AB28: 4.05 | AC28: 2.23 | AD28: 3.03 | AE28: 3.1 | AF28: 5.07
A29: MATERIAL | B29: 396 | C29: ABRACADEIRA EM ACO PARA AMARRACAO DE ELETRODUTOS, TIPO D, COM 2" E PARAFUSO DE FIXACAO | D29: UN | E29: CR | F29: 5.41 | G29: 4.17 | H29: 6.7 | I29: 8.25 | J29: 4.42 | K29: 8.65 | L29: 4.38 | M29: 4.04 | N29: 3.52 | O29: 6.58 | P29: 3.77 | Q29: 7.46 | R29: 4.78 | S29: 4.11 | T29: 4.78 | U29: 5.74 | V29: 6.12 | W29: 5.36 | X29: 4.88 | Y29: 5.68 | Z29: 6.89 | AA29: 5.93 | AB29: 4.34 | AC29: 2.39 | AD29: 3.25 | AE29: 3.33 | AF29: 5.43
... A49: MATERIAL | B49: 12615 | C49: ABRACADEIRA PVC, PARA CALHA PLUVIAL, DIAMETRO ENTRE *80 E 100* MM, PARA DRENAGEM PLUVIAL PREDIAL | D49: UN | E49: CR | F49: 14.68 | G49: 12.04 | H49: 9.23 | I49: 9.8 | J49: 11.32 | K49: 12.72 | L49: 11.9 | M49: 18.8 | N49: 14.84 | O49: 11.25 | P49: 13.63 | Q49: 13.63 | R49: 13.87 | S49: 13.58 | T49: 11.88 | U49: 10.88 | V49: 12.12 | W49: 11.15 | X49: 13.34 | Y49: 13.36 | Z49: 14.03 | AA49: 12.03 | AB49: 15.38 | AC49: 12.72 | AD49: 11.9 | AE49: 15.05 | AF49: 12.59
A50: MATERIAL | B50: 11927 | C50: ABRACADEIRA, GALVANIZADA/ZINCADA, ROSCA SEM FIM, PARAFUSO INOX, LARGURA FITA *12,6 A *14 MM, D = 2" A 2 1/2" | D50: UN | E50: CR | F50: 7.52 | G50: 7.45 | H50: 7.16 | I50: 10.38 | J50: 7.77 | K50: 10.74 | M50: 7.16 | N50: 7.52 | P50: 8.95 | Q50: 8.7 | R50: 7.7 | S50: 10.38 | U50: 12.1 | W50: 7.16 | X50: 9.02 | Y50: 8.38 | Z50: 8.41 | AC50: 9.42 | AE50: 7.16 | AF50: 7.52
A51: MATERIAL | B51: 11928 | C51: ABRACADEIRA, GALVANIZADA/ZINCADA, ROSCA SEM FIM, PARAFUSO INOX, LARGURA FITA *12,6 A *14 MM, D = 3" A 3 3/4" | D51: UN | E51: CR | F51: 8.61 | G51: 8.53 | H51: 8.2 | I51: 11.9 | J51: 8.9 | K51: 12.31 | M51: 8.2 | N51: 8.61 | P51: 10.26 | Q51: 9.97 | R51: 8.82 | S51: 11.9 | U51: 13.87 | W51: 8.2 | X51: 10.34 | Y51: 9.6 | Z51: 9.64 | AC51: 10.79 | AE51: 8.2 | AF51: 8.61
A52: MATERIAL | B52: 11929 | C52: ABRACADEIRA, GALVANIZADA/ZINCADA, ROSCA SEM FIM, PARAFUSO INOX, LARGURA FITA *12,6 A *14 MM, D = 4" A 4 3/4" | D52: UN | E52: CR | F52: 13.33 | G52: 13.2 | H52: 12.69 | I52: 18.4 | J52: 13.77 | K52: 19.04 | M52: 12.69 | N52: 13.33 | P52: 15.86 | Q52: 15.42 | R52: 13.64 | S52: 18.4 | U52: 21.45 | W52: 12.69 | X52: 15.99 | Y52: 14.85 | Z52: 14.91 | AC52: 16.69 | AE52: 12.69 | AF52: 13.33
A53: MATERIAL | B53: 36801 | C53: ACABAMENTO DE METAL CROMADO PARA REGISTRO PEQUENO, DE PAREDE, 1/2" OU 3/4" | D53: UN | E53: CR | F53: 27.71 | G53: 32.7 | H53: 50.82 | I53: 67.98 | J53: 34 | K53: 36.49 | L53: 38 | M53: 27.31 | N53: 34.91 | O53: 51.92 | P53: 35.4 | Q53: 40.21 | R53: 41.87 | S53: 18.12 | T53: 34.06 | U53: 40.12 | V53: 37.37 | W53: 29.14 | X53: 40.39 | Y53: 26.4 | Z53: 40.77 | AA53: 33.82 | AB53: 65.42 | AC53: 48.61 | AD53: 35.76 | AE53: 30.9 | AF53: 38.92
A54: MATERIAL | B54: 36246 | C54: ACABAMENTO SIMPLES/CONVENCIONAL PARA FORRO PVC, TIPO "U" OU "C", COR BRANCA, COMPRIMENTO 6 M | D54: M | E54: CR | F54: 3.14 | G54: 5.41 | H54: 3.59 | I54: 4.59 | J54: 3.71 | L54: 3.6 | M54: 3.83 | N54: 3.44 | O54: 4.04 | P54: 4.26 | Q54: 5.24 | R54: 4.67 | S54: 4.89 | T54: 3.95 | U54: 4.32 | W54: 4.08 | X54: 5.97 | Y54: 4.53 | Z54: 4.9 | AA54: 3.99 | AB54: 5.08 | AC54: 3.93 | AD54: 4.76 | AE54: 4.57 | AF54: 3.6
A55: MATERIAL | B55: 37600 | C55: ACESSORIO DE LIGACAO NAO ELETRICO PARA CARGAS EXPLOSIVAS, TUBO DE 6 M | D55: UN | E55: CR | AE55: 123.17
A56: MATERIAL | B56: 37599 | C56: ACESSORIO INICIADOR NAO ELETRICO, TUBO DE 6 M, TEMPO DE RETARDO DE *160* MS | D56: UN | E56: CR | AE56: 114.64
A57: MATERIAL | B57: 1 | C57: ACETILENO - RECARGA DE GAS PARA CILINDRO (NAO INCLUI TROCA/MANUTENCAO DO CILINDRO) | D57: KG | E57: C | G57: 144.44 | J57: 177.5 | K57: 100.5 | M57: 105.55 | N57: 89.99 | P57: 79.99 | Q57: 111 | R57: 120 | S57: 132 | W57: 145 | AB57: 117 | AE57: 110
A58: MATERIAL | B58: 3 | C58: ACIDO CLORIDRICO / ACIDO MURIATICO, DILUICAO 10% A 12% PARA USO EM LIMPEZA | D58: L | E58: CR | F58: 19.7 | G58: 18.15 | H58: 15.94 | I58: 15.94 | J58: 14.33 | K58: 18.36 | L58: 13.81 | M58: 16.46 | N58: 17.46 | O58: 16.18 | P58: 23.89 | Q58: 13.88 | R58: 16.17 | S58: 16.7 | T58: 15.66 | U58: 28.58 | V58: 26.24 | W58: 17.15 | X58: 15.69 | Y58: 18.97 | Z58: 17.01 | AA58: 19.13 | AB58: 20.49 | AC58: 19.04 | AD58: 18.75 | AE58: 19.68 | AF58: 16.53
A59: MATERIAL | B59: 43054 | C59: ACO CA-25, 10,0 MM, OU 12,5 MM, OU 16,0 MM, OU 20,0 MM, OU 25,0 MM, VERGALHAO | D59: KG | E59: CR | F59: 10.68 | G59: 10.28 | H59: 9.29 | I59: 9.49 | J59: 7.56 | K59: 7.69 | L59: 8.4 | M59: 9.55 | N59: 7.25 | O59: 8.59 | P59: 7.3 | Q59: 8.33 | R59: 8.99 | S59: 8.15 | T59: 7.85 | U59: 8.13 | V59: 8.73 | W59: 7.65 | X59: 8.9 | Y59: 8.68 | Z59: 10.1 | AA59: 9.55 | AB59: 8.16 | AC59: 7.82 | AD59: 9.15 | AE59: 6.63 | AF59: 7.65
A60: MATERIAL | B60: 42402 | C60: ACO CA-25, 16,0 MM, BARRA DE TRANSFERENCIA | D60: KG | E60: CR | F60: 10.21 | G60: 9.83 | H60: 8.88 | I60: 9.07 | J60: 7.23 | K60: 7.35 | L60: 8.02 | M60: 9.13 | N60: 6.93 | O60: 8.21 | P60: 6.98 | Q60: 7.96 | R60: 8.59 | S60: 7.79 | T60: 7.5 | U60: 7.77 | V60: 8.34 | W60: 7.31 | X60: 8.51 | Y60: 8.3 | Z60: 9.65 | AA60: 9.13 | AB60: 7.8 | AC60: 7.48 | AD60: 8.75 | AE60: 6.34 | AF60: 7.31
...

Sheet SIURB-INFRA
A1: CÓDIGO | B1: DESCRIÇÃO | C1: UNIDADE | D1: CUSTO UNIT R$
A2: 1000000 | B2: TOPOGRAFIA - EQUIPAMENTOS E SERVIÇOS
A3: 1009000 | B3: LEVANTAMENTO PLANIMÉTRICO CADASTRAL | C3: M2 | D3: 0.68
A4: 1010000 | B4: LEVANTAMENTO PLANIALTIMÉTRICO CADASTRAL | C4: M2 | D4: 0.83
A5: 1011000 | B5: LOCAÇÃO DE EIXO DE REFERÊNCIA PARA PROJETO DE VIA PÚBLICA | C5: M | D5: 5.98
A6: 1013000 | B6: NIVELAMENTO DE SEÇÕES TRANSVERSAIS | C6: M/SEC | D6: 3.59
A7: 1014000 | B7: LEVANTAMENTO PLANIMÉTRICO DE VIA PÚBLICA E SEMI-CADASTRO DE IMÓVEIS | C7: M | D7: 5.65
A8: 1015000 | B8: NIVELAMENTO DO EIXO DE VIA PÚBLICA INCLUSIVE SOLEIRAS, GUIAS E TAMPÕES | C8: M | D8: 5.58
A9: 1016000 | B9: CADASTRO DE GALERIA EXISTENTE | C9: PV | D9: 255.24
A10: 1017000 | B10: ELEMENTOS PARA LOCAÇÃO DE OBRA DE ARTE | C10: M/ EIXO | D10: 7.62
A11: 1018000 | B11: TRANSPORTE DE COTA DE REFERÊNCIA DE NÍVEL | C11: M | D11: 2.56
A12: 1019000 | B12: NIVELAMENTO GEOMÉTRICO NO INTERIOR DA GALERIA | C12: M | D12: 10.24
A13: 1020000 | B13: CADASTRO ESPECIAL DE GALERIA MOLDADA (1:500) | C13: M | D13: 12.85
A14: 1021000 | B14: NIVELAMENTO GEOMÉTRICO DE FUNDO DO CANAL OU CÓRREGO | C14: M | D14: 8.6
... A28: 1037000 | B28: NÍVEL PRECISÃO 0,3 MM/KM, TIPO "LEICA" NA2, ACOPLADO COM GPM3 OU SIMILAR, INCLUSIVE ACESSÓRIOS | C28: H | D28: 6.22
A29: 2000000 | B29: SONDAGENS E ENSAIOS
A30: 2001000 | B30: SONDAGEM MANUAL | C30: . | D30: .
A31: 2001001 | B31: SONDAGEM A TRADO MANUAL | C31: M | D31: 94.33
A32: 2001002 | B32: SONDAGEM COM EXTRAÇÃO DE AMOSTRAS NAS CONDIÇÕES NATURAIS | C32: UN | D32: 157.68
A33: 2002000 | B33: SONDAGEM A PERCUSSÃO | C33: . | D33: .
A34: 2002002 | B34: MOBILIZAÇÃO E INSTALAÇÃO DE 1 EQUIPAMENTO | C34: UN | D34: 721.52
A35: 2002004 | B35: DESLOCAMENTO DE EQUIPAMENTO ENTRE FUROS EM TERRENO PLANO, CONSIDERANDO A DISTÂNCIA ATÉ 100M | C35: UN | D35: 99.63
A36: 2002005 | B36: DESLOCAMENTO DE EQUIPAMENTO ENTRE FUROS EM TERRENO PLANO, CONSIDERANDO A DISTÂNCIA DE 100 À 200M | C36: UN | D36: 199.27
A37: 2002006 | B37: DESLOCAMENTO DE EQUIPAMENTO ENTRE FUROS EM TERRENO PLANO, CONSIDERANDO A DISTÂNCIA ACIMA DE 200M | C37: UN | D37: 298.91
A38: 2002007 | B38: DESLOCAMENTO DE EQUIPAMENTO EM TERRENO ACIDENTADO, CONSIDERANDO A DISTÂNCIA ATÉ 50M | C38: UN | D38: 99.63
A39: 2002008 | B39: DESLOCAMENTO DE EQUIPAMENTO EM TERRENO ACIDENTADO, CONSIDERANDO A DISTÂNCIA ACIMA DE 50M | C39: UN | D39: 175.16
A40: 2002009 | B40: EXECUÇÃO DE PLATAFORMA EM TERRENO ALAGADIÇO OU ACIDENTADO | C40: UN | D40: 221.16
A41: 2002010 | B41: PERFURAÇÃO E EXECUÇÃO DE ENSAIO PENETOMÉTRICO OU DE LAVAGEM POR TEMPO | C41: M | D41: 143.27
A42: 2003000 | B42: SONDAGEM ROTATIVA | C42: . | D42: .
A43: 2003001 | B43: MOBILIZAÇÃO E INSTALAÇÃO DE 1 EQUIPAMENTO, CONSIDERANDO A DISTÂNCIA ATÉ 10KM | C43: UN | D43: 453.18
A44: 2003002 | B44: MOBILIZAÇÃO E INSTALAÇÃO DE 1 EQUIPAMENTO, CONSIDERANDO A DISTÂNCIA DE 10 À 20KM | C44: UN | D44: 711.9
A45: 2003003 | B45: MOBILIZAÇÃO E INSTALAÇÃO DE 1 EQUIPAMENTO, CONSIDERANDO A DISTÂNCIA ACIMA DE 20KM | C45: UN | D45: 970.62
A46: 2003005 | B46: DESLOCAMENTO DE EQUIPAMENTO ENTRE FUROS EM TERRENO PLANO, CONSIDERANDO A DISTÂNCIA ATÉ 100M | C46: UN | D46: 194.46
A47: 2003006 | B47: DESLOCAMENTO DE EQUIPAMENTO ENTRE FUROS EM TERRENO PLANO, CONSIDERANDO A DISTÂNCIA DE 100 À 200M | C47: UN | D47: 291.69
A48: 2003007 | B48: DESLOCAMENTO DE EQUIPAMENTO ENTRE FUROS EM TERRENO PLANO, CONSIDERANDO A DISTÂNCIA ACIMA DE 200M | C48: UN | D48: 388.92
A49: 2003008 | B49: DESLOCAMENTO DE EQUIPAMENTO ENTRE FUROS EM TERRENO ACIDENTADO, CONSIDERANDO A DISTÂNCIA ATÉ 50M | C49: UN | D49: 194.46
A50: 2003009 | B50: DESLOCAMENTO DE EQUIPAMENTO ENTRE FUROS EM TERRENO ACIDENTADO, CONSIDERANDO A DISTÂNCIA ACIMA DE 50M | C50: UN | D50: 291.69
A51: 2003010 | B51: EXECUÇÃO DE PLATAFORMA EM TERRENO ALAGADIÇO OU ACIDENTADO | C51: UN | D51: 489.64
A52: 2003011 | B52: PERFURAÇÃO EM SOLOS OU ROCHAS DECOMPOSTAS HX | C52: M | D52: 226.07
A53: 2003012 | B53: PERFURAÇÃO EM SOLOS OU ROCHAS DECOMPOSTAS NX | C53: M | D53: 225.55
...

Sheet ADEQUAÇÃO FDE
C1: PREFEITURA MUNICIPAL DE SÃO CAETANO DO SUL
C2: SECRETARIA DE OBRAS E HABITAÇÃO - SEOHAB
C3: OBRAS PÚBLICAS - DO2
C5: ADEQUAÇÃO DE BDI DE SERVIÇOS RETIRADOS DA PLANILHA FDE | H5: Converter planilha PDF FDE no site pdf2go.com
F7: BDI DO BOLETIM FDE: | G7: 0.23
A8: ORIGEM | B8: CÓDIGO | C8: DESCRITIVO DO ITEM | D8: UN | E8: VALOR UNIT. C/ BDI | F8: APLICAÇÃO DO DESCONTO | G8: VALOR UNIT. S/BDI
A9: FDE | C9: =UPPER(VLOOKUP($B9,FDE!$A$1:$G$3727,2,FALSE)) -> #N/A | D9: =UPPER(VLOOKUP($B9,FDE!$A$3:$G$3727,3,FALSE)) -> #N/A | E9: =UPPER(VLOOKUP($B9,FDE!$A$3:$G$3727,4,FALSE)) -> #N/A | F9: =E9-G9 -> #N/A | G9: =ROUND(E9/(1+$G$7),2) -> #N/A

Sheet FDE
D3: LS 71,27
A5: Data Base 07/2023 | D5: BDI 19,5
A7: Serviço | B7: Descrição
A9: 01.01.001 | B9: RETIRANDO A VEGETACAO, TRONCOS ATE 5CM DE DIAMETRO E RASPAGEM. | C9: M2 | D9: 3,67
A11: 01.01.010 | B11: CORTE, RECORTE E REMOCAO DE ARVORES INCL RAIZES DIAM>5<15CM | C11: UN | D11: 147,25
A12: 01.01.021 | B12: CORTE, RECORTE E REMOÇÃO DE ÁRVORES INCL.RAIZES 15CM<DIAM<30CM | C12: UN | D12: 892,02
A13: 01.01.022 | B13: CORTE, RECORTE E REMOÇÃO DE ÁRVORES INCL.RAIZES 30CM<DIAM<45CM | C13: UN | D13: 2677,88
A14: 01.01.023 | B14: CORTE, RECORTE E REMOÇÃO DE ÁRVORES INCL.RAIZES 45CM<DIAM<60CM | C14: UN | D14: 4673,36
A15: 01.01.024 | B15: CORTE, RECORTE E REMOÇÃO DE ÁRVORES INCL.RAIZES 60CM<DIAM<100CM | C15: UN | D15: 9174,09
A16: 01.01.025 | B16: CORTE, RECORTE E REMOÇÃO DE ÁRVORES INCL.RAIZES DIAM >100CM | C16: UN | D16: 12903,06
A17: 01.01.030 | B17: CORTE RASO , RECORTE E REMOÇÃO DE ÁRVORES 5CM<DIAM<15CM | C17: UN | D17: 110,46
A18: 01.01.031 | B18: CORTE RASO, RECORTE E REMOÇÃO DE ÁRVORES 15CM<DIAM<30CM | C18: UN | D18: 622,73
A19: 01.01.032 | B19: CORTE RASO, RECORTE E REMOÇÃO DE ÁRVORES 30CM<DIAM<45CM | C19: UN | D19: 2139,29
A20: 01.01.033 | B20: CORTE RASO, RECORTE E REMOÇÃO DE ÁRVORES 45CM<DIAM<60CM | C20: UN | D20: 3865,48
A21: 01.01.034 | B21: CORTE RASO, RECORTE E REMOÇÃO DE ÁRVORES 60CM<DIAM<100CM | C21: UN | D21: 8096,92
... A53: 01.08.014 | B53: TUBO PVC OCRE JUNTA ELÁSTICA DN 100 INCLUSIVE CONEXÕES - ENTERRADO | C53: M | D53: 86,69
A55: 04/08/2023 10:54:14
A63: Data Base 07/2023
A65: Serviço | B65: Descrição
A67: 01.08.015 | B67: TUBO PVC OCRE JUNTA ELÁSTICA DN 150 INCLUSIVE CONEXÕES - ENTERRADO | C67: M | D67: 136,52
A69: 01.08.032 | B69: TUBO DRENO PLASTICO CORRUGADO PERFURADO DE 100MM EM BARRAS | C69: M | D69: 137,52
A70: 01.08.033 | B70: TUBO DRENO PLASTICO CORRUGADO PERFURADO DE 150MM EM BARRAS | C70: M | D70: 170,82
A71: 01.08.034 | B71: MANTA GEOTÊXTIL NÃO TECIDO AGULHADO 100% POLIESTER, RT 10 | C71: M2 | D71: 18,19
A72: 01.08.035 | B72: MANTA GEOTÊXTIL NÃO TECIDO AGULHADO 100% POLIESTER, RT 21 | C72: M2 | D72: 20,64
A73: 01.08.036 | B73: MANTA GEOTÊXTIL NÃO TECIDO AGULHADO 100% POLIESTER, RT 31 | C73: M2 | D73: 28,59
A74: 01.08.040 | B74: ENVOLVIMENTO DE DRENOS COM PEDRA BRITADA | C74: M3 | D74: 217,25
A75: 01.08.041 | B75: ENVOLVIMENTO DE DRENOS COM AREIA GROSSA | C75: M3 | D75: 233,54
A76: 01.08.044 | B76: FORNEC E INST DE DHP EM FUROS DE 100MM C/TUBO PVC 1 1/2" INCL TXS INST | C76: M | D76: 335,29
A77: 01.08.045 | B77: FORNEC E INST DE DHP EM FUROS DE 100MM C/TUBO PVC 2" INCL TXS INST | C77: M | D77: 360,35
A78: 01.08.050 | B78: CAIXA DE LIGACAO OU INSPECAO - ALVENARIA DE 1/2 TIJOLO REVESTIDA | C78: M2 | D78: 237,74
A79: 01.08.051 | B79: CAIXA DE LIGACAO OU INSPECAO - ALVENARIA DE 1 TIJOLO REVESTIDA | C79: M2 | D79: 378,99
... A116: 02.02.026 | B116: BROCA DE CONCRETO DE DIAMETRO 25CM - INCL ARRANQUES | C116: M | D116: 85,87
A118: 04/08/2023 10:54:14
A126: Data Base 07/2023
A128: Serviço | B128: Descrição
A130: 02.02.027 | B130: BROCA DE CONCRETO DE DIAMETRO 30CM - INCL ARRANQUES | C130: M | D130: 128,31
A132: 02.02.035 | B132: ESTACAS TIPO STRAUSS DIAM 25CM | C132: M | D132: 85,23
A133: 02.02.036 | B133: ESTACAS TIPO STRAUSS DIAM 32CM | C133: M | D133: 112,91
A134: 02.02.037 | B134: ESTACAS TIPO STRAUSS DIAM 38CM | C134: M | D134: 140,09
A135: 02.02.038 | B135: ESTACAS TIPO STRAUSS DIAM 45CM | C135: M | D135: 207,54
...

Sheet ADEQUAÇÃO DER
C1: PREFEITURA MUNICIPAL DE SÃO CAETANO DO SUL
C2: SECRETARIA DE OBRAS E HABITAÇÃO - SEOHAB
C3: OBRAS PÚBLICAS - DO2
C5: ADEQUAÇÃO DE BDI DE SERVIÇOS RETIRADOS DA PLANILHA DER | H5: VERIFICAR BDI DA PUBLICAÇÃO DO DER
F7: BDI DO BOLETIM DER: | G7: 0.35
A8: ORIGEM | B8: CÓDIGO | C8: DESCRITIVO DO ITEM | D8: UN | E8: VALOR UNIT. C/ BDI | F8: APLICAÇÃO DO DESCONTO | G8: VALOR UNIT. S/BDI
A9: DER | C9: =UPPER(VLOOKUP($B9,DER!$A$1:$G$3727,2,FALSE)) -> #N/A | D9: =UPPER(VLOOKUP($B9,DER!$A$3:$G$3727,3,FALSE)) -> #N/A | E9: =UPPER(VLOOKUP($B9,DER!$A$3:$G$3727,4,FALSE)) -> #N/A | F9: =E9-G9 -> #N/A | G9: =ROUND(E9/(1+$G$7),2) -> #N/A

Sheet DER
A1: SECRETARIA DE LOGÍSTICA E TRANSPORTES
A2: DEPARTAMENTO DE ESTRADAS DE RODAGEM DO ESTADO DE SÃO PAULO
A4: TABELA DE PREÇOS UNITÁRIOS NÃO DESONERADOS
A5: Atendendo à Lei Federal nº 13.161 de 31/08/2015
A6: Data de Referência: 31/03/2022
A9: Subitem | B9: Descrição | C9: Unidade | D9: Preço Unitário
A11: 21.01.01 | B11: SONDAGEM A PERCUSSAO ATE 15M | C11: m | D11: 176.4
A12: 21.01.02 | B12: SONDAGEM A PERC. ATE 15M LOC. ALAG.<50CM | C12: m | D12: 194.5
A13: 21.01.03 | B13: SONDAGEM A PERCUSSAO DE 15 A 30M | C13: m | D13: 167.95
A14: 21.01.04 | B14: SONDAGEM A PERC.15A30M LOC.ALAG.<50CM | C14: m | D14: 229.19
A15: 21.01.05 | B15: SONDAGEM PERCUSSAO SUPERIOR A 30M | C15: m | D15: 190.33
A16: 21.01.06 | B16: SONDAGEM PERC.+30M LOC.ALAG.<50CM | C16: m | D16: 259.68
A17: 21.01.07 | B17: TAXA FIXA INSTALACAO SONDAGEM PERCUSSAO | C17: un | D17: 1504.26
A18: 21.01.08 | B18: TAXA FIXA INSTALACAO SONDAGEM ROTATIVA | C18: un | D18: 5109.45
A19: 21.01.09 | B19: TRANSPORTE DE EQUIPAMENTO DE SONDAGEM | C19: km*equip | D19: 15.29
A20: 21.01.10 | B20: DESLOCAMENTO DE EQUIPAMENTO DE SONDAGEM | C20: m | D20: 10.91
A21: 21.01.11 | B21: PLATAFORMA OU BANQUETA SOND.PERCUSSAO | C21: equip | D21: 2371.46
A22: 21.01.12 | B22: PLATAFORMA OU BANQUETA P/ SOND. ROTATIVA | C22: equip | D22: 2613.2
... A2140: 72.74.01.04 | B2140: SISTEMA DE INSPECAO INTERNA DE TUBULACOES COMP.POR UNID.DE CONTROL.SOFTWARE | C2140: hora | D2140: 45.24
A2142: Data da Atualização: 03/05/2022

Sheet DNIT-SICRO
A1: CGCIT | B1: SISTEMA DE CUSTOS REFERENCIAIS DE OBRAS - SICRO | D1: DNIT
B2: São Paulo - Abril/2023
A3: Código | B3: Descrição do Serviço | C3: Unidade | D3: Custo Unitário (R$)
A4: 0307731 | B4: Aparelho de apoio de neoprene fretado para estruturas moldadas no local - fornecimento e instalação | C4: dm³ | D4: 113.26
A5: 0307732 | B5: Aparelho de apoio de neoprene fretado para estruturas pré-moldadas - fornecimento e instalação | C5: dm³ | D5: 87.3
A6: 0308308 | B6: Aparelho de apoio metálico elastomérico fixo com capacidade de 1.500 kN - fornecimento e instalação | C6: un | D6: 14211.9
A7: 0308313 | B7: Aparelho de apoio metálico elastomérico fixo com capacidade de 10.000 kN - fornecimento e instalação | C7: un | D7: 93011.22
A8: 0308309 | B8: Aparelho de apoio metálico elastomérico fixo com capacidade de 2.500 kN - fornecimento e instalação | C8: un | D8: 23207.1
A9: 0308310 | B9: Aparelho de apoio metálico elastomérico fixo com capacidade de 4.000 kN - fornecimento e instalação | C9: un | D9: 37375.2
A10: 0308311 | B10: Aparelho de apoio metálico elastomérico fixo com capacidade de 5.500 kN - fornecimento e instalação | C10: un | D10: 50150.67
A11: 0308312 | B11: Aparelho de apoio metálico elastomérico fixo com capacidade de 7.500 kN - fornecimento e instalação | C11: un | D11: 68786.84
A12: 0308307 | B12: Aparelho de apoio metálico elastomérico fixo com capacidade de 700 kN - fornecimento e instalação | C12: un | D12: 9555.17
A13: 0308322 | B13: Aparelho de apoio metálico elastomérico multidirecional com capacidade de 1.500 kN - fornecimento e instalação | C13: un | D13: 8614.31
A14: 0308327 | B14: Aparelho de apoio metálico elastomérico multidirecional com capacidade de 10.000 kN - fornecimento e instalação | C14: un | D14: 55923.3
A15: 0308323 | B15: Aparelho de apoio metálico elastomérico multidirecional com capacidade de 2.500 kN - fornecimento e instalação | C15: un | D15: 11964.18
... A6354: 7119700 | B6354: Tratamento superficial e pintura das obras vivas e mortas externas do flutuante (fundo, costados e espelhos de proa e popa) | C6354: m² | D6354: 54.36

Sheet DADOS E VALIDAÇÕES (ocultar)
A1: Nível de Sigilo
A2: INTERNO
A3: RESERVADO
A4: PÚBLICO
A5: LICITAÇÃO
A7: Tipos de Licitação
A8: DISPENSA DE PROCESSO LICITATÓRIO
A9: CONVITE
A10: TOMADA DE PREÇOS
A11: CONCORRÊNCIA PÚBLICA
A13: Secretarias
A14: PGM | D14: SIM
A15: SEAIS | D15: NÃO
A16: SECULT
A17: SEDEF | D17: SIM
A18: SEDET | D18: NÃO
A19: SEEDUC | D19: NÃO NECESSÁRIO
A20: SEFAZ
A21: SEGOV | D21: X
A22: SEJUR
A23: SELJ
A24: SEMOB
A25: SEOHAB
A26: SEPLAG
A27: SESAUD
A28: SESEG
A29: SESURB
