Workbook
Name \0: #REF!
Name \a: #REF!
Name \c: [2]PLMUSEU!#REF!
Name \x: [2]PLMUSEU!#REF!
Name \z: [2]PLMUSEU!#REF!
Name _____________________pv3: #REF!
Name ____________________Ele200502: #REF!
Name ____________________pv3: #REF!
Name ____________________Ser200705: #REF!
Name ____________________Ser200712: #REF!
Name ____________________Ser201104: #REF!
Name ____________________TR2: #REF!
Name ____________________TR5: #REF!
Name ___________________Ele200502: #REF!
Name ___________________Ele200609: #REF!
Name ___________________pv2: #REF!
Name ___________________pv3: #REF!
Name ___________________Ser200506: #REF!
Name ___________________Ser200705: #REF!
Name ___________________Ser200712: #REF!
Name ___________________Ser201104: #REF!
Name ___________________TR2: #REF!
Name ___________________TR5: #REF!
Name __________________Ele200502: #REF!
Name __________________Ele200609: #REF!
Name __________________pv2: #REF!
Name __________________pv3: #REF!
Name __________________Ser200506: #REF!
Name __________________Ser200705: #REF!
Name __________________Ser200712: #REF!
Name __________________Ser201104: #REF!
Name __________________TR2: #REF!
Name __________________TR5: #REF!
Name _________________Ele200502: #REF!
Name _________________Ele200609: #REF!
Name _________________pv2: #REF!
Name _________________pv3: #REF!
Name _________________Ser200506: #REF!
Name _________________Ser200705: #REF!
Name _________________Ser200712: #REF!
Name _________________Ser201104: #REF!
Name _________________TR2: #REF!
Name _________________TR5: #REF!
Name ________________Ele200502: #REF!
Name ________________Ele200609: #REF!
Name ________________pv2: #REF!
Name ________________pv3: #REF!
Name ________________Ser200506: #REF!
Name ________________Ser200705: #REF!
Name ________________Ser200712: #REF!
Name ________________Ser201104: #REF!
Name ________________TR2: #REF!
Name ________________TR5: #REF!
Name _______________Ele200502: #REF!
Name _______________Ele200609: #REF!
Name _______________pv2: #REF!
Name _______________pv3: #REF!
Name _______________Ser200506: #REF!
Name _______________Ser200705: #REF!
Name _______________Ser200712: #REF!

Sheet 01 - Planilha Detalhada
I1: Área de Terreno e área Construída | L1: Valor estimado do imóvel (por m² conforme memória) | N1: Valor estimado de manutenção preventiva e corretiva do imovel (R$) | R1: ='02 - Cálculo Final'!B8 -> 2729.34 | S1: ='02 - Cálculo Final'!B9 -> 1250.33
I2: =SUM(I5:I193) -> 214470.74 | J2: =SUM(J5:J193) -> 995384.08 | K2: =SUM(K5:K213) -> 1528851.7 | L2: =SUM(L5:L213) -> 7.3347552e+08 | M2: =SUM(M5:M213) -> 1.5755588e+09 | N2: =SUM(N5:N213) -> 61611943 | O2: =SUM(O5:O213) -> 50417881 | P2: =SUM(P5:P213) -> 1.1202982e+08 | R2: ='02 - Cálculo Final'!B10 -> 0.084 | S2: ='02 - Cálculo Final'!B11 -> 0.032
A3: ANEXO A
A4: Nº | B4: NOME DA UNIDADE | C4: FINALIDADE DO IMÓVEL | D4: ENDEREÇO COMPLETO | E4: MUNICIPIO | F4: COORDENADAS (UTM)4 | G4: ESTADO DE CONSERVAÇÃO² | H4: N° DE PAVIMENTOS³ | I4: ÁREA EDIFICAÇÃO | J4: ÁREA TERRENO | K4: ÁREA TOTAL | L4: ÁREA EDIFICAÇÃO | M4: ÁREA TERRENO | N4: ÁREA EDIFICAÇÃO | O4: ÁREA TERRENO | P4: TOTAL | R4: terr | T4: edf
A5: 1 | B5: Rodoviária de Passa Tempo | D5: Av. Gabriel Andrade – Passa Tempo/MG – 35537-000 | E5: PASSA TEMPO | G5: Médio | I5: =X5*1.7 -> 525.5 | J5: 784.34 | K5: =I5+J5 -> 1309.84 | L5: =I5*$R$1 -> 1434268.2 | M5: =J5*$S$1 -> 980683.83 | N5: =L5*$R$2 -> 120478.53 | O5: =M5*$S$2 -> 31381.88 | P5: =N5+O5 -> 151860.41 | V5: 750.19 | X5: 309.12
A6: 2 | B6: Escola Municipal Gabriel Andrade | D6: Rua Professor Walter Veado, 249 – Centro – Passa Tempo/MG – 35537-000 | E6: PASSA TEMPO | G6: Regular | I6: 3733.93 | J6: 14724.84 | K6: =I6+J6 -> 18458.77 | L6: =I6*$R$1 -> 10191165 | M6: =J6*$S$1 -> 18410909 | N6: =L6*$R$2 -> 856057.82 | O6: =M6*$S$2 -> 589149.09 | P6: =N6+O6 -> 1445206.9 | V6: 3681.21 | X6: 3196.26
A7: 3 | B7: Creche Municipal Eni Rangel Amorim | D7: Rua Elísio Machado de Castro, 20 – Bairro Calafate – Passa Tempo/MG – 35537-000 | E7: PASSA TEMPO | G7: Bom | I7: 1008.11 | J7: 1737.56 | K7: =I7+J7 -> 2745.67 | L7: =I7*$R$1 -> 2751475 | M7: =J7*$S$1 -> 2172523.4 | N7: =L7*$R$2 -> 231123.9 | O7: =M7*$S$2 -> 69520.75 | P7: =N7+O7 -> 300644.65 | V7: 725.69 | X7: 500.69
A8: 4 | B8: Prefeitura Municipal de Passa Tempo | D8: Praça Bolivar de Andrade, 35 – Centro – Passa Tempo/MG – 35537-000 | E8: PASSA TEMPO | G8: Médio | I8: =X8*1.7 -> 479.74 | J8: 1633.32 | K8: =I8+J8 -> 2113.06 | L8: =I8*$R$1 -> 1309373.6 | M8: =J8*$S$1 -> 2042189 | N8: =L8*$R$2 -> 109987.38 | O8: =M8*$S$2 -> 65350.05 | P8: =N8+O8 -> 175337.43 | V8: 408.33 | X8: 282.2
A9: 5 | B9: Secretaria de Saúde De Passa Tempo | D9: Rua José Luís Gomes, 80 – Centro – Passa Tempo/MG – 35537-000 | E9: PASSA TEMPO | G9: Ruim | I9: =X9*1.7 -> 479.74 | J9: 1633.32 | K9: =I9+J9 -> 2113.06 | L9: =I9*$R$1 -> 1309373.6 | M9: =J9*$S$1 -> 2042189 | N9: =L9*$R$2 -> 109987.38 | O9: =M9*$S$2 -> 65350.05 | P9: =N9+O9 -> 175337.43 | V9: 408.33 | X9: 282.2
A10: 6 | B10: PSF Pedro Eugenio de Almeida | D10: Rua Evaristo B. de Souza, 220 – Centro – Passa Tempo/MG – 35537-000 | E10: PASSA TEMPO | G10: Médio | I10: 495.75 | J10: 1416.24 | K10: =I10+J10 -> 1911.99 | L10: =I10*$R$1 -> 1353070.3 | M10: =J10*$S$1 -> 1770767.4 | N10: =L10*$R$2 -> 113657.91 | O10: =M10*$S$2 -> 56664.56 | P10: =N10+O10 -> 170322.47 | V10: 354.06 | X10: 233.56
A11: 7 | B11: Galpão Municipal de Passa Tempo | D11: Rua Evaristo Batista de Souza, 420 – Centro – Passa Tempo/MG – 35537-000 | E11: PASSA TEMPO | G11: Regular | I11: 925.29 | J11: 1980.8 | K11: =I11+J11 -> 2906.09 | L11: =I11*$R$1 -> 2525431 | M11: =J11*$S$1 -> 2476653.7 | N11: =L11*$R$2 -> 212136.2 | O11: =M11*$S$2 -> 79252.92 | P11: =N11+O11 -> 291389.12 | V11: 495.2 | X11: 347.52
A12: 8 | B12: Prefeitura Municipal | D12: Av Ribeiro De Oliveira - 150 – Centro | E12: SÃO BRÁS DO SUAÇUÍ | G12: Bom | I12: =211.52*3 -> 634.56 | J12: 291.7 | K12: =I12+J12 -> 926.26 | L12: =I12*$R$1 -> 1731930 | M12: =J12*$S$1 -> 364721.26 | N12: =L12*$R$2 -> 145482.12 | O12: =M12*$S$2 -> 11671.08 | P12: =N12+O12 -> 157153.2 | V12: 296.14 | X12: 215.8
A13: 9 | B13: Creche Municipal | D13: Rua Cassiano Pereira - 25 – Centro | E13: SÃO BRÁS DO SUAÇUÍ | G13: Regular | I13: 1925.07 | J13: 3257.09 | K13: =I13+J13 -> 5182.16 | L13: =I13*$R$1 -> 5254170.5 | M13: =J13*$S$1 -> 4072437.3 | N13: =L13*$R$2 -> 441350.33 | O13: =M13*$S$2 -> 130317.99 | P13: =N13+O13 -> 571668.32 | V13: 223.97 | X13: 115.58
A14: 10 | B14: Escola Municipal Amelia D’Anunciação Pyramo | D14: Rua Francisco De Assis - 220 El – Centro | E14: SÃO BRÁS DO SUAÇUÍ | G14: Bom | I14: 2597.35 | J14: 6896.8 | K14: =I14+J14 -> 9494.15 | L14: =I14*$R$1 -> 7089051.2 | M14: =J14*$S$1 -> 8623275.9 | N14: =L14*$R$2 -> 595480.31 | O14: =M14*$S$2 -> 275944.83 | P14: =N14+O14 -> 871425.14 | V14: 1724.2 | X14: 1022.73
A15: 11 | B15: Velório Municipal | D15: Rua Vereador Agenor Marques - 60 Cx – Centro | E15: SÃO BRÁS DO SUAÇUÍ | G15: Médio | I15: 152.25 | J15: 1900.8 | K15: =I15+J15 -> 2053.05 | L15: =I15*$R$1 -> 415542.02 | M15: =J15*$S$1 -> 2376627.3 | N15: =L15*$R$2 -> 34905.53 | O15: =M15*$S$2 -> 76052.07 | P15: =N15+O15 -> 110957.6 | V15: 475.2 | X15: 223.9
A16: 12 | B16: Centro Convivencia Idoso Renascer | D16: Pca Olavo Drumond 1100 Cx – Centro | E16: SÃO BRÁS DO SUAÇUÍ | G16: Médio | I16: 275.11 | J16: 2395.12 | K16: =I16+J16 -> 2670.23 | L16: =I16*$R$1 -> 750868.73 | M16: =J16*$S$1 -> 2994690.4 | N16: =L16*$R$2 -> 63072.97 | O16: =M16*$S$2 -> 95830.09 | P16: =N16+O16 -> 158903.06 | V16: 598.78 | X16: 288.4
A17: 13 | B17: Cras Bairro Alto dos Alecrins | D17: Rua Dona Maria Joana 91 Co – Alto Do Alecrim | E17: SÃO BRÁS DO SUAÇUÍ | G17: Médio | I17: 260.64 | J17: 3186.4 | K17: =I17+J17 -> 3447.04 | L17: =I17*$R$1 -> 711375.18 | M17: =J17*$S$1 -> 3984051.5 | N17: =L17*$R$2 -> 59755.52 | O17: =M17*$S$2 -> 127489.65 | P17: =N17+O17 -> 187245.17 | V17: 796.6 | X17: 223.36
A18: 14 | B18: Posto da Polícia Militar | D18: Av Aprígio Ribeiro De Olivera 420 Cx A – Centro | E18: SÃO BRÁS DO SUAÇUÍ | G18: Regular | I18: 278.42 | J18: 286.08 | K18: =I18+J18 -> 564.5 | L18: =I18*$R$1 -> 759902.84 | M18: =J18*$S$1 -> 357694.41 | N18: =L18*$R$2 -> 63831.84 | O18: =M18*$S$2 -> 11446.22 | P18: =N18+O18 -> 75278.06 | V18: 142.6 | X18: 138.36
A19: 15 | B19: Usina de Reciclagem e Compostagem de Resíduos Sólidos | D19: Rua Professor Paixao 1000 In – Centro | E19: SÃO BRÁS DO SUAÇUÍ | G19: Regular | I19: 522.73 | J19: 12992.44 | K19: =I19+J19 -> 13515.17 | L19: =I19*$R$1 -> 1426707.9 | M19: =J19*$S$1 -> 16244838 | N19: =L19*$R$2 -> 119843.46 | O19: =M19*$S$2 -> 519834.8 | P19: =N19+O19 -> 639678.26 | V19: 3248.11 | X19: 503.43
A20: 16 | B20: Centro Sociocultural | D20: Pca Severiano Ant Costa 55 Co – Centro | E20: SÃO BRÁS DO SUAÇUÍ | G20: Médio | I20: 1031.83 | J20: 2059 | K20: =I20+J20 -> 3090.83 | L20: =I20*$R$1 -> 2816214.9 | M20: =J20*$S$1 -> 2574429.5 | N20: =L20*$R$2 -> 236562.05 | O20: =M20*$S$2 -> 82381.74 | P20: =N20+O20 -> 318943.79 | V20: 514.75 | X20: 352.68
A21: 17 | B21: Centro de Eventos e Lazer | D21: Rua Octaviano Piramo 456 Cx Pref – Centro | E21: SÃO BRÁS DO SUAÇUÍ | G21: Médio | I21: 303.7 | J21: 45414 | K21: =I21+J21 -> 45717.7 | L21: =I21*$R$1 -> 828900.56 | M21: =J21*$S$1 -> 56782487 | N21: =L21*$R$2 -> 69627.65 | O21: =M21*$S$2 -> 1817039.6 | P21: =N21+O21 -> 1886667.2 | V21: 34520.5 | X21: 651.59
A22: 18 | B22: Cemitério Municipal | D22: Pca Olavo Drumond 1135 Co – Centro | E22: SÃO BRÁS DO SUAÇUÍ | G22: Regular | I22: =X22*1.7 -> 287.13 | J22: 7500.12 | K22: =I22+J22 -> 7787.25 | L22: =I22*$R$1 -> 783675.39 | M22: =J22*$S$1 -> 9377625 | N22: =L22*$R$2 -> 65828.73 | O22: =M22*$S$2 -> 300084 | P22: =N22+O22 -> 365912.73 | V22: 4935.53 | X22: 168.9
A23: 19 | B23: Ginásio Poliesportivo | D23: Rua Deputado Badaro Junior 1010 Co – Centro | E23: SÃO BRÁS DO SUAÇUÍ | G23: Médio | I23: 920.74 | J23: 8197.6 | K23: =I23+J23 -> 9118.34 | L23: =I23*$R$1 -> 2513012.5 | M23: =J23*$S$1 -> 10249705 | N23: =L23*$R$2 -> 211093.05 | O23: =M23*$S$2 -> 327990.57 | P23: =N23+O23 -> 539083.62 | V23: 14240.67 | X23: 1586.88
A24: 20 | B24: Almoxarifado Municipal | D24: Rua Deputado Ozanam Coelho 66 Co – Centro | E24: SÃO BRÁS DO SUAÇUÍ | G24: Médio | I24: =X24*1.7 -> 122.33 | J24: 775.52 | K24: =I24+J24 -> 897.85 | L24: =I24*$R$1 -> 333880.16 | M24: =J24*$S$1 -> 969655.92 | N24: =L24*$R$2 -> 28045.93 | O24: =M24*$S$2 -> 31028.99 | P24: =N24+O24 -> 59074.92 | V24: 193.88 | X24: 71.96
A25: 21 | B25: Secretaria Municipal De Educação | D25: Pca Severiano Ant Costa 39 Cs – Centro | E25: SÃO BRÁS DO SUAÇUÍ | G25: Ruim | I25: 212.29 | J25: 1000.52 | K25: =I25+J25 -> 1212.81 | L25: =I25*$R$1 -> 579411.59 | M25: =J25*$S$1 -> 1250980.2 | N25: =L25*$R$2 -> 48670.57 | O25: =M25*$S$2 -> 40031.37 | P25: =N25+O25 -> 88701.94 | V25: 250.13 | X25: 229.51
A26: 22 | B26: Casa Amarela | D26: Av Ribeiro De Oliveira 237 Cs – Centro | E26: SÃO BRÁS DO SUAÇUÍ | G26: Regular | I26: =X26*1.7 -> 397.97 | J26: 1467 | K26: =I26+J26 -> 1864.97 | L26: =I26*$R$1 -> 1086195.4 | M26: =J26*$S$1 -> 1834234.1 | N26: =L26*$R$2 -> 91240.42 | O26: =M26*$S$2 -> 58695.49 | P26: =N26+O26 -> 149935.91 | V26: 297.8 | X26: 234.1
A27: 23 | B27: Almoxarifado Prefeitura São Bras | D27: Rua Acrisio Amancio 395 In – Centro | E27: SÃO BRÁS DO SUAÇUÍ | G27: Médio | I27: 1561.52 | J27: 11998.19 | K27: =I27+J27 -> 13559.71 | L27: =I27*$R$1 -> 4261919 | M27: =J27*$S$1 -> 15001697 | N27: =L27*$R$2 -> 358001.2 | O27: =M27*$S$2 -> 480054.3 | P27: =N27+O27 -> 838055.5 | V27: 222.61 | X27: 90.07
A28: 24 | B28: Unidade Básica de Saúde | D28: Rua Francisco Carlos 651 Co – Centro | E28: SÃO BRÁS DO SUAÇUÍ | G28: Regular | I28: 1245.54 | J28: 2502.16 | K28: =I28+J28 -> 3747.7 | L28: =I28*$R$1 -> 3399502.1 | M28: =J28*$S$1 -> 3128525.7 | N28: =L28*$R$2 -> 285558.18 | O28: =M28*$S$2 -> 100112.82 | P28: =N28+O28 -> 385671 | V28: 782.48 | X28: 490.37
A29: 25 | B29: Unidade Básica de Saúde | D29: Av. Nossa Senhora das Graças, 130 - Centro, Catas Altas da Noruega - MG, 36450-000 | E29: CATAS ALTAS DA NORUEGA | G29: Regular | I29: =X29*1.7 -> 611.42 | J29: 1955.4 | K29: =I29+J29 -> 2566.82 | L29: =I29*$R$1 -> 1668773.1 | M29: =J29*$S$1 -> 2444895.3 | N29: =L29*$R$2 -> 140176.94 | O29: =M29*$S$2 -> 78236.65 | P29: =N29+O29 -> 218413.59 | V29: 488.85 | X29: 359.66
A30: 26 | B30: Prefeitura Municipal | D30: Rua das Goiabeiras, 129 | E30: CATAS ALTAS DA NORUEGA | G30: Médio | I30: =X30*1.7 -> 365.47 | J30: 1831.8 | K30: =I30+J30 -> 2197.27 | L30: =I30*$R$1 -> 997491.89 | M30: =J30*$S$1 -> 2290354.5 | N30: =L30*$R$2 -> 83789.32 | O30: =M30*$S$2 -> 73291.34 | P30: =N30+O30 -> 157080.66 | V30: 457.95 | X30: 214.98
A31: 27 | B31: Casa da Banda | D31: Rua das Goiabeiras, 102 | E31: CATAS ALTAS DA NORUEGA | G31: Regular | I31: =X31*1.7 -> 346.05 | J31: 1207.88 | K31: =I31+J31 -> 1553.93 | L31: =I31*$R$1 -> 944488.11 | M31: =J31*$S$1 -> 1510248.6 | N31: =L31*$R$2 -> 79337 | O31: =M31*$S$2 -> 48327.96 | P31: =N31+O31 -> 127664.96 | V31: 301.97 | X31: 203.56
A32: 28 | B32: Delegacia | D32: Rua das Goiabeiras, 3 | E32: CATAS ALTAS DA NORUEGA | G32: Bom | I32: =X32*1.7 -> 202.35 | J32: 789.16 | K32: =I32+J32 -> 991.51 | L32: =I32*$R$1 -> 552281.95 | M32: =J32*$S$1 -> 986710.42 | N32: =L32*$R$2 -> 46391.68 | O32: =M32*$S$2 -> 31574.73 | P32: =N32+O32 -> 77966.41 | V32: 197.29 | X32: 119.03
A33: 29 | B33: Ginásio Poliesportivo | D33: Rua lava pés, 119 | E33: CATAS ALTAS DA NORUEGA | G33: Médio | I33: =X33*1.7 -> 709.24 | J33: 42664.28 | K33: =I33+J33 -> 43373.52 | L33: =I33*$R$1 -> 1935757.1 | M33: =J33*$S$1 -> 53344429 | N33: =L33*$R$2 -> 162603.6 | O33: =M33*$S$2 -> 1707021.7 | P33: =N33+O33 -> 1869625.3 | V33: 10666.07 | X33: 417.2
A34: 30 | B34: Estádio municipal Weber Lobo Neiva | D34: Rua são Gonçalo, 77 | E34: CATAS ALTAS DA NORUEGA | G34: Médio | I34: =X34*1.7 -> 352.44 | J34: 26282.24 | K34: =I34+J34 -> 26634.68 | L34: =I34*$R$1 -> 961928.59 | M34: =J34*$S$1 -> 32861473 | N34: =L34*$R$2 -> 80802 | O34: =M34*$S$2 -> 1051567.1 | P34: =N34+O34 -> 1132369.1 | V34: 6570.56 | X34: 207.32
A35: 31 | B35: Creche Municipal | D35: Rua lava pés, 475 | E35: CATAS ALTAS DA NORUEGA | G35: Médio | I35: =X35*1.7 -> 1071.71 | J35: 3138 | K35: =I35+J35 -> 4209.71 | L35: =I35*$R$1 -> 2925061 | M35: =J35*$S$1 -> 3923535.5 | N35: =L35*$R$2 -> 245705.12 | O35: =M35*$S$2 -> 125553.14 | P35: =N35+O35 -> 371258.26 | V35: 784.5 | X35: 630.42
A36: 32 | B36: Escolinha municipal | D36: Av. Nossa senhora das Graças, s/n | E36: CATAS ALTAS DA NORUEGA | G36: Médio | I36: =X36*1.7 -> 829.41 | J36: 2289.6 | K36: =I36+J36 -> 3119.01 | L36: =I36*$R$1 -> 2263741.9 | M36: =J36*$S$1 -> 2862755.6 | N36: =L36*$R$2 -> 190154.32 | O36: =M36*$S$2 -> 91608.18 | P36: =N36+O36 -> 281762.5 | V36: 572.4 | X36: 487.89
A37: 33 | B37: Praça 1° de Março - praça principal | E37: CATAS ALTAS DA NORUEGA | G37: Regular | I37: =367.51*2 -> 735.02 | J37: 2457.78 | K37: =I37+J37 -> 3192.8 | L37: =I37*$R$1 -> 2006119.5 | M37: =J37*$S$1 -> 3073036.1 | N37: =L37*$R$2 -> 168514.04 | O37: =M37*$S$2 -> 98337.15 | P37: =N37+O37 -> 266851.19 | V37: 819.26
A38: 34 | B38: Academia de saúde | D38: São Gonçalo, 77 | E38: CATAS ALTAS DA NORUEGA | G38: Bom | I38: =X38*1.7 -> 0 | J38: 0 | K38: =I38+J38 -> 0 | L38: =I38*$R$1 -> 0 | M38: =J38*$S$1 -> 0 | N38: =L38*$R$2 -> 0 | O38: =M38*$S$2 -> 0 | P38: =N38+O38 -> 0
A39: 35 | B39: Capela Velório | D39: Avenida nossa senhora das Graças - dentro do santuário nossa senhora das Graças | E39: CATAS ALTAS DA NORUEGA | G39: Médio | I39: =X39*1.7 -> 831.45 | J39: 10451.12 | K39: =I39+J39 -> 11282.57 | L39: =I39*$R$1 -> 2269309.7 | M39: =J39*$S$1 -> 13067349 | N39: =L39*$R$2 -> 190622.02 | O39: =M39*$S$2 -> 418155.16 | P39: =N39+O39 -> 608777.18 | V39: 2612.78 | X39: 489.09
A40: 36 | B40: CRAS | D40: Largo santo Antônio, 06 | E40: CATAS ALTAS DA NORUEGA | G40: Bom | I40: =X40*1.7 -> 371.55 | J40: 1156.4 | K40: =I40+J40 -> 1527.95 | L40: =I40*$R$1 -> 1014086.3 | M40: =J40*$S$1 -> 1445881.6 | N40: =L40*$R$2 -> 85183.25 | O40: =M40*$S$2 -> 46268.21 | P40: =N40+O40 -> 131451.46 | V40: 289.1 | X40: 218.56
...

Sheet 02 - Cálculo Final
A1: ANEXO B
B2: OBJETO | C2: Contratação de empresa especializada na prestação de serviços contínuos de manutenção predial preventiva, corretiva e reformas de pequeno e médio porte, com fornecimento de materiais, equipamentos e mão de obra qualificada, para atender às necessidades do CIMI e dos Municípios Consorciados | P2: CAL-8 2.529,33 | Q2: CAL-8 2.413,71
B3: TÍTULO: | C3: Cálculo Demanda Manutenção Anual | P3: GI 1.266,37 | Q3: GI 1.208,42
A4: Nº Edificações | B4: ÁREA TOTAL | C4: ÁREA EDIFICAÇÃO | D4: ÁREA TERRENO | E4: VALOR ÁREA EDIFICAÇÃO | F4: VALOR ÁREA TERRENO | G4: (8,40%) ÁREA EDIFICAÇÃO | H4: (3,2%) ÁREA TERRENO | I4: TOTAL Manutenção
A5: ='01 - Planilha Detalhada'!A213 -> 209 | B5: ='01 - Planilha Detalhada'!K2 -> 1528851.7 | C5: ='01 - Planilha Detalhada'!I2 -> 214470.74 | D5: ='01 - Planilha Detalhada'!J2 -> 995384.08 | E5: ='01 - Planilha Detalhada'!L2 -> 7.3347552e+08 | F5: ='01 - Planilha Detalhada'!M2 -> 1.5755588e+09 | G5: =E5*B10 -> 61611943 | H5: =F5*B11 -> 50417881 | I5: =G5+H5 -> 1.1202982e+08
A7: Memória de Cálculo | B7: valor utilizado | C7: Observação
A8: Valor médio do m² de áreas edificadas comercial: | B8: 2729.34 | C8: Valor obtido da tabela CUB CAL-8 ref. nov/2025 para imóveis comerciais de padrão normal com o menor valor entre aqueles da mesma categoria.
A9: Valor médio do m² de áreas de terreno comercial: | B9: 1250.33 | C9: Valor obtido da tabela CUB GI ref. nov/2025 em referência ao menor valor obtido para áreas com vão livre aberto, no caso galpões, podendo ser aplicados para fins de terrenos ou similares.
A10: Percentual médio do custo de manutenção dos imóveis, reformas e pequenas adequações dos blocos - área construída | B10: 0.084 | C10: Percentual estimado com base na natureza complexa e especializada das intervenções em edificações existentes, envolvendo adequações funcionais, técnicas e normativas, com interferências em sistemas construtivos e instalações especiais, utilização de equipamentos específicos de alto custo e necessidade de compatibilização entre sistemas antigos e novos. Estimativa elaborada conforme parâmetros técnicos compatíveis com o nível de detalhamento dos estudos, nos termos do art. 42, §1º, da Lei nº 13.303/2016, visando refletir a ordem de grandeza dos custos da requalificação.
A11: Percentual médio do custo de manutenção dos imóveis reformas e pequenas adequações dos blocos - área do terreno | B11: 0.032

Sheet 03 - BDI 
A1: ~
B2: OBRA: | D2: Contratação de empresa especializada na prestação de serviços contínuos de manutenção predial preventiva, corretiva e reformas de pequeno e médio porte, com fornecimento de materiais, equipamentos e mão de obra qualificada, para atender às necessidades do CIMI e dos Municípios Consorciados | M2: =ROUND(((((1+I9/100+I10/100+I11/100)*(1+I12/100)*(1+I15/100))/(1-I22/100))-1),4) -> 0.2624
B3: BASES UTILIZADAS | D3: SINAPI (04/2026) - SUDECAP(03/2026) - SICOR MG (01/2026)
B4: BDI UTILIZADO: | D4: =B26 -> BDI = 26,24 %
B6: COMPOSIÇÃO DO BDI
B7: CÓDIGO | C7: DESCRIÇÃO | I7: ALÍQUOTA ADOTADA (%)
B8: DI | C8: DESPESAS INDIRETAS
B9: AC | C9: ADMINISTRAÇÃO CENTRAL | I9: 4
B10: S + G | C10: SEGURO E GARANTIA | I10: 0.8
B11: R | C11: RISCO | I11: 1.27
B12: DF | C12: DESPESAS FINANCEIRAS | I12: 1.23
B13: TOTAL (%): | I13: =SUM(I9:J12) -> 7.3
B14: L | C14: BENEFÍCIO
B15: L.1 | C15: LUCRO | I15: 7.4
B16: TOTAL (%): | I16: =SUM(I15) -> 7.4
B17: T | C17: TRIBUTOS
B18: T.1 | C18: PIS | I18: 0.65
B19: T.2 | C19: COFINS | I19: 3
B20: T.3 | C20: ISSQN | I20: 5
B21: T.4 | C21: CPRB | I21: 0
B22: TOTAL (%): | I22: =SUM(I18:J21) -> 8.65
B23: FÓRMULA DO BDI
B25: BDI CALCULADO
B26: =CONCATENATE("BDI"," "," = ",TEXT(ROUND(((((1+I9/100+I10/100+I11/100)*(1+I12/100)*(1+I15/100))/(1-I22/100))-1),4),"#.###,00 %"),) -> BDI = 26,24 %

Sheet Planilha2
G4: https://www.editorabooktrail.com.br/post/manuten%C3%A7%C3%A3o-predial-em-edifica%C3%A7%C3%B5es-estimativa-de-custo

Sheet Planilha1
G5: CÂMARA DOS VEREADORES | H5: Praça Bernardino de Lima 229 – Bairro Centro
G6: 2 | H6: Defesa Civil e Pátio de Obras (SEMOS) | I6: Rua Madre Teresa 415 – Bairro Centro
G7: 3 | H7: PRAÇA DO BAIRRO VILA SÃO LUÍZ | I7: Rua Antônio Januário – Bairro Olaria
G8: 4 | H8: RODOVIÁRIA (SEMOS) | I8: Rua Antônio Jardim 466 – Bairro Centro
G9: 5 | H9: T.I. (INFORMÁTICA PMNL) | I9: Rua Ribeirão Cardoso – Bairro Centro
G10: 6 | H10: CAMPO INDEPENDENTE | I10: Rua Jatobá – Bairro Santa Rita
G11: 7 | H11: CAC MATADOURO | I11: Rua Rádio Itatiaia – Bairro Matadouro
G12: 8 | H12: Prédio Sede Prefeitura Municipal de Nova Lima | I12: Praça Bernardino de Lima 80 – Centro
G13: 9 | H13: P.A. JARDIM CANADÁ | I13: Rua Vancouver 196 – Bairro Jardim Canadá
G14: 10 | H14: UBS RETIRO (BATALHÃO DA POLÍCIA MILITAR) | I14: Rua Miguel Couto – Bairro Retiro
G15: 11 | H15: FÓRUM (ATUAL UAI NOVA LIMA) | I15: Rua Pereira de Freitas, 24 - Centro
G16: 12 | H16: ESCOLA DE MÚSICA | I16: Rua Aníbal Moraes Quintão, 33 – Bairro Centro
G17: 13 | H17: Creche Flor de Cerejeira | I17: Rua Cassiar, 464 Jardim Canadá
... G112: 108 | H112: Ambulatório de Reabilitação / Sede do Programa Melhor em Casa | I112: Rua Montreal, 56 - Jardim Canadá
