Workbook

Sheet PLANILHA
B1: SECRETARIA DE ESTADO DE EDUCAÇÃO - SUPERINTENDÊNCIA DE INFRAESTRUTURA E LOGÍSTICA - DIRETORIA DE GESTÃO DE PARCERIAS E FISCALIZAÇÃO - PLANILHA DE SERVIÇOS - SEM DESONERAÇÃO | K1: =IF(B1="","Vazia","Preenchida") -> Preenchida
A2: ESCOLA ESTADUAL / MUNICIPAL: OSCAR GARCIA DE OLIVEIRA | C2: COD ESCOLA: | E2: 31019801 | F2: S.R.E.: | G2: CARATINGA - MG // BDI USADO 23,12% | K2: =IF(A2="","Vazia","Preenchida") -> Preenchida
A3: MUNICÍPIO: SANTA RITA DE MINAS - MG | C3: ISS | D3: 0.03 | E3: SERVIÇOS: | F3: CONSTRUÇÃO / AMPLIAÇÃO / REFORMA: (REFORMA - EXECUÇÃO INDIRETA) | K3: =IF(A3="","Vazia","Preenchida") -> Preenchida
A4: ITEM | B4: DESCRIÇÃO | C4: UN | D4: ANALISADO | G4: =G2032 -> 438277.8 | H4: LOCAL DE INTERVENÇÃO | K4: =IF(H4="","Vazia","Preenchida") -> Preenchida
D5: QUANT. | E5: P. UNIT. (S/BDI) | F5: P. UNIT. (C/BDI) | G5: P. TOTAL (C/BDI) | H5: MEMÓRIA DE CALCULO | K5: =IF(H5="","Vazia","Preenchida") -> Preenchida
A6: 010000 | B6: INSTALAÇÃO DOS SERVIÇOS DE ENGENHARIA | H6: XX | K6: =IF(H6="","Vazia","Preenchida") -> Preenchida
A7: 010001 | B7: Locação dos serviços de engenharia: execução de gabarito | C7: M | D7: 10 | E7: 48.53 | F7: =E7*(1+C$2031) -> 59.750136 | G7: =D7*F7 -> 597.50136 | H7: Locação da Torre da caixa dágua = (2,50m x 4 lados). Total de 10m. | K7: =IF(H7="","Vazia","Preenchida") -> Preenchida
B8: Será medido pela área de obra locada, aferida entre os eixos de fundação e acrescentando-se 0,50 m, a partir do eixo, para o lado externo (m). O item remunera o fornecimento de pontaletes em Pinus ou Cedrinho de 3" x 3"; tábuas em Pinus de 1" x 12"; arame galvanizado; inclusive materiais acessórios e a mão-de-obra necessária para os serviços de locação completa em obras de edificação compreendendo: locação de estacas, eixos principais, paredes, etc. | H8: XX | K8: =IF(H8="","Vazia","Preenchida") -> Preenchida
K9: =IF(H9="","Vazia","Preenchida") -> Vazia
A10: 010002 | B10: Locação para muros, cercas e alambrados | C10: M | D10: 127.9 | E10: 1.12 | F10: =E10*(1+C$2031) -> 1.378944 | G10: =D10*F10 -> 176.36694 | H10: Alambrado em flanco direito, esquerdo e fundos da escola. (42,10m x 2 lados) + (43,70m fundos) = 127,90 m | K10: =IF(H10="","Vazia","Preenchida") -> Preenchida
B11: Será medido por comprimento de muros, cercas ou alambrados locados (m). O item remunera o fornecimento de veículo para locomoção, materiais, mão-de-obra qualificada e equipamentos necessários para execução de serviços de locação de muros, cercas ou alambrados. | H11: XX | K11: =IF(H11="","Vazia","Preenchida") -> Preenchida
K12: =IF(H12="","Vazia","Preenchida") -> Vazia
A13: 010003 | B13: Fornecimento e colocação de placa dos serviços de engenharia em chapa galvanizada (3,00 X 1,50m) - Governo do Estado - (Ampliação e / ou Reforma acima de R$ 30.000,00) | C13: UN | D13: 1 | E13: 1230.21 | F13: =E13*(1+C$2031) -> 1514.6346 | G13: =D13*F13 -> 1514.6346 | H13: Fachada da Escola. (Área da placa = 3,00m x 1,50m) = 4,50 m², correspondente a 1 unidade. | K13: =IF(H13="","Vazia","Preenchida") -> Preenchida
B14: Será medido por unidade de placa instalada (UN). O item remunera as placas de obras que deverão ser confeccionadas em chapa galvanizada 0,26. As chapas serão afixadas com rebites 540 e parafusos 3/8, em uma estrutura metálica com viga U 2” enrijecida e Metalon 20x20. O suporte para a instalação deverá ser em Eucalipto Autoclavado. As placas serão pintadas na frente e no verso com fundo anticorrosivo e tinta automotiva. FORMATO: 3,00 x 1,50m. O tamanho da placa é definido em função do local da sua instalação e/ou do valor dos serviços acima de R$ 30.000,00, obedecendo à proporção de 6,00 x 3,00m e o manual de identidade visual do Governo de Minas. | H14: XX | K14: =IF(H14="","Vazia","Preenchida") -> Preenchida
K15: =IF(H15="","Vazia","Preenchida") -> Vazia
A16: 010004 | B16: Limpeza do terreno, raspagem, capina e queima manual | C16: M2 | E16: 1.36 | F16: =E16*(1+C$2031) -> 1.674432 | G16: =D16*F16 -> 0 | K16: =IF(H16="","Vazia","Preenchida") -> Vazia
B17: Será medido pela área real do terreno, onde ocorrer a limpeza manual de vegetação (m²). O item remunera o fornecimento de caminhão basculante, a mão-de-obra necessária e ferramentas auxiliares para a execução dos serviços executados manualmente com auxílio de ferramental apropriado para a roçada, derrubada de árvores e arbustos, destocamento, fragmentação de galhos e troncos, empilhamento e transporte, abrangendo: a remoção de vegetação, árvores e arbustos com diâmetro do tronco até 5 cm, medidos na altura de 1,00 m do solo, capim. etc.; arrancamento e remoção de tocos, raízes e troncos; raspagem manual da camada de solo vegetal na espessura mínima de 15 cm; carga manual; e o transporte, interno na obra, num raio de 500m. | K17: =IF(H17="","Vazia","Preenchida") -> Vazia
K18: =IF(H18="","Vazia","Preenchida") -> Vazia
A19: 010005 | B19: Desmatamento, raspagem e limpeza mecanizada de terreno com árvores com diâmetro do tronco até 30cm com raspagem de no mínimo 15cm. | C19: M² | E19: 0.53 | F19: =E19*(1+C$2031) -> 0.652536 | G19: =D19*F19 -> 0 | K19: =IF(H19="","Vazia","Preenchida") -> Vazia
B20: Será medido pela área real de terreno, onde ocorrer a limpeza mecanizada de vegetação (m²). O item remunera o fornecimento de caminhão basculante e trator, equipamentos, a mão-de-obra necessária e ferramentas auxiliares para a execução dos serviços executados mecanicamente e manualmente com auxílio de ferramental apropriado para a roçada, derrubada de árvores e arbustos, destocamento, fragmentação de galhos, troncos e raízes, empilhamento e transporte, abrangendo: a remoção de vegetação, árvores e arbustos, com diâmetro de até 30 cm, medidos na altura de 1,00 m do solo, capim, etc.; arrancamento e remoção de tocos, raízes e troncos; raspagem mecanizada da camada de solo vegetal na espessura mínima de 15 cm; carga mecanizada; e o transporte, interno na obra, num raio de 500m. | K20: =IF(H20="","Vazia","Preenchida") -> Vazia
K21: =IF(H21="","Vazia","Preenchida") -> Vazia
A22: 010006 | B22: Barracão em madeira, piso cimentado e cobertura em telhas de fibrocimento ondulada | C22: M² | E22: 565.51 | F22: =E22*(1+C$2031) -> 696.25591 | G22: =D22*F22 -> 0 | K22: =IF(H22="","Vazia","Preenchida") -> Vazia
B23: Será medido pela área de projeção da cobertura de construção provisória executada, com croqui analisado e aprovado previamente pela fiscalização. (M²) O item remunera o fornecimento de materiais e mão-de-obra necessários para a execução de construção provisória em madeira destinada a escritório e/ou depósito de obra, constituída por: piso interno e calçada externa em concreto usinado, Fck 20 MPa; paredes, portas e janelas em chapa compensada plastificada de no mínimo 6 mm de espessura, e / ou compensado resinado com seladora impermeabilizante e aplicação de textura na pintura; janelas com vidro fantasia de 3 ou 4mm; porta com dobradiças de latão cromado e fechadura de embutir cromada e com miolo tipo Georges; estrutura, apoio para cobertura e contraventamentos em pontaletes e tábuas de Pinus ou Cedrinho e engradamento da cobertura de eucalipto imunizado, cobertura com telha em fibrocimento, perfil ondulado de no mínimo 5 mm de espessura; instalação elétrica e pintura acrílica, materiais acessórios para execução total da construção provisória, conforme norma regulamentadora. Devem obedecer a NR 18 (Áreas de vivência). Remunera também a manutenção durante todo o período da obra e a desmobilização completa deste barracão. | K23: =IF(H23="","Vazia","Preenchida") -> Vazia
K24: =IF(H24="","Vazia","Preenchida") -> Vazia
A25: 010007 | B25: Barracão em madeira, piso cimentado e cobertura em telhas de fibrocimento ondulada para instalação sanitária. | C25: M² | E25: 625.48 | F25: =E25*(1+C$2031) -> 770.09098 | G25: =D25*F25 -> 0 | K25: =IF(H25="","Vazia","Preenchida") -> Vazia
B26: Será medido pela área de projeção da cobertura de construção provisória executada, com croqui analisado e aprovado previamente pela fiscalização. (M²). O item remunera o fornecimento de croqui, materiais e mão-de-obra necessários para a execução de sanitário/vestiário provisório constituído por; Piso interno e calçada externa em concreto usinado, Fck 20 MPa; Paredes duplas em madeirite plastificado ou resinado de 6mm com pontaletes e sarrafos para sustentação entre elas; portas em chapa compensada de mesmo material das paredes, com dobradiça em latão cromado e fechadura cromada para uso interno com miolo tipo Gorges; 4 Janelas em caixilho fixo de madeira, com vidro fantasia de 4 mm; Estrutura apoio para cobertura e contraventamentos em pontaletes e tábuas de Pinus ou Cedrinho e engradamento da cobertura de eucalipto imunizado, cobertura com telha em fibrocimento, perfil ondulado de no mínimo 5 mm de espessura; Instalação hidráulica incluindo mictório, bacia sifonada com caixa de descarga plástica de sobrepor, chuveiro elétrico simples de PVC, lavatório em polipropileno, inclusive torneira e conexões; Reservatórios de fibra de vidro e torneira boia em cobre de 1’; Instalação elétrica; Pintura acrílica; Materiais acessórios para execução total da construção do sanitário/vestiário provisório, conforme norma regulamentadora. Remunera também manutenção do sanitário/vestiário durante a obra. Devem obedecer a NR 18 (Áreas de vivência). Remunera também a desmobilização completa deste barracão. A configuração de 10,89m², 1 vaso, 1 lavatório, 1 mictório e 2 chuveiros é a configuração mínima para até 20 funcionários. | K26: =IF(H26="","Vazia","Preenchida") -> Vazia
K27: =IF(H27="","Vazia","Preenchida") -> Vazia
A28: 010008 | B28: Tapume em chapa compensado de 12mm e pontaletes h= 2,20m com portão. | C28: M² | E28: 157.76 | F28: =E28*(1+C$2031) -> 194.23411 | G28: =D28*F28 -> 0 | K28: =IF(H28="","Vazia","Preenchida") -> Vazia
B29: Será medido por área, aferida na projeção vertical de tapume executado, previamente aprovado pela fiscalização (M²). O item remunera o fornecimento de chapa compensada resinada de 12mm, pontalete de Pinus ou Cedrinho, de 3" x 3", materiais acessórios e a mão-de-obra necessária para a execução do tapume com portão completo com dobradiças, ferragens e cadeado. Remunera também a desmontagem completa do tapume de fechamento e remoção do material utilizado. | K29: =IF(H29="","Vazia","Preenchida") -> Vazia
K30: =IF(H30="","Vazia","Preenchida") -> Vazia
A31: 010009 | B31: Portão para tapume fixo de proteção com fechamento de obra em chapa de compensado, espessura de 12mm | C31: M² | E31: 136.58 | F31: =E31*(1+C$2031) -> 168.1573 | G31: =D31*F31 -> 0 | K31: =IF(H31="","Vazia","Preenchida") -> Vazia
B32: Será medido por área, aferida na projeção vertical de portão executado, em local previamente aprovado pela fiscalização (M²). O item remunera o fornecimento de chapa compensada resinada de 12mm, pontalete de Pinus ou Cedrinho, de 3" x 3", materiais acessórios e a mão-de-obra necessária para a construção do portão. Remunera também os acessórios necessários inclusive dobradiças e manutenção e posterior desmontagem completa e remoção do material utilizado. | K32: =IF(H32="","Vazia","Preenchida") -> Vazia
K33: =IF(H33="","Vazia","Preenchida") -> Vazia
A34: 010010 | B34: Tapume fixo de proteção para fechamento de obra em telha metálica galvanizada, tipo trapezoidal, esp. 0,5mm, com módulo na dimensão de (300x220)cm, com reaproveitamento, inclusive pontalete e fixação | C34: M² | E34: 54.94 | F34: =E34*(1+C$2031) -> 67.642128 | G34: =D34*F34 -> 0 | K34: =IF(H34="","Vazia","Preenchida") -> Vazia
B35: Será medido por área de tapume executado, previamente aprovado pela fiscalização (m²). O item remunera o fornecimento de materiais, acessórios para fixação e a mão-de-obra necessária para execução de tapume fixo em telhas de aço galvanizado tipo trapezoidal com espessura de 0,50mm, pontalete e sarrafo de Cedrinho, de 3 x 3. Remunera também a manutenção e posteriormente a desmontagem completa do tapume de fechamento e remoção do material utilizado. | K35: =IF(H35="","Vazia","Preenchida") -> Vazia
K36: =IF(H36="","Vazia","Preenchida") -> Vazia
A37: 010011 | B37: Portão para tapume fixo de proteção com fechamento de obra em telha metálica galvanizada, tipo trapezoidal esp. 0,5mm, com módulo na dimensão de (300x220)cm | C37: M² | E37: 121.83 | F37: =E37*(1+C$2031) -> 149.9971 | G37: =D37*F37 -> 0 | K37: =IF(H37="","Vazia","Preenchida") -> Vazia
B38: Será medido por área, aferida na projeção vertical de portão executado, em local previamente aprovado pela fiscalização (M²). O item remunera o fornecimento de telha de aço galvanizado tipo trapezoidal com espessura de 0,50mm, pontalete de Pinus ou Cedrinho, de 3" x 3", materiais acessórios e a mão-de-obra necessária para a construção do portão. Remunera também os acessórios necessários inclusive dobradiças e manutenção e posterior desmontagem completa e remoção do material utilizado. | K38: =IF(H38="","Vazia","Preenchida") -> Vazia
K39: =IF(H39="","Vazia","Preenchida") -> Vazia
A40: 010012 | B40: Remanejamento de tapume fixo de proteção para fechamento de obra (madeira ou metálico), inclusive escavação manual e reaterro compactado | C40: M² | E40: 10.75 | F40: =E40*(1+C$2031) -> 13.2354 | G40: =D40*F40 -> 0 | K40: =IF(H40="","Vazia","Preenchida") -> Vazia
...

Sheet CRONOGRAMA
A1: CRONOGRAMA FÍSICO-FINANCEIRO
B2: ESCOLA ESTADUAL / MUNICIPAL: OSCAR GARCIA DE OLIVEIRA | I2: SRE: CARATINGA - MG
B3: MUNICÍPIO / DISTRITO: SANTA RITA DE MINAS - MG | I3: ENDEREÇO: Córrego Brejaúba, Zona Rural, Santa Rita de Minas – MG
B4: SERVIÇOS: CONSTRUÇÃO / AMPLIAÇÃO / REFORMA: REFORMA DE CONSTRUÇÃO
A5: ITEM | B5: DESCRIÇÃO | C5: TOTAL GERAL (C/ BDI) | D5: % INC. | E5: 1º MÊS | G5: 2º MÊS | I5: 3º MÊS | K5: 4º MÊS | M5: 5º MÊS | O5: 6º MÊS | Q5: TOTAL
E6: % | F6: VALOR | G6: % | H6: VALOR | I6: % | J6: VALOR | K6: % | L6: VALOR | M6: % | N6: VALOR | O6: % | P6: VALOR
A7: 1 | B7: =PLANILHA!B6 -> INSTALAÇÃO DOS SERVIÇOS DE ENGENHARIA | C7: =PLANILHA!G68 -> 2288.5028 | D7: =C7/$C$33 -> 0.0052215806 | E7: 1 | F7: =C7*E7 -> 2288.5028 | H7: =C7*G7 -> 0 | J7: =C7*I7 -> 0 | L7: =C7*K7 -> 0 | N7: =C7*M7 -> 0 | P7: =C7*O7 -> 0 | Q7: =F7+H7+J7+L7+N7+P7 -> 2288.5028
A8: 2 | B8: =PLANILHA!B69 -> DEMOLIÇÕES E REMOÇÕES | C8: =PLANILHA!G195 -> 17854.092 | D8: =C8/$C$33 -> 0.040736931 | E8: 0.7 | F8: =C8*E8 -> 12497.865 | G8: 0.3 | H8: =C8*G8 -> 5356.2277 | J8: =C8*I8 -> 0 | L8: =C8*K8 -> 0 | N8: =C8*M8 -> 0 | P8: =C8*O8 -> 0 | Q8: =F8+H8+J8+L8+N8+P8 -> 17854.092
A9: 3 | B9: =PLANILHA!B196 -> TRABALHOS EM TERRA | C9: =PLANILHA!G226 -> 328.61528 | D9: =C9/$C$33 -> 0.00074978765 | E9: 1 | F9: =C9*E9 -> 328.61528 | H9: =C9*G9 -> 0 | J9: =C9*I9 -> 0 | L9: =C9*K9 -> 0 | N9: =C9*M9 -> 0 | P9: =C9*O9 -> 0 | Q9: =F9+H9+J9+L9+N9+P9 -> 328.61528
A10: 4 | B10: =PLANILHA!B227 -> SONDAGEM, FUNDAÇÕES, MUROS E CONTENÇÕES | C10: =PLANILHA!G290 -> 5651.6205 | D10: =C10/$C$33 -> 0.012895064 | E10: 0.6 | F10: =C10*E10 -> 3390.9723 | G10: 0.4 | H10: =C10*G10 -> 2260.6482 | J10: =C10*I10 -> 0 | L10: =C10*K10 -> 0 | N10: =C10*M10 -> 0 | P10: =C10*O10 -> 0 | Q10: =F10+H10+J10+L10+N10+P10 -> 5651.6205
A11: 5 | B11: =PLANILHA!B291 -> SUPERESTRUTURA | C11: =PLANILHA!G327 -> 12323.783 | D11: =C11/$C$33 -> 0.028118658 | E11: 0.5 | F11: =C11*E11 -> 6161.8917 | G11: 0.5 | H11: =C11*G11 -> 6161.8917 | J11: =C11*I11 -> 0 | L11: =C11*K11 -> 0 | N11: =C11*M11 -> 0 | P11: =C11*O11 -> 0 | Q11: =F11+H11+J11+L11+N11+P11 -> 12323.783
A12: 6 | B12: =PLANILHA!B328 -> ALVENARIA | C12: =PLANILHA!G356 -> 474.21946 | D12: =C12/$C$33 -> 0.0010820066 | F12: =C12*E12 -> 0 | G12: 1 | H12: =C12*G12 -> 474.21946 | J12: =C12*I12 -> 0 | L12: =C12*K12 -> 0 | N12: =C12*M12 -> 0 | P12: =C12*O12 -> 0 | Q12: =F12+H12+J12+L12+N12+P12 -> 474.21946
A13: 7 | B13: =PLANILHA!B357 -> COBERTURA E FORRO | C13: =PLANILHA!G513 -> 48372.541 | D13: =C13/$C$33 -> 0.11036959 | F13: =C13*E13 -> 0 | G13: 0.4 | H13: =C13*G13 -> 19349.017 | I13: 0.6 | J13: =C13*I13 -> 29023.525 | L13: =C13*K13 -> 0 | N13: =C13*M13 -> 0 | P13: =C13*O13 -> 0 | Q13: =F13+H13+J13+L13+N13+P13 -> 48372.541
A14: 8 | B14: =PLANILHA!B514 -> INSTALAÇÕES HIDRÁULICAS | C14: =PLANILHA!G709 -> 17746.886 | D14: =C14/$C$33 -> 0.040492323 | F14: =C14*E14 -> 0 | G14: 0.5 | H14: =C14*G14 -> 8873.4431 | I14: 0.5 | J14: =C14*I14 -> 8873.4431 | L14: =C14*K14 -> 0 | N14: =C14*M14 -> 0 | P14: =C14*O14 -> 0 | Q14: =F14+H14+J14+L14+N14+P14 -> 17746.886
A15: 9 | B15: =PLANILHA!B710 -> INSTALAÇÕES SANITÁRIAS | C15: =PLANILHA!G771 -> 10963.627 | D15: =C15/$C$33 -> 0.025015245 | F15: =C15*E15 -> 0 | G15: 0.5 | H15: =C15*G15 -> 5481.8133 | I15: 0.5 | J15: =C15*I15 -> 5481.8133 | L15: =C15*K15 -> 0 | N15: =C15*M15 -> 0 | P15: =C15*O15 -> 0 | Q15: =F15+H15+J15+L15+N15+P15 -> 10963.627
A16: 10 | B16: =PLANILHA!B772 -> INSTALAÇÃO ELÉTRICA | C16: =PLANILHA!G1135 -> 18678.227 | D16: =C16/$C$33 -> 0.042617325 | F16: =C16*E16 -> 0 | G16: 0.4 | H16: =C16*G16 -> 7471.291 | I16: 0.6 | J16: =C16*I16 -> 11206.936 | L16: =C16*K16 -> 0 | N16: =C16*M16 -> 0 | P16: =C16*O16 -> 0 | Q16: =F16+H16+J16+L16+N16+P16 -> 18678.227
A17: 11 | B17: =PLANILHA!B1136 -> ESQUADRIAS DE MADEIRA | C17: =PLANILHA!G1202 -> 12981.379 | D17: =C17/$C$33 -> 0.029619065 | F17: =C17*E17 -> 0 | H17: =C17*G17 -> 0 | I17: 0.5 | J17: =C17*I17 -> 6490.6894 | K17: 0.5 | L17: =C17*K17 -> 6490.6894 | N17: =C17*M17 -> 0 | P17: =C17*O17 -> 0 | Q17: =F17+H17+J17+L17+N17+P17 -> 12981.379
A18: 12 | B18: =PLANILHA!B1203 -> ESQUADRIAS METÁLICAS | C18: =PLANILHA!G1254 -> 1295.5007 | D18: =C18/$C$33 -> 0.0029558893 | F18: =C18*E18 -> 0 | H18: =C18*G18 -> 0 | I18: 1 | J18: =C18*I18 -> 1295.5007 | L18: =C18*K18 -> 0 | N18: =C18*M18 -> 0 | P18: =C18*O18 -> 0 | Q18: =F18+H18+J18+L18+N18+P18 -> 1295.5007
A19: 13 | B19: =PLANILHA!B1255 -> FERRAGENS | C19: =PLANILHA!G1311 -> 15199.506 | D19: =C19/$C$33 -> 0.034680073 | F19: =C19*E19 -> 0 | H19: =C19*G19 -> 0 | I19: 0.6 | J19: =C19*I19 -> 9119.7038 | K19: 0.4 | L19: =C19*K19 -> 6079.8025 | N19: =C19*M19 -> 0 | P19: =C19*O19 -> 0 | Q19: =F19+H19+J19+L19+N19+P19 -> 15199.506
A20: 14 | B20: =PLANILHA!B1312 -> REVESTIMENTO | C20: =PLANILHA!G1347 -> 37657.607 | D20: =C20/$C$33 -> 0.085921775 | F20: =C20*E20 -> 0 | H20: =C20*G20 -> 0 | I20: 0.5 | J20: =C20*I20 -> 18828.803 | K20: 0.5 | L20: =C20*K20 -> 18828.803 | N20: =C20*M20 -> 0 | P20: =C20*O20 -> 0 | Q20: =F20+H20+J20+L20+N20+P20 -> 37657.607
A21: 15 | B21: =PLANILHA!B1348 -> PISOS E RODAPÉS | C21: =PLANILHA!G1448 -> 139141.98 | D21: =C21/$C$33 -> 0.31747441 | F21: =C21*E21 -> 0 | H21: =C21*G21 -> 0 | J21: =C21*I21 -> 0 | K21: 0.5 | L21: =C21*K21 -> 69570.992 | M21: 0.5 | N21: =C21*M21 -> 69570.992 | P21: =C21*O21 -> 0 | Q21: =F21+H21+J21+L21+N21+P21 -> 139141.98
A22: 16 | B22: =PLANILHA!B1449 -> VIDROS | C22: =PLANILHA!G1462 -> 822.34409 | D22: =C22/$C$33 -> 0.0018763079 | F22: =C22*E22 -> 0 | H22: =C22*G22 -> 0 | J22: =C22*I22 -> 0 | K22: 1 | L22: =C22*K22 -> 822.34409 | N22: =C22*M22 -> 0 | P22: =C22*O22 -> 0 | Q22: =F22+H22+J22+L22+N22+P22 -> 822.34409
A23: 17 | B23: =PLANILHA!B1463 -> PINTURA | C23: =PLANILHA!G1510 -> 36984.889 | D23: =C23/$C$33 -> 0.084386863 | F23: =C23*E23 -> 0 | H23: =C23*G23 -> 0 | J23: =C23*I23 -> 0 | K23: 0.4 | L23: =C23*K23 -> 14793.955 | M23: 0.6 | N23: =C23*M23 -> 22190.933 | P23: =C23*O23 -> 0 | Q23: =F23+H23+J23+L23+N23+P23 -> 36984.889
A24: 18 | B24: =PLANILHA!B1511 -> BANCADAS, PRATELEIRAS E DIVISÓRIAS | C24: =PLANILHA!G1558 -> 1607.7817 | D24: =C24/$C$33 -> 0.0036684079 | F24: =C24*E24 -> 0 | H24: =C24*G24 -> 0 | J24: =C24*I24 -> 0 | K24: 0.5 | L24: =C24*K24 -> 803.89086 | M24: 0.5 | N24: =C24*M24 -> 803.89086 | P24: =C24*O24 -> 0 | Q24: =F24+H24+J24+L24+N24+P24 -> 1607.7817
A25: 19 | B25: =PLANILHA!B1559 -> DIVERSOS | C25: =PLANILHA!G1644 -> 50188.254 | D25: =C25/$C$33 -> 0.11451243 | F25: =C25*E25 -> 0 | H25: =C25*G25 -> 0 | J25: =C25*I25 -> 0 | L25: =C25*K25 -> 0 | M25: 0.5 | N25: =C25*M25 -> 25094.127 | O25: 0.5 | P25: =C25*O25 -> 25094.127 | Q25: =F25+H25+J25+L25+N25+P25 -> 50188.254
A26: 20 | B26: =PLANILHA!B1645 -> QUADRA | C26: =PLANILHA!G1715 -> 0 | D26: =C26/$C$33 -> 0 | F26: =C26*E26 -> 0 | H26: =C26*G26 -> 0 | J26: =C26*I26 -> 0 | L26: =C26*K26 -> 0 | N26: =C26*M26 -> 0 | P26: =C26*O26 -> 0 | Q26: =F26+H26+J26+L26+N26+P26 -> 0
A27: 21 | B27: =PLANILHA!B1716 -> FOSSAS, FILTROS, CAIXAS E SUMIDOUROS | C27: =PLANILHA!G1748 -> 0 | D27: =C27/$C$33 -> 0 | F27: =C27*E27 -> 0 | H27: =C27*G27 -> 0 | J27: =C27*I27 -> 0 | L27: =C27*K27 -> 0 | N27: =C27*M27 -> 0 | P27: =C27*O27 -> 0 | Q27: =F27+H27+J27+L27+N27+P27 -> 0
A28: 23 | B28: =PLANILHA!B1749 -> LIMPEZA | C28: =PLANILHA!G1766 -> 7716.44 | D28: =C28/$C$33 -> 0.017606276 | F28: =C28*E28 -> 0 | H28: =C28*G28 -> 0 | J28: =C28*I28 -> 0 | L28: =C28*K28 -> 0 | N28: =C28*M28 -> 0 | O28: 1 | P28: =C28*O28 -> 7716.44 | Q28: =F28+H28+J28+L28+N28+P28 -> 7716.44
A29: 24 | B29: =PLANILHA!B1767 -> LEVANTAMENTOS, E PROJETOS | C29: =PLANILHA!G1839 -> 0 | D29: =C29/$C$33 -> 0 | F29: =C29*E29 -> 0 | H29: =C29*G29 -> 0 | J29: =C29*I29 -> 0 | L29: =C29*K29 -> 0 | N29: =C29*M29 -> 0 | P29: =C29*O29 -> 0 | Q29: =F29+H29+J29+L29+N29+P29 -> 0
A30: 25 | B30: =PLANILHA!B1840 -> DETECÇÃO, COMBATE E PREVENÇÃO A INCÊNDIO | C30: =PLANILHA!G2014 -> 0 | D30: =C30/$C$33 -> 0 | F30: =C30*E30 -> 0 | H30: =C30*G30 -> 0 | J30: =C30*I30 -> 0 | L30: =C30*K30 -> 0 | N30: =C30*M30 -> 0 | P30: =C30*O30 -> 0 | Q30: =F30+H30+J30+L30+N30+P30 -> 0
A31: 26 | B31: =PLANILHA!B2015 -> OUTROS | C31: =PLANILHA!G2028 -> 0 | D31: =C31/$C$33 -> 0 | F31: =C31*E31 -> 0 | H31: =C31*G31 -> 0 | J31: =C31*I31 -> 0 | L31: =C31*K31 -> 0 | N31: =C31*M31 -> 0 | P31: =C31*O31 -> 0 | Q31: =F31+H31+J31+L31+N31+P31 -> 0
A32: TOTAL MENSAL | E32: =F32/C33 -> 0.056283587 | F32: =SUM(F7:F31) -> 24667.847 | G32: =H32/C33 -> 0.12646899 | H32: =SUM(H7:H29) -> 55428.551 | I32: =J32/C33 -> 0.20608029 | J32: =SUM(J7:J29) -> 90320.415 | K32: =L32/C33 -> 0.26784491 | L32: =SUM(L7:L29) -> 117390.48 | M32: =N32/C33 -> 0.26845974 | N32: =SUM(N7:N29) -> 117659.94 | O32: =P32/C33 -> 0.074862489 | P32: =SUM(P7:P29) -> 32810.567 | Q32: =SUM(Q7:Q31) -> 438277.8
A33: TOTAL ACUMULADO | C33: =SUM(C7:C31) -> 438277.8 | D33: =SUM(D7:D32) -> 1 | E33: =F33/C33 -> 0.056283587 | F33: =F32 -> 24667.847 | G33: =H33/C33 -> 0.18275258 | H33: =F33+H32 -> 80096.398 | I33: =J33/C33 -> 0.38883286 | J33: =H33+J32 -> 170416.81 | K33: =L33/C33 -> 0.65667777 | L33: =J33+L32 -> 287807.29 | M33: =N33/C33 -> 0.92513751 | N33: =L33+N32 -> 405467.23 | O33: =P33/C33 -> 1 | P33: =N33+P32 -> 438277.8 | Q33: =Q32 -> 438277.8
A34: LOCAL / DATA: SANTA RITA DE MINAS - MG, 03 DE NOVEMBRO DE 2025
A35: RESPONSÁVEL TÉCNICO: CLEBER ROBERTO DA COSTA ENG CIVIL CREA - MG 381.382/D
A36: REPRESENTANTE LEGAL: ZANIA FARIA SILVA
B39: _____________________________________________ | H39: _____________________________________________
B40: Cleber Roberto da Costa | J40: Zania Faria Silva
B41: Engenheiro Civil | J41: Prefeita Municipal
B42: CREA - MG 381.382/D

Sheet MEMÓRIA DE CÁLCULO DETALHADA
I8: ESCOLA ESTADUAL / MUNICIPAL: OSCAR GARCIA DE OLIVEIRA | N8: SRE: CARATINGA - MG
I9: MUNICÍPIO / DISTRITO: SANTA RITA DE MINAS - MG | N9: ENDEREÇO: Córrego Brejaúba, Zona Rural, Santa Rita de Minas – MG
I10: SERVIÇOS: CONSTRUÇÃO / AMPLIAÇÃO / REFORMA: REFORMA DE CONSTRUÇÃO
I13: MEMÓRIA DE CÁLCULO
I15: Código | J15: Descrição do Serviço | K15: Unidade | L15: Quant. | M15: Local de Intervenção / Descritivo Técnico | N15: Memória de Cálculo Numérica / Dimensional | O15: Fundamentação Técnica (Caderno SEE/MG)
I16: 10001 | J16: Locação dos serviços de engenharia | K16: M | L16: 10 | M16: Locação geral dos eixos e áreas de intervenção da escola, incluindo a torre da caixa d’água e limites de piso intertravado, conforme alinhamentos e cotas de projeto. | N16: Locação da torre da caixa d’água = (2,50 m × 4 lados) = 10,00 m | O16: Cap. 1 – Condições Gerais de Execução, Seção 1.4: determina que toda obra deve iniciar-se pela locação e conferência dos eixos e níveis, com instrumentos adequados e sob responsabilidade do engenheiro executor.
I19: Código | J19: Descrição do Serviço | K19: Unidade | L19: Quant. | M19: Local de Intervenção / Descritivo Técnico | N19: Memória de Cálculo Numérica / Dimensional | O19: Fundamentação Técnica (Caderno SEE/MG)
I20: 10002 | J20: Locação para muros e alambrado | K20: M | L20: 127.9 | M20: Locação dos alinhamentos do alambrado nos flancos direito, esquerdo e fundos da escola, com conferência dos eixos e níveis para implantação dos postes e esticadores. | N20: Alambrado em flanco direito, esquerdo e fundos da escola. (42,10 m × 2 lados) + (43,70 m fundos) = 127,90 m | O20: Cap. 1 – Condições Gerais de Execução, Seção 1.4 (Locação de Obra): determina que a locação de elementos lineares como alambrados e muros deve ser realizada com precisão, garantindo alinhamentos, cotas e níveis de implantação antes do início das fundações e da montagem.
I23: Código | J23: Descrição do Serviço | K23: Unidade | L23: Quant. | M23: Local de Intervenção / Descritivo Técnico | N23: Memória de Cálculo Numérica / Dimensional | O23: Fundamentação Técnica (Caderno SEE/MG)
I24: 10003 | J24: Fornecimento e colocação de placa de obra | K24: UN | L24: 1 | M24: Instalação da placa oficial da obra na fachada principal da escola, em estrutura metálica galvanizada, conforme modelo e layout padrão da Secretaria de Estado de Educação de Minas Gerais. | N24: Fachada da Escola. (Área da placa = 3,00 m × 1,50 m) = 4,50 m², correspondente a 1 unidade. | O24: Cap. 1 – Condições Gerais de Execução, Seção 1.6 (Sinalização e Identificação da Obra): estabelece que toda obra deve possuir placa informativa padrão SEE/MG, instalada em local visível e com dimensões mínimas de 3,00 × 1,50 m.
I27: Código | J27: Descrição do Serviço | K27: Unidade | L27: Quant. | M27: Local de Intervenção / Descritivo Técnico | N27: Memória de Cálculo Numérica / Dimensional | O27: Fundamentação Técnica (Caderno SEE/MG)
I28: 20003 | J28: Demolição de alvenaria de elevação | K28: m³ | L28: 0.33 | M28: Demolição manual de trecho de alvenaria para adequação de passagem entre o refeitório e o banheiro, conforme indicado no projeto arquitetônico, com retirada de entulho e preparo das bordas para recomposição. | N28: Demolição de alvenaria para abertura de porta – acesso a banheiro pelo refeitório, conforme projeto = (1,00 m × 2,20 m) = 2,20 m² × 0,15 m = 0,33 m³. | O28: Cap. 2 – Demolições e Remoções, item 2.1.2: prevê a execução de demolições manuais parciais com segurança, evitando danos às estruturas remanescentes e procedendo ao descarte adequado dos resíduos.
I31: Código | J31: Descrição do Serviço | K31: Unidade | L31: Quant. | M31: Local de Intervenção / Descritivo Técnico | N31: Memória de Cálculo Numérica / Dimensional | O31: Fundamentação Técnica (Caderno SEE/MG)
I32: 20004 | J32: Demolição manual de revestimento cerâmico em paredes | K32: m² | L32: 73.11 | M32: Remoção manual de revestimentos cerâmicos deteriorados em paredes de banheiros, cozinha, lavatório e depósito, preservando a alvenaria de base para posterior recomposição e novo revestimento. | N32: Demolição manual de cerâmica em paredes de banheiro, cozinha e depósito, sendo cerâmicas existentes com h = 1,50 m. Perímetro dos ambientes × altura de 1,50 m = (8,59 + 5,60 + 6,00 + 6,30 + 16,80) m × 1,50 m = 64,94 m². Demolição de cerâmica em lavatório comum = 8,17 m². Total = 73,11 m². | O32: Cap. 2 – Demolições e Remoções, item 2.1.3: estabelece que a remoção manual de revestimentos cerâmicos deve ser realizada com ferramentas manuais, evitando danos à base e garantindo limpeza das superfícies para novo assentamento.
I35: Código | J35: Descrição do Serviço | K35: Unidade | L35: Quant. | M35: Local de Intervenção / Descritivo Técnico | N35: Memória de Cálculo Numérica / Dimensional | O35: Fundamentação Técnica (Caderno SEE/MG)
I36: 20019 | J36: Demolição de reboco ou emboço ou revestimento com argamassa | K36: m² | L36: 129 | M36: Retirada de reboco e revestimentos deteriorados em áreas internas e externas, com limpeza e preparo das superfícies para nova aplicação de argamassa e pintura, conforme projeto. | N36: Áreas degradadas para recomposição de revestimentos e pintura. Área externa e interna = (86,00 m² + 43,00 m²) = 129,00 m². | O36: Cap. 2 – Demolições e Remoções, item 2.1.5: trata da remoção manual de rebocos e revestimentos com argamassa, com limpeza da base e preparo da superfície para posterior recomposição.
I39: Código | J39: Descrição do Serviço | K39: Unidade | L39: Quant. | M39: Local de Intervenção / Descritivo Técnico | N39: Memória de Cálculo Numérica / Dimensional | O39: Fundamentação Técnica (Caderno SEE/MG)
I40: 20020 | J40: Remoção de alambrado | K40: m² | L40: 255.8 | M40: Retirada manual do alambrado existente no perímetro da escola, abrangendo os flancos direito, esquerdo e fundos, com desmontagem dos postes e recolhimento das telas metálicas para destinação adequada. | N40: Remoção de alambrado em perímetro da escola. (42,10 m × 2 lados × 2,00 m de altura) + (43,70 m × 2,00 m de altura) = 255,80 m². Obs.: salvo afastamento frontal de 30 m. | O40: Cap. 2 – Demolições e Remoções, item 2.1.7: estabelece os procedimentos para desmontagem manual de alambrados, remoção de postes e telas metálicas, com reaproveitamento ou descarte controlado dos materiais.
I43: Código | J43: Descrição do Serviço | K43: Unidade | L43: Quant. | M43: Local de Intervenção / Descritivo Técnico | N43: Memória de Cálculo Numérica / Dimensional | O43: Fundamentação Técnica (Caderno SEE/MG)
I44: 20021 | J44: Demolição de piso cimentado inclusive a base sobre lastro de concreto | K44: m² | L44: 100.78 | M44: Demolição manual do piso cimentado com remoção da base sobre lastro de concreto na área do refeitório, com recolhimento dos entulhos e limpeza da superfície para nova execução de piso. | N44: Demolição de piso cimentado em área do refeitório = (92,38 + 8,40) = 100,78 m². | O44: Cap. 2 – Demolições e Remoções, item 2.1.6: estabelece os procedimentos para a demolição manual de pisos cimentados e bases sobre lastro de concreto, incluindo retirada completa da camada estrutural e transporte interno dos resíduos.
I47: Código | J47: Descrição do Serviço | K47: Unidade | L47: Quant. | M47: Local de Intervenção / Descritivo Técnico | N47: Memória de Cálculo Numérica / Dimensional | O47: Fundamentação Técnica (Caderno SEE/MG)
I48: 20023 | J48: Demolição de piso cerâmico inclusive a base sobre lastro de concreto | K48: m² | L48: 24.98 | M48: Demolição manual dos pisos cerâmicos com remoção da base de assentamento e lastro de concreto nas áreas da cozinha, banheiros e depósito, com recolhimento de entulhos e limpeza final da superfície. | N48: Demolição de piso cerâmico em cozinha, banheiros e depósito = (13,84 + 4,50 + 1,92 + 2,24 + 2,48) = 24,98 m². | O48: Cap. 2 – Demolições e Remoções, item 2.1.6: especifica a demolição manual de pisos cerâmicos com retirada completa da base e do lastro de concreto, assegurando superfície limpa e regular para nova execução.
I51: Código | J51: Descrição do Serviço | K51: Unidade | L51: Quant. | M51: Local de Intervenção / Descritivo Técnico | N51: Memória de Cálculo Numérica / Dimensional | O51: Fundamentação Técnica (Caderno SEE/MG)
I52: 20031 | J52: Retirada de folha de porta ou folha de janela de madeira | K52: m² | L52: 19.74 | M52: Remoção manual das folhas de portas de madeira existentes, incluindo o destacamento dos pinos, dobradiças e ferragens, com empilhamento para possível reaproveitamento. | N52: Remoção de 11 portas de (0,80 m × 2,10 m) e remoção de 1 porta de (0,60 m × 2,10 m) = 19,74 m². | O52: Cap. 2 – Demolições e Remoções, item 2.1.8: estabelece os procedimentos para a remoção manual de esquadrias de madeira, garantindo o reaproveitamento de componentes e a integridade das alvenarias.
I55: Código | J55: Descrição do Serviço | K55: Unidade | L55: Quant. | M55: Local de Intervenção / Descritivo Técnico | N55: Memória de Cálculo Numérica / Dimensional | O55: Fundamentação Técnica (Caderno SEE/MG)
I56: 20032 | J56: Remoção de marcos chumbados de madeira, alisares e acessórios | K56: un | L56: 12 | M56: Remoção manual dos marcos de madeira chumbados em alvenaria, com retirada dos alisares e ferragens, executada com ferramentas manuais e cuidado para não danificar as paredes existentes. | N56: Remoção de 11 portas de (0,80 m × 2,10 m) e remoção de 1 porta de (0,60 m × 2,10 m) = 12 unidades. | O56: Cap. 2 – Demolições e Remoções, item 2.1.8: define os procedimentos para remoção manual de marcos e alisares de madeira chumbados, com reaproveitamento possível e recomposição das áreas afetadas.
I59: Código | J59: Descrição do Serviço | K59: Unidade | L59: Quant. | M59: Local de Intervenção / Descritivo Técnico | N59: Memória de Cálculo Numérica / Dimensional | O59: Fundamentação Técnica (Caderno SEE/MG)
I60: 20033 | J60: Apicoamento de tetos, paredes e pisos com profundidade até 1 cm | K60: m² | L60: 217.26 | M60: Apicoamento manual de tetos, paredes e pisos nas salas de aula e áreas de circulação, visando à regularização das superfícies e remoção de revestimentos soltos antes da recomposição e pintura. | N60: Apicoamento de piso cimentado em salas e circulação = (37,75 + 5,46 + 15,69 + 38,75 + 28,64 + 36,90 + 24,40 + 29,67) = 217,26 m². | O60: Cap. 2 – Demolições e Remoções, item 2.1.9: trata do apicoamento de superfícies de concreto e argamassa até 1 cm de profundidade, executado manualmente para limpeza, aderência e preparo de base para novo revestimento.
I63: Código | J63: Descrição do Serviço | K63: Unidade | L63: Quant. | M63: Local de Intervenção / Descritivo Técnico | N63: Memória de Cálculo Numérica / Dimensional | O63: Fundamentação Técnica (Caderno SEE/MG)
I64: 20034 | J64: Remoção de calha galvanizada ou PVC, inclusive afastamento | K64: m | L64: 24 | M64: Retirada manual das calhas e rufos metálicos existentes na cobertura para revisão do telhado, com reaproveitamento das peças em bom estado e reinstalação posterior conforme projeto. | N64: Retirada com reaproveitamento de calhas e rufos para revisão de telhado = 24,00 m. | O64: Cap. 2 – Demolições e Remoções, item 2.1.10: especifica a remoção de calhas, rufos e condutores metálicos ou de PVC, com afastamento, reaproveitamento e reinstalação conforme condições de uso.
I67: Código | J67: Descrição do Serviço | K67: Unidade | L67: Quant. | M67: Local de Intervenção / Descritivo Técnico | N67: Memória de Cálculo Numérica / Dimensional | O67: Fundamentação Técnica (Caderno SEE/MG)
I68: 20035 | J68: Remoção de louças (lavatório, pia, tanque, vaso sanitário) | K68: un | L68: 7 | M68: Retirada manual de louças sanitárias e de utilidade (vasos, lavatórios, pias e tanque), incluindo desconexão hidráulica e empilhamento para reaproveitamento ou substituição conforme projeto. | N68: Remoção de lavatórios, vaso sanitário e tanque = 7 unidades. | O68: Cap. 2 – Demolições e Remoções, item 2.1.11: define o procedimento de remoção manual de louças e metais sanitários, incluindo desconexão, retirada das fixações e limpeza do local, com possibilidade de reaproveitamento.
I71: Código | J71: Descrição do Serviço | K71: Unidade | L71: Quant. | M71: Local de Intervenção / Descritivo Técnico | N71: Memória de Cálculo Numérica / Dimensional | O71: Fundamentação Técnica (Caderno SEE/MG)
I72: 20036 | J72: Remoção de bancadas de pedra (mármore, granito, ardósia, marmorite, etc.) | K72: m² | L72: 0.66 | M72: Remoção manual de bancada existente em pedra no refeitório da escola, com reaproveitamento da peça em nova instalação, conforme indicado em projeto. | N72: Remoção de bancada com reaproveitamento em bancada de refeitório, dimensões (0,60 m × 1,10 m) = 0,66 m². | O72: Cap. 2 – Demolições e Remoções, item 2.1.12: define o procedimento para desmontagem e remoção de bancadas de pedra, incluindo destacamento da argamassa de fixação e proteção das peças destinadas a reaproveitamento.
I75: Código | J75: Descrição do Serviço | K75: Unidade | L75: Quant. | M75: Local de Intervenção / Descritivo Técnico | N75: Memória de Cálculo Numérica / Dimensional | O75: Fundamentação Técnica (Caderno SEE/MG)
I76: 20103 | J76: Forro de PVC | K76: m² | L76: 206.7 | M76: Remoção manual do forro em PVC existente nas salas de aula, corredor, cozinha e sala de TI, com desmontagem das réguas e perfis metálicos e acondicionamento das peças para descarte ou reaproveitamento. | N76: Remoção de forro em PVC, nas salas de aula, corredor, cozinha e sala de TI = (37,75 + 5,46 + 38,75 + 15,69 + 28,64 + 36,90 + 29,67 + 13,84) = 206,70 m². | O76: Cap. 2 – Demolições e Remoções, item 2.1.13: dispõe sobre a remoção manual de forros de PVC e estruturas de suporte, devendo ser realizada com ferramentas adequadas e cuidado para evitar danos às estruturas existentes.
I79: Código | J79: Descrição do Serviço | K79: Unidade | L79: Quant. | M79: Local de Intervenção / Descritivo Técnico | N79: Memória de Cálculo Numérica / Dimensional | O79: Fundamentação Técnica (Caderno SEE/MG)
I80: 30001 | J80: Aterro compactado manual, com soquete | K80: m³ | L80: 0.49 | M80: Execução de aterro manual compactado com soquete em valas e blocos de coroamento da fundação da torre de caixa d’água, garantindo o reaterro uniforme e estabilizado antes da concretagem das vigas baldrame. | N80: Aterro manual para blocos de coroamento e vigas baldrame = (0,90 m × 0,90 m × 0,60 m × 4 blocos) = 0,49 m³. | O80: Cap. 3 – Movimentos de Terra, item 3.2.1: define o aterro compactado manual com soquete, executado em camadas sucessivas de até 20 cm, garantindo a densidade e o nivelamento para fundações rasas e estruturas leves.
I83: Código | J83: Descrição do Serviço | K83: Unidade | L83: Quant. | M83: Local de Intervenção / Descritivo Técnico | N83: Memória de Cálculo Numérica / Dimensional | O83: Fundamentação Técnica (Caderno SEE/MG)
I84: 30002 | J84: Escavação manual de vala em solo de 1ª e 2ª categoria, profundidade em até 2,00 m | K84: m³ | L84: 3.34 | M84: Escavação manual de valas e blocos de coroamento na fundação da torre de caixa d’água, em solo de 1ª e 2ª categoria, com remoção do material e conformação do fundo para posterior execução das fundações. | N84: Escavação manual para blocos de coroamento e vigas baldrame = (0,90 m × 0,90 m × 1,00 m × 4 blocos) + (2,50 m × 0,30 m × 0,15 m × 4 lados) = 3,34 m³. | O84: Cap. 3 – Movimentos de Terra, item 3.1.2: especifica a escavação manual de valas e blocos em solo de 1ª e 2ª categoria, com profundidade até 2,00 m, remoção do material escavado e regularização do fundo para concretagem.
...
