Workbook

Sheet Memória
A1: PREFEITURA MUNICIPAL DE SANTA BÁRBARA DO LESTE
A2: MEMÓRIA DE CÁLCULO
A3: OBRA: ACRÉSCIMO LARGURA DE PONTE
A4: LOCAL: PONTE NA SAÍDA DE SANTA BÁRBARA DO LESTE PARA SANTANA
A5: DATA: | B5: =TODAY() -> 45370
A6: ÍTEN | B6: CÓDIGO | C6: DESCRIÇÃO | D6: UNID | E6: QUANT
A7: 1 | B7: SINAPI | C7: SERVIÇOS PRELIMINARES
A8: 1.1 | B8: SEINFRA ED-50392 | C8: MOBILIZAÇÃO/DESMOBILIZAÇÃO | D8: % | E8: 0.005
A9: 1.2 | B9: 104789 | C9: DEMOLIÇÃO DE PISO DE CONCRETO SIMPLES, DE FORMA MANUAL, SEM REAPROVEITAMENTO. AF_09/2023 | D9: M3 | E9: 0.732 | F9: Conforme Projeto
A10: 1.3 | B10: 103689 | C10: FORNECIMENTO E INSTALAÇÃO DE PLACA DE OBRA COM CHAPA GALVANIZADA E ESTRUTURA DE MADEIRA. AF_03/2022_PS | D10: M2 | E10: =3*1.5 -> 4.5 | F10: Comprimento x Altura = 3,00 x 1,50
A11: 2 | C11: SUPERESTRUTURA
A12: 2.1 | B12: 157 | C12: ADESIVO ESTRUTURAL A BASE DE RESINA EPOXI PARA INJECAO EM TRINCAS, BICOMPONENTE, BAIXA VISCOSIDADE | D12: KG | E12: 2 | F12: 2 Kg
A13: 2.2 | B13: 5631 | C13: ESCAVADEIRA HIDRÁULICA SOBRE ESTEIRAS, CAÇAMBA 0,80 M3, PESO OPERACIONAL 17 T, POTENCIA BRUTA 111 HP - CHP DIURNO. AF_06/2014 | D13: CHP | E13: 16 | F13: 8 horas por dia x 2 dias
A14: 2.3 | B14: 2788 | C14: MADEIRA ROLICA TRATADA, D = 30 A 34 CM, H = 6,50 M, EM EUCALIPTO OU EQUIVALENTE DA REGIAO | D14: M | E14: =10*6 -> 60 | F14: 5 Estacas de 6,00metros x 2 lados
A15: 2.4 | B15: 93358 | C15: ESCAVAÇÃO MANUAL DE VALA COM PROFUNDIDADE MENOR OU IGUAL A 1,30 M. AF_02/2021 | D15: M3 | E15: =5.67*1*2 -> 11.34 | F15: área de escavação x altura x 2 lados = 5,67 x 1,00 x 2
A16: 2.5 | B16: 100763 | C16: VIGA METÁLICA EM PERFIL LAMINADO W610X140 OU SOLDADA EM AÇO ESTRUTURAL COM CONEXOES SOLDADAS INCLUSOS MÃO DE OBRA TRANSPORTE E IÇAMENTO UTILIZANDO GUINDASTE - FORNECIMENTO E INSTALAÇÃO. | D16: KG | E16: =7*3*140+(2.37*22.3*2) -> 3045.702 | F16: Comprimento da viga x 3 repetições x 140kg/m = 7,00 x 3 x 140 =
A17: 2.6 | B17: 103763 | C17: MONTAGEM E DESMONTAGEM DE FÔRMA DE LAJE MACIÇA, PÉ-DIREITO SIMPLES, EM M2 CR 61,04 CHAPA DE MADEIRA COMPENSADA RESINADA E CIMBRAMENTO DE MADEIRA, 8 UTIL IZAÇÕES. AF_03/2022 | D17: M2 | E17: =5*7+(3*3.5*2*2) -> 77 | F17: àrea calculada em AutoCad
A18: 2.7 | B18: 92762 | C18: ARMAÇÃO DE PILAR OU VIGA DE ESTRUTURA CONVENCIONAL DE CONCRETO ARMADO KG CR 9,99 UTILIZANDO AÇO CA-50 DE 10,0 MM - MONTAGEM. AF_06/2022 | D18: KG | E18: =304.02+185.19+243.74 -> 732.95 | F18: Conforme Projeto
A19: 2.8 | B19: 92763 | C19: ARMAÇÃO DE PILAR OU VIGA DE ESTRUTURA CONVENCIONAL DE CONCRETO ARMADO KG CR 8,42 UTILIZANDO AÇO CA-50 DE 12,5 MM - MONTAGEM. AF_06/2022 | D19: KG | E19: =478.68+67.31*2 -> 613.3 | F19: Conforme Projeto
A20: 2.9 | B20: 102476 | C20: CONCRETO FCK = 25MPA, TRAÇO 1:2,2:2,5 (EM MASSA SECA DE CIMENTO/ AREIA MÉDIA/ SEIXO ROLADO) - PREPARO MECÂNICO COM BETONEIRA 400 L. AF_05/20 21 | D20: M3 | E20: =1.26*7+(5.67*1*2)+(2.7*2.5*2) -> 33.66 | F20: 1,26*7+(5,67*1*2)+(2,7*2,5*2)
A21: 2.10 | B21: 99839 | C21: GUARDA-CORPO DE AÇO GALVANIZADO DE 1,10M DE ALTURA, MONTANTES TUBULARES DE 1.1/2 ESPAÇADOS DE 1,20M, TRAVESSA SUPERIOR DE 2 , GRADIL FORMADO POR BARRAS CHATAS EM FERRO DE 32X4,8MM, FIXADO COM CHUMBADOR MECÂNICO. AF_04/2019_PS | D21: M | E21: 14 | F21: Comprimeneto x 2 lados = 7,00 x 2 =
C24: Rodrigo Dias Maia - CREA/MG 180.918/D
C26: Wilma Pereira Mafra Ribeiro - Prefeita Municipal

Sheet Cronograma
A1: PREFEITURA MUNICIPAL DE SANTA BÁRBARA DO LESTE
A3: CNPJ:66.229.634/0001-29
A5: CRONOGRAMA FÍSICO-FINANCEIRO
A6: PREFEITURA: SANTA BÁRBARA DO LESTE/MG | D6: VALOR DA OBRA: R$142.118,38 | I6: DATA:19/03/2024
A7: =Memória!A3 -> OBRA: ACRÉSCIMO LARGURA DE PONTE | D7: =Memória!A4 -> LOCAL: PONTE NA SAÍDA DE SANTA BÁRBARA DO LESTE PARA SANTANA | I7: PRAZO DA OBRA: 2 MESES
A8: ITEM | B8: CÓDIGO | C8: ETAPAS/DESCRIÇÃO | D8: FÍSICO/ FINANCEIRO | E8: TOTAL ETAPAS | F8: MÊS 1 | G8: MÊS 2
C9: =[1]PLANILHA!C13 -> SERVIÇOS PRELIMINARES | D9: Físico % | E9: =E10/E14 -> 0.016742847 | F9: 1
D10: Financeiro | E10: =Planilha1!H8+Planilha1!H9+Planilha1!H10 -> 2379.4664 | F10: =F9*$E$10 -> 2379.4664
C11: =Planilha1!C11 -> SUPERESTRUTURA | D11: Físico % | E11: =E12/E14 -> 0.98325715 | F11: 0.5 | G11: 0.5
D12: Financeiro | E12: =Planilha1!H12+Planilha1!H13+Planilha1!H14+Planilha1!H15+Planilha1!H16+Planilha1!H17+Planilha1!H18+Planilha1!H19+Planilha1!H20+Planilha1!H21 -> 139738.92 | F12: =F11*$E$12 -> 69869.459 | G12: =G11*$E$12 -> 69869.459
A13: TOTAL | D13: Físico % | E13: =E9+E11 -> 1 | F13: =F14/$E$14 -> 0.50837142 | G13: =G14/$E$14 -> 0.49162858
D14: Financeiro | E14: =E10+E12 -> 142118.38 | F14: =F10+F12 -> 72248.926 | G14: =G10+G12 -> 69869.459
H17: Observações:
B18: Engº Civil - Rodrigo Dias Maia | E18: CREA/MG - 180.918/D
B21: Prefeita - Wilma Mafra Pereira Ribeiro

Sheet Planilha1
A1: PREFEITURA MUNICIPAL DE SANTA BÁRBARA DO LESTE
A2: PLANILHA ORÇAMENTÁRIA
A3: OBRA: ACRÉSCIMO LARGURA DE PONTE
A4: LOCAL: PONTE NA SAÍDA DE SANTA BÁRBARA DO LESTE PARA SANTANA
A5: DATA: | B5: =TODAY() -> 45370
A6: ÍTEN | B6: CÓDIGO | C6: DESCRIÇÃO | D6: UNID | E6: QUANT | F6: R$ UNITÁRIO | G6: R$ COM BDI(28,64%) | H6: R$ TOTAL
A7: 1 | B7: SINAPI | C7: SERVIÇOS PRELIMINARES
A8: 1.1 | B8: SEINFRA ED-50392 | C8: MOBILIZAÇÃO/DESMOBILIZAÇÃO | D8: % | E8: 0.005 | G8: 463.35 | H8: =G8 -> 463.35 | J8: =H8+H9+H10 -> 2379.4664
A9: 1.2 | B9: 104789 | C9: DEMOLIÇÃO DE PISO DE CONCRETO SIMPLES, DE FORMA MANUAL, SEM REAPROVEITAMENTO. AF_09/2023 | D9: M3 | E9: 0.732 | F9: 167.73 | G9: =F9*1.2864 -> 215.76787 | H9: =G9*E9 -> 157.94208
A10: 1.3 | B10: 103689 | C10: FORNECIMENTO E INSTALAÇÃO DE PLACA DE OBRA COM CHAPA GALVANIZADA E ESTRUTURA DE MADEIRA. AF_03/2022_PS | D10: M2 | E10: =3*1.5 -> 4.5 | F10: 303.72 | G10: =F10*1.2864 -> 390.70541 | H10: =G10*E10 -> 1758.1743
A11: 2 | C11: SUPERESTRUTURA
A12: 2.1 | B12: 157 | C12: ADESIVO ESTRUTURAL A BASE DE RESINA EPOXI PARA INJECAO EM TRINCAS, BICOMPONENTE, BAIXA VISCOSIDADE | D12: KG | E12: 2 | F12: 128.22 | G12: =F12*1.2864 -> 164.94221 | H12: =E12*G12 -> 329.88442
A13: 2.2 | B13: 5631 | C13: ESCAVADEIRA HIDRÁULICA SOBRE ESTEIRAS, CAÇAMBA 0,80 M3, PESO OPERACIONAL 17 T, POTENCIA BRUTA 111 HP - CHP DIURNO. AF_06/2014 | D13: CHP | E13: 16 | F13: 223.77 | G13: =F13*1.2864 -> 287.85773 | H13: =E13*G13 -> 4605.7236
A14: 2.3 | B14: 2788 | C14: MADEIRA ROLICA TRATADA, D = 30 A 34 CM, H = 6,50 M, EM EUCALIPTO OU EQUIVALENTE DA REGIAO | D14: M | E14: =10*6 -> 60 | F14: 169.88 | G14: =F14*1.2864 -> 218.53363 | H14: =E14*G14 -> 13112.018
A15: 2.4 | B15: 93358 | C15: ESCAVAÇÃO MANUAL DE VALA COM PROFUNDIDADE MENOR OU IGUAL A 1,30 M. AF_02/2021 | D15: M3 | E15: =5.67*1*2 -> 11.34 | F15: 70.29 | G15: =F15*1.2864 -> 90.421056 | H15: =E15*G15 -> 1025.3748 | J15: =H12+H13+H14+H15+H16+H17+H18+H19+H20+H21 -> 139738.92
A16: 2.5 | B16: 100763 | C16: VIGA METÁLICA EM PERFIL LAMINADO W610X140 OU SOLDADA EM AÇO ESTRUTURAL COM CONEXOES SOLDADAS INCLUSOS MÃO DE OBRA TRANSPORTE E IÇAMENTO UTILIZANDO GUINDASTE - FORNECIMENTO E INSTALAÇÃO. | D16: KG | E16: =7*3*140+(2.37*22.3*2) -> 3045.702 | F16: 15.84 | G16: =F16*1.2864 -> 20.376576 | H16: =E16*G16 -> 62060.978
A17: 2.6 | B17: 103763 | C17: MONTAGEM E DESMONTAGEM DE FÔRMA DE LAJE MACIÇA, PÉ-DIREITO SIMPLES, EM M2 CR 61,04 CHAPA DE MADEIRA COMPENSADA RESINADA E CIMBRAMENTO DE MADEIRA, 8 UTIL IZAÇÕES. AF_03/2022 | D17: M2 | E17: =5*7+(3*3.5*2*2) -> 77 | F17: 61.04 | G17: =F17*1.2864 -> 78.521856 | H17: =E17*G17 -> 6046.1829
A18: 2.7 | B18: 92762 | C18: ARMAÇÃO DE PILAR OU VIGA DE ESTRUTURA CONVENCIONAL DE CONCRETO ARMADO KG CR 9,99 UTILIZANDO AÇO CA-50 DE 10,0 MM - MONTAGEM. AF_06/2022 | D18: KG | E18: =304.02+185.19+243.74 -> 732.95 | F18: 9.99 | G18: =F18*1.2864 -> 12.851136 | H18: =G18*E18 -> 9419.2401
A19: 2.8 | B19: 92763 | C19: ARMAÇÃO DE PILAR OU VIGA DE ESTRUTURA CONVENCIONAL DE CONCRETO ARMADO KG CR 8,42 UTILIZANDO AÇO CA-50 DE 12,5 MM - MONTAGEM. AF_06/2022 | D19: KG | E19: =478.68+67.31*2 -> 613.3 | F19: 8.42 | G19: =F19*1.2864 -> 10.831488 | H19: =G19*E19 -> 6642.9516
A20: 2.9 | B20: 102476 | C20: CONCRETO FCK = 25MPA, TRAÇO 1:2,2:2,5 (EM MASSA SECA DE CIMENTO/ AREIA MÉDIA/ SEIXO ROLADO) - PREPARO MECÂNICO COM BETONEIRA 400 L. AF_05/20 21 | D20: M3 | E20: =1.26*7+(5.67*1*2)+(2.7*2.5*2) -> 33.66 | F20: 656.16 | G20: =F20*1.2864 -> 844.08422 | H20: =E20*G20 -> 28411.875
A21: 2.10 | B21: 99839 | C21: GUARDA-CORPO DE AÇO GALVANIZADO DE 1,10M DE ALTURA, MONTANTES TUBULARES DE 1.1/2 ESPAÇADOS DE 1,20M, TRAVESSA SUPERIOR DE 2 , GRADIL FORMADO POR BARRAS CHATAS EM FERRO DE 32X4,8MM, FIXADO COM CHUMBADOR MECÂNICO. AF_04/2019_PS | D21: M | E21: 14 | F21: 448.91 | G21: =F21*1.2864 -> 577.47782 | H21: =G21*E21 -> 8084.6895
F22: TOTAL GERAL | H22: =SUM(H8:H21) -> 142118.38 | I22: 92671.31 | J22: =I22*0.005 -> 463.35655
C24: Rodrigo Dias Maia - CREA/MG 180.918/D
C26: Wilma Pereira Mafra Ribeiro - Prefeita Municipal
