Workbook
Name __xlnm.Print_Area_1: 0
Name __xlnm.Print_Titles_1: 0
Name __xlnm_Print_Area_1: 0
Name __xlnm_Print_Titles_1: 0
Name a: "#ref!"
Name CICLOVIA_3: "#ref!"
Name CICLOVIA_3_2: "#ref!"
Name CICLOVIA_3_4: "#ref!"
Name CICLOVIA_3_5: "#ref!"
Name CONCATENAR: CONCATENATE(#REF!," ",#REF!)
Name CONCATENAR: CONCATENATE(#REF!," ",#REF!)
Name CP: "#ref!"
Name Dados.Lista.BDI: [2]DADOS!$T$37:$X$37
Name DATABASE: #REF!
Name DATABASE: #REF!
Name DATAEMISSAO: #REF!
Name DATAEMISSAO: #REF!
Name DATART: #REF!
Name DATART: #REF!
Name e: "#ref!"
Name EMPRESAS: OFFSET([3]Cotações!$B$25,0,0):OFFSET([3]Cotações!$H$29,-1,0)
Name Excel_BuiltIn__FilterDatabase: "#ref!"
Name Excel_BuiltIn_Print_Area_1: "#ref!"
Name Excel_BuiltIn_Print_Area_1_1: "#ref!"
Name Excel_BuiltIn_Print_Area_1_1_1: "#ref!"
Name Excel_BuiltIn_Print_Area_2: "#ref!"
Name Excel_BuiltIn_Print_Area_2_1: "#ref!"
Name Excel_BuiltIn_Print_Area_3: "#ref!"
Name Excel_BuiltIn_Print_Area_3_1: "#ref!"
Name Excel_BuiltIn_Print_Area_3_1_1: "#ref!"
Name Excel_BuiltIn_Print_Area_4: "#ref!"
Name Excel_BuiltIn_Print_Area_4_1: "#ref!"
Name Excel_BuiltIn_Print_Area_5: "#ref!"
Name Excel_BuiltIn_Print_Area_6: "#ref!"
Name Excel_BuiltIn_Print_Area_7: "#ref!"
Name Excel_BuiltIn_Print_Titles_2: "#ref!"
Name Excel_BuiltIn_Print_Titles_2_1: "#ref!"
Name Excel_BuiltIn_Print_Titles_2_1_1: "#ref!"
Name Excel_BuiltIn_Print_Titles_3: "#ref!"
Name Excel_BuiltIn_Print_Titles_3_1: "#ref!"
Name Excel_BuiltIn_Print_Titles_4: "#ref!"
Name Excel_BuiltIn_Print_Titles_5: "#ref!"
Name Excel_BuiltIn_Print_Titles_5_1: "#ref!"
Name Excel_BuiltIn_Print_Titles_6: "#ref!"
Name Excel_BuiltIn_Print_Titles_6_2: "#ref!"
Name Excel_BuiltIn_Print_Titles_6_4: "#ref!"
Name Excel_BuiltIn_Print_Titles_6_5: "#ref!"
Name Excel_BuiltIn_Print_Titles_7: "#ref!"
Name INDICES: [3]Cotações!$B$22:OFFSET([3]Cotações!$I$24,-1,0)
Name LOCALIDADE: #REF!
Name LOCALIDADE: #REF!
Name MEMÓRIA: ROUND([5]Planilha!$P1,15-13*[5]Planilha!#REF!)
Name MEMÓRIA: ROUND([5]Planilha!$P1,15-13*[5]Planilha!#REF!)
Name NCOMPOSICOES: 0
Name NCOTACOES: 0
Name NEMPRESAS: 3
Name NINDICES: 1
Name NRELATORIOS: COUNTA([3]Relatórios!$A:$A)-2
Name NumerEmpresa: 3
Name NumerIndice: 1

Sheet Planilha
E3: Prazo: | F3: 3 meses
B4: PLANILHA ORÇAMENTÁRIA
B6: OBRA: CEA - CENTRO DE EDUCAÇÃO AMBIENTAL - RESTAURAÇÃO PREDIAL | E6: B.D.I.: | F6: 0
B7: LOCAL: RUA AIRTON SENNA - BAIRRO CENTRO - BERTIOGA | E7: L.S.: | F7: Desonerado
E9: Custo
A10: Item | B10: Descrição dos Serviços | C10: Unid. | D10: Quant. | E10: Unitário | F10: Preço Total
E11: R$ | F11: R$
A13: 100 | B13: CANTEIRO DE OBRAS
B15: SERVIÇOS PRELIMINARES
A16: 101 | B16: PLACA DE IDENTIFICAÇÃO PARA OBRA | C16: M2 | D16: 6 | F16: =+D16*E16 -> 0
A17: 102 | B17: LOCAÇÃO DE CONTAINER TIPO DEPÓSITO - ÁREA MÍNIMA DE 13,80 M² | C17: UNMES | D17: 6 | F17: =+D17*E17 -> 0
B19: TOTAL DO ITEM | C19: 100 | F19: =SUM(F16:F18) -> 0
A21: 200 | B21: DEMOLIÇÕES E RETIRADAS
B23: EDIFICAÇÕES EM ALVENARIA (20% DA ÁREA TOTAL)
A24: 201 | B24: RETIRADA DE TELHAMENTO PERFIL E MATERIAL QUALQUER, EXCETO BARRO | C24: M2 | D24: 77.45 | F24: =+D24*E24 -> 0
A25: 202 | B25: RETIRADA DE FORRO QUALQUER EM PLACAS OU TIRAS FIXADAS | C25: M2 | D25: 47.01 | F25: =+D25*E25 -> 0
A26: 203 | B26: RETIRADA DE SISTEMA DE FIXAÇÃO OU TARUGAMENTO DE FORRO | C26: M2 | D26: 47.01 | F26: =+D26*E26 -> 0
A27: 204 | B27: REMOÇÃO DE CALHA OU RUFO | C27: M | D27: 12.7 | F27: =+D27*E27 -> 0
B29: TOTAL DO ITEM | C29: 200 | F29: =SUM(F24:F28) -> 0
A31: 300 | B31: ESTRUTURAS DE APOIO
B33: ANDAIMES
A34: 301 | B34: MONTAGEM E DESMONTAGEM DE ANDAIME TORRE METÁLICA COM ALTURA ATÉ 10 M | C34: M | D34: 136 | F34: =+D34*E34 -> 0
A35: 302 | B35: ANDAIME TORRE METÁLICO (1,5 X 1,5 M) COM PISO METÁLICO | C35: MXMES | D35: 30 | F35: =+D35*E35 -> 0
B37: TOTAL DO ITEM | C37: 300 | F37: =SUM(F34:F36) -> 0
A39: 400 | B39: RECOMPOSIÇÃO DAS COBERTURAS
B41: ESTRUTURA DE COBERTURA DAS EDIFICAÇÕES (20% DA ÁREA DA EDIFICAÇÃO + 4 TELHAS)
A42: 401 | B42: ESTRUTURA PONTALETADA PARA TELHAS ONDULADAS | C42: M2 | D42: 64.03 | F42: =+D42*E42 -> 0
B43: COBERTURA DAS EDIFICAÇÕES
A44: 402 | B44: TELHAMENTO EM CIMENTO REFORÇADO COM FIO SINTÉTICO CRFS - PERFIL ONDULADO DE 8 MM | C44: M2 | D44: 77.45 | F44: =+D44*E44 -> 0
A45: 403 | B45: CALHA, RUFO, AFINS EM CHAPA GALVANIZADA Nº 24 - CORTE 0,50 M | C45: M | D45: 12.7 | F45: =+D45*E45 -> 0
B46: FECHAMENTO DE OITÕES
A47: 404 | B47: ALVENARIA DE BLOCO DE CONCRETO DE VEDAÇÃO DE 14 X 19 X 39 CM - CLASSE C | C47: M2 | D47: 11.63 | F47: =+D47*E47 -> 0
A48: 405 | B48: CHAPISCO | C48: M2 | D48: 11.63 | F48: =+D48*E48 -> 0
A49: 406 | B49: REBOCO | C49: M2 | D49: 11.63 | F49: =+D49*E49 -> 0
B51: TOTAL DO ITEM | C51: 400 | F51: =SUM(F42:F50) -> 0
A53: 500 | B53: RECOMPOSIÇÃO DOS FORROS
B55: FORROS DA ÁREA ADMINISTRATIVA (20% DA ÁREA DE FORROS DA EDIFICAÇÃO)
A56: 501 | B56: FORRO EM LÂMINA DE PVC | C56: M2 | D56: 47.01 | F56: =+D56*E56 -> 0
A57: 502 | B57: FORNECIMENTO E MONTAGEM DE ESTRUTURA METÁLICA EM PERFIL METALON, SEM PINTURA | C57: KG | D57: 47.01 | F57: =+D57*E57 -> 0
B59: TOTAL DO ITEM | C59: 500 | F59: =SUM(F56:F58) -> 0
A61: 600 | B61: PINTURA GERAL - PRÉDIO ADM
B63: PINTURA DE LAJES
A64: 601 | B64: TINTA LÁTEX EM MASSA, INCLUSIVE PREPARO | C64: M2 | D64: 27.6 | F64: =+D64*E64 -> 0
B65: PAREDES INTERNAS
A66: 602 | B66: TINTA LÁTEX EM MASSA, INCLUSIVE PREPARO | C66: M2 | D66: 493.29 | F66: =+D66*E66 -> 0
B67: PAREDES EXTERNAS
A68: 603 | B68: TINTA LÁTEX EM MASSA, INCLUSIVE PREPARO | C68: M2 | D68: 350.7 | F68: =+D68*E68 -> 0
B69: PORTAS
A70: 604 | B70: ESMALTE À BASE DE ÁGUA EM MASSA, INCLUSIVE PREPARO | C70: M2 | D70: 50.4 | F70: =+D70*E70 -> 0
B72: TOTAL DO ITEM | C72: 600 | F72: =SUM(F64:F71) -> 0
A74: 700 | B74: LIMPEZA FINAL DA OBRA
B76: LIMPEZA GERAL
A77: 701 | B77: LIMPEZA FINAL DA OBRA | C77: M2 | D77: 320.17 | F77: =+D77*E77 -> 0
B78: RETIRADA E TRANSPORTE DE ENTULHOS
A79: 702 | B79: REMOÇÃO DE ENTULHO SEPARADO DE OBRA COM CAÇAMBA METÁLICA - TERRA, ALVENARIA, CONCRETO, ARGAMASSA, MADEIRA, PAPEL, PLÁSTICO OU METAL | C79: M3 | D79: 12 | F79: =+D79*E79 -> 0
B81: TOTAL DO ITEM | C81: 700 | F81: =SUM(F77:F80) -> 0
B83: TOTAL | E83: =F19+F29+F37+F51+F59+F72+F81 -> 0
B84: BDI 0,00% | E84: =E83*0 -> 0
B85: TOTAL GERAL | E85: =E83+E84 -> 0

Sheet cronograma
C4: CRONOGRAMA FÍSICO - FINANCEIRO
C6: OBRA: CEA - CENTRO DE EDUCAÇÃO AMBIENTAL - RESTAURAÇÃO PREDIAL
C8: LOCAL: RUA AIRTON SENNA - BAIRRO CENTRO - BERTIOGA
C11: MESES
A12: Item | B12: ETAPAS DE SERVIÇOS | C12: 1 | D12: 2 | E12: 3 | O12: VALOR
C13: 30 | D13: 60 | E13: 90 | O13: R$
A15: 100 | B15: CANTEIRO DE OBRAS | C15: 0 | D15: 0 | E15: 0 | O15: =SUM(C15:N15) -> 0
C16: =$O16*C15 -> 0 | D16: =$O16*D15 -> 0 | E16: =$O16*E15 -> 0 | O16: =Planilha!F19*(Planilha!$F$6+1) -> 0
A18: 200 | B18: DEMOLIÇÕES E RETIRADAS | C18: 0 | O18: =SUM(C18:N18) -> 0
C19: =$O19*C18 -> 0 | O19: =Planilha!F29*(Planilha!$F$6+1) -> 0
A21: 300 | B21: ESTRUTURAS DE APOIO | C21: 0 | D21: 0 | E21: 0 | O21: =SUM(C21:N21) -> 0
C22: =$O22*C21 -> 0 | D22: =$O22*D21 -> 0 | E22: =$O22*E21 -> 0 | O22: =Planilha!F37*(Planilha!$F$6+1) -> 0
A24: 400 | B24: RECOMPOSIÇÃO DAS COBERTURAS | C24: 0 | D24: 0 | O24: =SUM(C24:N24) -> 0
C25: =$O25*C24 -> 0 | D25: =$O25*D24 -> 0 | O25: =Planilha!F51*(Planilha!$F$6+1) -> 0
A27: 500 | B27: RECOMPOSIÇÃO DOS FORROS | D27: 0 | E27: 0 | O27: =SUM(C27:N27) -> 0
D28: =$O28*D27 -> 0 | E28: =$O28*E27 -> 0 | O28: =Planilha!F59*(Planilha!$F$6+1) -> 0
A30: 600 | B30: PINTURA GERAL - PRÉDIO ADM | D30: 0 | E30: 0 | O30: =SUM(C30:N30) -> 0
D31: =$O31*D30 -> 0 | E31: =$O31*E30 -> 0 | O31: =Planilha!F72*(Planilha!$F$6+1) -> 0
A33: 700 | B33: LIMPEZA FINAL DA OBRA | E33: 0 | O33: =SUM(C33:N33) -> 0
E34: =$O34*E33 -> 0 | O34: =Planilha!F81*(Planilha!$F$6+1) -> 0
B37: VALOR TOTAL DOS SERVIÇOS | C37: =C16+C19+C22+C25+C28+C31+C34 -> 0 | D37: =D16+D19+D22+D25+D28+D31+D34 -> 0 | E37: =E16+E19+E22+E25+E28+E31+E34 -> 0 | O37: =C37+D37+E37+F37+G37+H37+I37+J37+K37+L37+M37+N37 -> 0
