Workbook
Name __xlnm.Print_Area_1: 0
Name __xlnm.Print_Titles_1: 0
Name __xlnm_Print_Area_1: 0
Name __xlnm_Print_Titles_1: 0
Name a: "#ref!"
Name CICLOVIA_3: "#ref!"
Name CICLOVIA_3_2: "#ref!"
Name CICLOVIA_3_4: "#ref!"
Name CICLOVIA_3_5: "#ref!"
Name CONCATENAR: CONCATENATE(#REF!," ",#REF!)
Name CP: "#ref!"
Name Dados.Lista.BDI: [2]DADOS!$T$37:$X$37
Name DATABASE: #REF!
Name DATAEMISSAO: #REF!
Name DATART: #REF!
Name e: "#ref!"
Name EMPRESAS: OFFSET([3]Cotações!$B$25,0,0):OFFSET([3]Cotações!$H$29,-1,0)
Name Excel_BuiltIn__FilterDatabase: "#ref!"
Name Excel_BuiltIn_Print_Area_1: "#ref!"
Name Excel_BuiltIn_Print_Area_1_1: "#ref!"
Name Excel_BuiltIn_Print_Area_1_1_1: "#ref!"
Name Excel_BuiltIn_Print_Area_2: "#ref!"
Name Excel_BuiltIn_Print_Area_2_1: "#ref!"
Name Excel_BuiltIn_Print_Area_3: "#ref!"
Name Excel_BuiltIn_Print_Area_3_1: "#ref!"
Name Excel_BuiltIn_Print_Area_3_1_1: "#ref!"
Name Excel_BuiltIn_Print_Area_4: "#ref!"
Name Excel_BuiltIn_Print_Area_4_1: "#ref!"
Name Excel_BuiltIn_Print_Area_5: "#ref!"
Name Excel_BuiltIn_Print_Area_6: "#ref!"
Name Excel_BuiltIn_Print_Area_7: "#ref!"
Name Excel_BuiltIn_Print_Titles_2: "#ref!"
Name Excel_BuiltIn_Print_Titles_2_1: "#ref!"
Name Excel_BuiltIn_Print_Titles_2_1_1: "#ref!"
Name Excel_BuiltIn_Print_Titles_3: "#ref!"
Name Excel_BuiltIn_Print_Titles_3_1: "#ref!"
Name Excel_BuiltIn_Print_Titles_4: "#ref!"
Name Excel_BuiltIn_Print_Titles_5: "#ref!"
Name Excel_BuiltIn_Print_Titles_5_1: "#ref!"
Name Excel_BuiltIn_Print_Titles_6: "#ref!"
Name Excel_BuiltIn_Print_Titles_6_2: "#ref!"
Name Excel_BuiltIn_Print_Titles_6_4: "#ref!"
Name Excel_BuiltIn_Print_Titles_6_5: "#ref!"
Name Excel_BuiltIn_Print_Titles_7: "#ref!"
Name INDICES: [3]Cotações!$B$22:OFFSET([3]Cotações!$I$24,-1,0)
Name LOCALIDADE: #REF!
Name MEMÓRIA: ROUND([4]Planilha!$P1,15-13*[4]Planilha!#REF!)
Name NCOMPOSICOES: 0
Name NCOTACOES: 0
Name NEMPRESAS: 3
Name NINDICES: 1
Name NRELATORIOS: COUNTA([3]Relatórios!$A$1:$A$65536)-2
Name NumerEmpresa: 3
Name NumerIndice: 1
Name Objeto: "Referência"
Name plan6: "#ref!"
Name PO.CustoUnitario: ROUND([5]Planilha!$P1,15-13*[5]Planilha!#REF!)
Name PO.PrecoUnitario: [5]Planilha!$R1
Name PO.Quantidade: ROUND([5]Planilha!$O1,15-13*[5]Planilha!#REF!)
Name RelatoriosFontes: OFFSET([3]Relatórios!$A$5,1,0,NRELATORIOS)

Sheet Planilha
F3: Prazo: | G3: 12 meses
C4: PLANILHA ORÇAMENTÁRIA
C8: OBRA: AMPLIAÇÃO E REFORMA DA UNIDADE ESTRATÉGIA DE SAÚDE DA FAMILIA DE BORACEIA | F8: B.D.I.: | G8: 0
C9: LOCAL: R. PROF. GERALDO RODRIGUES MONTEMOR, 645 | F9: L.S.:
F11: Custo
B12: Item | C12: Descrição dos Serviços | D12: Unid. | E12: Quant. | F12: Unitário | G12: Preço Total
F13: R$ | G13: R$
B15: 100 | C15: Serviços preliminares | G15: =SUM(G16:G26) -> 0
B16: 101 | C16: PLACA DE IDENTIFICAÇÃO PARA OBRA | D16: M2 | E16: 6 | G16: =E16*F16 -> 0
B17: 102 | C17: LOCAÇÃO DE CONTAINER TIPO DEPÓSITO - ÁREA MÍNIMA DE 13,80 M² | D17: UNMES | E17: 12 | G17: =E17*F17 -> 0
B18: 103 | C18: LOCAÇÃO DE CONTAINER TIPO ESCRITÓRIO COM 1 VASO SANITÁRIO, 1 LAVATÓRIO E 1 PONTO PARA CHUVEIRO - ÁREA MÍNIMA DE 13,80 M² | D18: UNMES | E18: 12 | G18: =E18*F18 -> 0
B19: 104 | C19: BANHEIRO QUÍMICO MODELO STANDARD, COM MANUTENÇÃO CONFORME EXIGÊNCIAS DA CETESB | D19: UNMES | E19: 12 | G19: =E19*F19 -> 0
B20: 105 | C20: MONTAGEM E DESMONTAGEM DE ANDAIME TORRE METÁLICA COM ALTURA ATÉ 10 M | D20: M | E20: 60 | G20: =E20*F20 -> 0
B21: 106 | C21: ANDAIME TORRE METÁLICO (1,5 X 1,5 M) COM PISO METÁLICO | D21: MXMES | E21: 360 | G21: =E21*F21 -> 0
B22: 107 | C22: TAPUME COM TELHA METÁLICA. AF_03/2024 | D22: M2 | E22: 63 | G22: =E22*F22 -> 0
B23: 108 | C23: REMOÇÃO DE TAPUME/ CHAPAS METÁLICAS E DE MADEIRA, DE FORMA MANUAL, SEM REAPROVEITAMENTO. AF_09/2023 | D23: M2 | E23: 63 | G23: =E23*F23 -> 0
B24: 109 | C24: GUINDASTE HIDRÁULICO AUTOPROPELIDO, COM LANÇA TELESCÓPICA 28,80 M, CAPACIDADE MÁXIMA 30 T, POTÊNCIA 97 KW, TRAÇÃO 4 X 4 - CHI DIURNO. AF_11/2014 | D24: CHI | E24: 320 | G24: =E24*F24 -> 0
B25: 110 | C25: LOCAÇÃO DE OBRA DE EDIFICAÇÃO | D25: M2 | E25: 756.75 | G25: =E25*F25 -> 0
B27: 200 | C27: Administração Local | G27: =SUM(G28:G30) -> 0
B28: 201 | C28: ENGENHEIRO CIVIL DE OBRA JUNIOR COM ENCARGOS COMPLEMENTARES | D28: H | E28: 240 | G28: =E28*F28 -> 0
B29: 202 | C29: VIGIA DIURNO COM ENCARGOS COMPLEMENTARES | D29: H | E29: 2688 | G29: =E29*F29 -> 0
B31: 300 | C31: Limpeza e Demolição | G31: =SUM(G32:G43) -> 0
B32: 301 | C32: LIMPEZA MECANIZADA DO TERRENO, INCLUSIVE TRONCOS ATÉ 15 CM DE DIÂMETRO, COM CAMINHÃO À DISPOSIÇÃO DENTRO E FORA DA OBRA, COM TRANSPORTE NO RAIO DE ATÉ 1 KM | D32: M2 | E32: 756.75 | G32: =E32*F32 -> 0
B33: 302 | C33: DEMOLIÇÃO MANUAL DE ALVENARIA DE ELEVAÇÃO OU ELEMENTO VAZADO, INCLUINDO REVESTIMENTO | D33: M3 | E33: 20.6 | G33: =E33*F33 -> 0
B34: 303 | C34: DEMOLIÇÃO MANUAL DE REVESTIMENTO EM MASSA DE PAREDE OU TETO | D34: M2 | E34: 18 | G34: =E34*F34 -> 0
B35: 304 | C35: DEMOLIÇÃO MANUAL DE REVESTIMENTO EM MASSA DE PISO | D35: M2 | E35: 9 | G35: =E35*F35 -> 0
B36: 305 | C36: RETIRADA DE FOLHA DE ESQUADRIA EM MADEIRA | D36: UN | E36: 1 | G36: =E36*F36 -> 0
B37: 306 | C37: RETIRADA DE BATENTE COM GUARNIÇÃO E PEÇAS LINEARES EM MADEIRA, CHUMBADOS | D37: M | E37: 5 | G37: =E37*F37 -> 0
B38: 307 | C38: RETIRADA DE ESQUADRIA METÁLICA EM GERAL | D38: M2 | E38: 1 | G38: =E38*F38 -> 0
B39: 308 | C39: RETIRADA DE APARELHO SANITÁRIO INCLUINDO ACESSÓRIOS | D39: UN | E39: 2 | G39: =E39*F39 -> 0
B40: 309 | C40: RETIRADA DE TORNEIRA OU CHUVEIRO | D40: UN | E40: 1 | G40: =E40*F40 -> 0
B41: 310 | C41: CARREGAMENTO MECANIZADO DE SOLO DE 1ª E 2ª CATEGORIA | D41: M3 | E41: 321.91 | G41: =E41*F41 -> 0
B42: 311 | C42: TRANSPORTE DE ENTULHO, PARA DISTÂNCIAS SUPERIORES AO 5° KM ATÉ O 10° KM | D42: M3 | E42: 321.91 | G42: =E42*F42 -> 0
B44: 400 | C44: Terraplanagem | G44: =SUM(G45:G48) -> 0
B45: 401 | C45: ATERRO MECANIZADO DE VALA COM MINICARREGADEIRA, COM AREIA PARA ATERRO. AF_08/2023 | D45: M3 | E45: 378.38 | G45: =E45*F45 -> 0
B46: 402 | C46: CARGA, MANOBRA E DESCARGA DE SOLOS E MATERIAIS GRANULARES EM CAMINHÃO BASCULANTE 10 M³ - CARGA COM PÁ CARREGADEIRA (CAÇAMBA DE 1,7 A 2,8 M³ / 128 HP) E DESCARGA LIVRE (UNIDADE: M3). AF_07/2020 | D46: M3 | E46: 378.38 | G46: =E46*F46 -> 0
B47: 403 | C47: COMPACTAÇÃO DE ATERRO MECANIZADO MÍNIMO DE 95% PN, SEM FORNECIMENTO DE SOLO EM ÁREAS FECHADAS | D47: M3 | E47: 378.38 | G47: =E47*F47 -> 0
B48: 404 | C48: TRANSPORTE DE SOLO DE 1ª E 2ª CATEGORIA POR CAMINHÃO PARA DISTÂNCIAS SUPERIORES AO 20° KM | D48: M3XKM | E48: 11351.4 | G48: =E48*F48 -> 0
B52: 500 | C52: Cobertura | G52: =SUM(G53:G53) -> 0
B53: 501 | C53: REVISÃO, ESCOVAÇÃO, INCLUSIVE TOMADA DE GOTEIRAS DE TELHADOS EM GERAL, EXCLUSIVE PARA TELHAS DE BARRO COZIDO OU VIDRO | D53: M2 | E53: 414.47 | G53: =E53*F53 -> 0
B55: 600 | C55: Pintura | G55: =SUM(G56:G58) -> 0
B56: 601 | C56: REMOÇÃO DE PINTURA EM MASSA COM LIXAMENTO | D56: M2 | E56: 1406.58 | G56: =E56*F56 -> 0
B57: 602 | C57: TINTA ACRÍLICA ANTIMOFO EM MASSA, INCLUSIVE PREPARO | D57: M2 | E57: 1406.58 | G57: =E57*F57 -> 0
B59: 700 | C59: Comunicação visual | G59: =SUM(G60:G65) -> 0
B60: 701 | C60: PLACA DE IDENTIFICAÇÃO EM PVC COM TEXTO EM VINIL | D60: M2 | E60: 1.88 | G60: =E60*F60 -> 0
B61: 702 | C61: PLACA DE IDENTIFICAÇÃO EM ACRÍLICO COM TEXTO EM VINIL | D61: M2 | E61: 1.67 | G61: =E61*F61 -> 0
B62: 703 | C62: PINTURA GRÁFICA | D62: M2 | E62: 206.25 | G62: =E62*F62 -> 0
B63: 704 | C63: ADESIVO GRÁFICO | D63: M2 | E63: 36.06 | G63: =E63*F63 -> 0
B64: 705 | C64: REVESTIMENTO EM PLACA DE ALUMÍNIO COMPOSTO "ACM", ESPESSURA DE 3 MM E ACABAMENTO EM POLIÉSTER - USO INTERNO | D64: M2 | E64: 30 | G64: =E64*F64 -> 0
B68: 800 | C68: Infra estrutura | G68: =SUM(G69:G86) -> 0
C69: Fundação
B70: 801 | C70: ESCAVAÇÃO MANUAL EM SOLO DE 1ª E 2ª CATEGORIA EM VALA OU CAVA ATÉ 1,5 M | D70: M3 | E70: 193.7 | G70: =E70*F70 -> 0
B71: 802 | C71: LASTRO DE CONCRETO IMPERMEABILIZADO | D71: M3 | E71: 4.08 | G71: =E71*F71 -> 0
B72: 803 | C72: FORMA EM MADEIRA COMUM PARA FUNDAÇÃO | D72: M2 | E72: 299.78 | G72: =E72*F72 -> 0
B73: 804 | C73: CONCRETO USINADO, FCK = 30 MPA - PARA BOMBEAMENTO | D73: M3 | E73: 31.4 | G73: =E73*F73 -> 0
B74: 805 | C74: LANÇAMENTO E ADENSAMENTO DE CONCRETO OU MASSA EM FUNDAÇÃO | D74: M3 | E74: 31.4 | G74: =E74*F74 -> 0
B75: 806 | C75: ARMADURA EM BARRA DE AÇO CA-50 (A OU B) FYK = 500 MPA | D75: KG | E75: 1556 | G75: =E75*F75 -> 0
B76: 807 | C76: ARMADURA EM BARRA DE AÇO CA-60 (A OU B) FYK = 600 MPA | D76: KG | E76: 357.6 | G76: =E76*F76 -> 0
B77: 808 | C77: ALVENARIA DE EMBASAMENTO EM BLOCO DE CONCRETO DE 14 X 19 X 39 CM - CLASSE A | D77: M2 | E77: 54.48 | G77: =E77*F77 -> 0
B78: 809 | C78: CHAPISCO | D78: M2 | E78: 108.96 | G78: =E78*F78 -> 0
B79: 810 | C79: EMBOÇO COMUM | D79: M2 | E79: 108.96 | G79: =E79*F79 -> 0
B80: 811 | C80: IMPERMEABILIZAÇÃO EM PINTURA DE ASFALTO OXIDADO COM SOLVENTES ORGÂNICOS, SOBRE MASSA | D80: M2 | E80: 408.74 | G80: =E80*F80 -> 0
B81: 812 | C81: REATERRO MANUAL PARA SIMPLES REGULARIZAÇÃO SEM COMPACTAÇÃO | D81: M3 | E81: 158.22 | G81: =E81*F81 -> 0
... B85: 816 | C85: ARMADURA EM TELA SOLDADA DE AÇO | D85: KG | E85: 439.07 | G85: =E85*F85 -> 0
B87: 900 | C87: Superestrutura | G87: =SUM(G89:G93) -> 0
C88: Estrutura Metálica
B89: 901 | C89: FORNECIMENTO E MONTAGEM DE PAREDES STEEL FRAME FECHAMENTO EXTERNO PLACA CIMENTICIA E INTERNO PLACA DE GESSO ACARTONADO INCLUSIVE ISOLAMENTO LÃ DE ROCHA | D89: M2 | E89: 800.48 | G89: =E89*F89 -> 0
C90: Laje
B91: 902 | C91: LAJE PRÉ-FABRICADA MISTA VIGOTA PROTENDIDA/LAJOTA CERÂMICA - LP 16 (12+4) E CAPA COM CONCRETO DE 25 MPA | D91: M2 | E91: 359.12 | G91: =E91*F91 -> 0
B92: 903 | C92: SELANTE ELÁSTICO MONOCOMPONENTE A BASE DE POLIURETANO (PU) PARA JUNTAS DE DILATAÇÃO | D92: M | E92: 400 | G92: =E92*F92 -> 0
B94: 1000 | C94: Alvenaria e fechamento | G94: =SUM(G95:G97) -> 0
B95: 1001 | C95: ALVENARIA DE BLOCO DE CONCRETO DE VEDAÇÃO DE 14 CM - CLASSE C | D95: M2 | E95: 212.38 | G95: =E95*F95 -> 0
B96: 1002 | C96: DIVISÓRIA EM PLACAS DE GRANILITE COM ESPESSURA DE 3 CM | D96: M2 | E96: 20.49 | G96: =E96*F96 -> 0
B98: 1100 | C98: Cobertura | G98: =SUM(G99:G103) -> 0
B99: 1101 | C99: FORNECIMENTO E MONTAGEM DE ESTRUTURA EM AÇO ASTM-A36, SEM PINTURA | D99: KG | E99: 7695.2 | G99: =E99*F99 -> 0
B100: 1102 | C100: TELHAMENTO EM CHAPA DE AÇO PRÉ-PINTADA, TIPO SANDUÍCHE, ESPESSURA DE 0,50MM, COM POLIESTIRENO EXPANDIDO | D100: M2 | E100: 331.71 | G100: =E100*F100 -> 0
B101: 1103 | C101: TELHA ONDULADA TRANSLÚCIDA EM POLIPROPILENO | D101: M2 | E101: 53.05 | G101: =E101*F101 -> 0
B102: 1104 | C102: CUMEEIRA EM CHAPA DE AÇO PRÉ-PINTADA, PERFIL ONDULADO, COM ESPESSURA DE 0,50MM | D102: M | E102: 37.53 | G102: =E102*F102 -> 0
B103: 1105 | C103: CALHA, RUFO, AFINS EM CHAPA GALVANIZADA Nº 24 - CORTE 1,00 M | D103: M | E103: 100 | G103: =E103*F103 -> 0
B105: 1200 | C105: Forro | G105: =SUM(G106:G107) -> 0
B106: 1201 | C106: REVESTIMENTO EM GESSO LISO DESEMPENADO SOBRE BLOCO | D106: M2 | E106: 287.28 | G106: =E106*F106 -> 0
B108: 1300 | C108: Revestimentos de paredes | G108: =SUM(G109:G113) -> 0
B109: 1301 | C109: CHAPISCO | D109: M2 | E109: 212.38 | G109: =E109*F109 -> 0
B110: 1302 | C110: EMBOÇO COMUM | D110: M2 | E110: 212.38 | G110: =E110*F110 -> 0
B111: 1303 | C111: REVESTIMENTO EM PLACA CERÂMICA ESMALTADA, TIPO MONOPOROSA, ASSENTADO E REJUNTADO COM ARGAMASSA INDUSTRIALIZADA | D111: M2 | E111: 327.22 | G111: =E111*F111 -> 0
B112: 1304 | C112: REVESTIMENTO COM ARGAMASSA BARITADA - DENSIDADE = 3,2 G/CM³ - ESP=1,5CM | D112: M2 | E112: 44.16 | G112: =E112*F112 -> 0
B114: 1400 | C114: Revestimentos de pisos e complementos | G114: =SUM(G115:G125) -> 0
B115: 1401 | C115: ARGAMASSA DE REGULARIZAÇÃO E/OU PROTEÇÃO | D115: M3 | E115: 14.36 | G115: =E115*F115 -> 0
B116: 1402 | C116: PLACA CERÂMICA ESMALTADA ANTIDERRAPANTE PEI-5 PARA ÁREA INTERNA COM SAÍDA PARA O EXTERIOR, GRUPO DE ABSORÇÃO BIIA, RESISTÊNCIA QUÍMICA A, ASSENTADO COM ARGAMASSA COLANTE INDUSTRIALIZADA | D116: M2 | E116: 68.6 | G116: =E116*F116 -> 0
B117: 1403 | C117: RODAPÉ EM PLACA CERÂMICA ESMALTADA ANTIDERRAPANTE PEI-5 PARA ÁREA INTERNA COM SAÍDA PARA O EXTERIOR, GRUPO DE ABSORÇÃO BIIA, RESISTÊNCIA QUÍMICA A, ASSENTADO COM ARGAMASSA COLANTE INDUSTRIALIZADA | D117: M | E117: 123.3 | G117: =E117*F117 -> 0
B118: 1404 | C118: REVESTIMENTO EM PORCELANATO TÉCNICO NATURAL PARA ÁREA INTERNA E AMBIENTE COM ACESSO AO EXTERIOR, GRUPO DE ABSORÇÃO BIA, ASSENTADO COM ARGAMASSA COLANTE INDUSTRIALIZADA, REJUNTADO | D118: M2 | E118: 171.41 | G118: =E118*F118 -> 0
B119: 1405 | C119: RODAPÉ EM PORCELANATO TÉCNICO NATURAL, PARA ÁREA INTERNA E AMBIENTE COM ACESSO AO EXTERIOR, GRUPO DE ABSORÇÃO BIA, ASSENTADO COM ARGAMASSA COLANTE INDUSTRIALIZADA, REJUNTADO | D119: M | E119: 191.28 | G119: =E119*F119 -> 0
B120: 1406 | C120: PISO EM ALTA RESISTÊNCIA MOLDADO NO LOCAL 12 MM | D120: M2 | E120: 47.27 | G120: =E120*F120 -> 0
B121: 1407 | C121: PISO EPÓXI AUTONIVELANTE, MÚLTIPLAS CAMADAS, ESPESSURA 4 MM | D121: M2 | E121: 47.27 | G121: =E121*F121 -> 0
B122: 1408 | C122: RODAPÉ ABAULADO, COM ARGAMASSA EPOXI, ALTURA ENTRE 5 A 10 CM | D122: M | E122: 39.64 | G122: =E122*F122 -> 0
B123: 1409 | C123: TAXA DE MOBILIZAÇÃO E DESMOBILIZAÇÃO DE EQUIPE E EQUIPAMENTOS PARA EXECUÇÃO DE PISO EPÓXI | D123: TX | E123: 1 | G123: =E123*F123 -> 0
B124: 1410 | C124: IMPERMEABILIZAÇÃO EM MANTA ASFÁLTICA COM ARMADURA, TIPO III-B, ESPESSURA DE 3 MM | D124: M2 | E124: 68.6 | G124: =E124*F124 -> 0
B126: 1500 | C126: Esquadrias de madeira, alumínio e ferro | G126: =SUM(G127:G142) -> 0
B127: 1501 | C127: PORTA DE ABRIR EM ALUMÍNIO TIPO LAMBRI, SOB MEDIDA - COR BRANCA | D127: M2 | E127: 35.28 | G127: =E127*F127 -> 0
B128: 1502 | C128: PORTA VENEZIANA DE ABRIR EM ALUMÍNIO - COR BRANCA | D128: M2 | E128: 24.78 | G128: =E128*F128 -> 0
...

Sheet cronograma
C4: CRONOGRAMA FÍSICO - FINANCEIRO
C6: OBRA: AMPLIAÇÃO E REFORMA DA UNIDADE ESTRATÉGIA DE SAÚDE DA FAMILIA DE BORACEIA
C8: LOCAL: R. PROF. GERALDO RODRIGUES MONTEMOR, 645
C11: MESES
A12: Item | B12: ETAPAS DE SERVIÇOS | C12: 1 | D12: 2 | E12: 3 | F12: 4 | G12: 5 | H12: 6 | I12: 7 | J12: 8 | K12: 9 | L12: 10 | M12: 11 | N12: 12 | O12: VALOR
C13: 30 | D13: 60 | E13: 90 | F13: 120 | G13: 150 | H13: 180 | I13: 210 | J13: 240 | K13: 270 | L13: 300 | M13: 330 | N13: 360 | O13: R$
A15: A | B15: SERVIÇOS PRELIMINARES /ADMINISTRAÇÃO / LIMPEZA / TERRALANAGEM | C15: 0 | D15: 0 | E15: 0 | F15: 0 | G15: 0 | H15: 0 | I15: 0 | J15: 0 | K15: 0 | L15: 0 | M15: 0 | N15: 0 | O15: =SUM(C15:N15) -> 0
C16: =$O16*C15 -> #REF! | D16: =$O16*D15 -> #REF! | E16: =$O16*E15 -> #REF! | F16: =$O16*F15 -> #REF! | G16: =$O16*G15 -> #REF! | H16: =$O16*H15 -> #REF! | I16: =$O16*I15 -> #REF! | J16: =$O16*J15 -> #REF! | ... L16: =$O16*L15 -> #REF! | M16: =$O16*M15-0.01 -> #REF! | N16: =$O16*N15-0.01 -> #REF! | O16: =(Planilha!G15+Planilha!G27+Planilha!G31+Planilha!G44)*(1+Planilha!#REF!) -> #REF!
A18: B | B18: REFORMA EDIFCAÇÃO | L18: 0 | M18: 0 | O18: =SUM(C18:N18) -> 0
L19: =$O19*L18 -> #REF! | M19: =$O19*M18 -> #REF! | O19: =(Planilha!G52+Planilha!G55+Planilha!G59)*(1+Planilha!#REF!) -> #REF!
A21: B | B21: AMPLIAÇÃO EDIFCAÇÃO | D21: 0 | E21: 0 | F21: 0 | G21: 0 | H21: 0 | I21: 0 | J21: 0 | K21: 0 | L21: 0 | M21: 0 | N21: 0 | O21: =SUM(C21:N21) -> 0
D22: =$O22*D21 -> #REF! | E22: =$O22*E21 -> #REF! | F22: =$O22*F21 -> #REF! | G22: =$O22*G21 -> #REF! | H22: =$O22*H21 -> #REF! | I22: =$O22*I21 -> #REF! | J22: =$O22*J21 -> #REF! | K22: =$O22*K21 -> #REF! | L22: =$O22*L21 -> #REF! | M22: =$O22*M21+0.01 -> #REF! | N22: =$O22*N21+0.01 -> #REF! | O22: =(Planilha!G68+Planilha!G87+Planilha!G94+Planilha!G98+Planilha!G105+Planilha!G108+Planilha!G114+Planilha!G126+Planilha!G143+Planilha!G150+Planilha!G180+Planilha!G207+Planilha!G256+Planilha!G276+Planilha!G281+Planilha!G301+Planilha!G309+Planilha!G317)*(1+Planilha!#REF!) -> #REF!
A24: C | B24: INFRAESTRUTURA DA EDIFICAÇÃO | E24: 0 | I24: 0 | J24: 0 | M24: 0 | N24: 0 | O24: =SUM(C24:N24) -> 0
E25: =$O25*E24 -> #REF! | I25: =$O25*I24 -> #REF! | J25: =$O25*J24 -> #REF! | M25: =$O25*M24 -> #REF! | N25: =$O25*N24 -> #REF! | O25: =(Planilha!G332+Planilha!G366+Planilha!G369+Planilha!G372+Planilha!G377+Planilha!G402+Planilha!G431+Planilha!G436+Planilha!G460+Planilha!G467+Planilha!G475+Planilha!G478+Planilha!G481+Planilha!G493+Planilha!G506+Planilha!G516)*(1+Planilha!#REF!) -> #REF!
A27: D | B27: SERVIÇOS TÉCNICOS | C27: 0 | N27: 0 | O27: =SUM(C27:N27) -> 0
C28: =$O28*C27 -> #REF! | N28: =$O28*N27 -> #REF! | O28: =(Planilha!G521)*(1+Planilha!#REF!) -> #REF!
A30: E | B30: LIMPEZA FINAL | N30: 0 | O30: =SUM(C30:N30) -> 0
N31: =$O31*N30 -> #REF! | O31: =(Planilha!G533)*(1+Planilha!#REF!)+0.01 -> #REF!
O33: =SUM(C33:N33) -> 0
O36: =SUM(C36:N36) -> 0
O39: =SUM(C39:N39) -> 0
O42: =SUM(C42:N42) -> 0
N43: =$O43*N42 -> 0
A45: J | O45: =SUM(C45:N45) -> 0
A48: K | O48: =SUM(C48:N48) -> 0
A51: L | O51: =SUM(C51:N51) -> 0
A54: M | O54: =SUM(C54:N54) -> 0
A57: N | O57: =SUM(C57:N57) -> 0
A60: O | O60: =SUM(C60:N60) -> 0
B64: VALOR TOTAL DOS SERVIÇOS | C64: =SUM(C16,C22,C25,C28,C31,C34,C37,C40,C43,C19) -> #REF! | D64: =SUM(D16,D22,D25,D28,D31,D34,D37,D40,D43,D19) -> #REF! | E64: =SUM(E16,E22,E25,E28,E31,E34,E37,E40,E43,E19) -> #REF! | F64: =SUM(F16,F22,F25,F28,F31,F34,F37,F40,F43,F19) -> #REF! | G64: =SUM(G16,G22,G25,G28,G31,G34,G37,G40,G43,G19) -> #REF! | H64: =SUM(H16,H22,H25,H28,H31,H34,H37,H40,H43,H19) -> #REF! | I64: =SUM(I16,I22,I25,I28,I31,I34,I37,I40,I43,I19) -> #REF! | J64: =SUM(J16,J22,J25,J28,J31,J34,J37,J40,J43,J19) -> #REF! | ... O64: =SUM(O16,O22,O25,O28,O31,O34,O37,O40,O43,O19) -> #REF!
