Workbook
Name __xlnm.Print_Area_1: 0
Name __xlnm.Print_Titles_1: 0
Name __xlnm_Print_Area_1: 0
Name __xlnm_Print_Titles_1: 0
Name a: "#ref!"
Name CICLOVIA_3: "#ref!"
Name CICLOVIA_3_2: "#ref!"
Name CICLOVIA_3_4: "#ref!"
Name CICLOVIA_3_5: "#ref!"
Name CONCATENAR: CONCATENATE(#REF!," ",#REF!)
Name CP: "#ref!"
Name Dados.Lista.BDI: [2]DADOS!$T$37:$X$37
Name DATABASE: #REF!
Name DATAEMISSAO: #REF!
Name DATART: #REF!
Name e: "#ref!"
Name EMPRESAS: OFFSET([3]Cotações!$B$25,0,0):OFFSET([3]Cotações!$H$29,-1,0)
Name Excel_BuiltIn__FilterDatabase: "#ref!"
Name Excel_BuiltIn_Print_Area_1: "#ref!"
Name Excel_BuiltIn_Print_Area_1_1: "#ref!"
Name Excel_BuiltIn_Print_Area_1_1_1: "#ref!"
Name Excel_BuiltIn_Print_Area_2: "#ref!"
Name Excel_BuiltIn_Print_Area_2_1: "#ref!"
Name Excel_BuiltIn_Print_Area_3: "#ref!"
Name Excel_BuiltIn_Print_Area_3_1: "#ref!"
Name Excel_BuiltIn_Print_Area_3_1_1: "#ref!"
Name Excel_BuiltIn_Print_Area_4: "#ref!"
Name Excel_BuiltIn_Print_Area_4_1: "#ref!"
Name Excel_BuiltIn_Print_Area_5: "#ref!"
Name Excel_BuiltIn_Print_Area_6: "#ref!"
Name Excel_BuiltIn_Print_Area_7: "#ref!"
Name Excel_BuiltIn_Print_Titles_2: "#ref!"
Name Excel_BuiltIn_Print_Titles_2_1: "#ref!"
Name Excel_BuiltIn_Print_Titles_2_1_1: "#ref!"
Name Excel_BuiltIn_Print_Titles_3: "#ref!"
Name Excel_BuiltIn_Print_Titles_3_1: "#ref!"
Name Excel_BuiltIn_Print_Titles_4: "#ref!"
Name Excel_BuiltIn_Print_Titles_5: "#ref!"
Name Excel_BuiltIn_Print_Titles_5_1: "#ref!"
Name Excel_BuiltIn_Print_Titles_6: "#ref!"
Name Excel_BuiltIn_Print_Titles_6_2: "#ref!"
Name Excel_BuiltIn_Print_Titles_6_4: "#ref!"
Name Excel_BuiltIn_Print_Titles_6_5: "#ref!"
Name Excel_BuiltIn_Print_Titles_7: "#ref!"
Name INDICES: [3]Cotações!$B$22:OFFSET([3]Cotações!$I$24,-1,0)
Name LOCALIDADE: #REF!
Name MEMÓRIA: ROUND([4]Planilha!$P1,15-13*[4]Planilha!#REF!)
Name NCOMPOSICOES: 0
Name NCOTACOES: 0
Name NEMPRESAS: 3
Name NINDICES: 1
Name NRELATORIOS: COUNTA([3]Relatórios!$A$1:$A$65536)-2
Name NumerEmpresa: 3
Name NumerIndice: 1
Name Objeto: "Referência"
Name plan6: "#ref!"
Name PO.CustoUnitario: ROUND([5]Planilha!$P1,15-13*[5]Planilha!#REF!)
Name PO.PrecoUnitario: [5]Planilha!$R1
Name PO.Quantidade: ROUND([5]Planilha!$O1,15-13*[5]Planilha!#REF!)
Name RelatoriosFontes: OFFSET([3]Relatórios!$A$5,1,0,NRELATORIOS)

Sheet Planilha
F3: Prazo: | G3: 12 meses
C4: PLANILHA ORÇAMENTÁRIA
C8: OBRA: AMPLIAÇÃO E REFORMA DA UNIDADE ESTRATÉGIA DE SAÚDE DA FAMILIA DE BORACEIA | F8: B.D.I.: | G8: 0
C9: LOCAL: R. PROF. GERALDO RODRIGUES MONTEMOR, 645 | F9: L.S.:
F11: Custo
B12: Item | C12: Descrição dos Serviços | D12: Unid. | E12: Quant. | F12: Unitário | G12: Preço Total
F13: R$ | G13: R$
B15: 100 | C15: Serviços preliminares | G15: =SUM(G16:G26) -> 0
B16: 101 | C16: PLACA DE IDENTIFICAÇÃO PARA OBRA | D16: M2 | E16: 6 | G16: =E16*F16 -> 0
B17: 102 | C17: LOCAÇÃO DE CONTAINER TIPO DEPÓSITO - ÁREA MÍNIMA DE 13,80 M² | D17: UNMES | E17: 12 | G17: =E17*F17 -> 0
B18: 103 | C18: LOCAÇÃO DE CONTAINER TIPO ESCRITÓRIO COM 1 VASO SANITÁRIO, 1 LAVATÓRIO E 1 PONTO PARA CHUVEIRO - ÁREA MÍNIMA DE 13,80 M² | D18: UNMES | E18: 12 | G18: =E18*F18 -> 0
B19: 104 | C19: BANHEIRO QUÍMICO MODELO STANDARD, COM MANUTENÇÃO CONFORME EXIGÊNCIAS DA CETESB | D19: UNMES | E19: 12 | G19: =E19*F19 -> 0
B20: 105 | C20: MONTAGEM E DESMONTAGEM DE ANDAIME TORRE METÁLICA COM ALTURA ATÉ 10 M | D20: M | E20: 60 | G20: =E20*F20 -> 0
B21: 106 | C21: ANDAIME TORRE METÁLICO (1,5 X 1,5 M) COM PISO METÁLICO | D21: MXMES | E21: 360 | G21: =E21*F21 -> 0
B22: 107 | C22: TAPUME COM TELHA METÁLICA. AF_03/2024 | D22: M2 | E22: 63 | G22: =E22*F22 -> 0
B23: 108 | C23: REMOÇÃO DE TAPUME/ CHAPAS METÁLICAS E DE MADEIRA, DE FORMA MANUAL, SEM REAPROVEITAMENTO. AF_09/2023 | D23: M2 | E23: 63 | G23: =E23*F23 -> 0
B24: 109 | C24: GUINDASTE HIDRÁULICO AUTOPROPELIDO, COM LANÇA TELESCÓPICA 28,80 M, CAPACIDADE MÁXIMA 30 T, POTÊNCIA 97 KW, TRAÇÃO 4 X 4 - CHI DIURNO. AF_11/2014 | D24: CHI | E24: 320 | G24: =E24*F24 -> 0
B25: 110 | C25: LOCAÇÃO DE OBRA DE EDIFICAÇÃO | D25: M2 | E25: 756.75 | G25: =E25*F25 -> 0
B27: 200 | C27: Administração Local | G27: =SUM(G28:G30) -> 0
B28: 201 | C28: ENGENHEIRO CIVIL DE OBRA JUNIOR COM ENCARGOS COMPLEMENTARES | D28: H | E28: 240 | G28: =E28*F28 -> 0
B29: 202 | C29: VIGIA DIURNO COM ENCARGOS COMPLEMENTARES | D29: H | E29: 2688 | G29: =E29*F29 -> 0
B31: 300 | C31: Limpeza e Demolição | G31: =SUM(G32:G43) -> 0
B32: 301 | C32: LIMPEZA MECANIZADA DO TERRENO, INCLUSIVE TRONCOS ATÉ 15 CM DE DIÂMETRO, COM CAMINHÃO À DISPOSIÇÃO DENTRO E FORA DA OBRA, COM TRANSPORTE NO RAIO DE ATÉ 1 KM | D32: M2 | E32: 756.75 | G32: =E32*F32 -> 0
B33: 302 | C33: DEMOLIÇÃO MANUAL DE ALVENARIA DE ELEVAÇÃO OU ELEMENTO VAZADO, INCLUINDO REVESTIMENTO | D33: M3 | E33: 20.6 | G33: =E33*F33 -> 0
B34: 303 | C34: DEMOLIÇÃO MANUAL DE REVESTIMENTO EM MASSA DE PAREDE OU TETO | D34: M2 | E34: 18 | G34: =E34*F34 -> 0
B35: 304 | C35: DEMOLIÇÃO MANUAL DE REVESTIMENTO EM MASSA DE PISO | D35: M2 | E35: 9 | G35: =E35*F35 -> 0
B36: 305 | C36: RETIRADA DE FOLHA DE ESQUADRIA EM MADEIRA | D36: UN | E36: 1 | G36: =E36*F36 -> 0
B37: 306 | C37: RETIRADA DE BATENTE COM GUARNIÇÃO E PEÇAS LINEARES EM MADEIRA, CHUMBADOS | D37: M | E37: 5 | G37: =E37*F37 -> 0
B38: 307 | C38: RETIRADA DE ESQUADRIA METÁLICA EM GERAL | D38: M2 | E38: 1 | G38: =E38*F38 -> 0
B39: 308 | C39: RETIRADA DE APARELHO SANITÁRIO INCLUINDO ACESSÓRIOS | D39: UN | E39: 2 | G39: =E39*F39 -> 0
B40: 309 | C40: RETIRADA DE TORNEIRA OU CHUVEIRO | D40: UN | E40: 1 | G40: =E40*F40 -> 0
B41: 310 | C41: CARREGAMENTO MECANIZADO DE SOLO DE 1ª E 2ª CATEGORIA | D41: M3 | E41: 321.91 | G41: =E41*F41 -> 0
B42: 311 | C42: TRANSPORTE DE ENTULHO, PARA DISTÂNCIAS SUPERIORES AO 5° KM ATÉ O 10° KM | D42: M3 | E42: 321.91 | G42: =E42*F42 -> 0
B44: 400 | C44: Terraplanagem | G44: =SUM(G45:G48) -> 0
B45: 401 | C45: ATERRO MECANIZADO DE VALA COM MINICARREGADEIRA, COM AREIA PARA ATERRO. AF_08/2023 | D45: M3 | E45: 378.38 | G45: =E45*F45 -> 0
B46: 402 | C46: CARGA, MANOBRA E DESCARGA DE SOLOS E MATERIAIS GRANULARES EM CAMINHÃO BASCULANTE 10 M³ - CARGA COM PÁ CARREGADEIRA (CAÇAMBA DE 1,7 A 2,8 M³ / 128 HP) E DESCARGA LIVRE (UNIDADE: M3). AF_07/2020 | D46: M3 | E46: 378.38 | G46: =E46*F46 -> 0
B47: 403 | C47: COMPACTAÇÃO DE ATERRO MECANIZADO MÍNIMO DE 95% PN, SEM FORNECIMENTO DE SOLO EM ÁREAS FECHADAS | D47: M3 | E47: 378.38 | G47: =E47*F47 -> 0
B48: 404 | C48: TRANSPORTE DE SOLO DE 1ª E 2ª CATEGORIA POR CAMINHÃO PARA DISTÂNCIAS SUPERIORES AO 20° KM | D48: M3XKM | E48: 11351.4 | G48: =E48*F48 -> 0
B52: 500 | C52: Cobertura | G52: =SUM(G53:G53) -> 0
B53: 501 | C53: REVISÃO, ESCOVAÇÃO, INCLUSIVE TOMADA DE GOTEIRAS DE TELHADOS EM GERAL, EXCLUSIVE PARA TELHAS DE BARRO COZIDO OU VIDRO | D53: M2 | E53: 414.47 | G53: =E53*F53 -> 0
...

Sheet cronograma
C4: CRONOGRAMA FÍSICO - FINANCEIRO
C6: OBRA: AMPLIAÇÃO E REFORMA DA UNIDADE ESTRATÉGIA DE SAÚDE DA FAMILIA DE BORACEIA
C8: LOCAL: R. PROF. GERALDO RODRIGUES MONTEMOR, 645
C11: MESES
A12: Item | B12: ETAPAS DE SERVIÇOS | C12: 1 | D12: 2 | E12: 3 | F12: 4 | G12: 5 | H12: 6 | I12: 7 | J12: 8 | K12: 9 | L12: 10 | M12: 11 | N12: 12 | O12: VALOR
C13: 30 | D13: 60 | E13: 90 | F13: 120 | G13: 150 | H13: 180 | I13: 210 | J13: 240 | K13: 270 | L13: 300 | M13: 330 | N13: 360 | O13: R$
A15: A | B15: SERVIÇOS PRELIMINARES /ADMINISTRAÇÃO / LIMPEZA / TERRALANAGEM | C15: 0 | D15: 0 | E15: 0 | F15: 0 | G15: 0 | H15: 0 | I15: 0 | J15: 0 | K15: 0 | L15: 0 | M15: 0 | N15: 0 | O15: =SUM(C15:N15) -> 0
C16: =$O16*C15 -> #REF! | D16: =$O16*D15 -> #REF! | E16: =$O16*E15 -> #REF! | F16: =$O16*F15 -> #REF! | G16: =$O16*G15 -> #REF! | H16: =$O16*H15 -> #REF! | I16: =$O16*I15 -> #REF! | J16: =$O16*J15 -> #REF! | ... L16: =$O16*L15 -> #REF! | M16: =$O16*M15-0.01 -> #REF! | N16: =$O16*N15-0.01 -> #REF! | O16: =(Planilha!G15+Planilha!G27+Planilha!G31+Planilha!G44)*(1+Planilha!#REF!) -> #REF!
A18: B | B18: REFORMA EDIFCAÇÃO | L18: 0 | M18: 0 | O18: =SUM(C18:N18) -> 0
L19: =$O19*L18 -> #REF! | M19: =$O19*M18 -> #REF! | O19: =(Planilha!G52+Planilha!G55+Planilha!G59)*(1+Planilha!#REF!) -> #REF!
A21: B | B21: AMPLIAÇÃO EDIFCAÇÃO | D21: 0 | E21: 0 | F21: 0 | G21: 0 | H21: 0 | I21: 0 | J21: 0 | K21: 0 | L21: 0 | M21: 0 | N21: 0 | O21: =SUM(C21:N21) -> 0
D22: =$O22*D21 -> #REF! | E22: =$O22*E21 -> #REF! | F22: =$O22*F21 -> #REF! | G22: =$O22*G21 -> #REF! | H22: =$O22*H21 -> #REF! | I22: =$O22*I21 -> #REF! | J22: =$O22*J21 -> #REF! | K22: =$O22*K21 -> #REF! | L22: =$O22*L21 -> #REF! | M22: =$O22*M21+0.01 -> #REF! | N22: =$O22*N21+0.01 -> #REF! | O22: =(Planilha!G68+Planilha!G87+Planilha!G94+Planilha!G98+Planilha!G105+Planilha!G108+Planilha!G114+Planilha!G126+Planilha!G143+Planilha!G150+Planilha!G180+Planilha!G207+Planilha!G256+Planilha!G276+Planilha!G281+Planilha!G301+Planilha!G309+Planilha!G317)*(1+Planilha!#REF!) -> #REF!
A24: C | B24: INFRAESTRUTURA DA EDIFICAÇÃO | E24: 0 | I24: 0 | J24: 0 | M24: 0 | N24: 0 | O24: =SUM(C24:N24) -> 0
E25: =$O25*E24 -> #REF! | I25: =$O25*I24 -> #REF! | J25: =$O25*J24 -> #REF! | M25: =$O25*M24 -> #REF! | N25: =$O25*N24 -> #REF! | O25: =(Planilha!G332+Planilha!G366+Planilha!G369+Planilha!G372+Planilha!G377+Planilha!G402+Planilha!G431+Planilha!G436+Planilha!G460+Planilha!G467+Planilha!G475+Planilha!G478+Planilha!G481+Planilha!G493+Planilha!G506+Planilha!G516)*(1+Planilha!#REF!) -> #REF!
A27: D | B27: SERVIÇOS TÉCNICOS | C27: 0 | N27: 0 | O27: =SUM(C27:N27) -> 0
C28: =$O28*C27 -> #REF! | N28: =$O28*N27 -> #REF! | O28: =(Planilha!G521)*(1+Planilha!#REF!) -> #REF!
A30: E | B30: LIMPEZA FINAL | N30: 0 | O30: =SUM(C30:N30) -> 0
N31: =$O31*N30 -> #REF! | O31: =(Planilha!G533)*(1+Planilha!#REF!)+0.01 -> #REF!
O33: =SUM(C33:N33) -> 0
O36: =SUM(C36:N36) -> 0
O39: =SUM(C39:N39) -> 0
O42: =SUM(C42:N42) -> 0
N43: =$O43*N42 -> 0
A45: J | O45: =SUM(C45:N45) -> 0
A48: K | O48: =SUM(C48:N48) -> 0
A51: L | O51: =SUM(C51:N51) -> 0
A54: M | O54: =SUM(C54:N54) -> 0
A57: N | O57: =SUM(C57:N57) -> 0
A60: O | O60: =SUM(C60:N60) -> 0
B64: VALOR TOTAL DOS SERVIÇOS | C64: =SUM(C16,C22,C25,C28,C31,C34,C37,C40,C43,C19) -> #REF! | D64: =SUM(D16,D22,D25,D28,D31,D34,D37,D40,D43,D19) -> #REF! | E64: =SUM(E16,E22,E25,E28,E31,E34,E37,E40,E43,E19) -> #REF! | F64: =SUM(F16,F22,F25,F28,F31,F34,F37,F40,F43,F19) -> #REF! | G64: =SUM(G16,G22,G25,G28,G31,G34,G37,G40,G43,G19) -> #REF! | H64: =SUM(H16,H22,H25,H28,H31,H34,H37,H40,H43,H19) -> #REF! | I64: =SUM(I16,I22,I25,I28,I31,I34,I37,I40,I43,I19) -> #REF! | J64: =SUM(J16,J22,J25,J28,J31,J34,J37,J40,J43,J19) -> #REF! | ... O64: =SUM(O16,O22,O25,O28,O31,O34,O37,O40,O43,O19) -> #REF!
