Workbook
Name __xlnm.Print_Area_1: 0
Name __xlnm.Print_Titles_1: 0
Name __xlnm_Print_Area_1: 0
Name __xlnm_Print_Titles_1: 0
Name a: "#ref!"
Name CICLOVIA_3: "#ref!"
Name CICLOVIA_3_2: "#ref!"
Name CICLOVIA_3_4: "#ref!"
Name CICLOVIA_3_5: "#ref!"
Name CONCATENAR: CONCATENATE(#REF!," ",#REF!)
Name CONCATENAR: CONCATENATE(#REF!," ",#REF!)
Name CONCATENAR: CONCATENATE(#REF!," ",#REF!)
Name CP: "#ref!"
Name Dados.Lista.BDI: [2]DADOS!$T$37:$X$37
Name DATABASE: #REF!
Name DATABASE: #REF!
Name DATABASE: #REF!
Name DATAEMISSAO: #REF!
Name DATAEMISSAO: #REF!
Name DATAEMISSAO: #REF!
Name DATART: #REF!
Name DATART: #REF!
Name DATART: #REF!
Name e: "#ref!"
Name EMPRESAS: OFFSET([3]Cotações!$B$25,0,0):OFFSET([3]Cotações!$H$29,-1,0)
Name Excel_BuiltIn__FilterDatabase: "#ref!"
Name Excel_BuiltIn_Print_Area_1: "#ref!"
Name Excel_BuiltIn_Print_Area_1_1: "#ref!"
Name Excel_BuiltIn_Print_Area_1_1_1: "#ref!"
Name Excel_BuiltIn_Print_Area_2: "#ref!"
Name Excel_BuiltIn_Print_Area_2_1: "#ref!"
Name Excel_BuiltIn_Print_Area_3: "#ref!"
Name Excel_BuiltIn_Print_Area_3_1: "#ref!"
Name Excel_BuiltIn_Print_Area_3_1_1: "#ref!"
Name Excel_BuiltIn_Print_Area_4: "#ref!"
Name Excel_BuiltIn_Print_Area_4_1: "#ref!"
Name Excel_BuiltIn_Print_Area_5: "#ref!"
Name Excel_BuiltIn_Print_Area_6: "#ref!"
Name Excel_BuiltIn_Print_Area_7: "#ref!"
Name Excel_BuiltIn_Print_Titles_2: "#ref!"
Name Excel_BuiltIn_Print_Titles_2_1: "#ref!"
Name Excel_BuiltIn_Print_Titles_2_1_1: "#ref!"
Name Excel_BuiltIn_Print_Titles_3: "#ref!"
Name Excel_BuiltIn_Print_Titles_3_1: "#ref!"
Name Excel_BuiltIn_Print_Titles_4: "#ref!"
Name Excel_BuiltIn_Print_Titles_5: "#ref!"
Name Excel_BuiltIn_Print_Titles_5_1: "#ref!"
Name Excel_BuiltIn_Print_Titles_6: "#ref!"
Name Excel_BuiltIn_Print_Titles_6_2: "#ref!"
Name Excel_BuiltIn_Print_Titles_6_4: "#ref!"
Name Excel_BuiltIn_Print_Titles_6_5: "#ref!"
Name Excel_BuiltIn_Print_Titles_7: "#ref!"
Name INDICES: [3]Cotações!$B$22:OFFSET([3]Cotações!$I$24,-1,0)
Name LOCALIDADE: #REF!
Name LOCALIDADE: #REF!
Name LOCALIDADE: #REF!
Name MEMÓRIA: ROUND([6]Planilha!$P1,15-13*[6]Planilha!#REF!)
Name MEMÓRIA: ROUND([6]Planilha!$P1,15-13*[6]Planilha!#REF!)
Name MEMÓRIA: ROUND([6]Planilha!$P1,15-13*[6]Planilha!#REF!)
Name NCOMPOSICOES: 0

Sheet Planilha
E3: Prazo: | F3: 6 meses
B4: PLANILHA ORÇAMENTÁRIA
B5: OBRA: TRATAMENTO DE ESGOTO DE CONJUNTO HABITACIONAL | E5: B.D.I.: | F5: 0
B6: LOCAL: ALDEIA INDÍGENA RIO SILVEIRAS | E6: L.S.:
E8: Custo
A9: Item | B9: Descrição dos Serviços | C9: Unid. | D9: Quant. | E9: Unitário | F9: Preço Total
E10: R$ | F10: R$
A11: A | B11: SERVIÇOS PRELIMINARES
A13: 100 | B13: CANTEIRO DE OBRAS
B14: SERVIÇOS PRELIMINARES
A15: 101 | B15: PLACA DE IDENTIFICAÇÃO PARA OBRA | C15: M2 | D15: 6 | F15: =ROUND(E15*D15,2) -> 0
A16: 102 | B16: LOCAÇÃO DE CONTAINER TIPO SANITÁRIO COM 2 VASOS SANITÁRIOS, 2 LAVATÓRIOS, 2 MICTÓRIOS E 4 PONTOS PARA CHUVEIRO - ÁREA MÍNIMA DE 13,80 M² | C16: UNMES | D16: 6 | F16: =ROUND(E16*D16,2) -> 0
B17: PREPARAÇÃO DO TERRENO
A18: 103 | B18: LIMPEZA MECANIZADA DO TERRENO, INCLUSIVE TRONCOS ATÉ 15 CM DE DIÂMETRO, COM CAMINHÃO À DISPOSIÇÃO DENTRO E FORA DA OBRA, COM TRANSPORTE NO RAIO DE ATÉ 1 KM | C18: M2 | D18: 1800 | F18: =ROUND(E18*D18,2) -> 0
B20: TOTAL DO ITEM | C20: 100 | F20: =SUM(F15:F18) -> 0
A22: B | B22: ESGOTAMENTO DE RESÍDUOS
A24: 200 | B24: ABERTURA E PREPARAÇÃO DE VALAS
B25: ABERTURA DE VALA PARA INFILTRAÇÃO (ø 1,50 A 3,00 M)
A26: 201 | B26: ESCAVAÇÃO E CARGA MECANIZADA EM SOLO DE 1ª CATEGORIA, EM CAMPO ABERTO | C26: M3 | D26: 405 | F26: =ROUND(E26*D26,2) -> 0
A27: 202 | B27: REATERRO COMPACTADO MECANIZADO DE VALA OU CAVA COM COMPACTADOR | C27: M3 | D27: 293.9 | F27: =ROUND(E27*D27,2) -> 0
A28: 203 | B28: CARGA E REMOÇÃO DE TERRA ATÉ A DISTÂNCIA MÉDIA DE 1 KM | C28: M3 | D28: 293.9 | F28: =ROUND(E28*D28,2) -> 0
B29: ABERTURA DE VALAS PARA TUBULAÇÃO
A30: 204 | B30: ESCAVAÇÃO MANUAL EM SOLO DE 1ª E 2ª CATEGORIA EM VALA OU CAVA ATÉ 1,5 M | C30: M3 | D30: 172.8 | F30: =ROUND(E30*D30,2) -> 0
A31: 205 | B31: REATERRO COMPACTADO MECANIZADO DE VALA OU CAVA COM COMPACTADOR | C31: M3 | D31: 185.53 | F31: =ROUND(E31*D31,2) -> 0
A32: 206 | B32: CARGA E REMOÇÃO DE TERRA ATÉ A DISTÂNCIA MÉDIA DE 1 KM | C32: M3 | D32: 185.53 | F32: =ROUND(E32*D32,2) -> 0
B33: ESCORAS
A34: 207 | B34: ESCORAMENTO DE SOLO PONTALETADO | C34: M2 | D34: 180 | F34: =ROUND(E34*D34,2) -> 0
B35: LASTRO
A36: 208 | B36: LASTRO DE AREIA | C36: M3 | D36: 27 | F36: =ROUND(E36*D36,2) -> 0
B38: TOTAL DO ITEM | C38: 200 | F38: =SUM(F26:F36) -> 0
A40: 300 | B40: INSTALAÇÕES HIDRAÚLICAS
B41: FORNECIMENTO E ASSENTAMENTO DE TUBOS
A42: 301 | B42: TUBO DE PVC RÍGIDO PXB COM VIROLA, LINHA ESGOTO SÉRIE REFORÇADA ´R´, DN= 75MM | C42: M | D42: 45 | F42: =ROUND(E42*D42,2) -> 0
A43: 302 | B43: TUBO DE PVC RÍGIDO PXB COM VIROLA, LINHA ESGOTO SÉRIE REFORÇADA ´R´, DN= 100MM | C43: M | D43: 1080 | F43: =ROUND(E43*D43,2) -> 0
A44: 303 | B44: REGISTRO DE GAVETA EM LATÃO FUNDIDO SEM ACABAMENTO, DN= 2 1/2´ | C44: UN | D44: 30 | F44: =ROUND(E44*D44,2) -> 0
B45: CAIXAS DE INSPEÇÃO EM CONCRETO PRÉ-MOLDADO
A46: 304 | B46: CAIXA DE GORDURA EM ALVENARIA, 600 X 600 X 600 MM | C46: UN | D46: 60 | F46: =ROUND(E46*D46,2) -> 0
A47: 305 | B47: ESCAVAÇÃO MANUAL EM SOLO DE 1ª E 2ª CATEGORIA EM VALA OU CAVA ATÉ 1,5 M | C47: M3 | D47: 38.4 | F47: =ROUND(E47*D47,2) -> 0
A48: 306 | B48: REATERRO COMPACTADO MECANIZADO DE VALA OU CAVA COM COMPACTADOR | C48: M3 | D48: 33.07 | F48: =ROUND(E48*D48,2) -> 0
B50: TOTAL DO ITEM | C50: 300 | F50: =SUM(F42:F48) -> 0
A52: C | B52: TRATAMENTO DE EFLUENTES
A54: 400 | B54: TRATAMENTO E DISPOSIÇÃO FINAL DO EFLUENTE
B55: SISTEMAS DE TRATAMENTO
A56: 401 | B56: EQUIPAMENTO - BIODIGESTOR CAPACIDADE MÍNIMA - 1500 LITROS | C56: UN | D56: 30 | F56: =ROUND(E56*D56,2) -> 0
A57: 402 | B57: LASTRO DE PEDRA BRITADA | C57: M3 | D57: 2.16 | F57: =ROUND(E57*D57,2) -> 0
A58: 403 | B58: CONCRETO USINADO, FCK = 30 MPA - PARA BOMBEAMENTO | C58: M3 | D58: 3.02 | F58: =ROUND(E58*D58,2) -> 0
A59: 404 | B59: CARGA E REMOÇÃO DE TERRA ATÉ A DISTÂNCIA MÉDIA DE 1 KM | C59: M3 | D59: 66.37 | F59: =ROUND(E59*D59,2) -> 0
A60: 405 | B60: ESCAVAÇÃO MANUAL EM SOLO DE 1ª E 2ª CATEGORIA EM VALA OU CAVA ALÉM DE 1,5 M | C60: M3 | D60: 86.4 | F60: =ROUND(E60*D60,2) -> 0
A61: 406 | B61: REATERRO COMPACTADO MECANIZADO DE VALA OU CAVA COM COMPACTADOR | C61: M3 | D61: 66.37 | F61: =ROUND(E61*D61,2) -> 0
B63: TOTAL DO ITEM | C63: 400 | F63: =SUM(F56:F62) -> 0
A65: 500 | B65: DISPOSIÇÃO DO EFLUENTE
B66: CAIXAS DE SECAGEM
A67: 501 | B67: ARGAMASSA GRAUTE | C67: M3 | D67: 2.92 | F67: =ROUND(E67*D67,2) -> 0
A68: 502 | B68: ARMADURA EM BARRA DE AÇO CA-50 (A OU B) FYK = 500 MPA | C68: KG | D68: 146 | F68: =ROUND(E68*D68,2) -> 0
A69: 503 | B69: ALVENARIA DE BLOCO DE CONCRETO DE VEDAÇÃO DE 9 CM - CLASSE C | C69: M2 | D69: 184.8 | F69: =ROUND(E69*D69,2) -> 0
A70: 504 | B70: FORMA PLANA EM COMPENSADO PARA ESTRUTURA CONVENCIONAL | C70: M2 | D70: 13.2 | F70: =ROUND(E70*D70,2) -> 0
A71: 505 | B71: ESCAVAÇÃO MANUAL EM SOLO DE 1ª E 2ª CATEGORIA EM VALA OU CAVA ALÉM DE 1,5 M | C71: M3 | D71: 101.25 | F71: =ROUND(E71*D71,2) -> 0
A72: 506 | B72: REATERRO COMPACTADO MECANIZADO DE VALA OU CAVA COM COMPACTADOR | C72: M3 | D72: 60.84 | F72: =ROUND(E72*D72,2) -> 0
B73: CAVAS DE INFILTRAÇÃO COM ARVORE FRUTÍFERA
A74: 507 | B74: ESCAVAÇÃO MANUAL EM SOLO DE 1ª E 2ª CATEGORIA EM VALA OU CAVA ALÉM DE 1,5 M | C74: M3 | D74: 107.52 | F74: =ROUND(E74*D74,2) -> 0
B75: PREENCHIMENTO INFERIOR COM MATERIAL DA LIMPEZA DE TERRENO
A76: 508 | B76: ATERRO MANUAL APILOADO DE ÁREA INTERNA COM MAÇO DE 30 KG | C76: M3 | D76: 34.94 | F76: =ROUND(E76*D76,2) -> 0
B77: PREENCHIMENTO SUPERIOR COM MATERIAL DA LIMPEZA DE TERRENO
A78: 509 | B78: ATERRO MANUAL APILOADO DE ÁREA INTERNA COM MAÇO DE 30 KG | C78: M3 | D78: 34.94 | F78: =ROUND(E78*D78,2) -> 0
A79: 510 | B79: REATERRO MANUAL APILOADO SEM CONTROLE DE COMPACTAÇÃO | C79: M3 | D79: 41.93 | F79: =ROUND(E79*D79,2) -> 0
A80: 511 | B80: ARBUSTO AZALÉA - H= 0,60 A 0,80 M | C80: UN | D80: 210 | F80: =ROUND(E80*D80,2) -> 0
B81: REBAIXAMENTO DE LENÇOL
A82: 512 | B82: ESGOTAMENTO DE ÁGUAS SUPERFICIAIS COM BOMBA DE SUPERFÍCIE OU SUBMERSA | C82: HPXh | D82: 150 | F82: =ROUND(E82*D82,2) -> 0
B84: TOTAL DO ITEM | C84: 500 | F84: =SUM(F67:F82) -> 0
B86: TOTAL | E86: =F20+F38+F50+F63+F84 -> 0
B87: BDI 00,00% | E87: =E86*0 -> 0
B88: TOTAL GERAL | E88: =E86+E87 -> 0
B89: TOTAL (RESIDÊNCIA) | E89: =E88/30 -> 0

Sheet cronograma
C4: CRONOGRAMA FÍSICO - FINANCEIRO
C6: OBRA: TRATAMENTO DE ESGOTO DE CONJUNTO HABITACIONAL
C8: LOCAL: ALDEIA INDÍGENA RIO SILVEIRAS
C11: MESES
A12: Item | B12: ETAPAS DE SERVIÇOS | C12: 1 | D12: 2 | E12: 3 | F12: 4 | G12: 5 | H12: 6 | I12: VALOR
C13: 30 | D13: 60 | E13: 90 | F13: 120 | G13: 150 | H13: 180 | I13: R$
A15: A | B15: SERVIÇOS PRELIMINARES
A17: 100 | B17: CANTEIRO DE OBRAS | C17: 0 | D17: 0 | E17: 0 | F17: 0 | G17: 0 | H17: 0 | I17: =SUM(C17:H17) -> 0
C18: =$I18*C17 -> 0 | D18: =$I18*D17 -> 0 | E18: =$I18*E17 -> 0 | F18: =$I18*F17 -> 0 | G18: =$I18*G17 -> 0 | H18: =$I18*H17 -> 0 | I18: =Planilha!F20*1.25 -> 0
A19: B | B19: ESGOTAMENTO DE RESÍDUOS
A21: 200 | B21: ABERTURA E PREPARAÇÃO DE VALAS | C21: 0 | D21: 0 | I21: =SUM(C21:H21) -> 0
C22: =$I22*C21 -> 0 | D22: =$I22*D21 -> 0 | I22: =Planilha!F38*1.25 -> 0
A24: 300 | B24: INSTALAÇÕES HIDRAÚLICAS | D24: 0 | E24: 0 | G24: 0 | H24: 0 | I24: =SUM(C24:H24) -> 0
D25: =$I25*D24 -> 0 | E25: =$I25*E24 -> 0 | G25: =$I25*G24 -> 0 | H25: =$I25*H24 -> 0 | I25: =Planilha!F50*1.25 -> 0
A27: C | B27: TRATAMENTO DE EFLUENTES
A29: 400 | B29: TRATAMENTO E DISPOSIÇÃO FINAL DO EFLUENTE | E29: 0 | F29: 0 | I29: =SUM(C29:H29) -> 0
E30: =$I30*E29 -> 0 | F30: =$I30*F29 -> 0 | I30: =Planilha!F63*1.25 -> 0
A32: 500 | B32: DISPOSIÇÃO DO EFLUENTE | F32: 0 | G32: 0 | H32: 0 | I32: =SUM(C32:H32) -> 0
F33: =$I33*F32 -> 0 | G33: =$I33*G32 -> 0 | H33: =$I33*H32 -> 0 | I33: =Planilha!F84*1.25 -> 0
B36: VALOR TOTAL DOS SERVIÇOS | C36: =C18+C22+C25+C30+C33 -> 0 | D36: =D18+D22+D25+D30+D33 -> 0 | E36: =E18+E22+E25+E30+E33 -> 0 | F36: =F18+F22+F25+F30+F33 -> 0 | G36: =G18+G22+G25+G30+G33 -> 0 | H36: =H18+H22+H25+H30+H33 -> 0 | I36: =SUM(C36:H36) -> 0
