Workbook
Name __xlnm.Print_Area_1: 0
Name __xlnm.Print_Titles_1: 0
Name __xlnm_Print_Area_1: 0
Name __xlnm_Print_Titles_1: 0
Name a: "#ref!"
Name CICLOVIA_3: "#ref!"
Name CICLOVIA_3_2: "#ref!"
Name CICLOVIA_3_4: "#ref!"
Name CICLOVIA_3_5: "#ref!"
Name CONCATENAR: CONCATENATE(#REF!," ",#REF!)
Name CP: "#ref!"
Name Dados.Lista.BDI: [2]DADOS!$T$37:$X$37
Name DATABASE: #REF!
Name DATAEMISSAO: #REF!
Name DATART: #REF!
Name e: "#ref!"
Name Edif09: #REF!
Name EMPRESAS: OFFSET([3]Cotações!$B$25,0,0):OFFSET([3]Cotações!$H$29,-1,0)
Name Excel_BuiltIn__FilterDatabase: "#ref!"
Name Excel_BuiltIn_Print_Area_1: "#ref!"
Name Excel_BuiltIn_Print_Area_1_1: "#ref!"
Name Excel_BuiltIn_Print_Area_1_1_1: "#ref!"
Name Excel_BuiltIn_Print_Area_2: "#ref!"
Name Excel_BuiltIn_Print_Area_2_1: "#ref!"
Name Excel_BuiltIn_Print_Area_3: "#ref!"
Name Excel_BuiltIn_Print_Area_3_1: "#ref!"
Name Excel_BuiltIn_Print_Area_3_1_1: "#ref!"
Name Excel_BuiltIn_Print_Area_4: "#ref!"
Name Excel_BuiltIn_Print_Area_4_1: "#ref!"
Name Excel_BuiltIn_Print_Area_5: "#ref!"
Name Excel_BuiltIn_Print_Area_6: "#ref!"
Name Excel_BuiltIn_Print_Area_7: "#ref!"
Name Excel_BuiltIn_Print_Titles_2: "#ref!"
Name Excel_BuiltIn_Print_Titles_2_1: "#ref!"
Name Excel_BuiltIn_Print_Titles_2_1_1: "#ref!"
Name Excel_BuiltIn_Print_Titles_3: "#ref!"
Name Excel_BuiltIn_Print_Titles_3_1: "#ref!"
Name Excel_BuiltIn_Print_Titles_4: "#ref!"
Name Excel_BuiltIn_Print_Titles_5: "#ref!"
Name Excel_BuiltIn_Print_Titles_5_1: "#ref!"
Name Excel_BuiltIn_Print_Titles_6: "#ref!"
Name Excel_BuiltIn_Print_Titles_6_2: "#ref!"
Name Excel_BuiltIn_Print_Titles_6_4: "#ref!"
Name Excel_BuiltIn_Print_Titles_6_5: "#ref!"
Name Excel_BuiltIn_Print_Titles_7: "#ref!"
Name INDICES: [3]Cotações!$B$22:OFFSET([3]Cotações!$I$24,-1,0)
Name Infra09: #REF!
Name LOCALIDADE: #REF!
Name MEMÓRIA: ROUND([4]Planilha!$P1,15-13*[4]Planilha!#REF!)
Name NCOMPOSICOES: 0
Name NCOTACOES: 0
Name NEMPRESAS: 3
Name NINDICES: 1
Name NRELATORIOS: COUNTA([3]Relatórios!$A$1:$A$65536)-2
Name NumerEmpresa: 3
Name NumerIndice: 1
Name Objeto: "Referência"
Name plan6: "#ref!"
Name PO.CustoUnitario: ROUND([5]Planilha!$P1,15-13*[5]Planilha!#REF!)
Name PO.PrecoUnitario: [5]Planilha!$R1

Sheet Entrada de dados
A6: PROCESSO Nº | B6: ORC 001 | C6: <- Preencher
A8: DATA: | B8: 40067 | C8: <- Preencher
A10: ORÇAMENTO Nº | B10: REV01 | C10: <- Preencher
A12: ASSUNTO: | B12: DRAFT | C12: <- Preencher
A14: LOCAL: | B14: 4 ANDAR | C14: <- Preencher
A16: TABELA DE CUSTO DE: | B16: SIRUB e/ou EDIF JAN09
A18: DATA-BASE: | B18: 40057
A20: EVENTUAIS: | B20: 0.1 | C20: <- Indique se houver
A22: SERVIÇOS NOTURNOS: | C22: <- Indique se houver e acrescente na tabela
A24: BDI: | B24: 0.23 | C24: <- Indique

Sheet Infra_Sem Desoneração_JUL24
A1: SECRETARIA DE INFRAESTRUTURA URBANA E OBRAS
A2: CUSTOS UNITÁRIOS DE INFRAESTRUTURA URBANA - SEM DESONERAÇÃO | C2: DATA-BASE: JUL/25
A3: CÓDIGO | B3: DESCRIÇÃO | C3: UNIDADE | D3: CUSTO UNIT R$
A4: 1000000 | B4: TOPOGRAFIA - EQUIPAMENTOS E SERVIÇOS
A5: 1009000 | B5: LEVANTAMENTO PLANIMÉTRICO CADASTRAL | C5: M2 | D5: 0.72
A6: 1010000 | B6: LEVANTAMENTO PLANIALTIMÉTRICO CADASTRAL | C6: M2 | D6: 0.88
A7: 1011000 | B7: LOCAÇÃO DE EIXO DE REFERÊNCIA PARA PROJETO DE VIA PÚBLICA | C7: M | D7: 6.33
A8: 1013000 | B8: NIVELAMENTO DE SEÇÕES TRANSVERSAIS | C8: M/SEC | D8: 3.81
A9: 1014000 | B9: LEVANTAMENTO PLANIMÉTRICO DE VIA PÚBLICA E SEMI-CADASTRO DE IMÓVEIS | C9: M | D9: 6
A10: 1015000 | B10: NIVELAMENTO DO EIXO DE VIA PÚBLICA INCLUSIVE SOLEIRAS, GUIAS E TAMPÕES | C10: M | D10: 5.91
A11: 1016000 | B11: CADASTRO DE GALERIA EXISTENTE | C11: PV | D11: 270.7
A12: 1017000 | B12: ELEMENTOS PARA LOCAÇÃO DE OBRA DE ARTE | C12: M/ EIXO | D12: 8.08
A13: 1018000 | B13: TRANSPORTE DE COTA DE REFERÊNCIA DE NÍVEL | C13: M | D13: 2.71
A14: 1019000 | B14: NIVELAMENTO GEOMÉTRICO NO INTERIOR DA GALERIA | C14: M | D14: 10.84
A15: 1020000 | B15: CADASTRO ESPECIAL DE GALERIA MOLDADA (1:500) | C15: M | D15: 13.61
A16: 1021000 | B16: NIVELAMENTO GEOMÉTRICO DE FUNDO DO CANAL OU CÓRREGO | C16: M | D16: 9.1
... A30: 1037000 | B30: NÍVEL PRECISÃO 0,3 MM/KM, TIPO "LEICA" NA2, ACOPLADO COM GPM3 OU SIMILAR, INCLUSIVE ACESSÓRIOS | C30: H | D30: 6.62
A31: 2000000 | B31: SONDAGENS E ENSAIOS
A32: 2001000 | B32: SONDAGEM MANUAL | C32: . | D32: .
A33: 2001001 | B33: SONDAGEM A TRADO MANUAL | C33: M | D33: 112.9
A34: 2001002 | B34: SONDAGEM COM EXTRAÇÃO DE AMOSTRAS NAS CONDIÇÕES NATURAIS | C34: UN | D34: 190.5
A35: 2002000 | B35: SONDAGEM A PERCUSSÃO | C35: . | D35: .
A36: 2002002 | B36: MOBILIZAÇÃO E INSTALAÇÃO DE 1 EQUIPAMENTO | C36: UN | D36: 752.16
A37: 2002004 | B37: DESLOCAMENTO DE EQUIPAMENTO ENTRE FUROS EM TERRENO PLANO, CONSIDERANDO A DISTÂNCIA ATÉ 100M | C37: UN | D37: 104.74
A38: 2002005 | B38: DESLOCAMENTO DE EQUIPAMENTO ENTRE FUROS EM TERRENO PLANO, CONSIDERANDO A DISTÂNCIA DE 100 À 200M | C38: UN | D38: 209.48
A39: 2002006 | B39: DESLOCAMENTO DE EQUIPAMENTO ENTRE FUROS EM TERRENO PLANO, CONSIDERANDO A DISTÂNCIA ACIMA DE 200M | C39: UN | D39: 314.22
A40: 2002007 | B40: DESLOCAMENTO DE EQUIPAMENTO EM TERRENO ACIDENTADO, CONSIDERANDO A DISTÂNCIA ATÉ 50M | C40: UN | D40: 104.74
A41: 2002008 | B41: DESLOCAMENTO DE EQUIPAMENTO EM TERRENO ACIDENTADO, CONSIDERANDO A DISTÂNCIA ACIMA DE 50M | C41: UN | D41: 183.59
A42: 2002009 | B42: EXECUÇÃO DE PLATAFORMA EM TERRENO ALAGADIÇO OU ACIDENTADO | C42: UN | D42: 230.58
A43: 2002010 | B43: PERFURAÇÃO E EXECUÇÃO DE ENSAIO PENETOMÉTRICO OU DE LAVAGEM POR TEMPO | C43: M | D43: 179.76
A44: 2003000 | B44: SONDAGEM ROTATIVA | C44: . | D44: .
A45: 2003001 | B45: MOBILIZAÇÃO E INSTALAÇÃO DE 1 EQUIPAMENTO, CONSIDERANDO A DISTÂNCIA ATÉ 10KM | C45: UN | D45: 475.39
A46: 2003002 | B46: MOBILIZAÇÃO E INSTALAÇÃO DE 1 EQUIPAMENTO, CONSIDERANDO A DISTÂNCIA DE 10 À 20KM | C46: UN | D46: 744.93
A47: 2003003 | B47: MOBILIZAÇÃO E INSTALAÇÃO DE 1 EQUIPAMENTO, CONSIDERANDO A DISTÂNCIA ACIMA DE 20KM | C47: UN | D47: 1014.46
A48: 2003005 | B48: DESLOCAMENTO DE EQUIPAMENTO ENTRE FUROS EM TERRENO PLANO, CONSIDERANDO A DISTÂNCIA ATÉ 100M | C48: UN | D48: 205.86
A49: 2003006 | B49: DESLOCAMENTO DE EQUIPAMENTO ENTRE FUROS EM TERRENO PLANO, CONSIDERANDO A DISTÂNCIA DE 100 À 200M | C49: UN | D49: 308.8
A50: 2003007 | B50: DESLOCAMENTO DE EQUIPAMENTO ENTRE FUROS EM TERRENO PLANO, CONSIDERANDO A DISTÂNCIA ACIMA DE 200M | C50: UN | D50: 411.73
A51: 2003008 | B51: DESLOCAMENTO DE EQUIPAMENTO ENTRE FUROS EM TERRENO ACIDENTADO, CONSIDERANDO A DISTÂNCIA ATÉ 50M | C51: UN | D51: 205.86
A52: 2003009 | B52: DESLOCAMENTO DE EQUIPAMENTO ENTRE FUROS EM TERRENO ACIDENTADO, CONSIDERANDO A DISTÂNCIA ACIMA DE 50M | C52: UN | D52: 308.8
A53: 2003010 | B53: EXECUÇÃO DE PLATAFORMA EM TERRENO ALAGADIÇO OU ACIDENTADO | C53: UN | D53: 507.43
...

Sheet Infra_Com Desoneração_JUL24
A1: SECRETARIA DE INFRAESTRUTURA URBANA E OBRAS
A2: CUSTOS UNITÁRIOS DE INFRAESTRUTURA URBANA - COM DESONERAÇÃO | C2: DATA-BASE: JUL/25
A3: CÓDIGO | B3: DESCRIÇÃO | C3: UNIDADE | D3: CUSTO UNIT R$
A4: 1000000 | B4: TOPOGRAFIA - EQUIPAMENTOS E SERVIÇOS
A5: 1009000 | B5: LEVANTAMENTO PLANIMÉTRICO CADASTRAL | C5: M2 | D5: 0.72
A6: 1010000 | B6: LEVANTAMENTO PLANIALTIMÉTRICO CADASTRAL | C6: M2 | D6: 0.88
A7: 1011000 | B7: LOCAÇÃO DE EIXO DE REFERÊNCIA PARA PROJETO DE VIA PÚBLICA | C7: M | D7: 6.32
A8: 1013000 | B8: NIVELAMENTO DE SEÇÕES TRANSVERSAIS | C8: M/SEC | D8: 3.81
A9: 1014000 | B9: LEVANTAMENTO PLANIMÉTRICO DE VIA PÚBLICA E SEMI-CADASTRO DE IMÓVEIS | C9: M | D9: 6
A10: 1015000 | B10: NIVELAMENTO DO EIXO DE VIA PÚBLICA INCLUSIVE SOLEIRAS, GUIAS E TAMPÕES | C10: M | D10: 5.91
A11: 1016000 | B11: CADASTRO DE GALERIA EXISTENTE | C11: PV | D11: 270.7
A12: 1017000 | B12: ELEMENTOS PARA LOCAÇÃO DE OBRA DE ARTE | C12: M/ EIXO | D12: 8.08
A13: 1018000 | B13: TRANSPORTE DE COTA DE REFERÊNCIA DE NÍVEL | C13: M | D13: 2.71
A14: 1019000 | B14: NIVELAMENTO GEOMÉTRICO NO INTERIOR DA GALERIA | C14: M | D14: 10.84
A15: 1020000 | B15: CADASTRO ESPECIAL DE GALERIA MOLDADA (1:500) | C15: M | D15: 13.61
A16: 1021000 | B16: NIVELAMENTO GEOMÉTRICO DE FUNDO DO CANAL OU CÓRREGO | C16: M | D16: 9.1
... A30: 1037000 | B30: NÍVEL PRECISÃO 0,3 MM/KM, TIPO "LEICA" NA2, ACOPLADO COM GPM3 OU SIMILAR, INCLUSIVE ACESSÓRIOS | C30: H | D30: 6.62
A31: 2000000 | B31: SONDAGENS E ENSAIOS
A32: 2001000 | B32: SONDAGEM MANUAL | C32: . | D32: .
A33: 2001001 | B33: SONDAGEM A TRADO MANUAL | C33: M | D33: 109.81
A34: 2001002 | B34: SONDAGEM COM EXTRAÇÃO DE AMOSTRAS NAS CONDIÇÕES NATURAIS | C34: UN | D34: 184.92
A35: 2002000 | B35: SONDAGEM A PERCUSSÃO | C35: . | D35: .
A36: 2002002 | B36: MOBILIZAÇÃO E INSTALAÇÃO DE 1 EQUIPAMENTO | C36: UN | D36: 729.13
A37: 2002004 | B37: DESLOCAMENTO DE EQUIPAMENTO ENTRE FUROS EM TERRENO PLANO, CONSIDERANDO A DISTÂNCIA ATÉ 100M | C37: UN | D37: 100.58
A38: 2002005 | B38: DESLOCAMENTO DE EQUIPAMENTO ENTRE FUROS EM TERRENO PLANO, CONSIDERANDO A DISTÂNCIA DE 100 À 200M | C38: UN | D38: 201.17
A39: 2002006 | B39: DESLOCAMENTO DE EQUIPAMENTO ENTRE FUROS EM TERRENO PLANO, CONSIDERANDO A DISTÂNCIA ACIMA DE 200M | C39: UN | D39: 301.76
A40: 2002007 | B40: DESLOCAMENTO DE EQUIPAMENTO EM TERRENO ACIDENTADO, CONSIDERANDO A DISTÂNCIA ATÉ 50M | C40: UN | D40: 100.58
A41: 2002008 | B41: DESLOCAMENTO DE EQUIPAMENTO EM TERRENO ACIDENTADO, CONSIDERANDO A DISTÂNCIA ACIMA DE 50M | C41: UN | D41: 177.36
A42: 2002009 | B42: EXECUÇÃO DE PLATAFORMA EM TERRENO ALAGADIÇO OU ACIDENTADO | C42: UN | D42: 216.96
A43: 2002010 | B43: PERFURAÇÃO E EXECUÇÃO DE ENSAIO PENETOMÉTRICO OU DE LAVAGEM POR TEMPO | C43: M | D43: 176.59
A44: 2003000 | B44: SONDAGEM ROTATIVA | C44: . | D44: .
A45: 2003001 | B45: MOBILIZAÇÃO E INSTALAÇÃO DE 1 EQUIPAMENTO, CONSIDERANDO A DISTÂNCIA ATÉ 10KM | C45: UN | D45: 459.73
A46: 2003002 | B46: MOBILIZAÇÃO E INSTALAÇÃO DE 1 EQUIPAMENTO, CONSIDERANDO A DISTÂNCIA DE 10 À 20KM | C46: UN | D46: 721.9
A47: 2003003 | B47: MOBILIZAÇÃO E INSTALAÇÃO DE 1 EQUIPAMENTO, CONSIDERANDO A DISTÂNCIA ACIMA DE 20KM | C47: UN | D47: 984.07
A48: 2003005 | B48: DESLOCAMENTO DE EQUIPAMENTO ENTRE FUROS EM TERRENO PLANO, CONSIDERANDO A DISTÂNCIA ATÉ 100M | C48: UN | D48: 197.56
A49: 2003006 | B49: DESLOCAMENTO DE EQUIPAMENTO ENTRE FUROS EM TERRENO PLANO, CONSIDERANDO A DISTÂNCIA DE 100 À 200M | C49: UN | D49: 296.34
A50: 2003007 | B50: DESLOCAMENTO DE EQUIPAMENTO ENTRE FUROS EM TERRENO PLANO, CONSIDERANDO A DISTÂNCIA ACIMA DE 200M | C50: UN | D50: 395.12
A51: 2003008 | B51: DESLOCAMENTO DE EQUIPAMENTO ENTRE FUROS EM TERRENO ACIDENTADO, CONSIDERANDO A DISTÂNCIA ATÉ 50M | C51: UN | D51: 197.56
A52: 2003009 | B52: DESLOCAMENTO DE EQUIPAMENTO ENTRE FUROS EM TERRENO ACIDENTADO, CONSIDERANDO A DISTÂNCIA ACIMA DE 50M | C52: UN | D52: 296.34
A53: 2003010 | B53: EXECUÇÃO DE PLATAFORMA EM TERRENO ALAGADIÇO OU ACIDENTADO | C53: UN | D53: 480.18
...

Sheet Edif_Sem Desoneração_JUL24
A1: SECRETARIA DE INFRAESTRUTURA URBANA E OBRAS
A2: CUSTOS UNITÁRIOS DE EDIFICAÇÕES - SEM DESONERAÇÃO | C2: DATA-BASE: JUL/25
A3: CÓDIGO | B3: DESCRIÇÃO | C3: UNIDADE | D3: CUSTO UNIT R$
A4: 1000000 | B4: SERVICOS PRELIMINARES
A5: 1001000 | B5: LIMPEZA DO TERRENO | C5: . | D5: .
A6: 1001001 | B6: LIMPEZA MECANIZADA GERAL, INCLUSIVE REMOÇÃO DA COBERTURA VEGETAL - TRONCOS COM DIÂMETRO ATÉ 10CM - SEM TRANSPORTE | C6: M2 | D6: 1.76
A7: 1001002 | B7: DESTOCAMENTO, INCLUSIVE REMOÇÃO DAS RAÍZES - DIÂMETROS DE 10,01 À 30CM | C7: UN | D7: 57.61
A8: 1001003 | B8: DESTOCAMENTO, INCLUSIVE REMOÇÃO DAS RAÍZES - DIÂMETRO 30,01 À 50 CM | C8: UN | D8: 160.16
A9: 1001004 | B9: DESTOCAMENTO, INCLUSIVE REMOÇÃO DAS RAÍZES - DIÂMETROS MAIORES QUE 50 CM | C9: UN | D9: 190.8
A10: 1001005 | B10: CARGA MECANIZADA E REMOÇÃO DE ENTULHO, INCLUSIVE TRANSPORTE ATÉ 1KM | C10: M3 | D10: 12.21
A11: 1001006 | B11: CARGA MANUAL E REMOÇÃO DE ENTULHO, INCLUSIVE TRANSPORTE ATÉ 1 KM | C11: M3 | D11: 54.3
A12: 1001007 | B12: REMOÇÃO DE ENTULHO COM CAÇAMBA METÁLICA, INCLUSIVE CARGA MANUAL E DESCARGA EM BOTA-FORA | C12: M3 | D12: 163.19
A13: 1001008 | B13: LIMPEZA MANUAL GERAL INCLUSIVE REMOÇÃO DE COBERTURA VEGETAL - TRONCO ATÉ 10CM - SEM TRANSPORTE | C13: M2 | D13: 6.47
A14: 1001009 | B14: DESTOCAMENTO MANUAL, INCLUSIVE REMOÇÃO DE RAÍZES - DIÂMETRO 10,01 À 30 CM | C14: UN | D14: 77.67
A15: 1001010 | B15: TRANSPORTE DE ENTULHO POR CAMINHÃO BASCULANTE, A PARTIR DE 1KM | C15: M3XKM | D15: 1.7
A16: 1001020 | B16: CORTE, RECORTE E REMOÇÃO DE ÁRVORES INCLUSIVE RAIZES DIÂM. > 5 E < 15CM | C16: UN | D16: 234.21
A17: 1001021 | B17: CORTE, RECORTE E REMOÇÃO DE ÁRVORES INCLUSIVE RAIZES DIÂM. > 15 E < 30CM | C17: UN | D17: 585.88
... A20: 1001024 | B20: CORTE, RECORTE E REMOÇÃO DE ÁRVORES INCLUSIVE RAIZES DIÂM. > 90CM | C20: UN | D20: 1025.29
A21: 1002000 | B21: MOVIMENTO DE TERRA MANUAL | C21: . | D21: .
A22: 1002001 | B22: CORTE | C22: M3 | D22: 51.78
A23: 1002002 | B23: CORTE E ESPALHAMENTO DENTRO DA OBRA | C23: M3 | D23: 64.73
A24: 1002005 | B24: ATERRO, INCLUSIVE COMPACTAÇÃO MANUAL | C24: M3 | D24: 46.09
A25: 1002010 | B25: CARGA MECANIZADA E REMOÇÃO DE TERRA, INCLUSIVE TRANSPORTE ATÉ 1KM | C25: M3 | D25: 17.35
A26: 1002011 | B26: CARGA MANUAL E REMOÇÃO DE TERRA, INCLUSIVE TRANSPORTE ATÉ 1 KM | C26: M3 | D26: 42.85
A27: 1003000 | B27: MOVIMENTO DE TERRA MECANIZADO | C27: . | D27: .
A28: 1003001 | B28: CORTE E ESPALHAMENTO DENTRO DA OBRA | C28: M3 | D28: 17.58
A29: 1003002 | B29: CORTE E ATERRO COMPACTADO | C29: M3 | D29: 20.82
A30: 1003003 | B30: CORTE E CARREGAMENTO PARA BOTA-FORA, INCLUSIVE TRANSPORTE ATÉ 1KM | C30: M3 | D30: 28.55
A31: 1003005 | B31: FORNECIMENTO DE TERRA, INCLUSIVE CORTE, CARGA, DESCARGA E TRANSPORTE ATÉ 1KM | C31: M3 | D31: 32.21
A32: 1003006 | B32: ATERRO, INCLUSIVE COMPACTAÇÃO | C32: M3 | D32: 8.02
A33: 1003010 | B33: TRANSPORTE DE TERRA POR CAMINHÃO BASCULANTE, A PARTIR DE 1KM | C33: M3XKM | D33: 3.03
A34: 1004000 | B34: DRENAGEM DO TERRENO | C34: . | D34: .
A35: 1004001 | B35: ESCAVAÇÃO MANUAL, PROFUNDIDADE IGUAL OU INFERIOR A 1,50M | C35: M3 | D35: 82.59
A36: 1004002 | B36: ESCAVAÇÃO MANUAL, PROFUNDIDADE SUPERIOR A 1,50M | C36: M3 | D36: 90.62
A37: 1004005 | B37: ESCORAMENTO DE VALAS, CONTINUO | C37: M2 | D37: 135.07
A38: 1004006 | B38: ESCORAMENTO DE VALAS, DESCONTINUO | C38: M2 | D38: 77.9
A39: 1004010 | B39: APILOAMENTO DO FUNDO DE VALAS, PARA SIMPLES REGULARIZAÇÃO | C39: M2 | D39: 6.47
A40: 1004014 | B40: LASTRO DE AGREGADO RECICLADO | C40: M3 | D40: 152.04
A41: 1004015 | B41: LASTRO DE BRITA | C41: M3 | D41: 237.75
A42: 1004016 | B42: LASTRO DE CONCRETO, 150KG CIM/M3 | C42: M3 | D42: 555.14
...

Sheet Edif_Com Desoneração_JUL24
A1: SECRETARIA DE INFRAESTRUTURA URBANA E OBRAS
A2: CUSTOS UNITÁRIOS DE EDIFICAÇÕES - COM DESONERAÇÃO | C2: DATA-BASE: JUL/25
A3: CÓDIGO | B3: DESCRIÇÃO | C3: UNIDADE | D3: CUSTO UNIT R$
A4: 1000000 | B4: SERVICOS PRELIMINARES
A5: 1001000 | B5: LIMPEZA DO TERRENO | C5: . | D5: .
A6: 1001001 | B6: LIMPEZA MECANIZADA GERAL, INCLUSIVE REMOÇÃO DA COBERTURA VEGETAL - TRONCOS COM DIÂMETRO ATÉ 10CM - SEM TRANSPORTE | C6: M2 | D6: 1.72
A7: 1001002 | B7: DESTOCAMENTO, INCLUSIVE REMOÇÃO DAS RAÍZES - DIÂMETROS DE 10,01 À 30CM | C7: UN | D7: 56.18
A8: 1001003 | B8: DESTOCAMENTO, INCLUSIVE REMOÇÃO DAS RAÍZES - DIÂMETRO 30,01 À 50 CM | C8: UN | D8: 156.18
A9: 1001004 | B9: DESTOCAMENTO, INCLUSIVE REMOÇÃO DAS RAÍZES - DIÂMETROS MAIORES QUE 50 CM | C9: UN | D9: 186.07
A10: 1001005 | B10: CARGA MECANIZADA E REMOÇÃO DE ENTULHO, INCLUSIVE TRANSPORTE ATÉ 1KM | C10: M3 | D10: 12.05
A11: 1001006 | B11: CARGA MANUAL E REMOÇÃO DE ENTULHO, INCLUSIVE TRANSPORTE ATÉ 1 KM | C11: M3 | D11: 51.74
A12: 1001007 | B12: REMOÇÃO DE ENTULHO COM CAÇAMBA METÁLICA, INCLUSIVE CARGA MANUAL E DESCARGA EM BOTA-FORA | C12: M3 | D12: 159.58
A13: 1001008 | B13: LIMPEZA MANUAL GERAL INCLUSIVE REMOÇÃO DE COBERTURA VEGETAL - TRONCO ATÉ 10CM - SEM TRANSPORTE | C13: M2 | D13: 5.95
A14: 1001009 | B14: DESTOCAMENTO MANUAL, INCLUSIVE REMOÇÃO DE RAÍZES - DIÂMETRO 10,01 À 30 CM | C14: UN | D14: 71.45
A15: 1001010 | B15: TRANSPORTE DE ENTULHO POR CAMINHÃO BASCULANTE, A PARTIR DE 1KM | C15: M3XKM | D15: 1.68
A16: 1001020 | B16: CORTE, RECORTE E REMOÇÃO DE ÁRVORES INCLUSIVE RAIZES DIÂM. > 5 E < 15CM | C16: UN | D16: 216.53
A17: 1001021 | B17: CORTE, RECORTE E REMOÇÃO DE ÁRVORES INCLUSIVE RAIZES DIÂM. > 15 E < 30CM | C17: UN | D17: 561.1
... A20: 1001024 | B20: CORTE, RECORTE E REMOÇÃO DE ÁRVORES INCLUSIVE RAIZES DIÂM. > 90CM | C20: UN | D20: 981.93
A21: 1002000 | B21: MOVIMENTO DE TERRA MANUAL | C21: . | D21: .
A22: 1002001 | B22: CORTE | C22: M3 | D22: 47.63
A23: 1002002 | B23: CORTE E ESPALHAMENTO DENTRO DA OBRA | C23: M3 | D23: 59.54
A24: 1002005 | B24: ATERRO, INCLUSIVE COMPACTAÇÃO MANUAL | C24: M3 | D24: 42.39
A25: 1002010 | B25: CARGA MECANIZADA E REMOÇÃO DE TERRA, INCLUSIVE TRANSPORTE ATÉ 1KM | C25: M3 | D25: 17.17
A26: 1002011 | B26: CARGA MANUAL E REMOÇÃO DE TERRA, INCLUSIVE TRANSPORTE ATÉ 1 KM | C26: M3 | D26: 40.24
A27: 1003000 | B27: MOVIMENTO DE TERRA MECANIZADO | C27: . | D27: .
A28: 1003001 | B28: CORTE E ESPALHAMENTO DENTRO DA OBRA | C28: M3 | D28: 17.23
A29: 1003002 | B29: CORTE E ATERRO COMPACTADO | C29: M3 | D29: 20.44
A30: 1003003 | B30: CORTE E CARREGAMENTO PARA BOTA-FORA, INCLUSIVE TRANSPORTE ATÉ 1KM | C30: M3 | D30: 28.21
A31: 1003005 | B31: FORNECIMENTO DE TERRA, INCLUSIVE CORTE, CARGA, DESCARGA E TRANSPORTE ATÉ 1KM | C31: M3 | D31: 31.87
A32: 1003006 | B32: ATERRO, INCLUSIVE COMPACTAÇÃO | C32: M3 | D32: 7.82
A33: 1003010 | B33: TRANSPORTE DE TERRA POR CAMINHÃO BASCULANTE, A PARTIR DE 1KM | C33: M3XKM | D33: 3
A34: 1004000 | B34: DRENAGEM DO TERRENO | C34: . | D34: .
A35: 1004001 | B35: ESCAVAÇÃO MANUAL, PROFUNDIDADE IGUAL OU INFERIOR A 1,50M | C35: M3 | D35: 75.97
A36: 1004002 | B36: ESCAVAÇÃO MANUAL, PROFUNDIDADE SUPERIOR A 1,50M | C36: M3 | D36: 83.35
A37: 1004005 | B37: ESCORAMENTO DE VALAS, CONTINUO | C37: M2 | D37: 128.76
A38: 1004006 | B38: ESCORAMENTO DE VALAS, DESCONTINUO | C38: M2 | D38: 74.11
A39: 1004010 | B39: APILOAMENTO DO FUNDO DE VALAS, PARA SIMPLES REGULARIZAÇÃO | C39: M2 | D39: 5.95
A40: 1004014 | B40: LASTRO DE AGREGADO RECICLADO | C40: M3 | D40: 147.89
A41: 1004015 | B41: LASTRO DE BRITA | C41: M3 | D41: 233.59
A42: 1004016 | B42: LASTRO DE CONCRETO, 150KG CIM/M3 | C42: M3 | D42: 537.53
...

Sheet PLANILHA
F3: Prazo: | G3: 18 meses
C5: REFORMA E ADAPTAÇÃO DOS QUIOSQUES 01 AO 05 DA ORLA DA PRAIA CENTRO - BERTIOGA
C6: AVENIDA TOMÉ DE SOUZA - CENTRO
C8: BDI 0,00% | F8: L.S.:
B9: ITEM | C9: DESCRIÇÃO DOS SERVIÇOS | D9: UNIDADE | E9: QTDE. | F9: VALOR UNITARIO | G9: VALOR TOTAL
B11: SERVIÇOS CONVENIADOS
B12: 100 | C12: SERVIÇOS PRELIMINARES | G12: =SUM(G13:G18) -> 0
A13: 1 | B13: 1.1 | C13: Placa de identificação para obra | D13: M2 | E13: 16 | G13: =E13*F13 -> 0
A14: 2 | B14: 1.2 | C14: Locação de container tipo depósito - área mínima de 13,80 m² | D14: UNXMÊS | E14: 18 | G14: =E14*F14 -> 0
A15: 3 | B15: 1.3 | C15: TAPUME COM TELHA METÁLICA. AF_03/2024 | D15: M2 | E15: 861 | G15: =E15*F15 -> 0
A16: 4 | B16: 1.4 | C16: Montagem e desmontagem de andaime torre metálica com altura superior a 10 m | D16: M | E16: 250 | G16: =E16*F16 -> 0
A17: 5 | B17: 1.5 | C17: Andaime torre metálico (1,5 x 1,5 m) com piso metálico | D17: MXMÊS | E17: 4500 | G17: =E17*F17 -> 0
A18: 5.1 | B18: 1.6 | C18: MOBILIZAÇÃO E INSTALAÇÃO DE 1 EQUIPAMENTO | D18: UN | E18: 4 | G18: =E18*F18 -> 0
A20: 6 | C20: QUIOSQUES | G20: =G21+G174+G259+G398+G483+G636 -> 0
A21: 7 | B21: 2.00 | C21: QUIOSQUE 1 - GASTRONOMIA (FUTURO) | G21: =SUM(G22,G29,G39,G50,G56,G59,G65,G70,G87,G93,G114,G147,G152,G158) -> 0
A22: 8 | B22: 2.1 | C22: ESTRUTURA METALICA PARA COBERTURA | G22: =SUM(G23:G28) -> 0
A23: 8.1 | B23: 2.1.1 | C23: FORNECIMENTO DE ESTRUTURA METÁLICA PARA COBERTURA | D23: KG | E23: 1223.75 | G23: =E23*F23 -> 0
A24: 8.2 | B24: 2.1.2 | C24: MONTAGEM DE ESTRUTURA METÁLICA PARA COBERTURA | D24: KG | E24: 1223.75 | G24: =E24*F24 -> 0
A25: 8.3 | B25: 2.1.3 | C25: Remoção de pintura em superfícies de madeira e/ou metálicas com lixamento | D25: M2 | E25: 277.2 | G25: =E25*F25 -> 0
A26: 9 | B26: 2.1.4 | C26: Esmalte à base água em superfície metálica, inclusive preparo | D26: M2 | E26: 277.2 | G26: =E26*F26 -> 0
A27: 11 | B27: 2.1.5 | C27: Tratamento de armadura com produto anticorrosivo a base de zinco | D27: M2 | E27: 277.2 | G27: =E27*F27 -> 0
A28: 11.1 | B28: 2.1.6 | C28: Limpeza de armadura com escova de aço | D28: M2 | E28: 80 | G28: =E28*F28 -> 0
A29: 12 | B29: 2.2 | C29: COBERTURA | G29: =SUM(G30:G38) -> 0
A30: 13 | B30: 2.2.1 | C30: Retirada de telhamento perfil e material qualquer, exceto barro | D30: M2 | E30: 277.2 | G30: =E30*F30 -> 0
A31: 14 | B31: 2.2.2 | C31: Calha, rufo, afins em chapa galvanizada nº 24 - corte 0,50 m | D31: M | E31: 127.4 | G31: =E31*F31 -> 0
A32: 15 | B32: 2.2.3 | C32: Telhamento em chapa de aço pré-pintada, perfil ondulado, com espessura de 0,50mm | D32: M2 | E32: 554.4 | G32: =E32*F32 -> 0
A33: 16 | B33: 2.2.4 | C33: Remoção de entulho separado de obra com caçamba metálica - terra, alvenaria, concreto, argamassa, madeira, papel, plástico ou metal | D33: M3 | E33: 8.32 | G33: =E33*F33 -> 0
A34: 19 | B34: 2.2.5 | C34: Impermeabilização em manta asfáltica tipo III-B, espessura de 3 mm, face exposta em geotêxtil, com membrana acrílica | D34: M2 | E34: 290.95 | G34: =E34*F34 -> 0
A35: 19.1 | B35: 2.2.6 | C35: Lã de vidro e/ou lã de rocha com espessura de 2´ | D35: M2 | E35: 581.9 | G35: =E35*F35 -> 0
A36: 19.2 | B36: 2.2.7 | C36: Forro em placa de gesso liso, espessura de 12,5mm, fixo | D36: M2 | E36: 290.95 | G36: =E36*F36 -> 0
A37: 19.3 | B37: 2.2.8 | C37: TRATAMENTO E CALAFETAÇÃO DO PARAFUSO COM PU 30/40 | D37: UNID | E37: 80 | G37: =E37*F37 -> 0
A38: 19.4 | B38: 2.2.9 | C38: PARAFUSO INOX | D38: UNID | E38: 240 | G38: =E38*F38 -> 0
A39: 20 | B39: 2.3 | C39: REVESTIMENTO/PISO | G39: =SUM(G40:G48) -> 0
A40: 21 | B40: 2.3.1 | C40: Revestimento em placa cerâmica esmaltada de 20x20 cm, tipo monocolor, assentado e rejuntado com argamassa industrializada | D40: M2 | E40: 34.53 | G40: =E40*F40 -> 0
A41: 22 | B41: 2.3.2 | C41: Revestimento em porcelanato esmaltado antiderrapante para área externa e ambiente com alto tráfego, grupo de absorção BIa, assentado com argamassa colante industrializada, rejuntado | D41: M2 | E41: 301.08 | G41: =E41*F41 -> 0
A42: 24 | B42: 2.3.3 | C42: Tampo/bancada em granito, com frontão, espessura de 2 cm, acabamento polido | D42: M2 | E42: 5.59 | G42: =E42*F42 -> 0
A43: 25 | B43: 2.3.4 | C43: Revestimento sintético de borracha ou PVC colorido, para sinalização tátil de alerta / direcional - colado | D43: M2 | E43: 1.5 | G43: =E43*F43 -> 0
A44: 25.1 | B44: 2.3.5 | C44: Apicoamento manual de piso, parede ou teto | D44: M2 | E44: 301.08 | G44: =E44*F44 -> 0
A45: 25.2 | B45: 2.3.6 | C45: Demolição mecanizada de concreto armado, inclusive fragmentação, carregamento, transporte até 1 quilômetro e descarregamento | D45: M3 | E45: 19.25 | G45: =E45*F45 -> 0
A46: 25.3 | B46: 2.3.7 | C46: Carga manual de solo | D46: M3 | E46: 25.03 | G46: =E46*F46 -> 0
...

Sheet CRONOGRAMA FIS FIN
G4: =PLANILHA!C5 -> REFORMA E ADAPTAÇÃO DOS QUIOSQUES 01 AO 05 DA ORLA DA PRAIA CENTRO - BERTIOGA
G5: =PLANILHA!C6 -> AVENIDA TOMÉ DE SOUZA - CENTRO
A8: CRONOGRAMA FÍSICO / FINANCEIRO
B9: MÊS | C9: MÊS 1 | E9: MÊS 2 | G9: MÊS 3 | I9: MÊS 4 | K9: MÊS 5 | M9: MÊS 6 | O9: MÊS 7 | Q9: MÊS 8 | S9: MÊS 9 | U9: MÊS 10 | W9: MÊS 11 | Y9: MÊS 12 | AA9: MÊS 13 | AC9: MÊS 14 | AE9: MÊS 15 | AG9: MÊS 16 | AI9: MÊS 17 | AK9: MÊS 18 | AM9: TOTAL | AO9: Peso (%)
A10: SERVIÇOS | C10: =1 -> 1 | D10: =30 -> 30 | E10: =C10+1 -> 2 | F10: =D10+30 -> 60 | G10: =E10+1 -> 3 | H10: =F10+30 -> 90 | I10: =G10+1 -> 4 | J10: =H10+30 -> 120 | K10: =I10+1 -> 5 | L10: =J10+30 -> 150 | M10: =K10+1 -> 6 | N10: =L10+30 -> 180 | O10: =M10+1 -> 7 | P10: =N10+30 -> 210 | Q10: =O10+1 -> 8 | R10: =P10+30 -> 240 | S10: =Q10+1 -> 9 | T10: =R10+30 -> 270 | U10: =S10+1 -> 10 | V10: =T10+30 -> 300 | W10: =U10+1 -> 11 | X10: =V10+30 -> 330 | Y10: =W10+1 -> 12 | Z10: =X10+30 -> 360 | AA10: =Y10+1 -> 13 | AB10: =Z10+30 -> 390 | AC10: =AA10+1 -> 14 | AD10: =AB10+30 -> 420 | AE10: =AC10+1 -> 15 | AF10: =AD10+30 -> 450 | AG10: =AE10+1 -> 16 | AH10: =AF10+30 -> 480 | AI10: =AG10+1 -> 17 | AJ10: =AH10+30 -> 510 | AK10: =AI10+1 -> 18 | AL10: =AJ10+30 -> 540
A11: 100 | B11: SERVIÇOS PRELIMINARES | AM11: =PLANILHA!G12 -> 0 | AN11: =SUM(C12:AL12) -> 0
C12: 0 | E12: 0 | G12: 0 | I12: 0 | K12: 0 | M12: 0 | O12: 0 | Q12: 0 | S12: 0 | U12: 0 | W12: 0 | Y12: 0 | AA12: 0 | AC12: 0 | AE12: 0 | AG12: 0 | AI12: 0 | AK12: 0 | AN12: =SUM(G13:R13) -> 0 | AP12: =AN12/1.2977 -> 0
C13: =C12*$AM11 -> 0 | E13: =E12*$AM11 -> 0 | G13: =G12*$AM11 -> 0 | I13: =I12*$AM11 -> 0 | K13: =K12*$AM11 -> 0 | M13: =M12*$AM11 -> 0 | O13: =O12*$AM11 -> 0 | Q13: =Q12*$AM11 -> 0 | S13: =S12*$AM11 -> 0 | U13: =U12*$AM11 -> 0 | W13: =W12*$AM11 -> 0 | Y13: =Y12*$AM11 -> 0 | AA13: =AA12*$AM11 -> 0 | AC13: =AC12*$AM11 -> 0 | AE13: =AE12*$AM11 -> 0 | AG13: =AG12*$AM11 -> 0 | AI13: =AI12*$AM11 -> 0 | AK13: =AK12*$AM11 -> 0 | AO13: =AM11/AM$36 -> #DIV/0! | AP13: =AN13/1.2977 -> 0
A14: 200 | B14: QUIOSQUE 01 | AM14: =PLANILHA!G21 -> 0 | AN14: =SUM(C15:AL15) -> 0 | AP14: =AN14/1.2977 -> 0
W15: 0 | Y15: 0 | AA15: 0 | AC15: 0 | AN15: =SUM(G16:R16) -> 0 | AP15: =AN15/1.2977 -> 0
W16: =W15*$AM14 -> 0 | Y16: =Y15*$AM14 -> 0 | AA16: =AA15*$AM14 -> 0 | AC16: =AC15*$AM14 -> 0 | AO16: =AM14/AM$36 -> #DIV/0! | AP16: =AN16/1.2977 -> 0
A17: 300 | B17: QUIOSQUE 02 | AM17: =PLANILHA!G174 -> 0 | AN17: =SUM(C18:AL18) -> 0 | AP17: =AN17/1.2977 -> 0
K18: 0 | M18: 0 | O18: 0 | AN18: =SUM(G19:R19) -> 0 | AP18: =AN18/1.2977 -> 0
K19: =K18*$AM17 -> 0 | M19: =M18*$AM17 -> 0 | O19: =O18*$AM17 -> 0 | AO19: =AM17/AM$36 -> #DIV/0! | AP19: =AN19/1.2977 -> 0
A20: #REF! | B20: #REF!
Q21: 1 | S21: 1 | U21: 1 | W21: 1 | Y21: 1 | AA21: 1 | AC21: 1 | AE21: 1
Q22: =Q21*$AM20 -> 0 | S22: =S21*$AM20 -> 0 | U22: =U21*$AM20 -> 0 | W22: =W21*$AM20 -> 0 | Y22: =Y21*$AM20 -> 0 | AA22: =AA21*$AM20 -> 0 | AC22: =AC21*$AM20 -> 0 | AE22: =AE21*$AM20 -> 0
A23: 400 | B23: QUIOSQUE 03 | AM23: =PLANILHA!G259 -> 0 | AN23: =SUM(C24:AL24) -> 0 | AP23: =AN23/1.2977 -> 0
C24: 0 | E24: 0 | G24: 0 | I24: 0 | AP24: =AN24/1.2977 -> 0
C25: =C24*$AM23 -> 0 | E25: =E24*$AM23 -> 0 | G25: =G24*$AM23 -> 0 | I25: =I24*$AM23 -> 0 | AO25: =AM23/AM$36 -> #DIV/0! | AP25: =AN25/1.2977 -> 0
A26: 500 | B26: QUIOSQUE 04 | AM26: =PLANILHA!G398 -> 0 | AN26: =SUM(C27:AL27) -> 0 | AP26: =AN26/1.2977 -> 0
Q27: 0 | S27: 0 | U27: 0 | AN27: =SUM(G28:R28) -> 0 | AP27: =AN27/1.2977 -> 0
Q28: =Q27*$AM26 -> 0 | S28: =S27*$AM26 -> 0 | U28: =U27*$AM26 -> 0 | AO28: =AM26/AM$36 -> #DIV/0! | AP28: =AN28/1.2977 -> 0
A29: 600 | B29: QUIOSQUE 05 | AM29: =PLANILHA!G483 -> 0 | AN29: =SUM(C30:AL30) -> 0 | AP29: =AN29/1.2977 -> 0
AE30: 0 | AG30: 0 | AI30: 0 | AK30: 0 | AN30: =SUM(G31:R31) -> 0 | AP30: =AN30/1.2977 -> 0
AE31: =AE30*$AM29 -> 0 | AG31: =AG30*$AM29 -> 0 | AI31: =AI30*$AM29 -> 0 | AK31: =AK30*$AM29 -> 0 | AO31: =AM29/AM$36 -> #DIV/0! | AP31: =AN31/1.2977 -> 0
A32: 600 | B32: ACRESCIMOS DE SERVIÇOS PARA TODOS QUIOSQUES | AM32: =PLANILHA!G636 -> 0 | AN32: =SUM(C33:AL33) -> 0 | AP32: =AN32/1.2977 -> 0
C33: 0 | E33: 0 | G33: 0 | I33: 0 | K33: 0 | M33: 0 | O33: 0 | Q33: 0 | S33: 0 | U33: 0 | W33: 0 | Y33: 0 | AA33: 0 | AC33: 0 | AE33: 0 | AG33: 0 | AI33: 0 | AK33: 0 | AN33: =SUM(G34:R34) -> 0 | AP33: =AN33/1.2977 -> 0
C34: =C33*$AM32 -> 0 | E34: =E33*$AM32 -> 0 | G34: =G33*$AM32 -> 0 | I34: =I33*$AM32 -> 0 | K34: =K33*$AM32 -> 0 | M34: =M33*$AM32 -> 0 | O34: =O33*$AM32 -> 0 | Q34: =Q33*$AM32 -> 0 | S34: =S33*$AM32 -> 0 | U34: =U33*$AM32 -> 0 | W34: =W33*$AM32 -> 0 | Y34: =Y33*$AM32 -> 0 | AA34: =AA33*$AM32 -> 0 | AC34: =AC33*$AM32 -> 0 | AE34: =AE33*$AM32 -> 0 | AG34: =AG33*$AM32 -> 0 | AI34: =AI33*$AM32 -> 0 | AK34: =AK33*$AM32 -> 0 | AO34: =AM32/AM$36 -> #DIV/0! | AP34: =AN34/1.2977 -> 0
AP35: =AN35/1.2977 -> 0
A36: TOTAL | C36: =C13+C16+C19+C22+C28+C25+C31+C34 -> 0 | E36: =E13+E16+E19+E22+E28+E25+E31+E34 -> 0 | G36: =G13+G16+G19+G22+G28+G25+G31+G34 -> 0 | I36: =I13+I16+I19+I22+I28+I25+I31+I34 -> 0 | K36: =K13+K16+K19+K22+K28+K25+K31+K34 -> 0 | M36: =M13+M16+M19+M22+M28+M25+M31+M34 -> 0 | O36: =O13+O16+O19+O22+O28+O25+O31+O34 -> 0 | Q36: =Q13+Q16+Q19+Q22+Q28+Q25+Q31+Q34 -> 0 | S36: =S13+S16+S19+S22+S28+S25+S31+S34 -> 0 | U36: =U13+U16+U19+U22+U28+U25+U31+U34 -> 0 | W36: =W13+W16+W19+W22+W28+W25+W31+W34 -> 0 | Y36: =Y13+Y16+Y19+Y22+Y28+Y25+Y31+Y34 -> 0 | AA36: =AA13+AA16+AA19+AA22+AA28+AA25+AA31+AA34 -> 0 | AC36: =AC13+AC16+AC19+AC22+AC28+AC25+AC31+AC34 -> 0 | AE36: =AE13+AE16+AE19+AE22+AE28+AE25+AE31+AE34 -> 0 | AG36: =AG13+AG16+AG19+AG22+AG28+AG25+AG31+AG34 -> 0 | AI36: =AI13+AI16+AI19+AI22+AI28+AI25+AI31+AI34 -> 0 | AK36: =AK13+AK16+AK19+AK22+AK28+AK25+AK31+AK34 -> 0 | AM36: =SUM(AM11:AM34) -> 0 | AN36: =SUM(C36:AL36) -> 0
AN37: =PLANILHA!G651 -> 0
