Workbook
Name __xlnm.Print_Area_1: 0
Name __xlnm.Print_Titles_1: 0
Name __xlnm_Print_Area_1: 0
Name __xlnm_Print_Titles_1: 0
Name a: "#ref!"
Name CICLOVIA_3: "#ref!"
Name CICLOVIA_3_2: "#ref!"
Name CICLOVIA_3_4: "#ref!"
Name CICLOVIA_3_5: "#ref!"
Name CONCATENAR: CONCATENATE(#REF!," ",#REF!)
Name CP: "#ref!"
Name Dados.Lista.BDI: [2]DADOS!$T$37:$X$37
Name DATABASE: #REF!
Name DATAEMISSAO: #REF!
Name DATART: #REF!
Name e: "#ref!"
Name EMPRESAS: OFFSET([3]Cotações!$B$25,0,0):OFFSET([3]Cotações!$H$29,-1,0)
Name Excel_BuiltIn__FilterDatabase: "#ref!"
Name Excel_BuiltIn_Print_Area_1: "#ref!"
Name Excel_BuiltIn_Print_Area_1_1: "#ref!"
Name Excel_BuiltIn_Print_Area_1_1_1: "#ref!"
Name Excel_BuiltIn_Print_Area_2: "#ref!"
Name Excel_BuiltIn_Print_Area_2_1: "#ref!"
Name Excel_BuiltIn_Print_Area_3: "#ref!"
Name Excel_BuiltIn_Print_Area_3_1: "#ref!"
Name Excel_BuiltIn_Print_Area_3_1_1: "#ref!"
Name Excel_BuiltIn_Print_Area_4: "#ref!"
Name Excel_BuiltIn_Print_Area_4_1: "#ref!"
Name Excel_BuiltIn_Print_Area_5: "#ref!"
Name Excel_BuiltIn_Print_Area_6: "#ref!"
Name Excel_BuiltIn_Print_Area_7: "#ref!"
Name Excel_BuiltIn_Print_Titles_2: "#ref!"
Name Excel_BuiltIn_Print_Titles_2_1: "#ref!"
Name Excel_BuiltIn_Print_Titles_2_1_1: "#ref!"
Name Excel_BuiltIn_Print_Titles_3: "#ref!"
Name Excel_BuiltIn_Print_Titles_3_1: "#ref!"
Name Excel_BuiltIn_Print_Titles_4: "#ref!"
Name Excel_BuiltIn_Print_Titles_5: "#ref!"
Name Excel_BuiltIn_Print_Titles_5_1: "#ref!"
Name Excel_BuiltIn_Print_Titles_6: "#ref!"
Name Excel_BuiltIn_Print_Titles_6_2: "#ref!"
Name Excel_BuiltIn_Print_Titles_6_4: "#ref!"
Name Excel_BuiltIn_Print_Titles_6_5: "#ref!"
Name Excel_BuiltIn_Print_Titles_7: "#ref!"
Name INDICES: [3]Cotações!$B$22:OFFSET([3]Cotações!$I$24,-1,0)
Name LOCALIDADE: #REF!
Name MEMÓRIA: ROUND([4]Planilha!$P1,15-13*[4]Planilha!#REF!)
Name NCOMPOSICOES: 0
Name NCOTACOES: 0
Name NEMPRESAS: 3
Name NINDICES: 1
Name NRELATORIOS: COUNTA([3]Relatórios!$A$1:$A$65536)-2
Name NumerEmpresa: 3
Name NumerIndice: 1
Name Objeto: "Referência"
Name plan6: "#ref!"
Name PO.CustoUnitario: ROUND([5]Planilha!$P1,15-13*[5]Planilha!#REF!)
Name PO.PrecoUnitario: [5]Planilha!$R1
Name PO.Quantidade: ROUND([5]Planilha!$O1,15-13*[5]Planilha!#REF!)
Name RelatoriosFontes: OFFSET([3]Relatórios!$A$5,1,0,NRELATORIOS)

Sheet Planilha
F3: Prazo: | G3: 12 meses
C4: PLANILHA ORÇAMENTÁRIA
C6: OBRA: CONSTRUÇÃO UNIDADE BÁSICA DE SAÚDE - PORTE 1 – COSTA DO SOL | F6: B.D.I.: | G6: 0
C7: LOCAL: Praça R - Costa do Sol | F7: L.S.: | G7: Onerado
F9: Custo
B10: Item | C10: Descrição dos Serviços | D10: Unid. | E10: Quant. | F10: Unitário | G10: Preço Total
F11: R$ | G11: R$
B13: 100 | C13: Serviços preliminares | G13: =SUM(G14:G21) -> 0
B14: 101 | C14: FORNECIMENTO E INSTALAÇÃO DE PLACA DE OBRA COM CHAPA GALVANIZADA E ESTRUTURA DE MADEIRA. AF_03/2022_PS | D14: M2 | E14: 6 | F14: 0 | G14: =E14*F14 -> 0
B15: 102 | C15: LOCACAO DE CONTAINER 2,30 X 6,00 M, ALT. 2,50 M, COM 1 SANITARIO, PARA ESCRITORIO, COMPLETO, SEM DIVISORIAS INTERNAS (NAO INCLUI MOBILIZACAO/DESMOBILIZACAO) | D15: MES | E15: 12 | F15: 0 | G15: =E15*F15 -> 0
B16: 103 | C16: LOCACAO DE CONTAINER 2,30 X 4,30 M, ALT. 2,50 M, PARA SANITARIO, COM 3 BACIAS, 4 CHUVEIROS, 1 LAVATORIO E 1 MICTORIO (NAO INCLUI MOBILIZACAO/DESMOBILIZACAO) | D16: MES | E16: 12 | F16: 0 | G16: =E16*F16 -> 0
B17: 104 | C17: LOCACAO DE ANDAIME METALICO TUBULAR DE ENCAIXE, TIPO DE TORRE, CADA PAINEL COM LARGURA DE 1 ATE 1,5 M E ALTURA DE *1,00* M, INCLUINDO DIAGONAL, BARRAS DE LIGACAO, SAPATAS OU RODIZIOS E DEMAIS ITENS NECESSARIOS A MONTAGEM (NAO INCLUI INSTALACAO) | D17: MXMES | E17: 80 | F17: 0 | G17: =E17*F17 -> 0
B18: 105 | C18: MONTAGEM E DESMONTAGEM DE ANDAIME TUBULAR TIPO "TORRE" (EXCLUSIVE ANDAIME E LIMPEZA). AF_03/2024 | D18: M | E18: 20 | F18: 0 | G18: =E18*F18 -> 0
B19: 106 | C19: TAPUME COM TELHA METÁLICA. AF_03/2024 | D19: M2 | E19: 168 | F19: 0 | G19: =E19*F19 -> 0
B20: 107 | C20: REMOÇÃO DE TAPUME/ CHAPAS METÁLICAS E DE MADEIRA, DE FORMA MANUAL, SEM REAPROVEITAMENTO. AF_09/2023 | D20: M2 | E20: 168 | F20: 0 | G20: =E20*F20 -> 0
B21: 108 | C21: EXECUÇÃO DE LINHAS DE REFERÊNCIA EM GABARITO OU CAVALETE. AF_03/2024 | D21: M | E21: 1687.5 | F21: 0 | G21: =E21*F21 -> 0
B23: 200 | C23: Administração Local | G23: =SUM(G24:G26) -> 0
B24: 201 | C24: ENGENHEIRO CIVIL DE OBRA JUNIOR COM ENCARGOS COMPLEMENTARES | D24: H | E24: 240 | F24: 0 | G24: =E24*F24 -> 0
B25: 202 | C25: VIGIA DIURNO COM ENCARGOS COMPLEMENTARES | D25: H | E25: 2688 | F25: 0 | G25: =E25*F25 -> 0
B27: 300 | C27: Limpeza e Demolição | G27: =SUM(G28:G32) -> 0
B28: 301 | C28: LIMPEZA MECANIZADA DE CAMADA VEGETAL, VEGETAÇÃO E PEQUENAS ÁRVORES (DIÂMETRO DE TRONCO MENOR QUE 0,20 M), COM TRATOR DE ESTEIRAS. AF_03/2024 | D28: M2 | E28: 3010 | F28: 0 | G28: =E28*F28 -> 0
B29: 302 | C29: ESCAVAÇÃO E CARGA MECANIZADA EM SOLO BREJOSO OU TURFA | D29: M3 | E29: 301 | F29: 0 | G29: =E29*F29 -> 0
B30: 303 | C30: CARGA, MANOBRA E DESCARGA DE ENTULHO EM CAMINHÃO BASCULANTE 10 M³ - CARGA COM ESCAVADEIRA HIDRÁULICA (CAÇAMBA DE 0,80 M³ / 111 HP) E DESCARGA LIVRE (UNIDADE: M3). AF_07/2020 | D30: M3 | E30: 782.6 | F30: 0 | G30: =E30*F30 -> 0
B31: 304 | C31: TRANSPORTE COM CAMINHÃO BASCULANTE DE 10 M³, EM VIA URBANA PAVIMENTADA, DMT ATÉ 30 KM (UNIDADE: M3XKM). AF_07/2020 | D31: M3XKM | E31: 7826 | F31: 0 | G31: =E31*F31 -> 0
B33: 400 | C33: Terraplanagem | G33: =SUM(G34:G37) -> 0
B34: 401 | C34: ATERRO MECANIZADO DE VALA COM MINICARREGADEIRA, COM SOLO ARGILO-ARENOSO. AF_08/2023 | D34: M3 | E34: 1806 | F34: Fornecido pela Prefeitura
B35: 402 | C35: EXECUÇÃO E COMPACTAÇÃO DE CORPO DE ATERRO DE ATERRO (95% DE ENERGIA DO PROCTOR NORMAL) COM SOLO PREDOMINANTEMENTE ARGILOSO, EM CAMADAS COM ESPESSURA DE 20 CM - EXCLUSIVE ESCAVAÇÃO, CARGA E TRANSPORTE E SOLO. AF_09/2024 | D35: M3 | E35: 1806 | F35: 0 | G35: =E35*F35 -> 0
B36: 403 | C36: TRANSPORTE COM CAMINHÃO BASCULANTE DE 10 M³, EM VIA URBANA PAVIMENTADA, DMT ATÉ 30 KM (UNIDADE: M3XKM). AF_07/2020 | D36: M3XKM | E36: 36120 | F36: 0 | G36: =E36*F36 -> 0
B38: 500 | C38: Infra estrutura | G38: =SUM(G40:G63) -> 0
C39: Estaca
B40: 501 | C40: BATE-ESTACAS POR GRAVIDADE, POTÊNCIA DE 160 HP, PESO DO MARTELO ATÉ 3 TONELADAS - CHP DIURNO. AF_11/2014 | D40: CHP | E40: 160 | F40: 0 | G40: =E40*F40 -> 0
B41: 502 | C41: ESTACA PRÉ-MOLDADA DE CONCRETO, SEÇÃO QUADRADA, CAPACIDADE DE 25 TONELADAS, INCLUSO EMENDA (EXCLUSIVE MOBILIZAÇÃO E DESMOBILIZAÇÃO). AF_12/2019 | D41: M | E41: 2480 | F41: 0 | G41: =E41*F41 -> 0
B42: 503 | C42: ARRASAMENTO MECANICO DE ESTACA DE CONCRETO ARMADO, DIAMETROS DE 41 CM A 60 CM. AF_05/2021 | D42: UN | E42: 124 | F42: 0 | G42: =E42*F42 -> 0
C43: Fundação
B44: 504 | C44: ESCAVAÇÃO MANUAL PARA BLOCO DE COROAMENTO OU SAPATA (INCLUINDO ESCAVAÇÃO PARA COLOCAÇÃO DE FÔRMAS). AF_01/2024 | D44: M3 | E44: 98.45 | F44: 0 | G44: =E44*F44 -> 0
B45: 505 | C45: ESCAVAÇÃO MANUAL PARA VIGA BALDRAME OU SAPATA CORRIDA (INCLUINDO ESCAVAÇÃO PARA COLOCAÇÃO DE FÔRMAS). AF_01/2024 | D45: M3 | E45: 21.79 | F45: 0 | G45: =E45*F45 -> 0
B46: 506 | C46: LASTRO DE CONCRETO MAGRO, APLICADO EM BLOCOS DE COROAMENTO OU SAPATAS, ESPESSURA DE 5 CM. AF_01/2024 | D46: M2 | E46: 196.69 | F46: 0 | G46: =E46*F46 -> 0
B47: 507 | C47: FABRICAÇÃO, MONTAGEM E DESMONTAGEM DE FÔRMA PARA BLOCO DE COROAMENTO, EM MADEIRA SERRADA, E=25 MM, 2 UTILIZAÇÕES. AF_01/2024 | D47: M2 | E47: 199.32 | F47: 0 | G47: =E47*F47 -> 0
B48: 508 | C48: FABRICAÇÃO, MONTAGEM E DESMONTAGEM DE FÔRMA PARA VIGA BALDRAME, EM MADEIRA SERRADA, E=25 MM, 2 UTILIZAÇÕES. AF_01/2024 | D48: M2 | E48: 193.22 | F48: 0 | G48: =E48*F48 -> 0
B49: 509 | C49: CONCRETAGEM DE BLOCO DE COROAMENTO OU VIGA BALDRAME, FCK 30 MPA, COM USO DE BOMBA - LANÇAMENTO, ADENSAMENTO E ACABAMENTO. AF_01/2024 | D49: M3 | E49: 89.18 | F49: 0 | G49: =E49*F49 -> 0
...

Sheet cronograma
C4: CRONOGRAMA FÍSICO - FINANCEIRO
C6: OBRA: CONSTRUÇÃO UNIDADE BÁSICA DE SAÚDE - PORTE 1 – COSTA DO SOL
C8: LOCAL: Praça R - Costa do Sol
C11: MESES
A12: Item | B12: ETAPAS DE SERVIÇOS | C12: 1 | D12: 2 | E12: 3 | F12: 4 | G12: 5 | H12: 6 | I12: 7 | J12: 8 | K12: 9 | L12: 10 | M12: 11 | N12: 12 | O12: VALOR
C13: 30 | D13: 60 | E13: 90 | F13: 120 | G13: 150 | H13: 180 | I13: 210 | J13: 240 | K13: 270 | L13: 300 | M13: 330 | N13: 360 | O13: R$
A15: A | B15: SERVIÇOS PRELIMINARES /ADMINISTRAÇÃO / LIMPEZA / TERRALANAGEM | C15: 0 | D15: 0 | E15: 0 | F15: 0 | G15: 0 | H15: 0 | I15: 0 | J15: 0 | K15: 0 | L15: 0 | M15: 0 | N15: 0 | O15: =SUM(C15:N15) -> 0
C16: =$O16*C15 -> #REF! | D16: =$O16*D15 -> #REF! | E16: =$O16*E15 -> #REF! | F16: =$O16*F15 -> #REF! | G16: =$O16*G15 -> #REF! | H16: =$O16*H15 -> #REF! | I16: =$O16*I15 -> #REF! | J16: =$O16*J15 -> #REF! | ... L16: =$O16*L15 -> #REF! | M16: =$O16*M15+0.01 -> #REF! | N16: =$O16*N15+0.01 -> #REF! | O16: =(Planilha!$G$33+Planilha!$G$27+Planilha!$G$23+Planilha!$G$13)*(1+Planilha!#REF!) -> #REF!
A18: B | B18: EDIFCAÇÃO | D18: 0 | E18: 0 | F18: 0 | G18: 0 | H18: 0 | I18: 0 | J18: 0 | K18: 0 | L18: 0 | M18: 0 | N18: 0 | O18: =SUM(C18:N18) -> 0
D19: =$O19*D18 -> #REF! | E19: =$O19*E18 -> #REF! | F19: =$O19*F18 -> #REF! | G19: =$O19*G18 -> #REF! | H19: =$O19*H18 -> #REF! | I19: =$O19*I18 -> #REF! | J19: =$O19*J18 -> #REF! | K19: =$O19*K18-0.01 -> #REF! | L19: =$O19*L18-0.01 -> #REF! | M19: =$O19*M18-0.01 -> #REF! | N19: =$O19*N18-0.01 -> #REF! | O19: =(Planilha!$G$428+Planilha!$G$422+Planilha!$G$409+Planilha!$G$399+Planilha!$G$391+Planilha!$G$376+Planilha!$G$309+Planilha!$G$282+Planilha!$G$191+Planilha!$G$180+Planilha!$G$151+Planilha!$G$138+Planilha!$G$129+Planilha!$G$122+Planilha!$G$108+Planilha!$G$97+Planilha!$G$64+Planilha!$G$38)*(1+Planilha!#REF!) -> #REF!
A21: C | B21: INFRAESTRUTURA DA EDIFICAÇÃO | J21: 0 | K21: 0 | L21: 0 | M21: 0 | N21: 0 | O21: =SUM(C21:N21) -> 0
J22: =$O22*J21 -> #REF! | K22: =$O22*K21 -> #REF! | L22: =$O22*L21 -> #REF! | M22: =$O22*M21-0.01 -> #REF! | N22: =$O22*N21-0.01 -> #REF! | O22: =(Planilha!$G$618+Planilha!$G$608+Planilha!$G$594+Planilha!$G$580+Planilha!$G$576+Planilha!$G$572+Planilha!$G$561+Planilha!$G$529+Planilha!$G$501+Planilha!$G$477+Planilha!$G$474+Planilha!$G$471+Planilha!$G$441)*(1+Planilha!#REF!) -> #REF!
A24: D | B24: SERVIÇOS TÉCNICOS | C24: 0 | O24: =SUM(C24:N24) -> 0
C25: =$O25*C24 -> #REF! | O25: =(Planilha!$G$623)*(1+Planilha!#REF!) -> #REF!
A27: E | B27: LIMPEZA FINAL | N27: 0 | O27: =SUM(C27:N27) -> 0
N28: =$O28*N27 -> #REF! | O28: =(Planilha!G631)*(1+Planilha!#REF!)-0.01 -> #REF!
O30: =SUM(C30:N30) -> 0
O33: =SUM(C33:N33) -> 0
O36: =SUM(C36:N36) -> 0
O39: =SUM(C39:N39) -> 0
N40: =$O40*N39 -> 0
A42: J | O42: =SUM(C42:N42) -> 0
A45: K | O45: =SUM(C45:N45) -> 0
A48: L | O48: =SUM(C48:N48) -> 0
A51: M | O51: =SUM(C51:N51) -> 0
A54: N | O54: =SUM(C54:N54) -> 0
A57: O | O57: =SUM(C57:N57) -> 0
B61: VALOR TOTAL DOS SERVIÇOS | C61: =SUM(C16,C19,C22,C25,C28,C31,C34,C37,C40) -> #REF! | D61: =SUM(D16,D19,D22,D25,D28,D31,D34,D37,D40) -> #REF! | E61: =SUM(E16,E19,E22,E25,E28,E31,E34,E37,E40) -> #REF! | F61: =SUM(F16,F19,F22,F25,F28,F31,F34,F37,F40) -> #REF! | G61: =SUM(G16,G19,G22,G25,G28,G31,G34,G37,G40) -> #REF! | H61: =SUM(H16,H19,H22,H25,H28,H31,H34,H37,H40) -> #REF! | I61: =SUM(I16,I19,I22,I25,I28,I31,I34,I37,I40) -> #REF! | J61: =SUM(J16,J19,J22,J25,J28,J31,J34,J37,J40) -> #REF! | ... N61: =SUM(N16,N19,N22,N25,N28,N31,N34,N37,N40) -> #REF! | O61: =SUM(O16,O19,O22,O25,O28,O31,O34,O37,O40)-0.02 -> #REF!
