Workbook
Name __xlnm.Print_Area_1: 0
Name __xlnm.Print_Titles_1: 0
Name __xlnm_Print_Area_1: 0
Name __xlnm_Print_Titles_1: 0
Name a: "#ref!"
Name CICLOVIA_3: "#ref!"
Name CICLOVIA_3_2: "#ref!"
Name CICLOVIA_3_4: "#ref!"
Name CICLOVIA_3_5: "#ref!"
Name CONCATENAR: CONCATENATE(#REF!," ",#REF!)
Name CONCATENAR: CONCATENATE(#REF!," ",#REF!)
Name CP: "#ref!"
Name Dados.Lista.BDI: [2]DADOS!$T$37:$X$37
Name DATAEMISSAO: #REF!
Name DATAEMISSAO: #REF!
Name DATART: #REF!
Name DATART: #REF!
Name e: "#ref!"
Name EMPRESAS: OFFSET([3]Cotações!$B$25,0,0):OFFSET([3]Cotações!$H$29,-1,0)
Name Excel_BuiltIn__FilterDatabase: "#ref!"
Name Excel_BuiltIn_Print_Area_1: "#ref!"
Name Excel_BuiltIn_Print_Area_1_1: "#ref!"
Name Excel_BuiltIn_Print_Area_1_1_1: "#ref!"
Name Excel_BuiltIn_Print_Area_2: "#ref!"
Name Excel_BuiltIn_Print_Area_2_1: "#ref!"
Name Excel_BuiltIn_Print_Area_3: "#ref!"
Name Excel_BuiltIn_Print_Area_3_1: "#ref!"
Name Excel_BuiltIn_Print_Area_3_1_1: "#ref!"
Name Excel_BuiltIn_Print_Area_4: "#ref!"
Name Excel_BuiltIn_Print_Area_4_1: "#ref!"
Name Excel_BuiltIn_Print_Area_5: "#ref!"
Name Excel_BuiltIn_Print_Area_6: "#ref!"
Name Excel_BuiltIn_Print_Area_7: "#ref!"
Name Excel_BuiltIn_Print_Titles_2: "#ref!"
Name Excel_BuiltIn_Print_Titles_2_1: "#ref!"
Name Excel_BuiltIn_Print_Titles_2_1_1: "#ref!"
Name Excel_BuiltIn_Print_Titles_3: "#ref!"
Name Excel_BuiltIn_Print_Titles_3_1: "#ref!"
Name Excel_BuiltIn_Print_Titles_4: "#ref!"
Name Excel_BuiltIn_Print_Titles_5: "#ref!"
Name Excel_BuiltIn_Print_Titles_5_1: "#ref!"
Name Excel_BuiltIn_Print_Titles_6: "#ref!"
Name Excel_BuiltIn_Print_Titles_6_2: "#ref!"
Name Excel_BuiltIn_Print_Titles_6_4: "#ref!"
Name Excel_BuiltIn_Print_Titles_6_5: "#ref!"
Name Excel_BuiltIn_Print_Titles_7: "#ref!"
Name INDICES: [3]Cotações!$B$22:OFFSET([3]Cotações!$I$24,-1,0)
Name LOCALIDADE: #REF!
Name LOCALIDADE: #REF!
Name memoria: ROUND(PO.Quantidade*[0]!PO.PrecoUnitario,15-13*[5]Planilha!$X$7)
Name MEMÓRIA: ROUND([6]Planilha!$P1,15-13*[6]Planilha!#REF!)
Name MEMÓRIA: ROUND([6]Planilha!$P1,15-13*[6]Planilha!#REF!)
Name NCOMPOSICOES: 0
Name NCOTACOES: 0
Name NEMPRESAS: 3
Name NINDICES: 1
Name NRELATORIOS: COUNTA([3]Relatórios!$A:$A)-2
Name NumerEmpresa: 3
Name NumerIndice: 1
Name Objeto: "Referência"

Sheet Planilha
E3: Prazo: | F3: 12 meses
B4: PLANILHA ORÇAMENTÁRIA
B6: OBRA: REFORMA DA UNIDADE DE ATENDIMENTO SAÚDE DA MULHER | E6: B.D.I.: | F6: 0
B7: LOCAL: AV. ENGENHEIRO ARQUITETO EDUARDO CORREA DA COSTA JR. | E7: L.S.:
E9: Custo
A10: Item | B10: Descrição dos Serviços | C10: Unid. | D10: Quant. | E10: Unitário | F10: Preço Total
E11: R$ | F11: R$
A12: A | B12: SERVIÇOS PRELIMINARES
A14: 100 | B14: CANTEIRO DE OBRAS
B15: SERVIÇOS PRELIMINARES
A16: 101 | B16: PLACA DE IDENTIFICAÇÃO PARA OBRA | C16: M2 | D16: 6 | F16: =+D16*E16 -> 0
A17: 102 | B17: MONTAGEM E DESMONTAGEM DE ANDAIME TORRE METÁLICA COM ALTURA ATÉ 10 M | C17: M | D17: 15 | F17: =+D17*E17 -> 0
A18: 103 | B18: ANDAIME TORRE METÁLICO (1,5 X 1,5 M) COM PISO METÁLICO | C18: MXMES | D18: 180 | F18: =+D18*E18 -> 0
B20: TOTAL DO ITEM | C20: 100 | F20: =SUM(F14:F19) -> 0
A22: 200 | B22: ADMINISTRAÇÃO LOCAL
B23: ADM
A24: 201 | B24: ENGENHEIRO CIVIL DE OBRA PLENO COM ENCARGOS COMPLEMENTARES | C24: H | D24: 360 | F24: =+D24*E24 -> 0
B26: TOTAL DO ITEM | C26: 200 | F26: =SUM(F23:F25) -> 0
A28: 300 | B28: DEMOLIÇÕES E REMOÇÕES
B29: SERVIÇOS INTERNOS E EXTERNOS
A30: 301 | B30: LIMPEZA MANUAL DO TERRENO, INCLUSIVE TRONCOS ATÉ 5 CM DE DIÂMETRO, COM CAMINHÃO À DISPOSIÇÃO DENTRO DA OBRA, ATÉ O RAIO DE 1 KM | C30: M2 | D30: 101.92 | F30: =+D30*E30 -> 0
A31: 302 | B31: DEMOLIÇÃO MANUAL DE REVESTIMENTO EM MASSA DE PAREDE OU TETO | C31: M2 | D31: 391.86 | F31: =+D31*E31 -> 0
A32: 303 | B32: DEMOLIÇÃO MANUAL DE REVESTIMENTO CERÂMICO, INCLUINDO A BASE | C32: M2 | D32: 664.79 | F32: =+D32*E32 -> 0
A33: 304 | B33: DEMOLIÇÃO MANUAL DE RODAPÉ, SOLEIRA OU PEITORIL, EM MATERIAL CERÂMICO E/OU LADRILHO HIDRÁULICO, INCLUINDO A BASE | C33: M | D33: 575.12 | F33: =+D33*E33 -> 0
A34: 305 | B34: DEMOLIÇÃO MANUAL DE FORRO EM GESSO, INCLUSIVE SISTEMA DE FIXAÇÃO | C34: M2 | D34: 75 | F34: =+D34*E34 -> 0
A35: 306 | B35: DEMOLIÇÃO MANUAL DE ALVENARIA DE ELEVAÇÃO OU ELEMENTO VAZADO, INCLUINDO REVESTIMENTO | C35: M3 | D35: 1.83 | F35: =+D35*E35 -> 0
A36: 307 | B36: DEMOLIÇÃO MANUAL DE CONCRETO SIMPLES | C36: M3 | D36: 2.43 | F36: =+D36*E36 -> 0
A37: 308 | B37: DEMOLIÇÃO MECANIZADA DE PAVIMENTO OU PISO EM CONCRETO, INCLUSIVE FRAGMENTAÇÃO E ACOMODAÇÃO DO MATERIAL | C37: M2 | D37: 218.71 | F37: =+D37*E37 -> 0
A38: 309 | B38: DEMOLIÇÃO MANUAL DE REVESTIMENTO EM MASSA DE PISO | C38: M2 | D38: 608.72 | F38: =+D38*E38 -> 0
A39: 310 | B39: REMOÇÃO CONDENSADORA COM REAPROVEITAMENTO | C39: UN | D39: 5 | F39: =+D39*E39 -> 0
A40: 311 | B40: REMOÇÃO MANUAL DE JUNTA DE DILATAÇÃO OU RETRAÇÃO, INCLUSIVE APOIO | C40: M | D40: 250 | F40: =+D40*E40 -> 0
A41: 312 | B41: REMOÇÃO DE CALHA OU RUFO | C41: M | D41: 484.75 | F41: =+D41*E41 -> 0
... A50: 321 | B50: REMOÇÃO DE ENTULHO SEPARADO DE OBRA COM CAÇAMBA METÁLICA - TERRA, ALVENARIA, CONCRETO, ARGAMASSA, MADEIRA, PAPEL, PLÁSTICO OU METAL | C50: M3 | D50: 164.6 | F50: =+D50*E50 -> 0
B52: TOTAL DO ITEM | C52: 300 | F52: =SUM(F29:F51) -> 0
A54: B | B54: SERVIÇOS EXTERNOS
A56: 400 | B56: FACHADA E PISO - IMPERMEABILIZAÇÃO E REVESTIMENTO
B57: FACHADA
A58: 401 | B58: IMPERMEABILIZAÇÃO EM ARGAMASSA POLIMÉRICA PARA UMIDADE E ÁGUA DE PERCOLAÇÃO | C58: M2 | D58: 100.56 | F58: =+D58*E58 -> 0
A59: 402 | B59: TELA EM METAL PARA ESTUQUE (DEPLOYE) - INCLUSIVE INSTALAÇÃO | C59: M2 | D59: 83.8 | F59: =+D59*E59 -> 0
A60: 403 | B60: CHAPISCO COM ADESIVO DE ALTO DESEMPENHO | C60: M2 | D60: 184.36 | F60: =+D60*E60 -> 0
A61: 404 | B61: REBOCO | C61: M2 | D61: 184.36 | F61: =+D61*E61 -> 0
A62: 405 | B62: REVESTIMENTO EM PLACA CERÂMICA ESMALTADA DE 10X10 CM, ASSENTADO E REJUNTADO COM ARGAMASSA INDUSTRIALIZADA | C62: M2 | D62: 100.56 | F62: =+D62*E62 -> 0
B63: PISO
A64: 406 | B64: LASTRO DE PEDRA BRITADA | C64: M3 | D64: 8.5 | F64: =+D64*E64 -> 0
A65: 407 | B65: PISO COM REQUADRO EM CONCRETO SIMPLES COM CONTROLE DE FCK= 20 MPA | C65: M3 | D65: 8.5 | F65: =+D65*E65 -> 0
A66: 408 | B66: JUNTA DE DILATAÇÃO OU VEDAÇÃO COM MASTIQUE DE SILICONE, 1,0 X 0,5 CM - INCLUSIVE GUIA DE APOIO EM POLIETILENO | C66: M | D66: 167.6 | F66: =+D66*E66 -> 0
B67: TOTAL DO ITEM | C67: 400 | F67: =SUM(F57:F66) -> 0
A69: 500 | B69: PINTURA EXTERNA
B70: FACHADA
A71: 501 | B71: LIMPEZA COMPLEMENTAR COM HIDROJATEAMENTO | C71: M2 | D71: 1597.95 | F71: =+D71*E71 -> 0
A72: 502 | B72: TINTA ACRÍLICA ANTIMOFO EM MASSA, INCLUSIVE PREPARO | C72: M2 | D72: 1597.95 | F72: =+D72*E72 -> 0
B74: TOTAL DO ITEM | C74: 500 | F74: =SUM(F70:F73) -> 0
A76: C | B76: EDIFICAÇÃO
A77: 600 | B77: COBERTURA
B78: COBERTURA DE ACESSO - ESTRUTURAL E TELHAS
A79: 601 | B79: REMOÇÃO DE PINTURA EM SUPERFÍCIES DE MADEIRA E/OU METÁLICAS COM LIXAMENTO | C79: M2 | D79: 87.7 | F79: =+D79*E79 -> 0
A80: 602 | B80: PREPARO DE BASE PARA SUPERFÍCIE METÁLICA COM FUNDO ANTIOXIDANTE | C80: M2 | D80: 87.7 | F80: =+D80*E80 -> 0
A81: 603 | B81: ESMALTE À BASE ÁGUA EM SUPERFÍCIE METÁLICA, INCLUSIVE PREPARO | C81: M2 | D81: 87.7 | F81: =+D81*E81 -> 0
A82: 604 | B82: TELHAMENTO EM CHAPA DE AÇO PRÉ-PINTADA, TIPO SANDUÍCHE, ESPESSURA DE 0,50MM, COM POLIESTIRENO EXPANDIDO | C82: M2 | D82: 93.45 | F82: =+D82*E82 -> 0
B83: COBERTURA PRINCIPAL - ESTRUTURAL E TELHAS
A84: 605 | B84: COBERTURA PLANA EM CHAPA DE POLICARBONATO ALVEOLAR DE 10 MM | C84: M2 | D84: 3.45 | F84: =+D84*E84 -> 0
A85: 606 | B85: ESTRUTURA PONTALETADA PARA TELHAS ONDULADAS | C85: M2 | D85: 774.97 | F85: =+D85*E85 -> 0
A86: 607 | B86: TELHAMENTO EM CIMENTO REFORÇADO COM FIO SINTÉTICO CRFS - PERFIL ONDULADO DE 8 MM | C86: M2 | D86: 774.97 | F86: =+D86*E86 -> 0
A87: 608 | B87: CUMEEIRA UNIVERSAL EM CIMENTO REFORÇADO COM FIO SINTÉTICO CRFS - PERFIL ONDULADO | C87: M | D87: 72.85 | F87: =+D87*E87 -> 0
A88: 609 | B88: TELHA ONDULADA TRANSLÚCIDA EM POLIPROPILENO | C88: M2 | D88: 10 | F88: =+D88*E88 -> 0
B89: CALHAS E PLATIBANDAS - IMPERMEABILIZAÇÃO E RUFOS
A90: 610 | B90: ALVENARIA DE BLOCO CERÂMICO DE VEDAÇÃO DE 9 CM | C90: M2 | D90: 29.14 | F90: =+D90*E90 -> 0
A91: 611 | B91: ARGAMASSA DE REGULARIZAÇÃO E/OU PROTEÇÃO | C91: M3 | D91: 3.19 | F91: =+D91*E91 -> 0
A92: 612 | B92: IMPERMEABILIZAÇÃO EM MANTA ASFÁLTICA COM ARMADURA, TIPO III-B, ESPESSURA DE 3 MM | C92: M2 | D92: 214.44 | F92: =+D92*E92 -> 0
A93: 613 | B93: CONTRAPISO EM ARGAMASSA PRONTA, PREPARO MANUAL, APLICADO EM ÁREAS MOLHADAS SOBRE IMPERMEABILIZAÇÃO, ACABAMENTO NÃO REFORÇADO, ESPESSURA 4CM. AF_07/2021 | C93: M2 | D93: 48.6 | F93: =+D93*E93 -> 0
A94: 614 | B94: TELA GALVANIZADA FIO 24 BWG, MALHA HEXAGONAL DE 1/2´, PARA ARMADURA DE ARGAMASSA | C94: M2 | D94: 178.24 | F94: =+D94*E94 -> 0
A95: 615 | B95: CHAPISCO COM ADESIVO DE ALTO DESEMPENHO | C95: M2 | D95: 196.74 | F95: =+D95*E95 -> 0
A96: 616 | B96: REBOCO | C96: M2 | D96: 196.74 | F96: =+D96*E96 -> 0
A97: 617 | B97: CALHA, RUFO, AFINS EM CHAPA GALVANIZADA Nº 24 - CORTE 0,33 M | C97: M | D97: 325.6 | F97: =+D97*E97 -> 0
A98: 618 | B98: CALHA, RUFO, AFINS EM CHAPA GALVANIZADA Nº 24 - CORTE 0,50 M | C98: M | D98: 70 | F98: =+D98*E98 -> 0
A99: 619 | B99: ESMALTE À BASE ÁGUA EM SUPERFÍCIE METÁLICA, INCLUSIVE PREPARO | C99: M2 | D99: 107.44 | F99: =+D99*E99 -> 0
B100: TOTAL DO ITEM | C100: 600 | F100: =SUM(F77:F99) -> 0
A102: 700 | B102: FECHAMENTOS
B103: PAREDES
A104: 701 | B104: ALVENARIA DE BLOCO CERÂMICO DE VEDAÇÃO DE 14 CM | C104: M2 | D104: 15.54 | F104: =+D104*E104 -> 0
A105: 702 | B105: DIVISÓRIA EM PLACAS DE GESSO ACARTONADO, RESISTÊNCIA AO FOGO 30 MINUTOS, ESPESSURA 73/48MM - 1ST / 1ST | C105: M2 | D105: 13.5 | F105: =+D105*E105 -> 0
A106: 703 | B106: DIVISÓRIA EM PLACAS DE GRANILITE COM ESPESSURA DE 4 CM | C106: M2 | D106: 1.44 | F106: =+D106*E106 -> 0
B107: FORRO DE GESSO
A108: 704 | B108: FORRO EM PAINÉIS DE GESSO ACARTONADO, ESPESSURA DE 12,5MM, FIXO | C108: M2 | D108: 75 | F108: =+D108*E108 -> 0
B110: TOTAL DO ITEM | C110: 700 | F110: =SUM(F103:F109) -> 0
A112: 800 | B112: REVESTIMENTOS
B113: PAREDES
A114: 801 | B114: CHAPISCO | C114: M2 | D114: 70.98 | F114: =+D114*E114 -> 0
A115: 802 | B115: REBOCO | C115: M2 | D115: 70.98 | F115: =+D115*E115 -> 0
A116: 803 | B116: MASSA CORRIDA À BASE DE RESINA ACRÍLICA | C116: M2 | D116: 97.98 | F116: =+D116*E116 -> 0
A117: 804 | B117: REVESTIMENTO EM PLACA CERÂMICA ESMALTADA, TIPO MONOPOROSA, ASSENTADO E REJUNTADO COM ARGAMASSA INDUSTRIALIZADA | C117: M2 | D117: 107.4 | F117: =+D117*E117 -> 0
B118: PISOS
A119: 805 | B119: LONA PLÁSTICA EM POLIETILENO, 150 MICRAS, PARA CAMADA SEPARADORA DE PISO/PAVIMENTO | C119: M2 | D119: 48.71 | F119: =+D119*E119 -> 0
A120: 806 | B120: LASTRO DE PEDRA BRITADA | C120: M3 | D120: 2.43 | F120: =+D120*E120 -> 0
A121: 807 | B121: CONCRETO PREPARADO NO LOCAL, FCK = 20 MPA | C121: M3 | D121: 2.43 | F121: =+D121*E121 -> 0
A122: 808 | B122: IMPERMEABILIZAÇÃO EM MEMBRANA À BASE DE RESINA TERMOPLÁSTICA E CIMENTOS ADITIVADOS COM REFORÇO EM TELA POLIÉSTER | C122: M2 | D122: 7.8 | F122: =+D122*E122 -> 0
A123: 809 | B123: ARGAMASSA DE REGULARIZAÇÃO E/OU PROTEÇÃO | C123: M3 | D123: 25.25 | F123: =+D123*E123 -> 0
A124: 810 | B124: REVESTIMENTO EM PORCELANATO ESMALTADO ANTIDERRAPANTE PARA ÁREA EXTERNA E AMBIENTE COM ALTO TRÁFEGO, GRUPO DE ABSORÇÃO BIA, ASSENTADO COM ARGAMASSA COLANTE INDUSTRIALIZADA, REJUNTADO | C124: M2 | D124: 595.59 | F124: =+D124*E124 -> 0
A125: 811 | B125: RODAPÉ EM PORCELANATO ESMALTADO ANTIDERRAPANTE PARA ÁREA EXTERNA E AMBIENTE COM ALTO TRÁFEGO, GRUPO DE ABSORÇÃO BIA, ASSENTADO COM ARGAMASSA COLANTE INDUSTRIALIZADA, REJUNTADO | C125: M | D125: 530.42 | F125: =+D125*E125 -> 0
A126: 812 | B126: PISO EPÓXI AUTONIVELANTE, MÚLTIPLAS CAMADAS, ESPESSURA 4 MM | C126: M2 | D126: 35.58 | F126: =+D126*E126 -> 0
...

Sheet cronograma
C4: CRONOGRAMA FÍSICO - FINANCEIRO
C6: OBRA: REFORMA DA UNIDADE DE ATENDIMENTO SAÚDE DA MULHER
C8: LOCAL: AV. ENGENHEIRO ARQUITETO EDUARDO CORREA DA COSTA JR.
C11: MESES
A12: Item | B12: ETAPAS DE SERVIÇOS | C12: 1 | D12: 2 | E12: 3 | F12: 4 | G12: 5 | H12: 6 | I12: 7 | J12: 8 | K12: 9 | L12: 10 | M12: 11 | N12: 12 | O12: VALOR
C13: 30 | D13: 60 | E13: 90 | F13: 120 | G13: 150 | H13: 180 | I13: =H13+30 -> 210 | J13: =I13+30 -> 240 | K13: =J13+30 -> 270 | L13: =K13+30 -> 300 | M13: =L13+30 -> 330 | N13: =M13+30 -> 360 | O13: R$
A15: 100 | B15: SERVIÇOS PRELIMINARES | C15: 0 | D15: 0 | E15: 0 | F15: 0 | G15: 0 | H15: 0 | I15: 0 | J15: 0 | K15: 0 | L15: 0 | M15: 0 | N15: 0 | O15: =SUM(C15:N15) -> 0
C16: =$O16*C15 -> 0 | D16: =$O16*D15 -> 0 | E16: =$O16*E15 -> 0 | F16: =$O16*F15 -> 0 | G16: =$O16*G15 -> 0 | H16: =$O16*H15 -> 0 | I16: =$O16*I15 -> 0 | J16: =$O16*J15 -> 0 | ... N16: =$O16*N15 -> 0 | O16: =Planilha!E299 -> 0
A18: 200 | B18: SERVIÇOS EXTERNOS | C18: 0 | D18: 0 | E18: 0 | F18: 0 | G18: 0 | H18: 0 | I18: 0 | J18: 0 | K18: 0 | L18: 0 | N18: 0 | O18: =SUM(C18:N18) -> 0
C19: =$O19*C18 -> 0 | D19: =$O19*D18 -> 0 | E19: =$O19*E18 -> 0 | F19: =$O19*F18 -> 0 | G19: =$O19*G18 -> 0 | H19: =$O19*H18 -> 0 | I19: =$O19*I18 -> 0 | J19: =$O19*J18 -> 0 | ... N19: =$O19*N18 -> 0 | O19: =Planilha!E300 -> 0
A21: 300 | B21: EDIFICAÇÃO | C21: 0 | D21: 0 | E21: 0 | F21: 0 | G21: 0 | H21: 0 | I21: 0 | J21: 0 | K21: 0 | L21: 0 | M21: 0 | N21: 0 | O21: =SUM(C21:N21) -> 0
C22: =$O22*C21 -> 0 | D22: =$O22*D21 -> 0 | E22: =$O22*E21 -> 0 | F22: =$O22*F21 -> 0 | G22: =$O22*G21 -> 0 | H22: =$O22*H21 -> 0 | I22: =$O22*I21 -> 0 | J22: =$O22*J21 -> 0 | ... N22: =$O22*N21 -> 0 | O22: =Planilha!E301 -> 0
A24: 400 | B24: INSTALAÇÕES PREDIAIS | C24: 0 | D24: 0 | E24: 0 | F24: 0 | G24: 0 | H24: 0 | M24: 0 | N24: 0 | O24: =SUM(C24:N24) -> 0
C25: =D37 -> 0 | D25: =$O25*D24 -> 0 | E25: =$O25*E24 -> 0 | F25: =$O25*F24 -> 0 | G25: =$O25*G24 -> 0 | H25: =$O25*H24 -> 0 | I25: =$O25*I24 -> 0 | J25: =$O25*J24 -> 0 | K25: =$O25*K24 -> 0 | ... N25: =$O25*N24 -> 0 | O25: =Planilha!E302 -> 0
A27: 500 | B27: SERVIÇOS COMPLEMENTARES | L27: 0 | M27: 0 | N27: 0 | O27: =SUM(C27:N27) -> 0
C28: =$O28*C27 -> 0 | D28: =$O28*D27 -> 0 | E28: =$O28*E27 -> 0 | F28: =$O28*F27 -> 0 | G28: =$O28*G27 -> 0 | H28: =$O28*H27 -> 0 | I28: =$O28*I27 -> 0 | J28: =$O28*J27 -> 0 | ... M28: =$O28*M27 -> 0 | N28: =($O28*N27) -> 0 | O28: =(Planilha!E303) -> 0
B31: VALOR TOTAL DOS SERVIÇOS | C31: =C16+C19+C22+C25+C28 -> 0 | D31: =D16+D19+D22+D25+D28 -> 0 | E31: =E16+E19+E22+E25+E28 -> 0 | F31: =F16+F19+F22+F25+F28 -> 0 | G31: =G16+G19+G22+G25+G28 -> 0 | H31: =H16+H19+H22+H25+H28 -> 0 | I31: =I16+I19+I22+I25+I28 -> 0 | J31: =J16+J19+J22+J25+J28 -> 0 | ... O31: =O16+O19+O22+O25+O28 -> 0
