Workbook
Name __xlnm.Print_Area_1: 0
Name __xlnm.Print_Titles_1: 0
Name __xlnm_Print_Area_1: 0
Name __xlnm_Print_Titles_1: 0
Name a: "#ref!"
Name CICLOVIA_3: "#ref!"
Name CICLOVIA_3_2: "#ref!"
Name CICLOVIA_3_4: "#ref!"
Name CICLOVIA_3_5: "#ref!"
Name CONCATENAR: CONCATENATE(#REF!," ",#REF!)
Name CONCATENAR: CONCATENATE(#REF!," ",#REF!)
Name CP: "#ref!"
Name Dados.Lista.BDI: [2]DADOS!$T$37:$X$37
Name DATAEMISSAO: #REF!
Name DATAEMISSAO: #REF!
Name DATART: #REF!
Name DATART: #REF!
Name e: "#ref!"
Name EMPRESAS: OFFSET([3]Cotações!$B$25,0,0):OFFSET([3]Cotações!$H$29,-1,0)
Name Excel_BuiltIn__FilterDatabase: "#ref!"
Name Excel_BuiltIn_Print_Area_1: "#ref!"
Name Excel_BuiltIn_Print_Area_1_1: "#ref!"
Name Excel_BuiltIn_Print_Area_1_1_1: "#ref!"
Name Excel_BuiltIn_Print_Area_2: "#ref!"
Name Excel_BuiltIn_Print_Area_2_1: "#ref!"
Name Excel_BuiltIn_Print_Area_3: "#ref!"
Name Excel_BuiltIn_Print_Area_3_1: "#ref!"
Name Excel_BuiltIn_Print_Area_3_1_1: "#ref!"
Name Excel_BuiltIn_Print_Area_4: "#ref!"
Name Excel_BuiltIn_Print_Area_4_1: "#ref!"
Name Excel_BuiltIn_Print_Area_5: "#ref!"
Name Excel_BuiltIn_Print_Area_6: "#ref!"
Name Excel_BuiltIn_Print_Area_7: "#ref!"
Name Excel_BuiltIn_Print_Titles_2: "#ref!"
Name Excel_BuiltIn_Print_Titles_2_1: "#ref!"
Name Excel_BuiltIn_Print_Titles_2_1_1: "#ref!"
Name Excel_BuiltIn_Print_Titles_3: "#ref!"
Name Excel_BuiltIn_Print_Titles_3_1: "#ref!"
Name Excel_BuiltIn_Print_Titles_4: "#ref!"
Name Excel_BuiltIn_Print_Titles_5: "#ref!"
Name Excel_BuiltIn_Print_Titles_5_1: "#ref!"
Name Excel_BuiltIn_Print_Titles_6: "#ref!"
Name Excel_BuiltIn_Print_Titles_6_2: "#ref!"
Name Excel_BuiltIn_Print_Titles_6_4: "#ref!"
Name Excel_BuiltIn_Print_Titles_6_5: "#ref!"
Name Excel_BuiltIn_Print_Titles_7: "#ref!"
Name INDICES: [3]Cotações!$B$22:OFFSET([3]Cotações!$I$24,-1,0)
Name LOCALIDADE: #REF!
Name LOCALIDADE: #REF!
Name memoria: ROUND(PO.Quantidade*[0]!PO.PrecoUnitario,15-13*[5]Planilha!$X$7)
Name MEMÓRIA: ROUND([6]Planilha!$P1,15-13*[6]Planilha!#REF!)
Name MEMÓRIA: ROUND([6]Planilha!$P1,15-13*[6]Planilha!#REF!)
Name NCOMPOSICOES: 0
Name NCOTACOES: 0
Name NEMPRESAS: 3
Name NINDICES: 1
Name NRELATORIOS: COUNTA([3]Relatórios!$A:$A)-2
Name NumerEmpresa: 3
Name NumerIndice: 1
Name Objeto: "Referência"

Sheet Planilha
E3: Prazo: | F3: 12 meses
B4: PLANILHA ORÇAMENTÁRIA
B6: OBRA: REFORMA DA UNIDADE DE ATENDIMENTO SAÚDE DA MULHER | E6: B.D.I.: | F6: 0
B7: LOCAL: AV. ENGENHEIRO ARQUITETO EDUARDO CORREA DA COSTA JR. | E7: L.S.:
E9: Custo
A10: Item | B10: Descrição dos Serviços | C10: Unid. | D10: Quant. | E10: Unitário | F10: Preço Total
E11: R$ | F11: R$
A12: A | B12: SERVIÇOS PRELIMINARES
A14: 100 | B14: CANTEIRO DE OBRAS
B15: SERVIÇOS PRELIMINARES
A16: 101 | B16: PLACA DE IDENTIFICAÇÃO PARA OBRA | C16: M2 | D16: 6 | F16: =+D16*E16 -> 0
A17: 102 | B17: MONTAGEM E DESMONTAGEM DE ANDAIME TORRE METÁLICA COM ALTURA ATÉ 10 M | C17: M | D17: 15 | F17: =+D17*E17 -> 0
A18: 103 | B18: ANDAIME TORRE METÁLICO (1,5 X 1,5 M) COM PISO METÁLICO | C18: MXMES | D18: 180 | F18: =+D18*E18 -> 0
B20: TOTAL DO ITEM | C20: 100 | F20: =SUM(F14:F19) -> 0
A22: 200 | B22: ADMINISTRAÇÃO LOCAL
B23: ADM
A24: 201 | B24: ENGENHEIRO CIVIL DE OBRA PLENO COM ENCARGOS COMPLEMENTARES | C24: H | D24: 360 | F24: =+D24*E24 -> 0
B26: TOTAL DO ITEM | C26: 200 | F26: =SUM(F23:F25) -> 0
A28: 300 | B28: DEMOLIÇÕES E REMOÇÕES
B29: SERVIÇOS INTERNOS E EXTERNOS
A30: 301 | B30: LIMPEZA MANUAL DO TERRENO, INCLUSIVE TRONCOS ATÉ 5 CM DE DIÂMETRO, COM CAMINHÃO À DISPOSIÇÃO DENTRO DA OBRA, ATÉ O RAIO DE 1 KM | C30: M2 | D30: 101.92 | F30: =+D30*E30 -> 0
A31: 302 | B31: DEMOLIÇÃO MANUAL DE REVESTIMENTO EM MASSA DE PAREDE OU TETO | C31: M2 | D31: 391.86 | F31: =+D31*E31 -> 0
A32: 303 | B32: DEMOLIÇÃO MANUAL DE REVESTIMENTO CERÂMICO, INCLUINDO A BASE | C32: M2 | D32: 664.79 | F32: =+D32*E32 -> 0
A33: 304 | B33: DEMOLIÇÃO MANUAL DE RODAPÉ, SOLEIRA OU PEITORIL, EM MATERIAL CERÂMICO E/OU LADRILHO HIDRÁULICO, INCLUINDO A BASE | C33: M | D33: 575.12 | F33: =+D33*E33 -> 0
A34: 305 | B34: DEMOLIÇÃO MANUAL DE FORRO EM GESSO, INCLUSIVE SISTEMA DE FIXAÇÃO | C34: M2 | D34: 75 | F34: =+D34*E34 -> 0
A35: 306 | B35: DEMOLIÇÃO MANUAL DE ALVENARIA DE ELEVAÇÃO OU ELEMENTO VAZADO, INCLUINDO REVESTIMENTO | C35: M3 | D35: 1.83 | F35: =+D35*E35 -> 0
A36: 307 | B36: DEMOLIÇÃO MANUAL DE CONCRETO SIMPLES | C36: M3 | D36: 2.43 | F36: =+D36*E36 -> 0
A37: 308 | B37: DEMOLIÇÃO MECANIZADA DE PAVIMENTO OU PISO EM CONCRETO, INCLUSIVE FRAGMENTAÇÃO E ACOMODAÇÃO DO MATERIAL | C37: M2 | D37: 218.71 | F37: =+D37*E37 -> 0
A38: 309 | B38: DEMOLIÇÃO MANUAL DE REVESTIMENTO EM MASSA DE PISO | C38: M2 | D38: 608.72 | F38: =+D38*E38 -> 0
A39: 310 | B39: REMOÇÃO CONDENSADORA COM REAPROVEITAMENTO | C39: UN | D39: 5 | F39: =+D39*E39 -> 0
A40: 311 | B40: REMOÇÃO MANUAL DE JUNTA DE DILATAÇÃO OU RETRAÇÃO, INCLUSIVE APOIO | C40: M | D40: 250 | F40: =+D40*E40 -> 0
A41: 312 | B41: REMOÇÃO DE CALHA OU RUFO | C41: M | D41: 484.75 | F41: =+D41*E41 -> 0
... A50: 321 | B50: REMOÇÃO DE ENTULHO SEPARADO DE OBRA COM CAÇAMBA METÁLICA - TERRA, ALVENARIA, CONCRETO, ARGAMASSA, MADEIRA, PAPEL, PLÁSTICO OU METAL | C50: M3 | D50: 164.6 | F50: =+D50*E50 -> 0
B52: TOTAL DO ITEM | C52: 300 | F52: =SUM(F29:F51) -> 0
A54: B | B54: SERVIÇOS EXTERNOS
A56: 400 | B56: FACHADA E PISO - IMPERMEABILIZAÇÃO E REVESTIMENTO
B57: FACHADA
A58: 401 | B58: IMPERMEABILIZAÇÃO EM ARGAMASSA POLIMÉRICA PARA UMIDADE E ÁGUA DE PERCOLAÇÃO | C58: M2 | D58: 100.56 | F58: =+D58*E58 -> 0
A59: 402 | B59: TELA EM METAL PARA ESTUQUE (DEPLOYE) - INCLUSIVE INSTALAÇÃO | C59: M2 | D59: 83.8 | F59: =+D59*E59 -> 0
A60: 403 | B60: CHAPISCO COM ADESIVO DE ALTO DESEMPENHO | C60: M2 | D60: 184.36 | F60: =+D60*E60 -> 0
...

Sheet cronograma
C4: CRONOGRAMA FÍSICO - FINANCEIRO
C6: OBRA: REFORMA DA UNIDADE DE ATENDIMENTO SAÚDE DA MULHER
C8: LOCAL: AV. ENGENHEIRO ARQUITETO EDUARDO CORREA DA COSTA JR.
C11: MESES
A12: Item | B12: ETAPAS DE SERVIÇOS | C12: 1 | D12: 2 | E12: 3 | F12: 4 | G12: 5 | H12: 6 | I12: 7 | J12: 8 | K12: 9 | L12: 10 | M12: 11 | N12: 12 | O12: VALOR
C13: 30 | D13: 60 | E13: 90 | F13: 120 | G13: 150 | H13: 180 | I13: =H13+30 -> 210 | J13: =I13+30 -> 240 | K13: =J13+30 -> 270 | L13: =K13+30 -> 300 | M13: =L13+30 -> 330 | N13: =M13+30 -> 360 | O13: R$
A15: 100 | B15: SERVIÇOS PRELIMINARES | C15: 0 | D15: 0 | E15: 0 | F15: 0 | G15: 0 | H15: 0 | I15: 0 | J15: 0 | K15: 0 | L15: 0 | M15: 0 | N15: 0 | O15: =SUM(C15:N15) -> 0
C16: =$O16*C15 -> 0 | D16: =$O16*D15 -> 0 | E16: =$O16*E15 -> 0 | F16: =$O16*F15 -> 0 | G16: =$O16*G15 -> 0 | H16: =$O16*H15 -> 0 | I16: =$O16*I15 -> 0 | J16: =$O16*J15 -> 0 | ... N16: =$O16*N15 -> 0 | O16: =Planilha!E299 -> 0
A18: 200 | B18: SERVIÇOS EXTERNOS | C18: 0 | D18: 0 | E18: 0 | F18: 0 | G18: 0 | H18: 0 | I18: 0 | J18: 0 | K18: 0 | L18: 0 | N18: 0 | O18: =SUM(C18:N18) -> 0
C19: =$O19*C18 -> 0 | D19: =$O19*D18 -> 0 | E19: =$O19*E18 -> 0 | F19: =$O19*F18 -> 0 | G19: =$O19*G18 -> 0 | H19: =$O19*H18 -> 0 | I19: =$O19*I18 -> 0 | J19: =$O19*J18 -> 0 | ... N19: =$O19*N18 -> 0 | O19: =Planilha!E300 -> 0
A21: 300 | B21: EDIFICAÇÃO | C21: 0 | D21: 0 | E21: 0 | F21: 0 | G21: 0 | H21: 0 | I21: 0 | J21: 0 | K21: 0 | L21: 0 | M21: 0 | N21: 0 | O21: =SUM(C21:N21) -> 0
C22: =$O22*C21 -> 0 | D22: =$O22*D21 -> 0 | E22: =$O22*E21 -> 0 | F22: =$O22*F21 -> 0 | G22: =$O22*G21 -> 0 | H22: =$O22*H21 -> 0 | I22: =$O22*I21 -> 0 | J22: =$O22*J21 -> 0 | ... N22: =$O22*N21 -> 0 | O22: =Planilha!E301 -> 0
A24: 400 | B24: INSTALAÇÕES PREDIAIS | C24: 0 | D24: 0 | E24: 0 | F24: 0 | G24: 0 | H24: 0 | M24: 0 | N24: 0 | O24: =SUM(C24:N24) -> 0
C25: =D37 -> 0 | D25: =$O25*D24 -> 0 | E25: =$O25*E24 -> 0 | F25: =$O25*F24 -> 0 | G25: =$O25*G24 -> 0 | H25: =$O25*H24 -> 0 | I25: =$O25*I24 -> 0 | J25: =$O25*J24 -> 0 | K25: =$O25*K24 -> 0 | ... N25: =$O25*N24 -> 0 | O25: =Planilha!E302 -> 0
A27: 500 | B27: SERVIÇOS COMPLEMENTARES | L27: 0 | M27: 0 | N27: 0 | O27: =SUM(C27:N27) -> 0
C28: =$O28*C27 -> 0 | D28: =$O28*D27 -> 0 | E28: =$O28*E27 -> 0 | F28: =$O28*F27 -> 0 | G28: =$O28*G27 -> 0 | H28: =$O28*H27 -> 0 | I28: =$O28*I27 -> 0 | J28: =$O28*J27 -> 0 | ... M28: =$O28*M27 -> 0 | N28: =($O28*N27) -> 0 | O28: =(Planilha!E303) -> 0
B31: VALOR TOTAL DOS SERVIÇOS | C31: =C16+C19+C22+C25+C28 -> 0 | D31: =D16+D19+D22+D25+D28 -> 0 | E31: =E16+E19+E22+E25+E28 -> 0 | F31: =F16+F19+F22+F25+F28 -> 0 | G31: =G16+G19+G22+G25+G28 -> 0 | H31: =H16+H19+H22+H25+H28 -> 0 | I31: =I16+I19+I22+I25+I28 -> 0 | J31: =J16+J19+J22+J25+J28 -> 0 | ... O31: =O16+O19+O22+O25+O28 -> 0
