Workbook

Sheet Base
A1: Item | B1: Função | C1: Salário | D1: Valor Total Posto | F1: Submódulo 2.2 - Encargos Previdenciários (GPS), Fundo de Garantia por Tempo de Serviço (FGTS) e outras contribuições.
A2: 1 | B2: Assistente 1 | C2: 3180 | D2: ='1'!C130 -> 6727.25 | F2: RAT/FAP | H2: Decreto 6.042/2007, Lei 10.666/2003 (Apresentar memória de cálculo do RAT/FAP)
A3: 2 | B3: Assistente 2 | C3: 3900 | D3: ='2'!C130 -> 7989.01 | F3: Submódulo 2.3 - Benefícios Mensais e Diários.
A4: 3 | B4: Assistente 3 | C4: 4480 | D4: ='3'!C130 -> 9005.38 | F4: Vale Transporte | G4: 6
A5: 4 | B5: Assistente 4 | C5: 5350 | D5: ='4'!C130 -> 10530.02 | F5: Vale Refeição (Desconto) | G5: 1090
A6: 5 | B6: Analista 1 | C6: 6000 | D6: ='5'!C130 -> 11669.07 | F6: Benefício Social Odontológico
A7: 6 | B7: Analista 2 | C7: 6840 | D7: ='6'!C130 -> 13141.08 | F7: Benefício Social Familiar
A8: 7 | B8: Analista 3 | C8: 7500 | D8: ='7'!C130 -> 14297.67 | F8: Fundo de Qualificação Profissional
A9: 8 | B9: Analista 4 | C9: 9350 | D9: ='8'!C130 -> 16637.25 | F9: Assistência à Saúde
A10: 9 | B10: Motorista | C10: 4350 | D10: ='9'!C130 -> 8777.62 | F10: Seguro de vida
A11: TOTAL | D11: =SUM(D2:D10) -> 98774.35 | F11: Custos dos exames admssional, períodicos e demissionais
F12: Submódulo 4.1 - Substituto nas Ausências Legais
F13: Substituto na cobertura de Ausências Legais | G13: 0.0028 | H13: (1 dia / 30 dias) x (1 dia / 12 meses) x 100 = 0,28%
F14: Substituto na cobertura de Licença Paternidade | G14: =((5/30)/12)*2% -> 0.00027777778 | H14: ((5 dias de ausência/30 impacto sobre o mês)/12 meses do ano)*2% estimativa de ocorrência=0,028%
F15: Substituto na cobertura de Ausência por acidente de trabalho | G15: =((15/30)/12)*8% -> 0.0033333333 | H15: ((15 dias de ausências INSS /30 mês)/12 meses)*8% (estimativa IBGE) = 0,33%
F16: Substituto na cobertura de Ausência por Doença | G16: =(5.96/30)*(1/12) -> 0.016555556 | H16: (5,96 dias/ano IBGE/30 dias) x (1/12 meses) = 1,66%
F17: Substituto na cobertura de Licença Maternidade | G17: =(5/30)*(1/12)*6.24%*4.96% -> 4.2986667e-05 | H17: (5 dias / 30 dias) x (1 / 12 meses) x 6,24% taxa de fecundidade x 4,96% participação masculina = 0,004%
F18: Módulo 6 - Custos Indiretos, Tributos e Lucro
F19: Custos Indiretos
F20: Lucro
F21: C.1. PIS
F22: C.2. COFINS
F23: C.3. ISS | G23: 0.05

Sheet 1
A1: Base
B3: Mão de Obra
B5: Cargo | C5: =Base!B2 -> Assistente 1
B6: Salário | C6: =Base!C2 -> 3180
A9: Módulo 1 - Composição da Remuneração
A11: 1 | B11: Composição da Remuneração | C11: Valor (R$) | D11: Valor (R$) | E11: Fundamentação Legal
A12: A | B12: Salário-Base | D12: =C6 -> 3180 | E12: Salário normativo da categoria de acorodo com a CCT
A13: Total | D13: =SUM(D12:D12) -> 3180
A16: Módulo 2 - Encargos e Benefícios Anuais, Mensais e Diários
A19: Submódulo 2.1 - 13º (décimo terceiro) Salário, Férias e Adicional de Férias
A21: 2.2 | B21: 13º (décimo terceiro) Salário, Férias e Adicional de Férias | C21: Percentual (%) | D21: Valor (R$) | E21: Fundamentação Legal
A22: A | B22: 13º (décimo terceiro) Salário | C22: 0.0833 | D22: =ROUND(D13*C22,2) -> 264.89 | E22: Lei 4090/62 Inciso VIII Art. 7 CF 88
A23: B | B23: Férias e Adicional de Férias | C23: 0.1111 | D23: =ROUND(D13*C23,2) -> 353.3 | E23: Artigo 7, Inciso XVII CF/88 e Súmula 328/TST
A24: SUBTOTAL | C24: =SUM(C22:C23) -> 0.1944 | D24: =SUM(D22:D23) -> 618.19
A25: C | B25: Incidência do submódulo 2.2 sobre o submódulo 2.1 | C25: =(C24*C40) -> 0.0657072 | D25: =ROUND(D24*C25,2) -> 40.62
A26: Total | C26: =SUM(C24:C25) -> 0.2601072 | D26: =SUM(D24:D25) -> 658.81
A29: Submódulo 2.2 - Encargos Previdenciários (GPS), Fundo de Garantia por Tempo de Serviço (FGTS) e outras contribuições.
A31: 2.3 | B31: GPS, FGTS e outras contribuições | C31: Percentual (%) | D31: Valor (R$) | E31: Fundamentação Legal
A32: D | B32: INSS | C32: 0.2 | D32: =ROUND(D13*C32,2) -> 636 | E32: Art. 22, Inciso I, da Lei 8.212/91
A33: E | B33: Salário Educação | C33: 0.025 | D33: =ROUND(D13*C33,2) -> 79.5 | E33: Artigo 3º Inciso I Decreto 87.043/82
A34: F | B34: RAT/FAP | C34: =Base!G2 -> 0 | D34: =ROUND(D13*C34,2) -> 0 | E34: Decreto 6.042/2007, Lei 10.666/2003 (Apresentar memória de cálculo do RAT/FAP)
A35: G | B35: SESC ou SESI | C35: 0.015 | D35: =ROUND(D13*C35,2) -> 47.7 | E35: Artigo 30 da Lei nº 8.036/90
A36: H | B36: SENAI - SENAC | C36: 0.01 | D36: =ROUND(D13*C36,2) -> 31.8 | E36: Decreto-Lei nº 2.318/86
A37: I | B37: SEBRAE | C37: 0.006 | D37: =ROUND(D13*C37,2) -> 19.08 | E37: Lei nº 8.029/90
A38: J | B38: INCRA | C38: 0.002 | D38: =ROUND(D13*C38,2) -> 6.36 | E38: Artigos 1º e 2º do Decreto-Lei nº 1.146/70.
A39: K | B39: FGTS | C39: 0.08 | D39: =ROUND(D13*C39,2) -> 254.4 | E39: Artigo 15 Lei 8036/90 e Art. 7º Inciso III CF/88
A40: Total | C40: =SUM(C32:C39) -> 0.338 | D40: =SUM(D32:D39) -> 1074.84
A43: Submódulo 2.3 - Benefícios Mensais e Diários.
A45: 2.4 | B45: Benefícios Mensais e Diários | C45: Valor (R$) | D45: Valor Total (R$) | E45: Fundamentação Legal
A46: L | B46: Vale Transporte | C46: =Base!G4 -> 6 | D46: =ROUND((C46*2*22)-(D12*0.06),2) -> 73.2 | E46: Lei 7.4118 (Considerar 22 dias)
A47: M | B47: Vale Refeição (Desconto) | C47: =Base!G5 -> 1090 | D47: =ROUND(((C47+(C47/12))*0.8),2) -> 944.67 | E47: Cláusula 13a da CCT (no cálculo já foi considerado o valor do vale nas férias)
A48: N | B48: Benefício Social Odontológico | D48: =Base!G6 -> 0 | E48: Cláusula 15a da CCT
A49: O | B49: Benefício Social Familiar | D49: =Base!G7 -> 0 | E49: Cláusula 16a da CCT
A50: P | B50: Fundo de Qualificação Profissional | D50: =Base!G8 -> 0 | E50: Cláusula 23a da CCT
A51: Q | B51: Assistência à Saúde | D51: =Base!G9 -> 0 | E51: Cláusula 15a da CCT
A52: R | B52: Seguro de vida | D52: =Base!G10 -> 0 | E52: Cláusula 6a, Parágrafo 2º da CCT
A53: S | B53: Custos dos exames admssional, períodicos e demissionais | D53: =Base!G11 -> 0
A54: T | B54: Crédito de PIS/COFINS 9,25% (quando existir para lucro real) | C54: =IF(K116+9.25%,-9.25%,0) -> -0.0925 | D54: =ROUND(C54*(D46+D47+D52+D51),2) -> -94.15
A55: Total | D55: =SUM(D46:D54) -> 923.72
A58: Quadro-Resumo do Módulo 2 - Encargos e Benefícios anuais, mensais e diários
...

Sheet 2
A1: Base
B3: Mão de Obra
B5: Cargo | C5: =Base!B3 -> Assistente 2
B6: Salário | C6: =Base!C3 -> 3900
A9: Módulo 1 - Composição da Remuneração
A11: 1 | B11: Composição da Remuneração | C11: Valor (R$) | D11: Valor (R$) | E11: Fundamentação Legal
A12: A | B12: Salário-Base | D12: =C6 -> 3900 | E12: Salário normativo da categoria de acorodo com a CCT
A13: Total | D13: =SUM(D12:D12) -> 3900
A16: Módulo 2 - Encargos e Benefícios Anuais, Mensais e Diários
A19: Submódulo 2.1 - 13º (décimo terceiro) Salário, Férias e Adicional de Férias
A21: 2.2 | B21: 13º (décimo terceiro) Salário, Férias e Adicional de Férias | C21: Percentual (%) | D21: Valor (R$) | E21: Fundamentação Legal
A22: A | B22: 13º (décimo terceiro) Salário | C22: 0.0833 | D22: =ROUND(D13*C22,2) -> 324.87 | E22: Lei 4090/62 Inciso VIII Art. 7 CF 88
A23: B | B23: Férias e Adicional de Férias | C23: 0.1111 | D23: =ROUND(D13*C23,2) -> 433.29 | E23: Artigo 7, Inciso XVII CF/88 e Súmula 328/TST
A24: SUBTOTAL | C24: =SUM(C22:C23) -> 0.1944 | D24: =SUM(D22:D23) -> 758.16
A25: C | B25: Incidência do submódulo 2.2 sobre o submódulo 2.1 | C25: =(C24*C40) -> 0.0657072 | D25: =ROUND(D24*C25,2) -> 49.82
A26: Total | C26: =SUM(C24:C25) -> 0.2601072 | D26: =SUM(D24:D25) -> 807.98
A29: Submódulo 2.2 - Encargos Previdenciários (GPS), Fundo de Garantia por Tempo de Serviço (FGTS) e outras contribuições.
A31: 2.3 | B31: GPS, FGTS e outras contribuições | C31: Percentual (%) | D31: Valor (R$) | E31: Fundamentação Legal
A32: D | B32: INSS | C32: 0.2 | D32: =ROUND(D13*C32,2) -> 780 | E32: Art. 22, Inciso I, da Lei 8.212/91
A33: E | B33: Salário Educação | C33: 0.025 | D33: =ROUND(D13*C33,2) -> 97.5 | E33: Artigo 3º Inciso I Decreto 87.043/82
A34: F | B34: RAT/FAP | C34: =Base!G2 -> 0 | D34: =ROUND(D13*C34,2) -> 0 | E34: Decreto 6.042/2007, Lei 10.666/2003 (Apresentar memória de cálculo do RAT/FAP)
A35: G | B35: SESC ou SESI | C35: 0.015 | D35: =ROUND(D13*C35,2) -> 58.5 | E35: Artigo 30 da Lei nº 8.036/90
A36: H | B36: SENAI - SENAC | C36: 0.01 | D36: =ROUND(D13*C36,2) -> 39 | E36: Decreto-Lei nº 2.318/86
A37: I | B37: SEBRAE | C37: 0.006 | D37: =ROUND(D13*C37,2) -> 23.4 | E37: Lei nº 8.029/90
A38: J | B38: INCRA | C38: 0.002 | D38: =ROUND(D13*C38,2) -> 7.8 | E38: Artigos 1º e 2º do Decreto-Lei nº 1.146/70.
A39: K | B39: FGTS | C39: 0.08 | D39: =ROUND(D13*C39,2) -> 312 | E39: Artigo 15 Lei 8036/90 e Art. 7º Inciso III CF/88
A40: Total | C40: =SUM(C32:C39) -> 0.338 | D40: =SUM(D32:D39) -> 1318.2
A43: Submódulo 2.3 - Benefícios Mensais e Diários.
A45: 2.4 | B45: Benefícios Mensais e Diários | C45: Valor (R$) | D45: Valor Total (R$) | E45: Fundamentação Legal
A46: L | B46: Vale Transporte | C46: =Base!G4 -> 6 | D46: =ROUND((C46*2*22)-(D12*0.06),2) -> 30 | E46: Lei 7.4118 (Considerar 22 dias)
A47: M | B47: Vale Refeição (Desconto) | C47: =Base!G5 -> 1090 | D47: =ROUND(((C47+(C47/12))*0.8),2) -> 944.67 | E47: Cláusula 13a da CCT (no cálculo já foi considerado o valor do vale nas férias)
A48: N | B48: Benefício Social Odontológico | D48: =Base!G6 -> 0 | E48: Cláusula 15a da CCT
A49: O | B49: Benefício Social Familiar | D49: =Base!G7 -> 0 | E49: Cláusula 16a da CCT
A50: P | B50: Fundo de Qualificação Profissional | D50: =Base!G8 -> 0 | E50: Cláusula 23a da CCT
A51: Q | B51: Assistência à Saúde | D51: =Base!G9 -> 0 | E51: Cláusula 15a da CCT
A52: R | B52: Seguro de vida | D52: =Base!G10 -> 0 | E52: Cláusula 6a, Parágrafo 2º da CCT
A53: S | B53: Custos dos exames admssional, períodicos e demissionais | D53: =Base!G11 -> 0
A54: T | B54: Crédito de PIS/COFINS 9,25% (quando existir para lucro real) | C54: =IF(K116+9.25%,-9.25%,0) -> -0.0925 | D54: =ROUND(C54*(D46+D47+D52+D51),2) -> -90.16
A55: Total | D55: =SUM(D46:D54) -> 884.51
A58: Quadro-Resumo do Módulo 2 - Encargos e Benefícios anuais, mensais e diários
...

Sheet 3
A1: Base
B3: Mão de Obra
B5: Cargo | C5: =Base!B4 -> Assistente 3
B6: Salário | C6: =Base!C4 -> 4480
A9: Módulo 1 - Composição da Remuneração
A11: 1 | B11: Composição da Remuneração | C11: Valor (R$) | D11: Valor (R$) | E11: Fundamentação Legal
A12: A | B12: Salário-Base | D12: =C6 -> 4480 | E12: Salário normativo da categoria de acorodo com a CCT
A13: Total | D13: =SUM(D12:D12) -> 4480
A16: Módulo 2 - Encargos e Benefícios Anuais, Mensais e Diários
A19: Submódulo 2.1 - 13º (décimo terceiro) Salário, Férias e Adicional de Férias
A21: 2.2 | B21: 13º (décimo terceiro) Salário, Férias e Adicional de Férias | C21: Percentual (%) | D21: Valor (R$) | E21: Fundamentação Legal
A22: A | B22: 13º (décimo terceiro) Salário | C22: 0.0833 | D22: =ROUND(D13*C22,2) -> 373.18 | E22: Lei 4090/62 Inciso VIII Art. 7 CF 88
A23: B | B23: Férias e Adicional de Férias | C23: 0.1111 | D23: =ROUND(D13*C23,2) -> 497.73 | E23: Artigo 7, Inciso XVII CF/88 e Súmula 328/TST
A24: SUBTOTAL | C24: =SUM(C22:C23) -> 0.1944 | D24: =SUM(D22:D23) -> 870.91
A25: C | B25: Incidência do submódulo 2.2 sobre o submódulo 2.1 | C25: =(C24*C40) -> 0.0657072 | D25: =ROUND(D24*C25,2) -> 57.23
A26: Total | C26: =SUM(C24:C25) -> 0.2601072 | D26: =SUM(D24:D25) -> 928.14
A29: Submódulo 2.2 - Encargos Previdenciários (GPS), Fundo de Garantia por Tempo de Serviço (FGTS) e outras contribuições.
A31: 2.3 | B31: GPS, FGTS e outras contribuições | C31: Percentual (%) | D31: Valor (R$) | E31: Fundamentação Legal
A32: D | B32: INSS | C32: 0.2 | D32: =ROUND(D13*C32,2) -> 896 | E32: Art. 22, Inciso I, da Lei 8.212/91
A33: E | B33: Salário Educação | C33: 0.025 | D33: =ROUND(D13*C33,2) -> 112 | E33: Artigo 3º Inciso I Decreto 87.043/82
A34: F | B34: RAT/FAP | C34: =Base!G2 -> 0 | D34: =ROUND(D13*C34,2) -> 0 | E34: Decreto 6.042/2007, Lei 10.666/2003 (Apresentar memória de cálculo do RAT/FAP)
A35: G | B35: SESC ou SESI | C35: 0.015 | D35: =ROUND(D13*C35,2) -> 67.2 | E35: Artigo 30 da Lei nº 8.036/90
A36: H | B36: SENAI - SENAC | C36: 0.01 | D36: =ROUND(D13*C36,2) -> 44.8 | E36: Decreto-Lei nº 2.318/86
A37: I | B37: SEBRAE | C37: 0.006 | D37: =ROUND(D13*C37,2) -> 26.88 | E37: Lei nº 8.029/90
A38: J | B38: INCRA | C38: 0.002 | D38: =ROUND(D13*C38,2) -> 8.96 | E38: Artigos 1º e 2º do Decreto-Lei nº 1.146/70.
A39: K | B39: FGTS | C39: 0.08 | D39: =ROUND(D13*C39,2) -> 358.4 | E39: Artigo 15 Lei 8036/90 e Art. 7º Inciso III CF/88
A40: Total | C40: =SUM(C32:C39) -> 0.338 | D40: =SUM(D32:D39) -> 1514.24
A43: Submódulo 2.3 - Benefícios Mensais e Diários.
A45: 2.4 | B45: Benefícios Mensais e Diários | C45: Valor (R$) | D45: Valor Total (R$) | E45: Fundamentação Legal
A46: L | B46: Vale Transporte | C46: =Base!G4 -> 6 | D46: =ROUND((C46*2*22)-(D12*0.06),2) -> -4.8 | E46: Lei 7.4118 (Considerar 22 dias)
A47: M | B47: Vale Refeição (Desconto) | C47: =Base!G5 -> 1090 | D47: =ROUND(((C47+(C47/12))*0.8),2) -> 944.67 | E47: Cláusula 13a da CCT (no cálculo já foi considerado o valor do vale nas férias)
A48: N | B48: Benefício Social Odontológico | D48: =Base!G6 -> 0 | E48: Cláusula 15a da CCT
A49: O | B49: Benefício Social Familiar | D49: =Base!G7 -> 0 | E49: Cláusula 16a da CCT
A50: P | B50: Fundo de Qualificação Profissional | D50: =Base!G8 -> 0 | E50: Cláusula 23a da CCT
A51: Q | B51: Assistência à Saúde | D51: =Base!G9 -> 0 | E51: Cláusula 15a da CCT
A52: R | B52: Seguro de vida | D52: =Base!G10 -> 0 | E52: Cláusula 6a, Parágrafo 2º da CCT
A53: S | B53: Custos dos exames admssional, períodicos e demissionais | D53: =Base!G11 -> 0
A54: T | B54: Crédito de PIS/COFINS 9,25% (quando existir para lucro real) | C54: =IF(K116+9.25%,-9.25%,0) -> -0.0925 | D54: =ROUND(C54*(D46+D47+D52+D51),2) -> -86.94
A55: Total | D55: =SUM(D46:D54) -> 852.93
A58: Quadro-Resumo do Módulo 2 - Encargos e Benefícios anuais, mensais e diários
...

Sheet 4
A1: Base
B3: Mão de Obra
B5: Cargo | C5: =Base!B5 -> Assistente 4
B6: Salário | C6: =Base!C5 -> 5350
A9: Módulo 1 - Composição da Remuneração
A11: 1 | B11: Composição da Remuneração | C11: Valor (R$) | D11: Valor (R$) | E11: Fundamentação Legal
A12: A | B12: Salário-Base | D12: =C6 -> 5350 | E12: Salário normativo da categoria de acorodo com a CCT
A13: Total | D13: =SUM(D12:D12) -> 5350
A16: Módulo 2 - Encargos e Benefícios Anuais, Mensais e Diários
A19: Submódulo 2.1 - 13º (décimo terceiro) Salário, Férias e Adicional de Férias
A21: 2.2 | B21: 13º (décimo terceiro) Salário, Férias e Adicional de Férias | C21: Percentual (%) | D21: Valor (R$) | E21: Fundamentação Legal
A22: A | B22: 13º (décimo terceiro) Salário | C22: 0.0833 | D22: =ROUND(D13*C22,2) -> 445.66 | E22: Lei 4090/62 Inciso VIII Art. 7 CF 88
A23: B | B23: Férias e Adicional de Férias | C23: 0.1111 | D23: =ROUND(D13*C23,2) -> 594.39 | E23: Artigo 7, Inciso XVII CF/88 e Súmula 328/TST
A24: SUBTOTAL | C24: =SUM(C22:C23) -> 0.1944 | D24: =SUM(D22:D23) -> 1040.05
A25: C | B25: Incidência do submódulo 2.2 sobre o submódulo 2.1 | C25: =(C24*C40) -> 0.0657072 | D25: =ROUND(D24*C25,2) -> 68.34
A26: Total | C26: =SUM(C24:C25) -> 0.2601072 | D26: =SUM(D24:D25) -> 1108.39
A29: Submódulo 2.2 - Encargos Previdenciários (GPS), Fundo de Garantia por Tempo de Serviço (FGTS) e outras contribuições.
A31: 2.3 | B31: GPS, FGTS e outras contribuições | C31: Percentual (%) | D31: Valor (R$) | E31: Fundamentação Legal
A32: D | B32: INSS | C32: 0.2 | D32: =ROUND(D13*C32,2) -> 1070 | E32: Art. 22, Inciso I, da Lei 8.212/91
A33: E | B33: Salário Educação | C33: 0.025 | D33: =ROUND(D13*C33,2) -> 133.75 | E33: Artigo 3º Inciso I Decreto 87.043/82
A34: F | B34: RAT/FAP | C34: =Base!G2 -> 0 | D34: =ROUND(D13*C34,2) -> 0 | E34: Decreto 6.042/2007, Lei 10.666/2003 (Apresentar memória de cálculo do RAT/FAP)
A35: G | B35: SESC ou SESI | C35: 0.015 | D35: =ROUND(D13*C35,2) -> 80.25 | E35: Artigo 30 da Lei nº 8.036/90
A36: H | B36: SENAI - SENAC | C36: 0.01 | D36: =ROUND(D13*C36,2) -> 53.5 | E36: Decreto-Lei nº 2.318/86
A37: I | B37: SEBRAE | C37: 0.006 | D37: =ROUND(D13*C37,2) -> 32.1 | E37: Lei nº 8.029/90
A38: J | B38: INCRA | C38: 0.002 | D38: =ROUND(D13*C38,2) -> 10.7 | E38: Artigos 1º e 2º do Decreto-Lei nº 1.146/70.
A39: K | B39: FGTS | C39: 0.08 | D39: =ROUND(D13*C39,2) -> 428 | E39: Artigo 15 Lei 8036/90 e Art. 7º Inciso III CF/88
A40: Total | C40: =SUM(C32:C39) -> 0.338 | D40: =SUM(D32:D39) -> 1808.3
A43: Submódulo 2.3 - Benefícios Mensais e Diários.
A45: 2.4 | B45: Benefícios Mensais e Diários | C45: Valor (R$) | D45: Valor Total (R$) | E45: Fundamentação Legal
A46: L | B46: Vale Transporte | C46: =Base!G4 -> 6 | D46: =ROUND((C46*2*22)-(D12*0.06),2) -> -57 | E46: Lei 7.4118 (Considerar 22 dias)
A47: M | B47: Vale Refeição (Desconto) | C47: =Base!G5 -> 1090 | D47: =ROUND(((C47+(C47/12))*0.8),2) -> 944.67 | E47: Cláusula 13a da CCT (no cálculo já foi considerado o valor do vale nas férias)
A48: N | B48: Benefício Social Odontológico | D48: =Base!G6 -> 0 | E48: Cláusula 15a da CCT
A49: O | B49: Benefício Social Familiar | D49: =Base!G7 -> 0 | E49: Cláusula 16a da CCT
A50: P | B50: Fundo de Qualificação Profissional | D50: =Base!G8 -> 0 | E50: Cláusula 23a da CCT
A51: Q | B51: Assistência à Saúde | D51: =Base!G9 -> 0 | E51: Cláusula 15a da CCT
A52: R | B52: Seguro de vida | D52: =Base!G10 -> 0 | E52: Cláusula 6a, Parágrafo 2º da CCT
A53: S | B53: Custos dos exames admssional, períodicos e demissionais | D53: =Base!G11 -> 0
A54: T | B54: Crédito de PIS/COFINS 9,25% (quando existir para lucro real) | C54: =IF(K116+9.25%,-9.25%,0) -> -0.0925 | D54: =ROUND(C54*(D46+D47+D52+D51),2) -> -82.11
A55: Total | D55: =SUM(D46:D54) -> 805.56
A58: Quadro-Resumo do Módulo 2 - Encargos e Benefícios anuais, mensais e diários
...

Sheet 5
A1: Base
B3: Mão de Obra
B5: Cargo | C5: =Base!B6 -> Analista 1
B6: Salário | C6: =Base!C6 -> 6000
A9: Módulo 1 - Composição da Remuneração
A11: 1 | B11: Composição da Remuneração | C11: Valor (R$) | D11: Valor (R$) | E11: Fundamentação Legal
A12: A | B12: Salário-Base | D12: =C6 -> 6000 | E12: Salário normativo da categoria de acorodo com a CCT
A13: Total | D13: =SUM(D12:D12) -> 6000
A16: Módulo 2 - Encargos e Benefícios Anuais, Mensais e Diários
A19: Submódulo 2.1 - 13º (décimo terceiro) Salário, Férias e Adicional de Férias
A21: 2.2 | B21: 13º (décimo terceiro) Salário, Férias e Adicional de Férias | C21: Percentual (%) | D21: Valor (R$) | E21: Fundamentação Legal
A22: A | B22: 13º (décimo terceiro) Salário | C22: 0.0833 | D22: =ROUND(D13*C22,2) -> 499.8 | E22: Lei 4090/62 Inciso VIII Art. 7 CF 88
A23: B | B23: Férias e Adicional de Férias | C23: 0.1111 | D23: =ROUND(D13*C23,2) -> 666.6 | E23: Artigo 7, Inciso XVII CF/88 e Súmula 328/TST
A24: SUBTOTAL | C24: =SUM(C22:C23) -> 0.1944 | D24: =SUM(D22:D23) -> 1166.4
A25: C | B25: Incidência do submódulo 2.2 sobre o submódulo 2.1 | C25: =(C24*C40) -> 0.0657072 | D25: =ROUND(D24*C25,2) -> 76.64
A26: Total | C26: =SUM(C24:C25) -> 0.2601072 | D26: =SUM(D24:D25) -> 1243.04
A29: Submódulo 2.2 - Encargos Previdenciários (GPS), Fundo de Garantia por Tempo de Serviço (FGTS) e outras contribuições.
A31: 2.3 | B31: GPS, FGTS e outras contribuições | C31: Percentual (%) | D31: Valor (R$) | E31: Fundamentação Legal
A32: D | B32: INSS | C32: 0.2 | D32: =ROUND(D13*C32,2) -> 1200 | E32: Art. 22, Inciso I, da Lei 8.212/91
A33: E | B33: Salário Educação | C33: 0.025 | D33: =ROUND(D13*C33,2) -> 150 | E33: Artigo 3º Inciso I Decreto 87.043/82
A34: F | B34: RAT/FAP | C34: =Base!G2 -> 0 | D34: =ROUND(D13*C34,2) -> 0 | E34: Decreto 6.042/2007, Lei 10.666/2003 (Apresentar memória de cálculo do RAT/FAP)
A35: G | B35: SESC ou SESI | C35: 0.015 | D35: =ROUND(D13*C35,2) -> 90 | E35: Artigo 30 da Lei nº 8.036/90
A36: H | B36: SENAI - SENAC | C36: 0.01 | D36: =ROUND(D13*C36,2) -> 60 | E36: Decreto-Lei nº 2.318/86
A37: I | B37: SEBRAE | C37: 0.006 | D37: =ROUND(D13*C37,2) -> 36 | E37: Lei nº 8.029/90
A38: J | B38: INCRA | C38: 0.002 | D38: =ROUND(D13*C38,2) -> 12 | E38: Artigos 1º e 2º do Decreto-Lei nº 1.146/70.
A39: K | B39: FGTS | C39: 0.08 | D39: =ROUND(D13*C39,2) -> 480 | E39: Artigo 15 Lei 8036/90 e Art. 7º Inciso III CF/88
A40: Total | C40: =SUM(C32:C39) -> 0.338 | D40: =SUM(D32:D39) -> 2028
A43: Submódulo 2.3 - Benefícios Mensais e Diários.
A45: 2.4 | B45: Benefícios Mensais e Diários | C45: Valor (R$) | D45: Valor Total (R$) | E45: Fundamentação Legal
A46: L | B46: Vale Transporte | C46: =Base!G4 -> 6 | D46: =ROUND((C46*2*22)-(D12*0.06),2) -> -96 | E46: Lei 7.4118 (Considerar 22 dias)
A47: M | B47: Vale Refeição (Desconto) | C47: =Base!G5 -> 1090 | D47: =ROUND(((C47+(C47/12))*0.8),2) -> 944.67 | E47: Cláusula 13a da CCT (no cálculo já foi considerado o valor do vale nas férias)
A48: N | B48: Benefício Social Odontológico | D48: =Base!G6 -> 0 | E48: Cláusula 15a da CCT
A49: O | B49: Benefício Social Familiar | D49: =Base!G7 -> 0 | E49: Cláusula 16a da CCT
A50: P | B50: Fundo de Qualificação Profissional | D50: =Base!G8 -> 0 | E50: Cláusula 23a da CCT
A51: Q | B51: Assistência à Saúde | D51: =Base!G9 -> 0 | E51: Cláusula 15a da CCT
A52: R | B52: Seguro de vida | D52: =Base!G10 -> 0 | E52: Cláusula 6a, Parágrafo 2º da CCT
A53: S | B53: Custos dos exames admssional, períodicos e demissionais | D53: =Base!G11 -> 0
A54: T | B54: Crédito de PIS/COFINS 9,25% (quando existir para lucro real) | C54: =IF(K116+9.25%,-9.25%,0) -> -0.0925 | D54: =ROUND(C54*(D46+D47+D52+D51),2) -> -78.5
A55: Total | D55: =SUM(D46:D54) -> 770.17
A58: Quadro-Resumo do Módulo 2 - Encargos e Benefícios anuais, mensais e diários
...

Sheet 6
A1: Base
B3: Mão de Obra
B5: Cargo | C5: =Base!B7 -> Analista 2
B6: Salário | C6: =Base!C7 -> 6840
A9: Módulo 1 - Composição da Remuneração
A11: 1 | B11: Composição da Remuneração | C11: Valor (R$) | D11: Valor (R$) | E11: Fundamentação Legal
A12: A | B12: Salário-Base | D12: =C6 -> 6840 | E12: Salário normativo da categoria de acorodo com a CCT
A13: Total | D13: =SUM(D12:D12) -> 6840
A16: Módulo 2 - Encargos e Benefícios Anuais, Mensais e Diários
A19: Submódulo 2.1 - 13º (décimo terceiro) Salário, Férias e Adicional de Férias
A21: 2.2 | B21: 13º (décimo terceiro) Salário, Férias e Adicional de Férias | C21: Percentual (%) | D21: Valor (R$) | E21: Fundamentação Legal
A22: A | B22: 13º (décimo terceiro) Salário | C22: 0.0833 | D22: =ROUND(D13*C22,2) -> 569.77 | E22: Lei 4090/62 Inciso VIII Art. 7 CF 88
A23: B | B23: Férias e Adicional de Férias | C23: 0.1111 | D23: =ROUND(D13*C23,2) -> 759.92 | E23: Artigo 7, Inciso XVII CF/88 e Súmula 328/TST
A24: SUBTOTAL | C24: =SUM(C22:C23) -> 0.1944 | D24: =SUM(D22:D23) -> 1329.69
A25: C | B25: Incidência do submódulo 2.2 sobre o submódulo 2.1 | C25: =(C24*C40) -> 0.0657072 | D25: =ROUND(D24*C25,2) -> 87.37
A26: Total | C26: =SUM(C24:C25) -> 0.2601072 | D26: =SUM(D24:D25) -> 1417.06
A29: Submódulo 2.2 - Encargos Previdenciários (GPS), Fundo de Garantia por Tempo de Serviço (FGTS) e outras contribuições.
A31: 2.3 | B31: GPS, FGTS e outras contribuições | C31: Percentual (%) | D31: Valor (R$) | E31: Fundamentação Legal
A32: D | B32: INSS | C32: 0.2 | D32: =ROUND(D13*C32,2) -> 1368 | E32: Art. 22, Inciso I, da Lei 8.212/91
A33: E | B33: Salário Educação | C33: 0.025 | D33: =ROUND(D13*C33,2) -> 171 | E33: Artigo 3º Inciso I Decreto 87.043/82
A34: F | B34: RAT/FAP | C34: =Base!G2 -> 0 | D34: =ROUND(D13*C34,2) -> 0 | E34: Decreto 6.042/2007, Lei 10.666/2003 (Apresentar memória de cálculo do RAT/FAP)
A35: G | B35: SESC ou SESI | C35: 0.015 | D35: =ROUND(D13*C35,2) -> 102.6 | E35: Artigo 30 da Lei nº 8.036/90
A36: H | B36: SENAI - SENAC | C36: 0.01 | D36: =ROUND(D13*C36,2) -> 68.4 | E36: Decreto-Lei nº 2.318/86
A37: I | B37: SEBRAE | C37: 0.006 | D37: =ROUND(D13*C37,2) -> 41.04 | E37: Lei nº 8.029/90
A38: J | B38: INCRA | C38: 0.002 | D38: =ROUND(D13*C38,2) -> 13.68 | E38: Artigos 1º e 2º do Decreto-Lei nº 1.146/70.
A39: K | B39: FGTS | C39: 0.08 | D39: =ROUND(D13*C39,2) -> 547.2 | E39: Artigo 15 Lei 8036/90 e Art. 7º Inciso III CF/88
A40: Total | C40: =SUM(C32:C39) -> 0.338 | D40: =SUM(D32:D39) -> 2311.92
A43: Submódulo 2.3 - Benefícios Mensais e Diários.
A45: 2.4 | B45: Benefícios Mensais e Diários | C45: Valor (R$) | D45: Valor Total (R$) | E45: Fundamentação Legal
A46: L | B46: Vale Transporte | C46: =Base!G4 -> 6 | D46: =ROUND((C46*2*22)-(D12*0.06),2) -> -146.4 | E46: Lei 7.4118 (Considerar 22 dias)
A47: M | B47: Vale Refeição (Desconto) | C47: =Base!G5 -> 1090 | D47: =ROUND(((C47+(C47/12))*0.8),2) -> 944.67 | E47: Cláusula 13a da CCT (no cálculo já foi considerado o valor do vale nas férias)
A48: N | B48: Benefício Social Odontológico | D48: =Base!G6 -> 0 | E48: Cláusula 15a da CCT
A49: O | B49: Benefício Social Familiar | D49: =Base!G7 -> 0 | E49: Cláusula 16a da CCT
A50: P | B50: Fundo de Qualificação Profissional | D50: =Base!G8 -> 0 | E50: Cláusula 23a da CCT
A51: Q | B51: Assistência à Saúde | D51: =Base!G9 -> 0 | E51: Cláusula 15a da CCT
A52: R | B52: Seguro de vida | D52: =Base!G10 -> 0 | E52: Cláusula 6a, Parágrafo 2º da CCT
A53: S | B53: Custos dos exames admssional, períodicos e demissionais | D53: =Base!G11 -> 0
A54: T | B54: Crédito de PIS/COFINS 9,25% (quando existir para lucro real) | C54: =IF(K116+9.25%,-9.25%,0) -> -0.0925 | D54: =ROUND(C54*(D46+D47+D52+D51),2) -> -73.84
A55: Total | D55: =SUM(D46:D54) -> 724.43
A58: Quadro-Resumo do Módulo 2 - Encargos e Benefícios anuais, mensais e diários
...

Sheet 7
A1: Base
B3: Mão de Obra
B5: Cargo | C5: =Base!B8 -> Analista 3
B6: Salário | C6: =Base!C8 -> 7500
A9: Módulo 1 - Composição da Remuneração
A11: 1 | B11: Composição da Remuneração | C11: Valor (R$) | D11: Valor (R$) | E11: Fundamentação Legal
A12: A | B12: Salário-Base | D12: =C6 -> 7500 | E12: Salário normativo da categoria de acorodo com a CCT
A13: Total | D13: =SUM(D12:D12) -> 7500
A16: Módulo 2 - Encargos e Benefícios Anuais, Mensais e Diários
A19: Submódulo 2.1 - 13º (décimo terceiro) Salário, Férias e Adicional de Férias
A21: 2.2 | B21: 13º (décimo terceiro) Salário, Férias e Adicional de Férias | C21: Percentual (%) | D21: Valor (R$) | E21: Fundamentação Legal
A22: A | B22: 13º (décimo terceiro) Salário | C22: 0.0833 | D22: =ROUND(D13*C22,2) -> 624.75 | E22: Lei 4090/62 Inciso VIII Art. 7 CF 88
A23: B | B23: Férias e Adicional de Férias | C23: 0.1111 | D23: =ROUND(D13*C23,2) -> 833.25 | E23: Artigo 7, Inciso XVII CF/88 e Súmula 328/TST
A24: SUBTOTAL | C24: =SUM(C22:C23) -> 0.1944 | D24: =SUM(D22:D23) -> 1458
A25: C | B25: Incidência do submódulo 2.2 sobre o submódulo 2.1 | C25: =(C24*C40) -> 0.0657072 | D25: =ROUND(D24*C25,2) -> 95.8
A26: Total | C26: =SUM(C24:C25) -> 0.2601072 | D26: =SUM(D24:D25) -> 1553.8
A29: Submódulo 2.2 - Encargos Previdenciários (GPS), Fundo de Garantia por Tempo de Serviço (FGTS) e outras contribuições.
A31: 2.3 | B31: GPS, FGTS e outras contribuições | C31: Percentual (%) | D31: Valor (R$) | E31: Fundamentação Legal
A32: D | B32: INSS | C32: 0.2 | D32: =ROUND(D13*C32,2) -> 1500 | E32: Art. 22, Inciso I, da Lei 8.212/91
A33: E | B33: Salário Educação | C33: 0.025 | D33: =ROUND(D13*C33,2) -> 187.5 | E33: Artigo 3º Inciso I Decreto 87.043/82
A34: F | B34: RAT/FAP | C34: =Base!G2 -> 0 | D34: =ROUND(D13*C34,2) -> 0 | E34: Decreto 6.042/2007, Lei 10.666/2003 (Apresentar memória de cálculo do RAT/FAP)
A35: G | B35: SESC ou SESI | C35: 0.015 | D35: =ROUND(D13*C35,2) -> 112.5 | E35: Artigo 30 da Lei nº 8.036/90
A36: H | B36: SENAI - SENAC | C36: 0.01 | D36: =ROUND(D13*C36,2) -> 75 | E36: Decreto-Lei nº 2.318/86
A37: I | B37: SEBRAE | C37: 0.006 | D37: =ROUND(D13*C37,2) -> 45 | E37: Lei nº 8.029/90
A38: J | B38: INCRA | C38: 0.002 | D38: =ROUND(D13*C38,2) -> 15 | E38: Artigos 1º e 2º do Decreto-Lei nº 1.146/70.
A39: K | B39: FGTS | C39: 0.08 | D39: =ROUND(D13*C39,2) -> 600 | E39: Artigo 15 Lei 8036/90 e Art. 7º Inciso III CF/88
A40: Total | C40: =SUM(C32:C39) -> 0.338 | D40: =SUM(D32:D39) -> 2535
A43: Submódulo 2.3 - Benefícios Mensais e Diários.
A45: 2.4 | B45: Benefícios Mensais e Diários | C45: Valor (R$) | D45: Valor Total (R$) | E45: Fundamentação Legal
A46: L | B46: Vale Transporte | C46: =Base!G4 -> 6 | D46: =ROUND((C46*2*22)-(D12*0.06),2) -> -186 | E46: Lei 7.4118 (Considerar 22 dias)
A47: M | B47: Vale Refeição (Desconto) | C47: =Base!G5 -> 1090 | D47: =ROUND(((C47+(C47/12))*0.8),2) -> 944.67 | E47: Cláusula 13a da CCT (no cálculo já foi considerado o valor do vale nas férias)
A48: N | B48: Benefício Social Odontológico | D48: =Base!G6 -> 0 | E48: Cláusula 15a da CCT
A49: O | B49: Benefício Social Familiar | D49: =Base!G7 -> 0 | E49: Cláusula 16a da CCT
A50: P | B50: Fundo de Qualificação Profissional | D50: =Base!G8 -> 0 | E50: Cláusula 23a da CCT
A51: Q | B51: Assistência à Saúde | D51: =Base!G9 -> 0 | E51: Cláusula 15a da CCT
A52: R | B52: Seguro de vida | D52: =Base!G10 -> 0 | E52: Cláusula 6a, Parágrafo 2º da CCT
A53: S | B53: Custos dos exames admssional, períodicos e demissionais | D53: =Base!G11 -> 0
A54: T | B54: Crédito de PIS/COFINS 9,25% (quando existir para lucro real) | C54: =IF(K116+9.25%,-9.25%,0) -> -0.0925 | D54: =ROUND(C54*(D46+D47+D52+D51),2) -> -70.18
A55: Total | D55: =SUM(D46:D54) -> 688.49
A58: Quadro-Resumo do Módulo 2 - Encargos e Benefícios anuais, mensais e diários
...

Sheet 8
A1: Base
B3: Mão de Obra
B5: Cargo | C5: =Base!B9 -> Analista 4
B6: Salário | C6: =Base!C9 -> 9350
A9: Módulo 1 - Composição da Remuneração
A11: 1 | B11: Composição da Remuneração | C11: Valor (R$) | D11: Valor (R$) | E11: Fundamentação Legal
A12: A | B12: Salário-Base | D12: =C6 -> 9350 | E12: Salário normativo da categoria de acorodo com a CCT
A13: Total | D13: =SUM(D12:D12) -> 9350
A16: Módulo 2 - Encargos e Benefícios Anuais, Mensais e Diários
A19: Submódulo 2.1 - 13º (décimo terceiro) Salário, Férias e Adicional de Férias
A21: 2.2 | B21: 13º (décimo terceiro) Salário, Férias e Adicional de Férias | C21: Percentual (%) | D21: Valor (R$) | E21: Fundamentação Legal
A22: A | B22: 13º (décimo terceiro) Salário | C22: 0.0833 | D22: =ROUND(D13*C22,2) -> 778.86 | E22: Lei 4090/62 Inciso VIII Art. 7 CF 88
A23: B | B23: Férias e Adicional de Férias | C23: 0.1111 | D23: =ROUND(D13*C23,2) -> 1038.79 | E23: Artigo 7, Inciso XVII CF/88 e Súmula 328/TST
A24: SUBTOTAL | C24: =SUM(C22:C23) -> 0.1944 | D24: =SUM(D22:D23) -> 1817.65
A25: C | B25: Incidência do submódulo 2.2 sobre o submódulo 2.1 | C25: =(C24*C40) -> 0.0657072 | D25: =ROUND(D24*C25,2) -> 119.43
A26: Total | C26: =SUM(C24:C25) -> 0.2601072 | D26: =SUM(D24:D25) -> 1937.08
A29: Submódulo 2.2 - Encargos Previdenciários (GPS), Fundo de Garantia por Tempo de Serviço (FGTS) e outras contribuições.
A31: 2.3 | B31: GPS, FGTS e outras contribuições | C31: Percentual (%) | D31: Valor (R$) | E31: Fundamentação Legal
A32: D | B32: INSS | C32: 0.2 | D32: =ROUND(D13*C32,2) -> 1870 | E32: Art. 22, Inciso I, da Lei 8.212/91
A33: E | B33: Salário Educação | C33: 0.025 | D33: =ROUND(D13*C33,2) -> 233.75 | E33: Artigo 3º Inciso I Decreto 87.043/82
A34: F | B34: RAT/FAP | C34: =Base!G2 -> 0 | D34: =ROUND(D13*C34,2) -> 0 | E34: Decreto 6.042/2007, Lei 10.666/2003 (Apresentar memória de cálculo do RAT/FAP)
A35: G | B35: SESC ou SESI | C35: 0.015 | D35: =ROUND(D13*C35,2) -> 140.25 | E35: Artigo 30 da Lei nº 8.036/90
A36: H | B36: SENAI - SENAC | C36: 0.01 | D36: =ROUND(D13*C36,2) -> 93.5 | E36: Decreto-Lei nº 2.318/86
A37: I | B37: SEBRAE | C37: 0.006 | D37: =ROUND(D13*C37,2) -> 56.1 | E37: Lei nº 8.029/90
A38: J | B38: INCRA | C38: 0.002 | D38: =ROUND(D13*C38,2) -> 18.7 | E38: Artigos 1º e 2º do Decreto-Lei nº 1.146/70.
A39: K | B39: FGTS | C39: 0.08 | D39: =ROUND(D13*C39,2) -> 748 | E39: Artigo 15 Lei 8036/90 e Art. 7º Inciso III CF/88
A40: Total | C40: =SUM(C32:C39) -> 0.338 | D40: =SUM(D32:D39) -> 3160.3
A43: Submódulo 2.3 - Benefícios Mensais e Diários.
A45: 2.4 | B45: Benefícios Mensais e Diários | C45: Valor (R$) | D45: Valor Total (R$) | E45: Fundamentação Legal
A46: L | B46: Vale Transporte | C46: =Base!G4 -> 6 | D46: =ROUND((C46*2*22)-(D12*0.06),2) -> -297 | E46: Lei 7.4118 (Considerar 22 dias)
A47: M | B47: Vale Refeição (Desconto) | C47: =Base!G9 -> 0 | D47: =ROUND(((C47+(C47/12))*0.8),2) -> 0 | E47: Cláusula 13a da CCT (no cálculo já foi considerado o valor do vale nas férias)
A48: N | B48: Benefício Social Odontológico | D48: =Base!G6 -> 0 | E48: Cláusula 15a da CCT
A49: O | B49: Benefício Social Familiar | D49: =Base!G7 -> 0 | E49: Cláusula 16a da CCT
A50: P | B50: Fundo de Qualificação Profissional | D50: =Base!G8 -> 0 | E50: Cláusula 23a da CCT
A51: Q | B51: Assistência à Saúde | D51: =Base!G9 -> 0 | E51: Cláusula 15a da CCT
A52: R | B52: Seguro de vida | D52: =Base!G10 -> 0 | E52: Cláusula 6a, Parágrafo 2º da CCT
A53: S | B53: Custos dos exames admssional, períodicos e demissionais | D53: =Base!G11 -> 0
A54: T | B54: Crédito de PIS/COFINS 9,25% (quando existir para lucro real) | C54: =IF(K116+9.25%,-9.25%,0) -> -0.0925 | D54: =ROUND(C54*(D46+D47+D52+D51),2) -> 27.47
A55: Total | D55: =SUM(D46:D54) -> -269.53
A58: Quadro-Resumo do Módulo 2 - Encargos e Benefícios anuais, mensais e diários
...

Sheet 9
B3: Mão de Obra
B5: Cargo | C5: =Base!B10 -> Motorista
B6: Salário | C6: =Base!C10 -> 4350
A9: Módulo 1 - Composição da Remuneração
A11: 1 | B11: Composição da Remuneração | C11: Valor (R$) | D11: Valor (R$) | E11: Fundamentação Legal
A12: A | B12: Salário-Base | D12: =C6 -> 4350 | E12: Salário normativo da categoria de acorodo com a CCT
A13: Total | D13: =SUM(D12:D12) -> 4350
A16: Módulo 2 - Encargos e Benefícios Anuais, Mensais e Diários
A19: Submódulo 2.1 - 13º (décimo terceiro) Salário, Férias e Adicional de Férias
A21: 2.2 | B21: 13º (décimo terceiro) Salário, Férias e Adicional de Férias | C21: Percentual (%) | D21: Valor (R$) | E21: Fundamentação Legal
A22: A | B22: 13º (décimo terceiro) Salário | C22: 0.0833 | D22: =ROUND(D13*C22,2) -> 362.36 | E22: Lei 4090/62 Inciso VIII Art. 7 CF 88
A23: B | B23: Férias e Adicional de Férias | C23: 0.1111 | D23: =ROUND(D13*C23,2) -> 483.29 | E23: Artigo 7, Inciso XVII CF/88 e Súmula 328/TST
A24: SUBTOTAL | C24: =SUM(C22:C23) -> 0.1944 | D24: =SUM(D22:D23) -> 845.65
A25: C | B25: Incidência do submódulo 2.2 sobre o submódulo 2.1 | C25: =(C24*C40) -> 0.0657072 | D25: =ROUND(D24*C25,2) -> 55.57
A26: Total | C26: =SUM(C24:C25) -> 0.2601072 | D26: =SUM(D24:D25) -> 901.22
A29: Submódulo 2.2 - Encargos Previdenciários (GPS), Fundo de Garantia por Tempo de Serviço (FGTS) e outras contribuições.
A31: 2.3 | B31: GPS, FGTS e outras contribuições | C31: Percentual (%) | D31: Valor (R$) | E31: Fundamentação Legal
A32: D | B32: INSS | C32: 0.2 | D32: =ROUND(D13*C32,2) -> 870 | E32: Art. 22, Inciso I, da Lei 8.212/91
A33: E | B33: Salário Educação | C33: 0.025 | D33: =ROUND(D13*C33,2) -> 108.75 | E33: Artigo 3º Inciso I Decreto 87.043/82
A34: F | B34: RAT/FAP | C34: =Base!G2 -> 0 | D34: =ROUND(D13*C34,2) -> 0 | E34: Decreto 6.042/2007, Lei 10.666/2003 (Apresentar memória de cálculo do RAT/FAP)
A35: G | B35: SESC ou SESI | C35: 0.015 | D35: =ROUND(D13*C35,2) -> 65.25 | E35: Artigo 30 da Lei nº 8.036/90
A36: H | B36: SENAI - SENAC | C36: 0.01 | D36: =ROUND(D13*C36,2) -> 43.5 | E36: Decreto-Lei nº 2.318/86
A37: I | B37: SEBRAE | C37: 0.006 | D37: =ROUND(D13*C37,2) -> 26.1 | E37: Lei nº 8.029/90
A38: J | B38: INCRA | C38: 0.002 | D38: =ROUND(D13*C38,2) -> 8.7 | E38: Artigos 1º e 2º do Decreto-Lei nº 1.146/70.
A39: K | B39: FGTS | C39: 0.08 | D39: =ROUND(D13*C39,2) -> 348 | E39: Artigo 15 Lei 8036/90 e Art. 7º Inciso III CF/88
A40: Total | C40: =SUM(C32:C39) -> 0.338 | D40: =SUM(D32:D39) -> 1470.3
A43: Submódulo 2.3 - Benefícios Mensais e Diários.
A45: 2.4 | B45: Benefícios Mensais e Diários | C45: Valor (R$) | D45: Valor Total (R$) | E45: Fundamentação Legal
A46: L | B46: Vale Transporte | C46: =Base!G4 -> 6 | D46: =ROUND((C46*2*22)-(D12*0.06),2) -> 3 | E46: Lei 7.4118 (Considerar 22 dias)
A47: M | B47: Vale Refeição (Desconto) | C47: =Base!G5 -> 1090 | D47: =ROUND(((C47+(C47/12))*0.8),2) -> 944.67 | E47: Cláusula 13a da CCT (no cálculo já foi considerado o valor do vale nas férias)
A48: N | B48: Benefício Social Odontológico | D48: =Base!G6 -> 0 | E48: Cláusula 15a da CCT
A49: O | B49: Benefício Social Familiar | D49: =Base!G7 -> 0 | E49: Cláusula 16a da CCT
A50: P | B50: Fundo de Qualificação Profissional | D50: =Base!G8 -> 0 | E50: Cláusula 23a da CCT
A51: Q | B51: Assistência à Saúde | D51: =Base!G9 -> 0 | E51: Cláusula 15a da CCT
A52: R | B52: Seguro de vida | D52: =Base!G10 -> 0 | E52: Cláusula 6a, Parágrafo 2º da CCT
A53: S | B53: Custos dos exames admssional, períodicos e demissionais | D53: =Base!G11 -> 0
A54: T | B54: Crédito de PIS/COFINS 9,25% (quando existir para lucro real) | C54: =IF(K116+9.25%,-9.25%,0) -> -0.0925 | D54: =ROUND(C54*(D46+D47+D52+D51),2) -> -87.66
A55: Total | D55: =SUM(D46:D54) -> 860.01
A58: Quadro-Resumo do Módulo 2 - Encargos e Benefícios anuais, mensais e diários
A60: 2 | B60: Encargos e Benefícios Anuais, Mensais e Diários | C60: Percentual (%) | D60: Valor (R$)
...
