Workbook
Name ____xlnm.Print_Area_2: #REF!
Name ____xlnm.Print_Area_3: #REF!
Name ____xlnm.Print_Area_3_1: #REF!
Name ____xlnm.Print_Titles_2: #REF!
Name ____xlnm.Print_Titles_3: #REF!
Name ___xlnm.Print_Area_2: #REF!
Name ___xlnm.Print_Area_3: #REF!
Name ___xlnm.Print_Area_3_1: #REF!
Name ___xlnm.Print_Titles_2: #REF!
Name ___xlnm.Print_Titles_3: #REF!
Name __Anonymous_Sheet_DB__0: 'CURVA ABC'!$B$11:$L$19
Name __Anonymous_Sheet_DB__0: PLANILHA_SINTÉTICA!$B$9:$L$441
Name __xlnm.Print_Area_1: INSUMOS!$A$1:$D$6
Name __xlnm.Print_Area_2: #REF!
Name __xlnm.Print_Area_2: #REF!
Name __xlnm.Print_Area_2: #REF!
Name __xlnm.Print_Area_2: #REF!
Name __xlnm.Print_Area_3: #REF!
Name __xlnm.Print_Area_3: #REF!
Name __xlnm.Print_Area_3: #REF!
Name __xlnm.Print_Area_3: #REF!
Name __xlnm.Print_Area_3_1: #REF!
Name __xlnm.Print_Area_3_1: #REF!
Name __xlnm.Print_Area_3_1: #REF!
Name __xlnm.Print_Titles_1: INSUMOS!$1:$2
Name __xlnm.Print_Titles_2: #REF!
Name __xlnm.Print_Titles_2: #REF!
Name __xlnm.Print_Titles_2: #REF!
Name __xlnm.Print_Titles_2: #REF!
Name __xlnm.Print_Titles_3: #REF!
Name __xlnm.Print_Titles_3: #REF!
Name __xlnm.Print_Titles_3: #REF!
Name __xlnm.Print_Titles_3: #REF!
Name _R10P: #REF!
Name _R10P: #REF!
Name _R10P: #REF!
Name _R10P: #REF!
Name _R10P: #REF!
Name _R10R: #REF!
Name _R10R: #REF!
Name _R10R: #REF!
Name _R10R: #REF!
Name _R10R: #REF!
Name _R11P: #REF!
Name _R11P: #REF!
Name _R11P: #REF!
Name _R11P: #REF!
Name _R11P: #REF!
Name _R11R: #REF!
Name _R11R: #REF!
Name _R11R: #REF!
Name _R11R: #REF!
Name _R11R: #REF!
Name _R12P: #REF!
Name _R12P: #REF!
Name _R12P: #REF!
Name _R12P: #REF!
Name _R12P: #REF!
Name _R12R: #REF!
Name _R12R: #REF!

Sheet DADOS
U2: ABATIÁ
U3: ADRIANÓPOLIS
U4: AGUDOS DO SUL
U5: ALMIRANTE TAMANDARÉ
U6: ALTAMIRA DO PARANÁ
U7: ALTO PARAÍSO
U8: ALTO PARANÁ
U9: ALTO PIQUIRI
B10: Identificação da Obra: | U10: ALTÔNIA
U11: ALVORADA DO SUL
B12: Objeto | D12: AMPLIÇÃO E REGULARIZAÇÃO DE UNIDADE MISTA DE SAÚDE | K12: Órgão | M12: SESA | U12: ALVORADA DO SUL
U13: AMAPORÃ
B14: Endereço | D14: RUA JOÃO FALAVIGNA, Nº171, QUADRA 13 LOTE 10 E 11 | U14: AMPÉRE
U15: ANAHY
B16: Município | D16: FLORAÍ | H16: Preço Máximo | M16: =IF('FOLHA FECHAMENTO'!G27<>" ",'FOLHA FECHAMENTO'!G27," ") -> 4620181.9 | U16: ANDIRÁ
U17: ÂNGULO
B18: Área Construída | D18: 1168.85 | H18: R$ / m² | M18: =IF(D18<>"",M16/D18," ") -> 3952.7586 | U18: ANTONINA
U19: ANTÔNIO OLINTO
B20: Data | D20: =TODAY() -> 46164 | U20: APUCARANA
U21: ARAPONGAS
B22: Identificação do Orçamentista: | U22: ARAPOTI
U23: ARAPUÃ
B24: Nome Completo | D24: ELSON HENRIQUE CAMPOS BENTO | U24: ARARUNA
U25: ARAUCÁRIA
B26: Profissão | D26: ARQUITETO E URBANISTA | U26: ARIRANHA DO IVAÍ
U27: ASSAÍ
B28: CREA / CAU N° | D28: A95.934-0 | U28: ASSIS CHATEAUBRIAND
U29: ASTORGA
B30: ART / RRT N° | D30: 15833094 | U30: ATALAIA
U31: BALSA NOVA
B32: Empresa | D32: APOIO ARQUITETURA EM PROJETOS | U32: BANDEIRANTES
U33: BARBOSA FERRAZ
B34: Telefone | D34: (44) 3639-4057 | U34: BARRACÃO
U35: BELA VISTA DA CAROBA
B36: E-mail | D36: apoioarquiteturaeengenharia@hotmail.com | U36: BITURUNA
U37: BOA ESPERANÇA
B38: Check-list da Documentação | U38: BOA ESPERANÇA DO IGUAÇU
U39: BOA VENTURA DE SÃO ROQUE
B40: Documento | H40: SIM | K40: NÃO | U40: BOA VISTA DA APARECIDA
U41: BOCAIÚVA DO SUL
...

Sheet FOLHA FECHAMENTO
O2: AMPLIAÇÃO
O3: CONSTRUÇÃO
O4: FABRICAÇÃO
O5: RECUPERAÇÃO
O6: REFORMA
O7: REPAROS
O8: CONSERVAÇÃO
A9: FOLHA RESUMO PARA FECHAMENTO DE ORÇAMENTO | K9: DATA: | L9: =IF(DADOS!D20<>"",DADOS!D20," ") -> 46164 | O9: DEMOLIÇÃO
A10: PRÓPRIO: | C10: =IF(DADOS!$D$12<>"",DADOS!$D$12," ") -> AMPLIÇÃO E REGULARIZAÇÃO DE UNIDADE MISTA DE SAÚDE | J10: TIPO DE OBRA/SERVIÇO: | K10: AMPLIAÇÃO | O10: INSTALAÇÃO
A11: ENDEREÇO: | C11: =IF(DADOS!D14<>"",DADOS!D14," ") -> RUA JOÃO FALAVIGNA, Nº171, QUADRA 13 LOTE 10 E 11 | J11: MUNICÍPIO: | K11: =IF(DADOS!$D$16<>"",DADOS!$D$16," ") -> FLORAÍ | O11: MANUTENÇÃO
A12: ORGÃO: | C12: =IF(DADOS!M12<>"",DADOS!M12," ") -> SESA | J12: PROTOCOLO: | K12: 25.677.165-9 | O12: MONTAGEM
O13: OPERAÇÃO
O14: AMPLIAÇÃO
A15: Nº LEVANTº: | F15: ORGANIZADO POR: | G15: =G16 -> ELSON HENRIQUE CAMPOS BENTO | O15: CONSERTO
F16: RESPONSÁVEL TÉCNICO: | G16: =IF(DADOS!D24<>"",DADOS!D24," ") -> ELSON HENRIQUE CAMPOS BENTO | K16: CREA / CAU: | L16: =IF(DADOS!D28<>"",DADOS!D28," ") -> A95.934-0
F17: NÚCLEO REGIONAL DAS CIDADES | G17: MARINGÁ | K17: ART / RRT N°: | L17: =IF(DADOS!D30<>"",DADOS!D30," ") -> 15833094 | O17: CAMPO MOURÃO
A18: OBSERVAÇÃO: | O18: CASCAVEL
O19: CURITIBA
O20: GUARAPUAVA
O21: LONDRINA
O22: MARINGÁ
E23: Custo total da obra: | F23: R$ | G23: =RESUMO!H49 -> 3873976.8 | O23: PATO BRANCO
O24: PONTA GROSSA
C25: BDI (%)= | D25: =BDI!$D$26 -> 0.21915079 | F25: R$ | G25: 1230690.1 | O25: SANTO ANTÔNIO DA PLATINA
O26: UMUARAMA
E27: Valor total da obra com BDI : | F27: R$ | G27: =RESUMO!I49 -> 4620181.9 | O27: UNIÃO DA VITÓRIA
E31: Prazo de execução : | F31: 540 | G31: DIAS CORRIDOS
E34: Relatório MAT+MO : | F34: MATERIAL = | H34: =IF(RESUMO!F50<>"",RESUMO!F50," ") -> 0.68847484
F36: MÃO-DE-OBRA = | H36: =IF(H34=0,"",1-H34) -> 0.31152516
A40: Referencial utilizado: | G40: SINAPI FEVEREIRO DE 2025 - NÃO DESONERADA
A42: Data-base: | G42: Vigência: SECID - MARÇO DE 2025
G44: Resolução SECID N° 027/2025
B54: _________________________ | G54: _______________________ | I54: __________________________
A55: =IF(DADOS!D24<>"",DADOS!D24,"") -> ELSON HENRIQUE CAMPOS BENTO
B56: Responsável Técnico | G56: Resp. Aprovação | I56: Gerente
B57: Carimbo e Assinatura | G57: Carimbo e Assinatura | I57: Carimbo e Assinatura

Sheet BDI
C7: PRÓPRIO: | D7: =IF(DADOS!$D$12<>"",DADOS!$D$12," ") -> AMPLIÇÃO E REGULARIZAÇÃO DE UNIDADE MISTA DE SAÚDE
C8: PRAZO DE OBRA: | D8: =IF('FOLHA FECHAMENTO'!F31<>"",'FOLHA FECHAMENTO'!F31," ") -> 540 | E8: DIAS CORRIDOS
C9: COMPOSIÇÃO DE BDI PARA EDIFICAÇÕES NÃO DESONERADA | H9: Vigência: 01/12/2015
A11: CUSTO TOTAL DO SERVIÇO (R$): | I11: ='FOLHA FECHAMENTO'!$G$23 -> 3873976.8
A12: ITEM | B12: DISCRIMINAÇÃO | C12: VALOR (R$) | D12: TAXA (%) | E12: OBSERVAÇÃO | F12: SITUAÇÃO DO INTERVALO ADMISSIVEL | G12: PARCELAS DO BDI (%)
G13: 1 Quartil | H13: Médio | I13: 3 Quartil
A14: 1 | B14: AC - ADMINISTRAÇÃO CENTRAL | C14: =D14*$I$11 -> 116219.3 | D14: 0.03 | F14: =IF(AND(D14>=G14,D14<=I14),"OK","DIFERE") -> OK | G14: 0.03 | H14: 0.04 | I14: 0.055 | J14: AC | K14: ADMINISTRAÇÃO CENTRAL
A15: 2 | B15: SG - SEGUROS + GARANTIA | C15: =D15*$I$11 -> 30991.814 | D15: 0.008 | F15: =IF(AND(D15>=G15,D15<=I15),"OK","DIFERE") -> OK | G15: 0.008 | H15: 0.008 | I15: 0.01 | J15: SG | K15: SEGUROS + GARANTIA
A16: 3 | B16: R - RISCOS | C16: =D16*$I$11 -> 49199.505 | D16: 0.0127 | F16: =IF(AND(D16>=G16,D16<=I16),"OK","DIFERE") -> OK | G16: 0.0097 | H16: 0.0127 | I16: 0.0127 | J16: R | K16: RISCOS
A17: 4 | B17: DF - DESPESAS FINANCEIRAS | C17: =D17*($I$11+C14+C15+C16) -> 50065.765 | D17: 0.0123 | F17: =IF(AND(D17>=G17,D17<=I17),"OK","DIFERE") -> OK | G17: 0.0059 | H17: 0.0123 | I17: 0.0139 | J17: DF | K17: DESPESAS FINANCEIRAS
A18: 5 | B18: L - LUCRO BRUTO | C18: =D18*($I$11+C14+C15+C16+C17) -> 288431.72 | D18: 0.07 | F18: =IF(AND(D18>=G18,D18<=I18),"OK","DIFERE") -> OK | G18: 0.0616 | H18: 0.074 | I18: 0.0896 | J18: L | K18: LUCRO BRUTO
A19: 6 | B19: I - IMPOSTOS | C19: =D19*$I$11*(1+D26) -> 314076.96 | D19: =SUM(D20:D23) -> 0.0665 | J19: I | K19: IMPOSTOS
A20: 6.1 | B20: PIS | D20: 0.0065
A21: 6.2 | B21: COFINS | D21: 0.03
A22: 6.3 | B22: ISS (CONFORME LEGISLAÇÃO MUNICIPAL) | D22: 0.03
A23: 6.4 | B23: CONTRIB.PREV. SOBRE REC. BRUTA - CPRB | D23: 0
A24: TOTAL DO BDI (R$) | C24: =SUM(C14:C19) -> 848985.07 | F24: Parâmetros do Acórdão 2.622/2013 - Plenário
A25: PREÇO DE VENDA (R$) | C25: =C24+I11 -> 4722961.9 | F25: Sem CPRB | G25: 0.2034 | H25: 0.2212 | I25: 0.25
A26: BDI (%) | D26: =(((1+$D14+$D15+$D16)*(1+$D17)*(1+$D18)/(1-$D19)))-1 -> 0.21915079 | E26: =IF(AND($D26>=$G26,$D26<=$I26),"OK","DIFERE") -> OK | F26: Com CPRB | G26: =((G25+1)*(1-E29))/((1-E29)-D23)-1 -> 0.2034 | H26: =((H25+1)*(1-E29))/((1-E29)-D23)-1 -> 0.2212 | I26: =((I25+1)*(1-E29))/((1-E29)-D23)-1 -> 0.25
F28: Equação Acordão TCU 2.622/2013 - Plenário
A32: Onde:
A33: AC: taxa de administração central;
A34: S: taxa de seguros;
A35: G: taxa de garantias;
A36: R: taxa de riscos;
A37: DF: taxa de despesas financeiras;
A38: L: taxa de lucro/remuneração;
A39: I: taxa de incidência de impostos (PIS, COFINS, ISS, CPRB).
F40: =IF(DADOS!$D$24<>"",DADOS!$D$24," ") -> ELSON HENRIQUE CAMPOS BENTO
F41: Responsável Técnico
F42: Carimbo e Assinatura

Sheet RESUMO
C7: ENDEREÇO: | D7: =IF(DADOS!D14<>"",DADOS!D14," ") -> RUA JOÃO FALAVIGNA, Nº171, QUADRA 13 LOTE 10 E 11 | G7: DATA: | H7: =IF(DADOS!$D$20<>"",DADOS!$D$20," ") -> 46164
C8: MUNICÍPIO: | D8: =IF(DADOS!$D$16<>"",DADOS!$D$16," ") -> FLORAÍ | G8: TIPO DE OBRA/SERVIÇO: | H8: =IF('FOLHA FECHAMENTO'!K10<>"",'FOLHA FECHAMENTO'!K10," ") -> AMPLIAÇÃO
C9: OBRA: | D9: =IF(DADOS!D12<>"",DADOS!D12," ") -> AMPLIÇÃO E REGULARIZAÇÃO DE UNIDADE MISTA DE SAÚDE | G9: RESP. TÉCNICO: | H9: =IF(DADOS!$D$24<>"",DADOS!$D$24," ") -> ELSON HENRIQUE CAMPOS BENTO
C10: ÓRGÃO PROP.: | D10: =IF(DADOS!M12<>"",DADOS!M12," ") -> SESA | G10: BDI: | H10: =IF(BDI!D26<>"",BDI!D26," ") -> 0.21915079
B12: ITEM | C12: DESCRIÇÃO | F12: SEM BDI | I12: TOTAL COM BDI | J12: %
F13: MATERIAL | G13: MÃO DE OBRA | H13: TOTAL
B14: 1 | C14: =IF($B14<>"",VLOOKUP($B14,PLANILHA_SINTÉTICA!$A:$L,3,0),"") -> ADMINISTRAÇÃO LOCAL | F14: =IF($B14<>"",VLOOKUP($B14,PLANILHA_SINTÉTICA!$A:$L,9,0),"") -> 7876.79 | G14: =IF($B14<>"",VLOOKUP($B14,PLANILHA_SINTÉTICA!$A:$L,10,0),"") -> 237081.6 | H14: =IF($B14<>"",VLOOKUP($B14,PLANILHA_SINTÉTICA!$A:$L,12,0),"") -> 244958.39 | I14: =IF($B14<>"",(1+$H$10)*$H14," ") -> 298641.21 | J14: =IF($B14<>"",IF(OR($B14="",H14=0),0,$I14/$I$49),"") -> 0.064638411
B15: 2 | C15: =IF($B15<>"",VLOOKUP($B15,PLANILHA_SINTÉTICA!$A:$L,3,0),"") -> SERVIÇOS PRELIMINARES | F15: =IF($B15<>"",VLOOKUP($B15,PLANILHA_SINTÉTICA!$A:$L,9,0),"") -> 54728.89 | G15: =IF($B15<>"",VLOOKUP($B15,PLANILHA_SINTÉTICA!$A:$L,10,0),"") -> 46390.35 | H15: =IF($B15<>"",VLOOKUP($B15,PLANILHA_SINTÉTICA!$A:$L,12,0),"") -> 101119.24 | I15: =IF($B15<>"",(1+$H$10)*$H15," ") -> 123279.6 | J15: =IF($B15<>"",IF(OR($B15="",H15=0),0,$I15/$I$49),"") -> 0.026682846
B16: 3 | C16: =IF($B16<>"",VLOOKUP($B16,PLANILHA_SINTÉTICA!$A:$L,3,0),"") -> EXECUÇÃO E COMPACTAÇÃO DE ATERRO | F16: =IF($B16<>"",VLOOKUP($B16,PLANILHA_SINTÉTICA!$A:$L,9,0),"") -> 2958.19 | G16: =IF($B16<>"",VLOOKUP($B16,PLANILHA_SINTÉTICA!$A:$L,10,0),"") -> 491.06 | H16: =IF($B16<>"",VLOOKUP($B16,PLANILHA_SINTÉTICA!$A:$L,12,0),"") -> 3449.25 | I16: =IF($B16<>"",(1+$H$10)*$H16," ") -> 4205.1559 | J16: =IF($B16<>"",IF(OR($B16="",H16=0),0,$I16/$I$49),"") -> 0.00091017106
B17: 4 | C17: =IF($B17<>"",VLOOKUP($B17,PLANILHA_SINTÉTICA!$A:$L,3,0),"") -> FUNDAÇÕES | F17: =IF($B17<>"",VLOOKUP($B17,PLANILHA_SINTÉTICA!$A:$L,9,0),"") -> 96874.98 | G17: =IF($B17<>"",VLOOKUP($B17,PLANILHA_SINTÉTICA!$A:$L,10,0),"") -> 31614.54 | H17: =IF($B17<>"",VLOOKUP($B17,PLANILHA_SINTÉTICA!$A:$L,12,0),"") -> 128489.52 | I17: =IF($B17<>"",(1+$H$10)*$H17," ") -> 156648.1 | J17: =IF($B17<>"",IF(OR($B17="",H17=0),0,$I17/$I$49),"") -> 0.03390518
B18: 5 | C18: =IF($B18<>"",VLOOKUP($B18,PLANILHA_SINTÉTICA!$A:$L,3,0),"") -> SUPERESTRUTURA | F18: =IF($B18<>"",VLOOKUP($B18,PLANILHA_SINTÉTICA!$A:$L,9,0),"") -> 99437.22 | G18: =IF($B18<>"",VLOOKUP($B18,PLANILHA_SINTÉTICA!$A:$L,10,0),"") -> 32252.75 | H18: =IF($B18<>"",VLOOKUP($B18,PLANILHA_SINTÉTICA!$A:$L,12,0),"") -> 131689.97 | I18: =IF($B18<>"",(1+$H$10)*$H18," ") -> 160549.93 | J18: =IF($B18<>"",IF(OR($B18="",H18=0),0,$I18/$I$49),"") -> 0.034749699
B19: 6 | C19: =IF($B19<>"",VLOOKUP($B19,PLANILHA_SINTÉTICA!$A:$L,3,0),"") -> VERGAS E CONTRAVERGAS | F19: =IF($B19<>"",VLOOKUP($B19,PLANILHA_SINTÉTICA!$A:$L,9,0),"") -> 14083.71 | G19: =IF($B19<>"",VLOOKUP($B19,PLANILHA_SINTÉTICA!$A:$L,10,0),"") -> 7701.41 | H19: =IF($B19<>"",VLOOKUP($B19,PLANILHA_SINTÉTICA!$A:$L,12,0),"") -> 21785.12 | I19: =IF($B19<>"",(1+$H$10)*$H19," ") -> 26559.346 | J19: =IF($B19<>"",IF(OR($B19="",H19=0),0,$I19/$I$49),"") -> 0.0057485499
B20: 7 | C20: =IF($B20<>"",VLOOKUP($B20,PLANILHA_SINTÉTICA!$A:$L,3,0),"") -> ALVENARIA E DIVISÓRIAS | F20: =IF($B20<>"",VLOOKUP($B20,PLANILHA_SINTÉTICA!$A:$L,9,0),"") -> 68802.6 | G20: =IF($B20<>"",VLOOKUP($B20,PLANILHA_SINTÉTICA!$A:$L,10,0),"") -> 59421.54 | H20: =IF($B20<>"",VLOOKUP($B20,PLANILHA_SINTÉTICA!$A:$L,12,0),"") -> 128224.14 | I20: =IF($B20<>"",(1+$H$10)*$H20," ") -> 156324.56 | J20: =IF($B20<>"",IF(OR($B20="",H20=0),0,$I20/$I$49),"") -> 0.033835153
B21: 8 | C21: =IF($B21<>"",VLOOKUP($B21,PLANILHA_SINTÉTICA!$A:$L,3,0),"") -> COBERTURA METÁLICA, CALHAS E RUFOS | F21: =IF($B21<>"",VLOOKUP($B21,PLANILHA_SINTÉTICA!$A:$L,9,0),"") -> 284570.82 | G21: =IF($B21<>"",VLOOKUP($B21,PLANILHA_SINTÉTICA!$A:$L,10,0),"") -> 48617.35 | H21: =IF($B21<>"",VLOOKUP($B21,PLANILHA_SINTÉTICA!$A:$L,12,0),"") -> 333188.17 | I21: =IF($B21<>"",(1+$H$10)*$H21," ") -> 406206.62 | J21: =IF($B21<>"",IF(OR($B21="",H21=0),0,$I21/$I$49),"") -> 0.087920049
B22: 9 | C22: =IF($B22<>"",VLOOKUP($B22,PLANILHA_SINTÉTICA!$A:$L,3,0),"") -> PORTAS | F22: =IF($B22<>"",VLOOKUP($B22,PLANILHA_SINTÉTICA!$A:$L,9,0),"") -> 134901.68 | G22: =IF($B22<>"",VLOOKUP($B22,PLANILHA_SINTÉTICA!$A:$L,10,0),"") -> 21560.57 | H22: =IF($B22<>"",VLOOKUP($B22,PLANILHA_SINTÉTICA!$A:$L,12,0),"") -> 156462.25 | I22: =IF($B22<>"",(1+$H$10)*$H22," ") -> 190751.08 | J22: =IF($B22<>"",IF(OR($B22="",H22=0),0,$I22/$I$49),"") -> 0.041286486
B23: 10 | C23: =IF($B23<>"",VLOOKUP($B23,PLANILHA_SINTÉTICA!$A:$L,3,0),"") -> JANELAS | F23: =IF($B23<>"",VLOOKUP($B23,PLANILHA_SINTÉTICA!$A:$L,9,0),"") -> 42440.15 | G23: =IF($B23<>"",VLOOKUP($B23,PLANILHA_SINTÉTICA!$A:$L,10,0),"") -> 3667.19 | H23: =IF($B23<>"",VLOOKUP($B23,PLANILHA_SINTÉTICA!$A:$L,12,0),"") -> 46107.34 | I23: =IF($B23<>"",(1+$H$10)*$H23," ") -> 56211.8 | J23: =IF($B23<>"",IF(OR($B23="",H23=0),0,$I23/$I$49),"") -> 0.012166577
B24: 11 | C24: =IF($B24<>"",VLOOKUP($B24,PLANILHA_SINTÉTICA!$A:$L,3,0),"") -> INSTALAÇÕES ELÉTRICAS | F24: =IF($B24<>"",VLOOKUP($B24,PLANILHA_SINTÉTICA!$A:$L,9,0),"") -> 447905.99 | G24: =IF($B24<>"",VLOOKUP($B24,PLANILHA_SINTÉTICA!$A:$L,10,0),"") -> 154847.56 | H24: =IF($B24<>"",VLOOKUP($B24,PLANILHA_SINTÉTICA!$A:$L,12,0),"") -> 602753.55 | I24: =IF($B24<>"",(1+$H$10)*$H24," ") -> 734847.47 | J24: =IF($B24<>"",IF(OR($B24="",H24=0),0,$I24/$I$49),"") -> 0.15905163
B25: 12 | C25: =IF($B25<>"",VLOOKUP($B25,PLANILHA_SINTÉTICA!$A:$L,3,0),"") -> INSTALAÇÕES DE LÓGICA, TELEFONE E TV | F25: =IF($B25<>"",VLOOKUP($B25,PLANILHA_SINTÉTICA!$A:$L,9,0),"") -> 38058.4 | G25: =IF($B25<>"",VLOOKUP($B25,PLANILHA_SINTÉTICA!$A:$L,10,0),"") -> 13970.02 | H25: =IF($B25<>"",VLOOKUP($B25,PLANILHA_SINTÉTICA!$A:$L,12,0),"") -> 52028.42 | I25: =IF($B25<>"",(1+$H$10)*$H25," ") -> 63430.489 | J25: =IF($B25<>"",IF(OR($B25="",H25=0),0,$I25/$I$49),"") -> 0.013729003
B26: 13 | C26: =IF($B26<>"",VLOOKUP($B26,PLANILHA_SINTÉTICA!$A:$L,3,0),"") -> INSTALAÇÕES DE SPDA | F26: =IF($B26<>"",VLOOKUP($B26,PLANILHA_SINTÉTICA!$A:$L,9,0),"") -> 63665.15 | G26: =IF($B26<>"",VLOOKUP($B26,PLANILHA_SINTÉTICA!$A:$L,10,0),"") -> 24637.57 | H26: =IF($B26<>"",VLOOKUP($B26,PLANILHA_SINTÉTICA!$A:$L,12,0),"") -> 88302.72 | I26: =IF($B26<>"",(1+$H$10)*$H26," ") -> 107654.33 | J26: =IF($B26<>"",IF(OR($B26="",H26=0),0,$I26/$I$49),"") -> 0.023300886
B27: 14 | C27: =IF($B27<>"",VLOOKUP($B27,PLANILHA_SINTÉTICA!$A:$L,3,0),"") -> INSTALAÇÕES CLIMATIZAÇÃO - AVAC | F27: =IF($B27<>"",VLOOKUP($B27,PLANILHA_SINTÉTICA!$A:$L,9,0),"") -> 328294.33 | G27: =IF($B27<>"",VLOOKUP($B27,PLANILHA_SINTÉTICA!$A:$L,10,0),"") -> 140697.57 | H27: =IF($B27<>"",VLOOKUP($B27,PLANILHA_SINTÉTICA!$A:$L,12,0),"") -> 468991.9 | I27: =H27 -> 468991.9 | J27: =IF($B27<>"",IF(OR($B27="",H27=0),0,$I27/$I$49),"") -> 0.1015094
B28: 15 | C28: =IF($B28<>"",VLOOKUP($B28,PLANILHA_SINTÉTICA!$A:$L,3,0),"") -> INSTALAÇÕES ELÉTRICAS - PREVENÇÃO DE INCÊNDIO | F28: =IF($B28<>"",VLOOKUP($B28,PLANILHA_SINTÉTICA!$A:$L,9,0),"") -> 18170 | G28: =IF($B28<>"",VLOOKUP($B28,PLANILHA_SINTÉTICA!$A:$L,10,0),"") -> 4702.36 | H28: =IF($B28<>"",VLOOKUP($B28,PLANILHA_SINTÉTICA!$A:$L,12,0),"") -> 22872.36 | I28: =IF($B28<>"",(1+$H$10)*$H28," ") -> 27884.856 | J28: =IF($B28<>"",IF(OR($B28="",H28=0),0,$I28/$I$49),"") -> 0.0060354454
B29: 16 | C29: =IF($B29<>"",VLOOKUP($B29,PLANILHA_SINTÉTICA!$A:$L,3,0),"") -> INSTALAÇÕES HIDROSSANITÁRIAS - ESGOTO | F29: =IF($B29<>"",VLOOKUP($B29,PLANILHA_SINTÉTICA!$A:$L,9,0),"") -> 17662.05 | G29: =IF($B29<>"",VLOOKUP($B29,PLANILHA_SINTÉTICA!$A:$L,10,0),"") -> 14230.21 | H29: =IF($B29<>"",VLOOKUP($B29,PLANILHA_SINTÉTICA!$A:$L,12,0),"") -> 31892.26 | I29: =IF($B29<>"",(1+$H$10)*$H29," ") -> 38881.474 | J29: =IF($B29<>"",IF(OR($B29="",H29=0),0,$I29/$I$49),"") -> 0.0084155721
B30: 17 | C30: =IF($B30<>"",VLOOKUP($B30,PLANILHA_SINTÉTICA!$A:$L,3,0),"") -> INSTALAÇÕES HIDROSSANITÁRIAS - ÁGUA FRIA | F30: =IF($B30<>"",VLOOKUP($B30,PLANILHA_SINTÉTICA!$A:$L,9,0),"") -> 25025.88 | G30: =IF($B30<>"",VLOOKUP($B30,PLANILHA_SINTÉTICA!$A:$L,10,0),"") -> 6767.49 | H30: =IF($B30<>"",VLOOKUP($B30,PLANILHA_SINTÉTICA!$A:$L,12,0),"") -> 31793.37 | I30: =IF($B30<>"",(1+$H$10)*$H30," ") -> 38760.912 | J30: =IF($B30<>"",IF(OR($B30="",H30=0),0,$I30/$I$49),"") -> 0.0083894775
B31: 18 | C31: =IF($B31<>"",VLOOKUP($B31,PLANILHA_SINTÉTICA!$A:$L,3,0),"") -> INSTALAÇÕES HIDROSSANITÁRIAS - ÁGUA PLUVIAL | F31: =IF($B31<>"",VLOOKUP($B31,PLANILHA_SINTÉTICA!$A:$L,9,0),"") -> 55342.19 | G31: =IF($B31<>"",VLOOKUP($B31,PLANILHA_SINTÉTICA!$A:$L,10,0),"") -> 17479.84 | H31: =IF($B31<>"",VLOOKUP($B31,PLANILHA_SINTÉTICA!$A:$L,12,0),"") -> 72822.03 | I31: =IF($B31<>"",(1+$H$10)*$H31," ") -> 88781.035 | J31: =IF($B31<>"",IF(OR($B31="",H31=0),0,$I31/$I$49),"") -> 0.019215918
B32: 19 | C32: =IF($B32<>"",VLOOKUP($B32,PLANILHA_SINTÉTICA!$A:$L,3,0),"") -> LOUÇAS E ACESSÓRIOS SANITÁRIOS | F32: =IF($B32<>"",VLOOKUP($B32,PLANILHA_SINTÉTICA!$A:$L,9,0),"") -> 63930.51 | G32: =IF($B32<>"",VLOOKUP($B32,PLANILHA_SINTÉTICA!$A:$L,10,0),"") -> 6653.22 | H32: =IF($B32<>"",VLOOKUP($B32,PLANILHA_SINTÉTICA!$A:$L,12,0),"") -> 70583.73 | I32: =IF($B32<>"",(1+$H$10)*$H32," ") -> 86052.21 | J32: =IF($B32<>"",IF(OR($B32="",H32=0),0,$I32/$I$49),"") -> 0.018625286
B33: 20 | C33: =IF($B33<>"",VLOOKUP($B33,PLANILHA_SINTÉTICA!$A:$L,3,0),"") -> PREVENÇÃO DE INCÊNDIO E PÂNICO - EXTINTORES E SINALIZAÇÃO DE EMERGÊNCIA | F33: =IF($B33<>"",VLOOKUP($B33,PLANILHA_SINTÉTICA!$A:$L,9,0),"") -> 8559.53 | G33: =IF($B33<>"",VLOOKUP($B33,PLANILHA_SINTÉTICA!$A:$L,10,0),"") -> 580.08 | H33: =IF($B33<>"",VLOOKUP($B33,PLANILHA_SINTÉTICA!$A:$L,12,0),"") -> 9139.61 | I33: =IF($B33<>"",(1+$H$10)*$H33," ") -> 11142.563 | J33: =IF($B33<>"",IF(OR($B33="",H33=0),0,$I33/$I$49),"") -> 0.0024117152
B34: 21 | C34: =IF($B34<>"",VLOOKUP($B34,PLANILHA_SINTÉTICA!$A:$L,3,0),"") -> INSTALAÇÃO DE GÁS | F34: =IF($B34<>"",VLOOKUP($B34,PLANILHA_SINTÉTICA!$A:$L,9,0),"") -> 31190.48 | G34: =IF($B34<>"",VLOOKUP($B34,PLANILHA_SINTÉTICA!$A:$L,10,0),"") -> 7355.58 | H34: =IF($B34<>"",VLOOKUP($B34,PLANILHA_SINTÉTICA!$A:$L,12,0),"") -> 38546.06 | I34: =IF($B34<>"",(1+$H$10)*$H34," ") -> 46993.46 | J34: =IF($B34<>"",IF(OR($B34="",H34=0),0,$I34/$I$49),"") -> 0.010171344
B35: 22 | C35: =IF($B35<>"",VLOOKUP($B35,PLANILHA_SINTÉTICA!$A:$L,3,0),"") -> REVESTIMENTO DE PISO | F35: =IF($B35<>"",VLOOKUP($B35,PLANILHA_SINTÉTICA!$A:$L,9,0),"") -> 68241.4 | G35: =IF($B35<>"",VLOOKUP($B35,PLANILHA_SINTÉTICA!$A:$L,10,0),"") -> 49432.39 | H35: =IF($B35<>"",VLOOKUP($B35,PLANILHA_SINTÉTICA!$A:$L,12,0),"") -> 117673.79 | I35: =IF($B35<>"",(1+$H$10)*$H35," ") -> 143462.09 | J35: =IF($B35<>"",IF(OR($B35="",H35=0),0,$I35/$I$49),"") -> 0.031051179
B36: 23 | C36: =IF($B36<>"",VLOOKUP($B36,PLANILHA_SINTÉTICA!$A:$L,3,0),"") -> REVESTIMENTO INTERNO | F36: =IF($B36<>"",VLOOKUP($B36,PLANILHA_SINTÉTICA!$A:$L,9,0),"") -> 40749.73 | G36: =IF($B36<>"",VLOOKUP($B36,PLANILHA_SINTÉTICA!$A:$L,10,0),"") -> 33608.83 | H36: =IF($B36<>"",VLOOKUP($B36,PLANILHA_SINTÉTICA!$A:$L,12,0),"") -> 74358.56 | I36: =IF($B36<>"",(1+$H$10)*$H36," ") -> 90654.297 | J36: =IF($B36<>"",IF(OR($B36="",H36=0),0,$I36/$I$49),"") -> 0.01962137
B37: 24 | C37: =IF($B37<>"",VLOOKUP($B37,PLANILHA_SINTÉTICA!$A:$L,3,0),"") -> REVESTIMENTO DE TETO | F37: =IF($B37<>"",VLOOKUP($B37,PLANILHA_SINTÉTICA!$A:$L,9,0),"") -> 24537.46 | G37: =IF($B37<>"",VLOOKUP($B37,PLANILHA_SINTÉTICA!$A:$L,10,0),"") -> 11653.31 | H37: =IF($B37<>"",VLOOKUP($B37,PLANILHA_SINTÉTICA!$A:$L,12,0),"") -> 36190.77 | I37: =IF($B37<>"",(1+$H$10)*$H37," ") -> 44122.006 | J37: =IF($B37<>"",IF(OR($B37="",H37=0),0,$I37/$I$49),"") -> 0.0095498417
B38: 25 | C38: =IF($B38<>"",VLOOKUP($B38,PLANILHA_SINTÉTICA!$A:$L,3,0),"") -> REVESTIMENTO EXTERNO | F38: =IF($B38<>"",VLOOKUP($B38,PLANILHA_SINTÉTICA!$A:$L,9,0),"") -> 40917.06 | G38: =IF($B38<>"",VLOOKUP($B38,PLANILHA_SINTÉTICA!$A:$L,10,0),"") -> 44391.88 | H38: =IF($B38<>"",VLOOKUP($B38,PLANILHA_SINTÉTICA!$A:$L,12,0),"") -> 85308.94 | I38: =IF($B38<>"",(1+$H$10)*$H38," ") -> 104004.46 | J38: =IF($B38<>"",IF(OR($B38="",H38=0),0,$I38/$I$49),"") -> 0.022510902
B39: 26 | C39: =IF($B39<>"",VLOOKUP($B39,PLANILHA_SINTÉTICA!$A:$L,3,0),"") -> PINTURA INTERNA | F39: =IF($B39<>"",VLOOKUP($B39,PLANILHA_SINTÉTICA!$A:$L,9,0),"") -> 61084.69 | G39: =IF($B39<>"",VLOOKUP($B39,PLANILHA_SINTÉTICA!$A:$L,10,0),"") -> 55011.95 | H39: =IF($B39<>"",VLOOKUP($B39,PLANILHA_SINTÉTICA!$A:$L,12,0),"") -> 116096.64 | I39: =IF($B39<>"",(1+$H$10)*$H39," ") -> 141539.31 | J39: =IF($B39<>"",IF(OR($B39="",H39=0),0,$I39/$I$49),"") -> 0.030635008
... B48: 35 | C48: =IF($B48<>"",VLOOKUP($B48,PLANILHA_SINTÉTICA!$A:$L,3,0),"") -> GERADOR DE ENERGIA | F48: =IF($B48<>"",VLOOKUP($B48,PLANILHA_SINTÉTICA!$A:$L,9,0),"") -> 330046.57 | G48: =IF($B48<>"",VLOOKUP($B48,PLANILHA_SINTÉTICA!$A:$L,10,0),"") -> 121.87 | H48: =IF($B48<>"",VLOOKUP($B48,PLANILHA_SINTÉTICA!$A:$L,12,0),"") -> 330168.44 | I48: =IF($B48<>"",(1+$H$10)*$H48," ") -> 402525.11 | J48: =IF($B48<>"",IF(OR($B48="",H48=0),0,$I48/$I$49),"") -> 0.087123218
B49: TOTAL (R$) GERAL DA OBRA | F49: =SUMIF(F14:F48,">0",F14:F48) -> 2667135.5 | G49: =SUMIF(G14:G48,">0",G14:G48) -> 1206841.2 | H49: =SUMIF(H14:H48,">0",H14:H48) -> 3873976.8 | I49: =SUM(I14:I48) -> 4620181.9 | J49: =SUM(J14:J48) -> 1
B50: PERCENTAGEM (%) | F50: =IF(H49=0,0,F49/$H$49) -> 0.68847484 | G50: =IF(H49=0,0,G49/$H$49) -> 0.31152516 | H50: =F50+G50 -> 1 | I50: - | J50: -
B52: PRAZO DE EXECUÇÃO (DIAS CORRIDOS): | E52: =IF('FOLHA FECHAMENTO'!F31<>"",'FOLHA FECHAMENTO'!F31," ") -> 540
C57: =IF(DADOS!$D$24<>"",DADOS!$D$24," ") -> ELSON HENRIQUE CAMPOS BENTO
D58: Ass. Responsável pelo Orçamento
D59: Carimbo

Sheet PLANILHA_SINTÉTICA
D1: PLANILHA DE SERVIÇOS SINTÉTICA NÃO DESONERADA
C2: SECRETARIA DE ESTADO DAS CIDADES | I2: PROTOCOLO Nº: | J2: =IF('FOLHA FECHAMENTO'!K12<>"",'FOLHA FECHAMENTO'!K12," ") -> 25.677.165-9
C3: DIRETORIA DE EDIFICAÇÕES | D3: ENDEREÇO: | E3: =IF(DADOS!D14<>"",DADOS!D14," ") -> RUA JOÃO FALAVIGNA, Nº171, QUADRA 13 LOTE 10 E 11 | I3: ORGÃO: | J3: =IF(DADOS!M12<>"",DADOS!M12," ") -> SESA | W3: Nº de COLUNAS
D4: MUNICIPIO: | E4: =IF(DADOS!$D$16<>"",DADOS!$D$16," ") -> FLORAÍ | I4: TIPO DE OBRA/SERVIÇO: | J4: =IF('FOLHA FECHAMENTO'!K10<>"",'FOLHA FECHAMENTO'!K10," ") -> AMPLIAÇÃO | T4: TOTAL MEDIDO
C5: TABELAS DE REFERÊNCIA: SINAPI/PR (FEVEREIRO/2025) E SECID (MARÇO/2025) NÃO DESONERADA | D5: LEVANTAMENTO Nº: | F5: =IF('FOLHA FECHAMENTO'!C15<>"",'FOLHA FECHAMENTO'!C15," ") | I5: ART N°: | J5: =IF(DADOS!D30<>"",DADOS!D30," ") -> 15833094 | O5: =((2+$W$5)-COLUMNS(O$7:$T$7))/2&"ª" -> 1ª | Q5: =((2+$W$5)-COLUMNS(Q$7:$T$7))/2&"ª" -> 2ª | S5: =((2+$W$5)-COLUMNS(S$7:$T$7))/2&"ª" -> 3ª | T5: ACUMULADO | W5: =COLUMNS($S7:$X7) -> 6
C6: =IF(DADOS!D12<>"",DADOS!D12," ") -> AMPLIÇÃO E REGULARIZAÇÃO DE UNIDADE MISTA DE SAÚDE | D6: RESPONSÁVEL TÉCNICO: | F6: =IF(DADOS!D24<>"",DADOS!D24," ") -> ELSON HENRIQUE CAMPOS BENTO | I6: REG. CREA: | J6: =IF(DADOS!D28<>"",DADOS!D28," ") -> A95.934-0 | N6: MEDIÇÃO | P6: MEDIÇÃO | R6: MEDIÇÃO | T6: 1ª | U6: MEDIÇÃO
N7: DATA: | O7: xx/xx/xxxx | P7: DATA: | Q7: xx/xx/xxxx | R7: DATA: | S7: xx/xx/xxxx | T7: DATA: | U7: =HLOOKUP(T6,$N$5:$T$8,3) -> xx/xx/xxxx | X7: VALOR R$ A MEDIR / DIFERENÇA DE TRUNCARONDAMENTO
A8: ITEM | B8: CÓDIGO DO SERVIÇO | C8: DESCRIÇÃO DO SERVIÇO | D8: UNIDADE DE MEDIDA | E8: QUANTI DADE | F8: MATERIAL | G8: MÃO DE OBRA | H8: CUSTO UNITÁRIO | I8: MATERIAL | J8: MÃO DE OBRA | K8: CUSTO TOTAL | L8: SUBTOTAL | N8: QUANT. | O8: CUSTO | P8: QUANT. | Q8: CUSTO | R8: QUANT. | S8: CUSTO | T8: QUANT. | U8: CUSTO | W8: QUANTIDADE A MEDIR
A9: 1 | C9: ADMINISTRAÇÃO LOCAL | I9: =TRUNC(SUMIF(I10:I10,">0",I10:I10),2) -> 7876.79 | J9: =TRUNC(SUMIF(J10:J10,">0",J10:J10),2) -> 237081.6 | L9: =SUMIF(I9:J9,">0",I9:J9) -> 244958.39
A10: 1.1 | B10: COMP 001 | C10: =IF($B10="","",IFERROR(VLOOKUP($B10,SERVIÇOS!$B:$G,2,0),IFERROR(VLOOKUP($B10,'COMPOSIÇÕES COMPLEMENTARES '!$C:$K,2,0),""))) -> ADMINISTRAÇÃO LOCAL DE OBRA - COMPOSTA POR MESTRE DE OBRAS (6H/D) E ENGENHEIRO CIVIL JUNIOR (2H/D) PARA UM CRONOGRAMA DE OBRAS DE 18 MESES | D10: =IF($B10="","",IFERROR(VLOOKUP($B10,SERVIÇOS!$B:$G,3,0),IFERROR(VLOOKUP($B10,'COMPOSIÇÕES COMPLEMENTARES '!$C:$K,3,0),""))) -> UND | E10: 1 | F10: =IF($B10="","",IFERROR(VLOOKUP($B10,SERVIÇOS!$B:$G,4,0),IFERROR(VLOOKUP($B10,'COMPOSIÇÕES COMPLEMENTARES '!$C:$K,6,0),""))) -> 7876.79 | G10: =IF($B10="","",IFERROR(VLOOKUP($B10,SERVIÇOS!$B:$G,5,0),IFERROR(VLOOKUP($B10,'COMPOSIÇÕES COMPLEMENTARES '!$C:$K,7,0),""))) -> 237081.6 | H10: =IF(E10="","",F10+G10) -> 244958.39 | I10: =IF(E10="","",TRUNC((E10*F10),2)) -> 7876.79 | J10: =IF(E10="","",TRUNC((E10*G10),2)) -> 237081.6 | K10: =IF(E10="","",TRUNC((E10*H10),2)) -> 244958.39 | O10: =IF(OR(N10="",$K10=""),"",(N10/$E10)*$K10) | Q10: =IF(OR(P10="",$K10=""),"",(P10/$E10)*$K10) | S10: =IF(OR(R10="",$K10=""),"",(R10/$E10)*$K10) | T10: =SUMIF($N$8:S$9,"QUANT.",N10:S10) -> 0 | U10: =SUMIF($N$8:$S$9,"CUSTO",N10:S10) -> 0 | V10: =IF(U10=0,"MEDIR",IF(K10-U10=0,"OK",IF(K10-U10>0,"MEDIR","ALERTA!"))) -> MEDIR | W10: =IF(T10="",0,E10-T10) -> 1 | X10: =IF(U10="",0,K10-U10) -> 244958.39 | AJ10: =B10-AK10 -> #VALUE! | AK10: 0
A11: 2 | C11: SERVIÇOS PRELIMINARES | I11: =TRUNC(SUMIF(I12:I25,">0",I12:I25),2) -> 54728.89 | J11: =TRUNC(SUMIF(J12:J25,">0",J12:J25),2) -> 46390.35 | L11: =SUMIF(I11:J11,">0",I11:J11) -> 101119.24
A12: 2.1 | B12: 103689 | C12: =IF($B12="","",IFERROR(VLOOKUP($B12,SERVIÇOS!$B:$G,2,0),IFERROR(VLOOKUP($B12,'COMPOSIÇÕES COMPLEMENTARES '!$C:$K,2,0),""))) -> FORNECIMENTO E INSTALAÇÃO DE PLACA DE OBRA COM CHAPA GALVANIZADA E ESTRUTURA DE MADEIRA. AF_03/2022_PS | D12: =IF($B12="","",IFERROR(VLOOKUP($B12,SERVIÇOS!$B:$G,3,0),IFERROR(VLOOKUP($B12,'COMPOSIÇÕES COMPLEMENTARES '!$C:$K,3,0),""))) -> M2 | E12: 8 | F12: =IF($B12="","",IFERROR(VLOOKUP($B12,SERVIÇOS!$B:$G,4,0),IFERROR(VLOOKUP($B12,'COMPOSIÇÕES COMPLEMENTARES '!$C:$K,6,0),""))) -> 432.67 | G12: =IF($B12="","",IFERROR(VLOOKUP($B12,SERVIÇOS!$B:$G,5,0),IFERROR(VLOOKUP($B12,'COMPOSIÇÕES COMPLEMENTARES '!$C:$K,7,0),""))) -> 38.23 | H12: =IF(E12="","",F12+G12) -> 470.9 | I12: =IF(E12="","",TRUNC((E12*F12),2)) -> 3461.36 | J12: =IF(E12="","",TRUNC((E12*G12),2)) -> 305.84 | K12: =IF(E12="","",TRUNC((E12*H12),2)) -> 3767.2 | O12: =IF(OR(N12="",$K12=""),"",(N12/$E12)*$K12) | Q12: =IF(OR(P12="",$K12=""),"",(P12/$E12)*$K12) | S12: =IF(OR(R12="",$K12=""),"",(R12/$E12)*$K12) | T12: =SUMIF($N$8:S$9,"QUANT.",N12:S12) -> 0 | U12: =SUMIF($N$8:$S$9,"CUSTO",N12:S12) -> 0 | V12: =IF(B12<>"",IF(U12=0,"MEDIR",IF(K12-U12=0,"OK",IF(K12-U12>0,"MEDIR","ALERTA!"))),"") -> MEDIR | W12: =IF(T12="",0,E12-T12) -> 8 | X12: =IF(U12="",0,K12-U12) -> 3767.2 | AJ12: =B12-AK12 -> 103689 | AK12: 0
A13: 2.2 | B13: 97625 | C13: =IF($B13="","",IFERROR(VLOOKUP($B13,SERVIÇOS!$B:$G,2,0),IFERROR(VLOOKUP($B13,'COMPOSIÇÕES COMPLEMENTARES '!$C:$K,2,0),""))) -> DEMOLIÇÃO DE ALVENARIA PARA QUALQUER TIPO DE BLOCO, DE FORMA MECANIZADA, SEM REAPROVEITAMENTO. AF_09/2023 | D13: =IF($B13="","",IFERROR(VLOOKUP($B13,SERVIÇOS!$B:$G,3,0),IFERROR(VLOOKUP($B13,'COMPOSIÇÕES COMPLEMENTARES '!$C:$K,3,0),""))) -> M3 | E13: 112.29 | F13: =IF($B13="","",IFERROR(VLOOKUP($B13,SERVIÇOS!$B:$G,4,0),IFERROR(VLOOKUP($B13,'COMPOSIÇÕES COMPLEMENTARES '!$C:$K,6,0),""))) -> 50.49 | G13: =IF($B13="","",IFERROR(VLOOKUP($B13,SERVIÇOS!$B:$G,5,0),IFERROR(VLOOKUP($B13,'COMPOSIÇÕES COMPLEMENTARES '!$C:$K,7,0),""))) -> 10.07 | H13: =IF(E13="","",F13+G13) -> 60.56 | I13: =IF(E13="","",TRUNC((E13*F13),2)) -> 5669.52 | J13: =IF(E13="","",TRUNC((E13*G13),2)) -> 1130.76 | K13: =IF(E13="","",TRUNC((E13*H13),2)) -> 6800.28 | O13: =IF(OR(N13="",$K13=""),"",(N13/$E13)*$K13) | Q13: =IF(OR(P13="",$K13=""),"",(P13/$E13)*$K13) | S13: =IF(OR(R13="",$K13=""),"",(R13/$E13)*$K13) | T13: =SUMIF($N$8:S$9,"QUANT.",N13:S13) -> 0 | U13: =SUMIF($N$8:$S$9,"CUSTO",N13:S13) -> 0 | V13: =IF(B13<>"",IF(U13=0,"MEDIR",IF(K13-U13=0,"OK",IF(K13-U13>0,"MEDIR","ALERTA!"))),"") -> MEDIR | W13: =IF(T13="",0,E13-T13) -> 112.29 | X13: =IF(U13="",0,K13-U13) -> 6800.28
A14: 2.3 | B14: 104789 | C14: =IF($B14="","",IFERROR(VLOOKUP($B14,SERVIÇOS!$B:$G,2,0),IFERROR(VLOOKUP($B14,'COMPOSIÇÕES COMPLEMENTARES '!$C:$K,2,0),""))) -> DEMOLIÇÃO DE PISO DE CONCRETO SIMPLES, DE FORMA MANUAL, SEM REAPROVEITAMENTO. AF_09/2023 | D14: =IF($B14="","",IFERROR(VLOOKUP($B14,SERVIÇOS!$B:$G,3,0),IFERROR(VLOOKUP($B14,'COMPOSIÇÕES COMPLEMENTARES '!$C:$K,3,0),""))) -> M3 | E14: =(774.36*0.05)+(85.27*0.1) -> 47.245 | F14: =IF($B14="","",IFERROR(VLOOKUP($B14,SERVIÇOS!$B:$G,4,0),IFERROR(VLOOKUP($B14,'COMPOSIÇÕES COMPLEMENTARES '!$C:$K,6,0),""))) -> 82.57 | G14: =IF($B14="","",IFERROR(VLOOKUP($B14,SERVIÇOS!$B:$G,5,0),IFERROR(VLOOKUP($B14,'COMPOSIÇÕES COMPLEMENTARES '!$C:$K,7,0),""))) -> 185.24 | H14: =IF(E14="","",F14+G14) -> 267.81 | I14: =IF(E14="","",TRUNC((E14*F14),2)) -> 3901.01 | J14: =IF(E14="","",TRUNC((E14*G14),2)) -> 8751.66 | K14: =IF(E14="","",TRUNC((E14*H14),2)) -> 12652.68 | O14: =IF(OR(N14="",$K14=""),"",(N14/$E14)*$K14) | Q14: =IF(OR(P14="",$K14=""),"",(P14/$E14)*$K14) | S14: =IF(OR(R14="",$K14=""),"",(R14/$E14)*$K14) | T14: =SUMIF($N$8:S$9,"QUANT.",N14:S14) -> 0 | U14: =SUMIF($N$8:$S$9,"CUSTO",N14:S14) -> 0 | V14: =IF(B14<>"",IF(U14=0,"MEDIR",IF(K14-U14=0,"OK",IF(K14-U14>0,"MEDIR","ALERTA!"))),"") -> MEDIR | W14: =IF(T14="",0,E14-T14) -> 47.245 | X14: =IF(U14="",0,K14-U14) -> 12652.68 | AJ14: =B14-AK14 -> 104789 | AK14: 0
A15: 2.4 | B15: 97649 | C15: =IF($B15="","",IFERROR(VLOOKUP($B15,SERVIÇOS!$B:$G,2,0),IFERROR(VLOOKUP($B15,'COMPOSIÇÕES COMPLEMENTARES '!$C:$K,2,0),""))) -> REMOÇÃO DE TELHAS DE FIBROCIMENTO, METÁLICA E CERÂMICA, DE FORMA MECANIZADA, COM USO DE GUINDASTE, SEM REAPROVEITAMENTO. AF_09/2023 | D15: =IF($B15="","",IFERROR(VLOOKUP($B15,SERVIÇOS!$B:$G,3,0),IFERROR(VLOOKUP($B15,'COMPOSIÇÕES COMPLEMENTARES '!$C:$K,3,0),""))) -> M2 | E15: 1157.73 | F15: =IF($B15="","",IFERROR(VLOOKUP($B15,SERVIÇOS!$B:$G,4,0),IFERROR(VLOOKUP($B15,'COMPOSIÇÕES COMPLEMENTARES '!$C:$K,6,0),""))) -> 2.18 | G15: =IF($B15="","",IFERROR(VLOOKUP($B15,SERVIÇOS!$B:$G,5,0),IFERROR(VLOOKUP($B15,'COMPOSIÇÕES COMPLEMENTARES '!$C:$K,7,0),""))) -> 3.67 | H15: =IF(E15="","",F15+G15) -> 5.85 | I15: =IF(E15="","",TRUNC((E15*F15),2)) -> 2523.85 | J15: =IF(E15="","",TRUNC((E15*G15),2)) -> 4248.86 | K15: =IF(E15="","",TRUNC((E15*H15),2)) -> 6772.72
A16: 2.5 | B16: 97650 | C16: =IF($B16="","",IFERROR(VLOOKUP($B16,SERVIÇOS!$B:$G,2,0),IFERROR(VLOOKUP($B16,'COMPOSIÇÕES COMPLEMENTARES '!$C:$K,2,0),""))) -> REMOÇÃO DE TRAMA DE MADEIRA PARA COBERTURA, DE FORMA MANUAL, SEM REAPROVEITAMENTO. AF_09/2023 | D16: =IF($B16="","",IFERROR(VLOOKUP($B16,SERVIÇOS!$B:$G,3,0),IFERROR(VLOOKUP($B16,'COMPOSIÇÕES COMPLEMENTARES '!$C:$K,3,0),""))) -> M2 | E16: =E15 -> 1157.73 | F16: =IF($B16="","",IFERROR(VLOOKUP($B16,SERVIÇOS!$B:$G,4,0),IFERROR(VLOOKUP($B16,'COMPOSIÇÕES COMPLEMENTARES '!$C:$K,6,0),""))) -> 3.09 | G16: =IF($B16="","",IFERROR(VLOOKUP($B16,SERVIÇOS!$B:$G,5,0),IFERROR(VLOOKUP($B16,'COMPOSIÇÕES COMPLEMENTARES '!$C:$K,7,0),""))) -> 7.22 | H16: =IF(E16="","",F16+G16) -> 10.31 | I16: =IF(E16="","",TRUNC((E16*F16),2)) -> 3577.38 | J16: =IF(E16="","",TRUNC((E16*G16),2)) -> 8358.81 | K16: =IF(E16="","",TRUNC((E16*H16),2)) -> 11936.19
A17: 2.6 | B17: 97629 | C17: =IF($B17="","",IFERROR(VLOOKUP($B17,SERVIÇOS!$B:$G,2,0),IFERROR(VLOOKUP($B17,'COMPOSIÇÕES COMPLEMENTARES '!$C:$K,2,0),""))) -> DEMOLIÇÃO DE LAJES, EM CONCRETO ARMADO, DE FORMA MECANIZADA COM MARTELETE, SEM REAPROVEITAMENTO. AF_09/2023 | D17: =IF($B17="","",IFERROR(VLOOKUP($B17,SERVIÇOS!$B:$G,3,0),IFERROR(VLOOKUP($B17,'COMPOSIÇÕES COMPLEMENTARES '!$C:$K,3,0),""))) -> M3 | E17: =62.57*0.2 -> 12.514 | F17: =IF($B17="","",IFERROR(VLOOKUP($B17,SERVIÇOS!$B:$G,4,0),IFERROR(VLOOKUP($B17,'COMPOSIÇÕES COMPLEMENTARES '!$C:$K,6,0),""))) -> 33.36 | G17: =IF($B17="","",IFERROR(VLOOKUP($B17,SERVIÇOS!$B:$G,5,0),IFERROR(VLOOKUP($B17,'COMPOSIÇÕES COMPLEMENTARES '!$C:$K,7,0),""))) -> 77.83 | H17: =IF(E17="","",F17+G17) -> 111.19 | I17: =IF(E17="","",TRUNC((E17*F17),2)) -> 417.46 | J17: =IF(E17="","",TRUNC((E17*G17),2)) -> 973.96 | K17: =IF(E17="","",TRUNC((E17*H17),2)) -> 1391.43
A18: 2.7 | B18: 97634 | C18: =IF($B18="","",IFERROR(VLOOKUP($B18,SERVIÇOS!$B:$G,2,0),IFERROR(VLOOKUP($B18,'COMPOSIÇÕES COMPLEMENTARES '!$C:$K,2,0),""))) -> DEMOLIÇÃO DE REVESTIMENTO CERÂMICO, DE FORMA MECANIZADA COM MARTELETE, SEM REAPROVEITAMENTO. AF_09/2023 | D18: =IF($B18="","",IFERROR(VLOOKUP($B18,SERVIÇOS!$B:$G,3,0),IFERROR(VLOOKUP($B18,'COMPOSIÇÕES COMPLEMENTARES '!$C:$K,3,0),""))) -> M2 | E18: =114.84+312.31+193.26 -> 620.41 | F18: =IF($B18="","",IFERROR(VLOOKUP($B18,SERVIÇOS!$B:$G,4,0),IFERROR(VLOOKUP($B18,'COMPOSIÇÕES COMPLEMENTARES '!$C:$K,6,0),""))) -> 2.71 | G18: =IF($B18="","",IFERROR(VLOOKUP($B18,SERVIÇOS!$B:$G,5,0),IFERROR(VLOOKUP($B18,'COMPOSIÇÕES COMPLEMENTARES '!$C:$K,7,0),""))) -> 6.29 | H18: =IF(E18="","",F18+G18) -> 9 | I18: =IF(E18="","",TRUNC((E18*F18),2)) -> 1681.31 | J18: =IF(E18="","",TRUNC((E18*G18),2)) -> 3902.37 | K18: =IF(E18="","",TRUNC((E18*H18),2)) -> 5583.69
A19: 2.8 | B19: 97645 | C19: =IF($B19="","",IFERROR(VLOOKUP($B19,SERVIÇOS!$B:$G,2,0),IFERROR(VLOOKUP($B19,'COMPOSIÇÕES COMPLEMENTARES '!$C:$K,2,0),""))) -> REMOÇÃO DE JANELAS, DE FORMA MANUAL, SEM REAPROVEITAMENTO. AF_09/2023 | D19: =IF($B19="","",IFERROR(VLOOKUP($B19,SERVIÇOS!$B:$G,3,0),IFERROR(VLOOKUP($B19,'COMPOSIÇÕES COMPLEMENTARES '!$C:$K,3,0),""))) -> M2 | E19: =(3*1.5*1.2)+(2*2*1)+(3*1*0.5)+(1*0.6*0.6)+(1*1.5*1)+(1.5*1.1)+(2*2*1.6)+(4*0.3*0.5) -> 21.41 | F19: =IF($B19="","",IFERROR(VLOOKUP($B19,SERVIÇOS!$B:$G,4,0),IFERROR(VLOOKUP($B19,'COMPOSIÇÕES COMPLEMENTARES '!$C:$K,6,0),""))) -> 9.9 | G19: =IF($B19="","",IFERROR(VLOOKUP($B19,SERVIÇOS!$B:$G,5,0),IFERROR(VLOOKUP($B19,'COMPOSIÇÕES COMPLEMENTARES '!$C:$K,7,0),""))) -> 23.24 | H19: =IF(E19="","",F19+G19) -> 33.14 | I19: =IF(E19="","",TRUNC((E19*F19),2)) -> 211.95 | J19: =IF(E19="","",TRUNC((E19*G19),2)) -> 497.56 | K19: =IF(E19="","",TRUNC((E19*H19),2)) -> 709.52
A20: 2.9 | B20: 97644 | C20: =IF($B20="","",IFERROR(VLOOKUP($B20,SERVIÇOS!$B:$G,2,0),IFERROR(VLOOKUP($B20,'COMPOSIÇÕES COMPLEMENTARES '!$C:$K,2,0),""))) -> REMOÇÃO DE PORTAS, DE FORMA MANUAL, SEM REAPROVEITAMENTO. AF_09/2023 | D20: =IF($B20="","",IFERROR(VLOOKUP($B20,SERVIÇOS!$B:$G,3,0),IFERROR(VLOOKUP($B20,'COMPOSIÇÕES COMPLEMENTARES '!$C:$K,3,0),""))) -> M2 | E20: =(6*0.6*2.1)+(0.9*2.1)+(1*2.1)+(1*1*2.1)+(1*2.5*2.1)+(2*2*2.1)+(0.6*2.1)+(0.9*2.1)+(0.7*2.1)+(36*0.8*2.1)+(3*1.5*2.1)+(6*1*2.1)+(1*2*2.5) -> 119.45 | F20: =IF($B20="","",IFERROR(VLOOKUP($B20,SERVIÇOS!$B:$G,4,0),IFERROR(VLOOKUP($B20,'COMPOSIÇÕES COMPLEMENTARES '!$C:$K,6,0),""))) -> 3.83 | G20: =IF($B20="","",IFERROR(VLOOKUP($B20,SERVIÇOS!$B:$G,5,0),IFERROR(VLOOKUP($B20,'COMPOSIÇÕES COMPLEMENTARES '!$C:$K,7,0),""))) -> 9 | H20: =IF(E20="","",F20+G20) -> 12.83 | I20: =IF(E20="","",TRUNC((E20*F20),2)) -> 457.49 | J20: =IF(E20="","",TRUNC((E20*G20),2)) -> 1075.05 | K20: =IF(E20="","",TRUNC((E20*H20),2)) -> 1532.54
A21: 2.10 | B21: 100978 | C21: =IF($B21="","",IFERROR(VLOOKUP($B21,SERVIÇOS!$B:$G,2,0),IFERROR(VLOOKUP($B21,'COMPOSIÇÕES COMPLEMENTARES '!$C:$K,2,0),""))) -> CARGA, MANOBRA E DESCARGA DE SOLOS E MATERIAIS GRANULARES EM CAMINHÃO BASCULANTE 10 M³ - CARGA COM ESCAVADEIRA HIDRÁULICA (CAÇAMBA DE 1,20 M³ / 155 HP) E DESCARGA LIVRE (UNIDADE: M3). AF_07/2020 | D21: =IF($B21="","",IFERROR(VLOOKUP($B21,SERVIÇOS!$B:$G,3,0),IFERROR(VLOOKUP($B21,'COMPOSIÇÕES COMPLEMENTARES '!$C:$K,3,0),""))) -> M3 | E21: =E13+E14+(E15*0.05)+(E16*0.15)+E17+(E18*0.01)+(E19*0.1)+(E20*0.1) -> 423.8851 | F21: =IF($B21="","",IFERROR(VLOOKUP($B21,SERVIÇOS!$B:$G,4,0),IFERROR(VLOOKUP($B21,'COMPOSIÇÕES COMPLEMENTARES '!$C:$K,6,0),""))) -> 6.4 | G21: =IF($B21="","",IFERROR(VLOOKUP($B21,SERVIÇOS!$B:$G,5,0),IFERROR(VLOOKUP($B21,'COMPOSIÇÕES COMPLEMENTARES '!$C:$K,7,0),""))) -> 1.14 | H21: =IF(E21="","",F21+G21) -> 7.54 | I21: =IF(E21="","",TRUNC((E21*F21),2)) -> 2712.86 | J21: =IF(E21="","",TRUNC((E21*G21),2)) -> 483.22 | K21: =IF(E21="","",TRUNC((E21*H21),2)) -> 3196.09
A22: 2.11 | B22: 98459 | C22: =IF($B22="","",IFERROR(VLOOKUP($B22,SERVIÇOS!$B:$G,2,0),IFERROR(VLOOKUP($B22,'COMPOSIÇÕES COMPLEMENTARES '!$C:$K,2,0),""))) -> TAPUME COM TELHA METÁLICA. AF_03/2024 | D22: =IF($B22="","",IFERROR(VLOOKUP($B22,SERVIÇOS!$B:$G,3,0),IFERROR(VLOOKUP($B22,'COMPOSIÇÕES COMPLEMENTARES '!$C:$K,3,0),""))) -> M2 | E22: 71.4 | F22: =IF($B22="","",IFERROR(VLOOKUP($B22,SERVIÇOS!$B:$G,4,0),IFERROR(VLOOKUP($B22,'COMPOSIÇÕES COMPLEMENTARES '!$C:$K,6,0),""))) -> 62.82 | G22: =IF($B22="","",IFERROR(VLOOKUP($B22,SERVIÇOS!$B:$G,5,0),IFERROR(VLOOKUP($B22,'COMPOSIÇÕES COMPLEMENTARES '!$C:$K,7,0),""))) -> 32.06 | H22: =IF(E22="","",F22+G22) -> 94.88 | I22: =IF(E22="","",TRUNC((E22*F22),2)) -> 4485.34 | J22: =IF(E22="","",TRUNC((E22*G22),2)) -> 2289.08 | K22: =IF(E22="","",TRUNC((E22*H22),2)) -> 6774.43
A23: 2.12 | B23: COMP 038 | C23: =IF($B23="","",IFERROR(VLOOKUP($B23,SERVIÇOS!$B:$G,2,0),IFERROR(VLOOKUP($B23,'COMPOSIÇÕES COMPLEMENTARES '!$C:$K,2,0),""))) -> EXECUÇÃO DE DEPÓSITO EM CANTEIRO DE OBRA EM CHAPA DE MADEIRA COMPENSADA, NÃO INCLUSO MOBILIÁRIO | D23: =IF($B23="","",IFERROR(VLOOKUP($B23,SERVIÇOS!$B:$G,3,0),IFERROR(VLOOKUP($B23,'COMPOSIÇÕES COMPLEMENTARES '!$C:$K,3,0),""))) -> M2 | E23: 16 | F23: =IF($B23="","",IFERROR(VLOOKUP($B23,SERVIÇOS!$B:$G,4,0),IFERROR(VLOOKUP($B23,'COMPOSIÇÕES COMPLEMENTARES '!$C:$K,6,0),""))) -> 538.18 | G23: =IF($B23="","",IFERROR(VLOOKUP($B23,SERVIÇOS!$B:$G,5,0),IFERROR(VLOOKUP($B23,'COMPOSIÇÕES COMPLEMENTARES '!$C:$K,7,0),""))) -> 183.46 | H23: =IF(E23="","",F23+G23) -> 721.64 | I23: =IF(E23="","",TRUNC((E23*F23),2)) -> 8610.88 | J23: =IF(E23="","",TRUNC((E23*G23),2)) -> 2935.36 | K23: =IF(E23="","",TRUNC((E23*H23),2)) -> 11546.24
A24: 2.13 | B24: COMP 039 | C24: =IF($B24="","",IFERROR(VLOOKUP($B24,SERVIÇOS!$B:$G,2,0),IFERROR(VLOOKUP($B24,'COMPOSIÇÕES COMPLEMENTARES '!$C:$K,2,0),""))) -> EXECUÇÃO DE SANITÁRIO E VESTIÁRIO EM CANTEIRO DE OBRA EM CHAPA DE MADEIRA COMPENSADA, INCLUSO VASO SANITÁRIO E LAVATÓRIO | D24: =IF($B24="","",IFERROR(VLOOKUP($B24,SERVIÇOS!$B:$G,3,0),IFERROR(VLOOKUP($B24,'COMPOSIÇÕES COMPLEMENTARES '!$C:$K,3,0),""))) -> M2 | E24: 12 | F24: =IF($B24="","",IFERROR(VLOOKUP($B24,SERVIÇOS!$B:$G,4,0),IFERROR(VLOOKUP($B24,'COMPOSIÇÕES COMPLEMENTARES '!$C:$K,6,0),""))) -> 766.55 | G24: =IF($B24="","",IFERROR(VLOOKUP($B24,SERVIÇOS!$B:$G,5,0),IFERROR(VLOOKUP($B24,'COMPOSIÇÕES COMPLEMENTARES '!$C:$K,7,0),""))) -> 363.28 | H24: =IF(E24="","",F24+G24) -> 1129.83 | I24: =IF(E24="","",TRUNC((E24*F24),2)) -> 9198.6 | J24: =IF(E24="","",TRUNC((E24*G24),2)) -> 4359.36 | K24: =IF(E24="","",TRUNC((E24*H24),2)) -> 13557.96
A25: 2.14 | B25: 99059 | C25: =IF($B25="","",IFERROR(VLOOKUP($B25,SERVIÇOS!$B:$G,2,0),IFERROR(VLOOKUP($B25,'COMPOSIÇÕES COMPLEMENTARES '!$C:$K,2,0),""))) -> LOCAÇÃO CONVENCIONAL DE OBRA, UTILIZANDO GABARITO DE TÁBUAS CORRIDAS PONTALETADAS A CADA 2,00M - 2 UTILIZAÇÕES. AF_03/2024 | D25: =IF($B25="","",IFERROR(VLOOKUP($B25,SERVIÇOS!$B:$G,3,0),IFERROR(VLOOKUP($B25,'COMPOSIÇÕES COMPLEMENTARES '!$C:$K,3,0),""))) -> M | E25: =4.1+4.1+4+4.41+1.9+3.7+2.2+5.1+5.1+4.06+4.06+4.06+5.1+10.55+8.29+8.38+3.65+3.65+1.9+9+7.6+5.85+4.8+4.8+5.85+3+3.9+3.5+3.35+2.73+4+2.35+2.35+2.9+6.8+10+7+8+8 -> 194.09 | F25: =IF($B25="","",IFERROR(VLOOKUP($B25,SERVIÇOS!$B:$G,4,0),IFERROR(VLOOKUP($B25,'COMPOSIÇÕES COMPLEMENTARES '!$C:$K,6,0),""))) -> 40.29 | G25: =IF($B25="","",IFERROR(VLOOKUP($B25,SERVIÇOS!$B:$G,5,0),IFERROR(VLOOKUP($B25,'COMPOSIÇÕES COMPLEMENTARES '!$C:$K,7,0),""))) -> 36.47 | H25: =IF(E25="","",F25+G25) -> 76.76 | I25: =IF(E25="","",TRUNC((E25*F25),2)) -> 7819.88 | J25: =IF(E25="","",TRUNC((E25*G25),2)) -> 7078.46 | K25: =IF(E25="","",TRUNC((E25*H25),2)) -> 14898.34
A26: 3 | C26: EXECUÇÃO E COMPACTAÇÃO DE ATERRO | I26: =TRUNC(SUMIF(I27:I28,">0",I27:I28),2) -> 2958.19 | J26: =TRUNC(SUMIF(J27:J28,">0",J27:J28),2) -> 491.06 | L26: =SUMIF(I26:J26,">0",I26:J26) -> 3449.25
A27: 3.1 | B27: 101218 | C27: =IF($B27="","",IFERROR(VLOOKUP($B27,SERVIÇOS!$B:$G,2,0),IFERROR(VLOOKUP($B27,'COMPOSIÇÕES COMPLEMENTARES '!$C:$K,2,0),""))) -> ESCAVAÇÃO VERTICAL PARA EDIFICAÇÃO, COM CARGA, DESCARGA E TRANSPORTE DE SOLO DE 1ª CATEGORIA, COM ESCAVADEIRA HIDRÁULICA (CAÇAMBA: 0,8 M³ / 111 HP), FROTA DE 5 CAMINHÕES BASCULANTES DE 18 M³, DMT DE 4 KM E VELOCIDADE MÉDIA 22 KM/H. AF_05/2020 | D27: =IF($B27="","",IFERROR(VLOOKUP($B27,SERVIÇOS!$B:$G,3,0),IFERROR(VLOOKUP($B27,'COMPOSIÇÕES COMPLEMENTARES '!$C:$K,3,0),""))) -> M3 | E27: =107.22 -> 107.22 | F27: =IF($B27="","",IFERROR(VLOOKUP($B27,SERVIÇOS!$B:$G,4,0),IFERROR(VLOOKUP($B27,'COMPOSIÇÕES COMPLEMENTARES '!$C:$K,6,0),""))) -> 20.48 | G27: =IF($B27="","",IFERROR(VLOOKUP($B27,SERVIÇOS!$B:$G,5,0),IFERROR(VLOOKUP($B27,'COMPOSIÇÕES COMPLEMENTARES '!$C:$K,7,0),""))) -> 2.57 | H27: =IF(E27="","",F27+G27) -> 23.05 | I27: =IF(E27="","",TRUNC((E27*F27),2)) -> 2195.86 | J27: =IF(E27="","",TRUNC((E27*G27),2)) -> 275.55 | K27: =IF(E27="","",TRUNC((E27*H27),2)) -> 2471.42
A28: 3.2 | B28: 105561 | C28: =IF($B28="","",IFERROR(VLOOKUP($B28,SERVIÇOS!$B:$G,2,0),IFERROR(VLOOKUP($B28,'COMPOSIÇÕES COMPLEMENTARES '!$C:$K,2,0),""))) -> EXECUÇÃO E COMPACTAÇÃO DE CORPO DE ATERRO DE ATERRO (95% DE ENERGIA DO PROCTOR NORMAL) COM SOLO PREDOMINANTEMENTE ARENOSO, EM CAMADAS COM ESPESSURA DE 10 CM - EXCLUSIVE ESCAVAÇÃO, CARGA E TRANSPORTE E SOLO. AF_09/2024 | D28: =IF($B28="","",IFERROR(VLOOKUP($B28,SERVIÇOS!$B:$G,3,0),IFERROR(VLOOKUP($B28,'COMPOSIÇÕES COMPLEMENTARES '!$C:$K,3,0),""))) -> M3 | E28: 107.22 | F28: =IF($B28="","",IFERROR(VLOOKUP($B28,SERVIÇOS!$B:$G,4,0),IFERROR(VLOOKUP($B28,'COMPOSIÇÕES COMPLEMENTARES '!$C:$K,6,0),""))) -> 7.11 | G28: =IF($B28="","",IFERROR(VLOOKUP($B28,SERVIÇOS!$B:$G,5,0),IFERROR(VLOOKUP($B28,'COMPOSIÇÕES COMPLEMENTARES '!$C:$K,7,0),""))) -> 2.01 | H28: =IF(E28="","",F28+G28) -> 9.12 | I28: =IF(E28="","",TRUNC((E28*F28),2)) -> 762.33 | J28: =IF(E28="","",TRUNC((E28*G28),2)) -> 215.51 | K28: =IF(E28="","",TRUNC((E28*H28),2)) -> 977.84
A29: 4 | C29: FUNDAÇÕES | I29: =TRUNC(SUMIF(I30:I40,">0",I30:I40),2) -> 96874.98 | J29: =TRUNC(SUMIF(J30:J40,">0",J30:J40),2) -> 31614.54 | L29: =SUMIF(I29:J29,">0",I29:J29) -> 128489.52
A30: 4.1 | B30: 100896 | C30: =IF($B30="","",IFERROR(VLOOKUP($B30,SERVIÇOS!$B:$G,2,0),IFERROR(VLOOKUP($B30,'COMPOSIÇÕES COMPLEMENTARES '!$C:$K,2,0),""))) -> ESTACA ESCAVADA MECANICAMENTE, SEM FLUIDO ESTABILIZANTE, COM 25CM DE DIÂMETRO, CONCRETO LANÇADO POR CAMINHÃO BETONEIRA (EXCLUSIVE MOBILIZAÇÃO E DESMOBILIZAÇÃO). AF_01/2020 | D30: =IF($B30="","",IFERROR(VLOOKUP($B30,SERVIÇOS!$B:$G,3,0),IFERROR(VLOOKUP($B30,'COMPOSIÇÕES COMPLEMENTARES '!$C:$K,3,0),""))) -> M | E30: 560 | F30: =IF($B30="","",IFERROR(VLOOKUP($B30,SERVIÇOS!$B:$G,4,0),IFERROR(VLOOKUP($B30,'COMPOSIÇÕES COMPLEMENTARES '!$C:$K,6,0),""))) -> 54.01 | G30: =IF($B30="","",IFERROR(VLOOKUP($B30,SERVIÇOS!$B:$G,5,0),IFERROR(VLOOKUP($B30,'COMPOSIÇÕES COMPLEMENTARES '!$C:$K,7,0),""))) -> 7.79 | H30: =IF(E30="","",F30+G30) -> 61.8 | I30: =IF(E30="","",TRUNC((E30*F30),2)) -> 30245.6 | J30: =IF(E30="","",TRUNC((E30*G30),2)) -> 4362.4 | K30: =IF(E30="","",TRUNC((E30*H30),2)) -> 34608 | O30: =IF(OR(N30="",$K30=""),"",(N30/$E30)*$K30) | Q30: =IF(OR(P30="",$K30=""),"",(P30/$E30)*$K30) | S30: =IF(OR(R30="",$K30=""),"",(R30/$E30)*$K30) | T30: =SUMIF($N$8:S$9,"QUANT.",N30:S30) -> 0 | U30: =SUMIF($N$8:$S$9,"CUSTO",N30:S30) -> 0 | V30: =IF(B30<>"",IF(U30=0,"MEDIR",IF(K30-U30=0,"OK",IF(K30-U30>0,"MEDIR","ALERTA!"))),"") -> MEDIR | W30: =IF(T30="",0,E30-T30) -> 560 | X30: =IF(U30="",0,K30-U30) -> 34608 | AJ30: =B30-AK30 -> 100896 | AK30: 0
A31: 4.2 | B31: 95583 | C31: =IF($B31="","",IFERROR(VLOOKUP($B31,SERVIÇOS!$B:$G,2,0),IFERROR(VLOOKUP($B31,'COMPOSIÇÕES COMPLEMENTARES '!$C:$K,2,0),""))) -> MONTAGEM DE ARMADURA TRANSVERSAL DE ESTACAS DE SEÇÃO CIRCULAR, DIÂMETRO = 5,0 MM. AF_09/2021_PS | D31: =IF($B31="","",IFERROR(VLOOKUP($B31,SERVIÇOS!$B:$G,3,0),IFERROR(VLOOKUP($B31,'COMPOSIÇÕES COMPLEMENTARES '!$C:$K,3,0),""))) -> KG | E31: 181.4 | F31: =IF($B31="","",IFERROR(VLOOKUP($B31,SERVIÇOS!$B:$G,4,0),IFERROR(VLOOKUP($B31,'COMPOSIÇÕES COMPLEMENTARES '!$C:$K,6,0),""))) -> 11.05 | G31: =IF($B31="","",IFERROR(VLOOKUP($B31,SERVIÇOS!$B:$G,5,0),IFERROR(VLOOKUP($B31,'COMPOSIÇÕES COMPLEMENTARES '!$C:$K,7,0),""))) -> 6.99 | H31: =IF(E31="","",F31+G31) -> 18.04 | I31: =IF(E31="","",TRUNC((E31*F31),2)) -> 2004.47 | J31: =IF(E31="","",TRUNC((E31*G31),2)) -> 1267.98 | K31: =IF(E31="","",TRUNC((E31*H31),2)) -> 3272.45 | O31: =IF(OR(N31="",$K31=""),"",(N31/$E31)*$K31) | Q31: =IF(OR(P31="",$K31=""),"",(P31/$E31)*$K31) | S31: =IF(OR(R31="",$K31=""),"",(R31/$E31)*$K31) | T31: =SUMIF($N$8:S$9,"QUANT.",N31:S31) -> 0 | U31: =SUMIF($N$8:$S$9,"CUSTO",N31:S31) -> 0 | V31: =IF(B31<>"",IF(U31=0,"MEDIR",IF(K31-U31=0,"OK",IF(K31-U31>0,"MEDIR","ALERTA!"))),"") -> MEDIR | W31: =IF(T31="",0,E31-T31) -> 181.4 | X31: =IF(U31="",0,K31-U31) -> 3272.45
A32: 4.3 | B32: 95577 | C32: =IF($B32="","",IFERROR(VLOOKUP($B32,SERVIÇOS!$B:$G,2,0),IFERROR(VLOOKUP($B32,'COMPOSIÇÕES COMPLEMENTARES '!$C:$K,2,0),""))) -> MONTAGEM DE ARMADURA DE ESTACAS, DIÂMETRO = 10,0 MM. AF_09/2021_PS | D32: =IF($B32="","",IFERROR(VLOOKUP($B32,SERVIÇOS!$B:$G,3,0),IFERROR(VLOOKUP($B32,'COMPOSIÇÕES COMPLEMENTARES '!$C:$K,3,0),""))) -> KG | E32: 913.1 | F32: =IF($B32="","",IFERROR(VLOOKUP($B32,SERVIÇOS!$B:$G,4,0),IFERROR(VLOOKUP($B32,'COMPOSIÇÕES COMPLEMENTARES '!$C:$K,6,0),""))) -> 9.65 | G32: =IF($B32="","",IFERROR(VLOOKUP($B32,SERVIÇOS!$B:$G,5,0),IFERROR(VLOOKUP($B32,'COMPOSIÇÕES COMPLEMENTARES '!$C:$K,7,0),""))) -> 1.2 | H32: =IF(E32="","",F32+G32) -> 10.85 | I32: =IF(E32="","",TRUNC((E32*F32),2)) -> 8811.41 | J32: =IF(E32="","",TRUNC((E32*G32),2)) -> 1095.72 | K32: =IF(E32="","",TRUNC((E32*H32),2)) -> 9907.13 | O32: =IF(OR(N32="",$K32=""),"",(N32/$E32)*$K32) | Q32: =IF(OR(P32="",$K32=""),"",(P32/$E32)*$K32) | S32: =IF(OR(R32="",$K32=""),"",(R32/$E32)*$K32) | T32: =SUMIF($N$8:S$9,"QUANT.",N32:S32) -> 0 | U32: =SUMIF($N$8:$S$9,"CUSTO",N32:S32) -> 0 | V32: =IF(B32<>"",IF(U32=0,"MEDIR",IF(K32-U32=0,"OK",IF(K32-U32>0,"MEDIR","ALERTA!"))),"") -> MEDIR | W32: =IF(T32="",0,E32-T32) -> 913.1 | X32: =IF(U32="",0,K32-U32) -> 9907.13
A33: 4.4 | B33: 96527 | C33: =IF($B33="","",IFERROR(VLOOKUP($B33,SERVIÇOS!$B:$G,2,0),IFERROR(VLOOKUP($B33,'COMPOSIÇÕES COMPLEMENTARES '!$C:$K,2,0),""))) -> ESCAVAÇÃO MANUAL PARA VIGA BALDRAME OU SAPATA CORRIDA (INCLUINDO ESCAVAÇÃO PARA COLOCAÇÃO DE FÔRMAS). AF_01/2024 | D33: =IF($B33="","",IFERROR(VLOOKUP($B33,SERVIÇOS!$B:$G,3,0),IFERROR(VLOOKUP($B33,'COMPOSIÇÕES COMPLEMENTARES '!$C:$K,3,0),""))) -> M3 | E33: 13.98 | F33: =IF($B33="","",IFERROR(VLOOKUP($B33,SERVIÇOS!$B:$G,4,0),IFERROR(VLOOKUP($B33,'COMPOSIÇÕES COMPLEMENTARES '!$C:$K,6,0),""))) -> 41.61 | G33: =IF($B33="","",IFERROR(VLOOKUP($B33,SERVIÇOS!$B:$G,5,0),IFERROR(VLOOKUP($B33,'COMPOSIÇÕES COMPLEMENTARES '!$C:$K,7,0),""))) -> 96.35 | H33: =IF(E33="","",F33+G33) -> 137.96 | I33: =IF(E33="","",TRUNC((E33*F33),2)) -> 581.7 | J33: =IF(E33="","",TRUNC((E33*G33),2)) -> 1346.97 | K33: =IF(E33="","",TRUNC((E33*H33),2)) -> 1928.68 | O33: =IF(OR(N33="",$K33=""),"",(N33/$E33)*$K33) | Q33: =IF(OR(P33="",$K33=""),"",(P33/$E33)*$K33) | S33: =IF(OR(R33="",$K33=""),"",(R33/$E33)*$K33) | T33: =SUMIF($N$8:S$9,"QUANT.",N33:S33) -> 0 | U33: =SUMIF($N$8:$S$9,"CUSTO",N33:S33) -> 0 | V33: =IF(B33<>"",IF(U33=0,"MEDIR",IF(K33-U33=0,"OK",IF(K33-U33>0,"MEDIR","ALERTA!"))),"") -> MEDIR | W33: =IF(T33="",0,E33-T33) -> 13.98 | X33: =IF(U33="",0,K33-U33) -> 1928.68
A34: 4.5 | B34: 96536 | C34: =IF($B34="","",IFERROR(VLOOKUP($B34,SERVIÇOS!$B:$G,2,0),IFERROR(VLOOKUP($B34,'COMPOSIÇÕES COMPLEMENTARES '!$C:$K,2,0),""))) -> FABRICAÇÃO, MONTAGEM E DESMONTAGEM DE FÔRMA PARA VIGA BALDRAME, EM MADEIRA SERRADA, E=25 MM, 4 UTILIZAÇÕES. AF_01/2024 | D34: =IF($B34="","",IFERROR(VLOOKUP($B34,SERVIÇOS!$B:$G,3,0),IFERROR(VLOOKUP($B34,'COMPOSIÇÕES COMPLEMENTARES '!$C:$K,3,0),""))) -> M2 | E34: 260.47 | F34: =IF($B34="","",IFERROR(VLOOKUP($B34,SERVIÇOS!$B:$G,4,0),IFERROR(VLOOKUP($B34,'COMPOSIÇÕES COMPLEMENTARES '!$C:$K,6,0),""))) -> 35.03 | G34: =IF($B34="","",IFERROR(VLOOKUP($B34,SERVIÇOS!$B:$G,5,0),IFERROR(VLOOKUP($B34,'COMPOSIÇÕES COMPLEMENTARES '!$C:$K,7,0),""))) -> 41.54 | H34: =IF(E34="","",F34+G34) -> 76.57 | I34: =IF(E34="","",TRUNC((E34*F34),2)) -> 9124.26 | J34: =IF(E34="","",TRUNC((E34*G34),2)) -> 10819.92 | K34: =IF(E34="","",TRUNC((E34*H34),2)) -> 19944.18 | O34: =IF(OR(N34="",$K34=""),"",(N34/$E34)*$K34) | Q34: =IF(OR(P34="",$K34=""),"",(P34/$E34)*$K34) | S34: =IF(OR(R34="",$K34=""),"",(R34/$E34)*$K34) | T34: =SUMIF($N$8:S$9,"QUANT.",N34:S34) -> 0 | U34: =SUMIF($N$8:$S$9,"CUSTO",N34:S34) -> 0 | V34: =IF(B34<>"",IF(U34=0,"MEDIR",IF(K34-U34=0,"OK",IF(K34-U34>0,"MEDIR","ALERTA!"))),"") -> MEDIR | W34: =IF(T34="",0,E34-T34) -> 260.47 | X34: =IF(U34="",0,K34-U34) -> 19944.18
A35: 4.6 | B35: 104916 | C35: =IF($B35="","",IFERROR(VLOOKUP($B35,SERVIÇOS!$B:$G,2,0),IFERROR(VLOOKUP($B35,'COMPOSIÇÕES COMPLEMENTARES '!$C:$K,2,0),""))) -> ARMAÇÃO DE SAPATA ISOLADA, VIGA BALDRAME E SAPATA CORRIDA UTILIZANDO AÇO CA-60 DE 5 MM - MONTAGEM. AF_01/2024 | D35: =IF($B35="","",IFERROR(VLOOKUP($B35,SERVIÇOS!$B:$G,3,0),IFERROR(VLOOKUP($B35,'COMPOSIÇÕES COMPLEMENTARES '!$C:$K,3,0),""))) -> KG | E35: 277.2 | F35: =IF($B35="","",IFERROR(VLOOKUP($B35,SERVIÇOS!$B:$G,4,0),IFERROR(VLOOKUP($B35,'COMPOSIÇÕES COMPLEMENTARES '!$C:$K,6,0),""))) -> 11.41 | G35: =IF($B35="","",IFERROR(VLOOKUP($B35,SERVIÇOS!$B:$G,5,0),IFERROR(VLOOKUP($B35,'COMPOSIÇÕES COMPLEMENTARES '!$C:$K,7,0),""))) -> 7.66 | H35: =IF(E35="","",F35+G35) -> 19.07 | I35: =IF(E35="","",TRUNC((E35*F35),2)) -> 3162.85 | J35: =IF(E35="","",TRUNC((E35*G35),2)) -> 2123.35 | K35: =IF(E35="","",TRUNC((E35*H35),2)) -> 5286.2 | O35: =IF(OR(N35="",$K35=""),"",(N35/$E35)*$K35) | Q35: =IF(OR(P35="",$K35=""),"",(P35/$E35)*$K35) | S35: =IF(OR(R35="",$K35=""),"",(R35/$E35)*$K35) | T35: =SUMIF($N$8:S$9,"QUANT.",N35:S35) -> 0 | U35: =SUMIF($N$8:$S$9,"CUSTO",N35:S35) -> 0 | V35: =IF(B35<>"",IF(U35=0,"MEDIR",IF(K35-U35=0,"OK",IF(K35-U35>0,"MEDIR","ALERTA!"))),"") -> MEDIR | W35: =IF(T35="",0,E35-T35) -> 277.2 | X35: =IF(U35="",0,K35-U35) -> 5286.2
A36: 4.7 | B36: 104917 | C36: =IF($B36="","",IFERROR(VLOOKUP($B36,SERVIÇOS!$B:$G,2,0),IFERROR(VLOOKUP($B36,'COMPOSIÇÕES COMPLEMENTARES '!$C:$K,2,0),""))) -> ARMAÇÃO DE SAPATA ISOLADA, VIGA BALDRAME E SAPATA CORRIDA UTILIZANDO AÇO CA-50 DE 6,3 MM - MONTAGEM. AF_01/2024 | D36: =IF($B36="","",IFERROR(VLOOKUP($B36,SERVIÇOS!$B:$G,3,0),IFERROR(VLOOKUP($B36,'COMPOSIÇÕES COMPLEMENTARES '!$C:$K,3,0),""))) -> KG | E36: 0.3 | F36: =IF($B36="","",IFERROR(VLOOKUP($B36,SERVIÇOS!$B:$G,4,0),IFERROR(VLOOKUP($B36,'COMPOSIÇÕES COMPLEMENTARES '!$C:$K,6,0),""))) -> 11.55 | G36: =IF($B36="","",IFERROR(VLOOKUP($B36,SERVIÇOS!$B:$G,5,0),IFERROR(VLOOKUP($B36,'COMPOSIÇÕES COMPLEMENTARES '!$C:$K,7,0),""))) -> 5.56 | H36: =IF(E36="","",F36+G36) -> 17.11 | I36: =IF(E36="","",TRUNC((E36*F36),2)) -> 3.46 | J36: =IF(E36="","",TRUNC((E36*G36),2)) -> 1.66 | K36: =IF(E36="","",TRUNC((E36*H36),2)) -> 5.13 | O36: =IF(OR(N36="",$K36=""),"",(N36/$E36)*$K36) | Q36: =IF(OR(P36="",$K36=""),"",(P36/$E36)*$K36) | S36: =IF(OR(R36="",$K36=""),"",(R36/$E36)*$K36) | T36: =SUMIF($N$8:S$9,"QUANT.",N36:S36) -> 0 | U36: =SUMIF($N$8:$S$9,"CUSTO",N36:S36) -> 0 | V36: =IF(B36<>"",IF(U36=0,"MEDIR",IF(K36-U36=0,"OK",IF(K36-U36>0,"MEDIR","ALERTA!"))),"") -> MEDIR | W36: =IF(T36="",0,E36-T36) -> 0.3 | X36: =IF(U36="",0,K36-U36) -> 5.13 | AJ36: =B36-AK36 -> 104917 | AK36: 0
A37: 4.8 | B37: 104918 | C37: =IF($B37="","",IFERROR(VLOOKUP($B37,SERVIÇOS!$B:$G,2,0),IFERROR(VLOOKUP($B37,'COMPOSIÇÕES COMPLEMENTARES '!$C:$K,2,0),""))) -> ARMAÇÃO DE SAPATA ISOLADA, VIGA BALDRAME E SAPATA CORRIDA UTILIZANDO AÇO CA-50 DE 8 MM - MONTAGEM. AF_01/2024 | D37: =IF($B37="","",IFERROR(VLOOKUP($B37,SERVIÇOS!$B:$G,3,0),IFERROR(VLOOKUP($B37,'COMPOSIÇÕES COMPLEMENTARES '!$C:$K,3,0),""))) -> KG | E37: 602 | F37: =IF($B37="","",IFERROR(VLOOKUP($B37,SERVIÇOS!$B:$G,4,0),IFERROR(VLOOKUP($B37,'COMPOSIÇÕES COMPLEMENTARES '!$C:$K,6,0),""))) -> 11.34 | G37: =IF($B37="","",IFERROR(VLOOKUP($B37,SERVIÇOS!$B:$G,5,0),IFERROR(VLOOKUP($B37,'COMPOSIÇÕES COMPLEMENTARES '!$C:$K,7,0),""))) -> 4.08 | H37: =IF(E37="","",F37+G37) -> 15.42 | I37: =IF(E37="","",TRUNC((E37*F37),2)) -> 6826.68 | J37: =IF(E37="","",TRUNC((E37*G37),2)) -> 2456.16 | K37: =IF(E37="","",TRUNC((E37*H37),2)) -> 9282.84 | O37: =IF(OR(N37="",$K37=""),"",(N37/$E37)*$K37) | Q37: =IF(OR(P37="",$K37=""),"",(P37/$E37)*$K37) | S37: =IF(OR(R37="",$K37=""),"",(R37/$E37)*$K37) | T37: =SUMIF($N$8:S$9,"QUANT.",N37:S37) -> 0 | U37: =SUMIF($N$8:$S$9,"CUSTO",N37:S37) -> 0 | V37: =IF(B37<>"",IF(U37=0,"MEDIR",IF(K37-U37=0,"OK",IF(K37-U37>0,"MEDIR","ALERTA!"))),"") -> MEDIR | W37: =IF(T37="",0,E37-T37) -> 602 | X37: =IF(U37="",0,K37-U37) -> 9282.84 | AJ37: =B37-AK37 -> 104918 | AK37: 0
A38: 4.9 | B38: 104919 | C38: =IF($B38="","",IFERROR(VLOOKUP($B38,SERVIÇOS!$B:$G,2,0),IFERROR(VLOOKUP($B38,'COMPOSIÇÕES COMPLEMENTARES '!$C:$K,2,0),""))) -> ARMAÇÃO DE SAPATA ISOLADA, VIGA BALDRAME E SAPATA CORRIDA UTILIZANDO AÇO CA-50 DE 10 MM - MONTAGEM. AF_01/2024 | D38: =IF($B38="","",IFERROR(VLOOKUP($B38,SERVIÇOS!$B:$G,3,0),IFERROR(VLOOKUP($B38,'COMPOSIÇÕES COMPLEMENTARES '!$C:$K,3,0),""))) -> KG | E38: 5.5 | F38: =IF($B38="","",IFERROR(VLOOKUP($B38,SERVIÇOS!$B:$G,4,0),IFERROR(VLOOKUP($B38,'COMPOSIÇÕES COMPLEMENTARES '!$C:$K,6,0),""))) -> 10.45 | G38: =IF($B38="","",IFERROR(VLOOKUP($B38,SERVIÇOS!$B:$G,5,0),IFERROR(VLOOKUP($B38,'COMPOSIÇÕES COMPLEMENTARES '!$C:$K,7,0),""))) -> 3.1 | H38: =IF(E38="","",F38+G38) -> 13.55 | I38: =IF(E38="","",TRUNC((E38*F38),2)) -> 57.47 | J38: =IF(E38="","",TRUNC((E38*G38),2)) -> 17.05 | K38: =IF(E38="","",TRUNC((E38*H38),2)) -> 74.52 | O38: =IF(OR(N38="",$K38=""),"",(N38/$E38)*$K38) | Q38: =IF(OR(P38="",$K38=""),"",(P38/$E38)*$K38) | S38: =IF(OR(R38="",$K38=""),"",(R38/$E38)*$K38) | T38: =SUMIF($N$8:S$9,"QUANT.",N38:S38) -> 0 | U38: =SUMIF($N$8:$S$9,"CUSTO",N38:S38) -> 0 | V38: =IF(B38<>"",IF(U38=0,"MEDIR",IF(K38-U38=0,"OK",IF(K38-U38>0,"MEDIR","ALERTA!"))),"") -> MEDIR | W38: =IF(T38="",0,E38-T38) -> 5.5 | X38: =IF(U38="",0,K38-U38) -> 74.52 | AJ38: =B38-AK38 -> 104919 | AK38: 0
A39: 4.10 | B39: COMP 003 | C39: =IF($B39="","",IFERROR(VLOOKUP($B39,SERVIÇOS!$B:$G,2,0),IFERROR(VLOOKUP($B39,'COMPOSIÇÕES COMPLEMENTARES '!$C:$K,2,0),""))) -> CONCRETAGEM DE BLOCOS DE COROAMENTO E VIGAS BALDRAMES, FCK 25 MPA, COM USO DE BOMBA DE LANÇAMENTO, ADENSAMENTO E ACABAMENTO | D39: =IF($B39="","",IFERROR(VLOOKUP($B39,SERVIÇOS!$B:$G,3,0),IFERROR(VLOOKUP($B39,'COMPOSIÇÕES COMPLEMENTARES '!$C:$K,3,0),""))) -> M3 | E39: 13.98 | F39: =IF($B39="","",IFERROR(VLOOKUP($B39,SERVIÇOS!$B:$G,4,0),IFERROR(VLOOKUP($B39,'COMPOSIÇÕES COMPLEMENTARES '!$C:$K,6,0),""))) -> 585.98 | G39: =IF($B39="","",IFERROR(VLOOKUP($B39,SERVIÇOS!$B:$G,5,0),IFERROR(VLOOKUP($B39,'COMPOSIÇÕES COMPLEMENTARES '!$C:$K,7,0),""))) -> 20.63 | H39: =IF(E39="","",F39+G39) -> 606.61 | I39: =IF(E39="","",TRUNC((E39*F39),2)) -> 8192 | J39: =IF(E39="","",TRUNC((E39*G39),2)) -> 288.4 | K39: =IF(E39="","",TRUNC((E39*H39),2)) -> 8480.4 | O39: =IF(OR(N39="",$K39=""),"",(N39/$E39)*$K39) | Q39: =IF(OR(P39="",$K39=""),"",(P39/$E39)*$K39) | S39: =IF(OR(R39="",$K39=""),"",(R39/$E39)*$K39) | T39: =SUMIF($N$8:S$9,"QUANT.",N39:S39) -> 0 | U39: =SUMIF($N$8:$S$9,"CUSTO",N39:S39) -> 0 | V39: =IF(B39<>"",IF(U39=0,"MEDIR",IF(K39-U39=0,"OK",IF(K39-U39>0,"MEDIR","ALERTA!"))),"") -> MEDIR | W39: =IF(T39="",0,E39-T39) -> 13.98 | X39: =IF(U39="",0,K39-U39) -> 8480.4 | AJ39: =B39-AK39 -> #VALUE! | AK39: 0
A40: 4.11 | B40: 98546 | C40: =IF($B40="","",IFERROR(VLOOKUP($B40,SERVIÇOS!$B:$G,2,0),IFERROR(VLOOKUP($B40,'COMPOSIÇÕES COMPLEMENTARES '!$C:$K,2,0),""))) -> IMPERMEABILIZAÇÃO DE SUPERFÍCIE COM MANTA ASFÁLTICA, UMA CAMADA, INCLUSIVE APLICAÇÃO DE PRIMER ASFÁLTICO, E=4MM. AF_09/2023 | D40: =IF($B40="","",IFERROR(VLOOKUP($B40,SERVIÇOS!$B:$G,3,0),IFERROR(VLOOKUP($B40,'COMPOSIÇÕES COMPLEMENTARES '!$C:$K,3,0),""))) -> M2 | E40: 260.47 | F40: =IF($B40="","",IFERROR(VLOOKUP($B40,SERVIÇOS!$B:$G,4,0),IFERROR(VLOOKUP($B40,'COMPOSIÇÕES COMPLEMENTARES '!$C:$K,6,0),""))) -> 106.98 | G40: =IF($B40="","",IFERROR(VLOOKUP($B40,SERVIÇOS!$B:$G,5,0),IFERROR(VLOOKUP($B40,'COMPOSIÇÕES COMPLEMENTARES '!$C:$K,7,0),""))) -> 30.08 | H40: =IF(E40="","",F40+G40) -> 137.06 | I40: =IF(E40="","",TRUNC((E40*F40),2)) -> 27865.08 | J40: =IF(E40="","",TRUNC((E40*G40),2)) -> 7834.93 | K40: =IF(E40="","",TRUNC((E40*H40),2)) -> 35700.01 | O40: =IF(OR(N40="",$K40=""),"",(N40/$E40)*$K40) | Q40: =IF(OR(P40="",$K40=""),"",(P40/$E40)*$K40) | S40: =IF(OR(R40="",$K40=""),"",(R40/$E40)*$K40) | T40: =SUMIF($N$8:S$9,"QUANT.",N40:S40) -> 0 | U40: =SUMIF($N$8:$S$9,"CUSTO",N40:S40) -> 0 | V40: =IF(B40<>"",IF(U40=0,"MEDIR",IF(K40-U40=0,"OK",IF(K40-U40>0,"MEDIR","ALERTA!"))),"") -> MEDIR | W40: =IF(T40="",0,E40-T40) -> 260.47 | X40: =IF(U40="",0,K40-U40) -> 35700.01 | AJ40: =B40-AK40 -> 98546 | AK40: 0
...

Sheet SERVIÇOS
C1: SERVIÇOS DE EDIFICAÇÕES - NÃO DESONERADA RESOLUÇÃO SECID N° 027/2025 Referência SINAPI: FEVEREIRO de 2025 - Vigência: MARÇO de 2025
A2: GRUPO | B2: CODIGO | C2: DESCRIÇÃO DO SERVIÇO | D2: UNID. MEDIDA | E2: CUSTOS
E3: MATERIAL | F3: MÃO DE OBRA | G3: TOTAL
A5: Acessibilidade | B5: 104658 | C5: PISO PODOTÁTIL DE ALERTA OU DIRECIONAL, DE CONCRETO, ASSENTADO SOBRE ARGAMASSA. AF_03/2024 | D5: M2 | E5: 104.37 | F5: 42.6 | G5: 146.97
A6: Acessibilidade | B6: 105002 | C6: RAMPA DE ACESSIBILIDADE EM CONCRETO MOLDADO IN LOCO, EM CALÇADA NOVA COM LARGURA MAIOR OU IGUAL À 3,00 M, FCK 25MPA, COM PISO PODOTÁTIL. AF_03/2024 | D6: UN | E6: 447.96 | F6: 315.03 | G6: 762.99
A7: Acessibilidade | B7: 105004 | C7: RAMPA DE ACESSIBILIDADE EM CONCRETO MOLDADO IN LOCO, EM CALÇADA NOVA COM LARGURA MENOR À 3,00 M, FCK 25MPA, COM PISO PODOTÁTIL. AF_03/2024 | D7: M2 | E7: 76.35 | F7: 54.51 | G7: 130.86
A8: Acessibilidade | B8: 105003 | C8: RAMPA DE ACESSIBILIDADE EM CONCRETO MOLDADO IN LOCO, EM CALÇADA PRÉ EXISTENTE COM LARGURA MAIOR OU IGUAL À 3,00 M, FCK 25MPA, COM PISO PODOTÁTIL. AF_03/2024 | D8: UN | E8: 679.48 | F8: 618.21 | G8: 1297.69
A9: Acessibilidade | B9: 105005 | C9: RAMPA DE ACESSIBILIDADE EM CONCRETO MOLDADO IN LOCO, EM CALÇADA PRÉ EXISTENTE COM LARGURA MENOR À 3,00 M, FCK 25MPA, COM PISO PODOTÁTIL. AF_03/2024 | D9: M2 | E9: 119.21 | F9: 110.64 | G9: 229.85
A10: Acessibilidade | B10: 105000 | C10: RAMPA DE ACESSIBILIDADE PARA ACESSO A EDIFICAÇÕES COM INCLINAÇÃO DE 8,33% EM CONCRETO MOLDADO IN LOCO, COM LARGURA DE 1,20M, FCK 25MPA, NÃO ARMADA, COM JUNTA A CADA 2M COM CORTE À SECO. AF_03/2024 | D10: M | E10: 996.55 | F10: 529.32 | G10: 1525.87
A11: Acessibilidade | B11: 105001 | C11: RAMPA DE ACESSIBILIDADE PARA ACESSO A EDIFICAÇÕES COM INCLINAÇÃO DE 8,33% EM CONCRETO MOLDADO IN LOCO, COM LARGURA DE 1,50M, FCK 25MPA, NÃO ARMADA, COM JUNTA A CADA 2M COM CORTE À SECO. AF_03/2024 | D11: M | E11: 1020.82 | F11: 534.59 | G11: 1555.41
A12: Alvenaria Estrutural - Blocos Cerâmicos | B12: 89306 | C12: ALVENARIA ESTRUTURAL DE BLOCOS CERÂMICOS 14X19X29, (ESPESSURA DE 14 CM), UTILIZANDO COLHER DE PEDREIRO E ARGAMASSA DE ASSENTAMENTO COM PREPARO EM BETONEIRA. AF_03/2023 | D12: M2 | E12: 60.79 | F12: 47.33 | G12: 108.12
