Workbook

Sheet Orçamento
B1: ROSA SUL PROJETOS DE ENGENHARIA
B2: Rua Aloisio Guimarães, 147 – Pitanga – PR | (42) 98414-0338
B3: PLANILHA DE ORÇAMENTO
B4: Estrutura Metálica Praça Japão
G6: Composição do BDI
G7: Admin. Central: | I7: 0.03
G8: Seguro e Garantia: | I8: 0.008
G9: Risco: | I9: 0.0097
G10: Desp. Financeiras: | I10: 0.0059
G11: Lucro: | I11: 0.0774
G12: Tributos | I12: 0.122
G13: ISS | I13: 0.03
G14: TOTAL BDI: | I14: =SUM(I7:I13) -> 0.283
B16: Nº | E16: DESCRIÇÃO DO SERVIÇO | F16: UND | G16: QTD | H16: MÃO DE OBRA Unit. (R$) | I16: MATERIAL/EQ Unit. (R$) | J16: TOTAL MO S/ BDI (R$) | K16: TOTAL MAT. S/ BDI (R$) | L16: TOTAL GERAL S/ BDI (R$) | M16: TOTAL GERAL COM BDI (R$)
B17: DISCIPLINA 1 – EQUIPE TÉCNICA
B18: 1.1 | C18: SINAPI | D18: 90778 | E18: ENGENHEIRO CIVIL DE OBRA PLENO COM ENCARGOS COMPLEMENTARES | F18: H | G18: 20 | H18: 173.31 | I18: 2.76 | J18: =G18*H18 -> 3466.2 | K18: =G18*I18 -> 55.2 | L18: =J18+K18 -> 3521.4 | M18: =L18*(1+Orçamento!$I14) -> 4517.9562
B19: 1.2 | C19: SINAPI | D19: 100309 | E19: TÉCNICO EM SEGURANÇA DO TRABALHO COM ENCARGOS COMPLEMENTARES | F19: H | G19: 20 | H19: 44.36 | I19: 2.88 | J19: =G19*H19 -> 887.2 | K19: =G19*I19 -> 57.6 | L19: =J19+K19 -> 944.8 | M19: =L19*(1+Orçamento!$I14) -> 1212.1784
B20: 1.3 | C20: SINAPI | D20: 90781 | E20: TOPOGRAFO COM ENCARGOS COMPLEMENTARES | F20: H | G20: 20 | H20: 44.36 | I20: 2.88 | J20: =G20*H20 -> 887.2 | K20: =G20*I20 -> 57.6 | L20: =J20+K20 -> 944.8 | M20: =L20*(1+Orçamento!$I15) -> 944.8
B21: DISCIPLINA 2 – ESTRUTURAL
B22: 2.1 | C22: SINAPI | D22: 100896 | E22: ESTACA ESCAVADA MECANICAMENTE, SEM FLUIDO ESTABILIZANTE, COM 20 CM DE DIÂMETRO. AF_01/2020 | F22: M | G22: 30 | H22: 9.46 | I22: 3.5 | J22: =G22*H22 -> 283.8 | K22: =G22*I22 -> 105 | L22: =J22+K22 -> 388.8 | M22: =L22*(1+Orçamento!$I14) -> 498.8304
B23: 2.2 | C23: SINAPI | D23: 92760 | E23: ARMAÇÃO DE ESTACA AÇO CA-50 — MONTAGEM. AF_06/2022 | F23: KG | G23: 81.39 | H23: 2.5 | I23: 9 | J23: =G23*H23 -> 203.475 | K23: =G23*I23 -> 732.51 | L23: =J23+K23 -> 935.985 | M23: =L23*(1+Orçamento!$I14) -> 1200.8688
B24: 2.3 | C24: SINAPI | D24: 96557 | E24: CONCRETAGEM DE ESTACAS FCK 25 MPA, COM BOMBA. AF_01/2024 | F24: M3 | G24: 0.94 | H24: 5.93 | I24: 570 | J24: =G24*H24 -> 5.5742 | K24: =G24*I24 -> 535.8 | L24: =J24+K24 -> 541.3742 | M24: =L24*(1+Orçamento!$I14) -> 694.5831
B25: 2.4 | C25: SINAPI | D25: 96522 | E25: ESCAVAÇÃO MANUAL PARA BLOCO DE COROAMENTO. AF_01/2024 | F25: M3 | G25: 0.67 | H25: 160.68 | I25: 68.11 | J25: =G25*H25 -> 107.6556 | K25: =G25*I25 -> 45.6337 | L25: =J25+K25 -> 153.2893 | M25: =L25*(1+Orçamento!$I14) -> 196.67017
B26: 2.5 | C26: SINAPI | D26: 96543 | E26: ARMAÇÃO DE BLOCO CA-50 — MONTAGEM. AF_01/2024 | F26: KG | G26: 22.1 | H26: 2.5 | I26: 9 | J26: =G26*H26 -> 55.25 | K26: =G26*I26 -> 198.9 | L26: =J26+K26 -> 254.15 | M26: =L26*(1+Orçamento!$I14) -> 326.07445
B27: 2.6 | C27: SBC | D27: 030300 | E27: FORMA DE MADEIRA PARA VIGAS BALDRAME — INCLUSIVE DESMOLDAGEM | F27: M2 | G27: 7.2 | H27: 40 | I27: 44.28 | J27: =G27*H27 -> 288 | K27: =G27*I27 -> 318.816 | L27: =J27+K27 -> 606.816 | M27: =L27*(1+$I14) -> 778.54493
B28: 2.7 | C28: SINAPI | D28: 96560 | E28: CONCRETAGEM DE BLOCO DE COROAMENTO FCK 25 MPA, COM BOMBA. AF_01/2024 | F28: M3 | G28: 0.67 | H28: 5.93 | I28: 570 | J28: =G28*H28 -> 3.9731 | K28: =G28*I28 -> 381.9 | L28: =J28+K28 -> 385.8731 | M28: =L28*(1+$I14) -> 495.07519
B29: 2.8 | C29: PRÓPRIA | D29: 00-02 | E29: FABRICAÇÃO E INSTALAÇÃO DE PILAR METÁLICO EM PERFIL UE 150×60×20×4,75 mm, ALTURA MÁX. 3,2 m, DIMENSÕES 30×15 cm, INCLUINDO CORTE, MONTAGEM, SOLDAGEM, TRANSPORTE, POSICIONAMENTO, FIXAÇÃO E ALINHAMENTO | F29: M | G29: 32 | H29: 88.5 | I29: 255.111 | J29: =G29*H29 -> 2832 | K29: =G29*I29 -> 8163.552 | L29: =J29+K29 -> 10995.552 | M29: =L29*(1+$I14) -> 14107.293
B30: 2.9 | C30: PRÓPRIA | D30: 00-05 | E30: FABRICAÇÃO E MONTAGEM DE TRELIÇA METÁLICA COM BANZOS EM PERFIL U 150×60×3 mm, MONTANTES E DIAGONAIS EM U 150×50×3 mm, VÃO 9,70 m, INCLINAÇÃO 14,4%, INCLUINDO CORTE, MONTAGEM, SOLDAGEM, TRANSPORTE, POSICIONAMENTO E FIXAÇÃO | F30: M | G30: 48.5 | H30: 156.5 | I30: 230.5 | J30: =G30*H30 -> 7590.25 | K30: =G30*I30 -> 11179.25 | L30: =J30+K30 -> 18769.5 | M30: =L30*(1+$I14) -> 24081.268
B31: 2.10 | C31: PRÓPRIA | D31: 00-04 | E31: FABRICAÇÃO E MONTAGEM DE CONTRAVENTAMENTO EM BARRA REDONDA Ø 9,5 mm | F31: M | G31: 50.64 | H31: 12.22 | I31: 5.86 | J31: =G31*H31 -> 618.8208 | K31: =G31*I31 -> 296.7504 | L31: =J31+K31 -> 915.5712 | M31: =L31*(1+$I14) -> 1174.6778
B32: 2.11 | C32: PRÓPRIA | D32: 00-07 | E32: COBERTURA EM TELHA METÁLICA TRAPEZOIDAL 0,43 mm, INCLUINDO FORNECIMENTO, CORTE, TRANSPORTE, INSTALAÇÃO, FIXAÇÃO COM PARAFUSOS AUTOBROCANTES, VEDAÇÃO E ALINHAMENTO | F32: M2 | G32: 158.11 | H32: 18.5 | I32: 80 | J32: =G32*H32 -> 2925.035 | K32: =G32*I32 -> 12648.8 | L32: =J32+K32 -> 15573.835 | M32: =L32*(1+$I14) -> 19981.23
B33: SUBTOTAL – DISCIPLINA 1 | J33: =SUM(J18:J20) -> 5240.6 | K33: =SUM(K18:K20) -> 170.4 | L33: =SUM(L18:L20) -> 5411 | M33: =SUM(M18:M20) -> 6674.9346
B35: SUBTOTAL – DISCIPLINA 2 | J35: =SUM(J22:J32) -> 14913.834 | K35: =SUM(K22:K32) -> 34606.912 | L35: =SUM(L22:L32) -> 49520.746 | M35: =SUM(M22:M32) -> 63535.117
B38: ★ TOTAL GERAL DA OBRA ★ | J38: =J33+J35 -> 20154.434 | K38: =K33+K35 -> 34777.312 | L38: =L33+L35 -> 54931.746 | M38: =M33+M35 -> 70210.051

Sheet Cronograma Físico-Financeiro
A1: ROSA SUL PROJETOS DE ENGENHARIA – CRONOGRAMA FÍSICO-FINANCEIRO
A2: Início: 04/05/2026 | Término Previsto: 25/05/2026 | 4 semanas | Valores vinculados ao Orçamento
J3: Mai/2026
A4: Nº | B4: DISCIPLINA | C4: DESCRIÇÃO | D4: UND | E4: QTD | F4: INÍCIO | G4: FIM | H4: DIAS | I4: PESO % | J4: S1 04/05 | K4: S2 11/05 | L4: S3 18/05 | M4: S4 25/05
A5: DISCIPLINA 1 – CIVIL / SERRALHERIA
A6: 01 | B6: DISCIPLINA 1 | C6: Remoção da barra antipânico existente | D6: un | E6: 1 | F6: 25/05/2026 | G6: 25/05/2026 | H6: 1 | I6: 0.009469697 | M6: █
A7: 01 | B7: DISCIPLINA 1 | C7: Fornecimento e instalação de barra antipânico c/ fechadura 95 cm | D7: un | E7: 1 | F7: 25/05/2026 | G7: 25/05/2026 | H7: 1 | I7: 0.009469697 | M7: █
A8: DISCIPLINA 2 – REVESTIMENTO CERÂMICO – PAREDES
A9: 02 | B9: DISCIPLINA 2 | C9: Remoção cerâmico viga – Banh. Feminino | D9: m² | E9: 1.43 | F9: 06/05/2026 | G9: 06/05/2026 | H9: 1 | I9: 0.009469697 | J9: █
A10: 02 | B10: DISCIPLINA 2 | C10: Preparação de face – viga Banh. Feminino | D10: m² | E10: 1.43 | F10: 06/05/2026 | G10: 06/05/2026 | H10: 1 | I10: 0.0056818182 | J10: █
A11: 02 | B11: DISCIPLINA 2 | C11: Assentamento cerâmico c/ rejunte – viga Banh. Fem. | D11: m² | E11: 1.43 | F11: 07/05/2026 | G11: 07/05/2026 | H11: 1 | I11: 0.013257576 | J11: █
A12: 10 | B12: DISCIPLINA 2 | C12: Remoção cerâmico parede – Ambiente 2 | D12: m² | E12: 12.5 | F12: 06/05/2026 | G12: 07/05/2026 | H12: 2 | I12: 0.018939394 | J12: █
A13: 10 | B13: DISCIPLINA 2 | C13: Preparação de face – parede Ambiente 2 | D13: m² | E13: 12.5 | F13: 06/05/2026 | G13: 06/05/2026 | H13: 1 | I13: 0.009469697 | J13: █
A14: 10 | B14: DISCIPLINA 2 | C14: Assentamento cerâmico c/ rejunte – parede Amb. 2 | D14: m² | E14: 12.5 | F14: 08/05/2026 | G14: 09/05/2026 | H14: 2 | I14: 0.028409091 | J14: █
A15: 06 | B15: DISCIPLINA 2 | C15: Rev. cerâmico parede arg. C1 – Ambiente 1 (57,74 m²) | D15: m² | E15: 57.74 | F15: 09/05/2026 | G15: 15/05/2026 | H15: 6 | I15: 0.15151515 | J15: █ | K15: █
A16: 06 | B16: DISCIPLINA 2 | C16: Rejuntamento parede – Ambiente 1 | D16: m² | E16: 57.74 | F16: 09/05/2026 | G16: 11/05/2026 | H16: 2 | I16: 0.018939394 | J16: █ | K16: █
A17: 08 | B17: DISCIPLINA 2 | C17: Rev. cerâmico parede 56×32 cm arg. C1 – Ambiente 2 (52,99 m²) | D17: m² | E17: 52.99 | F17: 09/05/2026 | G17: 15/05/2026 | H17: 6 | I17: 0.15151515 | J17: █ | K17: █
A18: 08 | B18: DISCIPLINA 2 | C18: Rejuntamento parede – Ambiente 2 | D18: m² | E18: 52.99 | F18: 09/05/2026 | G18: 11/05/2026 | H18: 2 | I18: 0.018939394 | J18: █ | K18: █
A19: DISCIPLINA 3 – REVESTIMENTO CERÂMICO – PISOS / RALOS
A20: 03 | B20: DISCIPLINA 3 | C20: Remoção piso cerâmico – Banh. ADM | D20: m² | E20: 3.63 | F20: 16/05/2026 | G20: 18/05/2026 | H20: 2 | I20: 0.018939394 | K20: █ | L20: █
A21: 03 | B21: DISCIPLINA 3 | C21: Preparação + impermeabilização – Banh. ADM | D21: m² | E21: 3.63 | F21: 16/05/2026 | G21: 16/05/2026 | H21: 1 | I21: 0.018939394 | K21: █
A22: 03 | B22: DISCIPLINA 3 | C22: Assentamento piso cerâmico c/ rejunte – Banh. ADM | D22: m² | E22: 3.63 | F22: 18/05/2026 | G22: 19/05/2026 | H22: 2 | I22: 0.018939394 | L22: █
A23: 07 | B23: DISCIPLINA 3 | C23: Preparação de face – piso Ambiente 1 | D23: m² | E23: 28.58 | F23: 16/05/2026 | G23: 16/05/2026 | H23: 1 | I23: 0.018939394 | K23: █
A24: 07 | B24: DISCIPLINA 3 | C24: Assentamento piso antiderrapante arg. C1 – Ambiente 1 | D24: m² | E24: 28.58 | F24: 16/05/2026 | G24: 20/05/2026 | H24: 4 | I24: 0.075757576 | K24: █ | L24: █
A25: 07 | B25: DISCIPLINA 3 | C25: Rejuntamento piso – Ambiente 1 | D25: m² | E25: 28.58 | F25: 18/05/2026 | G25: 18/05/2026 | H25: 1 | I25: 0.018939394 | L25: █
A26: 07 | B26: DISCIPLINA 3 | C26: Ralo 100 mm c/ grelha plástica – Ambiente 1 | D26: un | E26: 3 | F26: 18/05/2026 | G26: 18/05/2026 | H26: 1 | I26: 0.009469697 | L26: █
A27: 09 | B27: DISCIPLINA 3 | C27: Preparação de face – piso Ambiente 2 | D27: m² | E27: 10.21 | F27: 16/05/2026 | G27: 16/05/2026 | H27: 1 | I27: 0.009469697 | K27: █
A28: 09 | B28: DISCIPLINA 3 | C28: Assentamento piso antiderrapante arg. C1 – Ambiente 2 | D28: m² | E28: 10.21 | F28: 16/05/2026 | G28: 46161 | H28: 3 | I28: 0.047348485 | K28: █ | L28: █
A29: 09 | B29: DISCIPLINA 3 | C29: Rejuntamento piso – Ambiente 2 | D29: m² | E29: 10.21 | F29: 18/05/2026 | G29: 18/05/2026 | H29: 1 | I29: 0.009469697 | L29: █
A30: 09 | B30: DISCIPLINA 3 | C30: Ralo 100 mm c/ grelha plástica – Ambiente 2 | D30: un | E30: 2 | F30: 18/05/2026 | G30: 18/05/2026 | H30: 1 | I30: 0.0056818182 | L30: █
A31: DISCIPLINA 4 – PINTURA / FORRO
A32: 7/9 | B32: DISCIPLINA 4 | C32: Emassamento forro massa PVA – 3 demãos (38,80 m²) | D32: m² | E32: 38.8 | F32: 21/05/2026 | G32: 22/05/2026 | H32: 2 | I32: 0.028409091 | L32: █
A33: 7/9 | B33: DISCIPLINA 4 | C33: Lixamento de forro após emassamento | D33: m² | E33: 38.8 | F33: 21/05/2026 | G33: 21/05/2026 | H33: 1 | I33: 0.009469697 | L33: █
A34: 7/9 | B34: DISCIPLINA 4 | C34: Pintura acrílica branca – 2 demãos | D34: m² | E34: 38.8 | F34: 22/05/2026 | G34: 23/05/2026 | H34: 2 | I34: 0.018939394 | L34: █
A35: DISCIPLINA 5 – ESQUADRIAS / BATENTES
A36: 06 | B36: DISCIPLINA 5 | C36: Batente alumínio branco 1"×1" – portas Ambiente 1 | D36: m | E36: 5.42 | F36: 21/05/2026 | G36: 21/05/2026 | H36: 1 | I36: 0.013257576 | L36: █
A37: 08 | B37: DISCIPLINA 5 | C37: Batente alumínio branco 1"×1" – portas Ambiente 2 | D37: m | E37: 10.72 | F37: 21/05/2026 | G37: 21/05/2026 | H37: 1 | I37: 0.015151515 | L37: █
A38: DISCIPLINA 6 – ALVENARIA
A39: 04 | B39: DISCIPLINA 6 | C39: Demolição parede bloco concreto e=15 cm – Trecho 1 (3,26×2,50) | D39: m³ | E39: 1.22 | F39: 04/05/2026 | G39: 04/05/2026 | H39: 1 | I39: 0.028409091 | J39: █
A40: 04 | B40: DISCIPLINA 6 | C40: Demolição parede bloco concreto e=15 cm – Trecho 2 (3,26×2,50) | D40: m³ | E40: 1.22 | F40: 04/05/2026 | G40: 04/05/2026 | H40: 1 | I40: 0.028409091 | J40: █
...
