Workbook
Name \: #REF!
Name \0: #REF!
Name \a: #REF!
Name \b: [1]SID_NI_5!#REF!
Name \c: [1]SID_NI_5!#REF!
Name \e: #REF!
Name \fagf: #REF!
Name \I: #REF!
Name \p: [1]SID_NI_5!#REF!
Name \q: #REF!
Name \S: [2]COMPOS1!#REF!
Name \y: #N/A
Name ____________________________________PL1: #REF!
Name ___________________________________PL1: #REF!
Name __________________________________PL1: #REF!
Name _________________________________PL1: #REF!
Name ________________________________PL1: #REF!
Name _______________________________PL1: #REF!
Name ______________________________PL1: #REF!
Name _____________________________PL1: #REF!
Name ____________________________PL1: #REF!
Name ___________________________PL1: #REF!
Name __________________________PL1: #REF!
Name _________________________PL1: #REF!
Name _________________________tt1: #N/A
Name ________________________PL1: #REF!
Name ________________________tt1: #N/A
Name _______________________PL1: #REF!
Name _______________________tt1: #N/A
Name ______________________CAP20: #REF!
Name ______________________PL1: #REF!
Name ______________________TB10: #REF!
Name ______________________TCB5: #REF!
Name ______________________tcc4: #REF!
Name ______________________tt1: #N/A
Name _____________________CAP20: #REF!
Name _____________________PL1: #REF!
Name _____________________TB10: #REF!
Name _____________________TCB5: #REF!
Name _____________________tcc4: #REF!
Name _____________________tt1: #N/A
Name ____________________PL1: #REF!
Name ____________________tcc4: #REF!
Name ____________________tt1: #N/A
Name ___________________CAP20: #REF!
Name ___________________PL1: #REF!
Name ___________________TB10: #REF!
Name ___________________TCB5: #REF!
Name ___________________tcc4: #REF!
Name ___________________tt1: #N/A
Name __________________CAP20: #REF!
Name __________________PL1: #REF!
Name __________________TB10: #REF!
Name __________________TCB5: #REF!
Name __________________tcc4: #REF!
Name __________________tt1: #N/A
Name _________________CAP20: #REF!
Name _________________PL1: #REF!
Name _________________TB10: #REF!
Name _________________TCB5: #REF!

Sheet ORÇAMENTO
A2: MUNICÍPIO DE CAMPO MOURÃO SECRETARIA DE INFRAESTRUTURA E MOBILIDADE URBANA SEIMOB
H8: DATA: | I8: 46098
A9: OBRA: | B9: RECAPE E PAVIMENTAÇÃO ASFÁLTICA EM CBUQ | H9: BDI (Obra): 25,49
A10: LOCAL: | B10: RUA 27 DE DEZEMBRO | H10: BDI (Ligantes): 22,39 | L10: BDI | M10: 25.49
L11: BDI LIG. | M11: 22.39
A12: Item | B12: Cod. | C12: Origem | D12: Descrição | E12: Unidade | F12: Quantidade | G12: R$ Unit. | H12: R$ Unit. com BDI | I12: R$ Total
A13: 1 | D13: CUSTOS INDIRETOS | I13: =SUM(I14:I16) -> 1277306.2 | K13: OK
A14: 1.1 | C14: DER/PR | D14: Administração Local | E14: gb | F14: 1 | G14: 609175.18 | H14: =ROUND(G14+((G14*$M$10)/100),2) -> 764453.93 | I14: =TRUNC(H14*F14,3) -> 764453.93
A15: 1.2 | C15: DER/PR | D15: Canteiro de Obras | E15: gb | F15: 1 | G15: 161629.47 | H15: =ROUND(G15+((G15*$M$10)/100),2) -> 202828.82 | I15: =TRUNC(H15*F15,3) -> 202828.82
A16: 1.3 | C16: DER/PR | D16: Mobilização e Desmobilização | E16: gb | F16: 1 | G16: 247050.31 | H16: =ROUND(G16+((G16*$M$10)/100),2) -> 310023.43 | I16: =TRUNC(H16*F16,3) -> 310023.43
A17: 2 | D17: TERRAPLENAGEM | I17: =SUM(I18:I21) -> 442701.58 | K17: ok
A18: 2.1 | B18: 501000 | C18: DER/PR | D18: =VLOOKUP(B18,DER,2,0) -> Escarificação e remoção revestimento primário | E18: =VLOOKUP($B$18,DER,3,0) -> m3 | F18: 5623.56 | G18: =VLOOKUP(B18,DER,7,0) -> 5.8 | H18: =ROUND(G18+((G18*$M$10)/100),2) -> 7.28 | I18: =TRUNC(H18*F18,3) -> 40939.516
A19: 2.2 | B19: 410200 | C19: DER/PR | D19: =VLOOKUP(B19,DER,2,0) -> Esc. carga e transp. 1a. cat. 0-200m | E19: =VLOOKUP(B19,DER,3,0) -> m3 | F19: 16785.74 | G19: =VLOOKUP(B19,DER,7,0) -> 8.02 | H19: =ROUND(G19+((G19*$M$10)/100),2) -> 10.06 | I19: =TRUNC(H19*F19,3) -> 168864.54
A20: 2.3 | B20: 416010 | C20: DER/PR | D20: =VLOOKUP(B20,DER,2,0) -> Esc. carga e transp. 1a. cat. 5000-6000m | E20: =VLOOKUP(B20,DER,3,0) -> m3 | F20: 3811.31 | G20: =VLOOKUP(B20,DER,7,0) -> 21.11 | H20: =ROUND(G20+((G20*$M$10)/100),2) -> 26.49 | I20: =TRUNC(H20*F20,3) -> 100961.6
A21: 2.4 | B21: 401000 | C21: DER/PR | D21: =VLOOKUP(B21,DER,2,0) -> Compactação de aterros 100% PN (A) | E21: =VLOOKUP(B21,DER,3,0) -> m3 | F21: 16785.74 | G21: =VLOOKUP(B21,DER,7,0) -> 6.26 | H21: =ROUND(G21+((G21*$M$10)/100),2) -> 7.86 | I21: =TRUNC(H21*F21,3) -> 131935.92
A22: 3 | D22: PAVIMENTAÇÃO | I22: =SUM(I23:I30) -> 2694569.7 | K22: ok
A23: 3.1 | B23: 511000 | C23: DER/PR | D23: =VLOOKUP(B23,DER,2,0) -> Regularização compac.subleito S.A.F. 100% PI | E23: =VLOOKUP($B$23,DER,3,0) -> m2 | F23: 28117.78 | G23: =VLOOKUP(B23,DER,7,0) -> 4.53 | H23: =ROUND(G23+((G23*$M$10)/100),2) -> 5.68 | I23: =TRUNC(H23*F23,3) -> 159708.99
A24: 3.2 | B24: 531300 | C24: DER/PR | D24: =VLOOKUP(B24,DER,2,0) -> Macadame seco britado preenchido c/brita graduada | E24: =VLOOKUP(B24,DER,3,0) -> m3 | F24: 3768.61 | G24: =ROUND(VLOOKUP(B24,DER,7,0)+(15.7*0.9)+(2.28),2) -> 142.24 | H24: =ROUND(G24+((G24*$M$10)/100),2) -> 178.5 | I24: =TRUNC(H24*F24,3) -> 672696.89
A25: 3.3 | B25: 531000 | C25: DER/PR | D25: =VLOOKUP(B25,DER,2,0) -> Brita graduada 100% PI | E25: =VLOOKUP(B25,DER,3,0) -> m3 | F25: 3768.61 | G25: =ROUND(VLOOKUP(B25,DER,7,0)+(15.7*0.9)+(2.28),2) -> 170.33 | H25: =ROUND(G25+((G25*$M$10)/100),2) -> 213.75 | I25: =TRUNC(H25*F25,3) -> 805540.39
A26: 3.4 | B26: 560100 | C26: DER/PR | D26: =VLOOKUP(B26,DER,2,0) -> Imprimação impermeabilizante exclusive fornecimento e transporte da emulsão | E26: =VLOOKUP(B26,DER,3,0) -> m2 | F26: 25124.04 | G26: =VLOOKUP(B26,DER,7,0) -> 0.49 | H26: =ROUND(G26+((G26*$M$10)/100),2) -> 0.61 | I26: =TRUNC(H26*F26,3) -> 15325.664
A27: 3.5 | B27: 561100 | C27: DER/PR | D27: =VLOOKUP(B27,DER,2,0) -> Pintura de ligação exclusive fornecimento e transporte da emulsão | E27: =VLOOKUP(B27,DER,3,0) -> m2 | F27: 29897.04 | G27: =VLOOKUP(B27,DER,7,0) -> 0.34 | H27: =ROUND(G27+((G27*$M$10)/100),2) -> 0.43 | I27: =TRUNC(H27*F27,3) -> 12855.727
A28: 3.6 | B28: 570000 | C28: DER/PR | D28: =VLOOKUP(B28,DER,2,0) -> C.B.U.Q. exclusive fornec. e transporte do CAP (até 10.000 t) | E28: =VLOOKUP(B28,DER,3,0) -> t | F28: 3530.37 | G28: =ROUND(VLOOKUP(B28,DER,7,0)+(15.7*1.07)+(6.43),2) -> 208.66 | H28: =ROUND(G28+((G28*$M$10)/100),2) -> 261.85 | I28: =TRUNC(H28*F28,3) -> 924427.38
A29: 3.7 | B29: 581050 | C29: DER/PR | D29: =VLOOKUP(B29,DER,2,0) -> Transporte de cimento asfáltico CAP-50/70 (usina) | E29: =VLOOKUP(B29,DER,3,0) -> t.km | F29: =185.34*452 -> 83773.68 | G29: =VLOOKUP(B29,DER,7,0) -> 0.94 | H29: =ROUND(G29+((G29*$M$10)/100),2) -> 1.18 | I29: =TRUNC(H29*F29,3) -> 98852.942
A30: 3.8 | B30: 581011 | C30: DER/PR | D30: =VLOOKUP(B30,DER,2,0) -> Transporte de emulsão (trecho) | E30: =VLOOKUP(B30,DER,3,0) -> t.km | F30: =45.1*109 -> 4915.9 | G30: =VLOOKUP(B30,DER,7,0) -> 0.86 | H30: =ROUND(G30+((G30*$M$11)/100),2) -> 1.05 | I30: =TRUNC(H30*F30,3) -> 5161.695
A31: 4 | D31: FORNECIMENTO DE LIGANTES | I31: =SUM(I32:I34) -> 1267292.5 | K31: ok
A32: 4.1 | B32: 589190 | C32: DER/PR | D32: =VLOOKUP(B32,DER,2,0) -> Fornecimento de emulsão asfáltica EAI p/imprimação | E32: =VLOOKUP(B32,DER,3,0) -> t | F32: 30.15 | G32: =VLOOKUP(B32,DER,7,0) -> 3389.71 | H32: =ROUND(G32+((G32*$M$11)/100),2) -> 4148.67 | I32: =TRUNC(H32*F32,3) -> 125082.4
A33: 4.2 | B33: 589420 | C33: DER/PR | D33: =VLOOKUP(B33,DER,2,0) -> Fornecimento de emulsão asfáltica RR-1C | E33: =VLOOKUP(B33,DER,3,0) -> t | F33: 14.95 | G33: =VLOOKUP(B33,DER,7,0) -> 3462.14 | H33: =ROUND(G33+((G33*$M$11)/100),2) -> 4237.31 | I33: =TRUNC(H33*F33,3) -> 63347.784
A34: 4.3 | B34: 589000 | C34: DER/PR | D34: =VLOOKUP(B34,DER,2,0) -> Fornecimento de CAP-50/70 | E34: =VLOOKUP(B34,DER,3,0) -> t | F34: 185.34 | G34: =VLOOKUP(B34,DER,7,0) -> 4756.1 | H34: =ROUND(G34+((G34*$M$11)/100),2) -> 5820.99 | I34: =TRUNC(H34*F34,3) -> 1078862.3
A35: 5.1 | D35: DRENAGEM | I35: =SUM(I36:I42) -> 1068585.5
A36: 5.1 | B36: 600300 | C36: DER/PR | D36: =VLOOKUP(B36,DER,2,0) -> Escavação de bueiros em 1a. cat. | E36: =VLOOKUP(B36,DER,3,0) -> m3 | F36: 3529.26 | G36: =ROUND(VLOOKUP(B36,DER,7,0),2) -> 8.65 | H36: =ROUND(G36+((G36*$M$10)/100),2) -> 10.85 | I36: =TRUNC(H36*F36,3) -> 38292.471
A37: 5.2 | B37: 601200 | C37: DER/PR | D37: =VLOOKUP(B37,DER,2,0) -> Reaterro e apiloamento mecânico | E37: =VLOOKUP(B37,DER,3,0) -> m3 | F37: 2588.76 | G37: =ROUND(VLOOKUP(B37,DER,7,0),2) -> 24.45 | H37: =ROUND(G37+((G37*$M$10)/100),2) -> 30.68 | I37: =TRUNC(H37*F37,3) -> 79423.156
A38: 5.3 | D38: Corpo de BSTC 0,40m sem berço com tubo PS-1 | E38: m | F38: 276 | G38: 198.89 | H38: =ROUND(G38+((G38*$M$10)/100),2) -> 249.59 | I38: =TRUNC(H38*F38,3) -> 68886.84
A39: 5.4 | D39: Corpo de BSTC 0,60m sem berço com tubo PS-1 | E39: m | F39: 455 | G39: 310.84 | H39: =ROUND(G39+((G39*$M$10)/100),2) -> 390.07 | I39: =TRUNC(H39*F39,3) -> 177481.85
A40: 5.5 | D40: Corpo de BSTC 0,80m sem berço com tubo PA-1 | E40: m | F40: 507 | G40: 473.92 | H40: =ROUND(G40+((G40*$M$10)/100),2) -> 594.72 | I40: =TRUNC(H40*F40,3) -> 301523.04
A41: 5.6 | D41: Corpo de BSTC 1,00m sem berço com tubo PA-1 | E41: m | F41: 210 | G41: 650.56 | H41: =ROUND(G41+((G41*$M$10)/100),2) -> 816.39 | I41: =TRUNC(H41*F41,3) -> 171441.9
A42: 5.7 | B42: COMP-4 | C42: DER/PR | D42: Meio-fio em concreto (executado com extrusora) | E42: m | F42: 5987.49 | G42: ='Composições Auxiliares2'!V36 -> 30.81555 | H42: =ROUND(G42+((G42*$M$10)/100),2) -> 38.67 | I42: =TRUNC(H42*F42,3) -> 231536.24
A43: 6 | D43: BOCA DE BUEIRO PARA TUBOS CIRCULARES (1,00m e 0,60m) - Esc. 30° | I43: =SUM(I44:I45) -> 4698.826
A44: 6.1 | B44: 605000 | C44: DER/PR | D44: =VLOOKUP(B44,DER,2,0) -> Concreto magro, preparo em betoneira e lanç. | E44: =VLOOKUP(B44,DER,3,0) -> m3 | F44: =ROUND($N$44*SUM(L44:M44),2) -> 5.58 | G44: =VLOOKUP(B44,DER,7,0) -> 410.6 | H44: =ROUND(G44+((G44*$M$10)/100),2) -> 515.26 | I44: =TRUNC(H44*F44,3) -> 2875.15 | L44: 4.206 | M44: 1.37 | N44: 1
A45: 6.2 | B45: 602000 | C45: DER/PR | D45: =VLOOKUP(B45,DER,2,0) -> Formas de madeira comum | E45: =VLOOKUP(B45,DER,3,0) -> m2 | F45: =ROUND($N$45*SUM(L45:M45),2) -> 24.9 | G45: =VLOOKUP(B45,DER,7,0) -> 58.36 | H45: =ROUND(G45+((G45*$M$10)/100),2) -> 73.24 | I45: =TRUNC(H45*F45,3) -> 1823.676 | L45: 16.19 | M45: 8.71 | N45: 1
A46: 7 | D46: DISSIPADOR DE ENERGIA (1,00m e 0,60m) | I46: =SUM(I47:I51) -> 5424.435
...

Sheet CRONOGRAMA
A1: MODELO DE CRONOGRAMA PARA SER UTILIZADO QUANDO SE TRATAR APENAS DE UM TIPO DE OBRA. QUANDO HOUVER REPAROS E MELHORIAS NA MESMA OBRA, ELABORAR CRONOGRAMAS SEPARADOS
L3: PRÓPRIO: | X3: DATA: | Y3: 46098
L4: MUNICÍPIO: | M4: CAMPO MOURÃO | X4: TIPO OBRA: | Y4: PAVIMENTAÇÃO
L5: EMPRESA: | X5: PROTOCOLO:
X6: PRAZO EXECUÇÃO | Y6: 300
X7: BDI | Y7: 0
A8: ITEM | B8: SERVIÇOS | D8: 30 | E8: % NO PERIODO | F8: 60 | G8: % NO PERIODO | H8: 90 | I8: % NO PERIODO | J8: 120 | K8: % NO PERIODO | L8: 150 | M8: % NO PERIODO | N8: 180 | O8: % NO PERIODO | P8: 210 | Q8: % NO PERIODO | R8: 240 | S8: % NO PERIODO | T8: 270 | U8: % NO PERIODO | V8: 300 | W8: % NO PERIODO | X8: VALOR | Y8: VALOR
C9: ÍNDICE | X9: SERVIÇO | Y9: PLANILHA
A10: 1 | B10: =ORÇAMENTO!D13 -> CUSTOS INDIRETOS | C10: =IFERROR(X10/$X$31,0) -> 0.14563021 | D10: =IF(B10<>"",E10*X10," ") -> 383191.85 | E10: 0.3 | F10: =IF(B10<>"",G10*X10," ") -> 0 | H10: =IF(B10<>"",I10*X10," ") -> 0 | J10: =IF(B10<>"",K10*X10," ") -> 510922.47 | K10: 0.4 | L10: =IF(B10<>"",M10*X10," ") -> 0 | N10: =IF(B10<>"",O10*X10," ") -> 0 | P10: =IF(D10<>"",Q10*Z10," ") -> 0 | R10: =IF(F10<>"",S10*X10," ") -> 0 | T10: =IF(H10<>"",U10*X10," ") -> 0 | V10: =IF(J10<>"",W10*X10," ") -> 383191.85 | W10: 0.3 | X10: =(IF(B10<>"",Y10*(1+$Y$7)," ")) -> 1277306.2 | Y10: =ORÇAMENTO!I13 -> 1277306.2 | AB10: =E10+G10+I10+K10+M10+O10+Q10+S10+U10+W10 -> 1
A11: 2 | B11: =ORÇAMENTO!D17 -> TERRAPLENAGEM | C11: =IFERROR(X11/$X$31,0) -> 0.050473976 | D11: =IF(B11<>"",E11*X11," ") -> 88540.315 | E11: 0.2 | F11: =IF(B11<>"",G11*X11," ") -> 88540.315 | G11: 0.2 | H11: =IF(B11<>"",I11*X11," ") -> 88540.315 | I11: 0.2 | J11: =IF(B11<>"",K11*X11," ") -> 88540.315 | K11: 0.2 | L11: =IF(B11<>"",M11*X11," ") -> 88540.315 | M11: 0.2 | N11: =IF(B11<>"",O11*X11," ") -> 0 | P11: =IF(D11<>"",Q11*Z11," ") -> 0 | R11: =IF(F11<>"",S11*X11," ") -> 0 | T11: =IF(H11<>"",U11*X11," ") -> 0 | V11: =IF(J11<>"",W11*X11," ") -> 0 | X11: =(IF(B11<>"",Y11*(1+$Y$7)," ")) -> 442701.58 | Y11: =ORÇAMENTO!I17 -> 442701.58 | AB11: =E11+G11+I11+K11+M11+O11+Q11+S11+U11+W11 -> 1
A12: 3 | B12: =ORÇAMENTO!D22 -> PAVIMENTAÇÃO | C12: =IFERROR(X12/$X$31,0) -> 0.30721744 | D12: =IF(B12<>"",E12*X12," ") -> 0 | F12: =IF(B12<>"",G12*X12," ") -> 538913.93 | G12: 0.2 | H12: =IF(B12<>"",I12*X12," ") -> 538913.93 | I12: 0.2 | J12: =IF(B12<>"",K12*X12," ") -> 538913.93 | K12: 0.2 | L12: =IF(B12<>"",M12*X12," ") -> 538913.93 | M12: 0.2 | N12: =IF(B12<>"",O12*X12," ") -> 538913.93 | O12: 0.2 | P12: =IF(D12<>"",Q12*Z12," ") -> 0 | R12: =IF(F12<>"",S12*X12," ") -> 0 | T12: =IF(H12<>"",U12*X12," ") -> 0 | V12: =IF(J12<>"",W12*X12," ") -> 0 | X12: =(IF(B12<>"",Y12*(1+$Y$7)," ")) -> 2694569.7 | Y12: =ORÇAMENTO!I22 -> 2694569.7 | AB12: =E12+G12+I12+K12+M12+O12+Q12+S12+U12+W12 -> 1
A13: 4 | B13: =ORÇAMENTO!D31 -> FORNECIMENTO DE LIGANTES | C13: =IFERROR(X13/$X$31,0) -> 0.14448851 | D13: =IF(B13<>"",E13*X13," ") -> 0 | F13: =IF(B13<>"",G13*X13," ") -> 253458.49 | G13: 0.2 | H13: =IF(B13<>"",I13*X13," ") -> 253458.49 | I13: 0.2 | J13: =IF(B13<>"",K13*X13," ") -> 253458.49 | K13: 0.2 | L13: =IF(B13<>"",M13*X13," ") -> 253458.49 | M13: 0.2 | N13: =IF(B13<>"",O13*X13," ") -> 253458.49 | O13: 0.2 | P13: =IF(D13<>"",Q13*Z13," ") -> 0 | R13: =IF(F13<>"",S13*X13," ") -> 0 | T13: =IF(H13<>"",U13*X13," ") -> 0 | V13: =IF(J13<>"",W13*X13," ") -> 0 | X13: =(IF(B13<>"",Y13*(1+$Y$7)," ")) -> 1267292.5 | Y13: =ORÇAMENTO!I31 -> 1267292.5 | AB13: =E13+G13+I13+K13+M13+O13+Q13+S13+U13+W13 -> 1
A14: 5 | B14: =ORÇAMENTO!D35 -> DRENAGEM | C14: =IFERROR(X14/$X$31,0) -> 0.12183322 | D14: =IF(B14<>"",E14*X14," ") -> 320575.65 | E14: 0.3 | F14: =IF(B14<>"",G14*X14," ") -> 320575.65 | G14: 0.3 | H14: =IF(B14<>"",I14*X14," ") -> 427434.2 | I14: 0.4 | J14: =IF(B14<>"",K14*X14," ") -> 0 | L14: =IF(B14<>"",M14*X14," ") -> 0 | N14: =IF(B14<>"",O14*X14," ") -> 0 | P14: =IF(D14<>"",Q14*Z14," ") -> 0 | R14: =IF(F14<>"",S14*X14," ") -> 0 | T14: =IF(H14<>"",U14*X14," ") -> 0 | V14: =IF(J14<>"",W14*X14," ") -> 0 | X14: =(IF(B14<>"",Y14*(1+$Y$7)," ")) -> 1068585.5 | Y14: =ORÇAMENTO!I35 -> 1068585.5 | AB14: =E14+G14+I14+K14+M14+O14+Q14+S14+U14+W14 -> 1
A15: 6 | B15: =ORÇAMENTO!D43 -> BOCA DE BUEIRO PARA TUBOS CIRCULARES (1,00m e 0,60m) - Esc. 30° | C15: =IFERROR(X15/$X$31,0) -> 0.00053572981 | D15: =IF(B15<>"",E15*X15," ") -> 0 | F15: =IF(B15<>"",G15*X15," ") -> 0 | H15: =IF(B15<>"",I15*X15," ") -> 4698.826 | I15: 1 | J15: =IF(B15<>"",K15*X15," ") -> 0 | L15: =IF(B15<>"",M15*X15," ") -> 0 | N15: =IF(B15<>"",O15*X15," ") -> 0 | P15: =IF(D15<>"",Q15*Z15," ") -> 0 | R15: =IF(F15<>"",S15*X15," ") -> 0 | T15: =IF(H15<>"",U15*X15," ") -> 0 | V15: =IF(J15<>"",W15*X15," ") -> 0 | X15: =(IF(B15<>"",Y15*(1+$Y$7)," ")) -> 4698.826 | Y15: =ORÇAMENTO!I43 -> 4698.826 | AB15: =E15+G15+I15+K15+M15+O15+Q15+S15+U15+W15 -> 1
A16: 7 | B16: =ORÇAMENTO!D46 -> DISSIPADOR DE ENERGIA (1,00m e 0,60m) | C16: =IFERROR(X16/$X$31,0) -> 0.00061845907 | H16: =IF(B16<>"",I16*X16," ") -> 5424.435 | I16: 1 | X16: =(IF(B16<>"",Y16*(1+$Y$7)," ")) -> 5424.435 | Y16: =ORÇAMENTO!I46 -> 5424.435 | AB16: =E16+G16+I16+K16+M16+O16+Q16+S16+U16+W16 -> 1
A17: 8 | B17: =ORÇAMENTO!D52 -> BOCA DE LOBO SIMPLES | C17: =IFERROR(X17/$X$31,0) -> 0.046895398 | D17: =IF(B17<>"",E17*X17," ") -> 0 | F17: =IF(B17<>"",G17*X17," ") -> 0 | H17: =IF(B17<>"",I17*X17," ") -> 123394.28 | I17: 0.3 | J17: =IF(B17<>"",K17*X17," ") -> 123394.28 | K17: 0.3 | L17: =IF(B17<>"",M17*X17," ") -> 82262.853 | M17: 0.2 | N17: =IF(B17<>"",O17*X17," ") -> 82262.853 | O17: 0.2 | P17: =IF(D17<>"",Q17*Z17," ") -> 0 | R17: =IF(F17<>"",S17*X17," ") -> 0 | T17: =IF(H17<>"",U17*X17," ") -> 0 | V17: =IF(J17<>"",W17*X17," ") -> 0 | X17: =(IF(B17<>"",Y17*(1+$Y$7)," ")) -> 411314.26 | Y17: =ORÇAMENTO!I52 -> 411314.26 | AB17: =E17+G17+I17+K17+M17+O17+Q17+S17+U17+W17 -> 1
A18: 9 | B18: =ORÇAMENTO!D59 -> BOCA DE LOBO DUPLA | C18: =IFERROR(X18/$X$31,0) -> 0.018360582 | D18: =IF(B18<>"",E18*X18," ") -> 0 | F18: =IF(B18<>"",G18*X18," ") -> 0 | H18: =IF(B18<>"",I18*X18," ") -> 0 | J18: =IF(B18<>"",K18*X18," ") -> 32207.72 | K18: 0.2 | L18: =IF(B18<>"",M18*X18," ") -> 64415.44 | M18: 0.4 | N18: =IF(B18<>"",O18*X18," ") -> 64415.44 | O18: 0.4 | P18: =IF(D18<>"",Q18*Z18," ") -> 0 | R18: =IF(F18<>"",S18*X18," ") -> 0 | T18: =IF(H18<>"",U18*X18," ") -> 0 | V18: =IF(J18<>"",W18*X18," ") -> 0 | X18: =(IF(B18<>"",Y18*(1+$Y$7)," ")) -> 161038.6 | Y18: =ORÇAMENTO!I59 -> 161038.6 | AB18: =E18+G18+I18+K18+M18+O18+Q18+S18+U18+W18 -> 1
A19: 10 | B19: =ORÇAMENTO!D66 -> CAIXA DE LIGAÇÃO E PASSAGEM | C19: =IFERROR(X19/$X$31,0) -> 0.0044052694 | D19: =IF(B19<>"",E19*X19," ") -> 11591.437 | E19: 0.3 | F19: =IF(B19<>"",G19*X19," ") -> 11591.437 | G19: 0.3 | H19: =IF(B19<>"",I19*X19," ") -> 15455.249 | I19: 0.4 | J19: =IF(B19<>"",K19*X19," ") -> 0 | L19: =IF(B19<>"",M19*X19," ") -> 0 | N19: =IF(B19<>"",O19*X19," ") -> 0 | P19: =IF(D19<>"",Q19*Z19," ") -> 0 | R19: =IF(F19<>"",S19*X19," ") -> 0 | T19: =IF(H19<>"",U19*X19," ") -> 0 | V19: =IF(J19<>"",W19*X19," ") -> 0 | X19: =(IF(B19<>"",Y19*(1+$Y$7)," ")) -> 38638.123 | Y19: =ORÇAMENTO!I66 -> 38638.123 | AB19: =E19+G19+I19+K19+M19+O19+Q19+S19+U19+W19 -> 1
A20: 11 | B20: =ORÇAMENTO!D73 -> POÇO DE VISITA | C20: =IFERROR(X20/$X$31,0) -> 0.009056952 | D20: =IF(B20<>"",E20*X20," ") -> 23831.253 | E20: 0.3 | F20: =IF(B20<>"",G20*X20," ") -> 31775.004 | G20: 0.4 | H20: =IF(B20<>"",I20*X20," ") -> 23831.253 | I20: 0.3 | J20: =IF(B20<>"",K20*X20," ") -> 0 | L20: =IF(B20<>"",M20*X20," ") -> 0 | N20: =IF(B20<>"",O20*X20," ") -> 0 | P20: =IF(D20<>"",Q20*Z20," ") -> 0 | R20: =IF(F20<>"",S20*X20," ") -> 0 | T20: =IF(H20<>"",U20*X20," ") -> 0 | V20: =IF(J20<>"",W20*X20," ") -> 0 | X20: =(IF(B20<>"",Y20*(1+$Y$7)," ")) -> 79437.509 | Y20: =ORÇAMENTO!I73 -> 79437.509 | AB20: =E20+G20+I20+K20+M20+O20+Q20+S20+U20+W20 -> 1
A21: 12 | B21: =ORÇAMENTO!D80 -> BTCC 3x4m | C21: =IFERROR(X21/$X$31,0) -> 0.071021981 | D21: =IF(B21<>"",E21*X21," ") -> 155731.45 | E21: 0.25 | F21: =IF(B21<>"",G21*X21," ") -> 155731.45 | G21: 0.25 | H21: =IF(B21<>"",I21*X21," ") -> 155731.45 | I21: 0.25 | J21: =IF(B21<>"",K21*X21," ") -> 155731.45 | K21: 0.25 | L21: =IF(B21<>"",M21*X21," ") -> 0 | N21: =IF(B21<>"",O21*X21," ") -> 0 | P21: =IF(D21<>"",Q21*Z21," ") -> 0 | R21: =IF(F21<>"",S21*X21," ") -> 0 | T21: =IF(H21<>"",U21*X21," ") -> 0 | V21: =IF(J21<>"",W21*X21," ") -> 0 | X21: =(IF(B21<>"",Y21*(1+$Y$7)," ")) -> 622925.82 | Y21: =ORÇAMENTO!I80 -> 622925.82 | AB21: =E21+G21+I21+K21+M21+O21+Q21+S21+U21+W21 -> 1
A22: 13 | B22: =ORÇAMENTO!D87 -> Boca de BTCC 3x4m - Quantidade para 02 Bocas | C22: =IFERROR(X22/$X$31,0) -> 0.016471738 | D22: =IF(B22<>"",E22*X22," ") -> 0 | F22: =IF(B22<>"",G22*X22," ") -> 0 | H22: =IF(B22<>"",I22*X22," ") -> 43341.53 | I22: 0.3 | J22: =IF(B22<>"",K22*X22," ") -> 101130.24 | K22: 0.7 | L22: =IF(B22<>"",M22*X22," ") -> 0 | N22: =IF(B22<>"",O22*X22," ") -> 0 | P22: =IF(D22<>"",Q22*Z22," ") -> 0 | R22: =IF(F22<>"",S22*X22," ") -> 0 | T22: =IF(H22<>"",U22*X22," ") -> 0 | V22: =IF(J22<>"",W22*X22," ") -> 0 | X22: =(IF(B22<>"",Y22*(1+$Y$7)," ")) -> 144471.77 | Y22: =ORÇAMENTO!I87 -> 144471.77 | AB22: =E22+G22+I22+K22+M22+O22+Q22+S22+U22+W22 -> 1
A23: 14 | B23: =ORÇAMENTO!D93 -> URBANIZAÇÃO | C23: =IFERROR(X23/$X$31,0) -> 0.058385319 | D23: =IF(B23<>"",E23*X23," ") -> 0 | F23: =IF(B23<>"",G23*X23," ") -> 0 | H23: =IF(B23<>"",I23*X23," ") -> 0 | J23: =IF(B23<>"",K23*X23," ") -> 0 | L23: =IF(B23<>"",M23*X23," ") -> 0 | N23: =IF(B23<>"",O23*X23," ") -> 102418.21 | O23: 0.2 | P23: =IF(D23<>"",Q23*Y23," ") -> 102418.21 | Q23: 0.2 | R23: =IF(F23<>"",S23*X23," ") -> 102418.21 | S23: 0.2 | T23: =IF(H23<>"",U23*X23," ") -> 102418.21 | U23: 0.2 | V23: =IF(J23<>"",W23*X23," ") -> 102418.21 | W23: 0.2 | X23: =(IF(B23<>"",Y23*(1+$Y$7)," ")) -> 512091.07 | Y23: =ORÇAMENTO!I93 -> 512091.07 | AB23: =E23+G23+I23+K23+M23+O23+Q23+S23+U23+W23 -> 1
A24: 15 | B24: =ORÇAMENTO!D100 -> SINALIZAÇÃO | C24: =IFERROR(X24/$X$31,0) -> 0.0046052187 | D24: =IF(B24<>"",E24*X24," ") -> 0 | F24: =IF(B24<>"",G24*X24," ") -> 0 | H24: =IF(B24<>"",I24*X24," ") -> 0 | J24: =IF(B24<>"",K24*X24," ") -> 0 | L24: =IF(B24<>"",M24*X24," ") -> 0 | N24: =IF(B24<>"",O24*X24," ") -> 0 | P24: =IF(D24<>"",Q24*Z24," ") -> 0 | R24: =IF(F24<>"",S24*X24," ") -> 0 | T24: =IF(H24<>"",U24*X24," ") -> 20195.928 | U24: 0.5 | V24: =IF(J24<>"",W24*X24," ") -> 20195.928 | W24: 0.5 | X24: =(IF(B24<>"",Y24*(1+$Y$7)," ")) -> 40391.856 | Y24: =ORÇAMENTO!I100 -> 40391.856 | AB24: =E24+G24+I24+K24+M24+O24+Q24+S24+U24+W24 -> 1
AB25: =E25+G25+I25+K25+M25+O25+Q25+S25+U25+W25 -> 0
A26: 16 | B26: =[206]RESUMO!C29 | C26: =IFERROR(X26/$X$31,0) -> 0 | D26: =IF(B26<>"",E26*X26," ") | F26: =IF(B26<>"",G26*X26," ") | H26: =IF(B26<>"",I26*X26," ") | J26: =IF(B26<>"",K26*X26," ") | L26: =IF(B26<>"",M26*X26," ") | N26: =IF(B26<>"",O26*X26," ") | X26: =(IF(B26<>"",Y26*(1+$Y$7)," ")) | Y26: =[206]RESUMO!H29 | AB26: =E26+G26+I26+K26+M26+O26+Q26+S26+U26+W26 -> 0
A27: 17 | B27: =[206]RESUMO!C30 | C27: =IFERROR(X27/$X$31,0) -> 0 | D27: =IF(B27<>"",E27*X27," ") | F27: =IF(B27<>"",G27*X27," ") | H27: =IF(B27<>"",I27*X27," ") | J27: =IF(B27<>"",K27*X27," ") | L27: =IF(B27<>"",M27*X27," ") | N27: =IF(B27<>"",O27*X27," ") | X27: =(IF(B27<>"",Y27*(1+$Y$7)," ")) | Y27: =[206]RESUMO!H30 | AB27: =E27+G27+I27+K27+M27+O27+Q27+S27+U27+W27 -> 0
A28: 18 | B28: =[206]RESUMO!C31 | C28: =IFERROR(X28/$X$31,0) -> 0 | D28: =IF(B28<>"",E28*X28," ") | F28: =IF(B28<>"",G28*X28," ") | H28: =IF(B28<>"",I28*X28," ") | J28: =IF(B28<>"",K28*X28," ") | L28: =IF(B28<>"",M28*X28," ") | N28: =IF(B28<>"",O28*X28," ") | X28: =(IF(B28<>"",Y28*(1+$Y$7)," ")) | Y28: =[206]RESUMO!H31 | AB28: =E28+G28+I28+K28+M28+O28+Q28+S28+U28+W28 -> 0
A29: 19 | B29: =[206]RESUMO!C32 | C29: =IFERROR(X29/$X$31,0) -> 0 | D29: =IF(B29<>"",E29*X29," ") | F29: =IF(B29<>"",G29*X29," ") | H29: =IF(B29<>"",I29*X29," ") | J29: =IF(B29<>"",K29*X29," ") | L29: =IF(B29<>"",M29*X29," ") | N29: =IF(B29<>"",O29*X29," ") | X29: =(IF(B29<>"",Y29*(1+$Y$7)," ")) | Y29: =[206]RESUMO!H32 | AB29: =E29+G29+I29+K29+M29+O29+Q29+S29+U29+W29 -> 0
A30: 20 | B30: =[206]RESUMO!C33 | C30: =IFERROR(X30/$X$31,0) -> 0 | D30: =IF(B30<>"",E30*X30," ") | F30: =IF(B30<>"",G30*X30," ") | H30: =IF(B30<>"",I30*X30," ") | J30: =IF(B30<>"",K30*X30," ") | L30: =IF(B30<>"",M30*X30," ") | N30: =IF(B30<>"",O30*X30," ") | X30: =(IF(B30<>"",Y30*(1+$Y$7)," ")) | Y30: =[206]RESUMO!H33 | AB30: =E30+G30+I30+K30+M30+O30+Q30+S30+U30+W30 -> 0
A31: VALOR DA PARCELA DETERMINADA COM BASE NO PREÇO MÁXIMO | C31: =SUMIF(C10:C30,">0",C10:C30) -> 1 | D31: =SUMIF(D10:D30,">0",D10:D30) -> 983461.96 | E31: =IF($X$31=0,0,D31/$X$31) -> 0.11212799 | F31: =SUMIF(F10:F30,">0",F10:F30) -> 1400586.3 | G31: =IF($X$31=0,0,F31/$X$31) -> 0.15968581 | H31: =SUMIF(H10:H30,">0",H10:H30) -> 1680224 | I31: =IF($X$31=0,0,H31/$X$31) -> 0.19156829 | J31: =SUMIF(J10:J30,">0",J10:J30) -> 1804298.9 | K31: =IF($X$31=0,0,J31/$X$31) -> 0.20571452 | L31: =SUMIF(L10:L30,">0",L10:L30) -> 1027591 | M31: =IF($X$31=0,0,L31/$X$31) -> 0.1171593 | N31: =SUMIF(N10:N30,">0",N10:N30) -> 1041468.9 | O31: =IF($X$31=0,0,N31/$X$31) -> 0.11874157 | P31: =SUMIF(P10:P30,">0",P10:P30) -> 102418.21 | Q31: =IF($X$31=0,0,P31/$X$31) -> 0.011677064 | R31: =SUMIF(R10:R30,">0",R10:R30) -> 102418.21 | S31: =IF($X$31=0,0,R31/$X$31) -> 0.011677064 | T31: =SUMIF(T10:T30,">0",T10:T30) -> 122614.14 | U31: =IF($X$31=0,0,T31/$X$31) -> 0.013979673 | V31: =SUMIF(V10:V30,">0",V10:V30) -> 505806 | W31: =IF($X$31=0,0,V31/$X$31) -> 0.057668735 | X31: =SUMIF(X10:X30,">0",X10:X30) -> 8770887.7 | Y31: =SUMIF(Y10:Y30,">0",Y10:Y30) -> 8770887.7 | AB31: =E31+G31+I31+K31+M31+O31+Q31+S31+U31+W31 -> 1
A32: VALOR PROPOSTO | C32: 8770887.7 | D32: =IF($C$32<>"",(1-$C$33)*D$31," ") -> 983461.96 | E32: =E31 -> 0.11212799 | F32: =IF($C$32<>"",(1-$C$33)*F$31," ") -> 1400586.3 | G32: =G31 -> 0.15968581 | H32: =IF($C$32<>"",(1-$C$33)*H$31," ") -> 1680224 | I32: =I31 -> 0.19156829 | J32: =IF($C$32<>"",(1-$C$33)*J$31," ") -> 1804298.9 | K32: =K31 -> 0.20571452 | L32: =IF($C$32<>"",(1-$C$33)*L$31," ") -> 1027591 | M32: =M31 -> 0.1171593 | N32: =IF($C$32<>"",(1-$C$33)*N$31," ") -> 1041468.9 | O32: =O31 -> 0.11874157 | P32: =IF($C$32<>"",(1-$C$33)*P$31," ") -> 102418.21 | Q32: =Q31 -> 0.011677064 | R32: =IF($C$32<>"",(1-$C$33)*R$31," ") -> 102418.21 | S32: =S31 -> 0.011677064 | T32: =IF($C$32<>"",(1-$C$33)*T$31," ") -> 122614.14 | U32: =U31 -> 0.013979673 | V32: =IF($C$32<>"",(1-$C$33)*V$31," ") -> 505806 | W32: =W31 -> 0.057668735 | X32: =IF(C32<>"",D32+F32+H32+J32+L32+N32+P32+R32+T32+V32," ") -> 8770887.7
A33: DESCONTO PROPOSTO / VALOR DAS PARCELAS | C33: =IF(C32<>"",(1-(C32/X31))," ") -> 0
A34: TOTAL ACUMULADO COM O DESCONTO PROPOSTO | D34: =IF(C32<>"",D32+C34,B34+D31) -> 983461.96 | E34: =E32 -> 0.11212799 | F34: =IF(C32<>"",F32+D34,D34+F31) -> 2384048.2 | G34: =G32+E34 -> 0.27181379 | H34: =IF(C32<>"",F34+H32,F34+H31) -> 4064272.2 | I34: =I32+G34 -> 0.46338209 | J34: =IF(C32<>"",H34+J32,H34+J31) -> 5868571.1 | K34: =K32+I34 -> 0.6690966 | L34: =IF(C32<>"",J34+L32,J34+L31) -> 6896162.2 | M34: =M32+K34 -> 0.7862559 | N34: =IF(E32<>"",L34+N32,L34+N31) -> 7937631.1 | O34: =O32+M34 -> 0.90499746 | P34: =IF(G32<>"",N34+P32,N34+P31) -> 8040049.3 | Q34: =Q32+O34 -> 0.91667453 | R34: =IF(I32<>"",P34+R32,P34+R31) -> 8142467.5 | S34: =S32+Q34 -> 0.92835159 | T34: =IF(K32<>"",R34+T32,R34+T31) -> 8265081.7 | U34: =U32+S34 -> 0.94233127 | V34: =IF(M32<>"",T34+V32,T34+V31) -> 8770887.7 | W34: =W32+U34 -> 1
F39: ________________________________________
F40: José Augusto Davanço
F41: CREA PR-166826/D
B45: OBS: CASO O PRAZO ESTABELECIDO PELO EDITAL PARA A EXECUÇÃO DA OBRA SEJA DIFERENTE DE 180 DIAS (MODELO ACIMA) FAVOR MODIFICAR A QUANTIDADE DAS COLUNAS MENSAIS CONFORME PRAZO ESTABELECIDO EM EDITAL E AJUSTAR FÓRMULAS

Sheet DMT
B1: DISTÂNCIAS MÉDIAS DE TRANSPORTES
A2: Serviço: | B2: RECAPEAMENTO E PAVIMENTAÇÃO ASFALTICA EM CBUQ | E2: Área (m²): | G2: 29897.04
A3: Trecho: | B3: RUA 27 DE DEZEMBRO - CAMPO MOURÃO | E3: Extensão (m): | G3: 1845.727 | I3: =293*20 -> 5860
A4: Data: | B4: 46098
B5: Distâncias Médias de Transportes(DMT)
D6: Comercial | F6: Local
B7: Materiais | C7: Origem | D7: Pav. | E7: N/pav. | F7: Pav. | G7: N/pav.
B8: Abrigo parada ônibus | C8: (1) Verficar legenda ao final do quadro
B9: Areia | C9: Areal - Icaraíma, Porto Camargo | D9: 201 | F9: 30
B10: Argila | C10: Jazida - Nome da cidade - Nome do Estabelecimento
B11: Bloco de concreto p/pavimento | C11: Nome da cidade - Nome do Estabelecimento
B12: Bloco estrutural | C12: Peabiru - Artefatos de concreto Itaipu | F12: 22.4
B13: Brita | C13: Pedreira Itaipu - Campo Mourão | F13: 15.7
B14: Cal hidratada/virgem | C14: (2) - Depósito Marinho | F14: 6 | K14: =71*20 -> 1420
B15: Cal CH-1 p/microrev. | C15: Rio Branco do Sul | D15: 440 | F15: 30 | K15: 2.243
B16: CAP-30/45 ou CAP-50/70 | C16: Araucária - Repar | D16: 452 | E16: ----------- | F16: ----------- | G16: -----------
B17: Cimento | C17: (5) - ITAMBÉ CAMPO LARGO | D17: 372
B18: CM-30 | C18: Araucária - Repar | D18: 452 | E18: ----------- | F18: ----------- | G18: -----------
B19: Emulsão | C19: (6) CASA DO ASFALTO - MARIALVA | D19: 109 | E19: ----------- | F19: ----------- | G19: -----------
B20: Emulsão c/ polímero | C20: Curitiba (CT) | D20: 494 | E20: ----------- | F20: ----------- | G20: -----------
B21: Gabião galvanizado | C21: Nome da cidade - Nome do Estabelecimento
B22: Lajota concreto | C22: Peabiru - Artefatos de concreto Itaipu | F22: 15.7
B23: Brita Graduada | C23: Pedreira Itaipu - Campo Mourão | F23: 15.7
B24: Massa a quente | C24: Pedreira Itaipu - Campo Mourão | F24: 15.7
B25: Massa a frio | C25: Usina de asfalto - Nome da cidade - Nome do Estabelecimento | D25: 28.1 | F25: 30
B26: Massa solo-brita | C26: Usina de solos - Nome da cidade - Nome do Estabelecimento | D26: 28.1 | F26: 30
B27: Massa solo-cimento | C27: Usina de solos - Nome da cidade - Nome do Estabelecimento | D27: 28.1 | F27: 30
B28: Material de fresagem | C28: Pista p/Bota-fora - Nome da cidade - Nome do Estabelecimento | F28: 30
B29: Material de pav.demolido | C29: Pista p/Bota-fora - Local a definir | F29: 6
B30: Paralelepípedo | C30: Jazida/Pedreira - Nome da cidade - Nome do Estabelecimento | D30: 28.1 | F30: 30
B31: Pedra Britada - O.A.E. | C31: Pedreira - Nome da cidade - Nome do Estabelecimento | D31: 28.1 | F31: 30
B32: Pedra mão | C32: Pedreira - campo mourão - pedreira itaipu | D32: 0 | F32: 15.7
B33: Pó de pedra | C33: Jazida/Pedreira - Nome da cidade - Nome do Estabelecimento | D33: 28.1 | F33: 30
B34: Poliedro/cordão de pedra | C34: Jazida/Pedreira - Nome da cidade - Nome do Estabelecimento | D34: 28.1 | F34: 30
B35: Preench.rebaixo | C35: Corte em rocha/Jazida - Nome da cidade - Nome do Estabelecimento | D35: 28.1 | F35: 30
B36: Rachão | C36: Pedreira Itaipu - Campo Mourão | F36: 15.7
B37: Solo jazida | C37: Jazida - Nome da cidade - Nome do Estabelecimento
B38: Solos moles | C38: Pista p/Bota-fora - Nome da cidade - Nome do Estabelecimento
B39: Revestimento Primário | C39: Pista p/Bota-fora - Campo Mourão - Koch Aterro Sanitário | F39: 5.6
B40: Tampão de Ferro Fundido | C40: Nome da cidade - Nome do Estabelecimento
...

Sheet Composições Auxiliares2
C1: DERPR - Departamento de Estradas de Rodagem do Paraná
C2: Diretoria Técnica - Coordenadoria de Custo e Orçamento
C3: Relatório de Composição do Serviço
A5: Data Base: 31/08/2025 (Com desoneração) | R5: Valores expressos em Reais (R$)
A7: Serviço: COMP-4 Meio-fio em concreto (executado com extrusora) | R7: Unidade: m
A9: (A)Equipamento | D9: Código | E9: Quantidade | I9: Ut. Pr | L9: Ut. Impr | P9: Vl. Hr. Prod | U9: Vl. Hr. Imp | Z9: Custo Horário
A10: Extrusora para meio fio de concreto | D10: 390100 | E10: 1 | I10: 1 | L10: 0 | P10: 43.86 | U10: 31.8 | Z10: =TRUNC(E10*((I10*P10)+(L10*U10)),2) -> 43.86
A13: (A)Total: | V13: =Z10+Z11+Z12 -> 43.86
A15: (B)Mão-de-Obra | D15: Código | E15: Eq. Salarial | J15: Encargos(%) | N15: Sal/Hora | S15: Consumo | Y15: Custo Horário
A16: Servente | D16: 200130 | E16: 1.48 | J16: 148.92 | N16: 25.41 | S16: 2 | Y16: =TRUNC(N16*S16,2) -> 50.82
A17: Técnico de Campo I | D17: 210060 | E17: 2.62 | J17: 148.92 | N17: 44.99 | S17: 1 | Y17: =TRUNC(N17*S17,2) -> 44.99
A18: (B)Total: | V18: =Y16+Y17 -> 95.81
A20: (C)Itens de Incidência | D20: Código | E20: % | H20: M. O. | K20: Equip. | O20: Mat. | S20: Custo
A21: Ferramentas Manuais | D21: 29990 | E21: 5 | H21: X | S21: =TRUNC(V18*5%,2) -> 4.79
A22: (C)Total: | V22: =S21 -> 4.79
A24: Custo Horário da Execução (A) + (B) + (C) | R24: =V13+V18+V22 -> 144.46
A25: (D) Produção da Equipe | R25: 50
A26: (E) Custo Unitário da Execução [(A) + (B) + (C)] / (D) | R26: =TRUNC(R24/R25,2) -> 2.88
A28: (F)Materiais | D28: Código | E28: Unid. | H28: Custo Unitário | O28: Consumo | U28: Custo Unitário
A30: (F)Total: | V30: =U29 -> 0
A32: (G)Serviços | D32: Código | E32: Unid. | H32: Custo Unitário | O32: Consumo | U32: Custo Unitário
A33: Concreto Fck = 20 Mpa, preparo em betoneira e lanç | D33: 605500 | E33: m3 | H33: 525.56 | O33: 0.05 | U33: =H33*O33 -> 26.278
A34: Escavação manual de vala 1a. Cat | D34: 600000 | E34: m3 | H34: 40.01 | O34: 0.03 | U34: =H34*O34 -> 1.2003
A35: Lastro de brita | D35: 603900 | E35: m3 | H35: 133.49 | O35: 0.025 | U35: =H35*O35 -> 3.33725
A36: (G)Total: | V36: =SUM(U33:AA35) -> 30.81555

Sheet DER
A1: Código | B1: Descrição do Serviço | C1: Unidade | D1: Custo Execução | E1: Custo Material | F1: Custo Sub-Serviço | G1: Custo Unitário | H1: Transporte
A2: 400500 | B2: Colchão drenante de areia para fundação de aterros | C2: m3 | D2: 1.08 | E2: 90.97 | F2: 0 | G2: 92.05 | H2: A acrescer
A3: 400950 | B3: Compactação de aterros 95% PN (A) | C3: m3 | D3: 5.14 | E3: 0 | F3: 0 | G3: 5.14
A4: 401950 | B4: Compactação de aterros 95% PN (B) | C4: m3 | D4: 5.16 | E4: 0 | F4: 0 | G4: 5.16
A5: 401200 | B5: Compactação de aterros c/controle visual | C5: m3 | D5: 1.5 | E5: 0 | F5: 0 | G5: 1.5
A6: 402000 | B6: Compactação de aterros em 2a. cat. | C6: m3 | D6: 6.77 | E6: 0 | F6: 0 | G6: 6.77
A7: 403000 | B7: Compactação de aterros em 3a. cat. | C7: m3 | D7: 6.53 | E7: 0 | F7: 0 | G7: 6.53
A8: 401000 | B8: Compactação de aterros 100% PN (A) | C8: m3 | D8: 6.26 | E8: 0 | F8: 0 | G8: 6.26
A9: 401100 | B9: Compactação de aterros 100% PN (B) | C9: m3 | D9: 6.19 | E9: 0 | F9: 0 | G9: 6.19
A10: 401025 | B10: Corte/limpeza, classificação e enleiramento de árvores (volume estéreo), inclusive transporte | C10: m3 | D10: 153.9 | E10: 0 | F10: 0 | G10: 153.9 | H10: A acrescer
A11: 400000 | B11: Desmatamento e limpeza diam. até 30cm | C11: m2 | D11: 1.11 | E11: 0 | F11: 0 | G11: 1.11
A12: 400300 | B12: Destocamento árvores diam. > 30cm | C12: ud | D12: 47.44 | E12: 0 | F12: 0 | G12: 47.44
A13: 410200 | B13: Esc. carga e transp. 1a. cat. 0-200m | C13: m3 | D13: 8.02 | E13: 0 | F13: 0 | G13: 8.02
A14: 410400 | B14: Esc. carga e transp. 1a. cat. 200-400m | C14: m3 | D14: 8.29 | E14: 0 | F14: 0 | G14: 8.29
A15: 410600 | B15: Esc. carga e transp. 1a. cat. 400-600m | C15: m3 | D15: 8.64 | E15: 0 | F15: 0 | G15: 8.64
A16: 410800 | B16: Esc. carga e transp. 1a. cat. 600-800m | C16: m3 | D16: 9 | E16: 0 | F16: 0 | G16: 9
A17: 411000 | B17: Esc. carga e transp. 1a. cat. 800-1000m | C17: m3 | D17: 9.4 | E17: 0 | F17: 0 | G17: 9.4
A18: 411200 | B18: Esc. carga e transp. 1a. cat. 1000-1200m | C18: m3 | D18: 9.75 | E18: 0 | F18: 0 | G18: 9.75
A19: 411400 | B19: Esc. carga e transp. 1a. cat. 1200-1400m | C19: m3 | D19: 10.86 | E19: 0 | F19: 0 | G19: 10.86
A20: 411600 | B20: Esc. carga e transp. 1a. cat. 1400-1600m | C20: m3 | D20: 11.26 | E20: 0 | F20: 0 | G20: 11.26
A21: 412000 | B21: Esc. carga e transp. 1a. cat. 1600-2000m | C21: m3 | D21: 11.93 | E21: 0 | F21: 0 | G21: 11.93
A22: 413000 | B22: Esc. carga e transp. 1a. cat. 2000-3000m | C22: m3 | D22: 13.92 | E22: 0 | F22: 0 | G22: 13.92
... A60: 401160 | B60: Regularização, conformação e compactação de leito | C60: m2 | D60: 0.25 | E60: 0 | F60: 0 | G60: 0.25
A61: 404000 | B61: Remoção de solos moles | C61: m3 | D61: 7.74 | E61: 0 | F61: 0 | G61: 7.74 | H61: A acrescer
A62: 450000 | B62: Revestimento primário | C62: m3 | D62: 6.51 | E62: 0 | F62: 5.35 | G62: 11.86 | H62: A acrescer
A63: 416000 | B63: Valetões laterais (fundo) 1a. cat. 200 - 600m (A) | C63: m3 | D63: 9.05 | E63: 0 | F63: 0 | G63: 9.05
A64: 416100 | B64: Valetões laterais (fundo) 1a. cat. 200 - 600m (B) | C64: m3 | D64: 10.49 | E64: 0 | F64: 0 | G64: 10.49
A65: 416200 | B65: Valetões laterais (fundo) 1a. cat. 600 -1000m (A) | C65: m3 | D65: 10.03 | E65: 0 | F65: 0 | G65: 10.03
A66: 416300 | B66: Valetões laterais (fundo) 1a. cat. 600 -1000m (B) | C66: m3 | D66: 11.45 | E66: 0 | F66: 0 | G66: 11.45
A67: 426000 | B67: Valetões laterais (fundo) 2a. cat. 200 - 600m (A) | C67: m3 | D67: 12.16 | E67: 0 | F67: 0 | G67: 12.16
A68: 426100 | B68: Valetões laterais (fundo) 2a. cat. 200 - 600m (B) | C68: m3 | D68: 14.05 | E68: 0 | F68: 0 | G68: 14.05
A69: 426200 | B69: Valetões laterais (fundo) 2a. cat. 600 -1000m (A) | C69: m3 | D69: 13.21 | E69: 0 | F69: 0 | G69: 13.21
A70: 426300 | B70: Valetões laterais (fundo) 2a. cat. 600 -1000m (B) | C70: m3 | D70: 15.22 | E70: 0 | F70: 0 | G70: 15.22
A71: Grupo de serviço: PAVIMENTAÇÃO
A72: 530200 | B72: Bica corrida | C72: m3 | D72: 11.2 | E72: 104.16 | F72: 0 | G72: 115.36 | H72: A acrescer
A73: 570210 | B73: Binder exclusive fornecimento e transporte do CAP (acima de 10.000 t) | C73: t | D73: 68.37 | E73: 93.7 | F73: 0 | G73: 162.07 | H73: A acrescer
A74: 570200 | B74: Binder exclusive fornecimento e transporte do CAP (até 10.000 t) | C74: t | D74: 84.01 | E74: 96.38 | F74: 0 | G74: 180.39 | H74: A acrescer
A75: 531200 | B75: Brita graduada - na usina | C75: m3 | D75: 8.24 | E75: 80.13 | F75: 0 | G75: 88.37 | H75: A acrescer
A76: 531215 | B76: Brita graduada c/ cimento - na usina | C76: m3 | D76: 7.23 | E76: 116.56 | F76: 0 | G76: 123.79 | H76: A acrescer
A77: 531120 | B77: Brita graduada tratada c/cimento (Cp=4%) 100% PI | C77: m3 | D77: 12.87 | E77: 0 | F77: 198.06 | G77: 210.93 | H77: A acrescer
...

Sheet Planilha1

Sheet Composições Auxiliares
C1: DERPR - Departamento de Estradas de Rodagem do Paraná
C2: Diretoria Técnica - Coordenadoria de Custo e Orçamento
C3: Relatório de Composição do Serviço
A5: Data Base: 31/08/2025 (Com desoneração) | R5: Valores expressos em Reais (R$)
A7: Serviço: Boca de lobo simples em alvenaria de blocos | R7: Unidade: m3
A9: (A)Equipamento | D9: Código | E9: Quantidade | I9: Ut. Pr | L9: Ut. Impr | P9: Vl. Hr. Prod | U9: Vl. Hr. Imp | Z9: Custo Horário
A10: Betoneira 600 l gasolina | D10: 373200 | E10: 1 | I10: 1 | L10: 0 | P10: 29.53 | U10: 6.67 | Z10: =TRUNC(E10*((I10*P10)+(L10*U10)),2) -> 29.53
A11: Carrinho de concretagem 80 l | D11: 301800 | E11: 3 | I11: 0.69 | L11: 0.31 | P11: 0.36 | U11: 0.25 | Z11: =TRUNC(E11*((I11*P11)+(L11*U11)),2) -> 0.97
A12: Vibrador imersão gasolina 45mm | D12: 370450 | E12: 2 | I12: 1 | L12: 0 | P12: 7.38 | U12: 0.88 | Z12: =TRUNC(E12*((I12*P12)+(L12*U12)),2) -> 14.76
A13: (A)Total: | V13: =Z10+Z11+Z12 -> 45.26
A15: (B)Mão-de-Obra | D15: Código | E15: Eq. Salarial | J15: Encargos(%) | N15: Sal/Hora | S15: Consumo | Y15: Custo Horário
A16: Pedreiro | D16: 200260 | E16: 2.02 | J16: 148.92 | N16: 34.69 | S16: 1 | Y16: =TRUNC(N16*S16,2) -> 34.69
A17: Servente | D17: 200130 | E17: 1.48 | J17: 148.92 | N17: 25.41 | S17: 14 | Y17: =TRUNC(N17*S17,2) -> 355.74
A18: Técnico de Campo I | D18: 210060 | E18: 2.62 | J18: 148.92 | N18: 44.99 | S18: 0.2 | Y18: =TRUNC(N18*S18,2) -> 8.99
A19: (B)Total: | V19: =Y16+Y17+Y18 -> 399.42
A21: (C)Itens de Incidência | D21: Código | E21: % | H21: M. O. | K21: Equip. | O21: Mat. | S21: Custo
A22: Ferramentas Manuais | D22: 29990 | E22: 5 | H22: X | S22: =TRUNC(V19*5%,2) -> 19.97
A23: (C)Total: | V23: =S22 -> 19.97
A25: Custo Horário da Execução (A) + (B) + (C) | R25: =V13+V19+V23 -> 464.65
A26: (D) Produção da Equipe | R26: 2.5
A27: (E) Custo Unitário da Execução [(A) + (B) + (C)] / (D) | R27: =TRUNC(R25/R26,2) -> 185.86
A29: (F)Materiais | D29: Código | E29: Unid. | H29: Custo Unitário | O29: Consumo | U29: Custo Unitário
A30: Areia | D30: 139000 | E30: m3 | H30: 79.11 | O30: 0.614 | U30: =TRUNC(H30*O30,2) -> 48.57
A31: Cimento Portland (saco de 50kg) | D31: 173200 | E31: t | H31: 607.2 | O31: 0.33 | U31: =TRUNC(H31*O31,2) -> 200.37
A32: Pedra britada (comercial) | D32: 130000 | E32: m3 | H32: 80.13 | O32: 0.74 | U32: =TRUNC(H32*O32,2) -> 59.29
A33: (F)Total: | V33: =U30+U31+U32 -> 308.23
A35: (G)Serviços | D35: Código | E35: Unid. | H35: Custo Unitário | O35: Consumo | U35: Custo Unitário
A36: Concreto estrutural | E36: m³ | O36: 0.47
A37: Formas | E37: m² | O37: 3.55
A38: Concreto magro | E38: m³ | O38: 0.19
A39: Guia Pré-moldada | E39: ud | O39: 1
A40: Alvenaria de Blocos | E40: m³ | O40: 0.47
A41: Revestimento de argamassa | E41: m² | O41: 3.55
A42: Graute | E42: m³ | O42: 0.19
A48: (G)Total: | V48: 0
A50: (H)Itens de Transporte | D50: Código | E50: Unid. | F50: Fórmula | M50: X1 | Q50: X2 | T50: Custo | W50: Consumo | AA50: Custo Unit.
A51: Areia (Trecho) | D51: 19010 | E51: t | F51: 0,73x1 + 0,88x2 | M51: 0 | Q51: 0 | T51: =AB51+AB52 -> 1.84 | W51: 0.921 | AA51: =TRUNC(T51*W51,2) -> 1.69 | AB51: =TRUNC((0.73*M51+0.88*Q51),2) -> 0
F52: 0,73x1 + 0,88x2 + 1,84 | M52: 0 | Q52: 0 | AB52: =TRUNC((0.73*M52+0.88*Q52+1.84),2)-0 -> 1.84
A53: Cimento (Trecho) | D53: 13200 | E53: t | F53: 0,69x1 + 0,83x2 | M53: 0 | Q53: 0 | T53: =AB53+AB54 -> 6.96 | W53: 0.33 | AA53: =TRUNC(T53*W53,2) -> 2.29 | AB53: =TRUNC((0.69*M53+0.83*Q53),2) -> 0
F54: 0,69x1 + 0,83x2 + 6,96 | M54: 0 | Q54: 0 | AB54: =TRUNC((0.69*M54+0.83*Q54+6.96),2) -> 6.96
...
