Workbook
Name Equip.comuns.armados: [1]Equipamentos!$N$27
Name Equip.comuns.todos: [1]Equipamentos!$N$15
Name mat.usocomum: '[2]Mat Uso Comum '!$G$10
Name UNIF.agenteseg: [1]Uniformes!#REF!
Name UNIF.armado: [1]Uniformes!$H$14
Name UNIF.bomb.brigadista: [1]Uniformes!#REF!
Name UNIF.desarmado: [1]Uniformes!$H$26
Name UNIF.supervisor: [1]Uniformes!#REF!

Sheet TOTAL DO CONTRATO
B2: QUADRO-RESUMO
B3: CONTRATO DE PRESTAÇÃO DE SERVIÇO
B5: TRANSPORTE ESCOLAR
B6: Secretaria Municipal de Educação e Cultura
B7: SÃO MATEUS DO SUL - PR
B9: Lote 5: Faxinal dos Ilhéus, Espigãozinho, Água Branca...
B11: Tipo de Serviço | D11: Valor/KM | E11: KM/Dia | F11: Dias Letivos | G11: Total do serviço
B12: I | C12: MOTORISTA | D12: =ROUND(MOTORISTA!C118,2) -> 2.3 | E12: 118.5 | F12: 200 | G12: =SUM(D12*E12*F12) -> 54510
B13: II | C13: A. Motorista - MONITOR | D13: =ROUND(Monitor!C118,2) -> 4.32 | E13: =E12 -> 118.5 | F13: =F12 -> 200 | G13: =SUM(D13*E13*F13) -> 102384
B14: III | C14: MANUTENÇÃO DO VEICULO | D14: =ROUND('CUSTO MANUT. VEICULO'!F34,2) -> 2.7 | E14: =E12 -> 118.5 | F14: =F12 -> 200 | G14: =SUM(D14*E14*F14) -> 63990
B16: VALOR ESTIMADO | D16: =SUM(D12:D14) -> 9.32 | E16: =E14 -> 118.5 | F16: =F12 -> 200 | G16: =SUM(G12:G14) -> 220884
B18: VALOR MENSAL A FATURAR ESTIMADO | G18: =SUM(G16/11) -> 20080.364
B20: DATA DA CONCLUSÃO DA FORMAÇÃO DE PREÇO | G20: 23/04/2024

Sheet MOTORISTA
A2: PLANILHA DE CUSTOS E FORMAÇÃO DE PREÇOS
A3: Nº Processo:
A4: SALÁRIOS E ENCARGOS
A5: CALCULO DE CUSTO DO KM RODADO - TRANSPORTE
A7: Discriminação dos Serviços
A9: A - Data da apresentação da proposta (dia/mês/ano)
A10: B - Município/UF | B10: São Mateus do Sul - PR
A11: C - Ano do Acordo, Convenção ou Dissídio Coletivo | B11: FETROPAR/Sinfretiba - 23/25
A12: D - Tipo de Serviço | B12: Van
A13: E - Número de dias de execução contratual | B13: 200
A15: IMPORTANTE: Para efeito de elaboração da planilha de custos os dados abaixo deverão ser informados/cotados os valores unitários por empregado (não para o posto!!!)
A18: MÓDULO 1: COMPOSIÇÃO DA REMUNERAÇÃO
A19: 1 - COMPOSIÇÃO DA REMUNERAÇÃO
A20: A - Salário base - ( a partir de 01/05/24) | C20: 2017.58
A21: B - Adicional noturno
A22: TOTAL DA REMUNERAÇÃO : | C22: =SUM(C20:C21) -> 2017.58
A24: MÓDULO 2: Encargos e Benefícios Anuais, Mensais e Diários
A25: 2.1 - Contingenciamento - Resolução 169/2013 CNJ
A26: A - 13º salário | B26: 0.0909 | C26: =$C$22*B26 -> 183.39802
A27: B- Férias | B27: 0.0909 | C27: =$C$22*B27 -> 183.39802
A28: C - Adicional de férias | B28: 0.0303 | C28: =$C$22*B28 -> 61.132674
A29: Subtotal | B29: =SUM(B26:B28) -> 0.2121 | C29: =SUM(C26:C28) -> 427.92872
A30: D - Incidência do módulo 4 sobre 13º Salário e Férias | B30: =+B29*B43 -> 0.0780528 | C30: =$C$22*B30 -> 157.47777
A31: E - Multa do FGTS por dispensa sem justa causa | B31: 0.0347 | C31: =$C$22*B31 -> 70.010026
A32: TOTAL | B32: =B30+B29+B31 -> 0.3248528 | C32: =C30+C29+C31 -> 655.41651
A34: 2.2 - Encargos Previdenciários (GPS), Fundo de Garantia por Tempo de Serviço (FGTS) e outras contribuições. | B34: % | C34: Valor (R$)
A35: A - INSS | B35: 0.2 | C35: =$C$22*B35 -> 403.516
A36: B - Salário Educação | B36: 0.025 | C36: =$C$22*B36 -> 50.4395
A37: C - RAT Ajustado | B37: 0.03 | C37: =$C$22*B37 -> 60.5274
A38: D - SESC ou SESI | B38: 0.015 | C38: =$C$22*B38 -> 30.2637
A39: E - SENAI - SENAC | B39: 0.01 | C39: =$C$22*B39 -> 20.1758
A40: F - SEBRAE | B40: 0.006 | C40: =$C$22*B40 -> 12.10548
A41: G - INCRA | B41: 0.002 | C41: =$C$22*B41 -> 4.03516
A42: H - FGTS | B42: 0.08 | C42: =$C$22*B42 -> 161.4064
A43: TOTAL | B43: =SUM(B35:B42) -> 0.368 | C43: =SUM(C35:C42) -> 742.46944
A45: 2.3 - Benefícios Mensais e Diários
A46: A - Transporte | B46: 2.75 | C46: =(B46*22*2)-C20*0.06 -> -0.0548
A47: B - Auxílio-Refeição/Alimentação | B47: 620 | C47: =+B47*(1-10%) -> 558
A48: B1 - Auxílio Alimentação - Férias | B48: 620 | C48: =+B48/12*(1-10%) -> 46.5
A49: C - Assistência médica e familiar | C49: 0
...

Sheet Monitor
A2: PLANILHA DE CUSTOS E FORMAÇÃO DE PREÇOS
A3: Nº Processo:
A4: PREGÃO N° ____________
A5: CALCULO DE CUSTO DO KM RODADO - TRANSPORTE
A7: Discriminação dos Serviços
A9: A - Data da apresentação da proposta (dia/mês/ano)
A10: B - Município/UF | B10: São Mateus do Sul - PR
A11: C - Ano do Acordo, Convenção ou Dissídio Coletivo | B11: FETROPAR/Sinfretiba - 23/25
A12: D - Tipo de Serviço | B12: Assistente Transporte - MONITOR
A13: E - Número de dias de execução contratual | B13: 200
A15: IMPORTANTE: Para efeito de elaboração da planilha de custos os dados abaixo deverão ser informados/cotados os valores unitários por empregado (não para o posto!!!)
A18: MÓDULO 1: COMPOSIÇÃO DA REMUNERAÇÃO
A19: 1 - COMPOSIÇÃO DA REMUNERAÇÃO
A20: A - Salário base - ( a partir de 01/05/24) | C20: 1907.44
A21: B - Adicional Noturno
A22: TOTAL DA REMUNERAÇÃO : | C22: =SUM(C20:C21) -> 1907.44
A24: MÓDULO 2: Encargos e Benefícios Anuais, Mensais e Diários
A25: 2.1 - Contingenciamento - Resolução 169/2013 CNJ
A26: A - 13º salário | B26: 0.0909 | C26: =$C$22*B26 -> 173.3863
A27: B- Férias | B27: 0.0909 | C27: =$C$22*B27 -> 173.3863
A28: C - Adicional de férias | B28: 0.0303 | C28: =$C$22*B28 -> 57.795432
A29: Subtotal | B29: =SUM(B26:B28) -> 0.2121 | C29: =SUM(C26:C28) -> 404.56802
A30: D - Incidência do módulo 4 sobre 13º Salário e Férias | B30: =+B29*B43 -> 0.0780528 | C30: =$C$22*B30 -> 148.88103
A31: E - Multa do FGTS por dispensa sem justa causa | B31: 0.0347 | C31: =$C$22*B31 -> 66.188168
A32: TOTAL | B32: =B30+B29+B31 -> 0.3248528 | C32: =C30+C29+C31 -> 619.63722
A34: 2.2 - Encargos Previdenciários (GPS), Fundo de Garantia por Tempo de Serviço (FGTS) e outras contribuições. | B34: % | C34: Valor (R$)
A35: A - INSS | B35: 0.2 | C35: =$C$22*B35 -> 381.488
A36: B - Salário Educação | B36: 0.025 | C36: =$C$22*B36 -> 47.686
A37: C - RAT Ajustado | B37: 0.03 | C37: =$C$22*B37 -> 57.2232
A38: D - SESC ou SESI | B38: 0.015 | C38: =$C$22*B38 -> 28.6116
A39: E - SENAI - SENAC | B39: 0.01 | C39: =$C$22*B39 -> 19.0744
A40: F - SEBRAE | B40: 0.006 | C40: =$C$22*B40 -> 11.44464
A41: G - INCRA | B41: 0.002 | C41: =$C$22*B41 -> 3.81488
A42: H - FGTS | B42: 0.08 | C42: =$C$22*B42 -> 152.5952
A43: TOTAL | B43: =SUM(B35:B42) -> 0.368 | C43: =SUM(C35:C42) -> 701.93792
A45: 2.3 - Benefícios Mensais e Diários
A46: A - Transporte | B46: 2.75 | C46: =(B46*22*2)-C20*0.06 -> 6.5536
A47: B - Auxílio-Refeição/Alimentação | B47: 478 | C47: =+B47*(1-10%) -> 430.2
A48: B1 - Auxílio Alimentação - Férias | B48: 478 | C48: =+B48/12*(1-10%) -> 35.85
A49: C - Assistência médica e familiar | C49: 0
...

Sheet CUSTO MANUT. VEICULO
B2: CUSTO DE MANUTENÇÃO DE VEICULOS
B4: ='TOTAL DO CONTRATO'!B9:G9 -> Lote 5: Faxinal dos Ilhéus, Espigãozinho, Água Branca...
B6: KM/DIA | C6: ='TOTAL DO CONTRATO'!E16 -> 118.5 | D6: KM TOTAL CONTRATO: | G6: =SUM('TOTAL DO CONTRATO'!E12*'TOTAL DO CONTRATO'!F12) -> 23700
B7: KM/Mês | C7: =SUM(C6*22) -> 2607 | D7: VAN | G7: 1
B9: DESCRIÇÃO | D9: UNIT | E9: MÉDIA KM | F9: CUSTO/KM | G9: CUSTO DIA R$
B10: Óleo diesel | D10: 5.95 | E10: 6 | F10: =SUM(D10/E10) -> 0.99166667 | G10: =SUM(F10*$C$6) -> 117.5125
B11: Óleo lubrificante | D11: 504.41 | E11: 10000 | F11: =SUM(D11/E11) -> 0.050441 | G11: =SUM(F11*$C$6) -> 5.9772585
B12: Pneus de rodagem | D12: =SUM(5*526.32) -> 2631.6 | E12: 40000 | F12: =SUM(D12/E12) -> 0.06579 | G12: =SUM(F12*$C$6) -> 7.796115
B13: Manutenção do veículo | D13: =(129442*10%)/12 -> 1078.6833 | E13: =C$7 -> 2607 | F13: =SUM(D13/E13) -> 0.41376422 | G13: =SUM(F13*$C$6) -> 49.031061
B14: Depreciação do veículo | D14: =SUM((129442-25888.4)*10%)/12 -> 862.94667 | E14: =C$7 -> 2607 | F14: =SUM(D14/E14) -> 0.33101138 | G14: =SUM(F14*$C$6) -> 39.224848
B15: Limpeza e higienização | D15: =150*4 -> 600 | E15: =C$7 -> 2607 | F15: =SUM(D15/E15) -> 0.2301496 | G15: =SUM(F15*$C$6) -> 27.272727
B16: Contribuição assistência patronal | D16: =(42*1)/12 -> 3.5 | E16: =C$7 -> 2607 | F16: =SUM(D16/E16) -> 0.0013425393 | G16: =SUM(F16*$C$6) -> 0.15909091
B17: Garagem | D17: 0 | E17: =C$7 -> 2607 | F17: =SUM(D17/E17) -> 0 | G17: =SUM(F17*$C$6) -> 0
B18: IPVA | D18: =SUM(129442*1%)/12 -> 107.86833 | E18: =C$7 -> 2607 | F18: =SUM(D18/E18) -> 0.041376422 | G18: =SUM(F18*$C$6) -> 4.9031061
B19: Seguro Civil | D19: =700/12 -> 58.333333 | E19: =C$7 -> 2607 | F19: =SUM(D19/E19) -> 0.022375655 | G19: =SUM(F19*$C$6) -> 2.6515152
B20: Laudos Detran/Inmetro | D20: =200/12 -> 16.666667 | E20: =C$7 -> 2607 | F20: =SUM(D20/E20) -> 0.0063930444 | G20: =SUM(F20*$C$6) -> 0.75757576
B21: DPVAT | D21: =90/12 -> 7.5 | E21: =C$7 -> 2607 | F21: =SUM(D21/E21) -> 0.00287687 | G21: =SUM(F21*$C$6) -> 0.34090909
B22: Sistema monitoramento - GPS | D22: 100 | E22: =C$7 -> 2607 | F22: =SUM(D22/E22) -> 0.038358266 | G22: =SUM(F22*$C$6) -> 4.5454545
B23: Taxa de vistoria GRD Transporte Escolar | D23: 160 | E23: =C$7 -> 2607 | F23: =SUM(D23/E23) -> 0.061373226 | G23: =SUM(F23*$C$6) -> 7.2727273
B24: Emplacamento | D24: 320.87 | E24: =C$7 -> 2607 | F24: =SUM(D24/E24) -> 0.12308017 | G24: =SUM(F24*$C$6) -> 14.585
B26: CUSTO ESTIMADO VEÍCULO | F26: =SUM(F10:F24) -> 2.3799991 | G26: =SUM(G10:G24) -> 282.02989
B28: Lucro/Custos Indiretos - BDI | E28: 0.05
B29: ISS | E29: 0.04
B30: TRIBUTOS (PIS/COFINS) | E30: =3%+0.65% -> 0.0365
B32: CUSTO ESTIMADO (Lucro + Impostos) | E32: =((1+E29)*(1+E28)/(1-E30))-1 -> 0.13336793 | F32: =SUM(G32/C6) -> 0.31738397 | G32: =ROUND(G26*E32,2) -> 37.61
B34: VALOR TOTAL ESTIMADO VEICULO | F34: =SUM(F26+F32) -> 2.697383 | G34: =G32+G26 -> 319.63989
B36: *Lucro e Despesas Indiretas = ((1 + Despesas Indiretas) x (1 + Lucro) / (1 - PIS - COFINS)) -1

Sheet Uniformes
B1: UNIFORMES
B3: UNIFORMES
B4: Item | C4: Especificação | D4: Unidade | E4: Quantidade ANUAL por empregado | F4: Preço unt | G4: Total Geral
B5: 1 | C5: Camisa, manga curta, na cor utizada pela empresa | D5: Unidade | E5: 2 | F5: 72.08 | G5: =E5*F5 -> 144.16
B6: 2 | C6: Camisa, manga longa, na cor utilizada pela empresa. | D6: Unidade | E6: 2 | F6: 88.57 | G6: =E6*F6 -> 177.14
B7: 3 | C7: Calçado de segurança preto, em couro, com solado baixo | D7: Par | E7: 2 | F7: 69.91 | G7: =E7*F7 -> 139.82
B8: 4 | C8: Jaqueta corta vento na cor utilizada pela empresa | D8: Unidade | E8: 1 | F8: 126.78 | G8: =E8*F8 -> 126.78
B9: TOTAL ANUAL POR EMPREGADO | G9: =SUM(G5:G8) -> 587.9
B10: RATEIO MENSAL CUSTO UNIFORME | G10: =+G9/10 -> 58.79

Sheet CTG
B2: PLANILHA DE CONTINGENCIAMENTO DOS ENCARGOS TRABALHISTAS*
B3: * Conforme Resolução nº 169/2013 do Conselho Nacional de Justiça - CNJ
B5: ENCARGO | C5: PERCENTUAL
B6: Férias | C6: 0.0909
B7: 1/3 Constitucional | C7: =(1/3)*C6 -> 0.0303
B8: 13º Salário | C8: 0.0909
B9: Subtotal | C9: =SUM(C6:D8) -> 0.2121
C10: Mínimo | D10: Máximo
B11: Encargos Previdenciários/FGTS | C11: 0.343 | D11: 0.398
B12: Incidência dos encargos previdenciários e FGTS sobre férias, 1/3 constitucional e 13º salário* | C12: =TRUNC(C9*C11,4) -> 0.0727 | D12: =C9*D11 -> 0.0844158
B13: Multa do FGTS por dispensa sem justa causa | C13: 0.0347
B14: Total de encargos a contingenciar | C14: =C9+C12+C13 -> 0.3195 | D14: =C9+D12+C13+0.0001 -> 0.3313158
B15: * Variação percentual possível em função do RAT ajustado (RATxFAP)

Sheet Memória
