Workbook
Name Equip.comuns.armados: [1]Equipamentos!$N$27
Name Equip.comuns.todos: [1]Equipamentos!$N$15
Name mat.usocomum: '[2]Mat Uso Comum '!$G$10
Name UNIF.agenteseg: [1]Uniformes!#REF!
Name UNIF.armado: [1]Uniformes!$H$14
Name UNIF.bomb.brigadista: [1]Uniformes!#REF!
Name UNIF.desarmado: [1]Uniformes!$H$26
Name UNIF.supervisor: [1]Uniformes!#REF!

Sheet TOTAL CONTRATO
B2: QUADRO-RESUMO - TOTAL ESTIMADO DOS SERVIÇOS
B3: CONTRATO
B5: SERVENTE E COPEIRA
B6: SECRETARIA MUNICIPAL DE SAÚDE
B7: SÃO MATEUS DO SUL - PR
B9: Tipo de Serviço | D9: Unit/Mês | E9: Meses | F9: Qtde. Prevista. | G9: TOTAL
B10: I | C10: Servente Copeira 40h | D10: ='ServenteCopeira 40h'!C123 -> 0 | E10: 12 | F10: 22 | G10: =D10*E10*F10 -> 0
B11: II | C11: Servente Copeira 20h | D11: ='ServenteCopeira 20h'!C123 -> 0 | E11: 12 | F11: 15 | G11: =D11*E11*F11 -> 0
B12: III | C12: Servente Copeira 36h | D12: ='ServenteCopeira 36h'!C123 -> 0 | E12: 12 | F12: 2 | G12: =D12*E12*F12 -> 0
B13: IV | C13: Servente Copeira 12x36 noturno | D13: ='ServenteCopeira 12x36 noturno'!C125 -> 0 | E13: 12 | F13: 4 | G13: =D13*E13*F13 -> 0
B14: V | C14: ServenteCopeira 12x36 diurno | D14: ='ServenteCopeira 12x36 diurno'!C123 -> 0 | E14: 12 | F14: 4 | G14: =D14*E14*F14 -> 0
B15: VALOR DOS SERVIÇOS (I A VII) | F15: =SUM(F10:F14) -> 47 | G15: =SUM(G10:G14) -> 0
B17: VALOR GLOBAL ESTIMADO | G17: =G15 -> 0
B19: VALOR MENSAL A FATURAR ESTIMADO | G19: =SUM(G17/12) -> 0
B21: DATA DA CONCLUSÃO DA FORMAÇÃO DE PREÇO | G21: 46290

Sheet ServenteCopeira 40h
A2: PLANILHA DE CUSTOS E FORMAÇÃO DE PREÇOS
A5: Nº Processo: | B5: 11.328/2025
A9: SERVENTE COPEIRA, 40 HORAS SEMANAIS
A11: Discriminação dos Serviços
A13: A - Data da apresentação da proposta (dia/mês/ano)
A14: B - Município/UF | B14: São Mateus do Sul - PR
A15: C - Ano do Acordo, Convenção ou Dissídio Coletivo | B15: SIEMACO PR x SEAC PR 2026 - 2028 PR000063/2026
A16: D - Tipo de Serviço | B16: Servente Copeira - 40h semanais
A17: E - Número de meses de execução contratual | B17: 12
A19: IMPORTANTE: Para efeito de elaboração da planilha de custos os dados abaixo deverão ser informados/cotados os valores unitários mensais por empregado
F21: 1961 | G21: 220
A22: MÓDULO 1: COMPOSIÇÃO DA REMUNERAÇÃO | F22: =F21/G21*G22 -> 1782.7273 | G22: 200 | H22: 70 | I22: =F22+H22 -> 1852.7273
A23: 1 - COMPOSIÇÃO DA REMUNERAÇÃO
A24: A - Salário base | C24: 0 | F24: 1900 | G24: 220
A25: B - Adicional de Insalubridade calculado sobre o valor do salário-mínimo nacional §5º 21 CCT | F25: =F24/G24*G25 -> 1727.2727 | G25: 200 | H25: 131 | I25: =F25+H25 -> 1858.2727
A26: 1621 | B26: 0.4 | C26: 0 | F26: =F24/G24*G26 -> 863.63636 | G26: 100
A27: C - Gratificação de função de Copeira, CCT 02.01 – cumulação de função | C27: 0 | F27: =F24/G24*G27 -> 1554.5455 | G27: 180
A28: TOTAL DA REMUNERAÇÃO : | C28: =SUM(C24:C27) -> 0
A30: MÓDULO 2: Encargos e Benefícios Anuais, Mensais e Diários
A31: 2.1 - Contingenciamento - Resolução 169/2013 CNJ
A32: A - 13º salário | B32: 0.0833 | C32: =$C$28*B32 -> 0
A33: B- Férias | B33: 0.0833 | C33: =$C$28*B33 -> 0
A34: C - Adicional de férias | B34: 0.0278 | C34: =$C$28*B34 -> 0
A35: Subtotal | B35: =SUM(B32:B34) -> 0.1944 | C35: =SUM(C32:C34) -> 0
A36: D - Incidência do módulo 4 sobre 13º Salário e Adicional de Férias | B36: =+B35*B49 -> 0.0715392 | C36: =$C$28*B36 -> 0
A37: E - Multa do FGTS por dispensa sem justa causa | B37: 0.0347 | C37: =$C$28*B37 -> 0
A38: TOTAL | B38: =B36+B35+B37 -> 0.3006392 | C38: =C36+C35+C37 -> 0
A40: 2.2 - Encargos Previdenciários (GPS), Fundo de Garantia por Tempo de Serviço (FGTS) e outras contribuições. | B40: % | C40: Valor (R$)
A41: A - INSS | B41: 0.2 | C41: =$C$28*B41 -> 0
A42: B - Salário Educação | B42: 0.025 | C42: =$C$28*B42 -> 0
A43: C - RAT Ajustado | B43: 0.03 | C43: =$C$28*B43 -> 0
A44: D - SESC ou SESI | B44: 0.015 | C44: =$C$28*B44 -> 0
A45: E - SENAI - SENAC | B45: 0.01 | C45: =$C$28*B45 -> 0
A46: F - SEBRAE | B46: 0.006 | C46: =$C$28*B46 -> 0
A47: G - INCRA | B47: 0.002 | C47: =$C$28*B47 -> 0
A48: H - FGTS | B48: 0.08 | C48: =$C$28*B48 -> 0
A49: TOTAL | B49: =SUM(B41:B48) -> 0.368 | C49: =SUM(C41:C48) -> 0
A51: 2.3 - Benefícios Mensais e Diários
A52: A - Transporte Cláusula 15ª CCT | B52: 3.5 | C52: 0
A53: B - Vale Alimentação Cláusula 13ª CCT | B53: 900 | C53: 0
...

Sheet ServenteCopeira 20h
A2: PLANILHA DE CUSTOS E FORMAÇÃO DE PREÇOS
A5: Nº Processo: | B5: 11.328/2025
A9: SERVENTE COPEIRA, 20 HORAS SEMANAIS
A11: Discriminação dos Serviços
A13: A - Data da apresentação da proposta (dia/mês/ano)
A14: B - Município/UF | B14: São Mateus do Sul - PR
A15: C - Ano do Acordo, Convenção ou Dissídio Coletivo | B15: SIEMACO PR x SEAC PR 2026 - 2028 PR000063/2026
A16: D - Tipo de Serviço | B16: Servente Copeira - 20h semanais
A17: E - Número de meses de execução contratual | B17: 12
A19: IMPORTANTE: Para efeito de elaboração da planilha de custos os dados abaixo deverão ser informados/cotados os valores unitários mensais por empregado
A22: MÓDULO 1: COMPOSIÇÃO DA REMUNERAÇÃO
A23: 1 - COMPOSIÇÃO DA REMUNERAÇÃO
A24: A - Salário base | C24: 0
A25: B - Adicional de Insalubridade calculado sobre o valor do salário-mínimo nacional §5º 21 CCT
A26: 1621 | B26: 0.4 | C26: 0
A27: C - Gratificação de função de Copeira, CCT 02.01 – cumulação de função | C27: 0
A28: TOTAL DA REMUNERAÇÃO : | C28: =SUM(C24:C27) -> 0
A30: MÓDULO 2: Encargos e Benefícios Anuais, Mensais e Diários
A31: 2.1 - Contingenciamento - Resolução 169/2013 CNJ
A32: A - 13º salário | B32: 0.0833 | C32: =$C$28*B32 -> 0
A33: B- Férias | B33: 0.0833 | C33: =$C$28*B33 -> 0
A34: C - Adicional de férias | B34: 0.0278 | C34: =$C$28*B34 -> 0
A35: Subtotal | B35: =SUM(B32:B34) -> 0.1944 | C35: =SUM(C32:C34) -> 0
A36: D - Incidência do módulo 4 sobre 13º Salário e Adicional de Férias | B36: =+B35*B49 -> 0.0715392 | C36: =$C$28*B36 -> 0
A37: E - Multa do FGTS por dispensa sem justa causa | B37: 0.0347 | C37: =$C$28*B37 -> 0
A38: TOTAL | B38: =B36+B35+B37 -> 0.3006392 | C38: =C36+C35+C37 -> 0
A40: 2.2 - Encargos Previdenciários (GPS), Fundo de Garantia por Tempo de Serviço (FGTS) e outras contribuições. | B40: % | C40: Valor (R$)
A41: A - INSS | B41: 0.2 | C41: =$C$28*B41 -> 0
A42: B - Salário Educação | B42: 0.025 | C42: =$C$28*B42 -> 0
A43: C - RAT Ajustado | B43: 0.03 | C43: =$C$28*B43 -> 0
A44: D - SESC ou SESI | B44: 0.015 | C44: =$C$28*B44 -> 0
A45: E - SENAI - SENAC | B45: 0.01 | C45: =$C$28*B45 -> 0
A46: F - SEBRAE | B46: 0.006 | C46: =$C$28*B46 -> 0
A47: G - INCRA | B47: 0.002 | C47: =$C$28*B47 -> 0
A48: H - FGTS | B48: 0.08 | C48: =$C$28*B48 -> 0
A49: TOTAL | B49: =SUM(B41:B48) -> 0.368 | C49: =SUM(C41:C48) -> 0
A51: 2.3 - Benefícios Mensais e Diários
A52: A - Transporte Cláusula 15ª CCT | B52: 3.5 | C52: 0
A53: B - Vale Alimentação Cláusula 13ª CCT | B53: 900 | C53: 0
A54: B' - Vale Alimentação Férias 1/12 Cláusula 13ª CCT §8º | C54: =C53/12 -> 0
...

Sheet ServenteCopeira 36h
A2: PLANILHA DE CUSTOS E FORMAÇÃO DE PREÇOS
A5: Nº Processo: | B5: 11.328/2025
A9: SERVENTE COPEIRA, 36 HORAS SEMANAIS
A11: Discriminação dos Serviços
A13: A - Data da apresentação da proposta (dia/mês/ano)
A14: B - Município/UF | B14: São Mateus do Sul - PR
A15: C - Ano do Acordo, Convenção ou Dissídio Coletivo | B15: SIEMACO PR x SEAC PR 2026 - 2028 PR000063/2026
A16: D - Tipo de Serviço | B16: Servente Copeira - 36h semanais
A17: E - Número de meses de execução contratual | B17: 12
A19: IMPORTANTE: Para efeito de elaboração da planilha de custos os dados abaixo deverão ser informados/cotados os valores unitários mensais por empregado
A22: MÓDULO 1: COMPOSIÇÃO DA REMUNERAÇÃO
A23: 1 - COMPOSIÇÃO DA REMUNERAÇÃO
A24: A - Salário base | C24: 0
A25: B - Adicional de Insalubridade calculado sobre o valor do salário-mínimo nacional §5º 21 CCT
A26: 1621 | B26: 0.4 | C26: 0
A27: C - Gratificação de função de Copeira, CCT 02.01 – cumulação de função
A28: TOTAL DA REMUNERAÇÃO : | C28: =SUM(C24:C27) -> 0
A30: MÓDULO 2: Encargos e Benefícios Anuais, Mensais e Diários
A31: 2.1 - Contingenciamento - Resolução 169/2013 CNJ
A32: A - 13º salário | B32: 0.0833 | C32: =$C$28*B32 -> 0
A33: B- Férias | B33: 0.0833 | C33: =$C$28*B33 -> 0
A34: C - Adicional de férias | B34: 0.0278 | C34: =$C$28*B34 -> 0
A35: Subtotal | B35: =SUM(B32:B34) -> 0.1944 | C35: =SUM(C32:C34) -> 0
A36: D - Incidência do módulo 4 sobre 13º Salário e Adicional de Férias | B36: =+B35*B49 -> 0.0715392 | C36: =$C$28*B36 -> 0
A37: E - Multa do FGTS por dispensa sem justa causa | B37: 0.0347 | C37: =$C$28*B37 -> 0
A38: TOTAL | B38: =B36+B35+B37 -> 0.3006392 | C38: =C36+C35+C37 -> 0
A40: 2.2 - Encargos Previdenciários (GPS), Fundo de Garantia por Tempo de Serviço (FGTS) e outras contribuições. | B40: % | C40: Valor (R$)
A41: A - INSS | B41: 0.2 | C41: =$C$28*B41 -> 0
A42: B - Salário Educação | B42: 0.025 | C42: =$C$28*B42 -> 0
A43: C - RAT Ajustado | B43: 0.03 | C43: =$C$28*B43 -> 0
A44: D - SESC ou SESI | B44: 0.015 | C44: =$C$28*B44 -> 0
A45: E - SENAI - SENAC | B45: 0.01 | C45: =$C$28*B45 -> 0
A46: F - SEBRAE | B46: 0.006 | C46: =$C$28*B46 -> 0
A47: G - INCRA | B47: 0.002 | C47: =$C$28*B47 -> 0
A48: H - FGTS | B48: 0.08 | C48: =$C$28*B48 -> 0
A49: TOTAL | B49: =SUM(B41:B48) -> 0.368 | C49: =SUM(C41:C48) -> 0
A51: 2.3 - Benefícios Mensais e Diários
A52: A - Transporte Cláusula 15ª CCT | B52: 3.5 | C52: 0
A53: B - Vale Alimentação Cláusula 13ª CCT | B53: 900 | C53: 0
A54: B' - Vale Alimentação Férias 1/12 Cláusula 13ª CCT §8º | C54: 0
...

Sheet ServenteCopeira 12x36 noturno
A2: PLANILHA DE CUSTOS E FORMAÇÃO DE PREÇOS
A5: Nº Processo: | B5: 11.328/2025
A9: SERVENTE COPEIRA, 12 X 36 NOTURNO
A11: Discriminação dos Serviços
A13: A - Data da apresentação da proposta (dia/mês/ano)
A14: B - Município/UF | B14: São Mateus do Sul - PR
A15: C - Ano do Acordo, Convenção ou Dissídio Coletivo | B15: SIEMACO PR x SEAC PR 2026 - 2028 PR000063/2026
A16: D - Tipo de Serviço | B16: Servente Copeira - 12 X 36 NOTURNO
A17: E - Número de meses de execução contratual | B17: 12
A19: IMPORTANTE: Para efeito de elaboração da planilha de custos os dados abaixo deverão ser informados/cotados os valores unitários mensais por empregado
A22: MÓDULO 1: COMPOSIÇÃO DA REMUNERAÇÃO
A23: 1 - COMPOSIÇÃO DA REMUNERAÇÃO
A24: A - Salário-Base jornada de 12x36 horas Art. 59-A Lei 5.452/1943; Cláusula 28 CCT (valor integral) | C24: 0
A25: B - Adicional de Insalubridade calculado sobre o valor do salário-mínimo nacional §5º 21 CCT
A26: 1621 | B26: 0.4 | C26: 0
A27: C - Adicional Noturno | B27: 0.2 | C27: =ROUND((C24/220)*0.2*(105*60/52.5),2) -> 0 | E27: =ROUND((C24/220)*39,2) -> 0
A28: D - Adicional de Hora Reduzida | C28: =ROUND((C24/220)* (105*(60/52.5 - 1)),2) -> 0 | E28: =C27+C28 -> 0
A29: E - Gratificação de função de Copeira, CCT 02.01 – cumulação de função | C29: 0
A30: TOTAL DA REMUNERAÇÃO : | C30: =SUM(C24:C29) -> 0
A32: MÓDULO 2: Encargos e Benefícios Anuais, Mensais e Diários
A33: 2.1 - Contingenciamento - Resolução 169/2013 CNJ
A34: A - 13º salário | B34: 0.0833 | C34: =$C$30*B34 -> 0
A35: B- Férias | B35: 0.0833 | C35: =$C$30*B35 -> 0
A36: C - Adicional de férias | B36: 0.0278 | C36: =$C$30*B36 -> 0
A37: Subtotal | B37: =SUM(B34:B36) -> 0.1944 | C37: =SUM(C34:C36) -> 0
A38: D - Incidência do módulo 4 sobre 13º Salário e Adicional de Férias | B38: =+B37*B51 -> 0.0715392 | C38: =$C$30*B38 -> 0
A39: E - Multa do FGTS por dispensa sem justa causa | B39: 0.0347 | C39: =$C$30*B39 -> 0
A40: TOTAL | B40: =B38+B37+B39 -> 0.3006392 | C40: =C38+C37+C39 -> 0
A42: 2.2 - Encargos Previdenciários (GPS), Fundo de Garantia por Tempo de Serviço (FGTS) e outras contribuições. | B42: % | C42: Valor (R$)
A43: A - INSS | B43: 0.2 | C43: =$C$30*B43 -> 0
A44: B - Salário Educação | B44: 0.025 | C44: =$C$30*B44 -> 0
A45: C - RAT Ajustado | B45: 0.03 | C45: =$C$30*B45 -> 0
A46: D - SESC ou SESI | B46: 0.015 | C46: =$C$30*B46 -> 0
A47: E - SENAI - SENAC | B47: 0.01 | C47: =$C$30*B47 -> 0
A48: F - SEBRAE | B48: 0.006 | C48: =$C$30*B48 -> 0
A49: G - INCRA | B49: 0.002 | C49: =$C$30*B49 -> 0
A50: H - FGTS | B50: 0.08 | C50: =$C$30*B50 -> 0
A51: TOTAL | B51: =SUM(B43:B50) -> 0.368 | C51: =SUM(C43:C50) -> 0
A53: 2.3 - Benefícios Mensais e Diários
A54: A - Transporte Cláusula 15ª CCT | B54: 3.5 | C54: 0 | E54: =ROUND(((B54*2)*15)-(C24*6%),2) -> 105
...

Sheet ServenteCopeira 12x36 diurno
A2: PLANILHA DE CUSTOS E FORMAÇÃO DE PREÇOS
A5: Nº Processo: | B5: 11.328/2025
A9: SERVENTE COPEIRA, 12 x 36 DIURNO
A11: Discriminação dos Serviços
A13: A - Data da apresentação da proposta (dia/mês/ano)
A14: B - Município/UF | B14: São Mateus do Sul - PR
A15: C - Ano do Acordo, Convenção ou Dissídio Coletivo | B15: SIEMACO PR x SEAC PR 2026 - 2028 PR000063/2026
A16: D - Tipo de Serviço | B16: Servente Copeira - 12 X 36 DIURNO
A17: E - Número de meses de execução contratual | B17: 12
A19: IMPORTANTE: Para efeito de elaboração da planilha de custos os dados abaixo deverão ser informados/cotados os valores unitários mensais por empregado
A22: MÓDULO 1: COMPOSIÇÃO DA REMUNERAÇÃO
A23: 1 - COMPOSIÇÃO DA REMUNERAÇÃO
A24: A - Salário-Base jornada de 12x36 horas Art. 59-A Lei 5.452/1943; Cláusula 28 CCT (valor integral) | C24: 0
A25: B - Adicional de Insalubridade calculado sobre o valor do salário-mínimo nacional §5º 21 CCT
A26: 1621 | B26: 0.4 | C26: 0
A27: C - Gratificação de função de Copeira, CCT 02.01 – cumulação de função | C27: 0
A28: TOTAL DA REMUNERAÇÃO : | C28: =SUM(C24:C27) -> 0
A30: MÓDULO 2: Encargos e Benefícios Anuais, Mensais e Diários
A31: 2.1 - Contingenciamento - Resolução 169/2013 CNJ
A32: A - 13º salário | B32: 0.0833 | C32: =$C$28*B32 -> 0
A33: B- Férias | B33: 0.0833 | C33: =$C$28*B33 -> 0
A34: C - Adicional de férias | B34: 0.0278 | C34: =$C$28*B34 -> 0
A35: Subtotal | B35: =SUM(B32:B34) -> 0.1944 | C35: =SUM(C32:C34) -> 0
A36: D - Incidência do módulo 4 sobre 13º Salário e Adicional de Férias | B36: =+B35*B49 -> 0.0715392 | C36: =$C$28*B36 -> 0
A37: E - Multa do FGTS por dispensa sem justa causa | B37: 0.0347 | C37: =$C$28*B37 -> 0
A38: TOTAL | B38: =B36+B35+B37 -> 0.3006392 | C38: =C36+C35+C37 -> 0
A40: 2.2 - Encargos Previdenciários (GPS), Fundo de Garantia por Tempo de Serviço (FGTS) e outras contribuições. | B40: % | C40: Valor (R$)
A41: A - INSS | B41: 0.2 | C41: =$C$28*B41 -> 0
A42: B - Salário Educação | B42: 0.025 | C42: =$C$28*B42 -> 0
A43: C - RAT Ajustado | B43: 0.03 | C43: =$C$28*B43 -> 0
A44: D - SESC ou SESI | B44: 0.015 | C44: =$C$28*B44 -> 0
A45: E - SENAI - SENAC | B45: 0.01 | C45: =$C$28*B45 -> 0
A46: F - SEBRAE | B46: 0.006 | C46: =$C$28*B46 -> 0
A47: G - INCRA | B47: 0.002 | C47: =$C$28*B47 -> 0
A48: H - FGTS | B48: 0.08 | C48: =$C$28*B48 -> 0
A49: TOTAL | B49: =SUM(B41:B48) -> 0.368 | C49: =SUM(C41:C48) -> 0
A51: 2.3 - Benefícios Mensais e Diários
A52: A - Transporte Cláusula 15ª CCT | B52: 3.5 | C52: 0 | E52: =ROUND(((B52*2)*15)-(C24*6%),2) -> 105
A53: B - Vale Alimentação Cláusula 13ª CCT | B53: 900 | C53: 0
A54: B' - Vale Alimentação Férias 1/12 Cláusula 13ª CCT §8º | C54: 0
...

Sheet Uniformes e EPI
A1: Uniformes e Equipamentos de Proteção Individual
A3: Uniformes e EPIs para Servente Copeira
A5: Discriminação | B5: Unidade | C5: Durabilidade (meses) | D5: Quantidade anual por empregado | E5: Custo unitário | F5: Subtotal
A6: Sapato de segurança, material couro sintético, solado de borracha antiderrapante; | B6: Und | C6: 4 | D6: 3 | E6: 0 | F6: =D6*E6 -> 0
A7: Pares de bota de borracha, PVC, forrada, cano médio, em número compatível ao funcionário que estará utilizando; | B7: Par | C7: 6 | D7: 2 | E7: 0 | F7: =D7*E7 -> 0
A8: Jaleco em Oxford, (100% poliéster), unissex, médio (acima do joelho), manga curta, sem bolsos, gola em "V", tamanhos: P, M, G, GG (compatível ao funcionário que estiver usando), com proteção para os botões e faixa traseira reforçada. | B8: Und | C8: 6 | D8: 2 | E8: 0 | F8: =D8*E8 -> 0
A9: Camisetas de algodão, com a logomarca da empresa | B9: Und | C9: 4 | D9: 3 | E9: 0 | F9: =D9*E9 -> 0
A10: Luvas de borracha nitrílicas forradas. | B10: Par | C10: 1 | D10: 60 | E10: 0 | F10: =D10*E10 -> 0
A12: Custo Anual com Uniformes e EPIs por empregado | F12: =F6+F7+F8+F9+F10 -> 0
A14: Custo Mensal com Uniformes e EPIs por empregado | F14: =F12/12 -> 0

Sheet CTG
B2: PLANILHA DE CONTINGENCIAMENTO DOS ENCARGOS TRABALHISTAS*
B3: * Conforme Resolução nº 169/2013 do Conselho Nacional de Justiça - CNJ
B5: ENCARGO | C5: PERCENTUAL
B6: Férias | C6: 0.0833
B7: 1/3 Constitucional | C7: =(1/3)*C6 -> 0.027766667
B8: 13º Salário | C8: 0.0833
B9: Subtotal | C9: =SUM(C6:D8) -> 0.19436667
C10: Mínimo | D10: Máximo
B11: Encargos Previdenciários/FGTS | C11: 0.343 | D11: 0.398
B12: Incidência dos encargos previdenciários e FGTS sobre férias, 1/3 constitucional e 13º salário* | C12: =TRUNC(C9*C11,4) -> 0.0666 | D12: =C9*D11 -> 0.077357933
B13: Multa do FGTS por dispensa sem justa causa | C13: 0.0347
B14: Total de encargos a contingenciar | C14: =C9+C12+C13 -> 0.29566667 | D14: =C9+D12+C13+0.0001 -> 0.3065246
B15: * Variação percentual possível em função do RAT ajustado (RATxFAP)
