Workbook

Sheet Cronograma-Físico Financeiro
A1: CONTRUÇÃO DO CAMPO DE ESPORTES BAIRRO PORTO NOVO
A4: PROPONENTE / EXECUTOR : Prefeitura do Município de Adrianópolis
A5: CONSTRUÇÃO DE VESTIÁRIOS, BANHEIROS E REVITALIZAÇÃO DA INFRAESTRUTURA DO CAMPO DO BAIRRO PORTO NOVO
A6: LOCAL.................................... : Rua David Armstrong s/n° - Porto Novo - Adrianópolis - PR
A7: REGIME DE EXECUÇÃO....... : Empreitada Global
A9: Cronograma Físico e Financeiro
A11: Item | B11: Descrição | C11: Total | D11: Peso (%) | E11: 1 | F11: 2 | G11: 3 | H11: 4 | I11: 5 | J11: 6
A12: 1 | B12: SERVIÇOS PRELIMINARES E INDIRETOS | C12: =[1]Orçamento!$I$5 -> 9736.8 | D12: =[1]Orçamento!$J$5 -> 0.03245604 | E12: =C12 -> 9736.8
A13: 2 | B13: FUNDAÇÃO | C13: =[1]Orçamento!$I$10 -> 32239.625 | D13: =[1]Orçamento!$J$10 -> 0.10746555 | E13: =C13*1 -> 32239.625
A14: 3 | B14: ESTRUTURA | C14: =[1]Orçamento!$I$22 -> 38927.685 | D14: =[1]Orçamento!$J$22 -> 0.12975911 | F14: =C14*0.5 -> 19463.842 | G14: =C14*0.5 -> 19463.842
A15: 4 | B15: ALVENARIA, VEDAÇÕES E DIVISÓRIAS | C15: =[1]Orçamento!$I$34 -> 25428.172 | D15: =[1]Orçamento!$J$34 -> 0.084760679 | G15: =C15*0.3 -> 7628.4517 | H15: =C15*0.7 -> 17799.721
A16: 5 | B16: COBERTURA | C16: =[1]Orçamento!$I$43 -> 28721.056 | D16: =[1]Orçamento!$J$43 -> 0.095736973 | G16: =C16 -> 28721.056
A17: 7 | B17: ESQUADRIAS | C17: =[1]Orçamento!$I$52 -> 24407.17 | D17: =[1]Orçamento!$J$52 -> 0.081357334 | H17: =C17 -> 24407.17
A18: 8 | B18: REVESTIMENTOS | C18: =[1]Orçamento!$I$58 -> 51591.34 | D18: =[1]Orçamento!$J$58 -> 0.17197135 | H18: =C18*0.3 -> 15477.402 | I18: =C18*0.7 -> 36113.938
A19: 9 | B19: PINTURA | C19: =[1]Orçamento!$I$68 -> 4997.4 | D19: =[1]Orçamento!$J$68 -> 0.016658021 | I19: =C19 -> 4997.4
A20: 10 | B20: LOUÇAS, METAIS E ACESSÓRIOS | C20: =[1]Orçamento!$I$75 -> 14688.62 | D20: =[1]Orçamento!$J$75 -> 0.048962127 | I20: =C20 -> 14688.62
A21: 11 | B21: INSTALAÇÕES HIDROSSANITÁRIAS | C21: =[1]Orçamento!$I$83 -> 5296.09 | D21: =[1]Orçamento!$J$83 -> 0.017653655 | I21: =C21 -> 5296.09
A22: 12 | B22: INSTALAÇÕES ELÉTRICAS | C22: =[1]Orçamento!$I$98 -> 11113.27 | D22: =[1]Orçamento!$J$98 -> 0.037044279 | F22: =C22*0.7 -> 7779.289 | J22: =C22*0.3 -> 3333.981
A23: 13 | B23: ILUMINACAO | C23: =[1]Orçamento!$I$111 -> 5248.4 | D23: =[1]Orçamento!$J$111 -> 0.017494688 | F23: =C23*0.7 -> 3673.88 | J23: =C23*0.3 -> 1574.52
A24: 14 | B24: URBANIZAÇÃO | C24: =[1]Orçamento!$I$119 -> 47604 | D24: =[1]Orçamento!$J$119 -> 0.1586802 | J24: =C24*1 -> 47604
A25: TOTAL | C25: =SUM(C12:C24) -> 299999.63 | D25: =SUM(D12:D24) -> 1 | E25: =SUM(E12:E24) -> 41976.425 | F25: =SUM(F12:F24) -> 30917.011 | G25: =SUM(G12:G24) -> 55813.35 | H25: =SUM(H12:H24) -> 57684.293 | I25: =SUM(I12:I24) -> 61096.048 | J25: =SUM(J12:J24) -> 52512.501
E26: =E25/$C25 -> 0.13992159 | F26: =F25/$C25 -> 0.10305683 | G26: =G25/$C25 -> 0.18604473 | H26: =H25/$C25 -> 0.19228121 | I26: =I25/$C25 -> 0.20365375 | J26: =J25/$C25 -> 0.17504189
E27: =E26 -> 0.13992159 | F27: =F26+E27 -> 0.24297842 | G27: =G26+F27 -> 0.42902315 | H27: =H26+G27 -> 0.62130437 | I27: =I26+H27 -> 0.82495811 | J27: 1
D29: Adrianópolis, 27 de Novembro de 2.025.
C34: ______________________________ | G34: ______________________________
C35: Vandir de Oliveira Rosa | G35: Vinicius Ferreira Ribas Pereira
C36: Prefeito Municipal | G36: Eng Civil
