Workbook
Name BDI.Opcao: [1]DADOS!$F$18
Name BDI.TipoObra: [1]BDI!$A$138:$A$146
Name CONCATENAR: CONCATENATE(Composição!$B1," ",Composição!$C1)
Name DESONERACAO: IF(OR(Import.Desoneracao="DESONERADO",Import.Desoneracao="SIM"),"SIM","NÃO")
Name EMPRESAS: OFFSET([2]Cotações!$B$25,1,0):OFFSET([2]Cotações!$H$41,-1,0)
Name Import.Apelido: [1]DADOS!$F$16
Name Import.DescLote: [1]DADOS!$F$17
Name Import.Desoneracao: OFFSET([1]DADOS!$G$18,0,-1)
Name Import.Município: [1]DADOS!$F$6
Name Import.RespOrçamento: [1]DADOS!$F$22:$F$24
Name INDICES: OFFSET([2]Cotações!$B$20,1,0):OFFSET([2]Cotações!$I$24,-1,0)
Name Print_Area: BDI_26!$D$2:$Q$55

Sheet Orçamento
B2: PLANILHA ORÇAMENTÁRIA
B4: OBRA: | E4: AMPLIAÇÃO DA VALA PARA ATERRO SANITÁRIO | F4: Valor Total: | H4: =J49 -> 459718.78
B5: ENDEREÇO: | E5: BARRO PRETO - ZONA RURAL | F5: Data: | H5: 46211
B6: PROPRIETÁRIO: | E6: MUNICÍPIO DE PITANGA | F6: BDI: | H6: 0.26
B8: COD. | C8: FONTE | D8: ITEM | E8: DESCRIÇÃO DOS SERVIÇOS | F8: UND | G8: QTDE | H8: CUSTO UNT. | I8: CUSTO UNT. (C/ BDI) | J8: CUSTO TOTAL (C/ BDI) | K8: CÓDIGO NOVO
E9: LOTE 01
D10: 1 | E10: INSTALAÇÕES PRELIMINARES
B11: 103689 | C11: SINAPI | D11: 1.1 | E11: FORNECIMENTO E INSTALAÇÃO DE PLACA DE OBRA COM CHAPA GALVANIZADA E ESTRUTURA DE MADEIRA. AF_03/2022_PS (1,20x2,50m) | F11: m² | G11: 3 | H11: 505.6 | I11: =ROUNDDOWN((H11*$H$6)+H11,2) -> 637.05 | J11: =ROUND((G11*I11),2) -> 1911.15 | K11: 4813
I12: TOTAL ITEM 1 | J12: =SUM(J11:J11) -> 1911.15 | L12: =J12 -> 1911.15
D13: 2 | E13: RETIRADAS E LIMPEZA
B14: 98530 | C14: SINAPI | D14: 2.1 | E14: CORTE RASO E RECORTE DE ÁRVORE COM DIÂMETRO DE TRONCO MAIOR OU IGUAL A 0,40 M E MENOR QUE 0,60 M. AF_03/2024 | F14: und | G14: 4 | H14: 197.33 | I14: =ROUNDDOWN((H14*$H$6)+H14,2) -> 248.63 | J14: =ROUND((G14*I14),2) -> 994.52
B15: 98527 | C15: SINAPI | D15: 2.2 | E15: REMOÇÃO DE RAÍZES REMANESCENTES DE TRONCO DE ÁRVORE COM DIÂMETRO MAIOR OU IGUAL A 0,40 M E MENOR QUE 0,60 M. AF_03/2024 | F15: und | G15: 4 | H15: 251.8 | I15: =ROUNDDOWN((H15*$H$6)+H15,2) -> 317.26 | J15: =ROUND((G15*I15),2) -> 1269.04
B16: 98525 | C16: SINAPI | D16: 2.3 | E16: LIMPEZA MECANIZADA DE CAMADA VEGETAL, VEGETAÇÃO E PEQUENAS ÁRVORES (DIÂMETRO DE TRONCO MENOR QUE 0,20 M), COM TRATOR DE ESTEIRAS. AF_03/2024 | F16: m² | G16: 1340 | H16: 0.72 | I16: =ROUNDDOWN((H16*$H$6)+H16,2) -> 0.9 | J16: =ROUND((G16*I16),2) -> 1206
B17: 102309 | C17: SINAPI | D17: 2.4 | E17: ESCAVAÇÃO MECANIZADA DE VALA COM PROF. MAIOR QUE 3,0 M ATÉ 4,5 M (MÉDIA MONTANTE E JUSANTE/UMA COMPOSIÇÃO POR TRECHO), ESCAVADEIRA (0,8 M3), LARG. MENOR QUE 1,5 M, EM SOLO DE 2A CATEGORIA, EM LOCAIS COM ALTO NÍVEL DE INTERFERÊNCIA. AF_09/2024 | F17: m³ | G17: =361.42*3 -> 1084.26 | H17: 12.16 | I17: =ROUNDDOWN((H17*$H$6)+H17,2) -> 15.32 | J17: =ROUND((G17*I17),2) -> 16610.86
I18: TOTAL ITEM 2 | J18: =SUM(J14:J17) -> 20080.42 | L18: =J18 -> 20080.42
D19: 3 | E19: MOVIMENTAÇÃO DE TERRA VALA
B20: 90098 | C20: SINAPI | D20: 3.1 | E20: ESCAVAÇÃO MECANIZADA DE VALA COM PROF. MAIOR QUE 4,5 M ATÉ 6,0 M (MÉDIA MONTANTE E JUSANTE/UMA COMPOSIÇÃO POR TRECHO), ESCAVADEIRA (1,2 M3),LARG. DE 1,5 M A 2,5 M, EM SOLO DE 1A CATEGORIA, LOCAIS COM BAIXO NÍVEL DE INTERFERÊNCIA. AF_02/2021 | F20: m³ | G20: 754.99 | H20: 5.89 | I20: =ROUNDDOWN((H20*$H$6)+H20,2) -> 7.42 | J20: =ROUND((G20*I20),2) -> 5602.03
B21: 94310 | C21: SINAPI | D21: 3.2 | E21: ATERRO MECANIZADO DE VALA COM ESCAVADEIRA HIDRÁULICA (CAPACIDADE DA CAÇAMBA: 0,8 M³ / POTÊNCIA: 111 HP), LARGURA DE 1,5 A 2,5 M, PROFUNDIDADE DE 4,5 A 6,0 M, COM SOLO ARGILO-ARENOSO. AF_05/2016 | F21: m³ | G21: 1028.46 | H21: 64.19 | I21: =ROUNDDOWN((H21*$H$6)+H21,2) -> 80.87 | J21: =ROUND((G21*I21),2) -> 83171.56
B22: 100939 | C22: SINAPI | D22: 3.3 | E22: TRANSPORTE COM CAMINHÃO BASCULANTE DE 14 M³, EM VIA INTERNA (DENTRO DO M3XKM CANTEIRO - UNIDADE:M3XKM). AF_07/2020 | F22: m³xkm | G22: =G21*0.6 -> 617.076 | H22: 7.33 | I22: =ROUNDDOWN((H22*$H$6)+H22,2) -> 9.23 | J22: =ROUND((G22*I22),2) -> 5695.61
B23: 100576 | C23: SINAPI | D23: 3.4 | E23: REGULARIZAÇÃO E COMPACTAÇÃO DE SUBLEITO DE SOLO PREDOMINANTEMENTE ARGILOSO. AF_11/2019 | F23: m² | G23: 2865.7 | H23: 3.18 | I23: =ROUNDDOWN((H23*$H$6)+H23,2) -> 4 | J23: =ROUND((G23*I23),2) -> 11462.8
I24: TOTAL ITEM 3 | J24: =SUM(J20:J23) -> 105932 | L24: =J24 -> 105932
D25: 4 | E25: CASCALHAMENTO ACESSO
B26: 100576 | C26: DER | D26: 4.1 | E26: REGULARIZAÇÃO E COMPACTAÇÃO DE SUBLEITO DE SOLO PREDOMINANTEMENTE ARGILOSO, PARA OBRAS DE CONSTRUÇÃO DE PAVIMENTOS. AF_09/2024 | F26: m² | G26: 3710.3 | H26: 3.18 | I26: =ROUNDDOWN((H26*$H$6)+H26,2) -> 4 | J26: =ROUND((G26*I26),2) -> 14841.2
B27: 452010 | C27: DER | D27: 4.2 | E27: CASCALHAMENTO | F27: m³ | G27: 556.55 | H27: 11.86 | I27: =ROUNDDOWN((H27*$H$6)+H27,2) -> 14.94 | J27: =ROUND((G27*I27),2) -> 8314.86
B28: 100939 | C28: SINAPI | D28: 4.3 | E28: TRANSPORTE COM CAMINHÃO BASCULANTE DE 14 M³, EM VIA INTERNA (DENTRO DO M3XKM CANTEIRO - UNIDADE:M3XKM). AF_07/2020 | F28: m³xkm | G28: =G27*4.2 -> 2337.51 | H28: 7.33 | I28: =ROUNDDOWN((H28*$H$6)+H28,2) -> 9.23 | J28: =ROUND((G28*I28),2) -> 21575.22
I29: TOTAL ITEM 4 | J29: =SUM(J26:J28) -> 44731.28 | L29: =J29 -> 44731.28
I30: TOTAL LOTE 01 | J30: =J12+J18+J24+J29 -> 172654.85
E31: LOTE 02
D32: 5 | E32: DRENO PARA CHORUME
B33: 102666 | C33: SINAPI | D33: 5.1 | E33: DRENO SUBSUPERFICIAL (SEÇÃO 0,40 X 0,40 M), COM TUBO DE PEAD CORRUGADO PERFURADO, DN 100 MM, ENCHIMENTO COM BRITA, ENVOLVIDO COM MANTA GEOTÊXTIL. AF_07/2021 | F33: m | G33: 235.76 | H33: 62.64 | I33: =ROUNDDOWN((H33*$H$6)+H33,2) -> 78.92 | J33: =ROUND((G33*I33),2) -> 18606.18
B34: 97956 | C34: SINAPI | D34: 5.2 | E34: CAIXA PARA BOCA DE LOBO SIMPLES RETANGULAR, EM ALVENARIA COM BLOCOS DE CONCRETO, DIMENSÕES INTERNAS: 0,6X1X1,2 M. AF_12/2020 | F34: und | G34: 2 | H34: 1735.94 | I34: =ROUNDDOWN((H34*$H$6)+H34,2) -> 2187.28 | J34: =ROUND((G34*I34),2) -> 4374.56
I35: TOTAL ITEM 5 | J35: =SUM(J33:J34) -> 22980.74 | L35: =J35 -> 22980.74
D36: 6 | E36: EXAUSTÃO DE GASES
B37: 92835 | C37: SINAPI | D37: 6.1 | E37: TUBO DE CONCRETO PARA REDES COLETORAS DE ESGOTO SANITÁRIO, DIÂMETRO DE 400 MM, JUNTA ELÁSTICA, INSTALADO EM LOCAL COM BAIXO NÍVEL DE INTERFERÊNCIAS - FORNECIMENTO E ASSENTAMENTO. AF_12/2015 | F37: m | G37: =3*8 -> 24 | H37: 241.24 | I37: =ROUNDDOWN((H37*$H$6)+H37,2) -> 303.96 | J37: =ROUND((G37*I37),2) -> 7295.04
B38: =Composição!C9 -> COMP 02 | C38: PMP-CP | D38: 6.2 | E38: =Composição!D9 -> REVESTIMENTO TUBO PARA EXAUSTÃO DE GASES COM TELA DE ARAME GALVANIZADA QUADRANGULAR / LOSANGULAR, FIO 2,77 MM (12 BWG),MALHA 8 X 8 CM. PREENCHIMENTO COM PEDRA DE MÃO OU RACHÃO. FORNECIMENTO E INSTALAÇÃO. | F38: m² | G38: =G37*3.14*0.55 -> 41.448 | H38: =Composição!H9 -> 44.631082 | I38: =ROUNDDOWN((H38*$H$6)+H38,2) -> 56.23 | J38: =ROUND((G38*I38),2) -> 2330.62
I39: TOTAL ITEM 6 | J39: =SUM(J37:J38) -> 9625.66 | L39: =J39 -> 9625.66
D40: 7 | E40: IMPERMEABILIZAÇÃO DE SOLO
B41: =Composição!C4 -> COMP 01 | C41: =Composição!B4 -> PMP-CP | D41: 7.1 | E41: =Composição!D4 -> MANTA TERMOPLASTICA, PEAD, GEOMEMBRANA LISA, E = 1,50 MM ( NBR 15352) | F41: m² | G41: 3227.12 | H41: =Composição!H4 -> 57.748 | I41: =ROUNDDOWN((H41*$H$6)+H41,2) -> 72.76 | J41: =ROUND((G41*I41),2) -> 234805.25
I42: TOTAL ITEM 7 | J42: =J41 -> 234805.25 | L42: =J42 -> 234805.25
D43: 8 | E43: DRENAGEM ÁGUAS PLUVIAIS
...

Sheet Cronograma
B2: CRONOGRAMA FISICO-FINANCEIRO
B4: OBRA: | D4: =Orçamento!E4 -> AMPLIAÇÃO DA VALA PARA ATERRO SANITÁRIO | J4: VALOR: | L4: =Orçamento!H4 -> 459718.78
B5: ENDEREÇO: | D5: =Orçamento!E5 -> BARRO PRETO - ZONA RURAL | J5: DATA: | L5: =Orçamento!H5 -> 46211
B6: PROPRIETÁRIO: | D6: =Orçamento!E6 -> MUNICÍPIO DE PITANGA | J6: BDI: | L6: =Orçamento!H6 -> 0.26
B8: ITEM | D8: MESES | K8: 1 | L8: 2 | M8: 3
D9: DESCRIÇÃO DOS SERVIÇOS
B10: =Orçamento!D10 -> 1 | D10: =Orçamento!E10 -> INSTALAÇÕES PRELIMINARES | J10: =H11/$L$4 -> 0.0041572154 | K10: 1
H11: =Orçamento!J12 -> 1911.15 | K11: =H11*K10 -> 1911.15
B12: 2 | D12: =Orçamento!E13 -> RETIRADAS E LIMPEZA | J12: =H13/$L$4 -> 0.043679791 | K12: 1
H13: =Orçamento!J18 -> 20080.42 | K13: =H13*K12 -> 20080.42
B14: 3 | D14: =Orçamento!E19 -> MOVIMENTAÇÃO DE TERRA VALA | J14: =H15/$L$4 -> 0.23042783 | K14: 0.3 | L14: 0.7
H15: =Orçamento!J24 -> 105932 | K15: =H15*K14 -> 31779.6 | L15: =H15*L14 -> 74152.4
B16: 4 | D16: =Orçamento!E25 -> CASCALHAMENTO ACESSO | J16: =H17/$L$4 -> 0.097301398 | L16: 0.5 | M16: 0.5
H17: =Orçamento!J29 -> 44731.28 | L17: =H17*L16 -> 22365.64 | M17: =H17*M16 -> 22365.64
B18: 5 | D18: =Orçamento!E32 -> DRENO PARA CHORUME | J18: =H19/$L$4 -> 0.049988691 | L18: 0.5 | M18: 0.5
H19: =Orçamento!J35 -> 22980.74 | L19: =H19*L18 -> 11490.37 | M19: =H19*M18 -> 11490.37
B20: 6 | D20: =Orçamento!E36 -> EXAUSTÃO DE GASES | J20: =H21/$L$4 -> 0.020938148 | L20: 0.5 | M20: 0.5
H21: =Orçamento!J39 -> 9625.66 | L21: =H21*L20 -> 4812.83 | M21: =H21*M20 -> 4812.83
B22: 7 | D22: =Orçamento!E40 -> IMPERMEABILIZAÇÃO DE SOLO | J22: =H23/$L$4 -> 0.51075845 | M22: 1
H23: =Orçamento!J42 -> 234805.25 | M23: =H23*M22 -> 234805.25
B24: 8 | D24: =Orçamento!E43 -> DRENAGEM ÁGUAS PLUVIAIS | J24: =H25/$L$4 -> 0.042748482 | M24: 1
H25: =Orçamento!J46 -> 19652.28 | M25: =H25*M24 -> 19652.28
B26: TOTAL | D26: =H11+H13+H15+H17+H21+H23+H25+H19 -> 459718.78 | J26: =SUM(J10:J25) -> 1 | K26: =K11+K13+K15+K17+K21+K23+K25+K19 -> 53771.17 | L26: =L11+L13+L15+L17+L21+L23+L25+L19 -> 112821.24 | M26: =M11+M13+M15+M17+M21+M23+M25+M19 -> 293126.37
K27: =SUM(K26:M26) -> 459718.78
K29: __________________________________
K30: =Orçamento!G53 -> ALEX ANTONIO DOS SANTOS
K31: =Orçamento!G54 -> CREA: PR-144568/D

Sheet Composição
D2: COMPOSIÇÕES
B3: FONTE | C3: CÓDIGO | D3: DESCRIÇÃO | E3: UNIDADE | F3: COEFIC. | G3: UNITÁRIO | H3: DESONERADO
B4: PMP-CP | C4: COMP 01 | D4: MANTA TERMOPLASTICA, PEAD, GEOMEMBRANA LISA, E = 1,50 MM ( NBR 15352) | E4: M2 | H4: =H5+H6+H7 -> 57.748
B5: SINAPI - INSUMOS | C5: 44508 | D5: MANTA TERMOPLASTICA, PEAD, GEOMEMBRANA LISA, E = 1,50 MM (NBR 15352) | E5: M2 | F5: 1.1 | G5: 40.16 | H5: =F5*G5 -> 44.176
B6: SINAPI | C6: 88309 | D6: PEDREIRO COM ENCARGOS COMPLEMENTARES | E6: H | F6: 0.2 | G6: 38 | H6: =F6*G6 -> 7.6
B7: SINAPI | C7: 88316 | D7: SERVENTE COM ENCARGOS COMPLEMENTARES | E7: H | F7: 0.2 | G7: 29.86 | H7: =F7*G7 -> 5.972
B9: PMP-CP | C9: COMP 02 | D9: REVESTIMENTO TUBO PARA EXAUSTÃO DE GASES COM TELA DE ARAME GALVANIZADA QUADRANGULAR / LOSANGULAR, FIO 2,77 MM (12 BWG),MALHA 8 X 8 CM. PREENCHIMENTO COM PEDRA DE MÃO OU RACHÃO. FORNECIMENTO E INSTALAÇÃO. | E9: M | H9: =SUM(H10:H15) -> 44.631082
B10: SINAPI | C10: 88309 | D10: PEDREIRO COM ENCARGOS COMPLEMENTARES | E10: H | F10: 0.102 | G10: 38 | H10: =F10*G10 -> 3.876
B11: SINAPI | C11: 88316 | D11: SERVENTE COM ENCARGOS COMPLEMENTARES | E11: H | F11: 0.051 | G11: 29.86 | H11: =F11*G11 -> 1.52286
B12: SINAPI - INSUMOS | C12: 10927 | D12: TELA DE ARAME GALVANIZADA QUADRANGULAR / LOSANGULAR, FIO 2,77 MM (12 BWG),MALHA 8 X 8 CM, H = 2 M | E12: M2 | F12: 1.055 | G12: 26.15 | H12: =F12*G12 -> 27.58825
B13: SINAPI - INSUMOS | C13: 43130 | D13: ARAME GALVANIZADO 12 BWG, D = 2,76 MM (0,048 KG/M) OU 14 BWG, D =2,11 MM (0,026 KG/M) | E13: KG | F13: 0.045 | G13: 26.9 | H13: =F13*G13 -> 1.2105
B14: SINAPI - INSUMOS | C14: 4730 | D14: PEDRA DE MAO OU PEDRA RACHAO PARA ARRIMO/FUNDACAO (POSTO PEDREIRA/FORNECEDOR, SEM FRETE) | E14: M3 | F14: 0.112 | G14: 81.48 | H14: =F14*G14 -> 9.12576
B15: SINAPI | C15: 93592 | D15: TRANSPORTE COM CAMINHÃO BASCULANTE DE 14 M³, EM VIA URBANA EM REVESTIMENTO PRIMÁRIO (UNIDADE: M3XKM). AF_07/2020 | E15: M3XKM | F15: =F14*4.2 -> 0.4704 | G15: 2.78 | H15: =F15*G15 -> 1.307712
B17: NOTAS: | F17: ___________________
B18: 1) Valores para Orçamento retirados da Tabela SINAPI de Abril de 2026. Arquivo:SINAPI_Custo_Ref_Composicoes_PR_202605 (COM desoneração); | F18: ALEX ANTONIO DOS SANTOS
F19: ENGENHEIRO CIVIL
B20: 2) ENCARGOS SOCIAIS DESONERADOS: 100,25%(HORA) 59,65%(MÊS) - Conforme Tabela SINAPI; | F20: CREA: PR-144568/D

Sheet BDI_26
D3: CÁLCULO DE BDI
M49: ________________________________
M50: ALEX ANTONIO DOS SANTOS
M51: ENGENHEIRO CIVIL
M52: CREA: PR-144568/D
