Workbook

Sheet Orçamento Sintético
D1: PREFEITURA MUNICIPAL DE PONTA GROSSA
D2: SECRETARIA DE INFRAESTRUTURA E PLANEJAMENTO
D4: ORÇAMENTO SINTÉTICO
D5: REFORMA CMEI GISELE MARIA ZANDER
D7: Endereço: Rua Ermelino Da Silva, 150- Jardim Cerejeiras | E7: Referência: SINAPI PR 12-2024 Desonerado | I7: BDI 1: | J7: 0.2764
I8: Data: | J8: 45722
A11: Item | B11: Fonte | C11: Código | D11: Descrição | E11: Unidade | F11: Quantidade | G11: Custo Unitário (sem BDI) (R$) | H11: BDI | I11: Preço Unitário (com BDI)(R$) | J11: Preço Total (R$) | K11: Observação
A12: 1 | D12: Serviços Preliminares | J12: =SUBTOTAL(9,J13:J16) -> 5709.54 | N12: =J12+J17+#REF!+#REF!+#REF!+#REF!+#REF!+#REF!+#REF!+#REF!+#REF!+#REF! -> #REF!
A13: 1.1 | B13: Composição | C13: 1 | D13: PLANO DE GERENCIAMENTO DE RESÍDUOS DA CONSTRUÇÃO CIVIL (PGRCC) E RELATÓRIO | E13: UN | F13: 1 | G13: 1181.1 | H13: BDI 1 | I13: =ROUND(G13*(1+$J$7),2) -> 1507.56 | J13: =ROUND(F13*I13,2) -> 1507.56
A14: 1.2 | B14: Cotação | C14: 2 | D14: TAXA ART CREA-PR | E14: UN | F14: 1 | G14: 271.47 | H14: BDI 1 | I14: =ROUND(G14*(1+$J$7),2) -> 346.5 | J14: =ROUND(F14*I14,2) -> 346.5
A15: 1.3 | B15: SINAPI | C15: 103689 | D15: FORNECIMENTO E INSTALAÇÃO DE PLACA DE OBRA COM CHAPA GALVANIZADA E ESTRUTURA DE MADEIRA. AF_03/2022_PS | E15: M2 | F15: 2 | G15: 464.46 | H15: BDI 1 | I15: =ROUND(G15*(1+$J$7),2) -> 592.84 | J15: =ROUND(F15*I15,2) -> 1185.68
A16: 1.4 | B16: Cotação | C16: 1 | D16: TRANSPORTE DE ENTULHO, CAÇAMBA 5M3 | E16: UN | F16: 5 | G16: 418.33 | H16: BDI 1 | I16: =ROUND(G16*(1+$J$7),2) -> 533.96 | J16: =ROUND(F16*I16,2) -> 2669.8
A17: 2 | D17: Retiradas e Demolições | J17: =SUBTOTAL(9,J18:J27) -> 77622.63 | P17: =ROUND(G17*(1+#REF!),2) -> #REF!
A18: 2.1 | B18: SINAPI | C18: 97647 | D18: REMOÇÃO DE TELHAS DE FIBROCIMENTO METÁLICA E CERÂMICA, DE FORMA MANUAL, SEM REAPROVEITAMENTO. AF_09/2023 | E18: M2 | F18: 248.16 | G18: 4.2 | H18: BDI 1 | I18: =ROUND(G18*(1+$J$7),2) -> 5.36 | J18: =ROUND(F18*I18,2) -> 1330.14 | P18: =ROUND(G18*(1+$J$7),2) -> 5.36
A19: 2.2 | B19: SINAPI | C19: 97652 | D19: REMOÇÃO DE TESOURAS DE MADEIRA, COM VÃO MAIOR OU IGUAL A 8M, DE FORMA MANUAL, SEM REAPROVEITAMENTO. AF_09/2023 | E19: UN | F19: 248.16 | G19: 224.01 | H19: BDI 1 | I19: =ROUND(G19*(1+$J$7),2) -> 285.93 | J19: =ROUND(F19*I19,2) -> 70956.39
A20: 2.3 | B20: SINAPI | C20: 104803 | D20: REMOÇÃO CALHAS E RUFOS, DE FORMA MANUAL, SEM REAPROVEITAMENTO. AF_09/2023 | E20: M | F20: 22.4 | G20: 5.43 | H20: BDI 1 | I20: =ROUND(G20*(1+$J$7),2) -> 6.93 | J20: =ROUND(F20*I20,2) -> 155.23
A21: 2.4 | B21: SINAPI | C21: 104803 | D21: REMOÇÃO CALHAS E RUFOS, DE FORMA MANUAL, SEM REAPROVEITAMENTO. AF_09/2023 | E21: M | F21: 2.7 | G21: 5.43 | H21: BDI 1 | I21: =ROUND(G21*(1+$J$7),2) -> 6.93 | J21: =ROUND(F21*I21,2) -> 18.71
A22: 2.5 | B22: Composição | C22: 2 | D22: LIMPEZA DE CALHA EM CONCRETO | E22: M | F22: 98 | G22: 25.28 | H22: BDI 1 | I22: =ROUND(G22*(1+$J$7),2) -> 32.27 | J22: =ROUND(F22*I22,2) -> 3162.46
A23: 2.6 | B23: SINAPI | C23: 101867 | D23: REASSENTAMENTO DE BLOCOS 16 FACES PARA PISO INTERTRAVADO, ESPESSURA DE 6 CM, EM CALÇADA, COM REAPROVEITAMENTO DOS BLOCOS 16 FACES - INCLUSO RETIRADA E COLOCAÇÃO DO MATERIAL. AF_12/2020 | E23: M2 | F23: 13.2 | G23: 42.96 | H23: BDI 1 | I23: =ROUND(G23*(1+$J$7),2) -> 54.83 | J23: =ROUND(F23*I23,2) -> 723.76
A24: 2.7 | B24: SINAPI | C24: 104789 | D24: DEMOLIÇÃO DE PISO DE CONCRETO SIMPLES, DE FORMA MANUAL, SEM REAPROVEITAMENTO. AF_09/2023 | E24: M3 | F24: 0.38 | G24: 235.75 | H24: BDI 1 | I24: =ROUND(G24*(1+$J$7),2) -> 300.91 | J24: =ROUND(F24*I24,2) -> 114.35
A25: 2.8 | B25: SINAPI | C25: 94992 | D25: EXECUÇÃO DE PASSEIO (CALÇADA) OU PISO DE CONCRETO COM CONCRETO MOLDADO IN LOCO, FEITO EM OBRA, ACABAMENTO CONVENCIONAL, ESPESSURA 6 CM, ARMADO. AF_08/2022 | E25: M2 | F25: 6.4 | G25: 81.37 | H25: BDI 1 | I25: =ROUND(G25*(1+$J$7),2) -> 103.86 | J25: =ROUND(F25*I25,2) -> 664.7
A26: 2.9 | B26: SINAPI | C26: 97633 | D26: DEMOLIÇÃO DE REVESTIMENTO CERÂMICO, DE FORMA MANUAL, SEM REAPROVEITAMENTO. AF_09/2023 | E26: M2 | F26: 3 | G26: 26.98 | H26: BDI 1 | I26: =ROUND(G26*(1+$J$7),2) -> 34.44 | J26: =ROUND(F26*I26,2) -> 103.32
A27: 2.10 | B27: SINAPI | C27: 104162 | D27: PISO EM GRANILITE, MARMORITE OU GRANITINA EM AMBIENTES INTERNOS, COM ESPESSURA DE 8 MM, INCLUSO MISTURA EM BETONEIRA, COLOCAÇÃO DAS JUNTAS, APLICAÇÃO DO PISO, 4 POLIMENTOS COM POLITRIZ, ESTUCAMENTO, SELADOR E CERA. AF_06/2022 | E27: M2 | F27: 3 | G27: 102.78 | H27: BDI 1 | I27: =ROUND(G27*(1+$J$7),2) -> 131.19 | J27: =ROUND(F27*I27,2) -> 393.57
A28: 3 | D28: Reforma | J28: =SUBTOTAL(9,J29:J47) -> 180204.07
A29: 3.1 | B29: SINAPI | C29: 92564 | D29: FABRICAÇÃO E INSTALAÇÃO DE TESOURA INTEIRA EM MADEIRA NÃO APARELHADA, VÃO DE 12 M, PARA TELHA ONDULADA DE FIBROCIMENTO, METÁLICA, PLÁSTICA OU TERMOACÚSTICA, INCLUSO IÇAMENTO. AF_07/2019 | E29: UN | F29: 2 | G29: 3379.15 | H29: BDI 1 | I29: =ROUND(G29*(1+$J$7),2) -> 4313.15 | J29: =ROUND(F29*I29,2) -> 8626.3
A30: 3.2 | B30: SINAPI | C30: 92543 | D30: TRAMA DE MADEIRA COMPOSTA POR TERÇAS PARA TELHADOS DE ATÉ 2 ÁGUAS PARA TELHA ONDULADA DE FIBROCIMENTO, METÁLICA, PLÁSTICA OU TERMOACÚSTICA, INCLUSO TRANSPORTE VERTICAL. AF_07/2019 | E30: M2 | F30: 248.16 | G30: 27.01 | H30: BDI 1 | I30: =ROUND(G30*(1+$J$7),2) -> 34.48 | J30: =ROUND(F30*I30,2) -> 8556.56 | P30: =ROUND(G30*(1+$J$7),2) -> 34.48
A31: 3.3 | B31: SINAPI | C31: 94216 | D31: TELHAMENTO COM TELHA METÁLICA TERMOACÚSTICA E = 30 MM, COM ATÉ 2 ÁGUAS, INCLUSO IÇAMENTO. AF_07/2019 | E31: M2 | F31: 248.16 | G31: 201.21 | H31: BDI 1 | I31: =ROUND(G31*(1+$J$7),2) -> 256.82 | J31: =ROUND(F31*I31,2) -> 63732.45
A32: 3.4 | B32: Composição | C32: 3 | D32: CUMEEIRA TERMOACUSTICA | E32: M | F32: 18.8 | G32: 163.4 | H32: BDI 1 | I32: =ROUND(G32*(1+$J$7),2) -> 208.56 | J32: =ROUND(F32*I32,2) -> 3920.93
A33: 3.5 | B33: SINAPI | C33: 100327 | D33: RUFO EXTERNO/INTERNO EM CHAPA DE AÇO GALVANIZADO NÚMERO 26, CORTE DE 33 CM, INCLUSO IÇAMENTO. AF_07/2019 | E33: M | F33: 22.4 | G33: 57.45 | H33: BDI 1 | I33: =ROUND(G33*(1+$J$7),2) -> 73.33 | J33: =ROUND(F33*I33,2) -> 1642.59
A34: 3.6 | B34: Composição | C34: 5 | D34: CALHA EM CHAPA DE ACO GALVANIZADA NUM 26, CORTE 240 CM, INCLUSO TRANSPORTE VERTICAL | E34: M | F34: 98 | G34: 223.82 | H34: BDI 1 | I34: =ROUND(G34*(1+$J$7),2) -> 285.68 | J34: =ROUND(F34*I34,2) -> 27996.64
A35: 3.7 | B35: SINAPI | C35: 94228 | D35: CALHA EM CHAPA DE AÇO GALVANIZADO NÚMERO 24, DESENVOLVIMENTO DE 50 CM, INCLUSO TRANSPORTE VERTICAL. AF_07/2019 | E35: M | F35: 37.6 | G35: 84.61 | H35: BDI 1 | I35: =ROUND(G35*(1+$J$7),2) -> 108 | J35: =ROUND(F35*I35,2) -> 4060.8
A36: 3.8 | B36: SINAPI | C36: 104166 | D36: TUBO PVC, SÉRIE R, ÁGUA PLUVIAL, DN 150 MM, FORNECIDO E INSTALADO EM RAMAL DE ENCAMINHAMENTO. AF_06/2022 | E36: M | F36: 12 | G36: 81.52 | H36: BDI 1 | I36: =ROUND(G36*(1+$J$7),2) -> 104.05 | J36: =ROUND(F36*I36,2) -> 1248.6
A37: 3.9 | B37: Composição | C37: 4 | D37: TUBO PVC, SÉRIE R, ÁGUA PLUVIAL, DN 150MM, FORNECIMENTO, ESCAVAÇÃO VALA, ASSENTAMENTO E REATERRO | E37: M | F37: 80 | G37: 139.77 | H37: BDI 1 | I37: =ROUND(G37*(1+$J$7),2) -> 178.4 | J37: =ROUND(F37*I37,2) -> 14272
A38: 3.10 | B38: SINAPI | C38: 89590 | D38: JOELHO 90 GRAUS, PVC, SERIE R, ÁGUA PLUVIAL, DN 150 MM, JUNTA ELÁSTICA, FORNECIDO E INSTALADO EM CONDUTORES VERTICAIS DE ÁGUAS PLUVIAIS. AF_06/2022 | E38: UN | F38: 9 | G38: 137 | H38: BDI 1 | I38: =ROUND(G38*(1+$J$7),2) -> 174.87 | J38: =ROUND(F38*I38,2) -> 1573.83
A39: 3.11 | B39: SINAPI | C39: 89591 | D39: JOELHO 45 GRAUS, PVC, SERIE R, ÁGUA PLUVIAL, DN 150 MM, JUNTA ELÁSTICA, FORNECIDO E INSTALADO EM CONDUTORES VERTICAIS DE ÁGUAS PLUVIAIS. AF_06/2022 | E39: UN | F39: 3 | G39: 133.58 | H39: BDI 1 | I39: =ROUND(G39*(1+$J$7),2) -> 170.5 | J39: =ROUND(F39*I39,2) -> 511.5
A40: 3.12 | B40: SINAPI | C40: 89683 | D40: TÊ DE INSPEÇÃO, PVC, SERIE R, ÁGUA PLUVIAL, DN 150 X 100 MM, JUNTA ELÁSTICA, FORNECIDO E INSTALADO EM CONDUTORES VERTICAIS DE ÁGUAS PLUVIAIS. AF_06/2022 | E40: UN | F40: 3 | G40: 293.97 | H40: BDI 1 | I40: =ROUND(G40*(1+$J$7),2) -> 375.22 | J40: =ROUND(F40*I40,2) -> 1125.66
A41: 3.13 | B41: SINAPI | C41: 99253 | D41: CAIXA ENTERRADA HIDRÁULICA RETANGULAR EM ALVENARIA COM TIJOLOS CERÂMICOS MACIÇOS, DIMENSÕES INTERNAS: 0,6X0,6X0,6 M PARA REDE DE DRENAGEM. AF_12/2020 | E41: UN | F41: 4 | G41: 576.82 | H41: BDI 1 | I41: =ROUND(G41*(1+$J$7),2) -> 736.25 | J41: =ROUND(F41*I41,2) -> 2945
A42: 3.14 | B42: Composição | C42: 6 | D42: FECHAMENTO COM QUADRO DE PERFIL METALON 20 X 30MM, E=1,5MM, COM FECHAMENTO EM TELA DE ARAME GALVANIZADO, MALHA ELETROSOLDADA, FIO 2,0MM, 2,5 X2,5 CM, SOLDADAS NO METALON, COM FUNDO ANTICORROSIVO E INSTALAÇÃO | E42: M2 | F42: 11.9 | G42: 693.26 | H42: BDI 1 | I42: =ROUND(G42*(1+$J$7),2) -> 884.88 | J42: =ROUND(F42*I42,2) -> 10530.07 | K42: Conf. DET. 01 e 03
A43: 3.15 | B43: Composição | C43: 7 | D43: FECHAMENTO COM TELA PASSARINHEIRA EM POLIPROPILENO UNIVERSAL PARA PROTEÇÃO DE TELHADO, H=9,0CM, COR PRETA | E43: M | F43: 35.2 | G43: 14.28 | H43: BDI 1 | I43: =ROUND(G43*(1+$J$7),2) -> 18.23 | J43: =ROUND(F43*I43,2) -> 641.7
A44: 3.16 | B44: Composição | C44: 8 | D44: PORTÃO METÁLICO ESTRUTURA TUBO AÇO GALVANIZADO D=1 1/2", E=2,0MM, BARRA CHATA AÇO GALVANIZADO D=3,4", FECHAMENTO TELA ARAME GALVANIZADO MALHA QUADRANGULAR 2", FIO 5,0MM, COM FERROLHO DE FIXAÇÃO NO SOLO E PORTA CADEADO - DIMENSÕES 1,55 X 2,10M | E44: UN | F44: 2 | G44: 2650.58 | H44: BDI 1 | I44: =ROUND(G44*(1+$J$7),2) -> 3383.2 | J44: =ROUND(F44*I44,2) -> 6766.4
...

Sheet Cronograma
B1: PREFEITURA MUNICIPAL DE PONTA GROSSA
B2: SECRETARIA MUNICIPAL DE INFRAESTRUTURA E PLANEJAMENTO
B4: CRONOGRAMA FÍSICO-FINANCEIRO
B5: REFORMA CMEI GISELE MARIA ZANDER
A7: ITEM | B7: ETAPAS | C7: ÍNDICE | D7: 30 | E7: % PERÍODO | F7: 60 | G7: % PERÍODO | H7: 90 | I7: % PERÍODO | J7: TOTAL ACUMULADO
A8: 1 | B8: ='Orçamento Sintético'!D12 -> Serviços Preliminares | C8: =J8/$J$11 -> 0.021665104 | D8: =J8*E8 -> 3425.724 | E8: 0.6 | F8: =J8*G8 -> 1141.908 | G8: 0.2 | H8: =J8*I8 -> 1141.908 | I8: 0.2 | J8: ='Orçamento Sintético'!J12 -> 5709.54 | K8: =E8+G8+I8 -> 1
A9: 2 | B9: ='Orçamento Sintético'!D17 -> Retiradas e Demolições | C9: =J9/$J$11 -> 0.29454253 | D9: =J9*E9 -> 77622.63 | E9: 1 | F9: =J9*G9 -> 0 | H9: =J9*I9 -> 0 | J9: ='Orçamento Sintético'!J17 -> 77622.63 | K9: =E9+G9+I9 -> 1
A10: 3 | B10: ='Orçamento Sintético'!D28 -> Reforma | C10: =J10/$J$11 -> 0.68379237 | D10: =J10*E10 -> 0 | E10: 0 | F10: =J10*G10 -> 108122.44 | G10: 0.6 | H10: =J10*I10 -> 72081.628 | I10: 0.4 | J10: ='Orçamento Sintético'!J28 -> 180204.07 | K10: =E10+G10+I10 -> 1
B11: TOTAL ACUMULADO | C11: =SUM(C8:C10) -> 1 | D11: =SUM(D8:D10) -> 81048.354 | E11: =D11/J11 -> 0.30754159 | F11: =SUM(F8:F10) -> 109264.35 | G11: =F11/J11 -> 0.41460844 | H11: =SUM(H8:H10) -> 73223.536 | I11: =H11/J11 -> 0.27784997 | J11: ='Orçamento Sintético'!N48 -> 263536.24 | K11: =E11+G11+I11 -> 1
F22: Danielle Kindrajh | I22: Tanise Fuckner de Oliveira Galvan
F23: Engª Civil - CREA PR -143569/D | I23: Engª Civil - CREA PR - 94903/D

Sheet Composições Auxiliares
C1: PREFEITURA MUNICIPAL DE PONTA GROSSA
C2: SECRETARIA MUNICIPAL DE INFRAESTRUTURA E PLANEJAMENTO
C4: COMPOSIÇÕES AUXILIARES
C5: REFORMA CMEI GISELE MARIA ZANDER
C7: ='Orçamento Sintético'!D7:D9 -> Endereço: Rua Ermelino Da Silva, 150- Jardim Cerejeiras
C8: Referência: SINAPI PR 12-2024 Desonerado | D8: Data: | E8: ='Orçamento Sintético'!J8 -> 45722
A10: Fonte | B10: Código | C10: Descrição | D10: Un | E10: Coef. | F10: Custo Total (R$)

Sheet BDI
A1: PREFEITURA MUNICIPAL DE PONTA GROSSA
A2: SECRETARIA MUNICIPAL DE INFRAESTRUTURA E PLANEJAMENTO
A4: COMPOSIÇÃO BDI
A5: REFORMA CMEI GISELE MARIA ZANDER
C7: ='Orçamento Sintético'!D7:D9 -> Endereço: Rua Ermelino Da Silva, 150- Jardim Cerejeiras
C8: Referência: SINAPI PR 12-2024 Desonerado | F8: Data: | G8: ='Orçamento Sintético'!J8 -> 45722
B10: BDI 1
B11: Siglas | C11: % Adotado | D11: Itens
B12: AC | C12: 0.04 | D12: Administração Central
B13: SG | C13: 0.008 | D13: Seguro e Garantia
B14: R | C14: 0.0127 | D14: Risco
B15: DF | C15: 0.0123 | D15: Despesas Financeiras
B16: L | C16: 0.074 | D16: Lucro
B17: CP | C17: 0.0365 | D17: Tributos (COFINS 3%, PIS 0,65%)
B18: ISS | C18: 0.015 | D18: Tributos (ISS)
B19: CPRB | C19: 0.045 | D19: Tributos (Contribuição Previdenciária sobre a Receita Bruta - 4,5% - Desoneração)
B20: BDI DES | C20: 0.2764 | D20: BDI com desoneração
D23: Cálculo do BDI pela equação:
E33: Danielle Kindrajh | H33: Tanise Fuckner de Oliveira Galvan
E34: Engª Civil - CREA PR -143569/D | H34: Engª Civil - CREA PR - 94903/D

Sheet Planilha1
