Workbook

Sheet Orçamento
B1: MUNICÍPIO DE PORTO AMAZONAS
B2: ESTADO DO PARANÁ
B3: PLANILHA DE ORÇAMENTO GLOBAL
A5: OBRA: | B5: PAISAGISMO AVENIDA PROFESSOR IVO MEZZADRI
A6: LOCAL: | B6: AVENIDA PROFESSOR IVO MEZZADRI
A7: MUNICÍPIO: | B7: PORTO AMAZONAS / PR
A8: DATA: | B8: =TODAY() -> 46212
A9: FONTE: | B9: SINAPI 04/2026 DESONERADA
A10: BDI (%): | B10: 26.24
A12: ITEM | B12: CÓDIGO | C12: FONTE | D12: DESCRIÇÃO DOS SERVIÇOS | E12: UNID. | F12: QUANT. | G12: PREÇO UNIT. (R$) S/BDI | H12: PREÇO UNIT. (R$) C/ BDI | I12: VALOR (R$)
A14: 1 | D14: PINTURA DA CICLOVIA | H14: Subtotal | I14: =(I15+I16+I17) -> 69648.66
A15: 1.1 | B15: 5213402 | C15: SICRO | D15: Pintura de faixa com tinta acrílica emulsionada em água - espessura de 0,4 mm | E15: M | F15: =1800*2 -> 3600 | G15: 15.27 | H15: =ROUND(G15*(1+$B10/100),2) -> 19.28 | I15: =F15*H15 -> 69408
A16: 1.2 | B16: 102518 | C16: SINAPI | D16: Pintura de símbolo "Bicicleta" com tinta acrílica, utilização de molde plástico e aplicação mecânica, 150X60 CM. AF_05/2021 | E16: UN | F16: =22 -> 22 | G16: 5.25 | H16: =ROUND(G16*(1+$B10/100),2) -> 6.63 | I16: =F16*H16 -> 145.86
A17: 1.3 | B17: 102513 | C17: SINAPI | D17: Pintura de símbolos e textos com tinta acrílica, demarcação com rolo. AF_05/2021 | E17: M² | F17: 40 | G17: 1.88 | H17: =ROUND(G17*(1+$B10/100),2) -> 2.37 | I17: =F17*H17 -> 94.8
A19: 2 | D19: URBANIZAÇÃO | H19: Subtotal | I19: =(I20+I21+I22) -> 110935.97
A20: 2.1 | B20: 103315 | C20: SINAPI | D20: Instalação de pergolado de madeira, em angelim, 3,00 X 9,00 m, fixado com concreto sobre solo. AF_11/2021 | E20: M² | F20: =7*27 -> 189 | G20: 387.71 | H20: =ROUND(G20*(1+$B10/100),2) -> 489.45 | I20: =F20*H20 -> 92506.05
A21: 2.2 | B21: - | C21: COMP-01 | D21: Lixeira com suporte em aço galvanizado recipiente em ripas de madeira - 60 litros | E21: UN | F21: 12 | G21: =Composição!F14 -> 661.24694 | H21: =ROUND(G21*(1+$B10/100),2) -> 834.76 | I21: =F21*H21 -> 10017.12
A22: 2.3 | B22: - | C22: COMP-02 | D22: Banco de Jardim Tamanduá em Ferro 8 Réguas Madeira Verniz | E22: UN | F22: 8 | G22: =Composição!F19 -> 833.01558 | H22: =ROUND(G22*(1+$B10/100),2) -> 1051.6 | I22: =F22*H22 -> 8412.8
A24: 3 | D24: ARBORIZAÇÃO | H24: Subtotal | I24: =(I25+I26+I27) -> 40985.28
A25: 3.1 | B25: - | C25: COMP-03 | D25: Árvore ornamental, Jacarandá, H=*6*M | E25: UN | F25: 4 | G25: =Composição!F23 -> 2003.9351 | H25: =ROUND(G25*(1+$B10/100),2) -> 2529.77 | I25: =F25*H25 -> 10119.08
A26: 3.2 | B26: - | C26: COMP-04 | D26: Canudo de Pito (Senna bicapsularis) - Muda 1 m | E26: UN | F26: 600 | G26: =Composição!F28 -> 38.935111 | H26: =ROUND(G26*(1+$B10/100),2) -> 49.15 | I26: =F26*H26 -> 29490
A27: 3.3 | B27: - | C27: COMP-05 | D27: Glicínia Púrpura Trepadeira Clonada de Estaca - Muda 80 cm | E27: UN | F27: 28 | G27: =Composição!F33 -> 38.935111 | H27: =ROUND(G27*(1+$B10/100),2) -> 49.15 | I27: =F27*H27 -> 1376.2
A30: VALOR TOTAL (C/ BDI) | H30: =(I14+I19+I24) -> 221569.91
A36: Thaynara Freitas Machado
A37: Chefe da Divisão de Projetos
A38: Arquiteta e Urbanista
A39: CAU/PR A192311-0

Sheet Composição
B1: MUNICÍPIO DE PORTO AMAZONAS
B2: ESTADO DO PARANÁ
B3: COMPOSIÇÃO
A5: OBRA: | B5: PAISAGISMO AVENIDA PROFESSOR IVO MEZZADRI
A6: LOCAL: | B6: AVENIDA PROFESSOR IVO MEZZADRI
A7: MUNICÍPIO: | B7: PORTO AMAZONAS / PR
A8: DATA: | B8: =TODAY() -> 46212
A9: FONTE: | B9: SINAPI 04/2026 DESONERADA
A10: BDI (%): | B10: 26.24
A12: TIPO | B12: CÓDIGO | C12: DESCRIÇÃO | D12: UND. | E12: COEF. | F12: VALOR
A14: 01. LIXEIRA | F14: =SUM((E15*F15)+(E16*F16)+F17) -> 661.24694
A15: C | B15: 88309 | C15: Pedreiro com encargos complementares | D15: H | E15: 0.679 | F15: 38
A16: C | B16: 88316 | C16: Servente com encargos complementares | D16: H | E16: 0.679 | F16: 29.86
A17: COTAÇÃO | B17: - | C17: Lixeira com suporte em aço galvanizado recipiente em ripas de madeira - 60 litros | D17: UN | E17: 1 | F17: 615.17
A19: 02. BANCO DE JARDIM | F19: =SUM((E20*F20)+F21) -> 833.01558
A20: C | B20: 88316 | C20: Servente com encargos complementares | D20: H | E20: 0.103 | F20: 29.86
A21: COTAÇÃO | B21: - | C21: Banco de Jardim Tamanduá em Ferro 8 Réguas Madeira Verniz | D21: UN | E21: 1 | F21: 829.94
A23: 03. ÁRVORE ORNAMENTAL - JACARANDÁ | F23: =SUM((E24*F24)+(E25*F25)+F26) -> 2003.9351
A24: C | B24: 88441 | C24: Jardineiro com encargos complementares | D24: H | E24: 0.0277 | F24: 31.03
A25: C | B25: 88316 | C25: Servente com encargos complementares | D25: H | E25: 0.103 | F25: 29.86
A26: COTAÇÃO | B26: - | C26: Árvore ornamental, Jacarandá, H=*6*M | D26: UN | E26: 1 | F26: 2000
A28: 04. ARBUSTO - CANUDO DE PITO | F28: =SUM((E29*F29)+(E30*F30)+F31) -> 38.935111
A29: C | B29: 88441 | C29: Jardineiro com encargos complementares | D29: H | E29: 0.0277 | F29: 31.03
A30: C | B30: 88316 | C30: Servente com encargos complementares | D30: H | E30: 0.103 | F30: 29.86
A31: COTAÇÃO | B31: - | C31: Canudo de Pito (Senna bicapsularis) - Muda 1 m | D31: UN | E31: 1 | F31: 35
A33: 05. TREPADEIRA - GLICÍNIA PÚRPURA | F33: =SUM((E34*F34)+(E35*F35)+F36) -> 38.935111
A34: C | B34: 88441 | C34: Jardineiro com encargos complementares | D34: H | E34: 0.0277 | F34: 31.03
A35: C | B35: 88316 | C35: Servente com encargos complementares | D35: H | E35: 0.103 | F35: 29.86
A36: COTAÇÃO | B36: - | C36: Muda Glicínia Púrpura Trepadeira Clonada de Estaca - Muda 80 cm | D36: UN | E36: 1 | F36: 35

Sheet Cotação
B1: MUNICÍPIO DE PORTO AMAZONAS
B2: ESTADO DO PARANÁ
B3: COTAÇÃO
A5: OBRA: | B5: PAISAGISMO AVENIDA PROFESSOR IVO MEZZADRI
A6: LOCAL: | B6: AVENIDA PROFESSOR IVO MEZZADRI
A7: MUNICÍPIO: | B7: PORTO AMAZONAS / PR
A8: DATA: | B8: =TODAY() -> 46212
A9: FONTE: | B9: SINAPI 04/2026 DESONERADA
A10: BDI (%): | B10: 26.24
A12: 01. LIXEIRA | B12: NOME DA EMPRESA | C12: DESCRIÇÃO | D12: UN | E12: DATA COTAÇÃO
A13: COT-01 | B13: Mercado Livre | C13: Lixeira com suporte em aço galvanizado recipiente em ripas de madeira - 60 litros | D13: 15 | E13: 46163
A15: 02. BANCO DE JARDIM | B15: NOME DA EMPRESA | C15: DESCRIÇÃO | D15: UN | E15: DATA COTAÇÃO
A16: COT-02 | B16: Mercado Livre | C16: Banco de Jardim Tamanduá em Ferro 8 Réguas Madeira Verniz | D16: 8 | E16: 46167
A18: 03. ÁRVORE ORNAMENTAL | B18: NOME DA EMPRESA | C18: DESCRIÇÃO | D18: UN | E18: DATA COTAÇÃO
A19: COT-03 | B19: Curitiba Plantas Adultas | C19: Árvore ornamental, Jacarandá, H=*6*M | D19: 4 | E19: 46163
A21: 04. ARBUSTO | B21: NOME DA EMPRESA | C21: DESCRIÇÃO | D21: UN | E21: DATA COTAÇÃO
A22: COT-04 | B22: Curitiba Plantas Adultas | C22: Canudo de Pito (Senna bicapsularis) - Muda 1 m | D22: 591 | E22: 46163
A24: 05. TREPADEIRA | B24: NOME DA EMPRESA | C24: DESCRIÇÃO | D24: UN | E24: DATA COTAÇÃO
A25: COT-05 | B25: Curitiba Plantas Adultas | C25: Muda Glicinia Púrpura Trepadeira Clonada de Estaca - Muda 80 cm | D25: 28 | E25: 46163

Sheet Cronograma
B1: MUNICÍPIO DE PORTO AMAZONAS
B2: ESTADO DO PARANÁ
B3: CRONOGRAMA FÍSICO FINANCEIRO
A4: OBRA: | B4: =Orçamento!B5 -> PAISAGISMO AVENIDA PROFESSOR IVO MEZZADRI
A5: LOCAL: | B5: =Orçamento!B6 -> AVENIDA PROFESSOR IVO MEZZADRI
A6: MUNICÍPIO: | B6: =Orçamento!B7 -> PORTO AMAZONAS / PR
A7: DATA: | B7: =Orçamento!B8 -> 46212
A8: FONTE: | B8: =Orçamento!B9 -> SINAPI 04/2026 DESONERADA
A9: BDI (%): | B9: =Orçamento!B10 -> 26.24
A11: ITEM | B11: DESCRIÇÃO DOS SERVIÇOS | C11: VALOR | D11: QUINZENA 1 | F11: QUINZENA 2 | H11: QUINZENA 3 | J11: QUINZENA 4
D12: NO PERÍODO | E12: ACUMULADO | F12: NO PERÍODO | G12: ACUMULADO | H12: NO PERÍODO | I12: ACUMULADO | J12: NO PERÍODO | K12: ACUMULADO
A13: 1 | B13: =Orçamento!D14 -> PINTURA DA CICLOVIA | C13: =Orçamento!I14 -> 69648.66 | D13: 0.5 | E13: 0.5 | F13: 0.5 | G13: 1
A14: 2 | B14: =Orçamento!D19 -> URBANIZAÇÃO | C14: =Orçamento!I19 -> 110935.97 | F14: 0.5 | G14: 0.5 | H14: 0.5 | I14: 1
A15: 3 | B15: =Orçamento!D24 -> ARBORIZAÇÃO | C15: =Orçamento!I24 -> 40985.28 | H15: 0.5 | I15: 1 | J15: 0.5 | K15: 1
A16: TOTAL (R$) | C16: =(C13+C14+C15) -> 221569.91
C17: TOTAL (%) | D17: =(D18/C16) -> 0.15717085 | E17: =E18/C16 -> 0.15717085 | F17: =F18/C16 -> 0.40751163 | G17: =E17+F17 -> 0.56468247 | H17: =(H18/C16) -> 0.34282915 | I17: =G17+H17 -> 0.90751163 | J17: =(J18/C16) -> 0.092488371 | K17: =I17+J17 -> 1
C18: TOTAL (R$) | D18: =(C13*D13) -> 34824.33 | E18: =D18 -> 34824.33 | F18: =(C13*F13)+(C14*F14)+(C15*F15) -> 90292.315 | G18: =E18+F18 -> 125116.65 | H18: =(C14*H14)+(C15*H15) -> 75960.625 | I18: =H18+G18 -> 201077.27 | J18: =(C15*J15) -> 20492.64 | K18: =J18+I18 -> 221569.91
A24: Thaynara Freitas Machado
A25: Chefe da Divisão de Projetos
A26: Arquiteta e Urbanista
A27: CAU/PR A192311-0
