Workbook

Sheet Itens de Serviços
B1: Pregão 34-2026 - Serviços de limpeza e conservação predial
A2: Lote | B2: Item | C2: Locais dos Serviços | D2: Qtde Efetivo | E2: C/H Semanal | F2: valor mensal | G2: 12 meses
A3: 1 | B3: 1 | C3: SERVIÇOS DE LIMPEZA E CONSERVAÇÃO DO CEMEI SANTA CLARA | D3: 4 | E3: ='Planilha Composição Serviços'!I18 -> 40 h/s | F3: ='Planilha Composição Serviços'!I140 -> 22897.21 | G3: =F3*12 -> 274766.52 | J3: SECRETARIA DE EDUCAÇÃO
A4: 1 | B4: 2 | C4: SERVIÇOS DE LIMPEZA E CONSERVAÇÃO DO CEMEI RAIO DE SOL | D4: 3 | E4: ='Planilha Composição Serviços'!J18 -> 40 h/s | F4: ='Planilha Composição Serviços'!J140 -> 17611.8 | G4: =F4*12 -> 211341.6 | J4: SECRETARIA DE SAÚDE
A5: 1 | B5: 3 | C5: SERVIÇOS DE LIMPEZA E CONSERVAÇÃO DA ESCOLA MUNICIPAL OLAVO BILAC | D5: 3 | E5: ='Planilha Composição Serviços'!K18 -> 20 h/s | F5: ='Planilha Composição Serviços'!K140 -> 10806.83 | G5: =F5*12 -> 129681.96 | J5: SECRETARIA DE ASSIST. SOCIAL
A6: 1 | B6: 4 | C6: SERVIÇOS DE LIMPEZA E CONSERVAÇÃO DA ESCOLA MUNICIPAL SÃO CRISTÓVÃO | D6: 3 | E6: ='Planilha Composição Serviços'!L18 -> 40 h/s | F6: ='Planilha Composição Serviços'!L140 -> 17364.32 | G6: =F6*12 -> 208371.84 | J6: SECRETARIA DE AGRICULTURA
A7: 1 | B7: 5 | C7: SERVIÇOS DE LIMPEZA E CONSERVAÇÃO DA ESCOLA MUNICIPAL DO CAMPO JOSÉ BONIFÁCIO | D7: 2 | E7: ='Planilha Composição Serviços'!M18 -> 20 h/s | F7: ='Planilha Composição Serviços'!M140 -> 7492.29 | G7: =F7*12 -> 89907.48 | J7: SECRETARIA DE DESENV. ECONOMIC
A8: 1 | B8: 6 | C8: SERVIÇOS DE LIMPEZA E CONSERVAÇÃO DA ESCOLA MUNICIPAL LEÔNCIO CORREIA | D8: 5 | E8: ='Planilha Composição Serviços'!N18 -> 40 h/s | F8: ='Planilha Composição Serviços'!N140 -> 27999.77 | G8: =F8*12 -> 335997.24 | J8: SECRETARIA DE VIAÇÃO E OBRAS
A9: 1 | B9: 7 | C9: SERVIÇO DE LIMPEZA E CONSERVAÇÃO DA ESCOLA MUNICIPAL TANCREDO NEVES | D9: 3 | E9: ='Planilha Composição Serviços'!O18 -> 40 h/s | F9: ='Planilha Composição Serviços'!O140 -> 17478.61 | G9: =F9*12 -> 209743.32 | J9: SECRETARIA DE ESPORTES
A10: 1 | B10: 8 | C10: SERVIÇOS DE LIMPEZA E CONSERVAÇÃO DO PRÉ-ESCOLA SÃO FRANCISCO DE ASSIS | D10: 1 | E10: ='Planilha Composição Serviços'!P18 -> 40 h/s | F10: ='Planilha Composição Serviços'!P140 -> 6883.02 | G10: =F10*12 -> 82596.24 | J10: SECRETARIA DE ADMINISTRAÇÃO
A11: 1 | B11: 9 | C11: SERVIÇOS DE LIMPEZA E CONSERVAÇÃO DA BIBLIOTECA CIDADÃ CLARA ALETA SCHULTZ | D11: 1 | E11: ='Planilha Composição Serviços'!Q18 -> 20 h/s | F11: ='Planilha Composição Serviços'!Q140 -> 4015.87 | G11: =F11*12 -> 48190.44
A12: 1 | B12: 10 | C12: SERVIÇOS DE LIMPEZA E CONSERVAÇÃO DO CENTRO DE ATENDIMENTO MULTIDISCIPLINAR – CAMU e ALMOXARIFADO SEMED | D12: 1 | E12: ='Planilha Composição Serviços'!R18 -> 40 h/s | F12: ='Planilha Composição Serviços'!R140 -> 6991.29 | G12: =F12*12 -> 83895.48
A13: 1 | B13: 11 | C13: SERVIÇOS DE LIMPEZA E CONSERVAÇÃO DO CENTRO DE ESPECIALIDADE | D13: 2 | E13: ='Planilha Composição Serviços'!S18 -> 40 h/s | F13: ='Planilha Composição Serviços'!S140 -> 15149.08 | G13: =F13*12 -> 181788.96
A14: 1 | B14: 12 | C14: SERVIÇOS DE LIMPEZA E CONSERVAÇÃO DA UNIDADE BÁSICA DE SAÚDE DA BOA VISTA | D14: 1 | E14: ='Planilha Composição Serviços'!T18 -> 40 h/s | F14: ='Planilha Composição Serviços'!T140 -> 7501.21 | G14: =F14*12 -> 90014.52
A15: 1 | B15: 13 | C15: SERVIÇOS DE LIMPEZA E CONSERVAÇÃO DA UNIDADE BÁSICA DE SAÚDE DA NOVA UNIÃO | D15: 1 | E15: ='Planilha Composição Serviços'!U18 -> 20 h/s | F15: ='Planilha Composição Serviços'!U140 -> 5191.03 | G15: =F15*12 -> 62292.36
A16: 1 | B16: 14 | C16: SERVIÇOS DE LIMPEZA E CONSERVAÇÃO DO POSTO CENTRAL | D16: 2 | E16: ='Planilha Composição Serviços'!V18 -> 40 h/s | F16: ='Planilha Composição Serviços'!V140 -> 15553.38 | G16: =F16*12 -> 186640.56
A17: 1 | B17: 15 | C17: SERVIÇOS DE LIMPEZA DA CLÍNICA DE FISIOTERAPIA | D17: 1 | E17: ='Planilha Composição Serviços'!W18 -> 40 h/s | F17: ='Planilha Composição Serviços'!W140 -> 8012.15 | G17: =F17*12 -> 96145.8
A18: 1 | B18: 16 | C18: SERVIÇO DE LIMPEZA E CONSERVAÇÃO DA UBS do BAIRRO UNIÃO | D18: 2 | E18: ='Planilha Composição Serviços'!X18 -> 40 h/s | F18: ='Planilha Composição Serviços'!X140 -> 15362.99 | G18: =F18*12 -> 184355.88
A19: 1 | B19: 17 | C19: SERVIÇO DE LIMPEZA E CONSERVAÇÃO DA SEDE ADMINISTRATIVA DA SEC. DA SAÚDE | D19: 2 | E19: ='Planilha Composição Serviços'!Y18 -> 40 h/s | F19: ='Planilha Composição Serviços'!Y140 -> 16035.87 | G19: =F19*12 -> 192430.44
A20: 1 | B20: 18 | C20: SERVIÇO DE LIMPEZA E CONSERVAÇÃO DO PAÇO MUNICIPAL | D20: 2 | E20: ='Planilha Composição Serviços'!Z18 -> 40 h/s | F20: ='Planilha Composição Serviços'!Z140 -> 12260.71 | G20: =F20*12 -> 147128.52
A21: 1 | B21: 19 | C21: SERVIÇO DE LIMPEZA E CONSERVAÇÃO DO CRAS | D21: 1 | E21: ='Planilha Composição Serviços'!AA18 -> 40 h/s | F21: ='Planilha Composição Serviços'!AA140 -> 7164.41 | G21: =F21*12 -> 85972.92
A22: 1 | B22: 20 | C22: SERVIÇO DE LIMPEZA E CONSERVAÇÃO DA SEDE DA SECRETARIA DA AGRICULTURA – e AUDITÓRIO ECOLÓGICO, | D22: 1 | E22: ='Planilha Composição Serviços'!AB18 -> 40 h/s | F22: ='Planilha Composição Serviços'!AB140 -> 6949.41 | G22: =F22*12 -> 83392.92
A23: 1 | B23: 21 | C23: Serviço de limpeza e conservação da sede da Secretaria de Desenvolvimento Econômico e Turismo –, e CENTRO DE EVENTOS DO PARQUE DE EXPOSIÇÕES, | D23: 1 | E23: ='Planilha Composição Serviços'!AC18 -> 40 h/s | F23: ='Planilha Composição Serviços'!AC140 -> 6583.46 | G23: =F23*12 -> 79001.52
A24: 1 | B24: 22 | C24: SERVIÇO DE LIMPEZA E CONSERVAÇÃO DA SEDE DA SECRETARIA DE VIAÇÃO OBRAS E URBANISMO E CAPELA MORTUÁRIA | D24: 1 | E24: ='Planilha Composição Serviços'!AD18 -> 40 h/s | F24: ='Planilha Composição Serviços'!AD140 -> 6782.32 | G24: =F24*12 -> 81387.84
A25: 1 | B25: 23 | C25: SERVIÇO DE LIMPEZA E CONSERVAÇÃO DO CENTRO ESPORTIVO IVAR RANZI | D25: 2 | E25: ='Planilha Composição Serviços'!AE18 -> 40 h/s | F25: ='Planilha Composição Serviços'!AE140 -> 12605.08 | G25: =F25*12 -> 151260.96
A26: 1 | B26: 24 | C26: SERVIÇO DE LIMPEZA E CONSERVAÇÃO DO GINÁSIO DE ESPORTES ANTÔNIO CARLOS PICINATTO | D26: 1 | E26: ='Planilha Composição Serviços'!AF18 -> 40 h/s | F26: ='Planilha Composição Serviços'!AF140 -> 6779.92 | G26: =F26*12 -> 81359.04
A27: 1 | B27: 25 | C27: SERVIÇO DE LIMPEZA E CONSERVAÇÃO DO CONSELHO TUTELAR. | D27: 1 | E27: ='Planilha Composição Serviços'!AG18 -> 20 h/s | F27: ='Planilha Composição Serviços'!AG140 -> 4108.55 | G27: =F27*12 -> 49302.6
A28: 1 | B28: 26 | C28: SERVIÇO DE LIMPEZA DO CENTRO COMUNITÁRIO SÃO LUCAS/CRAS | D28: 1 | E28: ='Planilha Composição Serviços'!AH18 -> 20 h/s | F28: ='Planilha Composição Serviços'!AH140 -> 4374.41 | G28: =F28*12 -> 52492.92
A29: 1 | B29: 27 | C29: SERVIÇO DE LIMPEZA DA SECRETARIA DE ASSISTÊNCIA SOCIAL | D29: 1 | E29: ='Planilha Composição Serviços'!AI18 -> 20 h/s | F29: ='Planilha Composição Serviços'!AI140 -> 4065.55 | G29: =F29*12 -> 48786.6
A30: 1 | B30: 28 | C30: SERVIÇO DE LIMPEZA E CONSERVAÇÃO DO DESTACAMENTO DA POLÍCIA MILITAR | D30: 1 | E30: ='Planilha Composição Serviços'!AJ18 -> 40 h/s | F30: ='Planilha Composição Serviços'!AJ140 -> 6141.4 | G30: ='Planilha Composição Serviços'!AJ141 -> 73696.8
A31: 1 | B31: 29 | C31: SERVIÇO DE LIMPEZA E CONSERVAÇÃO DA EMATER | D31: 1 | E31: ='Planilha Composição Serviços'!AK18 -> 20 h/s | F31: ='Planilha Composição Serviços'!AK140 -> 3858.45 | G31: ='Planilha Composição Serviços'!AK141 -> 46301.4
A32: Total Estimado | D32: =SUM(D3:D31) -> 51 | F32: =SUM(F3:F31) -> 304020.39 | G32: =SUM(G3:G31) -> 3648244.7
C35: POSTOS RESERVAS
A36: 1 | B36: 30 | C36: SERVIÇOS DE LIMPEZA E CONSERVAÇÃO DO CEMEI ARCO ÍRIS | D36: 2 | E36: ='Reserva Planilha comp. serviços'!J19 -> 40 h/s | F36: ='Reserva Planilha comp. serviços'!J142 -> 11957.91 | G36: =F36*12 -> 143494.92
A37: 1 | B37: 31 | C37: SERVIÇO DE LIMPEZA E CONSERVAÇÃO DA ESCOLA MUNICIPAL TANCREDO NEVES | D37: 1 | E37: ='Reserva Planilha comp. serviços'!K19 -> 40 h/s | F37: ='Reserva Planilha comp. serviços'!K142 -> 5245.45 | G37: =F37*12 -> 62945.4
A38: 1 | B38: 32 | C38: SERVIÇOS DE LIMPEZA E CONSERVAÇÃO DO PRÉ-ESCOLA SÃO FRANCISCO DE ASSIS | D38: 2 | E38: ='Reserva Planilha comp. serviços'!L19 -> 40 h/s | F38: ='Reserva Planilha comp. serviços'!L142 -> 10490.92 | G38: =F38*12 -> 125891.04
C39: Total | D39: =SUM(D36:D38) -> 5 | F39: =SUM(F36:F38) -> 27694.28 | G39: =SUM(G36:G38) -> 332331.36
C42: Total Estimado Final | D42: =D32+D39 -> 56 | F42: =F32+F39 -> 331714.67 | G42: =G32+G39 -> 3980576

Sheet Planilha Composição Serviços
B2: PLANILHA COMPOSIÇÃO DOS CUSTOS DOS SERVIÇOS
A6: Dados para composição dos custos referentes à mão-de-obra
A7: 1 | B7: Tipo de serviço (mesmo serviço com características distintas) | I7: Limpeza
A8: 2 | B8: Classificação Brasileira de Ocupações (CBO)
A9: 3 | B9: Categoria profissional (vinculada à execução contratual) | I9: Servente
A10: 4 | B10: Data base da categoria (dia/mês/ano) | I10: 46054
A11: 5 | B11: Sindicato | I11: SIEMACO
A12: 6 | B12: Salário Nominativo da Categoria Profissional = 44 HORAS | I12: 1900
A13: 7 | B13: Salário Nominativo da Categoria Profissional = Proporcional 40 HORAS | I13: =ROUND((I12/44)*40,2) -> 1727.27
A14: 9 | B14: Salário Nominativo da Categoria Profissional = Proporcional 20 HORAS | I14: =I13/2 -> 863.635
K15: 20 h/s | M15: 20 h/s | AK15: 20 h/s
I16: Local 1 | J16: Local 2 | K16: Local 3 | L16: Local 4 | M16: Local 5 | N16: Local 6 | O16: Local 7 | P16: Local 8 | Q16: Local 9 | R16: Local 10 | S16: Local 11 | T16: Local 12 | U16: Local 13 | V16: Local 14 | W16: Local 15 | X16: Local 16 | Y16: Local 17 | Z16: Local 18 | AA16: Local 19 | AB16: Local 20 | AC16: Local 21 | AD16: Local 22 | AE16: Local 23 | AF16: Local 24 | AG16: Local 25 | AH16: Local 26 | AI16: Local 27 | AJ16: Local 28 | AK16: Local 29
I17: CEMEI Sta Clara | J17: CEMEI Raio de Sol | K17: E M Olavo Bilac | L17: E M São Cristóvão | M17: E R José Bonifácio | N17: E M Leônc Correia | O17: Tancredo Neves | P17: Pré S F Assis | Q17: Biblioteca Cidadã | R17: CAMU Almox. Educação | S17: Centro Especialidade | T17: UBS Boa Vista | U17: UBS N União | V17: UBS Central | W17: Clinica Fisioterapia | X17: UBS B União | Y17: Sede Adm Saude | Z17: Paço Mun | AA17: CRAS | AB17: Sec Agricult | AC17: Sec Des Econ | AD17: Sec Viação Ob | AE17: Gin Ivar Ranzi | AF17: Gin A C Picin | AG17: Cons. Tutelar | AH17: CC. São Lucas/CRAS | AI17: Sec. Assistência | AJ17: Destacamento Policia Militar | AK17: Emater
I18: 40 h/s | J18: 40 h/s | K18: 20 h/s | L18: 40 h/s | M18: 20 h/s | N18: 40 h/s | O18: 40 h/s | P18: 40 h/s | Q18: 20 h/s | R18: 40 h/s | S18: 40 h/s | T18: 40 h/s | U18: 20 h/s | V18: 40 h/s | W18: 40 h/s | X18: 40 h/s | Y18: 40 h/s | Z18: 40 h/s | AA18: 40 h/s | AB18: 40 h/s | AC18: 40 h/s | AD18: 40 h/s | AE18: 40 h/s | AF18: 40 h/s | AG18: 20 h/s | AH18: 20 h/s | AI18: 20 h/s | AJ18: 40 h/s | AK18: 20 h/s
A19: COMPOSIÇÃO DA REMUNERAÇÃO
A20: 1 - COMPOSIÇÃO DA REMUNERAÇÃO | H20: % | I20: VALOR (R$) | J20: VALOR (R$) | K20: VALOR (R$) | L20: VALOR (R$) | M20: VALOR (R$) | N20: VALOR (R$) | O20: VALOR (R$) | P20: VALOR (R$) | Q20: VALOR (R$) | R20: VALOR (R$) | S20: VALOR (R$) | T20: VALOR (R$) | U20: VALOR (R$) | V20: VALOR (R$) | W20: VALOR (R$) | X20: VALOR (R$) | Y20: VALOR (R$) | Z20: VALOR (R$) | AA20: VALOR (R$) | AB20: VALOR (R$) | AC20: VALOR (R$) | AD20: VALOR (R$) | AE20: VALOR (R$) | AF20: VALOR (R$) | AG20: VALOR (R$) | AH20: VALOR (R$) | AI20: VALOR (R$) | AJ20: VALOR (R$) | AK20: VALOR (R$)
A21: A | B21: Salário Base - Cláusula 3ª CCT | I21: =$I$13 -> 1727.27 | J21: =$I$13 -> 1727.27 | K21: =$I$13/2 -> 863.635 | L21: =$I$13 -> 1727.27 | M21: =$I$13/2 -> 863.635 | N21: =$I$13 -> 1727.27 | O21: =$I$13 -> 1727.27 | P21: =$I$13 -> 1727.27 | Q21: =$I$13/2 -> 863.635 | R21: =$I$13 -> 1727.27 | S21: =$I$13 -> 1727.27 | T21: =$I$13 -> 1727.27 | U21: =$I$13/2 -> 863.635 | V21: =$I$13 -> 1727.27 | W21: =$I$13 -> 1727.27 | X21: =$I$13 -> 1727.27 | Y21: =$I$13 -> 1727.27 | Z21: =$I$13 -> 1727.27 | AA21: =$I$13 -> 1727.27 | AB21: =$I$13 -> 1727.27 | AC21: =$I$13 -> 1727.27 | ... AF21: =$I$13 -> 1727.27 | AG21: =$I$13/2 -> 863.635 | AH21: =$I$13/2 -> 863.635 | AI21: =$I$13/2 -> 863.635 | AJ21: =$I$13 -> 1727.27 | AK21: =$I$13/2 -> 863.635
A22: B | B22: Adicional Periculosidade | I22: 0 | J22: 0 | K22: 0 | L22: 0 | M22: 0 | N22: 0 | O22: 0 | P22: 0 | Q22: 0 | R22: 0 | S22: 0 | T22: 0 | U22: 0 | V22: 0 | W22: 0 | X22: 0 | Y22: 0 | Z22: 0 | AA22: 0 | AB22: 0 | AC22: 0 | AD22: 0 | AE22: 0 | AF22: 0 | AG22: 0 | AH22: 0 | AI22: 0 | AJ22: 0 | AK22: 0
A23: C | B23: Adicional Insalubridade (Clau 3ª da CCT) | E23: Salário Min. Nacional | G23: 1621 | H23: 0.2 | I23: 0 | J23: 0 | K23: 0 | L23: 0 | M23: 0 | N23: 0 | O23: 0 | P23: 0 | Q23: 0 | R23: 0 | S23: =$G23*$H23 -> 324.2 | T23: =$G23*$H23 -> 324.2 | U23: =$G23*$H23/2 -> 162.1 | V23: =$G23*$H23 -> 324.2 | W23: =$G23*$H23 -> 324.2 | X23: =$G23*$H23 -> 324.2 | Y23: =$G23*$H23 -> 324.2 | Z23: 0 | AA23: 0 | AB23: 0 | AC23: 0 | AD23: 0 | AE23: 0 | AF23: 0 | AG23: 0 | AH23: 0 | AI23: 0 | AJ23: 0 | AK23: 0
A24: D | B24: Adicional Noturno | I24: 0 | J24: 0 | K24: 0 | L24: 0 | M24: 0 | N24: 0 | O24: 0 | P24: 0 | Q24: 0 | R24: 0 | S24: 0 | T24: 0 | U24: 0 | V24: 0 | W24: 0 | X24: 0 | Y24: 0 | Z24: 0 | AA24: 0 | AB24: 0 | AC24: 0 | AD24: 0 | AE24: 0 | AF24: 0 | AG24: 0 | AH24: 0 | AI24: 0 | AJ24: 0 | AK24: 0
A25: E | B25: Hora noturna adicional | I25: 0 | J25: 0 | K25: 0 | L25: 0 | M25: 0 | N25: 0 | O25: 0 | P25: 0 | Q25: 0 | R25: 0 | S25: 0 | T25: 0 | U25: 0 | V25: 0 | W25: 0 | X25: 0 | Y25: 0 | Z25: 0 | AA25: 0 | AB25: 0 | AC25: 0 | AD25: 0 | AE25: 0 | AF25: 0 | AG25: 0 | AH25: 0 | AI25: 0 | AJ25: 0 | AK25: 0
A26: F | B26: Adicional de Hora Extra | I26: 0 | J26: 0 | K26: 0 | L26: 0 | M26: 0 | N26: 0 | O26: 0 | P26: 0 | Q26: 0 | R26: 0 | S26: 0 | T26: 0 | U26: 0 | V26: 0 | W26: 0 | X26: 0 | Y26: 0 | Z26: 0 | AA26: 0 | AB26: 0 | AC26: 0 | AD26: 0 | AE26: 0 | AF26: 0 | AG26: 0 | AH26: 0 | AI26: 0 | AJ26: 0 | AK26: 0
A27: G | B27: Acumulação de função (clausula 3ª CCT) | F27: 131 | H27: =(F27/44)*40 -> 119.09091 | I27: 0 | J27: 0 | K27: 0 | L27: 0 | M27: 0 | N27: 0 | O27: 0 | P27: 0 | Q27: =H27/2 -> 59.545455 | R27: =H27 -> 119.09091 | S27: =$H27 -> 119.09091 | T27: =$H27 -> 119.09091 | U27: =$H27/2 -> 59.545455 | V27: =$H27 -> 119.09091 | W27: =$H27 -> 119.09091 | X27: =$H27 -> 119.09091 | Y27: =$H27 -> 119.09091 | Z27: =$H27 -> 119.09091 | AA27: =$H27 -> 119.09091 | AB27: =$H27 -> 119.09091 | AC27: =$H27 -> 119.09091 | ... AE27: =$H27 -> 119.09091 | AF27: =H27 -> 119.09091 | AG27: =H27/2 -> 59.545455 | AH27: =H27/2 -> 59.545455 | AI27: =H27/2 -> 59.545455 | AK27: 0
A28: G | B28: Assiduidade | I28: 0 | J28: 0 | K28: 0 | L28: 0 | M28: 0 | N28: 0 | O28: 0 | P28: 0 | Q28: 0 | R28: 0 | S28: 0 | T28: 0 | U28: 0 | V28: 0 | W28: 0 | X28: 0 | Y28: 0 | Z28: 0 | AA28: 0 | AB28: 0 | AC28: 0 | AD28: 0 | AE28: 0 | AF28: 0 | AG28: 0 | AH28: 0 | AI28: 0 | AJ28: 0 | AK28: 0
A29: TOTAL DO MÓDULO 1 | I29: =TRUNC(SUM(I21:I28),2) -> 1727.27 | J29: =TRUNC(SUM(J21:J28),2) -> 1727.27 | K29: =TRUNC(SUM(K21:K28),2) -> 863.63 | L29: =TRUNC(SUM(L21:L28),2) -> 1727.27 | M29: =TRUNC(SUM(M21:M28),2) -> 863.63 | N29: =TRUNC(SUM(N21:N28),2) -> 1727.27 | O29: =TRUNC(SUM(O21:O28),2) -> 1727.27 | P29: =TRUNC(SUM(P21:P28),2) -> 1727.27 | ... AK29: =TRUNC(SUM(AK21:AK28),2) -> 863.63
A31: 2 - Benefícios Mensais e Diários | I31: VALOR (R$) | J31: VALOR (R$) | K31: VALOR (R$) | L31: VALOR (R$) | M31: VALOR (R$) | N31: VALOR (R$) | O31: VALOR (R$) | P31: VALOR (R$) | Q31: VALOR (R$) | R31: VALOR (R$) | S31: VALOR (R$) | T31: VALOR (R$) | U31: VALOR (R$) | V31: VALOR (R$) | W31: VALOR (R$) | X31: VALOR (R$) | Y31: VALOR (R$) | Z31: VALOR (R$) | AA31: VALOR (R$) | AB31: VALOR (R$) | AC31: VALOR (R$) | AD31: VALOR (R$) | AE31: VALOR (R$) | AF31: VALOR (R$) | AG31: VALOR (R$) | AH31: VALOR (R$) | AI31: VALOR (R$) | AJ31: VALOR (R$) | AK31: VALOR (R$)
A32: A | B32: Transporte (clausula 15ª CCT) (O município não possui transporte público regulamentado) | H32: -
A33: B | B33: Auxílio-Refeição/Alimentação (clausula 13ª CCT) (80%) | H33: =ROUND(900*0.8,2) -> 720 | I33: =$H33 -> 720 | J33: =$H33 -> 720 | K33: =$H33 -> 720 | L33: =$H33 -> 720 | M33: =$H33 -> 720 | N33: =$H33 -> 720 | O33: =$H33 -> 720 | P33: =$H33 -> 720 | ... AK33: =$H33 -> 720
A34: C | B34: Auxílio-Refeição/Alimentação Férias | H34: =ROUND($H33/12,2) -> 60 | I34: =ROUND($H33/12,2) -> 60 | J34: =ROUND($H33/12,2) -> 60 | K34: =ROUND($H33/12,2) -> 60 | L34: =ROUND($H33/12,2) -> 60 | M34: =ROUND($H33/12,2) -> 60 | N34: =ROUND($H33/12,2) -> 60 | O34: =ROUND($H33/12,2) -> 60 | ... AK34: =ROUND($H33/12,2) -> 60
A35: D | B35: Assistência Médica (clausula 16ª CCT) | H35: 94.5 | I35: =$H35 -> 94.5 | J35: =$H35 -> 94.5 | K35: =$H35 -> 94.5 | L35: =$H35 -> 94.5 | M35: =$H35 -> 94.5 | N35: =$H35 -> 94.5 | O35: =$H35 -> 94.5 | P35: =$H35 -> 94.5 | ... AK35: =$H35 -> 94.5
A36: E | B36: Assistencia Social a Familia (clausula 17ª CCT) | H36: 31 | I36: =$H36 -> 31 | J36: =$H36 -> 31 | K36: =$H36 -> 31 | L36: =$H36 -> 31 | M36: =$H36 -> 31 | N36: =$H36 -> 31 | O36: =$H36 -> 31 | P36: =$H36 -> 31 | ... AK36: =$H36 -> 31
A37: F | B37: Fundo de Formação Profissional (clausula 23ª CCT) | H37: 31 | I37: =$H37 -> 31 | J37: =$H37 -> 31 | K37: =$H37 -> 31 | L37: =$H37 -> 31 | M37: =$H37 -> 31 | N37: =$H37 -> 31 | O37: =$H37 -> 31 | P37: =$H37 -> 31 | ... AK37: =$H37 -> 31
A38: G | B38: Outros (especificar) | H38: 0 | I38: =$H38 -> 0 | J38: =$H38 -> 0 | K38: =$H38 -> 0 | L38: =$H38 -> 0 | M38: =$H38 -> 0 | N38: =$H38 -> 0 | O38: =$H38 -> 0 | P38: =$H38 -> 0 | ... AK38: =$H38 -> 0
A39: TOTAL SUBMÓDULO 2 | I39: =TRUNC(SUM(I32:I38),2) -> 936.5 | J39: =TRUNC(SUM(J32:J38),2) -> 936.5 | K39: =TRUNC(SUM(K32:K38),2) -> 936.5 | L39: =TRUNC(SUM(L32:L38),2) -> 936.5 | M39: =TRUNC(SUM(M32:M38),2) -> 936.5 | N39: =TRUNC(SUM(N32:N38),2) -> 936.5 | O39: =TRUNC(SUM(O32:O38),2) -> 936.5 | P39: =TRUNC(SUM(P32:P38),2) -> 936.5 | ... AK39: =TRUNC(SUM(AK32:AK38),2) -> 936.5
A42: ENCARGOS SOCIAIS E TRABALHISTAS E PROVISÃO DE RESCISÃO
A43: 3 - Encargos Sociais e Trabalhistas | H43: %
A44: 3.1 - Encargos Previdenciários, Sociais e FGTS | H44: % | I44: VALOR (R$) | J44: VALOR (R$) | K44: VALOR (R$) | L44: VALOR (R$) | M44: VALOR (R$) | N44: VALOR (R$) | O44: VALOR (R$) | P44: VALOR (R$) | Q44: VALOR (R$) | R44: VALOR (R$) | S44: VALOR (R$) | T44: VALOR (R$) | U44: VALOR (R$) | V44: VALOR (R$) | W44: VALOR (R$) | X44: VALOR (R$) | Y44: VALOR (R$) | Z44: VALOR (R$) | AA44: VALOR (R$) | AB44: VALOR (R$) | AC44: VALOR (R$) | AD44: VALOR (R$) | AE44: VALOR (R$) | AF44: VALOR (R$) | AG44: VALOR (R$) | AH44: VALOR (R$) | AI44: VALOR (R$) | AJ44: VALOR (R$) | AK44: VALOR (R$)
A45: A | B45: INSS | H45: 0.2 | I45: =$H45*I$29 -> 345.454 | J45: =$H45*J$29 -> 345.454 | K45: =$H45*K$29 -> 172.726 | L45: =$H45*L$29 -> 345.454 | M45: =$H45*M$29 -> 172.726 | N45: =$H45*N$29 -> 345.454 | O45: =$H45*O$29 -> 345.454 | P45: =$H45*P$29 -> 345.454 | ... AK45: =$H45*AK$29 -> 172.726
A46: B | B46: SESI ou SESC | H46: 0.015 | I46: =$H46*I$29 -> 25.90905 | J46: =$H46*J$29 -> 25.90905 | K46: =$H46*K$29 -> 12.95445 | L46: =$H46*L$29 -> 25.90905 | M46: =$H46*M$29 -> 12.95445 | N46: =$H46*N$29 -> 25.90905 | O46: =$H46*O$29 -> 25.90905 | P46: =$H46*P$29 -> 25.90905 | ... AK46: =$H46*AK$29 -> 12.95445
A47: C | B47: SENAI ou SENAC | H47: 0.01 | I47: =$H47*I$29 -> 17.2727 | J47: =$H47*J$29 -> 17.2727 | K47: =$H47*K$29 -> 8.6363 | L47: =$H47*L$29 -> 17.2727 | M47: =$H47*M$29 -> 8.6363 | N47: =$H47*N$29 -> 17.2727 | O47: =$H47*O$29 -> 17.2727 | P47: =$H47*P$29 -> 17.2727 | ... AK47: =$H47*AK$29 -> 8.6363
...

Sheet Planilha de Materiais
B2: PLANILHA DE QUANTIDADE E CUSTOS DOS MATERIAIS e EPI
B4: Quantidade mensal por local de limpeza
D5: Local 1 | F5: Local 2 | H5: Local 3 | J5: Local 4 | L5: Local 5 | N5: Local 6 | P5: Local 7 | R5: Local 8 | T5: Local 9 | V5: Local 10 | X5: Local 11 | Z5: Local 12 | AB5: Local 13 | AD5: Local 14 | AF5: Local 15 | AH5: Local 16 | AJ5: Local 17 | AL5: Local 18 | AN5: Local 19 | AP5: Local 20 | AR5: Local 21 | AT5: Local 22 | AV5: Local 23 | AX5: Local 24 | AZ5: Local 25 | BB5: Local 26 | BD5: Local 27 | BF5: Local 28 | BH5: Local 29 | BJ5: Local 30
D6: CEMEI Santa Clara | F6: CEMEI Raio Sol | H6: Esc. Olavo Bilac | J6: Esc. S. Cristóvão | L6: Esc. José Bonif. | N6: Esc. Leôncio Correia | P6: Esc. Tancredo Neves | R6: Pré-Escola S. F. Assis | T6: Biblioteca | V6: CAMU e Almoxarifado | X6: Centro Espec | Z6: UBS B Vista | AB6: UBS Nova União | AD6: Posto Central | AF6: Clinica de fisioterapia | AH6: UBS Bairro União | AJ6: Sede Adm. Saúde | AL6: Paço Munic | AN6: CRAS | AP6: Sede Agric. | AR6: Sec Des. Ecom. | AT6: Sec Viação e Obras | AV6: C E Ivar Ranzi | AX6: Gin. A C Picinato | AZ6: Cons. Tutelar | BB6: Centro comunitário São Lucas/CRAS | BD6: Sec Assistencia Social | BF6: CEMEI Arco Iris | BH6: Destacamento da Policia Militar | BJ6: Emater
C7: Valor Unitário | D7: Qtde | E7: R$ Total | F7: Qtde | G7: R$ Total | H7: Qtde | I7: R$ Total | J7: Qtde | K7: R$ Total | L7: Qtde | M7: R$ Total | N7: Qtde | O7: R$ Total | P7: Qtde | Q7: R$ Total | R7: Qtde | S7: R$ Total | T7: Qtde | U7: R$ Total | V7: Qtde | W7: R$ Total | X7: Qtde | Y7: R$ Total | Z7: Qtde | AA7: R$ Total | AB7: Qtde | AC7: R$ Total | AD7: Qtde | AE7: R$ Total | AF7: Qtde | AG7: R$ Total | AH7: Qtde | AI7: R$ Total | AJ7: Qtde | AK7: R$ Total | AL7: Qtde | AM7: R$ Total | AN7: Qtde | AO7: R$ Total | AP7: Qtde | AQ7: R$ Total | AR7: Qtde | AS7: R$ Total | AT7: Qtde | AU7: R$ Total | AV7: Qtde | AW7: R$ Total | AX7: Qtde | AY7: R$ Total | AZ7: Qtde | BA7: R$ Total | BB7: Qtde | BC7: R$ Total | BD7: Qtde | BE7: R$ Total | BF7: Qtde | BG7: R$ Total | BH7: Qtde | BI7: R$ Total | BJ7: Qtde | BK7: R$ Total
A8: 1 | B8: Água Sanitária – litros | C8: 2.51 | D8: 0 | E8: =C8*D8 -> 0 | F8: 0 | G8: =C8*F8 -> 0 | H8: 0 | I8: =C8*H8 -> 0 | J8: 0 | K8: =J8*C8 -> 0 | L8: 0 | M8: =L8*C8 -> 0 | N8: 0 | O8: =N8*C8 -> 0 | P8: 0 | Q8: =P8*C8 -> 0 | R8: 0 | S8: =R8*C8 -> 0 | T8: 0 | U8: =T8*C8 -> 0 | V8: 0 | W8: =V8*C8 -> 0 | Y8: =X8*C8 -> 0 | AA8: =Z8*C8 -> 0 | AC8: =AB8*C8 -> 0 | AE8: =AD8*C8 -> 0 | AG8: =AF8*C8 -> 0 | AI8: =C8*AH8 -> 0 | AK8: =AJ8*C8 -> 0 | AL8: 15 | AM8: =AL8*C8 -> 37.65 | AN8: 20 | AO8: =AN8*C8 -> 50.2 | AP8: 15 | AQ8: =AP8*C8 -> 37.65 | AR8: 5 | AS8: =AR8*C8 -> 12.55 | AT8: 10 | AU8: =AT8*C8 -> 25.1 | AV8: 20 | AW8: =AV8*C8 -> 50.2 | AX8: 10 | AY8: =AX8*C8 -> 25.1 | AZ8: 5 | BA8: =AZ8*C8 -> 12.55 | BB8: 0 | BC8: =BB8*E8 -> 0 | BD8: 5 | BE8: =BD8*G8 -> 0 | BF8: 0 | BG8: =BF8*BA8 -> 0 | BH8: 5 | BI8: =BH8*C8 -> 12.55 | BJ8: 3 | BK8: =BJ8*C8 -> 7.53
A9: 2 | B9: Desinfetante - litros | C9: 2.29 | D9: 30 | E9: =C9*D9 -> 68.7 | F9: 30 | G9: =C9*F9 -> 68.7 | H9: 10 | I9: =C9*H9 -> 22.9 | J9: 30 | K9: =J9*C9 -> 68.7 | L9: 10 | M9: =L9*C9 -> 22.9 | N9: 20 | O9: =N9*C9 -> 45.8 | P9: 20 | Q9: =P9*C9 -> 45.8 | R9: 20 | S9: =R9*C9 -> 45.8 | T9: 10 | U9: =T9*C9 -> 22.9 | V9: 10 | W9: =V9*C9 -> 22.9 | Y9: =X9*C9 -> 0 | AA9: =Z9*C9 -> 0 | AC9: =AB9*C9 -> 0 | AE9: =AD9*C9 -> 0 | AG9: =AF9*C9 -> 0 | AI9: =C9*AH9 -> 0 | AK9: =AJ9*C9 -> 0 | AL9: 25 | AM9: =AL9*C9 -> 57.25 | AN9: 25 | AO9: =AN9*C9 -> 57.25 | AP9: 10 | AQ9: =AP9*C9 -> 22.9 | AR9: 10 | AS9: =AR9*C9 -> 22.9 | AT9: 10 | AU9: =AT9*C9 -> 22.9 | AV9: 20 | AW9: =AV9*C9 -> 45.8 | AX9: 10 | AY9: =AX9*C9 -> 22.9 | AZ9: 1 | BA9: =AZ9*C9 -> 2.29 | BB9: 10 | BC9: =BB9*C9 -> 22.9 | BD9: 3 | BE9: =BD9*C9 -> 6.87 | BF9: 20 | BG9: =BF9*C9 -> 45.8 | BH9: 5 | BI9: =BH9*C9 -> 11.45 | BJ9: 2 | BK9: =BJ9*C9 -> 4.58
A10: 3 | B10: Detergente - litros - para piso | C10: 3.2 | D10: 20 | E10: =C10*D10 -> 64 | F10: 20 | G10: =C10*F10 -> 64 | H10: 10 | I10: =C10*H10 -> 32 | J10: 20 | K10: =J10*C10 -> 64 | L10: 10 | M10: =L10*C10 -> 32 | N10: 20 | O10: =N10*C10 -> 64 | P10: 20 | Q10: =P10*C10 -> 64 | R10: 20 | S10: =R10*C10 -> 64 | T10: 10 | U10: =T10*C10 -> 32 | V10: 10 | W10: =V10*C10 -> 32 | Y10: =X10*C10 -> 0 | AA10: =Z10*C10 -> 0 | AC10: =AB10*C10 -> 0 | AE10: =AD10*C10 -> 0 | AG10: =AF10*C10 -> 0 | AI10: =C10*AH10 -> 0 | AK10: =AJ10*C10 -> 0 | AL10: 5 | AM10: =AL10*C10 -> 16 | AN10: 10 | AO10: =AN10*C10 -> 32 | AP10: 15 | AQ10: =AP10*C10 -> 48 | AR10: 5 | AS10: =AR10*C10 -> 16 | AT10: 10 | AU10: =AT10*C10 -> 32 | AW10: =AV10*C10 -> 0 | AX10: 10 | AY10: =AX10*C10 -> 32 | AZ10: 0 | BA10: =AZ10*C10 -> 0 | BB10: 10 | BC10: =BB10*C10 -> 32 | BD10: 5 | BE10: =BD10*C10 -> 16 | BF10: 20 | BG10: =BF10*C10 -> 64 | BH10: 1 | BI10: =BH10*C10 -> 3.2 | BJ10: 1 | BK10: =BJ10*C10 -> 3.2
A11: 4 | B11: Lã de Aço – pacote com 8 unidades | C11: 1.92 | D11: 2 | E11: =C11*D11 -> 3.84 | F11: 2 | G11: =C11*F11 -> 3.84 | H11: 1 | I11: =C11*H11 -> 1.92 | J11: 2 | K11: =J11*C11 -> 3.84 | L11: 1 | M11: =L11*C11 -> 1.92 | N11: 2 | O11: =N11*C11 -> 3.84 | P11: 2 | Q11: =P11*C11 -> 3.84 | R11: 1 | S11: =R11*C11 -> 1.92 | T11: 0 | U11: =T11*C11 -> 0 | V11: 2 | W11: =V11*C11 -> 3.84 | X11: 2 | Y11: =X11*C11 -> 3.84 | Z11: 2 | AA11: =Z11*C11 -> 3.84 | AB11: 2 | AC11: =AB11*C11 -> 3.84 | AD11: 5 | AE11: =AD11*C11 -> 9.6 | AF11: 2 | AG11: =AF11*C11 -> 3.84 | AH11: 5 | AI11: =C11*AH11 -> 9.6 | AJ11: 5 | AK11: =AJ11*C11 -> 9.6 | AL11: 1 | AM11: =AL11*C11 -> 1.92 | AN11: 1 | AO11: =AN11*C11 -> 1.92 | AP11: 1 | AQ11: =AP11*C11 -> 1.92 | AR11: 1 | AS11: =AR11*C11 -> 1.92 | AT11: 2 | AU11: =AT11*C11 -> 3.84 | AV11: 3 | AW11: =AV11*C11 -> 5.76 | AX11: 4 | AY11: =AX11*C11 -> 7.68 | AZ11: 1 | BA11: =AZ11*C11 -> 1.92 | BB11: 1 | BC11: =BB11*C11 -> 1.92 | BD11: 1 | BE11: =BD11*C11 -> 1.92 | BF11: 2 | BG11: =BF11*C1 -> 0 | BH11: 1 | BI11: =BH11*C11 -> 1.92 | BJ11: 0 | BK11: =BJ11*C11 -> 0
A12: 5 | B12: Esponja dupla face. Unid. -tamanho Min 110x75x20 mm | C12: 0.8 | D12: 20 | E12: =C12*D12 -> 16 | F12: 20 | G12: =C12*F12 -> 16 | H12: 10 | I12: =C12*H12 -> 8 | J12: 20 | K12: =J12*C12 -> 16 | L12: 5 | M12: =L12*C12 -> 4 | N12: 20 | O12: =N12*C12 -> 16 | P12: 20 | Q12: =P12*C12 -> 16 | R12: 20 | S12: =R12*C12 -> 16 | T12: 10 | U12: =T12*C12 -> 8 | V12: 20 | W12: =V12*C12 -> 16 | X12: 15 | Y12: =X12*C12 -> 12 | Z12: 10 | AA12: =Z12*C12 -> 8 | AB12: 5 | AC12: =AB12*C12 -> 4 | AD12: 25 | AE12: =AD12*C12 -> 20 | AF12: 5 | AG12: =AF12*C12 -> 4 | AH12: 25 | AI12: =C12*AH12 -> 20 | AJ12: 15 | AK12: =AJ12*C12 -> 12 | AL12: 6 | AM12: =AL12*C12 -> 4.8 | AN12: 10 | AO12: =AN12*C12 -> 8 | AP12: 8 | AQ12: =AP12*C12 -> 6.4 | AR12: 2 | AS12: =AR12*C12 -> 1.6 | AT12: 8 | AU12: =AT12*C12 -> 6.4 | AV12: 10 | AW12: =AV12*C12 -> 8 | AX12: 8 | AY12: =AX12*C12 -> 6.4 | AZ12: 5 | BA12: =AZ12*C12 -> 4 | BB12: 10 | BC12: =BB12*C12 -> 8 | BD12: 5 | BE12: =BD12*C12 -> 4 | BF12: 10 | BG12: =BF12*C12 -> 8 | BH12: 5 | BI12: =BH12*C12 -> 4 | BJ12: 5 | BK12: =BJ12*C12 -> 4
A13: 6 | B13: Odorisador de ar – lavanda – 400 ou 300 ml – unidade | C13: 7.82 | D13: 4 | E13: =C13*D13 -> 31.28 | F13: 4 | G13: =C13*F13 -> 31.28 | H13: 2 | I13: =C13*H13 -> 15.64 | J13: 4 | K13: =J13*C13 -> 31.28 | L13: 2 | M13: =L13*C13 -> 15.64 | N13: 4 | O13: =N13*C13 -> 31.28 | P13: 4 | Q13: =P13*C13 -> 31.28 | R13: 3 | S13: =R13*C13 -> 23.46 | T13: 2 | U13: =T13*C13 -> 15.64 | V13: 4 | W13: =V13*C13 -> 31.28 | X13: 5 | Y13: =X13*C13 -> 39.1 | Z13: 2 | AA13: =Z13*C13 -> 15.64 | AB13: 2 | AC13: =AB13*C13 -> 15.64 | AD13: 10 | AE13: =AD13*C13 -> 78.2 | AF13: 4 | AG13: =AF13*C13 -> 31.28 | AH13: 10 | AI13: =C13*AH13 -> 78.2 | AJ13: 10 | AK13: =AJ13*C13 -> 78.2 | AL13: 4 | AM13: =AL13*C13 -> 31.28 | AN13: 5 | AO13: =AN13*C13 -> 39.1 | AP13: 2 | AQ13: =AP13*C13 -> 15.64 | AR13: 3 | AS13: =AR13*C13 -> 23.46 | AT13: 10 | AU13: =AT13*C13 -> 78.2 | AV13: 6 | AW13: =AV13*C13 -> 46.92 | AX13: 3 | AY13: =AX13*C13 -> 23.46 | AZ13: 5 | BA13: =AZ13*C13 -> 39.1 | BB13: 5 | BC13: =BB13*C13 -> 39.1 | BD13: 5 | BE13: =BD13*C13 -> 39.1 | BF13: 4 | BG13: =BF13*C13 -> 31.28 | BH13: 2 | BI13: =BH13*C13 -> 15.64 | BJ13: 2 | BK13: =BJ13*C13 -> 15.64
A14: 7 | B14: Sabão em pedra - 200 gr – unidade | C14: 6.22 | D14: 5 | E14: =C14*D14 -> 31.1 | F14: 5 | G14: =C14*F14 -> 31.1 | H14: 3 | I14: =C14*H14 -> 18.66 | J14: 5 | K14: =J14*C14 -> 31.1 | L14: 2 | M14: =L14*C14 -> 12.44 | N14: 5 | O14: =N14*C14 -> 31.1 | P14: 5 | Q14: =P14*C14 -> 31.1 | R14: 5 | S14: =R14*C14 -> 31.1 | T14: 2 | U14: =T14*C14 -> 12.44 | V14: 4 | W14: =V14*C14 -> 24.88 | Y14: =X14*C14 -> 0 | AA14: =Z14*C14 -> 0 | AB14: 0 | AC14: =AB14*C14 -> 0 | AD14: 0 | AE14: =AD14*C14 -> 0 | AF14: 0 | AG14: =AF14*C14 -> 0 | AH14: 0 | AI14: =C14*AH14 -> 0 | AK14: =AJ14*C14 -> 0 | AL14: 2 | AM14: =AL14*C14 -> 12.44 | AN14: 10 | AO14: =AN14*C14 -> 62.2 | AP14: 3 | AQ14: =AP14*C14 -> 18.66 | AR14: 2 | AS14: =AR14*C14 -> 12.44 | AT14: 2 | AU14: =AT14*C14 -> 12.44 | AV14: 2 | AW14: =AV14*C14 -> 12.44 | AX14: 2 | AY14: =AX14*C14 -> 12.44 | AZ14: 3 | BA14: =AZ14*C14 -> 18.66 | BB14: 10 | BC14: =BB14*C14 -> 62.2 | BD14: 1 | BE14: =BD14*C14 -> 6.22 | BF14: 5 | BG14: =BF14*C14 -> 31.1 | BH14: 2 | BI14: =BH14*C14 -> 12.44 | BJ14: 2 | BK14: =BJ14*C14 -> 12.44
A15: 8 | B15: Saco alvejado algodão – unidades | C15: 5.82 | D15: 3 | E15: =C15*D15 -> 17.46 | F15: 3 | G15: =C15*F15 -> 17.46 | H15: 2 | I15: =C15*H15 -> 11.64 | J15: 3 | K15: =J15*C15 -> 17.46 | L15: 2 | M15: =L15*C15 -> 11.64 | N15: 3 | O15: =N15*C15 -> 17.46 | P15: 3 | Q15: =P15*C15 -> 17.46 | R15: 3 | S15: =R15*C15 -> 17.46 | T15: 1 | U15: =T15*C15 -> 5.82 | V15: 2 | W15: =V15*C15 -> 11.64 | X15: 3 | Y15: =X15*C15 -> 17.46 | Z15: 5 | AA15: =Z15*C15 -> 29.1 | AB15: 5 | AC15: =AB15*C15 -> 29.1 | AD15: 5 | AE15: =AD15*C15 -> 29.1 | AF15: 5 | AG15: =AF15*C15 -> 29.1 | AH15: 5 | AI15: =C15*AH15 -> 29.1 | AJ15: 10 | AK15: =AJ15*C15 -> 58.2 | AL15: 4 | AM15: =AL15*C15 -> 23.28 | AN15: 0 | AO15: =AN15*C15 -> 0 | AP15: 5 | AQ15: =AP15*C15 -> 29.1 | AR15: 3 | AS15: =AR15*C15 -> 17.46 | AT15: 4 | AU15: =AT15*C15 -> 23.28 | AV15: 2 | AW15: =AV15*C15 -> 11.64 | AX15: 8 | AY15: =AX15*C15 -> 46.56 | BA15: =AZ15*C15 -> 0 | BC15: =BB15*E15 -> 0 | BE15: =BD15*C15 -> 0 | BF15: 2 | BG15: =BF15*C15 -> 11.64 | BH15: 1 | BI15: =BH15*C15 -> 5.82 | BJ15: 1 | BK15: =BJ15*C15 -> 5.82
A16: 9 | B16: Saco para o chão (2ª viagem) – unidad | C16: 5.82 | D16: 0 | E16: =C16*D16 -> 0 | F16: 0 | G16: =C16*F16 -> 0 | H16: 0 | I16: =C16*H16 -> 0 | J16: 0 | K16: =J16*C16 -> 0 | L16: 0 | M16: =L16*C16 -> 0 | N16: 0 | O16: =N16*C16 -> 0 | P16: 0 | Q16: =P16*C16 -> 0 | R16: 0 | S16: =R16*C16 -> 0 | T16: 0 | U16: =T16*C16 -> 0 | V16: 0 | W16: =V16*C16 -> 0 | X16: 3 | Y16: =X16*C16 -> 17.46 | Z16: 3 | AA16: =Z16*C16 -> 17.46 | AB16: 3 | AC16: =AB16*C16 -> 17.46 | AD16: 3 | AE16: =AD16*C16 -> 17.46 | AF16: 3 | AG16: =AF16*C16 -> 17.46 | AH16: 3 | AI16: =C16*AH16 -> 17.46 | AJ16: 10 | AK16: =AJ16*C16 -> 58.2 | AL16: 0 | AM16: =AL16*C16 -> 0 | AN16: 0 | AO16: =AN16*C16 -> 0 | AP16: 4 | AQ16: =AP16*C16 -> 23.28 | AR16: 2 | AS16: =AR16*C16 -> 11.64 | AT16: 0 | AU16: =AT16*C16 -> 0 | AW16: =AV16*C16 -> 0 | AX16: 0 | AY16: =AX16*C16 -> 0 | AZ16: 2 | BA16: =AZ16*C16 -> 11.64 | BC16: =BB16*E16 -> 0 | BE16: =BD16*C16 -> 0 | BF16: 0 | BG16: =BF16*C16 -> 0 | BH16: 1 | BI16: =BH16*C16 -> 5.82 | BJ16: 1 | BK16: =BJ16*C16 -> 5.82
A17: 10 | B17: Saponáceo pó - 300 gr – unidades | C17: 3.71 | D17: 0 | E17: =C17*D17 -> 0 | F17: 0 | G17: =C17*F17 -> 0 | H17: 0 | I17: =C17*H17 -> 0 | J17: 0 | K17: =J17*C17 -> 0 | L17: 0 | M17: =L17*C17 -> 0 | N17: 0 | O17: =N17*C17 -> 0 | P17: 0 | Q17: =P17*C17 -> 0 | R17: 0 | S17: =R17*C17 -> 0 | T17: 0 | U17: =T17*C17 -> 0 | V17: 0 | W17: =V17*C17 -> 0 | X17: 0 | Y17: =X17*C17 -> 0 | Z17: 0 | AA17: =Z17*C17 -> 0 | AB17: 0 | AC17: =AB17*C17 -> 0 | AD17: 0 | AE17: =AD17*C17 -> 0 | AF17: 0 | AG17: =AF17*C17 -> 0 | AH17: 0 | AI17: =C17*AH17 -> 0 | AJ17: 0 | AK17: =AJ17*C17 -> 0 | AM17: =AL17*C17 -> 0 | AN17: 0 | AO17: =AN17*C17 -> 0 | AP17: 1 | AQ17: =AP17*C17 -> 3.71 | AR17: 0 | AS17: =AR17*C17 -> 0 | AT17: 0 | AU17: =AT17*C17 -> 0 | AW17: =AV17*C17 -> 0 | AX17: 0 | AY17: =AX17*C17 -> 0 | BA17: =AZ17*C17 -> 0 | BC17: =BB17*E17 -> 0 | BE17: =BD17*C17 -> 0 | BF17: 0 | BG17: =BF17*C17 -> 0 | BH17: 0 | BI17: =BH17*C17 -> 0 | BJ17: 0 | BK17: =BJ17*C17 -> 0
A18: 11 | B18: Saco para lixo 15 litros – unidades | C18: 0.11 | D18: 0 | E18: =C18*D18 -> 0 | F18: 0 | G18: =C18*F18 -> 0 | H18: 0 | I18: =C18*H18 -> 0 | J18: 0 | K18: =J18*C18 -> 0 | L18: 0 | M18: =L18*C18 -> 0 | N18: 0 | O18: =N18*C18 -> 0 | P18: 0 | Q18: =P18*C18 -> 0 | R18: 0 | S18: =R18*C18 -> 0 | T18: 0 | U18: =T18*C18 -> 0 | V18: 0 | W18: =V18*C18 -> 0 | X18: 200 | Y18: =X18*C18 -> 22 | Z18: 100 | AA18: =Z18*C18 -> 11 | AB18: 100 | AC18: =AB18*C18 -> 11 | AD18: 100 | AE18: =AD18*C18 -> 11 | AF18: 100 | AG18: =AF18*C18 -> 11 | AH18: 100 | AI18: =C18*AH18 -> 11 | AJ18: 200 | AK18: =AJ18*C18 -> 22 | AL18: 0 | AM18: =AL18*C18 -> 0 | AN18: 80 | AO18: =AN18*C18 -> 8.8 | AP18: 0 | AQ18: =AP18*C18 -> 0 | AR18: 0 | AS18: =AR18*C18 -> 0 | AT18: 15 | AU18: =AT18*C18 -> 1.65 | AW18: =AV18*C18 -> 0 | AX18: 40 | AY18: =AX18*C18 -> 4.4 | AZ18: 30 | BA18: =AZ18*C18 -> 3.3 | BB18: 30 | BC18: =BB18*E18 -> 0 | BD18: 30 | BE18: =BD18*C18 -> 3.3 | BF18: 0 | BG18: =BF18*C18 -> 0 | BH18: 100 | BI18: =BH18*C18 -> 11 | BJ18: 100 | BK18: =BJ18*C18 -> 11
A19: 12 | B19: Saco para lixo 30 litros – unidades | C19: 0.26 | D19: 100 | E19: =C19*D19 -> 26 | F19: 100 | G19: =C19*F19 -> 26 | H19: 100 | I19: =C19*H19 -> 26 | J19: 100 | K19: =J19*C19 -> 26 | L19: 100 | M19: =L19*C19 -> 26 | N19: 100 | O19: =N19*C19 -> 26 | P19: 100 | Q19: =P19*C19 -> 26 | R19: 100 | S19: =R19*C19 -> 26 | T19: 0 | U19: =T19*C19 -> 0 | V19: 100 | W19: =V19*C19 -> 26 | X19: 200 | Y19: =X19*C19 -> 52 | Z19: 100 | AA19: =Z19*C19 -> 26 | AB19: 100 | AC19: =AB19*C19 -> 26 | AD19: 100 | AE19: =AD19*C19 -> 26 | AF19: 100 | AG19: =AF19*C19 -> 26 | AH19: 200 | AI19: =C19*AH19 -> 52 | AJ19: 200 | AK19: =AJ19*C19 -> 52 | AL19: 100 | AM19: =AL19*C19 -> 26 | AN19: 50 | AO19: =AN19*C19 -> 13 | AP19: 40 | AQ19: =AP19*C19 -> 10.4 | AR19: 50 | AS19: =AR19*C19 -> 13 | AT19: 30 | AU19: =AT19*C19 -> 7.8 | AV19: 100 | AW19: =AV19*C19 -> 26 | AX19: 0 | AY19: =AX19*C19 -> 0 | AZ19: 0 | BA19: =AZ19*C19 -> 0 | BB19: 30 | BC19: =BB19*C19 -> 7.8 | BD19: 15 | BE19: =BD19*C19 -> 3.9 | BF19: 100 | BG19: =BF19*C19 -> 26 | BH19: 0 | BI19: =BH19*C19 -> 0 | BJ19: 0 | BK19: =BJ19*C19 -> 0
A20: 13 | B20: Saco para lixo 50 litros – unidades | C20: 0.41 | D20: 200 | E20: =C20*D20 -> 82 | F20: 200 | G20: =C20*F20 -> 82 | H20: 100 | I20: =C20*H20 -> 41 | J20: 200 | K20: =J20*C20 -> 82 | L20: 100 | M20: =L20*C20 -> 41 | N20: 200 | O20: =N20*C20 -> 82 | P20: 200 | Q20: =P20*C20 -> 82 | R20: 200 | S20: =R20*C20 -> 82 | T20: 0 | U20: =T20*C20 -> 0 | V20: 200 | W20: =V20*C20 -> 82 | X20: 300 | Y20: =X20*C20 -> 123 | Z20: 200 | AA20: =Z20*C20 -> 82 | AB20: 200 | AC20: =AB20*C20 -> 82 | AD20: 600 | AE20: =AD20*C20 -> 246 | AF20: 200 | AG20: =AF20*C20 -> 82 | AH20: 200 | AI20: =C20*AH20 -> 82 | AJ20: 300 | AK20: =AJ20*C20 -> 123 | AM20: =AL20*C20 -> 0 | AN20: 50 | AO20: =AN20*C20 -> 20.5 | AP20: 60 | AQ20: =AP20*C20 -> 24.6 | AR20: 50 | AS20: =AR20*C20 -> 20.5 | AT20: 10 | AU20: =AT20*C20 -> 4.1 | AV20: 150 | AW20: =AV20*C20 -> 61.5 | AX20: 50 | AY20: =AX20*C20 -> 20.5 | BA20: =AZ20*C20 -> 0 | BB20: 50 | BC20: =BB20*C20 -> 20.5 | BD20: 15 | BE20: =BD20*C20 -> 6.15 | BF20: 100 | BG20: =BF20*C20 -> 41 | BH20: 0 | BI20: =BH20*C20 -> 0 | BJ20: 0 | BK20: =BJ20*C20 -> 0
A21: 14 | B21: Saco para lixo 100 litros (de 8 micras) – unidades | C21: 0.43 | D21: 200 | E21: =C21*D21 -> 86 | F21: 200 | G21: =C21*F21 -> 86 | H21: 100 | I21: =C21*H21 -> 43 | J21: 200 | K21: =J21*C21 -> 86 | L21: 100 | M21: =L21*C21 -> 43 | N21: 200 | O21: =N21*C21 -> 86 | P21: 200 | Q21: =P21*C21 -> 86 | R21: 200 | S21: =R21*C21 -> 86 | T21: 0 | U21: =T21*C21 -> 0 | V21: 200 | W21: =V21*C21 -> 86 | X21: 400 | Y21: =X21*C21 -> 172 | Z21: 200 | AA21: =Z21*C21 -> 86 | AB21: 200 | AC21: =AB21*C21 -> 86 | AD21: 400 | AE21: =AD21*C21 -> 172 | AF21: 100 | AG21: =AF21*C21 -> 43 | AH21: 400 | AI21: =C21*AH21 -> 172 | AJ21: 400 | AK21: =AJ21*C21 -> 172 | AL21: 100 | AM21: =AL21*C21 -> 43 | AN21: 50 | AO21: =AN21*C21 -> 21.5 | AP21: 40 | AQ21: =AP21*C21 -> 17.2 | AR21: 50 | AS21: =AR21*C21 -> 21.5 | AT21: 20 | AU21: =AT21*C21 -> 8.6 | AV21: 100 | AW21: =AV21*C21 -> 43 | AX21: 50 | AY21: =AX21*C21 -> 21.5 | AZ21: 10 | BA21: =AZ21*C21 -> 4.3 | BB21: 50 | BC21: =BB21*C21 -> 21.5 | BD21: 15 | BE21: =BD21*C21 -> 6.45 | BF21: 100 | BG21: =BF21*C21 -> 43 | BH21: 0 | BI21: =BH21*C21 -> 0 | BJ21: 0 | BK21: =BJ21*C21 -> 0
A22: 15 | B22: Multiuso 500 ml - unidades COMPOSIÇÃO: ALQUIL BENZENO SULFONATO DE SÓDIO, LAURAMINA ÓXIDA, ALCALINIZANTE, COADJUVANTES, CONSERVANTE, AGENTES DE CONTROLE DE pH, FRAGRÂNCIAS, ÁGUA | C22: 3.01 | D22: 15 | E22: =C22*D22 -> 45.15 | F22: 10 | G22: =C22*F22 -> 30.1 | H22: 5 | I22: =C22*H22 -> 15.05 | J22: 15 | K22: =J22*C22 -> 45.15 | L22: 5 | M22: =L22*C22 -> 15.05 | N22: 15 | O22: =N22*C22 -> 45.15 | P22: 15 | Q22: =P22*C22 -> 45.15 | R22: 15 | S22: =R22*C22 -> 45.15 | T22: 5 | U22: =T22*C22 -> 15.05 | V22: 10 | W22: =V22*C22 -> 30.1 | X22: 20 | Y22: =X22*C22 -> 60.2 | Z22: 5 | AA22: =Z22*C22 -> 15.05 | AB22: 5 | AC22: =AB22*C22 -> 15.05 | AD22: 20 | AE22: =AD22*C22 -> 60.2 | AF22: 5 | AG22: =AF22*C22 -> 15.05 | AH22: 20 | AI22: =C22*AH22 -> 60.2 | AJ22: 15 | AK22: =AJ22*C22 -> 45.15 | AL22: 10 | AM22: =AL22*C22 -> 30.1 | AN22: 10 | AO22: =AN22*C22 -> 30.1 | AP22: 6 | AQ22: =AP22*C22 -> 18.06 | AR22: 5 | AS22: =AR22*C22 -> 15.05 | AT22: 15 | AU22: =AT22*C22 -> 45.15 | AV22: 15 | AW22: =AV22*C22 -> 45.15 | AX22: 15 | AY22: =AX22*C22 -> 45.15 | AZ22: 5 | BA22: =AZ22*C22 -> 15.05 | BB22: 10 | BC22: =BB22*C22 -> 30.1 | BD22: 6 | BE22: =BD22*C22 -> 18.06 | BF22: 8 | BG22: =BF22*C22 -> 24.08 | BH22: 5 | BI22: =BH22*C22 -> 15.05 | BJ22: 5 | BK22: =BJ22*C22 -> 15.05
A23: 16 | B23: Sabão em pó – 800 gr | C23: 7.17 | D23: 15 | E23: =C23*D23 -> 107.55 | F23: 15 | G23: =C23*F23 -> 107.55 | H23: 5 | I23: =C23*H23 -> 35.85 | J23: 5 | K23: =J23*C23 -> 35.85 | L23: 3 | M23: =L23*C23 -> 21.51 | N23: 8 | O23: =N23*C23 -> 57.36 | P23: 5 | Q23: =P23*C23 -> 35.85 | R23: 8 | S23: =R23*C23 -> 57.36 | T23: 2 | U23: =T23*C23 -> 14.34 | V23: 6 | W23: =V23*C23 -> 43.02 | X23: 0 | Y23: =X23*C23 -> 0 | Z23: 0 | AA23: =Z23*C23 -> 0 | AB23: 0 | AC23: =AB23*C23 -> 0 | AD23: 0 | AE23: =AD23*C23 -> 0 | AF23: 0 | AG23: =AF23*C23 -> 0 | AH23: 0 | AI23: =C23*AH23 -> 0 | AJ23: 0 | AK23: =AJ23*C23 -> 0 | AL23: 2 | AM23: =AL23*C23 -> 14.34 | AN23: 5 | AO23: =AN23*C23 -> 35.85 | AP23: 5 | AQ23: =AP23*C23 -> 35.85 | AR23: 1 | AS23: =AR23*C23 -> 7.17 | AT23: 5 | AU23: =AT23*C23 -> 35.85 | AV23: 2 | AW23: =AV23*C23 -> 14.34 | AX23: 3 | AY23: =AX23*C23 -> 21.51 | AZ23: 5 | BA23: =AZ23*C23 -> 35.85 | BB23: 3 | BC23: =BB23*C23 -> 21.51 | BD23: 5 | BE23: =BD23*C23 -> 35.85 | BF23: 8 | BG23: =BF23*C23 -> 57.36 | BH23: 2 | BI23: =BH23*C23 -> 14.34 | BJ23: 2 | BK23: =BJ23*C23 -> 14.34
A24: 17 | B24: Álcool 46% - litros | C24: 8.21 | D24: 0 | E24: =C24*D24 -> 0 | F24: 0 | G24: =C24*F24 -> 0 | H24: 0 | I24: =C24*H24 -> 0 | J24: 0 | K24: =J24*C24 -> 0 | L24: 0 | M24: =L24*C24 -> 0 | N24: 0 | O24: =N24*C24 -> 0 | P24: 0 | Q24: =P24*C24 -> 0 | R24: 0 | S24: =R24*C24 -> 0 | T24: 0 | U24: =T24*C24 -> 0 | V24: 0 | W24: =V24*C24 -> 0 | X24: 5 | Y24: =X24*C24 -> 41.05 | Z24: 2 | AA24: =Z24*C24 -> 16.42 | AB24: 2 | AC24: =AB24*C24 -> 16.42 | AD24: 10 | AE24: =AD24*C24 -> 82.1 | AF24: 8 | AG24: =AF24*C24 -> 65.68 | AH24: 8 | AI24: =C24*AH24 -> 65.68 | AJ24: 25 | AK24: =AJ24*C24 -> 205.25 | AL24: 2 | AM24: =AL24*C24 -> 16.42 | AN24: 10 | AO24: =AN24*C24 -> 82.1 | AP24: 5 | AQ24: =AP24*C24 -> 41.05 | AR24: 7 | AS24: =AR24*C24 -> 57.47 | AT24: 3 | AU24: =AT24*C24 -> 24.63 | AV24: 8 | AW24: =AV24*C24 -> 65.68 | AX24: 10 | AY24: =AX24*C24 -> 82.1 | AZ24: 5 | BA24: =AZ24*C24 -> 41.05 | BB24: 6 | BC24: =BB24*E24 -> 0 | BD24: 5 | BE24: =BD24*C24 -> 41.05 | BF24: 0 | BG24: =BF24*C24 -> 0 | BH24: 2 | BI24: =BH24*C24 -> 16.42 | BJ24: 2 | BK24: =BJ24*C24 -> 16.42
A25: 18 | B25: Amaciante - litros | C25: 2.43 | D25: 30 | E25: =C25*D25 -> 72.9 | F25: 30 | G25: =C25*F25 -> 72.9 | H25: 0 | I25: =C25*H25 -> 0 | J25: 0 | K25: =J25*C25 -> 0 | L25: 0 | M25: =L25*C25 -> 0 | N25: 0 | O25: =N25*C25 -> 0 | P25: 0 | Q25: =P25*C25 -> 0 | S25: =R25*C25 -> 0 | T25: 0 | U25: =T25*C25 -> 0 | V25: 0 | W25: =V25*C25 -> 0 | X25: 0 | Y25: =X25*C25 -> 0 | Z25: 0 | AA25: =Z25*C25 -> 0 | AB25: 0 | AC25: =AB25*C25 -> 0 | AD25: 0 | AE25: =AD25*C25 -> 0 | AF25: 0 | AG25: =AF25*C25 -> 0 | AH25: 0 | AI25: =C25*AH25 -> 0 | AJ25: 0 | AK25: =AJ25*C25 -> 0 | AL25: 1 | AM25: =AL25*C25 -> 2.43 | AN25: 5 | AO25: =AN25*C25 -> 12.15 | AP25: 1 | AQ25: =AP25*C25 -> 2.43 | AS25: =AR25*C25 -> 0 | AT25: 0 | AU25: =AT25*C25 -> 0 | AW25: =AV25*C25 -> 0 | AY25: =AX25*C25 -> 0 | AZ25: 2 | BA25: =AZ25*C25 -> 4.86 | BB25: 0 | BC25: =BB25*E25 -> 0 | BD25: 2 | BE25: =BD25*C25 -> 4.86 | BF25: 20 | BG25: =BF25*C25 -> 48.6 | BH25: 0 | BI25: =BH25*C25 -> 0 | BJ25: 0 | BK25: =BJ25*C25 -> 0
A26: 19 | B26: Limpa Vidros 500 ml | C26: 3.21 | D26: 0 | E26: =C26*D26 -> 0 | F26: 0 | G26: =C26*F26 -> 0 | H26: 0 | I26: =C26*H26 -> 0 | J26: 0 | K26: =J26*C26 -> 0 | L26: 0 | M26: =L26*C26 -> 0 | N26: 0 | O26: =N26*C26 -> 0 | P26: 0 | Q26: =P26*C26 -> 0 | S26: =R26*C26 -> 0 | T26: 0 | U26: =T26*C26 -> 0 | V26: 0 | W26: =V26*C26 -> 0 | X26: 5 | Y26: =X26*C26 -> 16.05 | Z26: 2 | AA26: =Z26*C26 -> 6.42 | AB26: 5 | AC26: =AB26*C26 -> 16.05 | AD26: 10 | AE26: =AD26*C26 -> 32.1 | AF26: 5 | AG26: =AF26*C26 -> 16.05 | AH26: 10 | AI26: =C26*AH26 -> 32.1 | AJ26: 5 | AK26: =AJ26*C26 -> 16.05 | AL26: 1 | AM26: =AL26*C26 -> 3.21 | AN26: 3 | AO26: =AN26*C26 -> 9.63 | AP26: 5 | AQ26: =AP26*C26 -> 16.05 | AR26: 1 | AS26: =AR26*C26 -> 3.21 | AT26: 2 | AU26: =AT26*C26 -> 6.42 | AV26: 2 | AW26: =AV26*C26 -> 6.42 | AX26: 1 | AY26: =AX26*C26 -> 3.21 | AZ26: 5 | BA26: =AZ26*C26 -> 16.05 | BB26: 3 | BC26: =BB26*E26 -> 0 | BD26: 5 | BE26: =BD26*GG26 -> 0 | BF26: 0 | BG26: =BF26*BA26 -> 0 | BH26: 2 | BI26: =BH26*C26 -> 6.42 | BJ26: 2 | BK26: =BJ26*C26 -> 6.42
A27: 20 | B27: Flanela Branca 29x39 - unidades | C27: 1.98 | D27: 0 | E27: =C27*D27 -> 0 | F27: 0 | G27: =C27*F27 -> 0 | H27: 0 | I27: =C27*H27 -> 0 | J27: 0 | K27: =J27*C27 -> 0 | L27: 0 | M27: =L27*C27 -> 0 | N27: 0 | O27: =N27*C27 -> 0 | P27: 0 | Q27: =P27*C27 -> 0 | S27: =R27*C27 -> 0 | T27: 1 | U27: =T27*C27 -> 1.98 | V27: 0 | W27: =V27*C27 -> 0 | X27: 3 | Y27: =X27*C27 -> 5.94 | Z27: 5 | AA27: =Z27*C27 -> 9.9 | AB27: 5 | AC27: =AB27*C27 -> 9.9 | AD27: 5 | AE27: =AD27*C27 -> 9.9 | AF27: 5 | AG27: =AF27*C27 -> 9.9 | AH27: 5 | AI27: =C27*AH27 -> 9.9 | AJ27: 25 | AK27: =AJ27*C27 -> 49.5 | AL27: 5 | AM27: =AL27*C27 -> 9.9 | AN27: 5 | AO27: =AN27*C27 -> 9.9 | AP27: 8 | AQ27: =AP27*C27 -> 15.84 | AR27: 3 | AS27: =AR27*C27 -> 5.94 | AT27: 5 | AU27: =AT27*C27 -> 9.9 | AV27: 10 | AW27: =AV27*C27 -> 19.8 | AX27: 0 | AY27: =AX27*C27 -> 0 | AZ27: 5 | BA27: =AZ27*C27 -> 9.9 | BB27: 3 | BC27: =BB27*E27 -> 0 | BD27: 5 | BE27: =BD27*G27 -> 0 | BF27: 0 | BG27: =BF27*BA27 -> 0 | BH27: 2 | BI27: =BH27*C27 -> 3.96 | BJ27: 2 | BK27: =BJ27*C27 -> 3.96
A28: 21 | B28: Saco alvejado algodão 60x80 cm - unida | C28: 11.51 | D28: 0 | E28: =C28*D28 -> 0 | F28: 0 | G28: =C28*F28 -> 0 | H28: 0 | I28: =C28*H28 -> 0 | J28: 0 | K28: =J28*C28 -> 0 | L28: 0 | M28: =L28*C28 -> 0 | N28: 0 | O28: =N28*C28 -> 0 | P28: 0 | Q28: =P28*C28 -> 0 | S28: =R28*C28 -> 0 | T28: 0 | U28: =T28*C28 -> 0 | V28: 0 | W28: =V28*C28 -> 0 | X28: 3 | Y28: =X28*C28 -> 34.53 | Z28: 3 | AA28: =Z28*C28 -> 34.53 | AB28: 3 | AC28: =AB28*C28 -> 34.53 | AD28: 3 | AE28: =AD28*C28 -> 34.53 | AF28: 3 | AG28: =AF28*C28 -> 34.53 | AH28: 3 | AI28: =C28*AH28 -> 34.53 | AJ28: 15 | AK28: =AJ28*C28 -> 172.65 | AL28: 0 | AM28: =AL28*C28 -> 0 | AN28: 2 | AO28: =AN28*C28 -> 23.02 | AP28: 8 | AQ28: =AP28*C28 -> 92.08 | AS28: =AR28*C28 -> 0 | AT28: 4 | AU28: =AT28*C28 -> 46.04 | AW28: =AV28*C28 -> 0 | AX28: 0 | AY28: =AX28*C28 -> 0 | BA28: =AZ28*C28 -> 0 | BB28: 5 | BC28: =BB28*E28 -> 0 | BD28: 2 | BE28: =BD28*G28 -> 0 | BF28: 0 | BG28: =BF28*BA28 -> 0 | BH28: 0 | BI28: =BH28*C28 -> 0 | BJ28: 0 | BK28: =BJ28*C28 -> 0
A29: 22 | B29: Saco para lixo 100 litros azul - unidade | C29: 0.79 | D29: 0 | E29: =C29*D29 -> 0 | F29: 0 | G29: =C29*F29 -> 0 | H29: 0 | I29: =C29*H29 -> 0 | J29: 0 | K29: =J29*C29 -> 0 | L29: 0 | M29: =L29*C29 -> 0 | N29: 0 | O29: =N29*C29 -> 0 | P29: 0 | Q29: =P29*C29 -> 0 | S29: =R29*C29 -> 0 | T29: 0 | U29: =T29*C29 -> 0 | V29: 0 | W29: =V29*C29 -> 0 | X29: 20 | Y29: =X29*C29 -> 15.8 | Z29: 10 | AA29: =Z29*C29 -> 7.9 | AB29: 10 | AC29: =AB29*C29 -> 7.9 | AD29: 10 | AE29: =AD29*C29 -> 7.9 | AF29: 10 | AG29: =AF29*C29 -> 7.9 | AH29: 20 | AI29: =C29*AH29 -> 15.8 | AJ29: 10 | AK29: =AJ29*C29 -> 7.9 | AL29: 0 | AM29: =AL29*C29 -> 0 | AN29: 50 | AO29: =AN29*C29 -> 39.5 | AP29: 0 | AQ29: =AP29*C29 -> 0 | AS29: =AR29*C29 -> 0 | AT29: 0 | AU29: =AT29*C29 -> 0 | AW29: =AV29*C29 -> 0 | AX29: 0 | AY29: =AX29*C29 -> 0 | BA29: =AZ29*C29 -> 0 | BB29: 30 | BC29: =BB29*E29 -> 0 | BD29: 10 | BE29: =BD29*G29 -> 0 | BF29: 0 | BG29: =BF29*BA29 -> 0 | BH29: 0 | BI29: =BH29*C29 -> 0 | BJ29: 0 | BK29: =BJ29*C29 -> 0
A30: 23 | B30: Detergente 500 ml - unidades | C30: 1.84 | D30: 0 | E30: =C30*D30 -> 0 | F30: 0 | G30: =C30*F30 -> 0 | H30: 0 | I30: =C30*H30 -> 0 | J30: 0 | K30: =J30*C30 -> 0 | L30: 0 | M30: =L30*C30 -> 0 | N30: 0 | O30: =N30*C30 -> 0 | P30: 0 | Q30: =P30*C30 -> 0 | S30: =R30*C30 -> 0 | T30: 0 | U30: =T30*C30 -> 0 | V30: 0 | W30: =V30*C30 -> 0 | X30: 15 | Y30: =X30*C30 -> 27.6 | Z30: 5 | AA30: =Z30*C30 -> 9.2 | AB30: 5 | AC30: =AB30*C30 -> 9.2 | AD30: 20 | AE30: =AD30*C30 -> 36.8 | AF30: 10 | AG30: =AF30*C30 -> 18.4 | AH30: 20 | AI30: =C30*AH30 -> 36.8 | AJ30: 20 | AK30: =AJ30*C30 -> 36.8 | AL30: 15 | AM30: =AL30*C30 -> 27.6 | AN30: 7 | AO30: =AN30*C30 -> 12.88 | AP30: 12 | AQ30: =AP30*C30 -> 22.08 | AS30: =AR30*C30 -> 0 | AT30: 7 | AU30: =AT30*C30 -> 12.88 | AV30: 10 | AW30: =AV30*C30 -> 18.4 | AX30: 0 | AY30: =AX30*C30 -> 0 | BA30: =AZ30*C30 -> 0 | BB30: 5 | BC30: =BB30*E30 -> 0 | BD30: 7 | BE30: =BD30*G30 -> 0 | BF30: 0 | BG30: =BF30*BA30 -> 0 | BH30: 6 | BI30: =BH30*C30 -> 11.04 | BJ30: 6 | BK30: =BJ30*C30 -> 11.04
A31: 24 | B31: Pedra Sanitária - unidade | C31: 1.68 | D31: 0 | E31: =C31*D31 -> 0 | F31: 0 | G31: =C31*F31 -> 0 | H31: 0 | I31: =C31*H31 -> 0 | J31: 0 | K31: =J31*C31 -> 0 | L31: 0 | M31: =L31*C31 -> 0 | N31: 0 | O31: =N31*C31 -> 0 | P31: 0 | Q31: =P31*C31 -> 0 | S31: =R31*C31 -> 0 | T31: 0 | U31: =T31*C31 -> 0 | V31: 0 | W31: =V31*C31 -> 0 | X31: 0 | Y31: =X31*C31 -> 0 | Z31: 0 | AA31: =Z31*C31 -> 0 | AB31: 0 | AC31: =AB31*C31 -> 0 | AD31: 0 | AE31: =AD31*C31 -> 0 | AF31: 0 | AG31: =AF31*C31 -> 0 | AH31: 0 | AI31: =C31*AH31 -> 0 | AJ31: 0 | AK31: =AJ31*C31 -> 0 | AL31: 20 | AM31: =AL31*C31 -> 33.6 | AN31: 10 | AO31: =AN31*C31 -> 16.8 | AP31: 8 | AQ31: =AP31*C31 -> 13.44 | AR31: 7 | AS31: =AR31*C31 -> 11.76 | AT31: 15 | AU31: =AT31*C31 -> 25.2 | AV31: 20 | AW31: =AV31*C31 -> 33.6 | AX31: 20 | AY31: =AX31*C31 -> 33.6 | AZ31: 5 | BA31: =AZ31*C31 -> 8.4 | BB31: 5 | BC31: =BB31*E31 -> 0 | BD31: 5 | BE31: =BD31*G31 -> 0 | BF31: 0 | BG31: =BF31*BA31 -> 0 | BH31: 6 | BI31: =BH31*C31 -> 10.08 | BJ31: 6 | BK31: =BJ31*C31 -> 10.08
A32: 25 | B32: Cera incolor - 1000 ml - unidade | C32: 7.85 | D32: 0 | E32: =C32*D32 -> 0 | F32: 0 | G32: =C32*F32 -> 0 | H32: 0 | I32: =C32*H32 -> 0 | J32: 0 | K32: =J32*C32 -> 0 | L32: 0 | M32: =L32*C32 -> 0 | N32: 0 | O32: =N32*C32 -> 0 | P32: 0 | Q32: =P32*C32 -> 0 | S32: =R32*C32 -> 0 | T32: 0 | U32: =T32*C32 -> 0 | V32: 0 | W32: =V32*C32 -> 0 | X32: 0 | Y32: =X32*C32 -> 0 | Z32: 0 | AA32: =Z32*C32 -> 0 | AB32: 0 | AC32: =AB32*C32 -> 0 | AD32: 0 | AE32: =AD32*C32 -> 0 | AF32: 0 | AG32: =AF32*C32 -> 0 | AH32: 0 | AI32: =C32*AH32 -> 0 | AJ32: 0 | AK32: =AJ32*C32 -> 0 | AL32: 4 | AM32: =AL32*C32 -> 31.4 | AN32: 0 | AO32: =AN32*C32 -> 0 | AP32: 0 | AQ32: =AP32*C32 -> 0 | AS32: =AR32*C32 -> 0 | AT32: 0 | AU32: =AT32*C32 -> 0 | AV32: 8 | AW32: =AV32*C32 -> 62.8 | AX32: 0 | AY32: =AX32*C32 -> 0 | BA32: =AZ32*C32 -> 0 | BC32: =BB32*E32 -> 0 | BD32: 6 | BE32: =BD32*G32 -> 0 | BF32: 0 | BG32: =BF32*BA32 -> 0 | BH32: 0 | BI32: =BH32*C32 -> 0 | BJ32: 0 | BK32: =BJ32*C32 -> 0
A33: 26 | B33: Saponáceo liquido com 300 ml - unid | C33: 3.99 | D33: 0 | E33: =C33*D33 -> 0 | F33: 0 | G33: =C33*F33 -> 0 | H33: 0 | I33: =C33*H33 -> 0 | J33: 0 | K33: =J33*C33 -> 0 | L33: 0 | M33: =L33*C33 -> 0 | N33: 0 | O33: =N33*C33 -> 0 | P33: 0 | Q33: =P33*C33 -> 0 | S33: =R33*C33 -> 0 | T33: 0 | U33: =T33*C33 -> 0 | V33: 0 | W33: =V33*C33 -> 0 | X33: 5 | Y33: =X33*C33 -> 19.95 | Z33: 2 | AA33: =Z33*C33 -> 7.98 | AB33: 2 | AC33: =AB33*C33 -> 7.98 | AD33: 5 | AE33: =AD33*C33 -> 19.95 | AF33: 5 | AG33: =AF33*C33 -> 19.95 | AH33: 5 | AI33: =C33*AH33 -> 19.95 | AJ33: 10 | AK33: =AJ33*C33 -> 39.9 | AL33: 2 | AM33: =AL33*C33 -> 7.98 | AN33: 3 | AO33: =AN33*C33 -> 11.97 | AP33: 1 | AQ33: =AP33*C33 -> 3.99 | AR33: 2 | AS33: =AR33*C33 -> 7.98 | AT33: 0 | AU33: =AT33*C33 -> 0 | AV33: 8 | AW33: =AV33*C33 -> 31.92 | AX33: 8 | AY33: =AX33*C33 -> 31.92 | AZ33: 2 | BA33: =AZ33*C33 -> 7.98 | BB33: 2 | BC33: =BB33*E33 -> 0 | BD33: 2 | BE33: =BD33*G33 -> 0 | BF33: 0 | BG33: =BF33*BA33 -> 0 | BH33: 2 | BI33: =BH33*C33 -> 7.98 | BJ33: 2 | BK33: =BJ33*C33 -> 7.98
A34: 27 | B34: Saco de pano sem alvejar | C34: 5.81 | D34: 0 | E34: =C34*D34 -> 0 | F34: 0 | G34: =C34*F34 -> 0 | H34: 0 | I34: =C34*H34 -> 0 | J34: 0 | K34: =J34*C34 -> 0 | L34: 0 | M34: =L34*C34 -> 0 | N34: 0 | O34: =N34*C34 -> 0 | P34: 0 | Q34: =P34*C34 -> 0 | S34: =R34*C34 -> 0 | T34: 0 | U34: =T34*C34 -> 0 | V34: 0 | W34: =V34*C34 -> 0 | X34: 0 | Y34: =X34*C34 -> 0 | Z34: 0 | AA34: =Z34*C34 -> 0 | AB34: 0 | AC34: =AB34*C34 -> 0 | AD34: 0 | AE34: =AD34*C34 -> 0 | AF34: 0 | AG34: =AF34*C34 -> 0 | AH34: 0 | AI34: =C34*AH34 -> 0 | AJ34: 0 | AK34: =AJ34*C34 -> 0 | AL34: 6 | AM34: =AL34*C34 -> 34.86 | AN34: 2 | AO34: =AN34*C34 -> 11.62 | AP34: 5 | AQ34: =AP34*C34 -> 29.05 | AR34: 1 | AS34: =AR34*C34 -> 5.81 | AT34: 0 | AU34: =AT34*C34 -> 0 | AV34: 10 | AW34: =AV34*C34 -> 58.1 | AX34: 0 | AY34: =AX34*C34 -> 0 | AZ34: 2 | BA34: =AZ34*C34 -> 11.62 | BB34: 2 | BC34: =BB34*E34 -> 0 | BD34: 2 | BE34: =BD34*G34 -> 0 | BF34: 0 | BG34: =BF34*BA34 -> 0 | BH34: 1 | BI34: =BH34*C34 -> 5.81 | BJ34: 1 | BK34: =BJ34*C34 -> 5.81
A35: 28 | B35: Água Sanitária Composição: Princípio Ativo, Estabilizante e Água.Princípio ativo: Hipoclorito de Sódio.Teor de cloro ativo de 2,0% a 2,5% p/p.PRODUTO À BASE DE CLORO - 5 litros | C35: 17.52 | D35: 10 | E35: =D35*C35 -> 175.2 | F35: 10 | G35: =F35*C35 -> 175.2 | H35: 5 | I35: =H35*C35 -> 87.6 | J35: 5 | K35: =J35*C35 -> 87.6 | L35: 5 | M35: =L35*C35 -> 87.6 | N35: 10 | O35: =N35*C35 -> 175.2 | P35: 10 | Q35: =P35*C35 -> 175.2 | R35: 5 | S35: =R35*C35 -> 87.6 | T35: 1 | U35: =T35*C35 -> 17.52 | V35: 2 | W35: =V35*C35 -> 35.04 | X35: 5 | Y35: =X35*C35 -> 87.6 | Z35: 2 | AA35: =Z35*C35 -> 35.04 | AB35: 2 | AC35: =AB35*C35 -> 35.04 | AD35: 5 | AE35: =AD35*C35 -> 87.6 | AF35: 4 | AG35: =AF35*C35 -> 70.08 | AH35: 5 | AI35: =C35*AH35 -> 87.6 | AJ35: 5 | AK35: =AJ35*C35 -> 87.6 | AM35: =AL35*C35 -> 0 | AO35: =AN35*C35 -> 0 | AQ35: =AP35*C35 -> 0 | AS35: =AR35*C35 -> 0 | AU35: =AT35*C35 -> 0 | AW35: =AV35*C35 -> 0 | AY35: =AX35*C35 -> 0 | BA35: =AZ35*C35 -> 0 | BB35: 10 | BC35: =BB35*C35 -> 175.2 | BE35: =BD35*G35 -> 0 | BF35: 8 | BG35: =BF35*BA35 -> 0 | BH35: 0 | BI35: =BH35*C35 -> 0 | BJ35: 0 | BK35: =BJ35*C35 -> 0
A36: 29 | B36: Desinfetante hospitalar para superfícies fixas e artigos não criticos limpeza pesada com cloreto de benzil alquil dimetil amônio/cloreto de didecil dimetilamônio - 5 litros | C36: 68.98 | D36: 0 | E36: =D36*C36 -> 0 | F36: 0 | G36: =F36*C36 -> 0 | I36: =H36*C36 -> 0 | K36: =J36*C36 -> 0 | M36: =L36*C36 -> 0 | O36: =N36*C36 -> 0 | Q36: =P36*C36 -> 0 | S36: =R36*C36 -> 0 | U36: =T36*C36 -> 0 | W36: =V36*C36 -> 0 | X36: 6 | Y36: =X36*C36 -> 413.88 | Z36: 2 | AA36: =Z36*C36 -> 137.96 | AB36: 2 | AC36: =AB36*C36 -> 137.96 | AD36: 5 | AE36: =AD36*C36 -> 344.9 | AF36: 4 | AG36: =AF36*C36 -> 275.92 | AH36: 5 | AI36: =C36*AH36 -> 344.9 | AJ36: 10 | AK36: =AJ36*C36 -> 689.8 | AM36: =AL36*C36 -> 0 | AO36: =AN36*C36 -> 0 | AQ36: =AP36*C36 -> 0 | AS36: =AR36*C36 -> 0 | AU36: =AT36*C36 -> 0 | AW36: =AV36*C36 -> 0 | AY36: =AX36*C36 -> 0 | BA36: =AZ36*C36 -> 0 | BC36: =BB36*E36 -> 0 | BE36: =BD36*G36 -> 0 | BG36: =BF36*BA36 -> 0 | BI36: =BH36*C36 -> 0 | BK36: =BJ36*C36 -> 0
A37: 30 | B37: Desinfetante branqueador Ingrediente ativo: hipoclorito de sódio 2,5%. Podendo chegar até 1% de cloro ativo após 12 meses, sem comprometer a eficáciado produto. Composição: ingrediente ativo, hidróxido de sódio, coadjuvante, fragrância e água, 500ml | C37: 12.98 | D37: 0 | E37: =D37*C37 -> 0 | F37: 0 | G37: =F37*C37 -> 0 | I37: =H37*C37 -> 0 | K37: =J37*C37 -> 0 | M37: =L37*C37 -> 0 | O37: =N37*C37 -> 0 | Q37: =P37*C37 -> 0 | S37: =R37*C37 -> 0 | U37: =T37*C37 -> 0 | W37: =V37*C37 -> 0 | X37: 5 | Y37: =X37*C37 -> 64.9 | Z37: 2 | AA37: =Z37*C37 -> 25.96 | AB37: 2 | AC37: =AB37*C37 -> 25.96 | AD37: 10 | AE37: =AD37*C37 -> 129.8 | AF37: 5 | AG37: =AF37*C37 -> 64.9 | AH37: 10 | AI37: =C37*AH37 -> 129.8 | AJ37: 15 | AK37: =AJ37*C37 -> 194.7 | AM37: =AL37*C37 -> 0 | AO37: =AN37*C37 -> 0 | AQ37: =AP37*C37 -> 0 | AS37: =AR37*C37 -> 0 | AU37: =AT37*C37 -> 0 | AW37: =AV37*C37 -> 0 | AY37: =AX37*C37 -> 0 | BA37: =AZ37*C37 -> 0 | BC37: =BB37*E37 -> 0 | BE37: =BD37*G37 -> 0 | BG37: =BF37*BA37 -> 0 | BI37: =BH37*C37 -> 0 | BK37: =BJ37*C37 -> 0
A38: 31 | B38: Carrinho funcional completo para tarefas de higiene e transporte de resíduos. Balde espremedor para duas águas; uma pá plástica para lixo; uma placa de sinalização de piso molhado; (SISTEMA COMODATO com remuneração mensal) Valor do equipamento dividido por 36 meses | C38: 37.72 | D38: 0 | E38: =D38*C38 -> 0 | F38: 0 | G38: =F38*C38 -> 0 | I38: =H38*C38 -> 0 | K38: =J38*C38 -> 0 | M38: =L38*C38 -> 0 | O38: =N38*C38 -> 0 | Q38: =P38*C38 -> 0 | S38: =R38*C38 -> 0 | U38: =T38*C38 -> 0 | W38: =V38*C38 -> 0 | X38: 2 | Y38: =X38*C38 -> 75.44 | Z38: 1 | AA38: =Z38*C38 -> 37.72 | AB38: 1 | AC38: =AB38*C38 -> 37.72 | AD38: 1 | AE38: =AD38*C38 -> 37.72 | AF38: 1 | AG38: =AF38*C38 -> 37.72 | AH38: 1 | AI38: =C38*AH38 -> 37.72 | AJ38: 1 | AK38: =AJ38*C38 -> 37.72 | AM38: =AL38*C38 -> 0 | AO38: =AN38*C38 -> 0 | AQ38: =AP38*C38 -> 0 | AS38: =AR38*C38 -> 0 | AU38: =AT38*C38 -> 0 | AW38: =AV38*C38 -> 0 | AY38: =AX38*C38 -> 0 | BA38: =AZ38*C38 -> 0 | BC38: =BB38*E38 -> 0 | BE38: =BD38*G38 -> 0 | BG38: =BF38*BA38 -> 0 | BI38: =BH38*C38 -> 0 | BK38: =BJ38*C38 -> 0
A39: 32 | B39: Sabão liquido - INDICADO PARA USO HOSPITALAR - 5 litros | C39: 78.08 | D39: 0 | E39: =D39*C39 -> 0 | F39: 0 | G39: =F39*C39 -> 0 | I39: =H39*C39 -> 0 | K39: =J39*C39 -> 0 | M39: =L39*C39 -> 0 | O39: =N39*C39 -> 0 | Q39: =P39*C39 -> 0 | S39: =R39*C39 -> 0 | U39: =T39*C39 -> 0 | W39: =V39*C39 -> 0 | X39: 6 | Y39: =X39*C39 -> 468.48 | Z39: 2 | AA39: =Z39*C39 -> 156.16 | AB39: 2 | AC39: =AB39*C39 -> 156.16 | AD39: 4 | AE39: =AD39*C39 -> 312.32 | AF39: 3 | AG39: =AF39*C39 -> 234.24 | AH39: 4 | AI39: =C39*AH39 -> 312.32 | AJ39: 5 | AK39: =AJ39*C39 -> 390.4 | AM39: =AL39*C39 -> 0 | AO39: =AN39*C39 -> 0 | AQ39: =AP39*C39 -> 0 | AS39: =AR39*C39 -> 0 | AU39: =AT39*C39 -> 0 | AW39: =AV39*C39 -> 0 | AY39: =AX39*C39 -> 0 | BA39: =AZ39*C39 -> 0 | BC39: =BB39*E39 -> 0 | BE39: =BD39*G39 -> 0 | BG39: =BF39*BA39 -> 0 | BI39: =BH39*C39 -> 0 | BK39: =BJ39*C39 -> 0
A40: 33 | B40: Toalha de banho para limpeza de chão com medida minima de 120x65 cm | C40: 13.9 | D40: 3 | E40: =D40*C40 -> 41.7 | H40: 2 | J40: 3 | L40: 2 | N40: 3 | P40: 3 | R40: 3 | T40: 1 | V40: 1 | AM40: =AL40*C40 -> 0 | AO40: =AN40*C40 -> 0 | AQ40: =AP40*C40 -> 0 | AS40: =AR40*C40 -> 0 | AU40: =AT40*C40 -> 0 | AW40: =AV40*C40 -> 0 | AY40: =AX40*C40 -> 0 | BA40: =AZ40*C40 -> 0 | BC40: =BB40*E40 -> 0 | BF40: 2 | BI40: =BH40*C40 -> 0 | BK40: =BJ40*C40 -> 0
A41: 34 | B41: Alcool 70% - litro | C41: 6.84 | D41: 5 | E41: =D41*C41 -> 34.2 | F41: 5 | H41: 3 | J41: 5 | L41: 3 | N41: 5 | P41: 5 | R41: 5 | T41: 2 | V41: 2 | AM41: =AL41*C41 -> 0 | AO41: =AN41*C41 -> 0 | AQ41: =AP41*C41 -> 0 | AS41: =AR41*C41 -> 0 | AU41: =AT41*C41 -> 0 | AW41: =AV41*C41 -> 0 | AY41: =AX41*C41 -> 0 | BA41: =AZ41*C41 -> 0 | BC41: =BB41*E41 -> 0 | BF41: 4 | BI41: =BH41*C41 -> 0 | BK41: =BJ41*C41 -> 0
A42: 35 | B42: Alcool 92% - Litro | C42: 9.05 | D42: 5 | E42: =D42*C42 -> 45.25 | F42: 5 | H42: 3 | J42: 5 | L42: 3 | N42: 5 | P42: 5 | R42: 5 | T42: 2 | V42: 2 | AM42: =AL42*C42 -> 0 | AO42: =AN42*C42 -> 0 | AQ42: =AP42*C42 -> 0 | AS42: =AR42*C42 -> 0 | AU42: =AT42*C42 -> 0 | AW42: =AV42*C42 -> 0 | AY42: =AX42*C42 -> 0 | BA42: =AZ42*C42 -> 0 | BC42: =BB42*E42 -> 0 | BF42: 4 | BI42: =BH42*C42 -> 0 | BK42: =BJ42*C42 -> 0
...

Sheet Reserva Planilha comp. serviços
B3: PLANILHA COMPOSIÇÃO DOS CUSTOS DOS SERVIÇOS
A7: Dados para composição dos custos referentes à mão-de-obra
A8: 1 | B8: Tipo de serviço (mesmo serviço com características distintas) | I8: Limpeza
A9: 2 | B9: Classificação Brasileira de Ocupações (CBO)
A10: 3 | B10: Categoria profissional (vinculada à execução contratual) | I10: Servente
A11: 4 | B11: Data base da categoria (dia/mês/ano) | I11: 46054
A12: 5 | B12: Sindicato | I12: SIEMACO
A13: 6 | B13: Salário Nominativo da Categoria Profissional = 44 HORAS | I13: 1900
A14: 7 | B14: Salário Nominativo da Categoria Profissional = Proporcional 40 HORAS | I14: =ROUND((I13/44)*40,2) -> 1727.27
A15: 9 | B15: Salário Nominativo da Categoria Profissional = Proporcional 20 HORAS | I15: =I14/2 -> 863.635
J17: Local 30 | K17: Local 31 | L17: Local 32
J18: CEMEI Arco Iris | K18: Tancredo Neves | L18: Pré S F Assis
J19: 40 h/s | K19: 40 h/s | L19: 40 h/s
A20: COMPOSIÇÃO DA REMUNERAÇÃO
A21: 1 - COMPOSIÇÃO DA REMUNERAÇÃO | H21: % | J21: VALOR (R$) | K21: VALOR (R$) | L21: VALOR (R$)
A22: A | B22: Salário Base - Cláusula 3ª CCT | J22: =I14 -> 1727.27 | K22: =I14 -> 1727.27 | L22: =I14 -> 1727.27
A23: B | B23: Adicional Periculosidade | J23: 0 | K23: 0 | L23: 0
A24: C | B24: Adicional Insalubridade (Clau 3ª da CCT) | E24: Salário Min. Nacional | G24: 1621 | H24: 0.2 | J24: 0 | K24: 0 | L24: 0
A25: D | B25: Adicional Noturno | J25: 0 | K25: 0 | L25: 0
A26: E | B26: Hora noturna adicional | J26: 0 | K26: 0 | L26: 0
A27: F | B27: Adicional de Hora Extra | J27: 0 | K27: 0 | L27: 0
A28: G | B28: Acumulação de função (clausula 3ª CCT) | H28: =(131/44)*40 -> 119.09091 | J28: 0 | K28: 0 | L28: 0
A29: G | B29: Assiduidade | J29: 0 | K29: 0 | L29: 0
A30: TOTAL DO MÓDULO 1 | J30: =TRUNC(SUM(J22:J29),2) -> 1727.27 | K30: =TRUNC(SUM(K22:K29),2) -> 1727.27 | L30: =TRUNC(SUM(L22:L29),2) -> 1727.27
A32: 2 - Benefícios Mensais e Diários | J32: VALOR (R$) | K32: VALOR (R$) | L32: VALOR (R$)
A33: A | B33: Transporte (clausula 15ª CCT) (O município não possui transporte público regulamentado) | H33: -
A34: B | B34: Auxílio-Refeição/Alimentação (clausula 13ª CCT) (80%) | H34: =ROUND(900*0.8,2) -> 720 | J34: =$H34 -> 720 | K34: =$H34 -> 720 | L34: =$H34 -> 720
A35: C | B35: Auxílio-Refeição/Alimentação Férias | H35: =ROUND($H34/12,2) -> 60 | J35: =ROUND($H34/12,2) -> 60 | K35: =ROUND($H34/12,2) -> 60 | L35: =ROUND($H34/12,2) -> 60
A36: D | B36: Assistência Médica (clausula 16ª CCT) | H36: 94.5 | J36: =$H36 -> 94.5 | K36: =$H36 -> 94.5 | L36: =$H36 -> 94.5
A37: E | B37: Assistencia Social a Familia (clausula 17ª CCT) | H37: 31 | J37: =$H37 -> 31 | K37: =$H37 -> 31 | L37: =$H37 -> 31
A38: F | B38: Fundo de Formação Profissional (clausula 23ª CCT) | H38: 31 | J38: =$H38 -> 31 | K38: =$H38 -> 31 | L38: =$H38 -> 31
A39: G | B39: Outros (especificar) | H39: 0 | J39: =$H39 -> 0 | K39: =$H39 -> 0 | L39: =$H39 -> 0
A40: TOTAL SUBMÓDULO 2 | J40: =TRUNC(SUM(J33:J39),2) -> 936.5 | K40: =TRUNC(SUM(K33:K39),2) -> 936.5 | L40: =TRUNC(SUM(L33:L39),2) -> 936.5
A43: ENCARGOS SOCIAIS E TRABALHISTAS
A44: 3 - Encargos Sociais e Trabalhistas | H44: %
A45: 3.1 Encargos Previdenciários e FGTS | H45: % | J45: VALOR (R$) | K45: VALOR (R$) | L45: VALOR (R$)
A46: A | B46: INSS | H46: 0.2 | J46: =$J30*H46 -> 345.454 | K46: =$H46*K$30 -> 345.454 | L46: =$H46*L$30 -> 345.454
A47: B | B47: SESI ou SESC | H47: 0.015 | J47: =$H47*J$30 -> 25.90905 | K47: =$H47*K$30 -> 25.90905 | L47: =$H47*L$30 -> 25.90905
