Workbook
Name ListaFontes: OFFSET(#REF!,0,0,COUNTA(#REF!),1)
Name TipoOrçamento: "BASE"

Sheet DADOS GERAIS
B2: PREFEITURA MUNICIPAL DE CURITIBA
B3: SECRETARIA MUNICIPAL DE OBRAS PÚBLICAS
B4: DEPARTAMENTO DE PONTES E DRENAGEM
B6: DEVEM SER PREENCHIDAS SOMENTE AS CÉLULAS COM ESTA COR DE FUNDO
B8: DADOS GERAIS DA OBRA
B10: DATA DO ORÇAMENTO: | C10: 46266
B11: BAIRRO: | C11: PAROLIN
B12: LOCAL: | C12: Rua Vila Guaíra / altura das ruas Chanceler Lauro Müller e Antônio Parolin Júnior
B13: NÚMERO DO ORÇAMENTO: | C13: 0
B14: QUADRÍCULA: | C14: 0
B15: BDI S.D.: | C15: 0.2095
B16: BDI C.D.: | C16: 0.2444
B17: DATA BASE TABELA SINAPI: | C17: 46204
B18: DATA BASE TABELA SICRO: | C18: 46113
B19: DATA BASE TABELA SIURB: | C19: 46023
B20: DATA BASE TABELA ORSE: | C20: 46174
B21: CÓDIGO PROJETO: | C21: 5385
B22: ESPECIFICAÇÃO DA OBRA: | C22: PASSARELAS VILA GUAÍRA
B23: PRAZO DE EXECUÇÃO DA OBRA: | C23: 4 | D23: MESES
B24: ENGENHEIRO RESPONSÁVEL PROJETOS / ORÇAMENTO / CRONOGRAMA: | C24: TATIANI ZANONI
B25: CREA: | C25: 230151 | D25: -D / PR
B26: ART: | C26: 1720264370655

Sheet MEMORIAL CÁLCULO QTDE
B2: PREFEITURA MUNICIPAL DE CURITIBA
B3: SECRETARIA MUNICIPAL DE OBRAS PÚBLICAS
B4: DEPARTAMENTO DE PONTES E DRENAGEM
B6: LIVRE PARA CÁLCULOS CONFORME ESPECIFICIDADES DA OBRA EM QUESTÃO
B8: MEMORIAL DE CÁLCULOS DE QUANTIDADES

Sheet Encargos Sociais
A5: CÓDIGO | B5: DESCRIÇÃO
C6: HORISTA | D6: MENSALISTA | E6: HORISTA MENSALISTA
A8: A1 | B8: INSS | C8: 0.05 | D8: 0.05 | E8: 0.2 | F8: 0.2
A9: A2 | B9: SESI | C9: 0.015 | D9: 0.015 | E9: 0.015 | F9: 0.015
A10: A3 | B10: SENAI | C10: 0.01 | D10: 0.01 | E10: 0.01 | F10: 0.01
A11: A4 | B11: INCRA | C11: 0.002 | D11: 0.002 | E11: 0.002 | F11: 0.002
A12: A5 | B12: SEBRAE | C12: 0.006 | D12: 0.006 | E12: 0.006 | F12: 0.006
A13: A6 | B13: Salário Educação | C13: 0.025 | D13: 0.025 | E13: 0.025 | F13: 0.025
A14: A7 | B14: Seguro Contra Acidentes de Trabalho | C14: 0.03 | D14: 0.03 | E14: 0.03 | F14: 0.03
A15: A8 | B15: FGTS | C15: 0.08 | D15: 0.08 | E15: 0.08 | F15: 0.08
A16: A9 | B16: SECONCI | C16: 0 | D16: 0 | E16: 0 | F16: 0
A17: A | B17: Total | C17: =SUM(C8:C16) -> 0.218 | D17: =SUM(D8:D16) -> 0.218 | E17: =SUM(E8:E16) -> 0.368 | F17: =SUM(F8:F16) -> 0.368
A19: B1 | B19: Repouso Semanal Remunerado | C19: 0.1791 | E19: 0.1791
A20: B2 | B20: Feriados | C20: 0.0397 | E20: 0.0397
A21: B3 | B21: Auxílio - Enfermidade | C21: 0.0086 | D21: 0.0065 | E21: 0.0086 | F21: 0.0065
A22: B4 | B22: 13º Salário | C22: 0.1107 | D22: 0.0833 | E22: 0.1107 | F22: 0.0833
A23: B5 | B23: Licença Paternidade | C23: 0.0007 | D23: 0.0005 | E23: 0.0007 | F23: 0.0005
A24: B6 | B24: Faltas Justificadas | C24: 0.0074 | D24: 0.0056 | E24: 0.0074 | F24: 0.0056
A25: B7 | B25: Dias de Chuvas | C25: 0.017 | E25: 0.017
A26: B8 | B26: Auxílio Acidente de Trabalho | C26: 0.001 | D26: 0.0007 | E26: 0.001 | F26: 0.0007
A27: B9 | B27: Férias Gozadas | C27: 0.1255 | D27: 0.0945 | E27: 0.1255 | F27: 0.0945
A28: B10 | B28: Salário Maternidade | C28: 0.0003 | D28: 0.0003 | E28: 0.0003 | F28: 0.0003
A29: B | B29: Total | C29: =SUM(C19:C28) -> 0.49 | D29: =SUM(D19:D28) -> 0.1914 | E29: =SUM(E19:E28) -> 0.49 | F29: =SUM(F19:F28) -> 0.1914
A31: C1 | B31: Aviso Prévio Indenizado | C31: 0.0548 | D31: 0.0412 | E31: 0.0548 | F31: 0.0412
A32: C2 | B32: Aviso Prévio Trabalhado | C32: 0.0013 | D32: 0.001 | E32: 0.0013 | F32: 0.001
A33: C3 | B33: Férias lndenizadas | C33: 0.0168 | D33: 0.0127 | E33: 0.0168 | F33: 0.0127
A34: C4 | B34: Depósito Rescisão Sem Justa Causa | C34: 0.0281 | D34: 0.0212 | E34: 0.0281 | F34: 0.0212
A35: C5 | B35: Indenização Adicional | C35: 0.0046 | D35: 0.0035 | E35: 0.0046 | F35: 0.0035
A36: c | B36: Total | C36: =SUM(C31:C35) -> 0.1056 | D36: =SUM(D31:D35) -> 0.0796 | E36: =SUM(E31:E35) -> 0.1056 | F36: =SUM(F31:F35) -> 0.0796
A38: D1 | B38: Reincidência de Grupo A sobre Grupo B (sem considerar INNS sobre 13º, conforme Lei n° 14.973/2024) | C38: =+C17*C29-C8*C22 -> 0.101285 | D38: =+D17*D29-D8*D22 -> 0.0375602 | E38: =+(E17)*(E29) -> 0.18032 | F38: =+(F17)*(F29) -> 0.0704352
A39: D2 | B39: Reincidência de Grupo A sobre Aviso Prévio Trabalhado e Reincidência do FGTS sobre Aviso Prévio Indenizado | C39: =+C31*C15+C32*C17 -> 0.0046674 | D39: =+D31*D15+D32*D17 -> 0.003514 | E39: =+E31*E15+E32*E17 -> 0.0048624 | F39: =+F31*F15+F32*F17 -> 0.003664
A40: D | B40: Total | C40: =SUM(C38:C39) -> 0.1059524 | D40: =SUM(D38:D39) -> 0.0410742 | E40: =SUM(E38:E39) -> 0.1851824 | F40: =SUM(F38:F39) -> 0.0740992
C41: =SUM(C40,C36,C29,C17) -> 0.9195524 | D41: =SUM(D40,D36,D29,D17) -> 0.5300742 | E41: =SUM(E40,E36,E29,E17) -> 1.1487824 | F41: =SUM(F40,F36,F29,F17) -> 0.7130992

Sheet ORÇAMENTO S.D.
B2: PREFEITURA MUNICIPAL DE CURITIBA
B3: SECRETARIA MUNICIPAL DE OBRAS PÚBLICAS
B4: DEPARTAMENTO DE PONTES E DRENAGEM
B5: DATA DO QUANTITATIVO: | E5: 46245 | F5: NÚMERO DO ORÇAMENTO : | I5: ='DADOS GERAIS'!C13 -> 0 | K5: TABELAS DE REFERÊNCIA
B6: BAIRRO : | E6: PAROLIN | F6: QUADRÍCULA : | I6: ='DADOS GERAIS'!C14 -> 0 | K6: SINAPI jul/26, SICRO abr/26, SIURB jan/26, ORSE jun/26, composições, cotações
B7: LOCAL : | E7: ='DADOS GERAIS'!C12 -> Rua Vila Guaíra / altura das ruas Chanceler Lauro Müller e Antônio Parolin Júnior | F7: BDI : | I7: ='DADOS GERAIS'!C15 -> 0.2095
B8: PROJETO : | E8: ='DADOS GERAIS'!C21 -> 5385 | F8: DATA BASE DO ORÇAMENTO: | K8: ='DADOS GERAIS'!C10 -> 46266
B9: =CONCATENATE("OBRA : ",'DADOS GERAIS'!C22) -> OBRA : PASSARELAS VILA GUAÍRA
B10: ORÇAMENTO - SEM DESONERAÇÃO
K11: Total=> | L11: =L110 -> 1065604.9
B12: ITEM | C12: CÓDIGO | D12: FONTE | E12: DISCRIMINAÇÃO DOS SERVIÇOS | F12: UD. | G12: QUANT. | H12: P.UNIT S.D. | I12: BDI | J12: P. COM BDI S.D. | K12: P.TOTAL S.D. | L12: TOTAL | M12: PORCENTAGENS
B13: 1.0 | E13: ADMINISTRAÇÃO LOCAL DA OBRA
B14: 1.1 | C14: ALO-001 | D14: COMPOSIÇÃO | E14: COMPOSIÇÃO DA ADMINSTRAÇÃO LOCAL DA OBRA CONFORME PLANILHA ESPECÍFICA | F14: % | G14: 1 | H14: =VLOOKUP($C14,COMPOSIÇÕES!$A$2:$L$1172,5,FALSE) -> 96657.75 | I14: =$I$7 -> 0.2095 | J14: =TRUNC(H14*(1+I14),2) -> 116907.54 | K14: =IFERROR(TRUNC(G14*J14,2),"-") -> 116907.54 | M14: =IFERROR(K14/$L$11,"-") -> 0.10971002
B16: =E13 -> ADMINISTRAÇÃO LOCAL DA OBRA | L16: =SUM(K14:K14) -> 116907.54
B17: 2.0 | E17: CANTEIRO DE OBRAS E SINALIZAÇÃO
B18: 2.1 | C18: 103689 | D18: SINAPI | E18: FORNECIMENTO E INSTALAÇÃO DE PLACA DE OBRA COM CHAPA GALVANIZADA E ESTRUTURA DE MADEIRA. AF_03/2022_PS | F18: m² | G18: 12 | H18: =VLOOKUP($C18,SINAPI!$A$2:$L$1160,5,FALSE) -> 508.82 | I18: =IF(G18=0,"-",$I$7) -> 0.2095 | J18: =IFERROR(TRUNC(H18*(1+I18),2),"-") -> 615.41 | K18: =IFERROR(TRUNC(G18*J18,2),"-") -> 7384.92 | M18: =IFERROR(K18/$L$11,"-") -> 0.0069302607
B19: 2.2 | C19: 5212560 | D19: SICRO | E19: PLACA DE ADVERTÊNCIA PARA SINALIZAÇÃO DE OBRAS MONTADA EM SUPORTE METÁLICO MÓVEL, LADO 1,00 M - UTILIZAÇÃO DE 600 CICLOS - FORNECIMENTO, 01 IMPLANTAÇÃO E 01 RETIRADA DIÁRIA | F19: un.dia | G19: 480 | H19: =VLOOKUP($C19,SICRO!$A$2:$L$1163,5,FALSE) -> 4.75 | I19: =IF(G19=0,"-",$I$7) -> 0.2095 | J19: =IFERROR(TRUNC(H19*(1+I19),2),"-") -> 5.74 | K19: =IFERROR(TRUNC(G19*J19,2),"-") -> 2755.2 | M19: =IFERROR(K19/$L$11,"-") -> 0.0025855736
B20: 2.3 | C20: 5213835 | D20: SICRO | E20: CONE PLÁSTICO PARA CANALIZAÇÃO DE TRÂNSITO - UTILIZAÇÃO DE 150 CICLOS - FORNECIMENTO, 01 IMPLANTAÇÃO E 01 RETIRADA DIÁRIA | F20: un.dia | G20: 1200 | H20: =VLOOKUP($C20,SICRO!$A$2:$L$1163,5,FALSE) -> 0.93 | I20: 0.2095 | J20: =IFERROR(TRUNC(H20*(1+I20),2),"-") -> 1.12 | K20: =IFERROR(TRUNC(G20*J20,2),"-") -> 1344 | M20: =IFERROR(K20/$L$11,"-") -> 0.0012612554
B21: 2.4 | C21: 10775 | D21: SINAPI | E21: LOCACAO DE CONTAINER 2,30 X 6,00 M, ALT. 2,50 M, COM 1 SANITARIO, PARA ESCRITORIO, COMPLETO, SEM DIVISORIAS INTERNAS (NAO INCLUI MOBILIZACAO/DESMOBILIZACAO) | F21: mês | G21: 3 | H21: =VLOOKUP($C21,SINAPI!$A$2:$L$1160,5,FALSE) -> 1000 | I21: =IF(G21=0,"-",$I$7) -> 0.2095 | J21: =IFERROR(TRUNC(H21*(1+I21),2),"-") -> 1209.5 | K21: =IFERROR(TRUNC(G21*J21,2),"-") -> 3628.5 | M21: =IFERROR(K21/$L$11,"-") -> 0.0034051081
B22: 2.5 | C22: COM-001 | D22: COMPOSIÇÃO | E22: CONSUMO DE ÁGUA E ESGOTO | F22: mês | G22: 3 | H22: =VLOOKUP($C22,COMPOSIÇÕES!$A$2:$L$1172,5,FALSE) -> 797.91 | I22: =IF(G22=0,"-",$I$7) -> 0.2095 | J22: =IFERROR(TRUNC(H22*(1+I22),2),"-") -> 965.07 | K22: =IFERROR(TRUNC(G22*J22,2),"-") -> 2895.21 | M22: =IFERROR(K22/$L$11,"-") -> 0.0027169638
B23: 2.6 | C23: COM-002 | D23: COMPOSIÇÃO | E23: CONSUMO DE ENERGIA | F23: mês | G23: 3 | H23: =VLOOKUP($C23,COMPOSIÇÕES!$A$2:$L$1172,5,FALSE) -> 384.01 | I23: =IF(G23=0,"-",$I$7) -> 0.2095 | J23: =IFERROR(TRUNC(H23*(1+I23),2),"-") -> 464.46 | K23: =IFERROR(TRUNC(G23*J23,2),"-") -> 1393.38 | M23: =IFERROR(K23/$L$11,"-") -> 0.0013075953
B25: =E17 -> CANTEIRO DE OBRAS E SINALIZAÇÃO | L25: =SUM(K18:K23) -> 19401.21
B26: 3.0 | E26: MOBILIZAÇÃO E DESMOBILIZAÇÃO
B27: 3.1 | C27: MOB-001 | D27: COMPOSIÇÃO | E27: MOBILIZAÇÃO/DESMOBILIZAÇÃO DE EQUIPAMENTO - RETRO-ESCAVADEIRA | F27: Serviço | G27: 2 | H27: =VLOOKUP($C27,COMPOSIÇÕES!$A$2:$L$1172,5,FALSE) -> 986.7598 | I27: =IF(G27=0,"-",$I$7) -> 0.2095 | J27: =IFERROR(TRUNC(H27*(1+I27),2),"-") -> 1193.48 | K27: =IFERROR(TRUNC(G27*J27,2),"-") -> 2386.96 | M27: =IFERROR(K27/$L$11,"-") -> 0.0022400046
B28: 3.2 | C28: MOB-002 | D28: COMPOSIÇÃO | E28: MOBILIZACAO/DESMOBILIZAÇÃO DE EQUIPAMENTO - ESTACAS PRE-MOLDADAS - BATE-ESTACAS | F28: Serviço | G28: 2 | H28: =VLOOKUP($C28,COMPOSIÇÕES!$A$2:$L$1172,5,FALSE) -> 986.7598 | I28: =IF(G28=0,"-",$I$7) -> 0.2095 | J28: =IFERROR(TRUNC(H28*(1+I28),2),"-") -> 1193.48 | K28: =IFERROR(TRUNC(G28*J28,2),"-") -> 2386.96 | M28: =IFERROR(K28/$L$11,"-") -> 0.0022400046
B29: 3.4 | C29: MOB-003 | D29: COMPOSIÇÃO | E29: MOBILIZAÇÃO/DESMOBILIZAÇÃO DE EQUIPAMENTO - GUINDASTE HIDRÁULICO AUTOPROPELIDO | F29: Serviço | G29: 2 | H29: =VLOOKUP($C29,COMPOSIÇÕES!$A$2:$L$1172,5,FALSE) -> 1097.7388 | I29: =IF(G29=0,"-",$I$7) -> 0.2095 | J29: =IFERROR(TRUNC(H29*(1+I29),2),"-") -> 1327.71 | K29: =IFERROR(TRUNC(G29*J29,2),"-") -> 2655.42 | M29: =IFERROR(K29/$L$11,"-") -> 0.0024919366
B30: 3.4 | C30: MOB-004 | D30: COMPOSIÇÃO | E30: MOBILIZAÇÃO/DESMOBILIZAÇÃO DE EQUIPAMENTO - CONTAINER METÁLICO | F30: Serviço | G30: 2 | H30: =VLOOKUP($C30,COMPOSIÇÕES!$A$2:$L$1172,5,FALSE) -> 743.7222 | I30: =IF(G30=0,"-",$I$7) -> 0.2095 | J30: =IFERROR(TRUNC(H30*(1+I30),2),"-") -> 899.53 | K30: =IFERROR(TRUNC(G30*J30,2),"-") -> 1799.06 | M30: =IFERROR(K30/$L$11,"-") -> 0.0016882992
B32: =E26 -> MOBILIZAÇÃO E DESMOBILIZAÇÃO | L32: =SUM(K27:K30) -> 9228.4
B33: 4.0 | E33: FUNDAÇÃO PARA INSTALAÇÃO DE OBRAS DE ARTE PARA PASSAGEM DE PEDESTRES
B34: 4.1 | C34: 99439 | D34: SINAPI | E34: CONCRETAGEM DE EDIFICAÇÕES (PAREDES E LAJES) FEITAS COM SISTEMA DE FÔRMAS MANUSEÁVEIS, COM CONCRETO USINADO BOMBEÁVEL FCK 25 MPA - LANÇAMENTO, ADENSAMENTO E ACABAMENTO. AF_09/2024 | F34: m³ | G34: =2.52*2 -> 5.04 | H34: =VLOOKUP($C34,SINAPI!$A$2:$L$1160,5,FALSE) -> 677.49 | I34: =IF(G34=0,"-",$I$7) -> 0.2095 | J34: =IFERROR(TRUNC(H34*(1+I34),2),"-") -> 819.42 | K34: =IFERROR(TRUNC(G34*J34,2),"-") -> 4129.87 | M34: =IFERROR(K34/$L$11,"-") -> 0.0038756108
B35: 4.2 | C35: 96531 | D35: SINAPI | E35: FABRICAÇÃO, MONTAGEM E DESMONTAGEM DE FÔRMA PARA BLOCO DE COROAMENTO, EM MADEIRA SERRADA, E=25 MM, 2 UTILIZAÇÕES. AF_01/2024 | F35: m² | G35: =5.9*2 -> 11.8 | H35: =VLOOKUP($C35,SINAPI!$A$2:$L$1160,5,FALSE) -> 122.22 | I35: =IF(G35=0,"-",$I$7) -> 0.2095 | J35: =IFERROR(TRUNC(H35*(1+I35),2),"-") -> 147.82 | K35: =IFERROR(TRUNC(G35*J35,2),"-") -> 1744.27 | M35: =IFERROR(K35/$L$11,"-") -> 0.0016368824
B36: 4.3 | C36: 407819 | D36: SICRO | E36: ARMAÇÃO EM AÇO CA-50 - FORNECIMENTO, PREPARO E COLOCAÇÃO - BLOCO | F36: kg | G36: =105.54*2 -> 211.08 | H36: =VLOOKUP($C36,SICRO!$A$2:$L$1163,5,FALSE) -> 12.65 | I36: =IF(G36=0,"-",$I$7) -> 0.2095 | J36: =IFERROR(TRUNC(H36*(1+I36),2),"-") -> 15.3 | K36: =IFERROR(TRUNC(G36*J36,2),"-") -> 3229.52 | M36: =IFERROR(K36/$L$11,"-") -> 0.0030306917
B37: 4.4 | C37: 2003850 | D37: SICRO | E37: LASTRO DE BRITA COMERCIAL COMPACTADO COM SOQUETE VIBRATÓRIO - ESPALHAMENTO MANUAL | F37: m³ | G37: =0.18*2 -> 0.36 | H37: =VLOOKUP($C37,SICRO!$A$2:$L$1163,5,FALSE) -> 148.53 | I37: =IF(G37=0,"-",$I$7) -> 0.2095 | J37: =IFERROR(TRUNC(H37*(1+I37),2),"-") -> 179.64 | K37: =IFERROR(TRUNC(G37*J37,2),"-") -> 64.67 | M37: =IFERROR(K37/$L$11,"-") -> 6.0688532e-05
B38: 4.5 | C38: 96523 | D38: SINAPI | E38: ESCAVAÇÃO MANUAL PARA BLOCO DE COROAMENTO OU SAPATA (INCLUINDO ESCAVAÇÃO PARA COLOCAÇÃO DE FÔRMAS). AF_01/2024 | F38: m³ | G38: =4.46*2 -> 8.92 | H38: =VLOOKUP($C38,SINAPI!$A$2:$L$1160,5,FALSE) -> 137 | I38: =IF(G38=0,"-",$I$7) -> 0.2095 | J38: =IFERROR(TRUNC(H38*(1+I38),2),"-") -> 165.7 | K38: =IFERROR(TRUNC(G38*J38,2),"-") -> 1478.04 | M38: =IFERROR(K38/$L$11,"-") -> 0.0013870431
B39: 4.6 | C39: 94319 | D39: SINAPI | E39: ATERRO MANUAL DE VALAS COM SOLO ARGILO-ARENOSO. AF_08/2023 | F39: m³ | G39: =1.49*2 -> 2.98 | H39: =VLOOKUP($C39,SINAPI!$A$2:$L$1160,5,FALSE) -> 91.59 | I39: =IF(G39=0,"-",$I$7) -> 0.2095 | J39: =IFERROR(TRUNC(H39*(1+I39),2),"-") -> 110.77 | K39: =IFERROR(TRUNC(G39*J39,2),"-") -> 330.09 | M39: =IFERROR(K39/$L$11,"-") -> 0.00030976771
B40: 4.7 | C40: 2306105 | D40: SICRO | E40: Estaca pré-moldada de concreto protendido 23 x 23 cm - produzida - sem emenda - cravação | F40: m | G40: =36*2 -> 72 | H40: =VLOOKUP($C40,SICRO!$A$2:$L$1163,5,FALSE) -> 124.96 | I40: =IF(G40=0,"-",$I$7) -> 0.2095 | J40: =IFERROR(TRUNC(H40*(1+I40),2),"-") -> 151.13 | K40: =IFERROR(TRUNC(G40*J40,2),"-") -> 10881.36 | M40: =IFERROR(K40/$L$11,"-") -> 0.010211439
B41: 4.8 | C41: M0647 | D41: SICRO | E41: Estaca pré-moldada de concreto protendido com compressão admissível de 25 t | F41: m | G41: =36*2 -> 72 | H41: =VLOOKUP($C41,SICRO!$A$2:$L$1163,5,FALSE) -> 59.2 | I41: =IF(G41=0,"-",$I$7) -> 0.2095 | J41: =IFERROR(TRUNC(H41*(1+I41),2),"-") -> 71.6 | K41: =IFERROR(TRUNC(G41*J41,2),"-") -> 5155.2 | M41: =IFERROR(K41/$L$11,"-") -> 0.0048378154
B42: 4.9 | C42: 2306247 | D42: SICRO | E42: Arrasamento de estacas de concreto com seção de até 900 cm² | F42: m³ | G42: =0.32+0.38 -> 0.7 | H42: =VLOOKUP($C42,SICRO!$A$2:$L$1163,5,FALSE) -> 309.04 | I42: =IF(G42=0,"-",$I$7) -> 0.2095 | J42: =IFERROR(TRUNC(H42*(1+I42),2),"-") -> 373.78 | K42: =IFERROR(TRUNC(G42*J42,2),"-") -> 261.64 | M42: =IFERROR(K42/$L$11,"-") -> 0.00024553189
B43: 4.10 | C43: 97636 | D43: SINAPI | E43: DEMOLIÇÃO PARCIAL DE PAVIMENTO ASFÁLTICO, DE FORMA MECANIZADA, SEM REAPROVEITAMENTO. AF_09/2023 | F43: m² | G43: 4 | H43: =VLOOKUP($C43,SINAPI!$A$2:$L$1160,5,FALSE) -> 26.93 | I43: =IF(G43=0,"-",$I$7) -> 0.2095 | J43: =IFERROR(TRUNC(H43*(1+I43),2),"-") -> 32.57 | K43: =IFERROR(TRUNC(G43*J43,2),"-") -> 130.28 | M43: =IFERROR(K43/$L$11,"-") -> 0.00012225919
B45: =E33 -> FUNDAÇÃO PARA INSTALAÇÃO DE OBRAS DE ARTE PARA PASSAGEM DE PEDESTRES | L45: =SUM(K34:K43) -> 27404.94
...

Sheet ORÇAMENTO C.D.
B2: PREFEITURA MUNICIPAL DE CURITIBA
B3: SECRETARIA MUNICIPAL DE OBRAS PÚBLICAS
B4: DEPARTAMENTO DE PONTES E DRENAGEM
B5: DATA DO QUANTITATIVO: | E5: 46245 | F5: NÚMERO DO ORÇAMENTO : | I5: ='DADOS GERAIS'!C13 -> 0 | K5: TABELAS DE REFERÊNCIA
B6: BAIRRO : | E6: PAROLIN | F6: QUADRÍCULA : | I6: ='DADOS GERAIS'!C14 -> 0 | K6: SINAPI jul/26, SICRO abr/26, SIURB jan/26, ORSE jun/26, composições, cotações
B7: LOCAL : | E7: ='DADOS GERAIS'!C12 -> Rua Vila Guaíra / altura das ruas Chanceler Lauro Müller e Antônio Parolin Júnior | F7: BDI : | I7: ='DADOS GERAIS'!C16 -> 0.2444
B8: PROJETO : | E8: ='DADOS GERAIS'!C21 -> 5385 | F8: DATA BASE DO ORÇAMENTO: | K8: ='DADOS GERAIS'!C10 -> 46266
B9: =CONCATENATE("OBRA : ",'DADOS GERAIS'!C22) -> OBRA : PASSARELAS VILA GUAÍRA
B10: ORÇAMENTO - COM DESONERAÇÃO
K11: Total=> | L11: =L110 -> 1075844.7
B12: ITEM | C12: CÓDIGO | D12: FONTE | E12: DISCRIMINAÇÃO DOS SERVIÇOS | F12: UD. | G12: QUANT. | H12: P.UNIT C.D. | I12: BDI | J12: P. COM BDI C.D. | K12: P.TOTAL C.D. | L12: TOTAL | M12: PORCENTAGENS
B13: 1.0 | E13: ADMINISTRAÇÃO LOCAL DA OBRA
B14: 1.1 | C14: ALO-001 | D14: COMPOSIÇÃO | E14: COMPOSIÇÃO DA ADMINSTRAÇÃO LOCAL DA OBRA CONFORME PLANILHA ESPECÍFICA | F14: % | G14: 1 | H14: =VLOOKUP($C14,COMPOSIÇÕES!$A$2:$L$1172,6,FALSE) -> 90783.25 | I14: =$I$7 -> 0.2444 | J14: =TRUNC(H14*(1+I14),2) -> 112970.67 | K14: =IFERROR(TRUNC(G14*J14,2),"-") -> 112970.67 | M14: =IFERROR(K14/$L$11,"-") -> 0.10500649
B16: =E13 -> ADMINISTRAÇÃO LOCAL DA OBRA | L16: =SUM(K14:K14) -> 112970.67
B17: 2.0 | E17: CANTEIRO DE OBRAS E SINALIZAÇÃO
B18: 2.1 | C18: 103689 | D18: SINAPI | E18: FORNECIMENTO E INSTALAÇÃO DE PLACA DE OBRA COM CHAPA GALVANIZADA E ESTRUTURA DE MADEIRA. AF_03/2022_PS | F18: m² | G18: 12 | H18: =VLOOKUP($C18,SINAPI!$A$2:$L$1160,6,FALSE) -> 505.8 | I18: =IF(G18=0,"-",$I$7) -> 0.2444 | J18: =IFERROR(TRUNC(H18*(1+I18),2),"-") -> 629.41 | K18: =IFERROR(TRUNC(G18*J18,2),"-") -> 7552.92 | M18: =IFERROR(K18/$L$11,"-") -> 0.0070204558
B19: 2.2 | C19: 5212560 | D19: SICRO | E19: PLACA DE ADVERTÊNCIA PARA SINALIZAÇÃO DE OBRAS MONTADA EM SUPORTE METÁLICO MÓVEL, LADO 1,00 M - UTILIZAÇÃO DE 600 CICLOS - FORNECIMENTO, 01 IMPLANTAÇÃO E 01 RETIRADA DIÁRIA | F19: un.dia | G19: 480 | H19: =VLOOKUP($C19,SICRO!$A$2:$L$1163,6,FALSE) -> 4.66 | I19: =IF(G19=0,"-",$I$7) -> 0.2444 | J19: =IFERROR(TRUNC(H19*(1+I19),2),"-") -> 5.79 | K19: =IFERROR(TRUNC(G19*J19,2),"-") -> 2779.2 | M19: =IFERROR(K19/$L$11,"-") -> 0.0025832725
B20: 2.3 | C20: 5213835 | D20: SICRO | E20: CONE PLÁSTICO PARA CANALIZAÇÃO DE TRÂNSITO - UTILIZAÇÃO DE 150 CICLOS - FORNECIMENTO, 01 IMPLANTAÇÃO E 01 RETIRADA DIÁRIA | F20: un.dia | G20: 1200 | H20: =VLOOKUP($C20,SICRO!$A$2:$L$1163,6,FALSE) -> 0.93 | I20: =IF(G20=0,"-",$I$7) -> 0.2444 | J20: =IFERROR(TRUNC(H20*(1+I20),2),"-") -> 1.15 | K20: =IFERROR(TRUNC(G20*J20,2),"-") -> 1380 | M20: =IFERROR(K20/$L$11,"-") -> 0.0012827131
B21: 2.4 | C21: 10775 | D21: SINAPI | E21: LOCACAO DE CONTAINER 2,30 X 6,00 M, ALT. 2,50 M, COM 1 SANITARIO, PARA ESCRITORIO, COMPLETO, SEM DIVISORIAS INTERNAS (NAO INCLUI MOBILIZACAO/DESMOBILIZACAO) | F21: mês | G21: 3 | H21: =VLOOKUP($C21,SINAPI!$A$2:$L$1160,6,FALSE) -> 1000 | I21: =IF(G21=0,"-",$I$7) -> 0.2444 | J21: =IFERROR(TRUNC(H21*(1+I21),2),"-") -> 1244.4 | K21: =IFERROR(TRUNC(G21*J21,2),"-") -> 3733.2 | M21: =IFERROR(K21/$L$11,"-") -> 0.0034700177
B22: 2.5 | C22: COM-001 | D22: COMPOSIÇÃO | E22: CONSUMO DE ÁGUA E ESGOTO | F22: mês | G22: 3 | H22: =VLOOKUP($C22,COMPOSIÇÕES!$A$2:$L$1172,6,FALSE) -> 797.91 | I22: =IF(G22=0,"-",$I$7) -> 0.2444 | J22: =IFERROR(TRUNC(H22*(1+I22),2),"-") -> 992.91 | K22: =IFERROR(TRUNC(G22*J22,2),"-") -> 2978.73 | M22: =IFERROR(K22/$L$11,"-") -> 0.0027687361
B23: 2.6 | C23: COM-002 | D23: COMPOSIÇÃO | E23: CONSUMO DE ENERGIA | F23: mês | G23: 3 | H23: =VLOOKUP($C23,COMPOSIÇÕES!$A$2:$L$1172,6,FALSE) -> 384.01 | I23: =IF(G23=0,"-",$I$7) -> 0.2444 | J23: =IFERROR(TRUNC(H23*(1+I23),2),"-") -> 477.86 | K23: =IFERROR(TRUNC(G23*J23,2),"-") -> 1433.58 | M23: =IFERROR(K23/$L$11,"-") -> 0.0013325158
B25: =E17 -> CANTEIRO DE OBRAS E SINALIZAÇÃO | L25: =SUM(K18:K23) -> 19857.63
B26: 3.0 | E26: MOBILIZAÇÃO E DESMOBILIZAÇÃO
B27: 3.1 | C27: MOB-001 | D27: COMPOSIÇÃO | E27: MOBILIZAÇÃO/DESMOBILIZAÇÃO DE EQUIPAMENTO - RETRO-ESCAVADEIRA | F27: Serviço | G27: 2 | H27: =VLOOKUP($C27,COMPOSIÇÕES!$A$2:$L$1172,6,FALSE) -> 982.0876 | I27: =IF(G27=0,"-",$I$7) -> 0.2444 | J27: =IFERROR(TRUNC(H27*(1+I27),2),"-") -> 1222.1 | K27: =IFERROR(TRUNC(G27*J27,2),"-") -> 2444.2 | M27: =IFERROR(K27/$L$11,"-") -> 0.0022718893
B28: 3.2 | C28: MOB-002 | D28: COMPOSIÇÃO | E28: MOBILIZACAO/DESMOBILIZAÇÃO DE EQUIPAMENTO - ESTACAS PRE-MOLDADAS - BATE-ESTACAS | F28: Serviço | G28: 2 | H28: =VLOOKUP($C28,COMPOSIÇÕES!$A$2:$L$1172,6,FALSE) -> 982.0876 | I28: =IF(G28=0,"-",$I$7) -> 0.2444 | J28: =IFERROR(TRUNC(H28*(1+I28),2),"-") -> 1222.1 | K28: =IFERROR(TRUNC(G28*J28,2),"-") -> 2444.2 | M28: =IFERROR(K28/$L$11,"-") -> 0.0022718893
B29: 3.3 | C29: MOB-003 | D29: COMPOSIÇÃO | E29: MOBILIZAÇÃO/DESMOBILIZAÇÃO DE EQUIPAMENTO - GUINDASTE HIDRÁULICO AUTOPROPELIDO | F29: Serviço | G29: 2 | H29: =VLOOKUP($C29,COMPOSIÇÕES!$A$2:$L$1172,6,FALSE) -> 1093.0666 | I29: =IF(G29=0,"-",$I$7) -> 0.2444 | J29: =IFERROR(TRUNC(H29*(1+I29),2),"-") -> 1360.21 | K29: =IFERROR(TRUNC(G29*J29,2),"-") -> 2720.42 | M29: =IFERROR(K29/$L$11,"-") -> 0.0025286364
B30: 3.4 | C30: MOB-004 | D30: COMPOSIÇÃO | E30: MOBILIZAÇÃO/DESMOBILIZAÇÃO DE EQUIPAMENTO - CONTAINER METÁLICO | F30: Serviço | G30: 2 | H30: =VLOOKUP($C30,COMPOSIÇÕES!$A$2:$L$1172,6,FALSE) -> 739.05 | I30: =IF(G30=0,"-",$I$7) -> 0.2444 | J30: =IFERROR(TRUNC(H30*(1+I30),2),"-") -> 919.67 | K30: =IFERROR(TRUNC(G30*J30,2),"-") -> 1839.34 | M30: =IFERROR(K30/$L$11,"-") -> 0.0017096706
B32: =E26 -> MOBILIZAÇÃO E DESMOBILIZAÇÃO | L32: =SUM(K27:K30) -> 9448.16
B33: 4.0 | E33: FUNDAÇÃO PARA INSTALAÇÃO DE OBRAS DE ARTE PARA PASSAGEM DE PEDESTRES
B34: 4.1 | C34: 99439 | D34: SINAPI | E34: CONCRETAGEM DE EDIFICAÇÕES (PAREDES E LAJES) FEITAS COM SISTEMA DE FÔRMAS MANUSEÁVEIS, COM CONCRETO USINADO BOMBEÁVEL FCK 25 MPA - LANÇAMENTO, ADENSAMENTO E ACABAMENTO. AF_09/2024 | F34: m³ | G34: =2.52*2 -> 5.04 | H34: =VLOOKUP($C34,SINAPI!$A$2:$L$1160,6,FALSE) -> 675.21 | I34: =IF(G34=0,"-",$I$7) -> 0.2444 | J34: =IFERROR(TRUNC(H34*(1+I34),2),"-") -> 840.23 | K34: =IFERROR(TRUNC(G34*J34,2),"-") -> 4234.75 | M34: =IFERROR(K34/$L$11,"-") -> 0.0039362095
B35: 4.2 | C35: 96531 | D35: SINAPI | E35: FABRICAÇÃO, MONTAGEM E DESMONTAGEM DE FÔRMA PARA BLOCO DE COROAMENTO, EM MADEIRA SERRADA, E=25 MM, 2 UTILIZAÇÕES. AF_01/2024 | F35: m² | G35: =5.9*2 -> 11.8 | H35: =VLOOKUP($C35,SINAPI!$A$2:$L$1160,6,FALSE) -> 117.88 | I35: =IF(G35=0,"-",$I$7) -> 0.2444 | J35: =IFERROR(TRUNC(H35*(1+I35),2),"-") -> 146.68 | K35: =IFERROR(TRUNC(G35*J35,2),"-") -> 1730.82 | M35: =IFERROR(K35/$L$11,"-") -> 0.001608801
B36: 4.3 | C36: 407819 | D36: SICRO | E36: ARMAÇÃO EM AÇO CA-50 - FORNECIMENTO, PREPARO E COLOCAÇÃO - BLOCO | F36: kg | G36: =105.54*2 -> 211.08 | H36: =VLOOKUP($C36,SICRO!$A$2:$L$1163,6,FALSE) -> 12.31 | I36: =IF(G36=0,"-",$I$7) -> 0.2444 | J36: =IFERROR(TRUNC(H36*(1+I36),2),"-") -> 15.31 | K36: =IFERROR(TRUNC(G36*J36,2),"-") -> 3231.63 | M36: =IFERROR(K36/$L$11,"-") -> 0.0030038072
B37: 4.4 | C37: 2003850 | D37: SICRO | E37: LASTRO DE BRITA COMERCIAL COMPACTADO COM SOQUETE VIBRATÓRIO - ESPALHAMENTO MANUAL | F37: m³ | G37: =0.18*2 -> 0.36 | H37: =VLOOKUP($C37,SICRO!$A$2:$L$1163,6,FALSE) -> 147.81 | I37: =IF(G37=0,"-",$I$7) -> 0.2444 | J37: =IFERROR(TRUNC(H37*(1+I37),2),"-") -> 183.93 | K37: =IFERROR(TRUNC(G37*J37,2),"-") -> 66.21 | M37: =IFERROR(K37/$L$11,"-") -> 6.1542341e-05
B38: 4.5 | C38: 96523 | D38: SINAPI | E38: ESCAVAÇÃO MANUAL PARA BLOCO DE COROAMENTO OU SAPATA (INCLUINDO ESCAVAÇÃO PARA COLOCAÇÃO DE FÔRMAS). AF_01/2024 | F38: m³ | G38: =4.46*2 -> 8.92 | H38: =VLOOKUP($C38,SINAPI!$A$2:$L$1160,6,FALSE) -> 130.04 | I38: =IF(G38=0,"-",$I$7) -> 0.2444 | J38: =IFERROR(TRUNC(H38*(1+I38),2),"-") -> 161.82 | K38: =IFERROR(TRUNC(G38*J38,2),"-") -> 1443.43 | M38: =IFERROR(K38/$L$11,"-") -> 0.0013416714
B39: 4.6 | C39: 94319 | D39: SINAPI | E39: ATERRO MANUAL DE VALAS COM SOLO ARGILO-ARENOSO. AF_08/2023 | F39: m³ | G39: =1.49*2 -> 2.98 | H39: =VLOOKUP($C39,SINAPI!$A$2:$L$1160,6,FALSE) -> 89.92 | I39: =IF(G39=0,"-",$I$7) -> 0.2444 | J39: =IFERROR(TRUNC(H39*(1+I39),2),"-") -> 111.89 | K39: =IFERROR(TRUNC(G39*J39,2),"-") -> 333.43 | M39: =IFERROR(K39/$L$11,"-") -> 0.00030992392
B40: 4.7 | C40: 2306105 | D40: SICRO | E40: Estaca pré-moldada de concreto protendido 23 x 23 cm - produzida - sem emenda - cravação | F40: m | G40: =36*2 -> 72 | H40: =VLOOKUP($C40,SICRO!$A$2:$L$1163,6,FALSE) -> 123.31 | I40: =IF(G40=0,"-",$I$7) -> 0.2444 | J40: =IFERROR(TRUNC(H40*(1+I40),2),"-") -> 153.44 | K40: =IFERROR(TRUNC(G40*J40,2),"-") -> 11047.68 | M40: =IFERROR(K40/$L$11,"-") -> 0.010268843
B41: 4.8 | C41: M0647 | D41: SICRO | E41: Estaca pré-moldada de concreto protendido com compressão admissível de 25 t | F41: m | G41: =36*2 -> 72 | H41: =VLOOKUP($C41,SICRO!$A$2:$L$1163,6,FALSE) -> 59.2 | I41: =IF(G41=0,"-",$I$7) -> 0.2444 | J41: =IFERROR(TRUNC(H41*(1+I41),2),"-") -> 73.66 | K41: =IFERROR(TRUNC(G41*J41,2),"-") -> 5303.52 | M41: =IFERROR(K41/$L$11,"-") -> 0.0049296336
B42: 4.9 | C42: 2306247 | D42: SICRO | E42: Arrasamento de estacas de concreto com seção de até 900 cm² | F42: m³ | G42: =0.32+0.38 -> 0.7 | H42: =VLOOKUP($C42,SICRO!$A$2:$L$1163,6,FALSE) -> 301.96 | I42: =IF(G42=0,"-",$I$7) -> 0.2444 | J42: =IFERROR(TRUNC(H42*(1+I42),2),"-") -> 375.75 | K42: =IFERROR(TRUNC(G42*J42,2),"-") -> 263.02 | M42: =IFERROR(K42/$L$11,"-") -> 0.00024447767
B43: 4.10 | C43: 97636 | D43: SINAPI | E43: DEMOLIÇÃO PARCIAL DE PAVIMENTO ASFÁLTICO, DE FORMA MECANIZADA, SEM REAPROVEITAMENTO. AF_09/2023 | F43: m² | G43: 4 | H43: =VLOOKUP($C43,SINAPI!$A$2:$L$1160,6,FALSE) -> 26.1 | I43: =IF(G43=0,"-",$I$7) -> 0.2444 | J43: =IFERROR(TRUNC(H43*(1+I43),2),"-") -> 32.47 | K43: =IFERROR(TRUNC(G43*J43,2),"-") -> 129.88 | M43: =IFERROR(K43/$L$11,"-") -> 0.00012072375
B45: =E33 -> FUNDAÇÃO PARA INSTALAÇÃO DE OBRAS DE ARTE PARA PASSAGEM DE PEDESTRES | L45: =SUM(K34:K43) -> 27784.37
...

Sheet CRONOGRAMA S.D.
B2: PREFEITURA MUNICIPAL DE CURITIBA
B3: SECRETARIA MUNICIPAL DE OBRAS PÚBLICAS
B4: DEPARTAMENTO DE PONTES E DRENAGEM
B6: CRONOGRAMA FÍSICO FINANCEIRO - SEM DESONERAÇÃO
B8: PROJETO: | C8: ='DADOS GERAIS'!C21 -> 5385 | P8: NÚMERO DO ORÇAMENTO | Q8: ='DADOS GERAIS'!C13 -> 0
B9: BAIRRO: | C9: ='DADOS GERAIS'!C11 -> PAROLIN
B10: LOCAL: | C10: ='DADOS GERAIS'!C12 -> Rua Vila Guaíra / altura das ruas Chanceler Lauro Müller e Antônio Parolin Júnior
B11: OBRA : | C11: ='DADOS GERAIS'!C22 -> PASSARELAS VILA GUAÍRA
B13: ITEM | C13: DISCRIMINAÇÃO DOS SERVIÇOS | D13: PRAZO | P13: TOTAL DE CADA | Q13: COEFICIENTE | R13: CONFERÊNCIA
D14: 30 DIAS | E14: 60 DIAS | F14: 90 DIAS | G14: 120 DIAS | H14: 150 DIAS | I14: 180 DIAS | J14: 210 DIAS | K14: 240 DIAS | L14: 270 DIAS | M14: 300 DIAS | N14: 330 DIAS | O14: 360 DIAS | P14: SERVIÇO (R$) | Q14: INF. %
B16: 1.0 | C16: ='ORÇAMENTO S.D.'!E13 -> ADMINISTRAÇÃO LOCAL DA OBRA | D16: =$P16*D17 -> 29226.885 | E16: =$P16*E17 -> 29226.885 | F16: =$P16*F17 -> 29226.885 | G16: =$P16*G17 -> 29226.885 | H16: =$P16*H17 -> 0 | I16: =$P16*I17 -> 0 | J16: =$P16*J17 -> 0 | K16: =$P16*K17 -> 0 | ... O16: =$P16*O17 -> 0 | P16: ='ORÇAMENTO S.D.'!L16 -> 116907.54 | R16: =SUM(D16:O16) -> 116907.54
D17: 0.25 | E17: 0.25 | F17: 0.25 | G17: 0.25 | H17: =H46 -> 0 | I17: =I46 -> 0 | J17: =J46 -> 0 | K17: =K46 -> 0 | L17: =L46 -> 0 | M17: =M46 -> 0 | N17: =N46 -> 0 | O17: =O46 -> 0 | Q17: =IFERROR(P16/$P$38,"-") -> 0.10971002 | R17: =SUM(D17:O17) -> 1
B18: 2.0 | C18: ='ORÇAMENTO S.D.'!E17 -> CANTEIRO DE OBRAS E SINALIZAÇÃO | D18: =$P18*D19 -> 7760.484 | E18: =$P18*E19 -> 5820.363 | F18: =$P18*F19 -> 5820.363 | G18: =$P18*G19 -> 0 | H18: =$P18*H19 -> 0 | I18: =$P18*I19 -> 0 | J18: =$P18*J19 -> 0 | K18: =$P18*K19 -> 0 | ... O18: =$P18*O19 -> 0 | P18: ='ORÇAMENTO S.D.'!L25 -> 19401.21 | R18: =SUM(D18:O18) -> 19401.21
D19: 0.4 | E19: 0.3 | F19: 0.3 | Q19: =IFERROR(P18/$P$38,"-") -> 0.018206757 | R19: =SUM(D19:O19) -> 1
B20: 3.0 | C20: ='ORÇAMENTO S.D.'!E26 -> MOBILIZAÇÃO E DESMOBILIZAÇÃO | D20: =$P20*D21 -> 4614.2 | E20: =$P20*E21 -> 0 | F20: =$P20*F21 -> 0 | G20: =$P20*G21 -> 4614.2 | H20: =$P20*H21 -> 0 | I20: =$P20*I21 -> 0 | J20: =$P20*J21 -> 0 | K20: =$P20*K21 -> 0 | ... O20: =$P20*O21 -> 0 | P20: ='ORÇAMENTO S.D.'!L32 -> 9228.4 | R20: =SUM(D20:O20) -> 9228.4
D21: 0.5 | E21: 0 | F21: 0 | G21: 0.5 | Q21: =IFERROR(P20/$P$38,"-") -> 0.0086602451 | R21: =SUM(D21:O21) -> 1
B22: 4.0 | C22: ='ORÇAMENTO S.D.'!E33 -> FUNDAÇÃO PARA INSTALAÇÃO DE OBRAS DE ARTE PARA PASSAGEM DE PEDESTRES | D22: =$P22*D23 -> 27404.94 | E22: =$P22*E23 -> 0 | F22: =$P22*F23 -> 0 | G22: =$P22*G23 -> 0 | H22: =$P22*H23 -> 0 | I22: =$P22*I23 -> 0 | J22: =$P22*J23 -> 0 | K22: =$P22*K23 -> 0 | ... O22: =$P22*O23 -> 0 | P22: ='ORÇAMENTO S.D.'!L45 -> 27404.94 | R22: =SUM(D22:O22) -> 27404.94
D23: 1 | E23: 0 | F23: 0 | Q23: =IFERROR(P22/$P$38,"-") -> 0.02571773 | R23: =SUM(D23:O23) -> 1
B24: 5.0 | C24: ='ORÇAMENTO S.D.'!E46 -> PILARES PRÉ-MOLDADO PARA PASSARELA DE PEDESTRES | D24: =$P24*D25 -> 10076.464 | E24: =$P24*E25 -> 2519.116 | F24: =$P24*F25 -> 0 | G24: =$P24*G25 -> 0 | H24: =$P24*H25 -> 0 | I24: =$P24*I25 -> 0 | J24: =$P24*J25 -> 0 | K24: =$P24*K25 -> 0 | ... O24: =$P24*O25 -> 0 | P24: ='ORÇAMENTO S.D.'!L54 -> 12595.58 | R24: =SUM(D24:O24) -> 12595.58
D25: 0.8 | E25: 0.2 | F25: 0 | Q25: =IFERROR(P24/$P$38,"-") -> 0.011820122 | R25: =SUM(D25:O25) -> 1
B26: 6.0 | C26: ='ORÇAMENTO S.D.'!E64 -> RAMPAS DE ACESSO ÀS PASSARELAS | D26: =$P26*D27 -> 0 | E26: =$P26*E27 -> 59577.1 | F26: =$P26*F27 -> 59577.1 | G26: =$P26*G27 -> 0 | H26: =$P26*H27 -> 0 | I26: =$P26*I27 -> 0 | J26: =$P26*J27 -> 0 | K26: =$P26*K27 -> 0 | ... O26: =$P26*O27 -> 0 | P26: ='ORÇAMENTO S.D.'!L83 -> 119154.2 | R26: =SUM(D26:O26) -> 119154.2
D27: 0 | E27: 0.5 | F27: 0.5 | Q27: =IFERROR(P26/$P$38,"-") -> 0.11181836 | R27: =SUM(D27:O27) -> 1
B28: 7.0 | C28: ='ORÇAMENTO S.D.'!E55 -> SUPERESTRUTURA PASSARELAS DE PEDESTRES | D28: =$P28*D29 -> 18375.945 | E28: =$P28*E29 -> 18375.945 | F28: =$P28*F29 -> 0 | G28: =$P28*G29 -> 0 | H28: =$P28*H29 -> 0 | I28: =$P28*I29 -> 0 | J28: =$P28*J29 -> 0 | K28: =$P28*K29 -> 0 | ... O28: =$P28*O29 -> 0 | P28: ='ORÇAMENTO S.D.'!L63 -> 36751.89 | R28: =SUM(D28:O28) -> 36751.89
D29: 0.5 | E29: 0.5 | F29: 0 | Q29: =IFERROR(P28/$P$38,"-") -> 0.034489226 | R29: =SUM(D29:O29) -> 1
B30: 8.0 | C30: ='ORÇAMENTO S.D.'!E84 -> GUARDA-CORPO PARA PASSARELA DE PEDESTRES - FORNECIMENTO E INSTALAÇÃO | D30: =$P30*D31 -> 138049 | E30: =$P30*E31 -> 0 | F30: =$P30*F31 -> 141063.42 | G30: =$P30*G31 -> 0 | P30: ='ORÇAMENTO S.D.'!L89 -> 279112.42 | R30: =SUM(D30:O30) -> 279112.42
D31: 0.4946 | E31: 0 | F31: 0.5054 | Q31: =IFERROR(P30/$P$38,"-") -> 0.26192861 | R31: =SUM(D31:O31) -> 1
B32: 9.0 | C32: ='ORÇAMENTO S.D.'!E90 -> ESTACA BARRETE - ADEQUAÇÃO DE ALTURA | D32: =$P32*D33 -> 140014.16 | E32: =$P32*E33 -> 140014.16 | F32: =$P32*F33 -> 120012.13 | G32: =$P32*G33 -> 0 | P32: ='ORÇAMENTO S.D.'!L100 -> 400040.45 | R32: =SUM(D32:O32) -> 400040.45
D33: 0.35 | E33: 0.35 | F33: 0.3 | Q33: =IFERROR(P32/$P$38,"-") -> 0.37541159 | R33: =SUM(D33:O33) -> 1
B34: 10.0 | C34: ='ORÇAMENTO S.D.'!E101 -> URBANIZAÇÃO | D34: =$P34*D35 -> 0 | E34: =$P34*E35 -> 0 | F34: =$P34*F35 -> 0 | G34: =$P34*G35 -> 29339.67 | H34: =$P34*H35 -> 0 | I34: =$P34*I35 -> 0 | J34: =$P34*J35 -> 0 | K34: =$P34*K35 -> 0 | ... O34: =$P34*O35 -> 0 | P34: ='ORÇAMENTO S.D.'!L105 -> 29339.67 | R34: =SUM(D34:O34) -> 29339.67
D35: 0 | E35: 0 | G35: 1 | Q35: =IFERROR(P34/$P$38,"-") -> 0.027533346 | R35: =SUM(D35:O35) -> 1
B36: 11.0 | C36: ILUMINAÇÃO PÚBLICA | D36: =$P36*D37 -> 0 | E36: =$P36*E37 -> 0 | F36: =$P36*F37 -> 0 | G36: =$P36*G37 -> 15668.64 | H36: =$P36*H37 -> 0 | I36: =$P36*I37 -> 0 | J36: =$P36*J37 -> 0 | K36: =$P36*K37 -> 0 | ... O36: =$P36*O37 -> 0 | P36: ='ORÇAMENTO S.D.'!L109 -> 15668.64
D37: 0 | E37: 0 | G37: 1 | Q37: =IFERROR(P36/$P$38,"-") -> 0.014703986
B38: TOTAL DA PARCELA (R$) | D38: =SUM(D16,D18,D20,D22,D24,D26,D28,D34,D30,D32,D36) -> 375522.08 | E38: =SUM(E16,E18,E20,E22,E24,E26,E28,E34,E30,E32,E36) -> 255533.57 | F38: =SUM(F16,F18,F20,F22,F24,F26,F28,F34,F30,F32,F36) -> 355699.9 | G38: =SUM(G16,G18,G20,G22,G24,G26,G28,G34,G30,G32,G36) -> 78849.395 | H38: =SUM(H16,H18,H20,H22,#REF!,H24) -> #REF! | I38: =SUM(I16,I18,I20,I22,#REF!,I24) -> #REF! | J38: =SUM(J16,J18,J20,J22,#REF!,J24) -> #REF! | K38: =SUM(K16,K18,K20,K22,#REF!,K24) -> #REF! | L38: =SUM(L16,L18,L20,L22,#REF!,L24) -> #REF! | M38: =SUM(M16,M18,M20,M22,#REF!,M24) -> #REF! | N38: =SUM(N16,N18,N20,N22,#REF!,N24) -> #REF! | O38: =SUM(O16,O18,O20,O22,#REF!,O24) -> #REF! | P38: =SUM(P15:P37) -> 1065604.9 | Q38: =SUM(Q15:Q37) -> 1
B39: COEFICIENTE DE INF. PARCELADO % | D39: =IFERROR(D38/$P$38,"-") -> 0.35240272 | E39: =IFERROR(E38/$P$38,"-") -> 0.23980141 | F39: =IFERROR(F38/$P$38,"-") -> 0.33380091 | G39: =IFERROR(G38/$P$38,"-") -> 0.07399496 | H39: =IFERROR(H38/$P$38,"-") -> - | I39: =IFERROR(I38/$P$38,"-") -> - | J39: =IFERROR(J38/$P$38,"-") -> - | K39: =IFERROR(K38/$P$38,"-") -> - | ... O39: =IFERROR(O38/$P$38,"-") -> -
B40: TOTAL ACUMULADO (R$) | D40: =D38 -> 375522.08 | E40: =SUM(D40,E38) -> 631055.64 | F40: =SUM(E40,F38) -> 986755.54 | G40: =SUM(F40,G38) -> 1065604.9 | H40: =SUM(G40,H38) -> #REF! | I40: =SUM(H40,I38) -> #REF! | J40: =SUM(I40,J38) -> #REF! | K40: =SUM(J40,K38) -> #REF! | L40: =SUM(K40,L38) -> #REF! | ... O40: =SUM(N40,O38) -> #REF!
B41: COEFICIENTE DE INF. ACUMULADO % | D41: =D39 -> 0.35240272 | E41: =SUM(D41,E39) -> 0.59220413 | F41: =SUM(E41,F39) -> 0.92600504 | G41: =SUM(F41,G39) -> 1 | H41: =SUM(G41,H39) -> 1 | I41: =SUM(H41,I39) -> 1 | J41: =SUM(I41,J39) -> 1 | K41: =SUM(J41,K39) -> 1 | L41: =SUM(K41,L39) -> 1 | ... O41: =SUM(N41,O39) -> 1
B42: OBS:
B44: CÁLCULO ADMINISTRAÇÃO LOCAL
B45: VALOR TOTAL DAS MEDIÇÕES SEM ADM LOCAL | D45: =+D16 -> 29226.885 | E45: =+E16 -> 29226.885 | F45: =+F16 -> 29226.885 | G45: =G16 -> 29226.885 | H45: =SUM(H18,H20,H22,#REF!,H24) -> #REF! | I45: =SUM(I18,I20,I22,#REF!,I24) -> #REF! | J45: =SUM(J18,J20,J22,#REF!,J24) -> #REF! | K45: =SUM(K18,K20,K22,#REF!,K24) -> #REF! | L45: =SUM(L18,L20,L22,#REF!,L24) -> #REF! | M45: =SUM(M18,M20,M22,#REF!,M24) -> #REF! | N45: =SUM(N18,N20,N22,#REF!,N24) -> #REF! | O45: =SUM(O18,O20,O22,#REF!,O24) -> #REF! | P45: =+D45+E45+F45+G45 -> 116907.54
B46: PORCENTAGEM MENSAL PARA ADM LOCAL | D46: =IFERROR(D45/$P$45,0) -> 0.25 | E46: =IFERROR(E45/$P$45,0) -> 0.25 | F46: =IFERROR(F45/$P$45,0) -> 0.25 | G46: =IFERROR(G45/$P$45,0) -> 0.25 | H46: =IFERROR(H45/$P$45,0) -> 0 | I46: =IFERROR(I45/$P$45,0) -> 0 | J46: =IFERROR(J45/$P$45,0) -> 0 | K46: =IFERROR(K45/$P$45,0) -> 0 | ... O46: =IFERROR(O45/$P$45,0) -> 0
...

Sheet CRONOGRAMA C.D.
B2: PREFEITURA MUNICIPAL DE CURITIBA
B3: SECRETARIA MUNICIPAL DE OBRAS PÚBLICAS
B4: DEPARTAMENTO DE PONTES E DRENAGEM
B6: CRONOGRAMA FÍSICO FINANCEIRO - COM DESONERAÇÃO
B8: PROJETO: | C8: ='DADOS GERAIS'!C21 -> 5385 | P8: NÚMERO DO ORÇAMENTO | Q8: ='DADOS GERAIS'!C13 -> 0
B9: BAIRRO: | C9: ='DADOS GERAIS'!C11 -> PAROLIN
B10: LOCAL: | C10: ='DADOS GERAIS'!C12 -> Rua Vila Guaíra / altura das ruas Chanceler Lauro Müller e Antônio Parolin Júnior
B11: OBRA : | C11: ='DADOS GERAIS'!C22 -> PASSARELAS VILA GUAÍRA
B13: ITEM | C13: DISCRIMINAÇÃO DOS SERVIÇOS | D13: PRAZO | P13: TOTAL DE CADA | Q13: COEFICIENTE | R13: CONFERÊNCIA
D14: 30 DIAS | E14: 60 DIAS | F14: 90 DIAS | G14: 120 DIAS | H14: 150 DIAS | I14: 180 DIAS | J14: 210 DIAS | K14: 240 DIAS | L14: 270 DIAS | M14: 300 DIAS | N14: 330 DIAS | O14: 360 DIAS | P14: SERVIÇO (R$) | Q14: INF. %
B16: 1.0 | C16: ='ORÇAMENTO S.D.'!E13 -> ADMINISTRAÇÃO LOCAL DA OBRA | D16: =$P16*D17 -> 28242.667 | E16: =$P16*E17 -> 28242.667 | F16: =$P16*F17 -> 28242.667 | G16: =$P16*G17 -> 28242.667 | H16: =$P16*H17 -> 0 | I16: =$P16*I17 -> 0 | J16: =$P16*J17 -> 0 | K16: =$P16*K17 -> 0 | ... O16: =$P16*O17 -> 0 | P16: ='ORÇAMENTO C.D.'!L16 -> 112970.67 | R16: =SUM(D16:O16) -> 112970.67
D17: 0.25 | E17: 0.25 | F17: 0.25 | G17: 0.25 | H17: =H46 -> 0 | I17: =I46 -> 0 | J17: =J46 -> 0 | K17: =K46 -> 0 | L17: =L46 -> 0 | M17: =M46 -> 0 | N17: =N46 -> 0 | O17: =O46 -> 0 | Q17: =IFERROR(P16/$P$38,"-") -> 0.10500649 | R17: =SUM(D17:O17) -> 1
B18: 2.0 | C18: ='ORÇAMENTO S.D.'!E17 -> CANTEIRO DE OBRAS E SINALIZAÇÃO | D18: =$P18*D19 -> 7943.052 | E18: =$P18*E19 -> 5957.289 | F18: =$P18*F19 -> 5957.289 | G18: =$P18*G19 -> 0 | H18: =$P18*H19 -> 0 | I18: =$P18*I19 -> 0 | J18: =$P18*J19 -> 0 | K18: =$P18*K19 -> 0 | ... O18: =$P18*O19 -> 0 | P18: ='ORÇAMENTO C.D.'!L25 -> 19857.63 | R18: =SUM(D18:O18) -> 19857.63
D19: 0.4 | E19: 0.3 | F19: 0.3 | Q19: =IFERROR(P18/$P$38,"-") -> 0.018457711 | R19: =SUM(D19:O19) -> 1
B20: 3.0 | C20: ='ORÇAMENTO S.D.'!E26 -> MOBILIZAÇÃO E DESMOBILIZAÇÃO | D20: =$P20*D21 -> 4724.08 | E20: =$P20*E21 -> 0 | F20: =$P20*F21 -> 0 | G20: =$P20*G21 -> 4724.08 | H20: =$P20*H21 -> 0 | I20: =$P20*I21 -> 0 | J20: =$P20*J21 -> 0 | K20: =$P20*K21 -> 0 | ... O20: =$P20*O21 -> 0 | P20: ='ORÇAMENTO C.D.'!L32 -> 9448.16 | R20: =SUM(D20:O20) -> 9448.16
D21: 0.5 | E21: 0 | F21: 0 | G21: 0.5 | Q21: =IFERROR(P20/$P$38,"-") -> 0.0087820856 | R21: =SUM(D21:O21) -> 1
B22: 4.0 | C22: ='ORÇAMENTO S.D.'!E33 -> FUNDAÇÃO PARA INSTALAÇÃO DE OBRAS DE ARTE PARA PASSAGEM DE PEDESTRES | D22: =$P22*D23 -> 27784.37 | E22: =$P22*E23 -> 0 | F22: =$P22*F23 -> 0 | G22: =$P22*G23 -> 0 | H22: =$P22*H23 -> 0 | I22: =$P22*I23 -> 0 | J22: =$P22*J23 -> 0 | K22: =$P22*K23 -> 0 | ... O22: =$P22*O23 -> 0 | P22: ='ORÇAMENTO C.D.'!L45 -> 27784.37 | R22: =SUM(D22:O22) -> 27784.37
D23: 1 | E23: 0 | F23: 0 | Q23: =IFERROR(P22/$P$38,"-") -> 0.025825633 | R23: =SUM(D23:O23) -> 1
B24: 5.0 | C24: ='ORÇAMENTO S.D.'!E46 -> PILARES PRÉ-MOLDADO PARA PASSARELA DE PEDESTRES | D24: =$P24*D25 -> 10125.16 | E24: =$P24*E25 -> 2531.29 | F24: =$P24*F25 -> 0 | G24: =$P24*G25 -> 0 | H24: =$P24*H25 -> 0 | I24: =$P24*I25 -> 0 | J24: =$P24*J25 -> 0 | K24: =$P24*K25 -> 0 | ... O24: =$P24*O25 -> 0 | P24: ='ORÇAMENTO C.D.'!L54 -> 12656.45 | R24: =SUM(D24:O24) -> 12656.45
D25: 0.8 | E25: 0.2 | F25: 0 | Q25: =IFERROR(P24/$P$38,"-") -> 0.011764198 | R25: =SUM(D25:O25) -> 1
B26: 6.0 | C26: ='ORÇAMENTO S.D.'!E64 -> RAMPAS DE ACESSO ÀS PASSARELAS | D26: =$P26*D27 -> 0 | E26: =$P26*E27 -> 59805.405 | F26: =$P26*F27 -> 59805.405 | G26: =$P26*G27 -> 0 | H26: =$P26*H27 -> 0 | I26: =$P26*I27 -> 0 | J26: =$P26*J27 -> 0 | K26: =$P26*K27 -> 0 | ... O26: =$P26*O27 -> 0 | P26: ='ORÇAMENTO C.D.'!L83 -> 119610.81 | R26: =SUM(D26:O26) -> 119610.81
D27: 0 | E27: 0.5 | F27: 0.5 | Q27: =IFERROR(P26/$P$38,"-") -> 0.11117851 | R27: =SUM(D27:O27) -> 1
B28: 7.0 | C28: ='ORÇAMENTO S.D.'!E55 -> SUPERESTRUTURA PASSARELAS DE PEDESTRES | D28: =$P28*D29 -> 18856.885 | E28: =$P28*E29 -> 18856.885 | F28: =$P28*F29 -> 0 | G28: =$P28*G29 -> 0 | H28: =$P28*H29 -> 0 | I28: =$P28*I29 -> 0 | J28: =$P28*J29 -> 0 | K28: =$P28*K29 -> 0 | ... O28: =$P28*O29 -> 0 | P28: ='ORÇAMENTO C.D.'!L63 -> 37713.77 | R28: =SUM(D28:O28) -> 37713.77
D29: 0.5 | E29: 0.5 | F29: 0 | Q29: =IFERROR(P28/$P$38,"-") -> 0.035055033 | R29: =SUM(D29:O29) -> 1
B30: 8.0 | C30: ='ORÇAMENTO S.D.'!E84 -> GUARDA-CORPO PARA PASSARELA DE PEDESTRES - FORNECIMENTO E INSTALAÇÃO | D30: =$P30*D31 -> 142486.86 | E30: =$P30*E31 -> 0 | F30: =$P30*F31 -> 145598.18 | G30: =$P30*G31 -> 0 | P30: ='ORÇAMENTO C.D.'!L89 -> 288085.04 | R30: =SUM(D30:O30) -> 288085.04
D31: 0.4946 | E31: 0 | F31: 0.5054 | Q31: =IFERROR(P30/$P$38,"-") -> 0.26777568 | R31: =SUM(D31:O31) -> 1
B32: 9.0 | C32: ='ORÇAMENTO S.D.'!E90 -> ESTACA BARRETE - ADEQUAÇÃO DE ALTURA | D32: =$P32*D33 -> 140838.4 | E32: =$P32*E33 -> 140838.4 | F32: =$P32*F33 -> 120718.63 | G32: =$P32*G33 -> 0 | P32: ='ORÇAMENTO C.D.'!L100 -> 402395.42 | R32: =SUM(D32:O32) -> 402395.42
D33: 0.35 | E33: 0.35 | F33: 0.3 | Q33: =IFERROR(P32/$P$38,"-") -> 0.37402743 | R33: =SUM(D33:O33) -> 1
B34: 10.0 | C34: ='ORÇAMENTO S.D.'!E101 -> URBANIZAÇÃO | D34: =$P34*D35 -> 0 | E34: =$P34*E35 -> 0 | F34: =$P34*F35 -> 0 | G34: =$P34*G35 -> 29256.85 | H34: =$P34*H35 -> 0 | I34: =$P34*I35 -> 0 | J34: =$P34*J35 -> 0 | K34: =$P34*K35 -> 0 | ... O34: =$P34*O35 -> 0 | P34: ='ORÇAMENTO C.D.'!L105 -> 29256.85 | R34: =SUM(D34:O34) -> 29256.85
D35: 0 | E35: 0 | G35: 1 | Q35: =IFERROR(P34/$P$38,"-") -> 0.027194307 | R35: =SUM(D35:O35) -> 1
B36: 11.0 | C36: ILUMINAÇÃO PÚBLICA | D36: =$P36*D37 -> 0 | E36: =$P36*E37 -> 0 | F36: =$P36*F37 -> 0 | G36: =$P36*G37 -> 16065.5 | H36: =$P36*H37 -> 0 | I36: =$P36*I37 -> 0 | J36: =$P36*J37 -> 0 | K36: =$P36*K37 -> 0 | ... O36: =$P36*O37 -> 0 | P36: ='ORÇAMENTO C.D.'!L109 -> 16065.5
D37: 0 | E37: 0 | G37: 1 | Q37: =IFERROR(P36/$P$38,"-") -> 0.014932918
B38: TOTAL DA PARCELA (R$) | D38: =SUM(D16,D18,D20,D22,D24,D26,D28,D34,D30,D32,D36) -> 381001.47 | E38: =SUM(E16,E18,E20,E22,E24,E26,E28,E34,E30,E32,E36) -> 256231.93 | F38: =SUM(F16,F18,F20,F22,F24,F26,F28,F34,F30,F32,F36) -> 360322.17 | G38: =SUM(G16,G18,G20,G22,G24,G26,G28,G34,G30,G32,G36) -> 78289.098 | H38: =SUM(H16,H18,H20,H22,#REF!,H24) -> #REF! | I38: =SUM(I16,I18,I20,I22,#REF!,I24) -> #REF! | J38: =SUM(J16,J18,J20,J22,#REF!,J24) -> #REF! | K38: =SUM(K16,K18,K20,K22,#REF!,K24) -> #REF! | L38: =SUM(L16,L18,L20,L22,#REF!,L24) -> #REF! | M38: =SUM(M16,M18,M20,M22,#REF!,M24) -> #REF! | N38: =SUM(N16,N18,N20,N22,#REF!,N24) -> #REF! | O38: =SUM(O16,O18,O20,O22,#REF!,O24) -> #REF! | P38: =SUM(P15:P37) -> 1075844.7 | Q38: =SUM(Q15:Q37) -> 1
B39: COEFICIENTE DE INF. PARCELADO % | D39: =IFERROR(D38/$P$38,"-") -> 0.35414171 | E39: =IFERROR(E38/$P$38,"-") -> 0.23816815 | F39: =IFERROR(F38/$P$38,"-") -> 0.33492025 | G39: =IFERROR(G38/$P$38,"-") -> 0.072769889 | H39: =IFERROR(H38/$P$38,"-") -> - | I39: =IFERROR(I38/$P$38,"-") -> - | J39: =IFERROR(J38/$P$38,"-") -> - | K39: =IFERROR(K38/$P$38,"-") -> - | ... O39: =IFERROR(O38/$P$38,"-") -> -
B40: TOTAL ACUMULADO (R$) | D40: =D38 -> 381001.47 | E40: =SUM(D40,E38) -> 637233.41 | F40: =SUM(E40,F38) -> 997555.57 | G40: =SUM(F40,G38) -> 1075844.7 | H40: =SUM(G40,H38) -> #REF! | I40: =SUM(H40,I38) -> #REF! | J40: =SUM(I40,J38) -> #REF! | K40: =SUM(J40,K38) -> #REF! | L40: =SUM(K40,L38) -> #REF! | ... O40: =SUM(N40,O38) -> #REF!
B41: COEFICIENTE DE INF. ACUMULADO % | D41: =D39 -> 0.35414171 | E41: =SUM(D41,E39) -> 0.59230986 | F41: =SUM(E41,F39) -> 0.92723011 | G41: =SUM(F41,G39) -> 1 | H41: =SUM(G41,H39) -> 1 | I41: =SUM(H41,I39) -> 1 | J41: =SUM(I41,J39) -> 1 | K41: =SUM(J41,K39) -> 1 | L41: =SUM(K41,L39) -> 1 | ... O41: =SUM(N41,O39) -> 1
B42: OBS:
B44: CÁLCULO ADMINISTRAÇÃO LOCAL
B45: VALOR TOTAL DAS MEDIÇÕES SEM ADM LOCAL | D45: =+D16 -> 28242.667 | E45: =+E16 -> 28242.667 | F45: =+F16 -> 28242.667 | G45: =G16 -> 28242.667 | H45: =SUM(H18,H20,H22,#REF!,H24) -> #REF! | I45: =SUM(I18,I20,I22,#REF!,I24) -> #REF! | J45: =SUM(J18,J20,J22,#REF!,J24) -> #REF! | K45: =SUM(K18,K20,K22,#REF!,K24) -> #REF! | L45: =SUM(L18,L20,L22,#REF!,L24) -> #REF! | M45: =SUM(M18,M20,M22,#REF!,M24) -> #REF! | N45: =SUM(N18,N20,N22,#REF!,N24) -> #REF! | O45: =SUM(O18,O20,O22,#REF!,O24) -> #REF! | P45: =+D45+E45+F45+G45 -> 112970.67
B46: PORCENTAGEM MENSAL PARA ADM LOCAL | D46: =IFERROR(D45/$P$45,0) -> 0.25 | E46: =IFERROR(E45/$P$45,0) -> 0.25 | F46: =IFERROR(F45/$P$45,0) -> 0.25 | G46: =IFERROR(G45/$P$45,0) -> 0.25 | H46: =IFERROR(H45/$P$45,0) -> 0 | I46: =IFERROR(I45/$P$45,0) -> 0 | J46: =IFERROR(J45/$P$45,0) -> 0 | K46: =IFERROR(K45/$P$45,0) -> 0 | ... O46: =IFERROR(O45/$P$45,0) -> 0
...

Sheet COMPOSIÇÕES
A1: COMPOSIÇÕES
A2: Referência: SINAPI JUNHO/2026 // SICRO ABRIL/2026 // SANEPAR JULHO/2026 // COPEL JULHO/2026 // SIURB INFRA JANEIRO/2026 // SIURB JANEIRO/2026 // SUDECAP ABRIL/2026 // FDE ABRIL/2026 // SCO JUNHO/2026 // AGETOP CIVIL 04/2026 // OUTROS JUNHO/2026
A4: CÓD | B4: REF | C4: DESCRIÇÃO | D4: UNID. | E4: VALOR UNIT. SD | F4: VALOR UNIT. CD
A5: ALO-001 | B5: COMPOSIÇÃO | C5: ADMINISTRAÇÃO LOCAL DA OBRA | D5: =VLOOKUP($A5,'AUX COMPOSIÇÕES'!$A$3:$L$1130,4,FALSE) -> % | E5: =VLOOKUP($A5,'AUX COMPOSIÇÕES'!$A$3:$L$1130,7,FALSE) -> 96657.75 | F5: =VLOOKUP($A5,'AUX COMPOSIÇÕES'!$A$3:$L$1130,9,FALSE) -> 90783.25
A6: ALO-002 | B6: COMPOSIÇÃO | C6: VIGIA | D6: =VLOOKUP($A6,'AUX COMPOSIÇÕES'!$A$3:$L$1130,4,FALSE) -> % | E6: =VLOOKUP($A6,'AUX COMPOSIÇÕES'!$A$3:$L$1130,7,FALSE) -> 6730.13 | F6: =VLOOKUP($A6,'AUX COMPOSIÇÕES'!$A$3:$L$1130,9,FALSE) -> 6327.57
A7: COM-001 | B7: COMPOSIÇÃO | C7: CONSUMO DE ÁGUA E ESGOTO | D7: =VLOOKUP($A7,'AUX COMPOSIÇÕES'!$A$3:$L$1130,4,FALSE) -> mês | E7: =VLOOKUP($A7,'AUX COMPOSIÇÕES'!$A$3:$L$1130,7,FALSE) -> 797.91 | F7: =VLOOKUP($A7,'AUX COMPOSIÇÕES'!$A$3:$L$1130,9,FALSE) -> 797.91
A8: COM-002 | B8: COMPOSIÇÃO | C8: CONSUMO DE ENERGIA | D8: =VLOOKUP($A8,'AUX COMPOSIÇÕES'!$A$3:$L$1130,4,FALSE) -> mês | E8: =VLOOKUP($A8,'AUX COMPOSIÇÕES'!$A$3:$L$1130,7,FALSE) -> 384.01 | F8: =VLOOKUP($A8,'AUX COMPOSIÇÕES'!$A$3:$L$1130,9,FALSE) -> 384.01
A9: COM-003 | B9: COMPOSIÇÃO | C9: FORMA PARA CONCRETO PRÉ-MOLDADO, INCLUSIVE DESFORMA | D9: =VLOOKUP($A9,'AUX COMPOSIÇÕES'!$A$3:$L$1130,4,FALSE) -> m² | E9: =VLOOKUP($A9,'AUX COMPOSIÇÕES'!$A$3:$L$1130,7,FALSE) -> 64.55 | F9: =VLOOKUP($A9,'AUX COMPOSIÇÕES'!$A$3:$L$1130,9,FALSE) -> 62.5
A10: COM-004 | B10: COMPOSIÇÃO | C10: ALVENARIA DE BLOCOS DE CONCRETO ESTRUTURAL 19X19X29 CM (ESPESSURA 19 CM), FBK = 4,5 MPA, UTILIZANDO PALHETA | D10: =VLOOKUP($A10,'AUX COMPOSIÇÕES'!$A$3:$L$1130,4,FALSE) -> m² | E10: =VLOOKUP($A10,'AUX COMPOSIÇÕES'!$A$3:$L$1130,7,FALSE) -> 145.77 | F10: =VLOOKUP($A10,'AUX COMPOSIÇÕES'!$A$3:$L$1130,9,FALSE) -> 142.82
A11: COM-005 | B11: COMPOSIÇÃO | C11: MONTAGEM DE PILARES PRÉ-FABRICADOS, INCLUSO IÇAMENTO COM GUINDASTE | D11: =VLOOKUP($A11,'AUX COMPOSIÇÕES'!$A$3:$L$1130,4,FALSE) -> un | E11: =VLOOKUP($A11,'AUX COMPOSIÇÕES'!$A$3:$L$1130,7,FALSE) -> 513.54 | F11: =VLOOKUP($A11,'AUX COMPOSIÇÕES'!$A$3:$L$1130,9,FALSE) -> 497.3
A12: COM-006 | B12: COMPOSIÇÃO | C12: FURAÇÃO PARA 10,0MM EM CONCRETO ARMADO, INCLUSIVE COLAGEM DE ARMADURA (PARA 8MM) - PROFUNDADE 13 CM | D12: =VLOOKUP($A12,'AUX COMPOSIÇÕES'!$A$3:$L$1130,4,FALSE) -> un | E12: =VLOOKUP($A12,'AUX COMPOSIÇÕES'!$A$3:$L$1130,7,FALSE) -> 15.98 | F12: =VLOOKUP($A12,'AUX COMPOSIÇÕES'!$A$3:$L$1130,9,FALSE) -> 15.46
A13: COM-007 | B13: COMPOSIÇÃO | C13: FURAÇÃO PARA 10,0MM EM CONCRETO ARMADO, INCLUSIVE COLAGEM DE ARMADURA (PARA 8MM) - PROFUNDADE 15 CM | D13: =VLOOKUP($A13,'AUX COMPOSIÇÕES'!$A$3:$L$1130,4,FALSE) -> un | E13: =VLOOKUP($A13,'AUX COMPOSIÇÕES'!$A$3:$L$1130,7,FALSE) -> 18.49 | F13: =VLOOKUP($A13,'AUX COMPOSIÇÕES'!$A$3:$L$1130,9,FALSE) -> 17.88
A14: COM-008 | B14: COMPOSIÇÃO | C14: FURAÇÃO PARA 10,0MM EM CONCRETO ARMADO, INCLUSIVE COLAGEM DE ARMADURA (PARA 8MM) - PROFUNDADE 18 CM | D14: =VLOOKUP($A14,'AUX COMPOSIÇÕES'!$A$3:$L$1130,4,FALSE) -> un | E14: =VLOOKUP($A14,'AUX COMPOSIÇÕES'!$A$3:$L$1130,7,FALSE) -> 22.24 | F14: =VLOOKUP($A14,'AUX COMPOSIÇÕES'!$A$3:$L$1130,9,FALSE) -> 21.5
A15: COM-009 | B15: COMPOSIÇÃO | C15: ESTACA ESCAVADA COM TRADO MANUAL, D=25CM, INCLUSIVE CONCRETO EXCLUSIVE ARMAÇÃO | D15: =VLOOKUP($A15,'AUX COMPOSIÇÕES'!$A$3:$L$1130,4,FALSE) -> M | E15: =VLOOKUP($A15,'AUX COMPOSIÇÕES'!$A$3:$L$1130,7,FALSE) -> 100.88 | F15: =VLOOKUP($A15,'AUX COMPOSIÇÕES'!$A$3:$L$1130,9,FALSE) -> 97.02
A16: COM-010 | B16: COMPOSIÇÃO | C16: REBOCO ARGAMASSA PREFABRICADA EM PAREDES - FACHADA DAS RAMPAS | D16: =VLOOKUP($A16,'AUX COMPOSIÇÕES'!$A$3:$L$1130,4,FALSE) -> m³ | E16: =VLOOKUP($A16,'AUX COMPOSIÇÕES'!$A$3:$L$1130,7,FALSE) -> 24.07 | F16: =VLOOKUP($A16,'AUX COMPOSIÇÕES'!$A$3:$L$1130,9,FALSE) -> 22.92
... A24: COM-018 | B24: COMPOSIÇÃO | C24: ILUMINAÇÃO PÚBLICA DAS PASSARELAS - FORNECIMENTO E INSTALAÇÃO | D24: =VLOOKUP($A24,'AUX COMPOSIÇÕES'!$A$3:$L$1130,4,FALSE) -> un | E24: =VLOOKUP($A24,'AUX COMPOSIÇÕES'!$A$3:$L$1130,7,FALSE) -> 12954.65 | F24: =VLOOKUP($A24,'AUX COMPOSIÇÕES'!$A$3:$L$1130,9,FALSE) -> 12910.24
A25: MOB-001 | B25: COMPOSIÇÃO | C25: MOBILIZAÇÃO/DESMOBILIZAÇÃO DE EQUIPAMENTO - RETRO-ESCAVADEIRA | D25: =VLOOKUP($A25,MOBILIZAÇÃO!$A$2:$M$1163,4,FALSE) -> Serviço | E25: =VLOOKUP($A25,MOBILIZAÇÃO!$A$2:$M$1163,13,FALSE) -> 986.7598 | F25: =VLOOKUP($A25,MOBILIZAÇÃO!$A$2:$O$1163,14,FALSE) -> 982.0876
A26: MOB-002 | B26: COMPOSIÇÃO | C26: MOBILIZACAO/DESMOBILIZAÇÃO DE EQUIPAMENTO - ESTACAS PRE-MOLDADAS - BATE-ESTACAS | D26: =VLOOKUP($A26,MOBILIZAÇÃO!$A$2:$M$1163,4,FALSE) -> Serviço | E26: =VLOOKUP($A26,MOBILIZAÇÃO!$A$2:$M$1163,13,FALSE) -> 986.7598 | F26: =VLOOKUP($A26,MOBILIZAÇÃO!$A$2:$O$1163,14,FALSE) -> 982.0876
A27: MOB-003 | B27: COMPOSIÇÃO | C27: MOBILIZAÇÃO/DESMOBILIZAÇÃO DE EQUIPAMENTO - GUINDASTE HIDRÁULICO AUTOPROPELIDO | D27: =VLOOKUP($A27,MOBILIZAÇÃO!$A$2:$M$1163,4,FALSE) -> Serviço | E27: =VLOOKUP($A27,MOBILIZAÇÃO!$A$2:$M$1163,13,FALSE) -> 1097.7388 | F27: =VLOOKUP($A27,MOBILIZAÇÃO!$A$2:$O$1163,14,FALSE) -> 1093.0666
A28: MOB-004 | B28: COMPOSIÇÃO | C28: MOBILIZAÇÃO/DESMOBILIZAÇÃO DE EQUIPAMENTO - CONTAINER METÁLICO | D28: =VLOOKUP($A28,MOBILIZAÇÃO!$A$2:$M$1163,4,FALSE) -> Serviço | E28: =VLOOKUP($A28,MOBILIZAÇÃO!$A$2:$M$1163,13,FALSE) -> 743.7222 | F28: =VLOOKUP($A28,MOBILIZAÇÃO!$A$2:$O$1163,14,FALSE) -> 739.05

Sheet AUX COMPOSIÇÕES
A1: AUX COMPOSIÇÕES
A2: Referência: SINAPI JULHO/2026 // SICRO ABRIL/2026 // SANEPAR JULHO/2026 // COPEL JULHO/2026 // SIURB INFRA JANEIRO/2026 // SIURB JANEIRO/2026 // SUDECAP ABRIL/2026 // FDE ABRIL/2026 // SCO JUNHO/2026 // AGETOP CIVIL 04/2026 // AGESUL 06/2026 // SETOP 04/2026
A4: ALO-001 | B4: ADMINISTRAÇÃO LOCAL DA OBRA | D4: % | G4: =G9 -> 96657.75 | I4: =I9 -> 90783.25
A5: REFERÊNCIA | B5: CÓDIGO | C5: DESCRIÇÃO | D5: UNID. | E5: COEF. | F5: CUSTO UNIT. SD | G5: CUSTO PARCIAL SD | H5: CUSTO UNIT. CD | I5: CUSTO PARCIAL CD
A6: SINAPI | B6: 93565 | C6: ENGENHEIRO CIVIL DE OBRA JUNIOR COM ENCARGOS COMPLEMENTARES | D6: MES | E6: 0.3 | F6: 25185.04 | G6: =TRUNC(F6*$E6,2) -> 7555.51 | H6: 23425.51 | I6: =TRUNC(H6*$E6,2) -> 7027.65
A7: SINAPI | B7: 93572 | C7: ENCARREGADO GERAL DE OBRAS COM ENCARGOS COMPLEMENTARES | D7: MES | E7: 4 | F7: 8815.3 | G7: =TRUNC(F7*$E7,2) -> 35261.2 | H7: 8283.76 | I7: =TRUNC(H7*$E7,2) -> 33135.04
A8: COMPOSIÇÃO | B8: ALO-002 | C8: VIGIA | D8: MES | E8: 8 | F8: =G25 -> 6730.13 | G8: =TRUNC(F8*$E8,2) -> 53841.04 | H8: =I25 -> 6327.57 | I8: =TRUNC(H8*$E8,2) -> 50620.56 | J8: 2 vigias
C9: CUSTO UNITÁRIO TOTAL | G9: =SUM(G6:G8) -> 96657.75 | I9: =SUM(I6:I8) -> 90783.25
A11: ALO-002 | B11: VIGIA | D11: % | G11: =G25 -> 6730.13 | I11: =I25 -> 6327.57
A12: REFERÊNCIA | B12: CÓDIGO | C12: DESCRIÇÃO | D12: UNID. | E12: COEF. | F12: CUSTO UNIT. SD | G12: CUSTO PARCIAL SD | H12: CUSTO UNIT. CD | I12: CUSTO PARCIAL CD
A13: CCT | B13: - | C13: VIGIA - SINTRAPAV | D13: H | E13: 220 | F13: 10.72 | G13: =TRUNC(F13*$E13,2) -> 2358.4 | H13: 10.72 | I13: =TRUNC(H13*$E13,2) -> 2358.4 | J13: ATUALIZADO CCT 2026/2027
A14: LEGISLAÇÃO | B14: - | C14: ADICIONAL NOTURNO (20% DA HORA DIURNA) | D14: H | E14: =0.2*(7/12) -> 0.11666667 | F14: =G13 -> 2358.4 | G14: =TRUNC(F14*$E14,2) -> 275.14 | H14: =I13 -> 2358.4 | I14: =TRUNC(H14*$E14,2) -> 275.14
A15: LEGISLAÇÃO | B15: - | C15: REDUÇÃO DA HORA TRABALHADA (DE 60 MIN PARA 52,5 MIN) | D15: H | E15: =(60/52.5)-1 -> 0.14285714 | F15: =G13+G14 -> 2633.54 | G15: =TRUNC(F15*$E15,2) -> 376.22 | H15: =I13+I14 -> 2633.54 | I15: =TRUNC(H15*$E15,2) -> 376.22
A16: LEGISLAÇÃO | B16: - | C16: INDENIZAÇÃO INTRAJORNADA (50% DE UMA HORA NOTURNA) | D16: H | E16: =50%/12 -> 0.041666667 | F16: =(G13+G14+G15) -> 3009.76 | G16: =TRUNC(F16*$E16,2) -> 125.4 | H16: =(I13+I14+I15) -> 3009.76 | I16: =TRUNC(H16*$E16,2) -> 125.4
A17: SINAPI | B17: - | C17: ENCARGO SOCIAL (SD Mensal SINAPI = 71,23 % / CD Mensal SINAPI = 58,46 %) | D17: % | E17: 0.7123 | F17: =(G13+G14+G15+G16) -> 3135.16 | G17: =TRUNC(F17*E17,2) -> 2233.17 | H17: =(I13+I14+I15+I16) -> 3135.16 | I17: =TRUNC(H17*0.5846,2) -> 1832.81 | J17: VIGÊNCIA A PARTIR DE 01/2026
A18: SINAPI | B18: 37370 | C18: ALIMENTACAO - HORISTA (COLETADO CAIXA - ENCARGOS COMPLEMENTARES) | D18: H | E18: 110 | F18: 5.96 | G18: =TRUNC(F18*$E18,2) -> 655.6 | H18: 5.96 | I18: =TRUNC(H18*$E18,2) -> 655.6
A19: SINAPI | B19: 37371 | C19: TRANSPORTE - HORISTA (COLETADO CAIXA - ENCARGOS COMPLEMENTARES) | D19: H | E19: 110 | F19: 0.79 | G19: =TRUNC(F19*$E19,2) -> 86.9 | H19: 0.79 | I19: =TRUNC(H19*$E19,2) -> 86.9
A20: SINAPI | B20: 37372 | C20: EXAMES - HORISTA (COLETADO CAIXA - ENCARGOS COMPLEMENTARES) | D20: H | E20: 220 | F20: 1.58 | G20: =TRUNC(F20*$E20,2) -> 347.6 | H20: 1.58 | I20: =TRUNC(H20*$E20,2) -> 347.6
A21: SINAPI | B21: 37373 | C21: SEGURO - HORISTA (COLETADO CAIXA - ENCARGOS COMPLEMENTARES) | D21: H | E21: 220 | F21: 0.06 | G21: =TRUNC(F21*$E21,2) -> 13.2 | H21: 0.06 | I21: =TRUNC(H21*$E21,2) -> 13.2
A22: SINAPI | B22: 43467 | C22: FERRAMENTAS - FAMILIA SERVENTE - HORISTA (ENCARGOS COMPLEMENTARES - COLETADO CAIXA) | D22: H | E22: 110 | F22: 0.42 | G22: =TRUNC(F22*$E22,2) -> 46.2 | H22: 0.42 | I22: =TRUNC(H22*$E22,2) -> 46.2
A23: SINAPI | B23: 43491 | C23: EPI - FAMILIA SERVENTE - HORISTA (ENCARGOS COMPLEMENTARES - COLETADO CAIXA) | D23: H | E23: 110 | F23: 1.71 | G23: =TRUNC(F23*$E23,2) -> 188.1 | H23: 1.71 | I23: =TRUNC(H23*$E23,2) -> 188.1
A24: SINAPI | B24: 100288 | C24: CURSO DE CAPACITAÇÃO PARA VIGIA (ENCARGOS COMPLEMENTARES) - HORISTA | D24: H | E24: 220 | F24: 0.11 | G24: =TRUNC(F24*$E24,2) -> 24.2 | H24: 0.1 | I24: =TRUNC(H24*$E24,2) -> 22
C25: CUSTO UNITÁRIO TOTAL | G25: =SUM(G13:G24) -> 6730.13 | I25: =SUM(I13:I24) -> 6327.57
A27: COM-001 | B27: CONSUMO DE ÁGUA E ESGOTO | D27: mês | G27: =G35 -> 797.91 | I27: =I35 -> 797.91
A28: REFERÊNCIA | B28: CÓDIGO | C28: DESCRIÇÃO | D28: UNID. | E28: COEF. | F28: CUSTO UNIT. SD | G28: CUSTO PARCIAL SD | H28: CUSTO UNIT. CD | I28: CUSTO PARCIAL CD
A29: Sanepar | B29: Sanepar 1 | C29: CURITIBA - ÁGUA E ESGOTO COMERCIAL (ATÉ 5M³) | D29: ud | E29: 1 | F29: 183.46 | G29: =TRUNC($E29*F29,2) -> 183.46 | H29: 183.46 | I29: =TRUNC($E29*H29,2) -> 183.46
A30: Sanepar | B30: Sanepar 2 | C30: CURITIBA - ÁGUA E ESGOTO COMERCIAL (DE 6 ATÉ 10M³) | D30: m³ | E30: 5 | F30: 4.72 | G30: =TRUNC($E30*F30,2) -> 23.6 | H30: 4.72 | I30: =TRUNC($E30*H30,2) -> 23.6
A31: Sanepar | B31: Sanepar 3 | C31: CURITIBA - ÁGUA E ESGOTO COMERCIAL (DE 11 ATÉ 15M³) | D31: m³ | E31: 5 | F31: 23.37 | G31: =TRUNC($E31*F31,2) -> 116.85 | H31: 23.37 | I31: =TRUNC($E31*H31,2) -> 116.85
A32: Sanepar | B32: Sanepar 4 | C32: CURITIBA - ÁGUA E ESGOTO COMERCIAL (DE 16 ATÉ 20M³) | D32: m³ | E32: 5 | F32: 23.55 | G32: =TRUNC($E32*F32,2) -> 117.75 | H32: 23.55 | I32: =TRUNC($E32*H32,2) -> 117.75
A33: Sanepar | B33: Sanepar 5 | C33: CURITIBA - ÁGUA E ESGOTO COMERCIAL (DE 21 ATÉ 30M³) | D33: m³ | E33: 10 | F33: 23.69 | G33: =TRUNC($E33*F33,2) -> 236.9 | H33: 23.69 | I33: =TRUNC($E33*H33,2) -> 236.9
A34: Sanepar | B34: Sanepar 6 | C34: CURITIBA - ÁGUA E ESGOTO COMERCIAL ( > 30M³) | D34: m³ | E34: 5 | F34: 23.87 | G34: =TRUNC($E34*F34,2) -> 119.35 | H34: 23.87 | I34: =TRUNC($E34*H34,2) -> 119.35
C35: CUSTO UNITÁRIO TOTAL | G35: =SUM(G29:G34) -> 797.91 | I35: =SUM(I29:I34) -> 797.91
A36: Observação: Disponível em https://www.sanepar.com.br/tarifas - Comercial / Utilidade Pública / Poder Público (R$/m³) - Composição baseada na Tabela SMOP - ALO 009
A38: COM-002 | B38: CONSUMO DE ENERGIA | D38: mês | G38: =G41 -> 384.01 | I38: =I41 -> 384.01
A39: REFERÊNCIA | B39: CÓDIGO | C39: DESCRIÇÃO | D39: UNID. | E39: COEF. | F39: CUSTO UNIT. SD | G39: CUSTO PARCIAL SD | H39: CUSTO UNIT. CD | I39: CUSTO PARCIAL CD
A40: Copel | B40: Copel B3 | C40: CONSUMO DE ENERGIA ( TARIFA B3 - COMERCIAL ) | D40: Kwh | E40: 500 | F40: =0.31085+0.45717 -> 0.76802 | G40: =TRUNC($E40*F40,2) -> 384.01 | H40: =0.31085+0.45717 -> 0.76802 | I40: =TRUNC($E40*H40,2) -> 384.01
C41: CUSTO UNITÁRIO TOTAL | G41: =SUM(G40:G40) -> 384.01 | I41: =SUM(I40:I40) -> 384.01
A42: Observação: Disponível em https://www.copel.com/site/copel-distribuicao/tarifas-de-energia-eletrica/ - B3 - Comercial - Demais classes - Composição baseada na Tabela SMOP - ALO 010
A44: COM-003 | B44: FORMA PARA CONCRETO PRÉ-MOLDADO, INCLUSIVE DESFORMA | D44: m² | G44: =G51 -> 64.55 | I44: =I51 -> 62.5
A45: REFERÊNCIA | B45: CÓDIGO | C45: DESCRIÇÃO | D45: UNID. | E45: COEF. | F45: CUSTO UNIT. SD | G45: CUSTO PARCIAL SD | H45: CUSTO UNIT. CD | I45: CUSTO PARCIAL CD
...

Sheet COTAÇÕES
A1: RELATÓRIO DE COTAÇÕES - Decreto nº 384/2023
A2: Registra-se que foram realizadas pesquisas em lojas virtuais, sites especializados e fornecedores do ramo para obtenção de, no mínimo, três referências de preço para os insumos cotados, nos termos do art. 55, §5º, inciso I do Decreto Municipal nº 1.206/2023. Para os itens dos quais foram obtidas apenas duas referências tecnicamente compatíveis e aptas à formação do preço, em razão de baixa disponibilidade comercial e/ou das especificações particulares dos itens cotados, adotou-se o menor preço válido obtido, nos termos do art. 55, §5º, inciso II do Decreto Municipal nº 1.206/2023.
A4: CÓD. COTAÇÃO | B4: ITEM | G4: UNID. | H4: VALOR UNIT. | I4: CRITÉRIO
A6: COT-001 | B6: GUARDA CORPO PULTRUDADO PADRÃO NR14.718 C/BARRAS INTERMED. VERTICAIS - RETO FIX. SAPATA - H=1100MM - PASSARELA 01 | H6: m | I6: MENOR PREÇO
A7: DATA | B7: FONTE | C7: CNPJ | D7: TELEFONE | E7: ACESSO | F7: DESCRIÇÃO | G7: UNID. | H7: VALOR UNIT.
A8: 46176 | B8: Tech Composites Indústria e Comércio Ltda | C8: 02.758.940/0001-70 | D8: (41) 3131-1212 | E8: Contato com o fornecedor via e-mail: comercial2@techcomposites.com.br; resposta emitida em 03/06/2026; responsável: Jaine Portes Ukan, setor técnico/comercial | F8: Guarda-Corpo em PRFV, composto por montantes principais em tubo quadrado 2", distanciamento maximo entre montantes de 1200mm, altura: 1100mm, composto por travessao superior em tubo quadrado de 2" sobre este travessao superior ira conter um perfil U abaulado (passa mao), para o travessao inferior sera utilizado tubo quadrado 2", para as barras intermediarias sera utilizado tubo redondo 1.1/4" com espacamento de 110mm entre tubos, 2 sapatas pultrudadas, parafusos auto atarraxantes 3,5 x 25mm e chumbadores em INOX 304 | G8: M | H8: 3413.49
A9: 46226 | B9: Jamar Produtos Pultrudados Ltda | C9: 02.672.790/0001-87 | D9: (51) 3605-3619 (51) 99225-0521 | E9: Contato com o fornecedor via Whatsapp: (51) 99225-0521; resposta emitida em 23/07/2026; responsável: Tábata Cardoso, setor comercial | F9: GUARDA CORPO PULTRUDADO PADRÃO NR14.718 C/BARRAS INTERMED. VERTICAIS - RETO FIX. SAPATA - H=1100MM | G9: M | H9: 572.2
F10: CUSTO UNITÁRIO | H10: =SMALL(H8:H9,1) -> 572.2
A12: COT-002 | B12: GUARDA CORPO PULTRUDADO PADRÃO NR14.718 C/BARRAS INTERMED. VERTICAIS - INCLINADO FIX. SAPATA - H=1100MM - PASSARELA 02 | H12: m | I12: MENOR PREÇO
A13: DATA | B13: FONTE | C13: CNPJ | D13: TELEFONE | E13: ACESSO | F13: DESCRIÇÃO | G13: UNID. | H13: VALOR UNIT.
A14: 46176 | B14: Tech Composites Indústria e Comércio Ltda | C14: 02.758.940/0001-70 | D14: (41) 3131-1212 | E14: Contato com o fornecedor via e-mail: comercial2@techcomposites.com.br; resposta emitida em 03/06/2026; responsável: Jaine Portes Ukan, setor técnico/comercial | F14: Guarda-Corpo em PRFV, composto por montantes principais em tubo quadrado 2", distanciamento maximo entre montantes de 1200mm, altura: 1100mm, composto por travessao superior em tubo quadrado de 2" sobre este travessao superior ira conter um perfil U abaulado (passa mao), para o travessao inferior será utilizado tubo quadrado 2", para as barras intermediarias sera utilizado tubo redondo 1.1/4" com espacamento de 110mm entre tubos, 2 sapatas pultrudadas, parafusos auto atarraxantes 3,5 x 25mm e chumbadores em INOX 304 | G14: M | H14: 3264.49
A15: 46226 | B15: Jamar Produtos Pultrudados Ltda | C15: 02.672.790/0001-87 | D15: (51) 3605-3619 (51) 99225-0521 | E15: Contato com o fornecedor via Whatsapp: (51) 99225-0521; resposta emitida em 23/07/2026; responsável: Tábata Cardoso, setor comercial | F15: GUARDA CORPO PULTRUDADO PADRÃO NR14.718 C/BARRAS INTERMED. VERTICAIS - INCLINADO FIX. SAPATA - H=1100MM | G15: M | H15: 733.6
F16: CUSTO UNITÁRIO | H16: =SMALL(H14:H15,1) -> 733.6
A18: COT-003 | B18: CONECTOR PERFURANTE 70X10 (PRINCIPAL ATÉ 70MM², DERIVAÇÃO ATÉ 10MM²) | H18: un | I18: MÉDIA
A19: DATA | B19: FONTE | C19: CNPJ | D19: TELEFONE | E19: ACESSO | F19: DESCRIÇÃO | G19: UNID. | H19: VALOR UNIT.
A20: 46266 | B20: Ferramentas Kennedy | C20: 08.858.579/0015-35 | D20: (41) 3314-1853 | E20: Site: https://www.ferramentaskennedy.com.br/conector-derivacao-perfurante-cdp70-pq-intelli/p?srsltid=AfmBOop_qFy0aaBitYE8g07A7HfpRl7UqtH7i1NSQJuMmJ07b6mospfr | F20: Conector Derivação Perfurante Cdp70 Pq Intelli | G20: un | H20: 8.79
A21: 46266 | B21: AME - Alves & Machado Energia | C21: 40.272.909/0001-13 | D21: (12) 99194-2428 | E21: Site: https://www.alvesemachado.com.br/conectores/conector-perfurante-10-70-mm-principal-1-5-10-mm-derivacao | F21: CONECTOR PERFURANTE 10-70 mm² PRINCIPAL / 1,5-10 mm² DERIVAÇÃO | G21: un | H21: 7.74
A22: 46266 | B22: Sul Cell Importadora e distribuidora | C22: 13.689.621/0001-76 | D22: (51) 3423-1297 | E22: Site: https://www.sulcell.com.br/eletrica/emenda/conector-perfurante-p-derivacao-10-70mm-1-5-10mm-cpp000-mci | F22: CONECTOR PERFURANTE P/ DERIVAÇAO 10-70MM 1.5-10MM² (CPP000) - MCI | G22: un | H22: 9.9
F23: CUSTO UNITÁRIO | H23: =TRUNC(AVERAGE(H20:H22),2) -> 8.81
