Workbook

Sheet INFORMAÇÕES
S1: INFORMAÇÕES DA PROPOSTA INICIAL DO CONTRATO
B4: Dados referentes ao Contrato (CR) ou Termo de Compromisso (TC) | Q4: * Preencha os campos necessários abaixo para transportar as informações para as demais guias *
B5: Tomador | Q5: MUNICÍPIO DE CASTRO
B6: Empreendimento (Obra, Serviço ou Aquisição) | Q6: SUBSTITUIÇÃO TELHAS UBS SOCAVÃO
B7: Número do CR ou TC COM DÍGITO VERIFICADOR | G7: =IF(Q7="",D4,Q7) -> 0
A8: X | B8: Número do DV (Dígito Verificador) | G8: =IF(Q8="",E4,Q8) -> 0
B9: Data da assinatura
A10: X | B10: Ano da proposta | G10: =IF(Q5="",F4,Q5) -> MUNICÍPIO DE CASTRO | Q10: =IF(Q9>0,YEAR(Q9),"")
A11: X | B11: Descrição do objeto | G11: =IF(Q11="",J4,Q11) -> 0
A12: X | B12: Logradouro | G12: =IF(Q12="","",Q12)
A13: X | B13: Município | G13: =IF(Q13="","",Q13) -> CASTRO | Q13: CASTRO
A14: X | B14: UF | G14: =IF(Q14="","",Q14) -> PR | Q14: PR
B15: Ministério Gestor | G15: =IF(Q15="",I4,Q15) -> 0
B16: Programa | G16: =IF(Q16="",LEFT(H4,25),Q16)
A17: X | B17: Localidade | G17: =IF(Q17="","",Q17)
A18: X | B18: Situação da obra | G18: =IF(Q18="",AI4,Q18) -> 0
A19: X | B19: Desembolso realizado (%) | G19: =IF(W4=0,0,(Y4+Z4)/W4) -> 0
A20: X | B20: Objetivo | G20: =IF(Q20="","",Q20)
A21: X | B21: Modalidade | G21: =IF(Q21="","",Q21)
A22: X | B22: Prazo de execução (meses) | G22: =IF(Q22="","",Q22)
B23: Repasse/Financiamento Máximo (R$) | G23: =IF(Q23="",U4,Q23) -> 0
A24: X | B24: Data da autorização Caixa | G24: =IF(Q24="",P4,Q24) -> 0
A25: X | B25: População beneficiada | G25: =IF(Q25="","",Q25)
A26: X | B26: Percentual realizado | G26: =IF(Q26="",Q4,Q26) -> * Preencha os campos necessários abaixo para transportar as informações para as demais guias *
A27: X | B27: Data de início de obra | G27: =IF(Q27="","",Q27)
A28: X | B28: Data da última vistoria | G28: =IF(Q28="",AH4,Q28) -> 0
A29: X | B29: Nome da GIGOV | G29: =IF(Q29="(selecione)","(selecione)","GIGOV - "&Q29) -> GIGOV - PG - PONTA GROSSA | Q29: PG - PONTA GROSSA
A30: X | B30: Sede da GIGOV | G30: =IF(Q30="","",Q30)
A31: X | B31: Nome da SR | G31: =IF(Q31="",N4,Q31) -> CAMPOS GERAIS | Q31: CAMPOS GERAIS
A32: X | B32: Ano do orçamento | G32: =IF(Q32="",AR4,Q32) -> 2017 | Q32: 2017
A33: X | B33: Data da assinatura para fins da CI GENOA 0919/08
A34: X | B34: Outras Fontes (R$)
B35: Contrapartida Mínima (R$) * | AA35: =IF($V$40="X"," * Consultar SICONV. Não confundir com a Contrapartida prevista na Proposta!","") -> * Consultar SICONV. Não confundir com a Contrapartida prevista na Proposta!
B36: Valor Previsto de Investimento (R$) | Q36: =IF(Q37=0,SUM(Q23+Q35),Q23/(1-Q37/100)) -> 0
B37: Contrapartida Mínima (%) | P37: =IF(Q35<>0,,Q37) -> 0 | R37: =IF(Q35>0,"* Indicar o valor acima apenas se souber o mínimo exigido no Programa, pois prevalece sobre este %",IF($V$40="X","* Consulte o SICONV ou a CAIXA p/ confirmar este %! *","")) -> * Consulte o SICONV ou a CAIXA p/ confirmar este %! * | AA37: =IF($V$40="X"," * No SICONV, consultar a Aba Programa.","") -> * No SICONV, consultar a Aba Programa.
A38: X | B38: Resíduos financeiros (R$)
A39: X | B39: Empreendimento enquadrado na Portaria Interministerial CGU/MF/MP 507 de 28/11/2011 | Q39: =Q42 -> X | R39: Sim p/ obras e serviços | V39: =IF(OR(AA23=1,Q40="X"),"X",IF(AA33=1,"X",IF(Q39=0,"X",0))) -> 0 | W39: Não
B40: Contrato de Financiamento? | R40: SIM | V40: =IF(Q40=0,"X",0) -> X | W40: Não
B41: Contrato de Repasse? | Q41: =IF(AND(Q23>0,Q40=""),"X","") | R41: SIM | V41: =IF(Q41="","X",0) -> X | W41: Não
B42: O objeto é obra ou serviço? | Q42: X | R42: SIM | V42: =IF(Q42=0,"X",0) -> 0 | W42: Não
...

Sheet ORÇ.GLOBAL P CAIXA
E1: PLANILHA DE ORÇAMENTO GLOBAL | L1: =IF(D2="","Calcule o BDI na guia 'BDI REF.'","")
B2: =IF(P2=0,"Digite o número da ART/RRT de Orçamento no campo à direita",CONCATENATE(M2," ",P2)) -> Digite o número da ART/RRT de Orçamento no campo à direita | D2: =IF(AND('BDI REF.'!K5=0,'BDI REF.'!K6=0),'BDI REF.'!N3,IF('BDI REF.'!N20<>0,(CONCATENATE("* BDI COM Desoneração: ",'BDI REF.'!N1,'BDI REF.'!N2,'BDI REF.'!N3)),(CONCATENATE("* BDI SEM Desoneração: ",'BDI REF.'!N1,'BDI REF.'!N2,'BDI REF.'!N3)))) -> * BDI SEM Desoneração: | M2: =IF(P2=0,"Insira Nº da ART/RRT de orçamento >","ART/RRT de Orçamento Nº:") -> Insira Nº da ART/RRT de orçamento >
B4: Tomador: | C4: =INFORMAÇÕES!Q5 -> MUNICÍPIO DE CASTRO | D4: Data base do orçamento: | G4: =P4 -> 45414 | J4: Encargos sociais s/ M.O. | M4: =IF(P4=0,"Insira a data base do orçamento >","Data base do Orçamento:") -> Data base do Orçamento: | P4: 45414
B6: Programa: | C6: =IF(INFORMAÇÕES!Q16>0,INFORMAÇÕES!Q16,"") | D6: Nº do Contrato: | F6: =IF(INFORMAÇÕES!Q7>0,CONCATENATE(INFORMAÇÕES!Q7,"/",INFORMAÇÕES!Q10,"/",INFORMAÇÕES!Q15),"") | J6: =CONCATENATE('BDI REF.'!M33,"% (hora)") -> 117,57% (hora) | M6: =IF(P6=0,"Insira data atualizada do orçamento >","Data atualizada do Orçamento:") -> Data atualizada do Orçamento: | P6: 45414
B8: Empreendimento: | C8: =IF(INFORMAÇÕES!Q6="","PREENCHA O NOME DA OBRA NA GUIA 'INFORMAÇÕES'",INFORMAÇÕES!Q6) -> SUBSTITUIÇÃO TELHAS UBS SOCAVÃO | J8: =CONCATENATE('BDI REF.'!M37,"% (mês)") -> 74,17% (mês)
B10: ITEM | C10: DESCRIÇÃO DO SERVIÇO | D10: UND | E10: QTDE | F10: =F1015 -> 41766.75 | H10: BDI* | I10: Fonte¹ | J10: CÓDIGO SINAPI | K10: SERVIÇO JÁ | Q10: QUANT.
F11: PREÇO UNIT. | G11: TOTAL | J11: ou OUTROS | K11: EXECUTADO | M11: ITEM | N11: CÓDIGO | O11: DESCRIÇÃO DOS SERVIÇOS | P11: UND | Q11: GLOBAL | R11: PREÇO | V11: APROPRIAR O MACRO ITEM | W11: CONTAR OS ITENS | X11: APROPRIAR OS CABEÇALHOS DE MACRO ITEM | Y11: CONTAR OS CABEÇALHOS DE MACRO ITENS | Z11: REPASSE | AA11: CONT. FIN. | AB11: CONT. FIS. | AC11: OUT. FONT. | AD11: TOTAL
A12: 1 | B12: =M12 -> 1 | C12: =O12 -> REMOÇÃO TELHAS | D12: =P12 -> 0 | E12: =ROUND(Q12,2) -> 0 | F12: =TRUNC((1+(IF(OR(H12=0,H12=""),'BDI REF.'!$K$5,CHOOSE(H12,'BDI REF.'!$K$5,'BDI REF.'!$K$6,'BDI REF.'!$K$7))))*R12,2) -> 0 | G12: =IF(E12<>0,ROUND(E12*F12,2),IF(AD12=0,(SUMIF($V$12:$V$1011,B12,$AD$12:$AD$1011)),AD12)) -> 3401.68 | J12: =IF(N12<>0,N12,"") | L12: =IF(B12>0,"ok","ocultar") -> ok | M12: 1 | O12: REMOÇÃO TELHAS | V12: =IF(B12=0,V11,IF(ISNONTEXT(B12)=TRUE(),INT(B12),INT(LEFT(B12,FIND(".",B12)-1)))) -> 1 | W12: =IF(W13=1,1,IF(B12<>0,1,IF(C12<>0,1,IF(D12<>0,1,IF(E12<>0,1,""))))) -> 1 | X12: =IF(V12=0," ",IF(V12<>V11,V12," ")) -> 1 | Y12: =COUNT(X12:X1011) -> 3 | Z12: =IF(V12<>X12,(IF(I12="",G12*INFORMAÇÕES!$U$113,IF(I12="R",G12,0))),0) -> 0 | AA12: =IF(V12<>X12,(IF(I12="",G12*INFORMAÇÕES!$U$114,IF(I12="C",G12,0))),0) -> 0 | AB12: =IF(V12<>X12,(IF(I12="",G12*INFORMAÇÕES!$U$115,IF(I12="CF",G12,0))),0) -> 0 | AC12: =IF(V12<>X12,(IF(I12="",G12*INFORMAÇÕES!$U$116,IF(I12="O",G12,0))),0) -> 0 | AD12: =IF(E12<>0,G12,0) -> 0
A13: 2 | B13: =M13 -> 1.1 | C13: =O13 -> REMOÇÃO DE TELHAS DE FIBROCIMENTO METÁLICA E CERÂMICA, DE FORMA MANUAL, SEM REAPROVEITAMENTO. AF_09/2023 | D13: =P13 -> M2 | E13: =ROUND(Q13,2) -> 629.94 | F13: =TRUNC((1+(IF(OR(H13=0,H13=""),'BDI REF.'!$K$5,CHOOSE(H13,'BDI REF.'!$K$5,'BDI REF.'!$K$6,'BDI REF.'!$K$7))))*R13,2) -> 5.4 | G13: =IF(E13<>0,ROUND(E13*F13,2),IF(AD13=0,(SUMIF($V$12:$V$1011,B13,$AD$12:$AD$1011)),AD13)) -> 3401.68 | J13: =IF(N13<>0,N13,"") -> 97647 | L13: =IF(B13>0,"ok","ocultar") -> ok | M13: 1.1 | N13: 97647 | O13: REMOÇÃO DE TELHAS DE FIBROCIMENTO METÁLICA E CERÂMICA, DE FORMA MANUAL, SEM REAPROVEITAMENTO. AF_09/2023 | P13: M2 | Q13: 629.941 | R13: 4.48 | V13: =IF(B13=0,V12,IF(ISNONTEXT(B13)=TRUE(),INT(B13),INT(LEFT(B13,FIND(".",B13)-1)))) -> 1 | W13: =IF(W14=1,1,IF(B13<>0,1,IF(C13<>0,1,IF(D13<>0,1,IF(E13<>0,1,""))))) -> 1 | X13: =IF(V13=0," ",IF(V13<>V12,V13," ")) | Z13: =IF(V13<>X13,(IF(I13="",G13*INFORMAÇÕES!$U$113,IF(I13="R",G13,0))),0) -> 0 | AA13: =IF(V13<>X13,(IF(I13="",G13*INFORMAÇÕES!$U$114,IF(I13="C",G13,0))),0) -> 3401.68 | AB13: =IF(V13<>X13,(IF(I13="",G13*INFORMAÇÕES!$U$115,IF(I13="CF",G13,0))),0) -> 0 | AC13: =IF(V13<>X13,(IF(I13="",G13*INFORMAÇÕES!$U$116,IF(I13="O",G13,0))),0) -> 0 | AD13: =IF(E13<>0,G13,0) -> 3401.68
A14: 3 | B14: =M14 -> 2 | C14: =O14 -> COBERTURA | D14: =P14 -> 0 | E14: =ROUND(Q14,2) -> 0 | F14: =TRUNC((1+(IF(OR(H14=0,H14=""),'BDI REF.'!$K$5,CHOOSE(H14,'BDI REF.'!$K$5,'BDI REF.'!$K$6,'BDI REF.'!$K$7))))*R14,2) -> 0 | G14: =IF(E14<>0,ROUND(E14*F14,2),IF(AD14=0,(SUMIF($V$12:$V$1011,B14,$AD$12:$AD$1011)),AD14)) -> 37818.07 | J14: =IF(N14<>0,N14,"") | L14: =IF(B14>0,"ok","ocultar") -> ok | M14: 2 | O14: COBERTURA | V14: =IF(B14=0,V13,IF(ISNONTEXT(B14)=TRUE(),INT(B14),INT(LEFT(B14,FIND(".",B14)-1)))) -> 2 | W14: =IF(W15=1,1,IF(B14<>0,1,IF(C14<>0,1,IF(D14<>0,1,IF(E14<>0,1,""))))) -> 1 | X14: =IF(V14=0," ",IF(V14<>V13,V14," ")) -> 2 | Z14: =IF(V14<>X14,(IF(I14="",G14*INFORMAÇÕES!$U$113,IF(I14="R",G14,0))),0) -> 0 | AA14: =IF(V14<>X14,(IF(I14="",G14*INFORMAÇÕES!$U$114,IF(I14="C",G14,0))),0) -> 0 | AB14: =IF(V14<>X14,(IF(I14="",G14*INFORMAÇÕES!$U$115,IF(I14="CF",G14,0))),0) -> 0 | AC14: =IF(V14<>X14,(IF(I14="",G14*INFORMAÇÕES!$U$116,IF(I14="O",G14,0))),0) -> 0 | AD14: =IF(E14<>0,G14,0) -> 0
A15: 4 | B15: =M15 -> 2.1 | C15: =O15 -> TELHAMENTO COM TELHA ONDULADA DE FIBROCIMENTO E = 6 MM, COM RECOBRIMENTO LATERAL DE 1/4 DE ONDA PARA TELHADO COM INCLINAÇÃO MAIOR QUE 10°, COM ATÉ 2 ÁGUAS, INCLUSO IÇAMENTO. AF_07/2019 | D15: =P15 -> M2 | E15: =ROUND(Q15,2) -> 629.94 | F15: =TRUNC((1+(IF(OR(H15=0,H15=""),'BDI REF.'!$K$5,CHOOSE(H15,'BDI REF.'!$K$5,'BDI REF.'!$K$6,'BDI REF.'!$K$7))))*R15,2) -> 55.2 | G15: =IF(E15<>0,ROUND(E15*F15,2),IF(AD15=0,(SUMIF($V$12:$V$1011,B15,$AD$12:$AD$1011)),AD15)) -> 34772.69 | J15: =IF(N15<>0,N15,"") -> 94207 | L15: =IF(B15>0,"ok","ocultar") -> ok | M15: 2.1 | N15: 94207 | O15: TELHAMENTO COM TELHA ONDULADA DE FIBROCIMENTO E = 6 MM, COM RECOBRIMENTO LATERAL DE 1/4 DE ONDA PARA TELHADO COM INCLINAÇÃO MAIOR QUE 10°, COM ATÉ 2 ÁGUAS, INCLUSO IÇAMENTO. AF_07/2019 | P15: M2 | Q15: 629.941 | R15: 45.79 | V15: =IF(B15=0,V14,IF(ISNONTEXT(B15)=TRUE(),INT(B15),INT(LEFT(B15,FIND(".",B15)-1)))) -> 2 | W15: =IF(W16=1,1,IF(B15<>0,1,IF(C15<>0,1,IF(D15<>0,1,IF(E15<>0,1,""))))) -> 1 | X15: =IF(V15=0," ",IF(V15<>V14,V15," ")) | Z15: =IF(V15<>X15,(IF(I15="",G15*INFORMAÇÕES!$U$113,IF(I15="R",G15,0))),0) -> 0 | AA15: =IF(V15<>X15,(IF(I15="",G15*INFORMAÇÕES!$U$114,IF(I15="C",G15,0))),0) -> 34772.69 | AB15: =IF(V15<>X15,(IF(I15="",G15*INFORMAÇÕES!$U$115,IF(I15="CF",G15,0))),0) -> 0 | AC15: =IF(V15<>X15,(IF(I15="",G15*INFORMAÇÕES!$U$116,IF(I15="O",G15,0))),0) -> 0 | AD15: =IF(E15<>0,G15,0) -> 34772.69
A16: 5 | B16: =M16 -> 2.2 | C16: =O16 -> CUMEEIRA PARA TELHA DE FIBROCIMENTO ONDULADA E = 6 MM, INCLUSO ACESSÓRIOS DE FIXAÇÃO E IÇAMENTO. AF_07/2019 | D16: =P16 -> M | E16: =ROUND(Q16,2) -> 34 | F16: =TRUNC((1+(IF(OR(H16=0,H16=""),'BDI REF.'!$K$5,CHOOSE(H16,'BDI REF.'!$K$5,'BDI REF.'!$K$6,'BDI REF.'!$K$7))))*R16,2) -> 89.57 | G16: =IF(E16<>0,ROUND(E16*F16,2),IF(AD16=0,(SUMIF($V$12:$V$1011,B16,$AD$12:$AD$1011)),AD16)) -> 3045.38 | J16: =IF(N16<>0,N16,"") -> 94223 | L16: =IF(B16>0,"ok","ocultar") -> ok | M16: 2.2 | N16: 94223 | O16: CUMEEIRA PARA TELHA DE FIBROCIMENTO ONDULADA E = 6 MM, INCLUSO ACESSÓRIOS DE FIXAÇÃO E IÇAMENTO. AF_07/2019 | P16: M | Q16: 34 | R16: 74.3 | V16: =IF(B16=0,V15,IF(ISNONTEXT(B16)=TRUE(),INT(B16),INT(LEFT(B16,FIND(".",B16)-1)))) -> 2 | W16: =IF(W17=1,1,IF(B16<>0,1,IF(C16<>0,1,IF(D16<>0,1,IF(E16<>0,1,""))))) -> 1 | X16: =IF(V16=0," ",IF(V16<>V15,V16," ")) | Z16: =IF(V16<>X16,(IF(I16="",G16*INFORMAÇÕES!$U$113,IF(I16="R",G16,0))),0) -> 0 | AA16: =IF(V16<>X16,(IF(I16="",G16*INFORMAÇÕES!$U$114,IF(I16="C",G16,0))),0) -> 3045.38 | AB16: =IF(V16<>X16,(IF(I16="",G16*INFORMAÇÕES!$U$115,IF(I16="CF",G16,0))),0) -> 0 | AC16: =IF(V16<>X16,(IF(I16="",G16*INFORMAÇÕES!$U$116,IF(I16="O",G16,0))),0) -> 0 | AD16: =IF(E16<>0,G16,0) -> 3045.38
A17: 6 | B17: =M17 -> 3 | C17: =O17 -> BEIRAL PVC | D17: =P17 -> 0 | E17: =ROUND(Q17,2) -> 0 | F17: =TRUNC((1+(IF(OR(H17=0,H17=""),'BDI REF.'!$K$5,CHOOSE(H17,'BDI REF.'!$K$5,'BDI REF.'!$K$6,'BDI REF.'!$K$7))))*R17,2) -> 0 | G17: =IF(E17<>0,ROUND(E17*F17,2),IF(AD17=0,(SUMIF($V$12:$V$1011,B17,$AD$12:$AD$1011)),AD17)) -> 547 | J17: =IF(N17<>0,N17,"") | L17: =IF(B17>0,"ok","ocultar") -> ok | M17: 3 | O17: BEIRAL PVC | V17: =IF(B17=0,V16,IF(ISNONTEXT(B17)=TRUE(),INT(B17),INT(LEFT(B17,FIND(".",B17)-1)))) -> 3 | W17: =IF(W18=1,1,IF(B17<>0,1,IF(C17<>0,1,IF(D17<>0,1,IF(E17<>0,1,""))))) -> 1 | X17: =IF(V17=0," ",IF(V17<>V16,V17," ")) -> 3 | Z17: =IF(V17<>X17,(IF(I17="",G17*INFORMAÇÕES!$U$113,IF(I17="R",G17,0))),0) -> 0 | AA17: =IF(V17<>X17,(IF(I17="",G17*INFORMAÇÕES!$U$114,IF(I17="C",G17,0))),0) -> 0 | AB17: =IF(V17<>X17,(IF(I17="",G17*INFORMAÇÕES!$U$115,IF(I17="CF",G17,0))),0) -> 0 | AC17: =IF(V17<>X17,(IF(I17="",G17*INFORMAÇÕES!$U$116,IF(I17="O",G17,0))),0) -> 0 | AD17: =IF(E17<>0,G17,0) -> 0
A18: 7 | B18: =M18 -> 3.1 | C18: =O18 -> FORRO EM RÉGUAS DE PVC, LISO, PARA AMBIENTES RESIDENCIAIS, INCLUSIVE ESTRUTURA UNIDIRECIONAL DE FIXAÇÃO. AF_08/2023_PS | D18: =P18 -> M2 | E18: =ROUND(Q18,2) -> 5 | F18: =TRUNC((1+(IF(OR(H18=0,H18=""),'BDI REF.'!$K$5,CHOOSE(H18,'BDI REF.'!$K$5,'BDI REF.'!$K$6,'BDI REF.'!$K$7))))*R18,2) -> 109.4 | G18: =IF(E18<>0,ROUND(E18*F18,2),IF(AD18=0,(SUMIF($V$12:$V$1011,B18,$AD$12:$AD$1011)),AD18)) -> 547 | J18: =IF(N18<>0,N18,"") -> 96485 | L18: =IF(B18>0,"ok","ocultar") -> ok | M18: 3.1 | N18: 96485 | O18: FORRO EM RÉGUAS DE PVC, LISO, PARA AMBIENTES RESIDENCIAIS, INCLUSIVE ESTRUTURA UNIDIRECIONAL DE FIXAÇÃO. AF_08/2023_PS | P18: M2 | Q18: 5 | R18: 90.75 | V18: =IF(B18=0,V17,IF(ISNONTEXT(B18)=TRUE(),INT(B18),INT(LEFT(B18,FIND(".",B18)-1)))) -> 3 | W18: =IF(W19=1,1,IF(B18<>0,1,IF(C18<>0,1,IF(D18<>0,1,IF(E18<>0,1,""))))) -> 1 | X18: =IF(V18=0," ",IF(V18<>V17,V18," ")) | Z18: =IF(V18<>X18,(IF(I18="",G18*INFORMAÇÕES!$U$113,IF(I18="R",G18,0))),0) -> 0 | AA18: =IF(V18<>X18,(IF(I18="",G18*INFORMAÇÕES!$U$114,IF(I18="C",G18,0))),0) -> 547 | AB18: =IF(V18<>X18,(IF(I18="",G18*INFORMAÇÕES!$U$115,IF(I18="CF",G18,0))),0) -> 0 | AC18: =IF(V18<>X18,(IF(I18="",G18*INFORMAÇÕES!$U$116,IF(I18="O",G18,0))),0) -> 0 | AD18: =IF(E18<>0,G18,0) -> 547
A19: 8 | B19: =M19 -> 0 | C19: =O19 -> 0 | D19: =P19 -> 0 | E19: =ROUND(Q19,2) -> 0 | F19: =TRUNC((1+(IF(OR(H19=0,H19=""),'BDI REF.'!$K$5,CHOOSE(H19,'BDI REF.'!$K$5,'BDI REF.'!$K$6,'BDI REF.'!$K$7))))*R19,2) -> 0 | G19: =IF(E19<>0,ROUND(E19*F19,2),IF(AD19=0,(SUMIF($V$12:$V$1011,B19,$AD$12:$AD$1011)),AD19)) -> 0 | J19: =IF(N19<>0,N19,"") | L19: =IF(B19>0,"ok","ocultar") -> ocultar | V19: =IF(B19=0,V18,IF(ISNONTEXT(B19)=TRUE(),INT(B19),INT(LEFT(B19,FIND(".",B19)-1)))) -> 3 | W19: =IF(W20=1,1,IF(B19<>0,1,IF(C19<>0,1,IF(D19<>0,1,IF(E19<>0,1,""))))) | X19: =IF(V19=0," ",IF(V19<>V18,V19," ")) | Z19: =IF(V19<>X19,(IF(I19="",G19*INFORMAÇÕES!$U$113,IF(I19="R",G19,0))),0) -> 0 | AA19: =IF(V19<>X19,(IF(I19="",G19*INFORMAÇÕES!$U$114,IF(I19="C",G19,0))),0) -> 0 | AB19: =IF(V19<>X19,(IF(I19="",G19*INFORMAÇÕES!$U$115,IF(I19="CF",G19,0))),0) -> 0 | AC19: =IF(V19<>X19,(IF(I19="",G19*INFORMAÇÕES!$U$116,IF(I19="O",G19,0))),0) -> 0 | AD19: =IF(E19<>0,G19,0) -> 0
A20: 9 | B20: =M20 -> 0 | C20: =O20 -> 0 | D20: =P20 -> 0 | E20: =ROUND(Q20,2) -> 0 | F20: =TRUNC((1+(IF(OR(H20=0,H20=""),'BDI REF.'!$K$5,CHOOSE(H20,'BDI REF.'!$K$5,'BDI REF.'!$K$6,'BDI REF.'!$K$7))))*R20,2) -> 0 | G20: =IF(E20<>0,ROUND(E20*F20,2),IF(AD20=0,(SUMIF($V$12:$V$1011,B20,$AD$12:$AD$1011)),AD20)) -> 0 | J20: =IF(N20<>0,N20,"") | L20: =IF(B20>0,"ok","ocultar") -> ocultar | V20: =IF(B20=0,V19,IF(ISNONTEXT(B20)=TRUE(),INT(B20),INT(LEFT(B20,FIND(".",B20)-1)))) -> 3 | W20: =IF(W21=1,1,IF(B20<>0,1,IF(C20<>0,1,IF(D20<>0,1,IF(E20<>0,1,""))))) | X20: =IF(V20=0," ",IF(V20<>V19,V20," ")) | Z20: =IF(V20<>X20,(IF(I20="",G20*INFORMAÇÕES!$U$113,IF(I20="R",G20,0))),0) -> 0 | AA20: =IF(V20<>X20,(IF(I20="",G20*INFORMAÇÕES!$U$114,IF(I20="C",G20,0))),0) -> 0 | AB20: =IF(V20<>X20,(IF(I20="",G20*INFORMAÇÕES!$U$115,IF(I20="CF",G20,0))),0) -> 0 | AC20: =IF(V20<>X20,(IF(I20="",G20*INFORMAÇÕES!$U$116,IF(I20="O",G20,0))),0) -> 0 | AD20: =IF(E20<>0,G20,0) -> 0
A21: 10 | B21: =M21 -> 0 | C21: =O21 -> 0 | D21: =P21 -> 0 | E21: =ROUND(Q21,2) -> 0 | F21: =TRUNC((1+(IF(OR(H21=0,H21=""),'BDI REF.'!$K$5,CHOOSE(H21,'BDI REF.'!$K$5,'BDI REF.'!$K$6,'BDI REF.'!$K$7))))*R21,2) -> 0 | G21: =IF(E21<>0,ROUND(E21*F21,2),IF(AD21=0,(SUMIF($V$12:$V$1011,B21,$AD$12:$AD$1011)),AD21)) -> 0 | J21: =IF(N21<>0,N21,"") | L21: =IF(B21>0,"ok","ocultar") -> ocultar | V21: =IF(B21=0,V20,IF(ISNONTEXT(B21)=TRUE(),INT(B21),INT(LEFT(B21,FIND(".",B21)-1)))) -> 3 | W21: =IF(W22=1,1,IF(B21<>0,1,IF(C21<>0,1,IF(D21<>0,1,IF(E21<>0,1,""))))) | X21: =IF(V21=0," ",IF(V21<>V20,V21," ")) | Z21: =IF(V21<>X21,(IF(I21="",G21*INFORMAÇÕES!$U$113,IF(I21="R",G21,0))),0) -> 0 | AA21: =IF(V21<>X21,(IF(I21="",G21*INFORMAÇÕES!$U$114,IF(I21="C",G21,0))),0) -> 0 | AB21: =IF(V21<>X21,(IF(I21="",G21*INFORMAÇÕES!$U$115,IF(I21="CF",G21,0))),0) -> 0 | AC21: =IF(V21<>X21,(IF(I21="",G21*INFORMAÇÕES!$U$116,IF(I21="O",G21,0))),0) -> 0 | AD21: =IF(E21<>0,G21,0) -> 0
A22: 11 | B22: =M22 -> 0 | C22: =O22 -> 0 | D22: =P22 -> 0 | E22: =ROUND(Q22,2) -> 0 | F22: =TRUNC((1+(IF(OR(H22=0,H22=""),'BDI REF.'!$K$5,CHOOSE(H22,'BDI REF.'!$K$5,'BDI REF.'!$K$6,'BDI REF.'!$K$7))))*R22,2) -> 0 | G22: =IF(E22<>0,ROUND(E22*F22,2),IF(AD22=0,(SUMIF($V$12:$V$1011,B22,$AD$12:$AD$1011)),AD22)) -> 0 | J22: =IF(N22<>0,N22,"") | L22: =IF(B22>0,"ok","ocultar") -> ocultar | V22: =IF(B22=0,V21,IF(ISNONTEXT(B22)=TRUE(),INT(B22),INT(LEFT(B22,FIND(".",B22)-1)))) -> 3 | W22: =IF(W23=1,1,IF(B22<>0,1,IF(C22<>0,1,IF(D22<>0,1,IF(E22<>0,1,""))))) | X22: =IF(V22=0," ",IF(V22<>V21,V22," ")) | Z22: =IF(V22<>X22,(IF(I22="",G22*INFORMAÇÕES!$U$113,IF(I22="R",G22,0))),0) -> 0 | AA22: =IF(V22<>X22,(IF(I22="",G22*INFORMAÇÕES!$U$114,IF(I22="C",G22,0))),0) -> 0 | AB22: =IF(V22<>X22,(IF(I22="",G22*INFORMAÇÕES!$U$115,IF(I22="CF",G22,0))),0) -> 0 | AC22: =IF(V22<>X22,(IF(I22="",G22*INFORMAÇÕES!$U$116,IF(I22="O",G22,0))),0) -> 0 | AD22: =IF(E22<>0,G22,0) -> 0
A23: 12 | B23: =M23 -> 0 | C23: =O23 -> 0 | D23: =P23 -> 0 | E23: =ROUND(Q23,2) -> 0 | F23: =TRUNC((1+(IF(OR(H23=0,H23=""),'BDI REF.'!$K$5,CHOOSE(H23,'BDI REF.'!$K$5,'BDI REF.'!$K$6,'BDI REF.'!$K$7))))*R23,2) -> 0 | G23: =IF(E23<>0,ROUND(E23*F23,2),IF(AD23=0,(SUMIF($V$12:$V$1011,B23,$AD$12:$AD$1011)),AD23)) -> 0 | J23: =IF(N23<>0,N23,"") | L23: =IF(B23>0,"ok","ocultar") -> ocultar | V23: =IF(B23=0,V22,IF(ISNONTEXT(B23)=TRUE(),INT(B23),INT(LEFT(B23,FIND(".",B23)-1)))) -> 3 | W23: =IF(W24=1,1,IF(B23<>0,1,IF(C23<>0,1,IF(D23<>0,1,IF(E23<>0,1,""))))) | X23: =IF(V23=0," ",IF(V23<>V22,V23," ")) | Z23: =IF(V23<>X23,(IF(I23="",G23*INFORMAÇÕES!$U$113,IF(I23="R",G23,0))),0) -> 0 | AA23: =IF(V23<>X23,(IF(I23="",G23*INFORMAÇÕES!$U$114,IF(I23="C",G23,0))),0) -> 0 | AB23: =IF(V23<>X23,(IF(I23="",G23*INFORMAÇÕES!$U$115,IF(I23="CF",G23,0))),0) -> 0 | AC23: =IF(V23<>X23,(IF(I23="",G23*INFORMAÇÕES!$U$116,IF(I23="O",G23,0))),0) -> 0 | AD23: =IF(E23<>0,G23,0) -> 0
A24: 13 | B24: =M24 -> 0 | C24: =O24 -> 0 | D24: =P24 -> 0 | E24: =ROUND(Q24,2) -> 0 | F24: =TRUNC((1+(IF(OR(H24=0,H24=""),'BDI REF.'!$K$5,CHOOSE(H24,'BDI REF.'!$K$5,'BDI REF.'!$K$6,'BDI REF.'!$K$7))))*R24,2) -> 0 | G24: =IF(E24<>0,ROUND(E24*F24,2),IF(AD24=0,(SUMIF($V$12:$V$1011,B24,$AD$12:$AD$1011)),AD24)) -> 0 | J24: =IF(N24<>0,N24,"") | L24: =IF(B24>0,"ok","ocultar") -> ocultar | V24: =IF(B24=0,V23,IF(ISNONTEXT(B24)=TRUE(),INT(B24),INT(LEFT(B24,FIND(".",B24)-1)))) -> 3 | W24: =IF(W25=1,1,IF(B24<>0,1,IF(C24<>0,1,IF(D24<>0,1,IF(E24<>0,1,""))))) | X24: =IF(V24=0," ",IF(V24<>V23,V24," ")) | Z24: =IF(V24<>X24,(IF(I24="",G24*INFORMAÇÕES!$U$113,IF(I24="R",G24,0))),0) -> 0 | AA24: =IF(V24<>X24,(IF(I24="",G24*INFORMAÇÕES!$U$114,IF(I24="C",G24,0))),0) -> 0 | AB24: =IF(V24<>X24,(IF(I24="",G24*INFORMAÇÕES!$U$115,IF(I24="CF",G24,0))),0) -> 0 | AC24: =IF(V24<>X24,(IF(I24="",G24*INFORMAÇÕES!$U$116,IF(I24="O",G24,0))),0) -> 0 | AD24: =IF(E24<>0,G24,0) -> 0
A25: 14 | B25: =M25 -> 0 | C25: =O25 -> 0 | D25: =P25 -> 0 | E25: =ROUND(Q25,2) -> 0 | F25: =TRUNC((1+(IF(OR(H25=0,H25=""),'BDI REF.'!$K$5,CHOOSE(H25,'BDI REF.'!$K$5,'BDI REF.'!$K$6,'BDI REF.'!$K$7))))*R25,2) -> 0 | G25: =IF(E25<>0,ROUND(E25*F25,2),IF(AD25=0,(SUMIF($V$12:$V$1011,B25,$AD$12:$AD$1011)),AD25)) -> 0 | J25: =IF(N25<>0,N25,"") | L25: =IF(B25>0,"ok","ocultar") -> ocultar | V25: =IF(B25=0,V24,IF(ISNONTEXT(B25)=TRUE(),INT(B25),INT(LEFT(B25,FIND(".",B25)-1)))) -> 3 | W25: =IF(W26=1,1,IF(B25<>0,1,IF(C25<>0,1,IF(D25<>0,1,IF(E25<>0,1,""))))) | X25: =IF(V25=0," ",IF(V25<>V24,V25," ")) | Z25: =IF(V25<>X25,(IF(I25="",G25*INFORMAÇÕES!$U$113,IF(I25="R",G25,0))),0) -> 0 | AA25: =IF(V25<>X25,(IF(I25="",G25*INFORMAÇÕES!$U$114,IF(I25="C",G25,0))),0) -> 0 | AB25: =IF(V25<>X25,(IF(I25="",G25*INFORMAÇÕES!$U$115,IF(I25="CF",G25,0))),0) -> 0 | AC25: =IF(V25<>X25,(IF(I25="",G25*INFORMAÇÕES!$U$116,IF(I25="O",G25,0))),0) -> 0 | AD25: =IF(E25<>0,G25,0) -> 0
A26: 15 | B26: =M26 -> 0 | C26: =O26 -> 0 | D26: =P26 -> 0 | E26: =ROUND(Q26,2) -> 0 | F26: =TRUNC((1+(IF(OR(H26=0,H26=""),'BDI REF.'!$K$5,CHOOSE(H26,'BDI REF.'!$K$5,'BDI REF.'!$K$6,'BDI REF.'!$K$7))))*R26,2) -> 0 | G26: =IF(E26<>0,ROUND(E26*F26,2),IF(AD26=0,(SUMIF($V$12:$V$1011,B26,$AD$12:$AD$1011)),AD26)) -> 0 | J26: =IF(N26<>0,N26,"") | L26: =IF(B26>0,"ok","ocultar") -> ocultar | V26: =IF(B26=0,V25,IF(ISNONTEXT(B26)=TRUE(),INT(B26),INT(LEFT(B26,FIND(".",B26)-1)))) -> 3 | W26: =IF(W27=1,1,IF(B26<>0,1,IF(C26<>0,1,IF(D26<>0,1,IF(E26<>0,1,""))))) | X26: =IF(V26=0," ",IF(V26<>V25,V26," ")) | Z26: =IF(V26<>X26,(IF(I26="",G26*INFORMAÇÕES!$U$113,IF(I26="R",G26,0))),0) -> 0 | AA26: =IF(V26<>X26,(IF(I26="",G26*INFORMAÇÕES!$U$114,IF(I26="C",G26,0))),0) -> 0 | AB26: =IF(V26<>X26,(IF(I26="",G26*INFORMAÇÕES!$U$115,IF(I26="CF",G26,0))),0) -> 0 | AC26: =IF(V26<>X26,(IF(I26="",G26*INFORMAÇÕES!$U$116,IF(I26="O",G26,0))),0) -> 0 | AD26: =IF(E26<>0,G26,0) -> 0
A27: 16 | B27: =M27 -> 0 | C27: =O27 -> 0 | D27: =P27 -> 0 | E27: =ROUND(Q27,2) -> 0 | F27: =TRUNC((1+(IF(OR(H27=0,H27=""),'BDI REF.'!$K$5,CHOOSE(H27,'BDI REF.'!$K$5,'BDI REF.'!$K$6,'BDI REF.'!$K$7))))*R27,2) -> 0 | G27: =IF(E27<>0,ROUND(E27*F27,2),IF(AD27=0,(SUMIF($V$12:$V$1011,B27,$AD$12:$AD$1011)),AD27)) -> 0 | J27: =IF(N27<>0,N27,"") | L27: =IF(B27>0,"ok","ocultar") -> ocultar | V27: =IF(B27=0,V26,IF(ISNONTEXT(B27)=TRUE(),INT(B27),INT(LEFT(B27,FIND(".",B27)-1)))) -> 3 | W27: =IF(W28=1,1,IF(B27<>0,1,IF(C27<>0,1,IF(D27<>0,1,IF(E27<>0,1,""))))) | X27: =IF(V27=0," ",IF(V27<>V26,V27," ")) | Z27: =IF(V27<>X27,(IF(I27="",G27*INFORMAÇÕES!$U$113,IF(I27="R",G27,0))),0) -> 0 | AA27: =IF(V27<>X27,(IF(I27="",G27*INFORMAÇÕES!$U$114,IF(I27="C",G27,0))),0) -> 0 | AB27: =IF(V27<>X27,(IF(I27="",G27*INFORMAÇÕES!$U$115,IF(I27="CF",G27,0))),0) -> 0 | AC27: =IF(V27<>X27,(IF(I27="",G27*INFORMAÇÕES!$U$116,IF(I27="O",G27,0))),0) -> 0 | AD27: =IF(E27<>0,G27,0) -> 0
A28: 17 | B28: =M28 -> 0 | C28: =O28 -> 0 | D28: =P28 -> 0 | E28: =ROUND(Q28,2) -> 0 | F28: =TRUNC((1+(IF(OR(H28=0,H28=""),'BDI REF.'!$K$5,CHOOSE(H28,'BDI REF.'!$K$5,'BDI REF.'!$K$6,'BDI REF.'!$K$7))))*R28,2) -> 0 | G28: =IF(E28<>0,ROUND(E28*F28,2),IF(AD28=0,(SUMIF($V$12:$V$1011,B28,$AD$12:$AD$1011)),AD28)) -> 0 | J28: =IF(N28<>0,N28,"") | L28: =IF(B28>0,"ok","ocultar") -> ocultar | V28: =IF(B28=0,V27,IF(ISNONTEXT(B28)=TRUE(),INT(B28),INT(LEFT(B28,FIND(".",B28)-1)))) -> 3 | W28: =IF(W29=1,1,IF(B28<>0,1,IF(C28<>0,1,IF(D28<>0,1,IF(E28<>0,1,""))))) | X28: =IF(V28=0," ",IF(V28<>V27,V28," ")) | Z28: =IF(V28<>X28,(IF(I28="",G28*INFORMAÇÕES!$U$113,IF(I28="R",G28,0))),0) -> 0 | AA28: =IF(V28<>X28,(IF(I28="",G28*INFORMAÇÕES!$U$114,IF(I28="C",G28,0))),0) -> 0 | AB28: =IF(V28<>X28,(IF(I28="",G28*INFORMAÇÕES!$U$115,IF(I28="CF",G28,0))),0) -> 0 | AC28: =IF(V28<>X28,(IF(I28="",G28*INFORMAÇÕES!$U$116,IF(I28="O",G28,0))),0) -> 0 | AD28: =IF(E28<>0,G28,0) -> 0
A29: 18 | B29: =M29 -> 0 | C29: =O29 -> 0 | D29: =P29 -> 0 | E29: =ROUND(Q29,2) -> 0 | F29: =TRUNC((1+(IF(OR(H29=0,H29=""),'BDI REF.'!$K$5,CHOOSE(H29,'BDI REF.'!$K$5,'BDI REF.'!$K$6,'BDI REF.'!$K$7))))*R29,2) -> 0 | G29: =IF(E29<>0,ROUND(E29*F29,2),IF(AD29=0,(SUMIF($V$12:$V$1011,B29,$AD$12:$AD$1011)),AD29)) -> 0 | J29: =IF(N29<>0,N29,"") | L29: =IF(B29>0,"ok","ocultar") -> ocultar | V29: =IF(B29=0,V28,IF(ISNONTEXT(B29)=TRUE(),INT(B29),INT(LEFT(B29,FIND(".",B29)-1)))) -> 3 | W29: =IF(W30=1,1,IF(B29<>0,1,IF(C29<>0,1,IF(D29<>0,1,IF(E29<>0,1,""))))) | X29: =IF(V29=0," ",IF(V29<>V28,V29," ")) | Z29: =IF(V29<>X29,(IF(I29="",G29*INFORMAÇÕES!$U$113,IF(I29="R",G29,0))),0) -> 0 | AA29: =IF(V29<>X29,(IF(I29="",G29*INFORMAÇÕES!$U$114,IF(I29="C",G29,0))),0) -> 0 | AB29: =IF(V29<>X29,(IF(I29="",G29*INFORMAÇÕES!$U$115,IF(I29="CF",G29,0))),0) -> 0 | AC29: =IF(V29<>X29,(IF(I29="",G29*INFORMAÇÕES!$U$116,IF(I29="O",G29,0))),0) -> 0 | AD29: =IF(E29<>0,G29,0) -> 0
A30: 19 | B30: =M30 -> 0 | C30: =O30 -> 0 | D30: =P30 -> 0 | E30: =ROUND(Q30,2) -> 0 | F30: =TRUNC((1+(IF(OR(H30=0,H30=""),'BDI REF.'!$K$5,CHOOSE(H30,'BDI REF.'!$K$5,'BDI REF.'!$K$6,'BDI REF.'!$K$7))))*R30,2) -> 0 | G30: =IF(E30<>0,ROUND(E30*F30,2),IF(AD30=0,(SUMIF($V$12:$V$1011,B30,$AD$12:$AD$1011)),AD30)) -> 0 | J30: =IF(N30<>0,N30,"") | L30: =IF(B30>0,"ok","ocultar") -> ocultar | V30: =IF(B30=0,V29,IF(ISNONTEXT(B30)=TRUE(),INT(B30),INT(LEFT(B30,FIND(".",B30)-1)))) -> 3 | W30: =IF(W31=1,1,IF(B30<>0,1,IF(C30<>0,1,IF(D30<>0,1,IF(E30<>0,1,""))))) | X30: =IF(V30=0," ",IF(V30<>V29,V30," ")) | Z30: =IF(V30<>X30,(IF(I30="",G30*INFORMAÇÕES!$U$113,IF(I30="R",G30,0))),0) -> 0 | AA30: =IF(V30<>X30,(IF(I30="",G30*INFORMAÇÕES!$U$114,IF(I30="C",G30,0))),0) -> 0 | AB30: =IF(V30<>X30,(IF(I30="",G30*INFORMAÇÕES!$U$115,IF(I30="CF",G30,0))),0) -> 0 | AC30: =IF(V30<>X30,(IF(I30="",G30*INFORMAÇÕES!$U$116,IF(I30="O",G30,0))),0) -> 0 | AD30: =IF(E30<>0,G30,0) -> 0
... A1011: 1000 | B1011: =M1011 -> 0 | C1011: =O1011 -> 0 | D1011: =P1011 -> 0 | E1011: =ROUND(Q1011,2) -> 0 | F1011: =TRUNC((1+(IF(OR(H1011=0,H1011=""),'BDI REF.'!$K$5,CHOOSE(H1011,'BDI REF.'!$K$5,'BDI REF.'!$K$6,'BDI REF.'!$K$7))))*R1011,2) -> 0 | G1011: =IF(E1011<>0,ROUND(E1011*F1011,2),IF(AD1011=0,(SUMIF($V$12:$V$1011,B1011,$AD$12:$AD$1011)),AD1011)) -> 0 | J1011: =IF(N1011<>0,N1011,"") | L1011: =IF(B1011>0,"ok","ocultar") -> ocultar | V1011: =IF(B1011=0,V1010,IF(ISNONTEXT(B1011)=TRUE(),INT(B1011),INT(LEFT(B1011,FIND(".",B1011)-1)))) -> 3 | W1011: =IF(W1012=1,1,IF(B1011<>0,1,IF(C1011<>0,1,IF(D1011<>0,1,IF(E1011<>0,1,""))))) | X1011: =IF(V1011=0," ",IF(V1011<>V1010,V1011," ")) | Z1011: =IF(V1011<>X1011,(IF(I1011="",G1011*INFORMAÇÕES!$U$113,IF(I1011="R",G1011,0))),0) -> 0 | AA1011: =IF(V1011<>X1011,(IF(I1011="",G1011*INFORMAÇÕES!$U$114,IF(I1011="C",G1011,0))),0) -> 0 | AB1011: =IF(V1011<>X1011,(IF(I1011="",G1011*INFORMAÇÕES!$U$115,IF(I1011="CF",G1011,0))),0) -> 0 | AC1011: =IF(V1011<>X1011,(IF(I1011="",G1011*INFORMAÇÕES!$U$116,IF(I1011="O",G1011,0))),0) -> 0 | AD1011: =IF(E1011<>0,G1011,0) -> 0
B1013: ¹ - "Fonte" corresponde a itens cujo recurso tem fonte exclusiva: "R" - Repasse/Financiamento; "C" - Contrapartida Financeira; "CF" - Contrapartida Física; "O" - Outras Fontes
W1014: =SUM(W12:W1011) -> 7 | Z1014: =SUM(Z12:Z1012) -> 0 | AA1014: =SUM(AA12:AA1012) -> 41766.75 | AB1014: =SUM(AB12:AB1012) -> 0 | AC1014: =SUM(AC12:AC1012) -> 0 | AD1014: =SUM(AD12:AD1011) -> 41766.75
B1015: TOTAL | F1015: =SUM($AD$13:$AD$1011) -> 41766.75
B1017: Castro, | C1017: =P6 -> 45414
B1018: Local e data | E1018: Responsável Técnico do Município de Castro

Sheet CRONO P CAIXA
H1: =E65 -> 1 | I1: =H65 -> 0 | J1: =I65 -> 0 | K1: =J65 -> 0 | L1: =K65 -> 0 | M1: =L65 -> 0 | N1: =M65 -> 0 | O1: =N65 -> 0 | P1: =O65 -> 0 | ... AQ1: =AP65 -> 0
E2: =IF($AQ$46<100,"O percentual acumulado é INFERIOR a 100%",IF($AQ$46>100,"O percentual acumulado é SUPERIOR a 100%","CRONOGRAMA FÍSICO-FINANCEIRO")) -> O percentual acumulado é INFERIOR a 100% | G2: Nº do Contrato: | H2: ='ORÇ.GLOBAL REF.'!G6 | K2: =CONCATENATE("Tomador: ",'ORÇ.GLOBAL REF.'!C4) -> Tomador: MUNICÍPIO DE CASTRO | T2: =H2 | W2: =K2 -> Tomador: MUNICÍPIO DE CASTRO | AF2: =H2 | AI2: =K2 -> Tomador: MUNICÍPIO DE CASTRO
E4: =CONCATENATE("Empreendimento: ",'ORÇ.GLOBAL REF.'!C8) -> Empreendimento: SUBSTITUIÇÃO TELHAS UBS SOCAVÃO | K4: =CONCATENATE("Programa: ",'ORÇ.GLOBAL REF.'!C6) -> Programa: | W4: =K4 -> Programa: | AI4: =K4 -> Programa:
E7: Item | F7: DESCRIÇÃO DOS AGRUPADORES DE SERVIÇOS | G7: Investimento | H7: Mês 01 | J7: Mês 02 | L7: Mês 03 | N7: Mês 04 | P7: Mês 05 | R7: Mês 06 | T7: Mês 07 | V7: Mês 08 | X7: Mês 09 | Z7: Mês 10 | AB7: Mês 11 | AD7: Mês 12 | AF7: Mês 13 | AH7: Mês 14 | AJ7: Mês 15 | AL7: Mês 16 | AN7: Mês 17 | AP7: Mês 18
B8: % Rel. | C8: Rep. | D8: Contr. | H8: No mês | I8: Acum. | J8: No mês | K8: Acum. | L8: No mês | M8: Acum. | N8: No mês | O8: Acum. | P8: No mês | Q8: Acum. | R8: No mês | S8: Acum. | T8: No mês | U8: Acum. | V8: No mês | W8: Acum. | X8: No mês | Y8: Acum. | Z8: No mês | AA8: Acum. | AB8: No mês | AC8: Acum. | AD8: No mês | AE8: Acum. | AF8: No mês | AG8: Acum. | AH8: No mês | AI8: Acum. | AJ8: No mês | AK8: Acum. | AL8: No mês | AM8: Acum. | AN8: No mês | AO8: Acum. | AP8: No mês | AQ8: Acum.
B9: =G9/(SUM($G$9:$G$45)) -> 0.08144469 | C9: =G9*($G$47/$G$51) -> 0 | D9: =G9*($G$48/$G$51) -> 3401.68 | E9: =IF('ORÇ.GLOBAL P CAIXA'!A12>'ORÇ.GLOBAL P CAIXA'!$Y$12,0,SMALL('ORÇ.GLOBAL P CAIXA'!$X$12:$X$1011,'ORÇ.GLOBAL P CAIXA'!A12)) -> 1 | F9: =IF('ORÇ.GLOBAL P CAIXA'!A12>'ORÇ.GLOBAL P CAIXA'!$Y$12,"",VLOOKUP(E9,'ORÇ.GLOBAL P CAIXA'!$B$12:$E$1011,2,FALSE())) -> REMOÇÃO TELHAS | G9: =IFERROR(IF(E9=0,0,VLOOKUP(E9,'ORÇ.GLOBAL P CAIXA'!$B$12:$G$1011,6,FALSE())),0) -> 3401.68 | I9: =H9 -> 0 | K9: =I9+J9 -> 0 | M9: =K9+L9 -> 0 | O9: =M9+N9 -> 0 | Q9: =O9+P9 -> 0 | S9: =Q9+R9 -> 0 | U9: =S9+T9 -> 0 | W9: =U9+V9 -> 0 | Y9: =W9+X9 -> 0 | AA9: =Y9+Z9 -> 0 | AC9: =AA9+AB9 -> 0 | AE9: =AC9+AD9 -> 0 | AG9: =AE9+AF9 -> 0 | AI9: =AG9+AH9 -> 0 | AK9: =AI9+AJ9 -> 0 | AM9: =AK9+AL9 -> 0 | AO9: =AM9+AN9 -> 0 | AQ9: =AO9+AP9 -> 0
B10: =G10/(SUM($G$9:$G$45)) -> 0.90545877 | C10: =G10*($G$47/$G$51) -> 0 | D10: =G10*($G$48/$G$51) -> 37818.07 | E10: =IF('ORÇ.GLOBAL P CAIXA'!A13>'ORÇ.GLOBAL P CAIXA'!$Y$12,0,SMALL('ORÇ.GLOBAL P CAIXA'!$X$12:$X$1011,'ORÇ.GLOBAL P CAIXA'!A13)) -> 2 | F10: =IF('ORÇ.GLOBAL P CAIXA'!A13>'ORÇ.GLOBAL P CAIXA'!$Y$12,"",VLOOKUP(E10,'ORÇ.GLOBAL P CAIXA'!$B$12:$E$1011,2,FALSE())) -> COBERTURA | G10: =IFERROR(IF(E10=0,0,VLOOKUP(E10,'ORÇ.GLOBAL P CAIXA'!$B$12:$G$1011,6,FALSE())),0) -> 37818.07 | I10: =H10 -> 0 | K10: =I10+J10 -> 0 | M10: =K10+L10 -> 0 | O10: =M10+N10 -> 0 | Q10: =O10+P10 -> 0 | S10: =Q10+R10 -> 0 | U10: =S10+T10 -> 0 | W10: =U10+V10 -> 0 | Y10: =W10+X10 -> 0 | AA10: =Y10+Z10 -> 0 | AC10: =AA10+AB10 -> 0 | AE10: =AC10+AD10 -> 0 | AG10: =AE10+AF10 -> 0 | AI10: =AG10+AH10 -> 0 | AK10: =AI10+AJ10 -> 0 | AM10: =AK10+AL10 -> 0 | AO10: =AM10+AN10 -> 0 | AQ10: =AO10+AP10 -> 0
B11: =G11/(SUM($G$9:$G$45)) -> 0.013096542 | C11: =G11*($G$47/$G$51) -> 0 | D11: =G11*($G$48/$G$51) -> 547 | E11: =IF('ORÇ.GLOBAL P CAIXA'!A14>'ORÇ.GLOBAL P CAIXA'!$Y$12,0,SMALL('ORÇ.GLOBAL P CAIXA'!$X$12:$X$1011,'ORÇ.GLOBAL P CAIXA'!A14)) -> 3 | F11: =IF('ORÇ.GLOBAL P CAIXA'!A14>'ORÇ.GLOBAL P CAIXA'!$Y$12,"",VLOOKUP(E11,'ORÇ.GLOBAL P CAIXA'!$B$12:$E$1011,2,FALSE())) -> BEIRAL PVC | G11: =IFERROR(IF(E11=0,0,VLOOKUP(E11,'ORÇ.GLOBAL P CAIXA'!$B$12:$G$1011,6,FALSE())),0) -> 547 | I11: =H11 -> 0 | K11: =I11+J11 -> 0 | M11: =K11+L11 -> 0 | O11: =M11+N11 -> 0 | Q11: =O11+P11 -> 0 | S11: =Q11+R11 -> 0 | U11: =S11+T11 -> 0 | W11: =U11+V11 -> 0 | Y11: =W11+X11 -> 0 | AA11: =Y11+Z11 -> 0 | AC11: =AA11+AB11 -> 0 | AE11: =AC11+AD11 -> 0 | AG11: =AE11+AF11 -> 0 | AI11: =AG11+AH11 -> 0 | AK11: =AI11+AJ11 -> 0 | AM11: =AK11+AL11 -> 0 | AO11: =AM11+AN11 -> 0 | AQ11: =AO11+AP11 -> 0
B12: =G12/(SUM($G$9:$G$45)) -> 0 | C12: =G12*($G$47/$G$51) -> 0 | D12: =G12*($G$48/$G$51) -> 0 | E12: =IF('ORÇ.GLOBAL P CAIXA'!A15>'ORÇ.GLOBAL P CAIXA'!$Y$12,0,SMALL('ORÇ.GLOBAL P CAIXA'!$X$12:$X$1011,'ORÇ.GLOBAL P CAIXA'!A15)) -> 0 | F12: =IF('ORÇ.GLOBAL P CAIXA'!A15>'ORÇ.GLOBAL P CAIXA'!$Y$12,"",VLOOKUP(E12,'ORÇ.GLOBAL P CAIXA'!$B$12:$E$1011,2,FALSE())) | G12: =IFERROR(IF(E12=0,0,VLOOKUP(E12,'ORÇ.GLOBAL P CAIXA'!$B$12:$G$1011,6,FALSE())),0) -> 0 | I12: =H12 -> 0 | K12: =I12+J12 -> 0 | M12: =K12+L12 -> 0 | O12: =M12+N12 -> 0 | Q12: =O12+P12 -> 0 | S12: =Q12+R12 -> 0 | U12: =S12+T12 -> 0 | W12: =U12+V12 -> 0 | Y12: =W12+X12 -> 0 | AA12: =Y12+Z12 -> 0 | AC12: =AA12+AB12 -> 0 | AE12: =AC12+AD12 -> 0 | AG12: =AE12+AF12 -> 0 | AI12: =AG12+AH12 -> 0 | AK12: =AI12+AJ12 -> 0 | AM12: =AK12+AL12 -> 0 | AO12: =AM12+AN12 -> 0 | AQ12: =AO12+AP12 -> 0
B13: =G13/(SUM($G$9:$G$45)) -> 0 | C13: =G13*($G$47/$G$51) -> 0 | D13: =G13*($G$48/$G$51) -> 0 | E13: =IF('ORÇ.GLOBAL P CAIXA'!A16>'ORÇ.GLOBAL P CAIXA'!$Y$12,0,SMALL('ORÇ.GLOBAL P CAIXA'!$X$12:$X$1011,'ORÇ.GLOBAL P CAIXA'!A16)) -> 0 | F13: =IF('ORÇ.GLOBAL P CAIXA'!A16>'ORÇ.GLOBAL P CAIXA'!$Y$12,"",VLOOKUP(E13,'ORÇ.GLOBAL P CAIXA'!$B$12:$E$1011,2,FALSE())) | G13: =IFERROR(IF(E13=0,0,VLOOKUP(E13,'ORÇ.GLOBAL P CAIXA'!$B$12:$G$1011,6,FALSE())),0) -> 0 | I13: =H13 -> 0 | K13: =I13+J13 -> 0 | M13: =K13+L13 -> 0 | O13: =M13+N13 -> 0 | Q13: =O13+P13 -> 0 | S13: =Q13+R13 -> 0 | U13: =S13+T13 -> 0 | W13: =U13+V13 -> 0 | Y13: =W13+X13 -> 0 | AA13: =Y13+Z13 -> 0 | AC13: =AA13+AB13 -> 0 | AE13: =AC13+AD13 -> 0 | AG13: =AE13+AF13 -> 0 | AI13: =AG13+AH13 -> 0 | AK13: =AI13+AJ13 -> 0 | AM13: =AK13+AL13 -> 0 | AO13: =AM13+AN13 -> 0 | AQ13: =AO13+AP13 -> 0
B14: =G14/(SUM($G$9:$G$45)) -> 0 | C14: =G14*($G$47/$G$51) -> 0 | D14: =G14*($G$48/$G$51) -> 0 | E14: =IF('ORÇ.GLOBAL P CAIXA'!A17>'ORÇ.GLOBAL P CAIXA'!$Y$12,0,SMALL('ORÇ.GLOBAL P CAIXA'!$X$12:$X$1011,'ORÇ.GLOBAL P CAIXA'!A17)) -> 0 | F14: =IF('ORÇ.GLOBAL P CAIXA'!A17>'ORÇ.GLOBAL P CAIXA'!$Y$12,"",VLOOKUP(E14,'ORÇ.GLOBAL P CAIXA'!$B$12:$E$1011,2,FALSE())) | G14: =IFERROR(IF(E14=0,0,VLOOKUP(E14,'ORÇ.GLOBAL P CAIXA'!$B$12:$G$1011,6,FALSE())),0) -> 0 | I14: =H14 -> 0 | K14: =I14+J14 -> 0 | M14: =K14+L14 -> 0 | O14: =M14+N14 -> 0 | Q14: =O14+P14 -> 0 | S14: =Q14+R14 -> 0 | U14: =S14+T14 -> 0 | W14: =U14+V14 -> 0 | Y14: =W14+X14 -> 0 | AA14: =Y14+Z14 -> 0 | AC14: =AA14+AB14 -> 0 | AE14: =AC14+AD14 -> 0 | AG14: =AE14+AF14 -> 0 | AI14: =AG14+AH14 -> 0 | AK14: =AI14+AJ14 -> 0 | AM14: =AK14+AL14 -> 0 | AO14: =AM14+AN14 -> 0 | AQ14: =AO14+AP14 -> 0
B15: =G15/(SUM($G$9:$G$45)) -> 0 | C15: =G15*($G$47/$G$51) -> 0 | D15: =G15*($G$48/$G$51) -> 0 | E15: =IF('ORÇ.GLOBAL P CAIXA'!A18>'ORÇ.GLOBAL P CAIXA'!$Y$12,0,SMALL('ORÇ.GLOBAL P CAIXA'!$X$12:$X$1011,'ORÇ.GLOBAL P CAIXA'!A18)) -> 0 | F15: =IF('ORÇ.GLOBAL P CAIXA'!A18>'ORÇ.GLOBAL P CAIXA'!$Y$12,"",VLOOKUP(E15,'ORÇ.GLOBAL P CAIXA'!$B$12:$E$1011,2,FALSE())) | G15: =IFERROR(IF(E15=0,0,VLOOKUP(E15,'ORÇ.GLOBAL P CAIXA'!$B$12:$G$1011,6,FALSE())),0) -> 0 | I15: =H15 -> 0 | K15: =I15+J15 -> 0 | M15: =K15+L15 -> 0 | O15: =M15+N15 -> 0 | Q15: =O15+P15 -> 0 | S15: =Q15+R15 -> 0 | U15: =S15+T15 -> 0 | W15: =U15+V15 -> 0 | Y15: =W15+X15 -> 0 | AA15: =Y15+Z15 -> 0 | AC15: =AA15+AB15 -> 0 | AE15: =AC15+AD15 -> 0 | AG15: =AE15+AF15 -> 0 | AI15: =AG15+AH15 -> 0 | AK15: =AI15+AJ15 -> 0 | AM15: =AK15+AL15 -> 0 | AO15: =AM15+AN15 -> 0 | AQ15: =AO15+AP15 -> 0
B16: =G16/(SUM($G$9:$G$45)) -> 0 | C16: =G16*($G$47/$G$51) -> 0 | D16: =G16*($G$48/$G$51) -> 0 | E16: =IF('ORÇ.GLOBAL P CAIXA'!A19>'ORÇ.GLOBAL P CAIXA'!$Y$12,0,SMALL('ORÇ.GLOBAL P CAIXA'!$X$12:$X$1011,'ORÇ.GLOBAL P CAIXA'!A19)) -> 0 | F16: =IF('ORÇ.GLOBAL P CAIXA'!A19>'ORÇ.GLOBAL P CAIXA'!$Y$12,"",VLOOKUP(E16,'ORÇ.GLOBAL P CAIXA'!$B$12:$E$1011,2,FALSE())) | G16: =IFERROR(IF(E16=0,0,VLOOKUP(E16,'ORÇ.GLOBAL P CAIXA'!$B$12:$G$1011,6,FALSE())),0) -> 0 | I16: =H16 -> 0 | K16: =I16+J16 -> 0 | M16: =K16+L16 -> 0 | O16: =M16+N16 -> 0 | Q16: =O16+P16 -> 0 | S16: =Q16+R16 -> 0 | U16: =S16+T16 -> 0 | W16: =U16+V16 -> 0 | Y16: =W16+X16 -> 0 | AA16: =Y16+Z16 -> 0 | AC16: =AA16+AB16 -> 0 | AE16: =AC16+AD16 -> 0 | AG16: =AE16+AF16 -> 0 | AI16: =AG16+AH16 -> 0 | AK16: =AI16+AJ16 -> 0 | AM16: =AK16+AL16 -> 0 | AO16: =AM16+AN16 -> 0 | AQ16: =AO16+AP16 -> 0
B17: =G17/(SUM($G$9:$G$45)) -> 0 | C17: =G17*($G$47/$G$51) -> 0 | D17: =G17*($G$48/$G$51) -> 0 | E17: =IF('ORÇ.GLOBAL P CAIXA'!A20>'ORÇ.GLOBAL P CAIXA'!$Y$12,0,SMALL('ORÇ.GLOBAL P CAIXA'!$X$12:$X$1011,'ORÇ.GLOBAL P CAIXA'!A20)) -> 0 | F17: =IF('ORÇ.GLOBAL P CAIXA'!A20>'ORÇ.GLOBAL P CAIXA'!$Y$12,"",VLOOKUP(E17,'ORÇ.GLOBAL P CAIXA'!$B$12:$E$1011,2,FALSE())) | G17: =IFERROR(IF(E17=0,0,VLOOKUP(E17,'ORÇ.GLOBAL P CAIXA'!$B$12:$G$1011,6,FALSE())),0) -> 0 | I17: =H17 -> 0 | K17: =I17+J17 -> 0 | M17: =K17+L17 -> 0 | O17: =M17+N17 -> 0 | Q17: =O17+P17 -> 0 | S17: =Q17+R17 -> 0 | U17: =S17+T17 -> 0 | W17: =U17+V17 -> 0 | Y17: =W17+X17 -> 0 | AA17: =Y17+Z17 -> 0 | AC17: =AA17+AB17 -> 0 | AE17: =AC17+AD17 -> 0 | AG17: =AE17+AF17 -> 0 | AI17: =AG17+AH17 -> 0 | AK17: =AI17+AJ17 -> 0 | AM17: =AK17+AL17 -> 0 | AO17: =AM17+AN17 -> 0 | AQ17: =AO17+AP17 -> 0
B18: =G18/(SUM($G$9:$G$45)) -> 0 | C18: =G18*($G$47/$G$51) -> 0 | D18: =G18*($G$48/$G$51) -> 0 | E18: =IF('ORÇ.GLOBAL P CAIXA'!A21>'ORÇ.GLOBAL P CAIXA'!$Y$12,0,SMALL('ORÇ.GLOBAL P CAIXA'!$X$12:$X$1011,'ORÇ.GLOBAL P CAIXA'!A21)) -> 0 | F18: =IF('ORÇ.GLOBAL P CAIXA'!A21>'ORÇ.GLOBAL P CAIXA'!$Y$12,"",VLOOKUP(E18,'ORÇ.GLOBAL P CAIXA'!$B$12:$E$1011,2,FALSE())) | G18: =IFERROR(IF(E18=0,0,VLOOKUP(E18,'ORÇ.GLOBAL P CAIXA'!$B$12:$G$1011,6,FALSE())),0) -> 0 | I18: =H18 -> 0 | K18: =I18+J18 -> 0 | M18: =K18+L18 -> 0 | O18: =M18+N18 -> 0 | Q18: =O18+P18 -> 0 | S18: =Q18+R18 -> 0 | U18: =S18+T18 -> 0 | W18: =U18+V18 -> 0 | Y18: =W18+X18 -> 0 | AA18: =Y18+Z18 -> 0 | AC18: =AA18+AB18 -> 0 | AE18: =AC18+AD18 -> 0 | AG18: =AE18+AF18 -> 0 | AI18: =AG18+AH18 -> 0 | AK18: =AI18+AJ18 -> 0 | AM18: =AK18+AL18 -> 0 | AO18: =AM18+AN18 -> 0 | AQ18: =AO18+AP18 -> 0
B19: =G19/(SUM($G$9:$G$45)) -> 0 | C19: =G19*($G$47/$G$51) -> 0 | D19: =G19*($G$48/$G$51) -> 0 | E19: =IF('ORÇ.GLOBAL P CAIXA'!A22>'ORÇ.GLOBAL P CAIXA'!$Y$12,0,SMALL('ORÇ.GLOBAL P CAIXA'!$X$12:$X$1011,'ORÇ.GLOBAL P CAIXA'!A22)) -> 0 | F19: =IF('ORÇ.GLOBAL P CAIXA'!A22>'ORÇ.GLOBAL P CAIXA'!$Y$12,"",VLOOKUP(E19,'ORÇ.GLOBAL P CAIXA'!$B$12:$E$1011,2,FALSE())) | G19: =IFERROR(IF(E19=0,0,VLOOKUP(E19,'ORÇ.GLOBAL P CAIXA'!$B$12:$G$1011,6,FALSE())),0) -> 0 | I19: =H19 -> 0 | K19: =I19+J19 -> 0 | M19: =K19+L19 -> 0 | O19: =M19+N19 -> 0 | Q19: =O19+P19 -> 0 | S19: =Q19+R19 -> 0 | U19: =S19+T19 -> 0 | W19: =U19+V19 -> 0 | Y19: =W19+X19 -> 0 | AA19: =Y19+Z19 -> 0 | AC19: =AA19+AB19 -> 0 | AE19: =AC19+AD19 -> 0 | AG19: =AE19+AF19 -> 0 | AI19: =AG19+AH19 -> 0 | AK19: =AI19+AJ19 -> 0 | AM19: =AK19+AL19 -> 0 | AO19: =AM19+AN19 -> 0 | AQ19: =AO19+AP19 -> 0
B20: =G20/(SUM($G$9:$G$45)) -> 0 | C20: =G20*($G$47/$G$51) -> 0 | D20: =G20*($G$48/$G$51) -> 0 | E20: =IF('ORÇ.GLOBAL P CAIXA'!A23>'ORÇ.GLOBAL P CAIXA'!$Y$12,0,SMALL('ORÇ.GLOBAL P CAIXA'!$X$12:$X$1011,'ORÇ.GLOBAL P CAIXA'!A23)) -> 0 | F20: =IF('ORÇ.GLOBAL P CAIXA'!A23>'ORÇ.GLOBAL P CAIXA'!$Y$12,"",VLOOKUP(E20,'ORÇ.GLOBAL P CAIXA'!$B$12:$E$1011,2,FALSE())) | G20: =IFERROR(IF(E20=0,0,VLOOKUP(E20,'ORÇ.GLOBAL P CAIXA'!$B$12:$G$1011,6,FALSE())),0) -> 0 | I20: =H20 -> 0 | K20: =I20+J20 -> 0 | M20: =K20+L20 -> 0 | O20: =M20+N20 -> 0 | Q20: =O20+P20 -> 0 | S20: =Q20+R20 -> 0 | U20: =S20+T20 -> 0 | W20: =U20+V20 -> 0 | Y20: =W20+X20 -> 0 | AA20: =Y20+Z20 -> 0 | AC20: =AA20+AB20 -> 0 | AE20: =AC20+AD20 -> 0 | AG20: =AE20+AF20 -> 0 | AI20: =AG20+AH20 -> 0 | AK20: =AI20+AJ20 -> 0 | AM20: =AK20+AL20 -> 0 | AO20: =AM20+AN20 -> 0 | AQ20: =AO20+AP20 -> 0
... B45: =G45/(SUM($G$9:$G$45)) -> 0 | C45: =G45*($G$47/$G$51) -> 0 | D45: =G45*($G$48/$G$51) -> 0 | E45: =IF('ORÇ.GLOBAL P CAIXA'!A48>'ORÇ.GLOBAL P CAIXA'!$Y$12,0,SMALL('ORÇ.GLOBAL P CAIXA'!$X$12:$X$1011,'ORÇ.GLOBAL P CAIXA'!A48)) -> 0 | F45: =IF('ORÇ.GLOBAL P CAIXA'!A48>'ORÇ.GLOBAL P CAIXA'!$Y$12,"",VLOOKUP(E45,'ORÇ.GLOBAL P CAIXA'!$B$12:$E$1011,2,FALSE())) | G45: =IFERROR(IF(E45=0,0,VLOOKUP(E45,'ORÇ.GLOBAL P CAIXA'!$B$12:$G$1011,6,FALSE())),0) -> 0 | I45: =H45 -> 0 | K45: =I45+J45 -> 0 | M45: =K45+L45 -> 0 | O45: =M45+N45 -> 0 | Q45: =O45+P45 -> 0 | S45: =Q45+R45 -> 0 | U45: =S45+T45 -> 0 | W45: =U45+V45 -> 0 | Y45: =W45+X45 -> 0 | AA45: =Y45+Z45 -> 0 | AC45: =AA45+AB45 -> 0 | AE45: =AC45+AD45 -> 0 | AG45: =AE45+AF45 -> 0 | AI45: =AG45+AH45 -> 0 | AK45: =AI45+AJ45 -> 0 | AM45: =AK45+AL45 -> 0 | AO45: =AM45+AN45 -> 0 | AQ45: =AO45+AP45 -> 0
B46: =SUM(B9:B45) -> 1 | C46: =SUM(C9:C45) -> 0 | D46: =SUM(D9:D45) -> 41766.75 | F46: TOTAL (%) | H46: =SUMPRODUCT($B$9:$B$45,H9:H45) -> 0 | I46: =SUMPRODUCT($B$9:$B$45,I9:I45) -> 0 | J46: =SUMPRODUCT($B$9:$B$45,J9:J45) -> 0 | K46: =SUMPRODUCT($B$9:$B$45,K9:K45) -> 0 | L46: =SUMPRODUCT($B$9:$B$45,L9:L45) -> 0 | M46: =SUMPRODUCT($B$9:$B$45,M9:M45) -> 0 | N46: =SUMPRODUCT($B$9:$B$45,N9:N45) -> 0 | O46: =SUMPRODUCT($B$9:$B$45,O9:O45) -> 0 | ... AQ46: =SUMPRODUCT($B$9:$B$45,AQ9:AQ45) -> 0
F47: REPASSE | G47: =INFORMAÇÕES!$Q49 -> 0 | H47: =SUMPRODUCT($C$9:$C$45,H9:H45)/100 -> 0 | J47: =SUMPRODUCT($C$9:$C$45,J9:J45)/100 -> 0 | L47: =SUMPRODUCT($C$9:$C$45,L9:L45)/100 -> 0 | N47: =SUMPRODUCT($C$9:$C$45,N9:N45)/100 -> 0 | P47: =SUMPRODUCT($C$9:$C$45,P9:P45)/100 -> 0 | R47: =SUMPRODUCT($C$9:$C$45,R9:R45)/100 -> 0 | T47: =SUMPRODUCT($C$9:$C$45,T9:T45)/100 -> 0 | V47: =SUMPRODUCT($C$9:$C$45,V9:V45)/100 -> 0 | X47: =SUMPRODUCT($C$9:$C$45,X9:X45)/100 -> 0 | Z47: =SUMPRODUCT($C$9:$C$45,Z9:Z45)/100 -> 0 | AB47: =SUMPRODUCT($C$9:$C$45,AB9:AB45)/100 -> 0 | AD47: =SUMPRODUCT($C$9:$C$45,AD9:AD45)/100 -> 0 | AF47: =SUMPRODUCT($C$9:$C$45,AF9:AF45)/100 -> 0 | AH47: =SUMPRODUCT($C$9:$C$45,AH9:AH45)/100 -> 0 | AJ47: =SUMPRODUCT($C$9:$C$45,AJ9:AJ45)/100 -> 0 | AL47: =SUMPRODUCT($C$9:$C$45,AL9:AL45)/100 -> 0 | AN47: =SUMPRODUCT($C$9:$C$45,AN9:AN45)/100 -> 0 | AP47: =SUMPRODUCT($C$9:$C$45,AP9:AP45)/100 -> 0
F48: Contrapartida Financeira | G48: =INFORMAÇÕES!$Q50 -> 41766.75 | H48: =SUMPRODUCT($D$9:$D$45,H9:H45)/100 -> 0 | J48: =SUMPRODUCT($D$9:$D$45,J9:J45)/100 -> 0 | L48: =SUMPRODUCT($D$9:$D$45,L9:L45)/100 -> 0 | N48: =SUMPRODUCT($D$9:$D$45,N9:N45)/100 -> 0 | P48: =SUMPRODUCT($D$9:$D$45,P9:P45)/100 -> 0 | R48: =SUMPRODUCT($D$9:$D$45,R9:R45)/100 -> 0 | T48: =SUMPRODUCT($D$9:$D$45,T9:T45)/100 -> 0 | V48: =SUMPRODUCT($D$9:$D$45,V9:V45)/100 -> 0 | X48: =SUMPRODUCT($D$9:$D$45,X9:X45)/100 -> 0 | Z48: =SUMPRODUCT($D$9:$D$45,Z9:Z45)/100 -> 0 | AB48: =SUMPRODUCT($D$9:$D$45,AB9:AB45)/100 -> 0 | AD48: =SUMPRODUCT($D$9:$D$45,AD9:AD45)/100 -> 0 | AF48: =SUMPRODUCT($D$9:$D$45,AF9:AF45)/100 -> 0 | AH48: =SUMPRODUCT($D$9:$D$45,AH9:AH45)/100 -> 0 | AJ48: =SUMPRODUCT($D$9:$D$45,AJ9:AJ45)/100 -> 0 | AL48: =SUMPRODUCT($D$9:$D$45,AL9:AL45)/100 -> 0 | AN48: =SUMPRODUCT($D$9:$D$45,AN9:AN45)/100 -> 0 | AP48: =SUMPRODUCT($D$9:$D$45,AP9:AP45)/100 -> 0
F49: Contrapartida Física | G49: 0 | H49: 0 | J49: 0 | L49: 0 | N49: 0 | P49: 0 | R49: 0 | T49: 0 | V49: 0 | X49: 0 | Z49: 0 | AB49: 0 | AD49: 0 | AF49: 0 | AH49: 0 | AJ49: 0 | AL49: 0 | AN49: 0 | AP49: 0
F50: Outras Fontes | G50: =INFORMAÇÕES!Q51 -> 0 | H50: 0 | J50: 0 | L50: 0 | N50: 0 | P50: 0 | R50: 0 | T50: 0 | V50: 0 | X50: 0 | Z50: 0 | AB50: 0 | AD50: 0 | AF50: 0 | AH50: 0 | AJ50: 0 | AL50: 0 | AN50: 0 | AP50: 0
F51: TOTAL (R$) | G51: =INFORMAÇÕES!Q52 -> 41766.75 | H51: =SUM(H47:I50) -> 0 | J51: =SUM(J47:K50) -> 0 | L51: =SUM(L47:M50) -> 0 | N51: =SUM(N47:O50) -> 0 | P51: =SUM(P47:Q50) -> 0 | R51: =SUM(R47:S50) -> 0 | T51: =SUM(T47:U50) -> 0 | V51: =SUM(V47:W50) -> 0 | X51: =SUM(X47:Y50) -> 0 | Z51: =SUM(Z47:AA50) -> 0 | AB51: =SUM(AB47:AC50) -> 0 | AD51: =SUM(AD47:AE50) -> 0 | AF51: =SUM(AF47:AG50) -> 0 | AH51: =SUM(AH47:AI50) -> 0 | AJ51: =SUM(AJ47:AK50) -> 0 | AL51: =SUM(AL47:AM50) -> 0 | AN51: =SUM(AN47:AO50) -> 0 | AP51: =SUM(AP47:AQ50) -> 0
F52: ACUMULADO (R$) | H52: =H51 -> 0 | J52: =H52+J51 -> 0 | L52: =J52+L51 -> 0 | N52: =L52+N51 -> 0 | P52: =N52+P51 -> 0 | R52: =P52+R51 -> 0 | T52: =R52+T51 -> 0 | V52: =T52+V51 -> 0 | X52: =V52+X51 -> 0 | Z52: =X52+Z51 -> 0 | AB52: =Z52+AB51 -> 0 | AD52: =AB52+AD51 -> 0 | AF52: =AD52+AF51 -> 0 | AH52: =AF52+AH51 -> 0 | AJ52: =AH52+AJ51 -> 0 | AL52: =AJ52+AL51 -> 0 | AN52: =AL52+AN51 -> 0 | AP52: =AN52+AP51 -> 0
E53: ='ORÇ.GLOBAL REF.'!E1018 -> Responsável Técnico do Município de Castro
E54: Carimbo e Assinatura | N54: ='ORÇ.GLOBAL P CAIXA'!B1017 -> Castro, | P54: ='ORÇ.GLOBAL P CAIXA'!C1017 -> 45414 | Z54: =N54 -> Castro, | AB54: =P54 -> 45414 | AL54: =Z54 -> Castro, | AN54: =AB54 -> 45414
N55: Local e Data | Z55: =N55 -> Local e Data | AL55: =Z55 -> Local e Data
I59: =IF(AND(I46<=100,H46>0),1,0) -> 0 | K59: =IF(AND(K46<=100,J46>0),1,0) -> 0 | M59: =IF(AND(M46<=100,L46>0),1,0) -> 0 | O59: =IF(AND(O46<=100,N46>0),1,0) -> 0 | Q59: =IF(AND(Q46<=100,P46>0),1,0) -> 0 | S59: =IF(AND(S46<=100,R46>0),1,0) -> 0 | U59: =IF(AND(U46<=100,T46>0),1,0) -> 0 | W59: =IF(AND(W46<=100,V46>0),1,0) -> 0 | Y59: =IF(AND(Y46<=100,X46>0),1,0) -> 0 | AA59: =IF(AND(AA46<=100,Z46>0),1,0) -> 0 | AC59: =IF(AND(AC46<=100,AB46>0),1,0) -> 0 | AE59: =IF(AND(AE46<=100,AD46>0),1,0) -> 0 | AG59: =IF(AND(AG46<=100,AF46>0),1,0) -> 0 | AI59: =IF(AND(AI46<=100,AH46>0),1,0) -> 0 | AK59: =IF(AND(AK46<=100,AJ46>0),1,0) -> 0 | AM59: =IF(AND(AM46<=100,AL46>0),1,0) -> 0 | AO59: =IF(AND(AO46<=100,AN46>0),1,0) -> 0 | AQ59: =IF(AND(AQ46<=100,AP46>0),1,0) -> 0
I60: =IF(ABS(I46-100)>0.01,1,0) -> 1 | K60: =IF(ABS(K46-100)>0.01,1,0) -> 1 | M60: =IF(ABS(M46-100)>0.01,1,0) -> 1 | O60: =IF(ABS(O46-100)>0.01,1,0) -> 1 | Q60: =IF(ABS(Q46-100)>0.01,1,0) -> 1 | S60: =IF(ABS(S46-100)>0.01,1,0) -> 1 | U60: =IF(ABS(U46-100)>0.01,1,0) -> 1 | W60: =IF(ABS(W46-100)>0.01,1,0) -> 1 | Y60: =IF(ABS(Y46-100)>0.01,1,0) -> 1 | AA60: =IF(ABS(AA46-100)>0.01,1,0) -> 1 | AC60: =IF(ABS(AC46-100)>0.01,1,0) -> 1 | AE60: =IF(ABS(AE46-100)>0.01,1,0) -> 1 | AG60: =IF(ABS(AG46-100)>0.01,1,0) -> 1 | AI60: =IF(ABS(AI46-100)>0.01,1,0) -> 1 | AK60: =IF(ABS(AK46-100)>0.01,1,0) -> 1 | AM60: =IF(ABS(AM46-100)>0.01,1,0) -> 1 | AO60: =IF(ABS(AO46-100)>0.01,1,0) -> 1 | AQ60: =IF(ABS(AQ46-100)>0.01,1,0) -> 1
E61: ='BM GLOBAL'!$G$4 -> 0 | H61: =DATE(E64,E63+1,E62) -> 31 | J61: =DATE(H64,H63+1,H62) -> 62 | L61: =DATE(J64,J63+1,J62) -> 93 | N61: =DATE(L64,L63+1,L62) -> 123 | P61: =DATE(N64,N63+1,N62) -> 154 | R61: =DATE(P64,P63+1,P62) -> 184 | T61: =DATE(R64,R63+1,R62) -> 215 | V61: =DATE(T64,T63+1,T62) -> 246 | X61: =DATE(V64,V63+1,V62) -> 276 | Z61: =DATE(X64,X63+1,X62) -> 307 | AB61: =DATE(Z64,Z63+1,Z62) -> 337 | AD61: =DATE(AB64,AB63+1,AB62) -> 368 | AF61: =DATE(AD64,AD63+1,AD62) -> 399 | AH61: =DATE(AF64,AF63+1,AF62) -> 427 | AJ61: =DATE(AH64,AH63+1,AH62) -> 458 | AL61: =DATE(AJ64,AJ63+1,AJ62) -> 488 | AN61: =DATE(AL64,AL63+1,AL62) -> 519 | AP61: =DATE(AN64,AN63+1,AN62) -> 549
E62: =DAY(E61) -> 0 | H62: =DAY(H61) -> 31 | J62: =DAY(J61) -> 2 | L62: =DAY(L61) -> 2 | N62: =DAY(N61) -> 2 | P62: =DAY(P61) -> 2 | R62: =DAY(R61) -> 2 | T62: =DAY(T61) -> 2 | V62: =DAY(V61) -> 2 | X62: =DAY(X61) -> 2 | Z62: =DAY(Z61) -> 2 | AB62: =DAY(AB61) -> 2 | AD62: =DAY(AD61) -> 2 | AF62: =DAY(AF61) -> 2 | AH62: =DAY(AH61) -> 2 | AJ62: =DAY(AJ61) -> 2 | AL62: =DAY(AL61) -> 2 | AN62: =DAY(AN61) -> 2 | AP62: =DAY(AP61) -> 2
E63: =MONTH(E61) -> 1 | H63: =MONTH(H61) -> 1 | J63: =MONTH(J61) -> 3 | L63: =MONTH(L61) -> 4 | N63: =MONTH(N61) -> 5 | P63: =MONTH(P61) -> 6 | R63: =MONTH(R61) -> 7 | T63: =MONTH(T61) -> 8 | V63: =MONTH(V61) -> 9 | X63: =MONTH(X61) -> 10 | Z63: =MONTH(Z61) -> 11 | AB63: =MONTH(AB61) -> 12 | AD63: =MONTH(AD61) -> 1 | AF63: =MONTH(AF61) -> 2 | AH63: =MONTH(AH61) -> 3 | AJ63: =MONTH(AJ61) -> 4 | AL63: =MONTH(AL61) -> 5 | AN63: =MONTH(AN61) -> 6 | AP63: =MONTH(AP61) -> 7
E64: =YEAR(E61) -> 1900 | H64: =YEAR(H61) -> 1900 | J64: =YEAR(J61) -> 1900 | L64: =YEAR(L61) -> 1900 | N64: =YEAR(N61) -> 1900 | P64: =YEAR(P61) -> 1900 | R64: =YEAR(R61) -> 1900 | T64: =YEAR(T61) -> 1900 | V64: =YEAR(V61) -> 1900 | X64: =YEAR(X61) -> 1900 | Z64: =YEAR(Z61) -> 1900 | AB64: =YEAR(AB61) -> 1900 | AD64: =YEAR(AD61) -> 1901 | AF64: =YEAR(AF61) -> 1901 | AH64: =YEAR(AH61) -> 1901 | AJ64: =YEAR(AJ61) -> 1901 | AL64: =YEAR(AL61) -> 1901 | AN64: =YEAR(AN61) -> 1901 | AP64: =YEAR(AP61) -> 1901
E65: =IF(E61<='BM GLOBAL'!$L$4,IF('BM GLOBAL'!$L$4<H61,1,0),0) -> 1 | H65: =IF(H61<='BM GLOBAL'!$L$4,IF('BM GLOBAL'!$L$4<J61,1,0),0) -> 0 | J65: =IF(J61<='BM GLOBAL'!$L$4,IF('BM GLOBAL'!$L$4<L61,1,0),0) -> 0 | L65: =IF(L61<='BM GLOBAL'!$L$4,IF('BM GLOBAL'!$L$4<N61,1,0),0) -> 0 | N65: =IF(N61<='BM GLOBAL'!$L$4,IF('BM GLOBAL'!$L$4<P61,1,0),0) -> 0 | P65: =IF(P61<='BM GLOBAL'!$L$4,IF('BM GLOBAL'!$L$4<R61,1,0),0) -> 0 | R65: =IF(R61<='BM GLOBAL'!$L$4,IF('BM GLOBAL'!$L$4<T61,1,0),0) -> 0 | T65: =IF(T61<='BM GLOBAL'!$L$4,IF('BM GLOBAL'!$L$4<V61,1,0),0) -> 0 | V65: =IF(V61<='BM GLOBAL'!$L$4,IF('BM GLOBAL'!$L$4<X61,1,0),0) -> 0 | X65: =IF(X61<='BM GLOBAL'!$L$4,IF('BM GLOBAL'!$L$4<Z61,1,0),0) -> 0 | Z65: =IF(Z61<='BM GLOBAL'!$L$4,IF('BM GLOBAL'!$L$4<AB61,1,0),0) -> 0 | AB65: =IF(AB61<='BM GLOBAL'!$L$4,IF('BM GLOBAL'!$L$4<AD61,1,0),0) -> 0 | AD65: =IF(AD61<='BM GLOBAL'!$L$4,IF('BM GLOBAL'!$L$4<AF61,1,0),0) -> 0 | AF65: =IF(AF61<='BM GLOBAL'!$L$4,IF('BM GLOBAL'!$L$4<AH61,1,0),0) -> 0 | AH65: =IF(AH61<='BM GLOBAL'!$L$4,IF('BM GLOBAL'!$L$4<AJ61,1,0),0) -> 0 | AJ65: =IF(AJ61<='BM GLOBAL'!$L$4,IF('BM GLOBAL'!$L$4<AL61,1,0),0) -> 0 | AL65: =IF(AL61<='BM GLOBAL'!$L$4,IF('BM GLOBAL'!$L$4<AN61,1,0),0) -> 0 | AN65: =IF(AN61<='BM GLOBAL'!$L$4,IF('BM GLOBAL'!$L$4<AP61,1,0),0) -> 0 | AP65: =IF(AP61<='BM GLOBAL'!$L$4,IF('BM GLOBAL'!$L$4<AR61,1,0),0) -> 0
E66: =IF(E61<='BM GLOBAL'!$L$4,IF('BM GLOBAL'!$L$4<H61,0,0),0) -> 0 | H66: =IF(H61<='BM GLOBAL'!$L$4,IF('BM GLOBAL'!$L$4<J61,I4,0),0) -> 0 | J66: =IF(J61<='BM GLOBAL'!$L$4,IF('BM GLOBAL'!$L$4<L61,K4,0),0) -> 0 | L66: =IF(L61<='BM GLOBAL'!$L$4,IF('BM GLOBAL'!$L$4<N61,M4,0),0) -> 0 | N66: =IF(N61<='BM GLOBAL'!$L$4,IF('BM GLOBAL'!$L$4<P61,O4,0),0) -> 0 | P66: =IF(P61<='BM GLOBAL'!$L$4,IF('BM GLOBAL'!$L$4<R61,Q4,0),0) -> 0 | R66: =IF(R61<='BM GLOBAL'!$L$4,IF('BM GLOBAL'!$L$4<T61,S4,0),0) -> 0 | T66: =IF(T61<='BM GLOBAL'!$L$4,IF('BM GLOBAL'!$L$4<V61,U4,0),0) -> 0 | V66: =IF(V61<='BM GLOBAL'!$L$4,IF('BM GLOBAL'!$L$4<X61,W4,0),0) -> 0 | X66: =IF(X61<='BM GLOBAL'!$L$4,IF('BM GLOBAL'!$L$4<Z61,Y4,0),0) -> 0 | Z66: =IF(Z61<='BM GLOBAL'!$L$4,IF('BM GLOBAL'!$L$4<AB61,AA4,0),0) -> 0 | AB66: =IF(AB61<='BM GLOBAL'!$L$4,IF('BM GLOBAL'!$L$4<AD61,AC4,0),0) -> 0 | AD66: =IF(AD61<='BM GLOBAL'!$L$4,IF('BM GLOBAL'!$L$4<AF61,AE4,0),0) -> 0 | AF66: =IF(AF61<='BM GLOBAL'!$L$4,IF('BM GLOBAL'!$L$4<AH61,AG4,0),0) -> 0 | AH66: =IF(AH61<='BM GLOBAL'!$L$4,IF('BM GLOBAL'!$L$4<AJ61,AI4,0),0) -> 0 | AJ66: =IF(AJ61<='BM GLOBAL'!$L$4,IF('BM GLOBAL'!$L$4<AL61,AK4,0),0) -> 0 | AL66: =IF(AL61<='BM GLOBAL'!$L$4,IF('BM GLOBAL'!$L$4<AN61,AM4,0),0) -> 0 | AN66: =IF(AN61<='BM GLOBAL'!$L$4,IF('BM GLOBAL'!$L$4<AP61,AO4,0),0) -> 0 | AP66: =IF(AP61<='BM GLOBAL'!$L$4,IF('BM GLOBAL'!$L$4<AR61,AQ4,0),0) -> 0
H67: =IF(0<$E$70,IF($E$70<=I46,100*($E$70-0)/(I46-0),0),0) -> 0 | J67: =IF(I46<$E$70,IF($E$70<=K46,100*($E$70-I46)/(K46-I46),0),0) -> 0 | L67: =IF(K46<$E$70,IF($E$70<=M46,100*($E$70-K46)/(M46-K46),0),0) -> 0 | N67: =IF(M46<$E$70,IF($E$70<=O46,100*($E$70-M46)/(O46-M46),0),0) -> 0 | P67: =IF(O46<$E$70,IF($E$70<=Q46,100*($E$70-O46)/(Q46-O46),0),0) -> 0 | R67: =IF(Q46<$E$70,IF($E$70<=S46,100*($E$70-Q46)/(S46-Q46),0),0) -> 0 | T67: =IF(S46<$E$70,IF($E$70<=U46,100*($E$70-S46)/(U46-S46),0),0) -> 0 | V67: =IF(U46<$E$70,IF($E$70<=W46,100*($E$70-U46)/(W46-U46),0),0) -> 0 | X67: =IF(W46<$E$70,IF($E$70<=Y46,100*($E$70-W46)/(Y46-W46),0),0) -> 0 | Z67: =IF(Y46<$E$70,IF($E$70<=AA46,100*($E$70-Y46)/(AA46-Y46),0),0) -> 0 | AB67: =IF(AA46<$E$70,IF($E$70<=AC46,100*($E$70-AA46)/(AC46-AA46),0),0) -> 0 | AD67: =IF(AC46<$E$70,IF($E$70<=AE46,100*($E$70-AC46)/(AE46-AC46),0),0) -> 0 | AF67: =IF(AE46<$E$70,IF($E$70<=AG46,100*($E$70-AE46)/(AG46-AE46),0),0) -> 0 | AH67: =IF(AG46<$E$70,IF($E$70<=AI46,100*($E$70-AG46)/(AI46-AG46),0),0) -> 0 | AJ67: =IF(AI46<$E$70,IF($E$70<=AK46,100*($E$70-AI46)/(AK46-AI46),0),0) -> 0 | AL67: =IF(AK46<$E$70,IF($E$70<=AM46,100*($E$70-AK46)/(AM46-AK46),0),0) -> 0 | AN67: =IF(AM46<$E$70,IF($E$70<=AO46,100*($E$70-AM46)/(AO46-AM46),0),0) -> 0 | AP67: =IF(AO46<$E$70,IF($E$70<=AQ46,100*($E$70-AO46)/(AQ46-AO46),0),0) -> 0
H68: =IF(H67<>0,I4,0) -> 0 | J68: =IF(J67<>0,K4,0) -> 0 | L68: =IF(L67<>0,M4,0) -> 0 | N68: =IF(N67<>0,O4,0) -> 0 | P68: =IF(P67<>0,Q4,0) -> 0 | R68: =IF(R67<>0,S4,0) -> 0 | T68: =IF(T67<>0,U4,0) -> 0 | V68: =IF(V67<>0,W4,0) -> 0 | X68: =IF(X67<>0,Y4,0) -> 0 | Z68: =IF(Z67<>0,AA4,0) -> 0 | AB68: =IF(AB67<>0,AC4,0) -> 0 | AD68: =IF(AD67<>0,AE4,0) -> 0 | AF68: =IF(AF67<>0,AG4,0) -> 0 | AH68: =IF(AH67<>0,AI4,0) -> 0 | AJ68: =IF(AJ67<>0,AK4,0) -> 0 | AL68: =IF(AL67<>0,AM4,0) -> 0 | AN68: =IF(AN67<>0,AO4,0) -> 0 | AP68: =IF(AP67<>0,AQ4,0) -> 0
H69: =IF(H68<>0,E61+30*H67/100,0) -> 0 | J69: =IF(J68<>0,H61+30*J67/100,0) -> 0 | L69: =IF(L68<>0,J61+30*L67/100,0) -> 0 | N69: =IF(N68<>0,L61+30*N67/100,0) -> 0 | P69: =IF(P68<>0,N61+30*P67/100,0) -> 0 | R69: =IF(R68<>0,P61+30*R67/100,0) -> 0 | T69: =IF(T68<>0,Q61+30*T67/100,0) -> 0 | V69: =IF(V68<>0,T61+30*V67/100,0) -> 0 | X69: =IF(X68<>0,V61+30*X67/100,0) -> 0 | Z69: =IF(Z68<>0,X61+30*Z67/100,0) -> 0 | AB69: =IF(AB68<>0,Z61+30*AB67/100,0) -> 0 | AD69: =IF(AD68<>0,AB61+30*AD67/100,0) -> 0 | AF69: =IF(AF68<>0,AC61+30*AF67/100,0) -> 0 | AH69: =IF(AH68<>0,AF61+30*AH67/100,0) -> 0 | AJ69: =IF(AJ68<>0,AH61+30*AJ67/100,0) -> 0 | AL69: =IF(AL68<>0,AJ61+30*AL67/100,0) -> 0 | AN69: =IF(AN68<>0,AL61+30*AN67/100,0) -> 0 | AP69: =IF(AP68<>0,AN61+30*AP67/100,0) -> 0
E70: ='RESUMO BM'!K50 -> 0

Sheet QCI
B2: QCI - QUADRO DE COMPOSIÇÃO DO INVESTIMENTO | D2: =CONCATENATE("Nº do Contrato: ",'ORÇ.GLOBAL P CAIXA'!F6) -> Nº do Contrato: | H2: =CONCATENATE("Tomador: ",'ORÇ.GLOBAL REF.'!C4) -> Tomador: MUNICÍPIO DE CASTRO
B5: =CONCATENATE("Empreendimento: ",'ORÇ.GLOBAL REF.'!C8) -> Empreendimento: SUBSTITUIÇÃO TELHAS UBS SOCAVÃO | H5: =CONCATENATE("Programa: ",'ORÇ.GLOBAL REF.'!C6) -> Programa:
B8: ITEM | C8: DESCRIÇÃO DOS AGRUPADORES DE SERVIÇOS | D8: UNID. | E8: QUANT. | F8: REPASSE | G8: CONTRAPARTIDA | I8: OUT. FONTES | J8: TOTAL | K8: INC.
G9: FINANCEIRA | H9: FÍSICA | K9: %
B10: ='CRONO P CAIXA'!E9 -> 1 | C10: ='CRONO P CAIXA'!F9 -> REMOÇÃO TELHAS | F10: =SUMIF('ORÇ.GLOBAL P CAIXA'!$V$12:$V$1011,B10,'ORÇ.GLOBAL P CAIXA'!$Z$12:$Z$1011) -> 0 | G10: =SUMIF('ORÇ.GLOBAL P CAIXA'!$V$12:$V$1011,B10,'ORÇ.GLOBAL P CAIXA'!$AA$12:$AA$1011) -> 3401.68 | H10: =SUMIF('ORÇ.GLOBAL P CAIXA'!$V$12:$V$1011,B10,'ORÇ.GLOBAL P CAIXA'!$AB$12:$AB$1011) -> 0 | I10: =SUMIF('ORÇ.GLOBAL P CAIXA'!$V$12:$V$1011,B10,'ORÇ.GLOBAL P CAIXA'!$AC$12:$AC$1011) -> 0 | J10: =SUM(F10:I10) -> 3401.68 | K10: =J10*100/$J$47 -> 8.144469
B11: ='CRONO P CAIXA'!E10 -> 2 | C11: ='CRONO P CAIXA'!F10 -> COBERTURA | F11: =SUMIF('ORÇ.GLOBAL P CAIXA'!$V$12:$V$1011,B11,'ORÇ.GLOBAL P CAIXA'!$Z$12:$Z$1011) -> 0 | G11: =SUMIF('ORÇ.GLOBAL P CAIXA'!$V$12:$V$1011,B11,'ORÇ.GLOBAL P CAIXA'!$AA$12:$AA$1011) -> 37818.07 | H11: =SUMIF('ORÇ.GLOBAL P CAIXA'!$V$12:$V$1011,B11,'ORÇ.GLOBAL P CAIXA'!$AB$12:$AB$1011) -> 0 | I11: =SUMIF('ORÇ.GLOBAL P CAIXA'!$V$12:$V$1011,B11,'ORÇ.GLOBAL P CAIXA'!$AC$12:$AC$1011) -> 0 | J11: =SUM(F11:I11) -> 37818.07 | K11: =J11*100/$J$47 -> 90.545877
B12: ='CRONO P CAIXA'!E11 -> 3 | C12: ='CRONO P CAIXA'!F11 -> BEIRAL PVC | F12: =SUMIF('ORÇ.GLOBAL P CAIXA'!$V$12:$V$1011,B12,'ORÇ.GLOBAL P CAIXA'!$Z$12:$Z$1011) -> 0 | G12: =SUMIF('ORÇ.GLOBAL P CAIXA'!$V$12:$V$1011,B12,'ORÇ.GLOBAL P CAIXA'!$AA$12:$AA$1011) -> 547 | H12: =SUMIF('ORÇ.GLOBAL P CAIXA'!$V$12:$V$1011,B12,'ORÇ.GLOBAL P CAIXA'!$AB$12:$AB$1011) -> 0 | I12: =SUMIF('ORÇ.GLOBAL P CAIXA'!$V$12:$V$1011,B12,'ORÇ.GLOBAL P CAIXA'!$AC$12:$AC$1011) -> 0 | J12: =SUM(F12:I12) -> 547 | K12: =J12*100/$J$47 -> 1.3096542
B13: ='CRONO P CAIXA'!E12 -> 0 | C13: ='CRONO P CAIXA'!F12 | F13: =SUMIF('ORÇ.GLOBAL P CAIXA'!$V$12:$V$1011,B13,'ORÇ.GLOBAL P CAIXA'!$Z$12:$Z$1011) -> 0 | G13: =SUMIF('ORÇ.GLOBAL P CAIXA'!$V$12:$V$1011,B13,'ORÇ.GLOBAL P CAIXA'!$AA$12:$AA$1011) -> 0 | H13: =SUMIF('ORÇ.GLOBAL P CAIXA'!$V$12:$V$1011,B13,'ORÇ.GLOBAL P CAIXA'!$AB$12:$AB$1011) -> 0 | I13: =SUMIF('ORÇ.GLOBAL P CAIXA'!$V$12:$V$1011,B13,'ORÇ.GLOBAL P CAIXA'!$AC$12:$AC$1011) -> 0 | J13: =SUM(F13:I13) -> 0 | K13: =J13*100/$J$47 -> 0
B14: ='CRONO P CAIXA'!E13 -> 0 | C14: ='CRONO P CAIXA'!F13 | F14: =SUMIF('ORÇ.GLOBAL P CAIXA'!$V$12:$V$1011,B14,'ORÇ.GLOBAL P CAIXA'!$Z$12:$Z$1011) -> 0 | G14: =SUMIF('ORÇ.GLOBAL P CAIXA'!$V$12:$V$1011,B14,'ORÇ.GLOBAL P CAIXA'!$AA$12:$AA$1011) -> 0 | H14: =SUMIF('ORÇ.GLOBAL P CAIXA'!$V$12:$V$1011,B14,'ORÇ.GLOBAL P CAIXA'!$AB$12:$AB$1011) -> 0 | I14: =SUMIF('ORÇ.GLOBAL P CAIXA'!$V$12:$V$1011,B14,'ORÇ.GLOBAL P CAIXA'!$AC$12:$AC$1011) -> 0 | J14: =SUM(F14:I14) -> 0 | K14: =J14*100/$J$47 -> 0
B15: ='CRONO P CAIXA'!E14 -> 0 | C15: ='CRONO P CAIXA'!F14 | F15: =SUMIF('ORÇ.GLOBAL P CAIXA'!$V$12:$V$1011,B15,'ORÇ.GLOBAL P CAIXA'!$Z$12:$Z$1011) -> 0 | G15: =SUMIF('ORÇ.GLOBAL P CAIXA'!$V$12:$V$1011,B15,'ORÇ.GLOBAL P CAIXA'!$AA$12:$AA$1011) -> 0 | H15: =SUMIF('ORÇ.GLOBAL P CAIXA'!$V$12:$V$1011,B15,'ORÇ.GLOBAL P CAIXA'!$AB$12:$AB$1011) -> 0 | I15: =SUMIF('ORÇ.GLOBAL P CAIXA'!$V$12:$V$1011,B15,'ORÇ.GLOBAL P CAIXA'!$AC$12:$AC$1011) -> 0 | J15: =SUM(F15:I15) -> 0 | K15: =J15*100/$J$47 -> 0
B16: ='CRONO P CAIXA'!E15 -> 0 | C16: ='CRONO P CAIXA'!F15 | F16: =SUMIF('ORÇ.GLOBAL P CAIXA'!$V$12:$V$1011,B16,'ORÇ.GLOBAL P CAIXA'!$Z$12:$Z$1011) -> 0 | G16: =SUMIF('ORÇ.GLOBAL P CAIXA'!$V$12:$V$1011,B16,'ORÇ.GLOBAL P CAIXA'!$AA$12:$AA$1011) -> 0 | H16: =SUMIF('ORÇ.GLOBAL P CAIXA'!$V$12:$V$1011,B16,'ORÇ.GLOBAL P CAIXA'!$AB$12:$AB$1011) -> 0 | I16: =SUMIF('ORÇ.GLOBAL P CAIXA'!$V$12:$V$1011,B16,'ORÇ.GLOBAL P CAIXA'!$AC$12:$AC$1011) -> 0 | J16: =SUM(F16:I16) -> 0 | K16: =J16*100/$J$47 -> 0
B17: ='CRONO P CAIXA'!E16 -> 0 | C17: ='CRONO P CAIXA'!F16 | F17: =SUMIF('ORÇ.GLOBAL P CAIXA'!$V$12:$V$1011,B17,'ORÇ.GLOBAL P CAIXA'!$Z$12:$Z$1011) -> 0 | G17: =SUMIF('ORÇ.GLOBAL P CAIXA'!$V$12:$V$1011,B17,'ORÇ.GLOBAL P CAIXA'!$AA$12:$AA$1011) -> 0 | H17: =SUMIF('ORÇ.GLOBAL P CAIXA'!$V$12:$V$1011,B17,'ORÇ.GLOBAL P CAIXA'!$AB$12:$AB$1011) -> 0 | I17: =SUMIF('ORÇ.GLOBAL P CAIXA'!$V$12:$V$1011,B17,'ORÇ.GLOBAL P CAIXA'!$AC$12:$AC$1011) -> 0 | J17: =SUM(F17:I17) -> 0 | K17: =J17*100/$J$47 -> 0
B18: ='CRONO P CAIXA'!E17 -> 0 | C18: ='CRONO P CAIXA'!F17 | F18: =SUMIF('ORÇ.GLOBAL P CAIXA'!$V$12:$V$1011,B18,'ORÇ.GLOBAL P CAIXA'!$Z$12:$Z$1011) -> 0 | G18: =SUMIF('ORÇ.GLOBAL P CAIXA'!$V$12:$V$1011,B18,'ORÇ.GLOBAL P CAIXA'!$AA$12:$AA$1011) -> 0 | H18: =SUMIF('ORÇ.GLOBAL P CAIXA'!$V$12:$V$1011,B18,'ORÇ.GLOBAL P CAIXA'!$AB$12:$AB$1011) -> 0 | I18: =SUMIF('ORÇ.GLOBAL P CAIXA'!$V$12:$V$1011,B18,'ORÇ.GLOBAL P CAIXA'!$AC$12:$AC$1011) -> 0 | J18: =SUM(F18:I18) -> 0 | K18: =J18*100/$J$47 -> 0
B19: ='CRONO P CAIXA'!E18 -> 0 | C19: ='CRONO P CAIXA'!F18 | F19: =SUMIF('ORÇ.GLOBAL P CAIXA'!$V$12:$V$1011,B19,'ORÇ.GLOBAL P CAIXA'!$Z$12:$Z$1011) -> 0 | G19: =SUMIF('ORÇ.GLOBAL P CAIXA'!$V$12:$V$1011,B19,'ORÇ.GLOBAL P CAIXA'!$AA$12:$AA$1011) -> 0 | H19: =SUMIF('ORÇ.GLOBAL P CAIXA'!$V$12:$V$1011,B19,'ORÇ.GLOBAL P CAIXA'!$AB$12:$AB$1011) -> 0 | I19: =SUMIF('ORÇ.GLOBAL P CAIXA'!$V$12:$V$1011,B19,'ORÇ.GLOBAL P CAIXA'!$AC$12:$AC$1011) -> 0 | J19: =SUM(F19:I19) -> 0 | K19: =J19*100/$J$47 -> 0
B20: ='CRONO P CAIXA'!E19 -> 0 | C20: ='CRONO P CAIXA'!F19 | F20: =SUMIF('ORÇ.GLOBAL P CAIXA'!$V$12:$V$1011,B20,'ORÇ.GLOBAL P CAIXA'!$Z$12:$Z$1011) -> 0 | G20: =SUMIF('ORÇ.GLOBAL P CAIXA'!$V$12:$V$1011,B20,'ORÇ.GLOBAL P CAIXA'!$AA$12:$AA$1011) -> 0 | H20: =SUMIF('ORÇ.GLOBAL P CAIXA'!$V$12:$V$1011,B20,'ORÇ.GLOBAL P CAIXA'!$AB$12:$AB$1011) -> 0 | I20: =SUMIF('ORÇ.GLOBAL P CAIXA'!$V$12:$V$1011,B20,'ORÇ.GLOBAL P CAIXA'!$AC$12:$AC$1011) -> 0 | J20: =SUM(F20:I20) -> 0 | K20: =J20*100/$J$47 -> 0
B21: ='CRONO P CAIXA'!E20 -> 0 | C21: ='CRONO P CAIXA'!F20 | F21: =SUMIF('ORÇ.GLOBAL P CAIXA'!$V$12:$V$1011,B21,'ORÇ.GLOBAL P CAIXA'!$Z$12:$Z$1011) -> 0 | G21: =SUMIF('ORÇ.GLOBAL P CAIXA'!$V$12:$V$1011,B21,'ORÇ.GLOBAL P CAIXA'!$AA$12:$AA$1011) -> 0 | H21: =SUMIF('ORÇ.GLOBAL P CAIXA'!$V$12:$V$1011,B21,'ORÇ.GLOBAL P CAIXA'!$AB$12:$AB$1011) -> 0 | I21: =SUMIF('ORÇ.GLOBAL P CAIXA'!$V$12:$V$1011,B21,'ORÇ.GLOBAL P CAIXA'!$AC$12:$AC$1011) -> 0 | J21: =SUM(F21:I21) -> 0 | K21: =J21*100/$J$47 -> 0
