Workbook

Sheet VEICULOS ATUALIZADOS
A1: GABINETE
A2: FROTA | B2: COMBUSTIVEL | C2: RENAVAM | D2: VEICULO/ESPECIE | E2: PLACA | F2: ANO | G2: DEPARTAMENTO | H2: BATERIAS/AMPERES | I2: PNEUS
A3: 121 | B3: FLEX | C3: .01128443314 | D3: FOCUS FAST BACK /FORD | E3: BBO-3701 | F3: 2017 | G3: GABINETE | H3: 70 / 12V | I3: 215/50/R17
A4: 610 | B4: FLEX | C4: .01298194129 | D4: FIAT MOBI | E4: RHY-5D82 | F4: 2022 | G4: GABINETE | H4: 60 / 12V | I4: 175/65/R14
A5: 614 | B5: DIESEL | C5: .01303249518 | D5: PAJERO SPORT HPE | E5: SDQ-3I45 | F5: 2022 | G5: GABINETE | H5: 90 / 12V | I5: 265/60/R18
D6: FAZENDA
A7: FROTA | B7: COMBUSTIVEL | C7: RENAVAM | D7: VEICULO/ESPECIE | E7: PLACA | F7: ANO | G7: DEPARTAMENTO
A8: 611 | B8: FLEX | C8: .01298187920 | D8: FIAT MOBI | E8: RHY-5D80 | F8: 2022 | G8: FAZENDA | H8: 60 / 12V | I8: 175/65/R14
A9: Departamento Compras
A10: FROTA | B10: COMBUSTIVEL | D10: VEICULO/ESPECIE | E10: PLACA | F10: ANO | G10: DEPARTAMENTO
A11: 186 | B11: FLEX | C11: .01023743628 | D11: PALIO FIRE | E11: AYX-9627 | F11: 2014 | G11: COMPRAS | H11: 60 / 12V | I11: 175/70/R13
A12: ADMINISTRAÇÃO
A13: FROTA | B13: COMBUSTIVEL | D13: VEICULO/ESPECIE | E13: PLACA | F13: ANO | G13: DEPARTAMENTO
A14: 132 | B14: FLEX | C14: .01128624114 | D14: FIAT MOBI | E14: BBO-4714 | F14: 2017 | G14: ADMINISTRAÇÃO | H14: 60 / 12V | I14: 175/65/R14
A15: 600 | B15: FLEX | C15: .00901146277 | D15: PARATI | E15: AOF-8375 | F15: 2007 | G15: ADMINISTRAÇÃO | H15: 48 /12V | I15: 175/70/R13
A16: 623 | B16: FLEX | C16: .01342328423 | D16: FIAT /ARGO | E16: SEG-7A30 | F16: 2023 | G16: ADMINISTRAÇÃO | H16: 60 / 12V | I16: 175/65/R14
A17: TRIBUTAÇÃO - FISCALIZAÇÃO
A18: FROTA | B18: COMBUSTIVEL | D18: VEICULO/ESPECIE | E18: PLACA | F18: ANO | G18: DEPARTAMENTO
A19: PLANEJAMENTO
A20: FROTA | B20: COMBUSTIVEL | D20: VEICULO/ESPECIE | E20: PLACA | F20: ANO | G20: DEPARTAMENTO
A21: 107 | B21: FLEX | C21: .01128613848 | D21: FIAT MOBI | E21: BBO-4711 | F21: 2017 | G21: PLANEJAMENTO | H21: 60 / 12V | I21: 175/65/R14
A22: 113 | B22: FLEX | C22: .01128617614 | D22: FIAT MOBI | E22: BBO-4713 | F22: 2017 | G22: PLANEJAMENTO | H22: 60 / 12V | I22: 175/65/R14
A23: 631 | B23: DIESEL | C23: .00956525601 | D23: NISSAN FRONTIER | E23: APV-5203 | F23: 2008 | G23: PLANEJAMENTO | H23: 70 / 12V | I23: 255/75/R15
A24: AGRICULTURA
A25: FROTA | B25: COMBUSTIVEL | D25: VEICULO/ESPECIE | E25: PLACA | F25: ANO | G25: DEPARTAMENTO
A26: 104 | B26: FLEX | D26: PALIO - CINZA | E26: BAV - 9078 | F26: 2015 | G26: Agricultura | H26: 60 / 12V | I26: 165/70/R13
A27: 116 | B27: FLEX | C27: .01128512880 | D27: MONTANA | E27: BBO-4708 | F27: 2013 | G27: agricultura | H27: 60 / 12V | I27: 175/65/R14
A28: 118 | B28: FLEX | C28: .01128444825 | D28: MOBI LIKE | E28: BBO-3694 | F28: 2017 | G28: Agricultura | H28: 60 / 12V | I28: 175/65/R14
A29: 119 | B29: FLEX | C29: .01128504712 | D29: MONTANA | E29: BBO-4718 | F29: 2017 | G29: Agricultura | H29: 60 / 12V | I29: 175/65/R14
A30: 153 | B30: FLEX | C30: .00983479240 | D30: KOMBI | E30: AQO-1016 | F30: 2008 | G30: Agricultura | H30: 60 / 12V | I30: 185/R14 - C102/110R
A31: 187 | B31: FLEX | C31: .01023746384 | D31: PALIO/FIRE | E31: AYX-9628 | F31: 2014 | G31: Agricultura | H31: 60 / 12V | I31: 175/70/R13
A32: 188 | B32: FLEX | D32: VW/ Saveiro | E32: AZA-9759 | F32: 2014 | G32: Agricultura | H32: 60 / 12V | I32: 185/65/R14
A33: 189 | B33: FLEX | D33: SAVEIRO | E33: AZA-9760 | F33: 2014 | G33: Agricultura | H33: FOI PARA O PATEO | I33: 0
A34: 190 | B34: FLEX | C34: .01028269100 | D34: FIAT SIENA | E34: AZB - 2625 | F34: 2014 | G34: Agricultura | H34: 60 / 12V | I34: 195/55R 16 87V
A35: 207 | B35: FLEX | C35: .01179284000 | D35: FIAT/STRADA | E35: BCU-6A25 | F35: 2018 | G35: Agricultura | H35: 60 / 12V
A36: 607 | B36: FLEX | D36: ASTRA SEDAN ADVANTAGE | E36: APJ-4B60 | F36: 2008 | G36: Agricultura | H36: RECICLAGEM | I36: 0
A37: 608 | B37: FLEX | D37: KOMBI/MISTO/CAMIONETA | E37: AWA-1D57 | F37: 2012 | G37: Agricultura | H37: 0 | I37: 0
A38: 612 | B38: DIESEL | C38: .00365591882 | D38: CAMINHONETE FORD/RANGER | E38: AUO-4663 | F38: 2011 | G38: Agricultura | H38: 60 / 12V | I38: 235/75/R15
A39: 620 | B39: FLEX | C39: .01328378133 | D39: FIAT ESTRADA | E39: SDZ-9E67 | F39: 2022 | G39: Agricultura | H39: 60 / 12V | I39: 195/65/R15
A40: 660 | B40: FLEX | C40: .01441111660 | D40: FIAT ARGO 1.0 | E40: TBL-8189 | F40: 2026 | G40: Agricultura | H40: 60 / 12V | I40: 175/65/R14
...

Sheet AGRICULTURA 
A1: AGRICULTURA
A2: FROTA | B2: COMBUSTIVEL | D2: VEICULO/ESPECIE | E2: PLACA | F2: ANO | G2: DEPARTAMENTO
A3: 104 | B3: FLEX | D3: PALIO - CINZA | E3: BAV - 9078 | F3: 2015 | G3: Agricultura | H3: 60 / 12V | I3: 165/70/R13
A4: 116 | B4: FLEX | C4: .01128512880 | D4: MONTANA | E4: BBO-4708 | F4: 2013 | G4: agricultura | H4: 60 / 12V | I4: 175/65/R14
A5: 118 | B5: FLEX | C5: .01128444825 | D5: MOBI LIKE | E5: BBO-3694 | F5: 2017 | G5: Agricultura | H5: 60 / 12V | I5: 175/65/R14
A6: 119 | B6: FLEX | C6: .01128504712 | D6: MONTANA | E6: BBO-4718 | F6: 2017 | G6: Agricultura | H6: 60 / 12V | I6: 175/65/R14
A7: 153 | B7: FLEX | C7: .00983479240 | D7: KOMBI | E7: AQO-1016 | F7: 2008 | G7: Agricultura | H7: 60 / 12V | I7: 185/R14 - C102/110R
A8: 187 | B8: FLEX | C8: .01023746384 | D8: PALIO/FIRE | E8: AYX-9628 | F8: 2014 | G8: Agricultura | H8: 60 / 12V | I8: 175/70/R13
A9: 188 | B9: FLEX | D9: VW/ Saveiro | E9: AZA-9759 | F9: 2014 | G9: Agricultura | H9: 60 / 12V | I9: 185/65/R14
A10: 189 | B10: FLEX | D10: SAVEIRO | E10: AZA-9760 | F10: 2014 | G10: Agricultura | H10: FOI PARA O PATEO | I10: 0
A11: 190 | B11: FLEX | C11: .01028269100 | D11: FIAT SIENA | E11: AZB - 2625 | F11: 2014 | G11: Agricultura | H11: 60 / 12V | I11: 195/55R 16 87V
A12: 207 | B12: FLEX | C12: .01179284000 | D12: FIAT/STRADA | E12: BCU-6A25 | F12: 2018 | G12: Agricultura | H12: 60 / 12V
A13: 607 | B13: FLEX | D13: ASTRA SEDAN ADVANTAGE | E13: APJ-4B60 | F13: 2008 | G13: Agricultura | H13: RECICLAGEM | I13: 0
A14: 608 | B14: FLEX | D14: KOMBI/MISTO/CAMIONETA | E14: AWA-1D57 | F14: 2012 | G14: Agricultura | H14: 0 | I14: 0
A15: 612 | B15: DIESEL | C15: .00365591882 | D15: CAMINHONETE FORD/RANGER | E15: AUO-4663 | F15: 2011 | G15: Agricultura | H15: 60 / 12V | I15: 235/75/R15
A16: 620 | B16: FLEX | C16: .01328378133 | D16: FIAT ESTRADA | E16: SDZ-9E67 | F16: 2022 | G16: Agricultura | H16: 60 / 12V | I16: 195/65/R15
A17: 660 | B17: FLEX | C17: .01441111660 | D17: FIAT ARGO 1.0 | E17: TBL-8189 | F17: 2026 | G17: Agricultura | H17: 60 / 12V | I17: 175/65/R14
A18: CAMINHOES
A19: 324 | B19: Diesel | C19: .00181479524 | D19: Caminhão Basculante Ford Cargo 2622 | E19: ASD-7479 | F19: 2009 | G19: Agricultura | H19: 150 / 12V | I19: 1000X20
A20: 326 | B20: Diesel | D20: Caminhão Basculante Ford Cargo 2622 | E20: ASD-7483 | F20: 2009 | G20: Agricultura | H20: 150 / 12V | I20: 1000X20
A21: 327 | B21: Diesel | C21: .00374400890 | D21: Caminhão Ford Cargo -lixo organico | E21: AUQ-2779 | F21: 2011 | G21: Agricultura | H21: 100 / 24V | I21: 900X20
A22: 328 | B22: Diesel | C22: .00450078485 | D22: Caminhão Ford Cargo - Coleta reciclavel | E22: AVA-8809 | F22: 2011 | G22: Agricultura | H22: 150 / 12V | I22: 215/75/R17.5
A23: 325 | B23: Diesel | C23: .00181478242 | D23: Caminhão Basculante Ford Cargo 2622 | E23: ASD - 7486 | F23: 2009 | G23: Agricultura | H23: 150 / 12V | I23: 1000X20
A24: 332 | B24: Diesel | C24: .01003346135 | D24: Caminhão Ford Cargo - lixo organico | E24: AYF-9417 | F24: 2013 | G24: Agricultura | H24: 100 / 24V | I24: 900X20
A25: 333 | B25: Diesel | C25: .01029850884 | D25: Caminhão Agrale de Lixo organico | E25: AZD-3219 | F25: 2014 | G25: Agricultura | H25: 100 / 24V | I25: 275/80/R22.5
A26: 334 | B26: Diesel | C26: .01093173235 | D26: Caminhão VW - de lixo organico | E26: BAR-8326 | F26: 2016 | G26: Agricultura | H26: 100 / 24V | I26: 275/80/R22.5
A27: 335 | B27: Diesel | C27: .01104868390 | D27: Caminhão Ford Cargo - Coleta Reciclavel | E27: BAZ-3581 | F27: 2016 | G27: Agricultura | H27: 100 / 12V | I27: 235/75/R17.5
A28: 900 | B28: Diesel | C28: .01272763304 | D28: Caminhão Basculante (LIXO NOVO)organico | E28: RHI-4F94 | F28: 2021 | G28: Agricultura | H28: 100 / 24V | I28: 275/80/R22.5
A29: 903 | B29: Diesel | C29: .01295228200 | D29: Caminhão Basculante (Caçamba) Mercedes | E29: SEA-7I99 | F29: 2022 | G29: Agricultura | H29: 150 /24V | I29: 275/80/R22.5
A30: 904 | B30: Diesel | C30: .01295228200 | D30: Caminhão Basculante Atego (Entulho) | E30: RHW-8G10 | F30: 2022 | G30: Agricultura | H30: 100 / 24V | I30: 275/80/R22.5
A31: 905 | B31: Diesel | C31: .01296916658 | D31: Caminhão VW - de lixo organico | E31: RHX-8C20 | F31: 2022 | G31: Agricultura | H31: 100 / 24V | I31: 275/80/R22.5
A32: MAQUINAS - AGRICULTURA
A33: 504 | B33: Diesel | D33: TRATOR MF-275 | E33: * | F33: 1995 | G33: Agricultura | H33: 0 | I33: 0
A34: 521 | B34: Diesel | D34: PÁ CARREGADEIRA W 130 | E34: * | F34: 2005 | G34: Agricultura | H34: 100 / 24V | I34: 17.5 X 25
A35: 522 | B35: Diesel | D35: TRATOR | E35: * | F35: 2005 | G35: Agricultura | H35: 0 | I35: 0
A36: 523 | B36: Diesel | D36: TRATOR/FORD | E36: * | F36: 2005 | G36: Agricultura | H36: 100 / 24V | I36: 18.4/30
A37: 525 | B37: Diesel | D37: MOTONIVELADORA NEWHOLLAND RG 140B | E37: * | F37: 2010 | G37: Agricultura | H37: 100 / 24V | I37: 1400 X 24
A38: 526 | B38: Diesel | D38: TRATOR | E38: * | F38: 2010 | G38: Agricultura | H38: 100 / 12V | I38: 23.1-30/14.9
A39: 529 | B39: Diesel | D39: RETROESCAVADEIRA CATERPILLAR 416E | E39: * | F39: 2013 | G39: Agricultura | H39: 100 / 24V | I39: 19.5 L 24R-8
A40: 530 | B40: Diesel | D40: MOTONIVELADORA CATERPILLAR | E40: * | F40: 2014 | G40: Agricultura | H40: 100 / 24V | I40: 1400 X 24
...

Sheet GABINETE
A1: GABINETE
A2: FROTA | B2: COMBUSTIVEL | C2: RENAVAM | D2: VEICULO/ESPECIE | E2: PLACA | F2: ANO | G2: DEPARTAMENTO | H2: BATERIAS/AMPERES | I2: PNEUS
A3: 121 | B3: FLEX | C3: .01128443314 | D3: FOCUS FAST BACK /FORD | E3: BBO-3H01 | F3: 2017 | G3: GABINETE | H3: =+'VEICULOS ATUALIZADOS'!H3 -> 70 / 12V | I3: =+'VEICULOS ATUALIZADOS'!I3 -> 215/50/R17
A4: 610 | B4: FLEX | C4: .01298194129 | D4: MOBI | E4: RHY-5D82 | F4: 2022 | G4: GABINETE | H4: =+'VEICULOS ATUALIZADOS'!H4 -> 60 / 12V | I4: =+'VEICULOS ATUALIZADOS'!I4 -> 175/65/R14
A5: 614 | B5: DIESEL | C5: .01303249518 | D5: PAJERO SPORT HPE | E5: SDQ-3I45 | F5: 2022 | G5: GABINETE | H5: =+'VEICULOS ATUALIZADOS'!H5 -> 90 / 12V | I5: =+'VEICULOS ATUALIZADOS'!I5 -> 265/60/R18

Sheet FAZENDA
A1: TRIBUTAÇÃO - FISCALIZAÇÃO
A2: FROTA | B2: COMBUSTIVEL | C2: RENAVAM | D2: VEICULO/ESPECIE | E2: PLACA | F2: ANO | G2: DEPARTAMENTO | H2: BATERIAS/AMPERES | I2: PNEUS
A3: 611 | B3: FLEX | D3: FIAT MOBI | E3: RHY-5D80 | F3: 2022 | G3: FAZENDA | H3: =+'VEICULOS ATUALIZADOS'!H8 -> 60 / 12V | I3: =+'VEICULOS ATUALIZADOS'!I8 -> 175/65/R14

Sheet COMPRAS
A1: Departamento Compras
A2: FROTA | B2: COMBUSTIVEL | C2: RENAVAM | D2: VEICULO/ESPECIE | E2: PLACA | F2: ANO | G2: DEPARTAMENTO | H2: BATERIAS/AMPERES | I2: PNEUS
A3: 186 | B3: FLEX | C3: .01023743628 | D3: PALIO FIRE | E3: AYX-9627 | F3: 2014 | G3: COMPRAS | H3: =+'VEICULOS ATUALIZADOS'!H11 -> 60 / 12V | I3: =+'VEICULOS ATUALIZADOS'!I11 -> 175/70/R13

Sheet ADMINISTRAÇÃO
A1: ADMINISTRAÇÃO
A2: FROTA | B2: COMBUSTIVEL | C2: RENAVAM | D2: VEICULO/ESPECIE | E2: PLACA | F2: ANO | G2: DEPARTAMENTO | H2: BATERIAS/AMPERES | I2: PNEUS
A3: 132 | B3: FLEX | C3: .01128624114 | D3: FIAT MOBI | E3: BBO-4714 | F3: 2017 | G3: ADMINISTRAÇÃO | H3: =+'VEICULOS ATUALIZADOS'!H14 -> 60 / 12V | I3: =+'VEICULOS ATUALIZADOS'!I14 -> 175/65/R14
A4: 600 | B4: FLEX | C4: .00901146277 | D4: PARATI | E4: AOF-8375 | F4: 2007 | G4: ADMINISTRAÇÃO | H4: =+'VEICULOS ATUALIZADOS'!H15 -> 48 /12V | I4: =+'VEICULOS ATUALIZADOS'!I15 -> 175/70/R13
A5: 623 | B5: FLEX | C5: .01342328423 | D5: FIAT /ARGO | E5: SEG-7A30 | F5: 2023 | G5: ADMINISTRAÇÃO | H5: =+'VEICULOS ATUALIZADOS'!H16 -> 60 / 12V | I5: =+'VEICULOS ATUALIZADOS'!I16 -> 175/65/R14

Sheet PLANEJAMENTO
A1: PLANEJAMENTO
A2: FROTA | B2: COMBUSTIVEL | C2: RENAVAM | D2: VEICULO/ESPECIE | E2: PLACA | F2: ANO | G2: DEPARTAMENTO | H2: BATERIAS/AMPERES | I2: PNEUS
A3: 107 | B3: FLEX | C3: .01128613848 | D3: FIAT MOBI | E3: BBO-4711 | F3: 2017 | G3: PLANEJAMENTO | H3: =+'VEICULOS ATUALIZADOS'!H21 -> 60 / 12V | I3: =+'VEICULOS ATUALIZADOS'!I21 -> 175/65/R14
A4: 113 | B4: FLEX | C4: .01128617614 | D4: FIAT MOBI | E4: BBO-4713 | F4: 2017 | G4: PLANEJAMENTO | H4: =+'VEICULOS ATUALIZADOS'!H22 -> 60 / 12V | I4: =+'VEICULOS ATUALIZADOS'!I22 -> 175/65/R14
A5: 631 | B5: DIESEL | C5: .00956525601 | D5: NISSAN FRONTIER | E5: APV-5203 | F5: 2008 | G5: PLANEJAMENTO | H5: =+'VEICULOS ATUALIZADOS'!H23 -> 70 / 12V | I5: =+'VEICULOS ATUALIZADOS'!I23 -> 255/75/R15
A10: CENTRO DE CUSTO 41

Sheet  URBANOS MANUTENÇAO RODOVIARIO
A1: SERVIÇOS URBANOS - GASOLINA / DIESEL
A2: FROTA | B2: COMBUSTIVEL | C2: RENAVAM | D2: VEICULO/ESPECIE | E2: PLACA | F2: ANO | G2: DEPARTAMENTO | H2: BATERIAS/AMPERES | I2: PNEUS
A3: 155 | B3: Gaso--- | C3: .00983484350 | D3: Kombi | E3: AQO - 0937 | F3: 2008 | G3: Serviços Urbanos
A4: 156 | B4: FLEX | C4: .01213997604 | D4: GM MONTANA - AMBULÂNCIA | E4: BDQ - 3I78 | F4: 2019 | G4: Urbanos CEMITERIO
A5: 177 | B5: FLEX | D5: KOMBI | E5: AWD-2028 | F5: 2012 | G5: Serviços Urbanos
A6: 189 | B6: FLEX | C6: .01027223181 | D6: SAVEIRO CS ST | E6: AZA-9760 | F6: 2015 | G6: Serviços Urbanos
A7: CEDIDO | B7: FLEX | D7: VW KOMBI | E7: AVH - 5G86 | F7: 2012 | G7: Serviços Urbanos
A8: 193 | B8: Gasolina | D8: VW/ Gol | E8: AHR - 0446 | F8: 1998 | G8: Serviços Urbanos
A9: 317 | B9: Gasolina | C9: 0 | D9: TRICICLO/MOTO DE PINTURA | E9: BCD - 2981 | F9: 2017 | G9: Serviços Urbanos
A10: 317 | C10: 0 | D10: CARRETINHA | E10: BCP-2981 | F10: 2017 | G10: Serviços Urbanos
A11: 319 | B11: Diesel | C11: .00518500179 | D11: Caminhonete F 2000 | E11: AGZ - 6490 | F11: 1980 | G11: Serviços Urbanos
A12: SERVIÇOS URBANOS - DIESEL - CAMINHOES
A13: 300 | B13: Diesel | C13: .01213668597 | D13: Caminhão Ford- Pipa | E13: QXC - 7J34 | F13: 2019 | G13: Serviços Urbanos
A14: 304 | B14: Diesel | C14: .01182697990 | D14: Caminhão Basculante Ford | E14: BCW - 8E76 | F14: 2018 | G14: Serviços Urbanos
A15: 323 | B15: Diesel | C15: .00843950307 | D15: Caminhao mec. Operacional | E15: AMJ-5964 | F15: 2005 | G15: Serviços Urbanos
A16: 619 | B16: Flex | C16: .01328380162 | D16: ESTRADA ENDURANCE | E16: SDZ-9D66 | F16: 2022 | G16: ASSISTENCIA SOCIAL | J16: VEIO DA ASSIS SOCIAL CONF CI 303/2025 - 29/07/2025
A17: 313 | B17: Diesel | D17: Caminhão VW - 11130 pipa | E17: AJB - 2721 | F17: 1986 | G17: Serviços Urbanos
A18: 336 | B18: Diesel | C18: .01211964679 | D18: Caminhão Ford - Usina de Asfalto | E18: BDP - 0G24 | F18: 2018 | G18: Serviços Urbanos
A19: 901 | B19: Diesel | C19: .01274368771 | D19: Caminhao 14.190 - fossa | E19: RHJ-5I97 | F19: 2022 | G19: Serviços Urbanos
A20: 501 | B20: Diesel | C20: 0 | D20: Bob Kate | E20: 501 | F20: 2020 | G20: Serviços Urbanos
A21: 505 | B21: Diesel | C21: 0 | D21: Retroescavadeira Fiat Aliis FB 80.2 | E21: TW-4619 | F21: 1999 | G21: Serviços Urbanos
A22: 510 | B22: Diesel | C22: 0 | D22: Rolo Liso Compactador/MILLER | E22: TW-4613 | F22: 1983 | G22: Serviços Urbanos
A23: 516 | B23: Diesel | C23: 0 | D23: Trator Ford Newholland | E23: TW-4610 | F23: 1988 | G23: Serviços Urbanos
A24: 524 | B24: Diesel | C24: 0 | D24: Trator Ford Newholland - | E24: Cedido | F24: 2005 | G24: URBANOS
A25: 534 | B25: Diesel | C25: 0 | D25: TRATOR FORD NEWHOLLAND | E25: 534 | F25: 2016 | G25: Serviços Urbanos
A27: MANUTENÇÃO - GASOLINA
A28: FROTA | B28: COMBUSTIVEL | D28: VEICULO/ESPECIE | E28: PLACA | F28: ANO | G28: DEPARTAMENTO | H28: BATERIAS/AMPERES | I28: PNEUS
A29: 112 | B29: Flex | C29: .01128447794 | D29: Fiat Mobi | E29: BBO - 3697 | F29: 2017 | G29: Manutenção
A30: 137 | B30: Flex | D30: VW/ Saveiro | E30: IHX - 5780 | F30: 1998 | G30: Manutenção
A31: 506 | B31: Diesel | C31: 0 | D31: Retroescavadeira Case - | E31: TW-4626 | F31: 1977 | G31: Manutenção
A33: RODOVIARIOS - DIESEL - CAMINHOES
A34: FROTA | B34: COMBUSTIVEL | D34: VEICULO/ESPECIE | E34: PLACA | F34: ANO | G34: DEPARTAMENTO | H34: BATERIAS/AMPERES | I34: PNEUS
A35: 166 | B35: DIESEL | D35: Caminhonete Ford Ranger | E35: ARQ - 2660 | F35: 2009 | G35: Serviço Rodoviario
A36: 528 | B36: DIESEL | C36: 0 | D36: Retroescavadeira Randon | E36: * | F36: 2013 | G36: Serviço Rodoviario
A37: 331 | B37: DIESEL | C37: .00580620298 | D37: Caminhão Basculante/ Mercedes Bens | E37: AXN - 3556 | F37: 2013 | G37: Serviços Rodoviarios
A38: 533 | B38: DIESEL | C38: 0 | D38: PÁ CARREGADEIRA | E38: * | F38: 2016 | G38: Serviço Rodoviario
A39: 609 | B39: DIESEL | C39: .00335529089 | D39: Caminhonete Ford Ranger | E39: AUE - 5372 | F39: 2011 | G39: Serviços Rodoviarios
A40: 330 | B40: DIESEL | C40: .00555912485 | D40: Caminhão Basculante Ford Cargo 2623 | E40: AXI-2053 | F40: 2013 | G40: Serviços Rodoviarios

Sheet RODOVIARIO
A1: RODOVIARIOS - DIESEL - CAMINHOES
A2: FROTA | B2: COMBUSTIVEL | C2: RENAVAM | D2: VEICULO/ESPECIE | E2: PLACA | F2: ANO | G2: DEPARTAMENTO | H2: BATERIAS/AMPERES | I2: PNEUS
A3: 166 | B3: DIESEL | D3: Caminhonete Ford Ranger | E3: ARQ - 2660 | F3: 2009 | G3: Serviço Rodoviario | H3: =+' URBANOS MANUTENÇAO RODOVIARIO'!H35 -> 0 | I3: =+' URBANOS MANUTENÇAO RODOVIARIO'!I35 -> 0
A4: 528 | B4: DIESEL | C4: 0 | D4: Retroescavadeira Randon | E4: 528 | F4: 2013 | G4: Serviço Rodoviario | H4: =+' URBANOS MANUTENÇAO RODOVIARIO'!H36 -> 0 | I4: =+' URBANOS MANUTENÇAO RODOVIARIO'!I36 -> 0
A5: 330 | B5: DIESEL | C5: .00555912485 | D5: Caminhão Basculante Ford Cargo 2623 | E5: AXI-2053 | F5: 2013 | G5: Serviço Rodoviario | H5: =+' URBANOS MANUTENÇAO RODOVIARIO'!H37 -> 0 | I5: =+' URBANOS MANUTENÇAO RODOVIARIO'!I37 -> 0
A6: 331 | B6: DIESEL | C6: .00580620298 | D6: Caminhão Basculante/ Mercedes Bens | E6: AXN - 3556 | F6: 2013 | G6: Serviços Rodoviario | H6: =+' URBANOS MANUTENÇAO RODOVIARIO'!H38 -> 0 | I6: =+' URBANOS MANUTENÇAO RODOVIARIO'!I38 -> 0
A7: 533 | B7: DIESEL | C7: 0 | D7: PÁ CARREGADEIRA | E7: 533 | F7: 2016 | G7: Serviço Rodoviario | H7: =+' URBANOS MANUTENÇAO RODOVIARIO'!H39 -> 0 | I7: =+' URBANOS MANUTENÇAO RODOVIARIO'!I39 -> 0
A8: 609 | B8: DIESEL | C8: .00335529089 | D8: Caminhonete Ford Ranger | E8: AUE - 5372 | F8: 2011 | G8: Serviço Rodoviario | H8: =+' URBANOS MANUTENÇAO RODOVIARIO'!H40 -> 0 | I8: =+' URBANOS MANUTENÇAO RODOVIARIO'!I40 -> 0

Sheet MANUTENÇÃO
A1: MANUTENÇÃO - GASOLINA
A2: FROTA | B2: COMBUSTIVEL | C2: RENAVAM | D2: VEICULO/ESPECIE | E2: PLACA | F2: ANO | G2: DEPARTAMENTO | H2: BATERIAS/AMPERES | I2: PNEUS
A3: 112 | B3: Flex | C3: .01128447794 | D3: Fiat Mobi | E3: BBO - 3697 | F3: 2017 | G3: Manutenção | H3: =+'VEICULOS ATUALIZADOS'!H104 -> 0 | I3: =+'VEICULOS ATUALIZADOS'!I104 -> 0
A4: 137 | B4: Flex | D4: VW/ Saveiro | E4: IHX - 5780 | F4: 1998 | G4: Manutenção | H4: =+'VEICULOS ATUALIZADOS'!H105 -> 0 | I4: =+'VEICULOS ATUALIZADOS'!I105 -> 0
A5: 506 | B5: Diesel | C5: 0 | D5: Retroescavadeira Case - | E5: TW-4626 | F5: 1977 | G5: Manutenção | H5: =+'VEICULOS ATUALIZADOS'!H106 -> 0 | I5: =+'VEICULOS ATUALIZADOS'!I106 -> 0

Sheet SAUDE
A1: SAUDE
A2: FROTA | B2: COMBUSTIVEL | C2: RENAVAM | D2: MODELO | E2: PLACA | F2: ANO | G2: DEPARTAMENTO | H2: BATERIAS/AMPERES | I2: PNEUS
A3: 141 | B3: DIESEL | C3: .01216518758 | D3: FIAT DUCATO - AMBULÂNCIA | E3: BDR - 9I87 | F3: 2019 | G3: SAÚDE | H3: =+'VEICULOS ATUALIZADOS'!H118 -> 12V/100A | I3: =+'VEICULOS ATUALIZADOS'!I118 -> 215/75/R16C
A4: 148 | B4: DIESEL | C4: .01216518880 | D4: FIAT DUCATO - AMBULÂNCIA | E4: BDR - 9I90 | F4: 2019 | G4: SAÚDE | H4: =+'VEICULOS ATUALIZADOS'!H119 -> 12V/100A | I4: =+'VEICULOS ATUALIZADOS'!I119 -> 215/75/R16C
A5: 152 | B5: DIESEL | C5: .01143045766 | D5: RENAULT - AMBULÂNCIA | E5: BBY - 7410 | F5: 2017 | G5: SAÚDE | H5: =+'VEICULOS ATUALIZADOS'!H120 -> 12V/100A | I5: =+'VEICULOS ATUALIZADOS'!I120 -> 225/65/R16C
A6: 154 | B6: DIESEL | C6: .01216514086 | D6: FIAT DUCATO - AMBULÂNCIA | E6: BDR - 9I21 | F6: 2019 | G6: SAÚDE | H6: =+'VEICULOS ATUALIZADOS'!H121 -> 12V/100A | I6: =+'VEICULOS ATUALIZADOS'!I121 -> 215/75/R16C
A7: 157 | B7: DIESEL | C7: .01145211116 | D7: RENAULT - AMBULÂNCIA | E7: BBZ - 3994 | F7: 2018 | G7: SAÚDE | H7: =+'VEICULOS ATUALIZADOS'!H122 -> 12V/100A | I7: =+'VEICULOS ATUALIZADOS'!I122 -> 225/65/R16C
A8: 191 | B8: DIESEL | C8: .01242777617 | D8: FIAT DUCATO - VAN | E8: BEM - 9G36 | F8: 2020 | G8: SAÚDE | H8: =+'VEICULOS ATUALIZADOS'!H123 -> 0 | I8: =+'VEICULOS ATUALIZADOS'!I123 -> 0
A9: 219 | B9: DIESEL | C9: .01216996153 | D9: MICRO ONIBUS VOLARE | E9: BDT - 6B28 | F9: 2019 | G9: SAÚDE | H9: =+'VEICULOS ATUALIZADOS'!H124 -> 12V/100A | I9: =+'VEICULOS ATUALIZADOS'!I124 -> 215/75/R17.5
A10: 228 | B10: DIESEL | C10: .01076360367 | D10: FIAT DUCATO AMBULÂNCIA | E10: BAG - 5210 | F10: 2015 | G10: SAÚDE | H10: =+'VEICULOS ATUALIZADOS'!H125 -> 0 | I10: =+'VEICULOS ATUALIZADOS'!I125 -> 0
A11: 641 | B11: FLEX | D11: CITROEN C 3 | E11: TBS - 0C84 | F11: 2025 | G11: SAÚDE | H11: =+'VEICULOS ATUALIZADOS'!H126 -> 12V/50A | I11: =+'VEICULOS ATUALIZADOS'!I126 -> 195/65/R15
A12: 642 | B12: FLEX | D12: CITROEN C 3 | E12: TBS - 0C85 | F12: 2025 | G12: SAÚDE | H12: =+'VEICULOS ATUALIZADOS'!H127 -> 12V/50A | I12: =+'VEICULOS ATUALIZADOS'!I127 -> 195/65/R15
A13: 648 | B13: DIESEL | C13: .01454040030 | D13: AMBULÂNCIA/CAMINHONETA | E13: TBW-2E98 | F13: 2025 | G13: SAÚDE | H13: =+'VEICULOS ATUALIZADOS'!H128 -> 12V/100A | I13: =+'VEICULOS ATUALIZADOS'!I128 -> 215/65/R16C
A14: 649 | B14: DIESEL | C14: .01454063790 | D14: CAMINHÃO /AMBULÂNCIA | E14: TBW-2E07 | F14: 2025 | G14: SAÚDE | H14: =+'VEICULOS ATUALIZADOS'!H129 -> 12V/100A | I14: =+'VEICULOS ATUALIZADOS'!I129 -> 215/65/R16C
D15: RENAULT MASTER J MBUS | E15: TBY-6I04 | F15: 2025 | G15: SAÚDE | H15: =+'VEICULOS ATUALIZADOS'!H130 -> 12V/100A | I15: =+'VEICULOS ATUALIZADOS'!I130 -> 225/65/R16C
A16: 653 | D16: FIAT SCUDO PCIA A | E16: UAW-3J89 | F16: 2025 | G16: SAÚDE | H16: =+'VEICULOS ATUALIZADOS'!H131 -> 12V/100A | I16: =+'VEICULOS ATUALIZADOS'!I131 -> 215/65/R16C
A17: 654 | D17: FIAT SCUDO PCIA A | E17: UBA-8I54 | F17: 2025 | G17: SAÚDE | H17: =+'VEICULOS ATUALIZADOS'!H132 -> 12V/100A | I17: =+'VEICULOS ATUALIZADOS'!I132 -> 215/65/R16C
A18: 231 | B18: DIESEL | C18: .019 | D18: RENAULT VAN | E18: BCS - 4J12 | F18: 2018 | G18: SAÚDE | H18: =+'VEICULOS ATUALIZADOS'!H133 -> 0 | I18: =+'VEICULOS ATUALIZADOS'!I133 -> 0
A19: 232 | B19: DIESEL | C19: .01173062782 | D19: RENAULT VAN | E19: BCS - 4J13 | F19: 2018 | G19: SAÚDE | H19: =+'VEICULOS ATUALIZADOS'!H134 -> 12V/100A | I19: =+'VEICULOS ATUALIZADOS'!I134 -> 225/65/R16C
A20: 235 | B20: DIESEL | C20: .01168247338 | D20: WOLKBUS - 43 LUGARES | E20: BCO - 1646 | F20: 2017 | G20: SAÚDE | H20: =+'VEICULOS ATUALIZADOS'!H135 -> 12V/150A | I20: =+'VEICULOS ATUALIZADOS'!I135 -> 295/80/R22.5
A21: 236 | B21: DIESEL | C21: .01170961190 | D21: MICRO ONIBUS VOLARE | E21: BCO - 9219 | F21: 2018 | G21: SAUDE | H21: =+'VEICULOS ATUALIZADOS'!H136 -> 0 | I21: =+'VEICULOS ATUALIZADOS'!I136 -> 0
A22: 601 | B22: DIESEL | C22: .01268345242 | D22: VAM/MICRO ONIBUS | E22: RHF - 8A30 | F22: 2021 | G22: SAÚDE | H22: =+'VEICULOS ATUALIZADOS'!H137 -> 12V/100A | I22: =+'VEICULOS ATUALIZADOS'!I137 -> 205/75/R16C
A23: 602 | B23: DIESEL | C23: .00934100691 | D23: VAM/MICRO ONIBUS | E23: APF - 0J34 | F23: 2007 | G23: ENDEMIAS | H23: =+'VEICULOS ATUALIZADOS'!H138 -> 0 | I23: =+'VEICULOS ATUALIZADOS'!I138 -> 0
A24: 617 | B24: DIESEL | C24: .01316839955 | D24: AMBULÂNCIA UTI /MERCEDES | E24: SGT - 4B27 | F24: 2022 | G24: SAÚDE | H24: =+'VEICULOS ATUALIZADOS'!H139 -> 12V/100A | I24: =+'VEICULOS ATUALIZADOS'!I139 -> 225/75/R16C
A25: 618 | B25: DIESEL | C25: .01323017027 | D25: VAM/FORD | E25: SDW - 4D46 | F25: 2022 | G25: SAÚDE | H25: =+'VEICULOS ATUALIZADOS'!H140 -> 12V/100A | I25: =+'VEICULOS ATUALIZADOS'!I140 -> 205/75/R16C
A26: 802 | B26: DIESEL | C26: .01330235646 | D26: ONIBUS COMIL /CAMPIONE | E26: SEB - 2B61 | F26: 2023 | G26: SAÚDE | H26: =+'VEICULOS ATUALIZADOS'!H141 -> 12V/150A | I26: =+'VEICULOS ATUALIZADOS'!I141 -> 295/80/R22.5
A27: 104 | B27: FLEX | D27: FIAT PALIO FIRE | E27: BAV-9078 | F27: 2016 | H27: =+'VEICULOS ATUALIZADOS'!H143 -> 0 | I27: =+'VEICULOS ATUALIZADOS'!I143 -> 0
A28: 115 | B28: FLEX | C28: .01129396557 | D28: FIAT MOBI | E28: BBO - 8438 | F28: 2017 | G28: SAÚDE | H28: =+'VEICULOS ATUALIZADOS'!H144 -> 12V/50A | I28: =+'VEICULOS ATUALIZADOS'!I144 -> 175/65/R14
A29: 122 | B29: FLEX | C29: .01128626958 | D29: FIAT MOBI | E29: BBO - 4716 | F29: 2017 | G29: SAÚDE | H29: =+'VEICULOS ATUALIZADOS'!H145 -> 12V/50A | I29: =+'VEICULOS ATUALIZADOS'!I145 -> 175/65/R14
A30: 140 | B30: GAS | D30: AMBULANCIA | E30: AMM- 3614 | F30: 2005 | G30: SAÚDE | H30: =+'VEICULOS ATUALIZADOS'!H146 -> 0 | I30: =+'VEICULOS ATUALIZADOS'!I146 -> 0
A31: 135 | B31: FLEX | C31: .01128592379 | D31: FIAT MOBI - AP SUS | E31: BBO - 4710 | F31: 2017 | G31: SAÚDE | H31: =+'VEICULOS ATUALIZADOS'!H147 -> 12V/50A | I31: =+'VEICULOS ATUALIZADOS'!I147 -> 175/65/R14
A32: 136 | B32: FLEX | C32: .01128593359 | D32: FIAT MOBI - AP SUS | E32: BBO - 4709 | F32: 2017 | G32: SAÚDE | H32: =+'VEICULOS ATUALIZADOS'!H148 -> 12V/50A | I32: =+'VEICULOS ATUALIZADOS'!I148 -> 175/65/R14
A33: 138 | B33: FLEX | C33: .01128615565 | D33: FIAT MOBI - AP SUS | E33: BBO - 4701 | F33: 2017 | G33: NSF | H33: =+'VEICULOS ATUALIZADOS'!H149 -> 12V/50A | I33: =+'VEICULOS ATUALIZADOS'!I149 -> 175/65/R14
A34: 139 | B34: FLEX | C34: .01129414652 | D34: FIAT MOBI | E34: BBO - 8437 | F34: 2017 | G34: VIG. SANITÁRIA | H34: =+'VEICULOS ATUALIZADOS'!H150 -> 12V/50A | I34: =+'VEICULOS ATUALIZADOS'!I150 -> 175/65/R14
A35: 142 | B35: FLEX | C35: .032 | D35: FIAT STRADA - ENDEMIAS | E35: PRD - 9586 | F35: 2017 | G35: ENDEMIAS | H35: =+'VEICULOS ATUALIZADOS'!H151 -> 12V/50A | I35: =+'VEICULOS ATUALIZADOS'!I151 -> 175/65/R14
A36: 158 | B36: FLEX | D36: UNO MILLE ECONOMY | E36: ARV-9869 | F36: 2010 | H36: =+'VEICULOS ATUALIZADOS'!H152 -> 0 | I36: =+'VEICULOS ATUALIZADOS'!I152 -> 0
A37: 192 | B37: FLEX | C37: .01046938753 | D37: PALIO NASF - BRANCO | E37: AZO - 2441 | F37: 2015 | G37: SAÚDE | H37: =+'VEICULOS ATUALIZADOS'!H153 -> 12V/50A | I37: =+'VEICULOS ATUALIZADOS'!I153 -> 175/70/R13
A38: 201 | B38: FLEX | C38: .01071151212 | D38: PALIO - VIG. SANITÁRIA - BRANCO | E38: BAD - 6221 | F38: 2015 | G38: VIG. SANITÁRIA | H38: =+'VEICULOS ATUALIZADOS'!H154 -> 12V/50A | I38: =+'VEICULOS ATUALIZADOS'!I154 -> 175/70/R13
A39: 204 | B39: FLEX | C39: .01163302322 | D39: FIAT DOBLÔ | E39: BCK - 0359 | F39: 2018 | G39: SAÚDE | H39: =+'VEICULOS ATUALIZADOS'!H155 -> 12V/50A | I39: =+'VEICULOS ATUALIZADOS'!I155 -> 185/65/R15
A40: 205 | B40: FLEX | C40: .01163301113 | D40: FIAT DOBLÔ | E40: BCK - 0356 | F40: 2018 | G40: SAÚDE | H40: =+'VEICULOS ATUALIZADOS'!H156 -> 12V/50A | I40: =+'VEICULOS ATUALIZADOS'!I156 -> 185/65/R15
...

Sheet ESPORTE
A1: ESPORTE
A2: FROTA | B2: COMBUSTIVEL | C2: RENAVAM | D2: MODELO | E2: PLACA | F2: ANO | G2: DEPARTAMENTO | H2: BATERIAS/AMPERES | I2: PNEUS
A3: 108 | B3: FLEX | C3: .01128463030 | D3: FIAT MOBI | E3: BBO-4705 | F3: 2017 | G3: ESPORTE | H3: =+'VEICULOS ATUALIZADOS'!H202 -> 60 / 12V | I3: =+'VEICULOS ATUALIZADOS'!I202 -> 175/65R14
A4: 109 | B4: FLEX | C4: .01128509404 | D4: CHEVROLET MONTANA | E4: BBO-4717 | F4: 2017 | G4: ESPORTE | H4: =+'VEICULOS ATUALIZADOS'!H203 -> 60 / 12V | I4: =+'VEICULOS ATUALIZADOS'!I203 -> 185/65/R15
A5: 527 | B5: GASO | D5: TRATOR P/ JARDINAGEM | E5: 527 | F5: 2012 | G5: ESPORTE | H5: =+'VEICULOS ATUALIZADOS'!H204 -> 30 / 12V | I5: =+'VEICULOS ATUALIZADOS'!I204 -> 0
A6: 230 | B6: DIESEL | C6: .01104398068 | D6: VAN/RENAULT MASTER | E6: BAY-3358 | F6: 2016 | G6: ESPORTE | H6: =+'VEICULOS ATUALIZADOS'!H205 -> 95 / 12V | I6: =+'VEICULOS ATUALIZADOS'!I205 -> 225/65R
A7: 804 | B7: DIESEL | C7: .00625226399 | D7: VOLVO/ONIBUS | E7: BYC-8C22 | F7: 1994 | G7: ESPORTE | H7: =+'VEICULOS ATUALIZADOS'!H206 -> 150 / 12V | I7: =+'VEICULOS ATUALIZADOS'!I206 -> 295/80R

Sheet EDUCAÇÃO
A1: EDUCAÇÃO
A2: FROTA | B2: COMBUSTIVEL | C2: RENAVAM | D2: MODELO | E2: PLACA | F2: ANO | G2: DEPARTAMENTO | H2: BATERIAS/AMPERES | I2: PNEUS
A3: 114 | B3: FLEX | C3: .01129393248 | D3: FIAT MOBI | E3: BBO-8436 | F3: 2017 | G3: EDUCAÇÃO | H3: 60 / 12V | I3: 175/65/R14 | J3: RADIAL A/T
A4: 162 | B4: FLEX | C4: .01180579639 | D4: SAVEIRO | E4: BCV-2D54 | F4: 2018 | G4: EDUCAÇÃO | H4: 60 / 12V | I4: 205/60/R15 | J4: RADIAL A/T
A5: 170 | B5: FLEX | C5: .004552175534 | D5: FIAT DOBLO | E5: AVA-1174 | F5: 2012 | G5: EDUCAÇÃO | H5: 60 / 12V | I5: 185/70/R14 | J5: RADIAL A/T
A6: 178 | B6: FLEX | C6: .014 | D6: KOMBI | E6: AWD-2031 | F6: 2012 | G6: EDUCAÇÃO | H6: =+'VEICULOS ATUALIZADOS'!H177 -> 60 / 12V | I6: =+'VEICULOS ATUALIZADOS'!I177 -> 102X100R - 185R14C | J6: =+'VEICULOS ATUALIZADOS'!J177 -> AT-(ALL-TERRAIN)
A7: 181 | B7: GASO | C7: .00254105530 | D7: MOTO / YAMAHA FACTOR | E7: ATD-8975 | F7: 2010 | G7: EDUCAÇÃO | H7: 7 / 12V | I7: 90/90R18 - 2.75/R18 | J7: RADIAL
A8: 183 | B8: FLEX | C8: .00533569788 | D8: KOMBI /VW - VEIO DA EDUCAÇÃO - 09/07/2025 | E8: FIR-6502 | F8: 2014 | G8: EDUCAÇÃO | H8: 60 / 12V | I8: 102X100R - 185R14C | J8: AT-(ALL-TERRAIN)
A9: 211 | B9: FLEX | C9: .01182889945 | D9: FIAT GRAN SIENA | E9: BCW-6E71 | F9: 2018 | G9: EDUCAÇÃO | H9: =+'VEICULOS ATUALIZADOS'!H179 -> 60 / 12V | I9: =+'VEICULOS ATUALIZADOS'!I179 -> 185/60/R15 | J9: =+'VEICULOS ATUALIZADOS'!J179 -> RADIAL
A10: 625 | B10: FLEX | C10: .01345318828 | D10: CHEV/SPIN | E10: SEK-7E89 | F10: 2023 | G10: EDUCAÇÃO | H10: 50 / 12V | I10: 195/65/R15 | J10: RADIAL
A11: 131 | B11: DIESEL | C11: .01159455284 | D11: ONIBUS | E11: BCH-8529 | F11: 2018 | G11: EDUCAÇÃO | H11: 100 / 12V | I11: 215/75/R17,5 | J11: RADIAL
A12: 215 | B12: DIESEL | C12: .01188080153 | D12: ONIBUS | E12: BCZ-8E35 | F12: 2018 | G12: EDUCAÇÃO | H12: 100 / 12V | I12: 215/75/R17,5 | J12: RADIAL
A13: 216 | B13: DIESEL | C13: .01188078590 | D13: ONIBUS | E13: BCZ-8E33 | F13: 2018 | G13: EDUCAÇÃO | H13: 100 / 12V | I13: 215/75/R17,5 | J13: RADIAL
A14: 222 | B14: DIESEL | C14: .021 | D14: ONIBUS | E14: ARI-2171 | F14: 2009 | G14: EDUCAÇÃO | H14: 100 / 12V | I14: 215/75/R17,5 | J14: RADIAL
A15: 224 | B15: DIESEL | C15: .00569222508 | D15: ONIBUS | E15: AXK-5466 | F15: 2013 | G15: EDUCAÇÃO | H15: 150 / 12V | I15: 275/80/R22,5 | J15: BORRACHUDO/LAMEIRO
A16: 226 | B16: DIESEL | C16: .023 | D16: ONIBUS | E16: AXY-2716 | F16: 2013 | G16: EDUCAÇÃO | H16: 100 / 12V | I16: 215/75/R17,5 | J16: RADIAL
A17: 229 | B17: DIESEL | C17: .01106651860 | D17: ONIBUS | E17: BAZ-7060 | F17: 2016 | G17: EDUCAÇÃO | H17: 150 / 12V | I17: 275/80/R22,5 | J17: BORRACHUDO/LAMEIRO
A18: 806 | B18: DIESEL | C18: .00429702582 | D18: ONIBUS | E18: AUY-2872 | F18: 2012 | G18: EDUCAÇÃO | H18: 100 / 12V | I18: 215/75/R17,5 | J18: RADIAL
A19: 800 | B19: DIESEL | C19: .01255240633 | D19: ONIBUS | E19: BEX-6E28 | F19: 2020 | G19: EDUCAÇÃO | H19: 100 / 12V | I19: 215/75/R17,5 | J19: BORRACHUDO/LAMEIRO
A20: 801 | B20: DIESEL | C20: .012552440633 | D20: ONIBUS | E20: BEX-6E34 | F20: 2020 | G20: EDUCAÇÃO | H20: 100 / 12V | I20: 215/75/R17,5 | J20: RADIAL
A21: 803 | B21: DIESEL | C21: .01329682111 | D21: MICROONIBUS/VW NEOBUS | E21: SEB-0E13 | F21: 2022 | G21: EDUCAÇÃO | H21: 100 / 12V | I21: 215/75/R17,5 | J21: BORRACHUDO/LAMEIRO
A22: 234 | B22: DIESEL | C22: .01171315969 | D22: MICRO | E22: BCT-7C21 | F22: 2019 | G22: EDUCAÇÃO | H22: 0 | I22: 0 | J22: 0
A23: 237 | B23: DIESEL | C23: .01177903102 | D23: MICRO | E23: BCX-2F82 | F23: 2018 | G23: EDUCAÇÃO | H23: 95 / 12V | I23: 225/65/R16C | J23: RADIAL A/T
A24: 238 | B24: DIESEL | C24: .01177903315 | D24: MICRO | E24: BCX-2F88 | F24: 2018 | G24: EDUCAÇÃO | H24: 95 / 12V | I24: 225/65/R16C | J24: RADIAL A/T
A25: 239 | B25: DIESEL | C25: .01177902823 | D25: MICRO | E25: BCX-2F90 | F25: 2018 | G25: EDUCAÇÃO | H25: 95 / 12V | I25: 225/65/R16C | J25: RADIAL A/T
A26: 240 | B26: DIESEL | C26: .01177903730 | D26: MICRO | E26: BCX-2F86 | F26: 2018 | G26: EDUCAÇÃO | H26: 95 / 12V | I26: 225/65/R16C | J26: RADIAL A/T

Sheet ASSISTENCIA SOCIAL
A1: ASSISTENCIA SOCIAL
A2: FROTA | B2: COMBUSTIVEL | C2: RENAVAM | D2: VEICULO/ESPECIE | E2: PLACA | F2: ANO | G2: DEPARTAMENTO | H2: BATERIAS/AMPERES | I2: PNEUS
A3: 184 | B3: DIESEL | C3: .01006086320 | D3: CAMIONETE S10/ CHEVROLET | E3: AYI - 2051 | F3: 2014 | G3: ASSISTENCIA SOCIAL | H3: =+'VEICULOS ATUALIZADOS'!H233 -> 75 / 12V | I3: =+'VEICULOS ATUALIZADOS'!I233 -> 265/65/R17
A4: 218 | B4: DIESEL | C4: .01185981583 | D4: ONIBUS | E4: PBQ-9E75 | F4: 2019 | G4: ASSISTENCIA SOCIAL | H4: =+'VEICULOS ATUALIZADOS'!H234 -> 105 / 12V | I4: =+'VEICULOS ATUALIZADOS'!I234 -> 215/70/R17,5
A5: 223 | B5: DIESEL | C5: .013 | D5: SCANIA/ÔNIBUS | E5: GPZ-6667 | F5: 1990 | G5: ASSISTENCIA SOCIAL | H5: =+'VEICULOS ATUALIZADOS'!H235 -> 0 | I5: =+'VEICULOS ATUALIZADOS'!I235 -> INATIVO
A6: 225 | B6: DIESEL | C6: .00991934911 | D6: DUCATO | E6: AXY-7293 | F6: 2013 | G6: ASSISTENCIA SOCIAL | H6: =+'VEICULOS ATUALIZADOS'!H236 -> 75 12V | I6: =+'VEICULOS ATUALIZADOS'!I236 -> 205/70/R15C
A7: 102 | B7: FLEX | C7: .01076768030 | D7: VOYAGEM | E7: BAH-1670 | F7: 2015 | G7: ASSISTENCIA SOCIAL | H7: =+'VEICULOS ATUALIZADOS'!H237 -> 0 | I7: =+'VEICULOS ATUALIZADOS'!I237 -> ESPORTE
A8: 103 | B8: FLEX | C8: .01097308909 | D8: PALIO | E8: BAU-2375 | F8: 2016 | G8: ASSISTENCIA SOCIAL | H8: =+'VEICULOS ATUALIZADOS'!H238 -> 60 / 12V | I8: =+'VEICULOS ATUALIZADOS'!I238 -> 195/65/R15
A9: 105 | B9: FLEX | C9: .01098868134 | D9: RENAULT/SANDERO | E9: FID-2723 | F9: 2016 | G9: ASSISTENCIA SOCIAL | H9: =+'VEICULOS ATUALIZADOS'!H239 -> 60 / 12V | I9: =+'VEICULOS ATUALIZADOS'!I239 -> 185/70/R14
A10: 106 | B10: FLEX | C10: .01101861751 | D10: MOBI EASY | E10: BAW-9205 | F10: 2016 | G10: ASSISTENCIA SOCIAL | H10: =+'VEICULOS ATUALIZADOS'!H240 -> 60 / 12V | I10: =+'VEICULOS ATUALIZADOS'!I240 -> 165/70/R13
A11: 134 | B11: FLEX | C11: .01202397511 | D11: LOGAN | E11: FCS-7D86 | F11: 2019 | G11: CONSELHO TUTELAR | H11: =+'VEICULOS ATUALIZADOS'!H241 -> 60 / 12V | I11: =+'VEICULOS ATUALIZADOS'!I241 -> 185/65/R15
A12: 145 | B12: FLEX | C12: .01206750011 | D12: DOBLO | E12: BDL-3G76 | F12: 2019 | G12: ASSISTENCIA SOCIAL | H12: =+'VEICULOS ATUALIZADOS'!H242 -> 50 / 12V | I12: =+'VEICULOS ATUALIZADOS'!I242 -> 175/65/R14
A13: 149 | B13: FLEX | C13: .01159775823 | D13: CITROEN | E13: PBL-2C41 | F13: 2018 | G13: ASSISTENCIA SOCIAL | H13: =+'VEICULOS ATUALIZADOS'!H243 -> 60 / 12V | I13: =+'VEICULOS ATUALIZADOS'!I243 -> 185/65/R15
A14: 159 | B14: FLEX | C14: .00169878520 | D14: FIAT/UNO MILLE | E14: ARV-5521 | F14: 2009 | G14: ASSISTENCIA SOCIAL | H14: =+'VEICULOS ATUALIZADOS'!H244 -> 60 / 12V | I14: =+'VEICULOS ATUALIZADOS'!I244 -> 185/60/R15
... A23: 638 | B23: FLEX | C23: .01429443640 | D23: CITROEN C3 AIRCROSS | E23: TBD-3F43 | F23: 2025 | G23: ASSISTENCIA SOCIAL | H23: =+'VEICULOS ATUALIZADOS'!H253 -> ALDEIA | I23: =+'VEICULOS ATUALIZADOS'!I253 -> 0

Sheet SEGURANÇA PUBLICA
A1: SEGURANÇA PUBLICA
A2: FROTA | B2: COMBUSTIVEL | C2: RENAVAM | D2: VEICULO/ESPECIE | E2: PLACA | F2: ANO | G2: DEPARTAMENTO | H2: BATERIAS/AMPERES | I2: PNEUS
A3: 120 | B3: FLEX | C3: .01128437357 | D3: FORD FIESTA | E3: BBO-3693 | F3: 2017 | G3: BOMBEIRO | H3: 60 / 12V | I3: 195/55/R15-85V
A4: 150 | B4: DIESEL | C4: .01217802913 | D4: AMBULANCIA | E4: BDS-9F41 | F4: 2019 | G4: BOMBEIRO | H4: 95 / 12V | I4: 205/75/R16
A5: 182 | B5: FLEX | C5: .00588379840 | D5: SIENA | E5: AXP-6261 | F5: 2013 | G5: SEGURANÇA PUBLICA | H5: 60 / 12V | I5: 175/65/R14
A6: 637 | B6: FLEX | C6: .01428238180 | D6: FIAT CEONOS DRIVE 1.3 | E6: TBC-3H76 | F6: 2025 | G6: BOMBEIRO | H6: não | I6: não | J6: NÃO TÁ MAIS NO BOMBEIRO
A7: 643 | B7: DIESEL | C7: .00152187634 | D7: CAMINHÃO LARANJA | E7: ARM-2539 | F7: 2009 | G7: BOMBEIRO | H7: 100 / 12 V | I7: 900 X 20 - 14 | J7: LONA LISO COMUM - BORRACHUDO COMUM
A8: 323 | B8: DIESEL | C8: .01252507752 | D8: CAMINHÃO TANQUE | E8: BEV-1A69 | F8: 2020 | G8: BOMBEIRO | H8: 100 | I8: 275/80/R22,5
C9: .04 | D9: CAMINHONETE S/10 | E9: ARE-2254 | F9: 2013 | G9: BOMBEIRO | H9: não | I9: não | J9: NÃO TÁ MAIS NO BOMBEIRO
A10: 632 | B10: DIESEL | C10: .01362041731 | D10: VW/SAVEIRO | E10: SEV-4D09 | F10: 2023 | G10: BOMBEIRO | H10: 50 / 12 V | I10: 205/60/R15 - 275/80/R22,5 | J10: LISO COMUM - BORRACHUDO COMUM
A11: 641 | D11: MMC/TRITON SPORT GLS AT | E11: TBO-7G27 | F11: 2025 | G11: BOMBEIRO | H11: 90 / 12V | I11: 265/70/R17
A12: 644 | B12: FLEX | C12: .01119128606 | D12: RENAULT/DUSTER | E12: BBI-8165 | F12: 2017 | G12: BOMBEIRO | H12: não | I12: não | J12: NÃO TÁ MAIS NO BOMBEIRO
A13: 645 | B13: DIESEL | C13: .00489292259 | D13: NISSAN/FRONTIER | E13: AWA-1722 | F13: 2013 | G13: BOMBEIRO | H13: 75 12 V | I13: 255/70/R16
A14: 906 | B14: DIESEL | C14: .01396867284 | D14: VW CAMINHÃO | E14: TAI-1G44 | F14: 2024 | G14: BOMBEIRO | H14: 100 / 12V | I14: 275/80/R22,5 | J14: LISO COMUM / BORRACHUDO COMUM
A15: 634 | B15: DIESEL | C15: .01423341225 | D15: RENAULT/MASTER-MARIN | E15: TAZ-2H21 | F15: 2024 | G15: BOMBEIRO | H15: não | I15: não | J15: NÃO TÁ MAIS NO BOMBEIRO
A16: 651 | B16: DIESEL | C16: .01229649937 | D16: VW 17.280 TRIEL BOM | E16: BEC-3B35 | F16: 2025 | G16: BOMBEIRO | H16: 120 / 12V | I16: 275/80/R22,5 | J16: LISO COMUM / BORRACHUDO COMUM
D17: CARRETA DO BARCO | G17: BOMBEIRO | I17: 165/70/R13
D18: CENTRO DE CUSTO 295

Sheet CULTURA
B1: CULTURA
A2: FROTA | B2: COMBUSTIVEL | C2: RENAVAM | D2: VEICULO/ESPECIE | E2: PLACA | F2: ANO | G2: DEPARTAMENTO | H2: BATERIAS/AMPERES | I2: PNEUS
A3: 123 | B3: FLEX | C3: .01128500601 | D3: FIAT MOBI | E3: BBO-4704 | F3: 2017 | G3: CULTURA | H3: =+'VEICULOS ATUALIZADOS'!H256 -> 60 / 12V | I3: =+'VEICULOS ATUALIZADOS'!I256 -> 175/70/R14 | J3: =+'VEICULOS ATUALIZADOS'!J256 -> 0
A4: 203 | B4: FLEX | C4: .01155512364 | D4: MONTANA | E4: FXA-7068 | F4: 2018 | G4: CULTURA | H4: =+'VEICULOS ATUALIZADOS'!H257 -> 60 / 12V | I4: =+'VEICULOS ATUALIZADOS'!I257 -> 185/65/R15 | J4: =+'VEICULOS ATUALIZADOS'!J257 -> 0
A5: 233 | B5: DIESEL | C5: .01168878621 | D5: VAM/ RENAULT/ M REVESCAP L3H2 | E5: BCP-1499 | F5: 2018 | G5: CULTURA | H5: =+'VEICULOS ATUALIZADOS'!H258 -> 90 / 12V | I5: =+'VEICULOS ATUALIZADOS'!I258 -> 225/65/R16 | J5: =+'VEICULOS ATUALIZADOS'!J258 -> 0

Sheet INDUSTRIA E COMERCIO
A1: INDUSTRA E COMERCIO
A2: FROTA | B2: COMBUSTIVEL | C2: RENAVAM | D2: VEICULO/ESPECIE | E2: PLACA | F2: ANO | G2: DEPARTAMENTO | H2: BATERIAS/AMPERES | I2: PNEUS
A3: 127 | B3: FLEX | C3: .01128446658 | D3: FIAT MOBI | E3: BBO - 4707 | F3: 2017 | G3: IND. COMERCIO | H3: =+'VEICULOS ATUALIZADOS'!H229 -> 60 / 12V | I3: =+'VEICULOS ATUALIZADOS'!I229 -> 175/65/R14
A4: 143 | B4: FLEX | C4: .01142319021 | D4: GOL/ VW TL MCV | E4: BBW-7656 | F4: 2018 | G4: IND. COMERCIO | H4: =+'VEICULOS ATUALIZADOS'!H230 -> 60 / 12V | I4: =+'VEICULOS ATUALIZADOS'!I230 -> 178/65/R14

Sheet SAMU
A1: SAMU
A2: FROTA | B2: COMBUSTIVEL | C2: RENAVAM | D2: VEICULO/ESPECIE | E2: PLACA | F2: ANO | G2: DEPARTAMENTO | H2: BATERIAS/AMPERES | I2: PNEUS
A3: S/FROTA | B3: DIESEL | D3: AMBULÂNCIA/UTI MOVEL | E3: BDI-9A18 | F3: 2019 | G3: SAMU | H3: =+'VEICULOS ATUALIZADOS'!H261 -> 0 | I3: =+'VEICULOS ATUALIZADOS'!I261 -> 0
A4: 200 | B4: DIESEL | D4: AMBULÂNCIA/CAMINHONETA | E4: AVQ-3481 | F4: 2010 | G4: SAMU | H4: =+'VEICULOS ATUALIZADOS'!H262 -> 0 | I4: =+'VEICULOS ATUALIZADOS'!I262 -> 0
A5: S/FROTA | B5: DIESEL | D5: CAMINHÃO /AMBULÂNCIA | E5: BDJ-5E85 | F5: 2019 | G5: SAMU | H5: =+'VEICULOS ATUALIZADOS'!H263 -> 0 | I5: =+'VEICULOS ATUALIZADOS'!I263 -> 0

Sheet PROCON
A1: PROCON
A2: FROTA | B2: COMBUSTIVEL | C2: RENAVAM | D2: VEICULO/ESPECIE | E2: PLACA | F2: ANO | G2: DEPARTAMENTO | H2: BATERIAS/AMPERES | I2: PNEUS
A3: 111 | B3: FLEX | C3: .01128463196 | D3: FIAT MOBI | E3: BBO-4702 | F3: 2017 | G3: PROCON | H3: =+'VEICULOS ATUALIZADOS'!H226 -> 60 / 12V | I3: =+'VEICULOS ATUALIZADOS'!I226 -> 175/65/R14

Sheet RECICLAGEM
B1: RECICLAGEM
B2: FROTA | C2: COMBUSTIVEL | D2: VEICULO/ESPECIE | E2: PLACA | F2: ANO | G2: DEPARTAMENTO | H2: BATERIAS/AMPERES | I2: PNEUS
A3: 194 | B3: 302 | C3: Diesel | D3: Caminhão Basculante MB - | E3: AJB-3242 | F3: 1982 | G3: FEITO DOAÇÃO
A4: 195 | B4: 607 | C4: Flex | D4: ASTRA SEDAN/ TERMO DE USO | E4: APJ-4B60 | F4: 2008 | G4: RECICLA

Sheet CREER
B1: PROJETO CREER
B2: FROTA | C2: COMBUSTIVEL | D2: VEICULO/ESPECIE | E2: PLACA | F2: ANO | G2: DEPARTAMENTO
H3: BATERIAS/AMPERES | I3: PNEUS
A4: 196 | B4: 210 | C4: FLEX | D4: CHERY/ QQ LOOK FLEX 1.0 Nº 210 | E4: BCU - 4A19 | F4: 2018 | G4: CREER
A5: 197 | B5: 220 | C5: FLEX | D5: MICROONIBUS RENAULT MASTER Nº 220 | E5: BDL - 8I53 | F5: 2018 | G5: CREER

Sheet AGODEF
B1: AGODEF
B2: FROTA | C2: COMBUSTIVEL | D2: VEICULO/ESPECIE | E2: PLACA | F2: ANO | G2: DEPARTAMENTO | H2: BATERIAS/AMPERES | I2: PNEUS
A3: 198 | B3: 208 | C3: FLEX | D3: CHERY/ QQ LOOK FLEX 1.0 Nº 208 | E3: BCU-4A20 | F3: 2018 | G3: AGODEF

Sheet APAE
B1: APAE
B2: FROTA | C2: COMBUSTIVEL | D2: VEICULO/ESPECIE | E2: PLACA | F2: ANO | G2: DEPARTAMENTO | H2: BATERIAS/AMPERES | I2: PNEUS
A3: 199 | B3: 183 | C3: GASOLINA | D3: KOMBI /VW | E3: FIR-6502 | F3: 2014 | G3: APAE
A4: 200 | B4: S/FROTA | C4: FLEX | D4: CITROEN/AIRCROSS | E4: PBN-8B55 | F4: 2019 | G4: APAE
A5: 201 | B5: 194 | C5: FLEX | D5: FIAT/ DOBLO ATTRACTV | E5: FDW-1918 | F5: 2015 | G5: APAE
A6: 202 | B6: 196 | D6: FIAT UNO | E6: AVC-0296 | F6: 2012 | G6: APAE

Sheet LAR SAO FRANCISCO
B1: LAR SÃO FRANCISCO
B2: FROTA | C2: COMBUSTIVEL | D2: VEICULO/ESPECIE | E2: PLACA | F2: ANO | G2: DEPARTAMENTO | H2: BATERIAS/AMPERES | I2: PNEUS
A3: 203 | B3: S/FROTA | C3: FLEX | D3: CITROEN/AIRCROSS | E3: PBL-2C39 | F3: 2019 | G3: LAR SÃO FRANCISCO

Sheet SANTA CASA
B1: SANTA CASA
B2: FROTA | C2: COMBUSTIVEL | D2: VEICULO/ESPECIE | E2: PLACA | F2: ANO | G2: DEPARTAMENTO | H2: BATERIAS/AMPERES | I2: PNEUS
B3: 176 | C3: FLEX | D3: SIENA ESSENCE 1.6 | E3: AWD-2032 | F3: 2013 | G3: SANTA CASA

Sheet CRISTMA
B1: CRISTMA
B2: FROTA | C2: COMBUSTIVEL | D2: VEICULO/ESPECIE | E2: PLACA | F2: ANO | G2: DEPARTAMENTO | H2: BATERIAS/AMPERES | I2: PNEUS
B3: S/FROTA | C3: FLEX | D3: FORD FIESTA | E3: AVI-8H05 | F3: 2013 | G3: CRISTMA
B4: 161 | C4: FLEX | D4: UNO MILLE ECONOMY | E4: ARX-6063 | F4: 2010 | G4: CRISTMA

Sheet PASTORAL DA CRIANÇA
B1: PASTORAL DA CRIANÇA
B2: FROTA | C2: COMBUSTIVEL | D2: VEICULO/ESPECIE | E2: PLACA | F2: ANO | G2: DEPARTAMENTO | H2: BATERIAS/AMPERES | I2: PNEUS
C3: GASOLINA | D3: GM CELTA SUPER | E3: DGU-0035 | F3: 2004 | G3: PASTORAL DA CRIANÇA

Sheet AMAA
B1: AMAA
B2: FROTA | C2: COMBUSTIVEL | D2: VEICULO/ESPECIE | E2: PLACA | F2: ANO | G2: DEPARTAMENTO | H2: BATERIAS/AMPERES | I2: PNEUS
B3: 175 | C3: FLEX | D3: UNO MILLE ECONOMY | E3: AVQ7650 | F3: 2013 | G3: AMAA
