Workbook

Sheet SEINFRA ABRIL-24
A1: CÓDIGO | B1: DESCRIÇÃO DO SERVIÇO | D1: DES | E1: ONE
A2: 8662 | B2: MOBILIZAÇÃO E DESMOBILIZAÇÃO DE OBRA
A3: 8700 | B3: OBRAS EM CENTRO URBANO OU REGIÃO LIMÍTROFE
A4: ED-50394 | B4: MOBILIZAÇÃO E DESMOBILIZAÇÃO DE OBRA EM CENTRO URBANO OU REGIÃO LIMÍTROFE COM VALOR ACIMA DE 3.000.000,01 | C4: % | D4: 0.2 | E4: 0.2
A5: ED-50392 | B5: MOBILIZAÇÃO E DESMOBILIZAÇÃO DE OBRA EM CENTRO URBANO OU REGIÃO LIMÍTROFE COM VALOR ATÉ O VALOR DE 1.000.000,00 | C5: % | D5: 0.5 | E5: 0.5
A6: ED-50393 | B6: MOBILIZAÇÃO E DESMOBILIZAÇÃO DE OBRA EM CENTRO URBANO OU REGIÃO LIMÍTROFE COM VALOR ENTRE 1.000.000,01 E 3.000.000,00 | C6: % | D6: 0.3 | E6: 0.3
A7: 8701 | B7: OBRA DISTANTE DE CENTRO URBANO
A8: ED-50391 | B8: MOBILIZAÇÃO E DESMOBILIZAÇÃO OBRA DISTANTE DE CENTRO URBANO COM ACIMA DE 3.000.000,01 | C8: % | D8: 1 | E8: 1
A9: ED-50390 | B9: MOBILIZAÇÃO E DESMOBILIZAÇÃO OBRA DISTANTE DE CENTRO URBANO COM ENTRE 1.000.000,01 E 3.000.000,00 | C9: % | D9: 1.5 | E9: 1.5
A10: ED-50389 | B10: MOBILIZAÇÃO E DESMOBILIZAÇÃO OBRA DISTANTE DE CENTRO URBANO COM VALOR ATÉ O VALOR DE 1.000.000,00 | C10: % | D10: 2 | E10: 2
A11: 8663 | B11: SERVIÇOS PRELIMINARES
A12: 8702 | B12: LIMPEZA DO TERRENO
A13: ED-50701 | B13: CAPINA MANUAL DO TERRENO, EXCLUSIVE RASTELAMENTO E QUEIMA | C13: m2 | D13: 1.24 | E13: 1.33
A14: ED-28163 | B14: DESTOCAMENTO E AFASTAMENTO DE REMANESCENTE ARBÓREO, INCLUSIVE TRANSPORTE COM RETIRADA DO MATERIAL DESTOCADO (EM CAÇAMBA) | C14: un | D14: 423.79 | E14: 436.26
A15: ED-50703 | B15: LIMPEZA DE TERRENO, INCLUSIVE CAPINA, RASTELAMENTO COM AFASTAMENTO ATÉ VINTE (20) METROS E QUEIMA CONTROLADA | C15: m2 | D15: 2.19 | E15: 2.36
A16: ED-8143 | B16: RASTELAMENTO DE ÁREA COM AFASTAMENTO DE ATÉ VINTE (20) METROS, EXCLUSIVE CAPINA OU ROÇADA MANUAL | C16: m2 | D16: 0.82 | E16: 0.89
A17: ED-28162 | B17: ROÇADA MANUAL DE TERRENO COM ROÇADEIRA COSTAL, EXCLUSIVE RASTELAMENTO E QUEIMA | C17: m2 | D17: 0.25 | E17: 0.27
A18: 8703 | B18: DESMATAMENTO E DESTOCAMENTO
A19: ED-50702 | B19: DESMATAMENTO, DESTOCAMENTO E LIMPEZA, INCLUSIVE TRANSPORTE ATÉ CINQUENTA (50) METROS | C19: m2 | D19: 0.49 | E19: 0.52
A20: 8704 | B20: SUPRESSÃO DE ÁRVORE
A21: ED-50699 | B21: CORTE DE ÁRVORE COM MOTOSSERRA, DIÂMETRO DO TRONCO ACIMA DE TRINTA (30) CENTÍMETROS ATÉ CINQUENTA (50) CENTÍMETROS, EXCLUSIVE DESTOCAMENTO E AFASTAMENTO | C21: un | D21: 86.02 | E21: 92.91
A22: ED-50697 | B22: CORTE DE ÁRVORE COM MOTOSSERRA, DIÂMETRO DO TRONCO DE QUINZE (15) CENTÍMETROS ATÉ TRINTA (30) CENTÍMETROS, EXCLUSIVE DESTOCAMENTO E AFASTAMENTO | C22: un | D22: 51.61 | E22: 55.74
A23: 8706 | B23: REMOÇÃO DE TELHADO
A24: ED-48438 | B24: REMOÇÃO DE CALHA EM CHAPA GALVANIZADA OU EM PVC, COM REAPROVEITAMENTO, INCLUSIVE AFASTAMENTO E EMPILHAMENTO, EXCLUSIVE TRANSPORTE E RETIRADA DO MATERIAL REMOVIDO NÃO REAPROVEITÁVEL | C24: m | D24: 4.29 | E24: 4.63
A25: ED-48446 | B25: REMOÇÃO MANUAL DE CONDUTOR EM PVC OU METÁLICO, COM REAPROVEITAMENTO, INCLUSIVE AFASTAMENTO E EMPILHAMENTO, EXCLUSIVE TRANSPORTE E RETIRADA DO MATERIAL REMOVIDO NÃO REAPROVEITÁVEL | C25: m | D25: 5.15 | E25: 5.54
A26: ED-48455 | B26: REMOÇÃO MANUAL DE ENGRADAMENTO PARA TELHA TIPO CALHA ESTRUTURAL EM FIBROCIMENTO, COM REAPROVEITAMENTO, INCLUSIVE AFASTAMENTO E EMPILHAMENTO, EXCLUSIVE TRANSPORTE E RETIRADA DO MATERIAL REMOVIDO NÃO REAPROVEITÁVEL | C26: m2 | D26: 10.32 | E26: 11.1
A27: ED-48457 | B27: REMOÇÃO MANUAL DE ENGRADAMENTO PARA TELHA TIPO CERÂMICA OU CONCRETO, INCLUSIVE AFASTAMENTO E EMPILHAMENTO, EXCLUSIVE TRANSPORTE E RETIRADA DO MATERIAL REMOVIDO NÃO REAPROVEITÁVEL | C27: m2 | D27: 20.64 | E27: 22.2
A28: ED-48454 | B28: REMOÇÃO MANUAL DE ENGRADAMENTO PARA TELHA TIPO METÁLICA, PVC OU FIBROCIMENTO, COM REAPROVEITAMENTO, INCLUSIVE AFASTAMENTO E EMPILHAMENTO, EXCLUSIVE TRANSPORTE E RETIRADA DO MATERIAL REMOVIDO NÃO REAPROVEITÁVEL | C28: m2 | D28: 13.76 | E28: 14.8
A29: ED-48506 | B29: REMOÇÃO MANUAL DE RUFO METÁLICO, COM REAPROVEITAMENTO, INCLUSIVE AFASTAMENTO E EMPILHAMENTO, EXCLUSIVE TRANSPORTE E RETIRADA DO MATERIAL REMOVIDO NÃO REAPROVEITÁVEL | C29: m | D29: 6.31 | E29: 6.81
A30: ED-48512 | B30: REMOÇÃO MANUAL DE TELHA EM FIBROCIMENTO, TIPO ONDULADA, COM REAPROVEITAMENTO, INCLUSIVE AFASTAMENTO E EMPILHAMENTO, EXCLUSIVE TRANSPORTE E RETIRADA DO MATERIAL REMOVIDO NÃO REAPROVEITÁVEL | C30: m2 | D30: 11.79 | E30: 12.69
A31: ED-48514 | B31: REMOÇÃO MANUAL DE TELHA CERÂMICA, COM REAPROVEITAMENTO, INCLUSIVE AFASTAMENTO E EMPILHAMENTO, EXCLUSIVE TRANSPORTE E RETIRADA DO MATERIAL REMOVIDO NÃO REAPROVEITÁVEL | C31: m2 | D31: 22.29 | E31: 24.05
A32: ED-48510 | B32: REMOÇÃO MANUAL DE TELHA EM FIBROCIMENTO, TIPO CALHA ESTRUTURAL, COM REAPROVEITAMENTO, INCLUSIVE IÇAMENTO, AFASTAMENTO E EMPILHAMENTO, EXCLUSIVE TRANSPORTE E RETIRADA DO MATERIAL REMOVIDO NÃO REAPROVEITÁVEL | C32: m2 | D32: 22.88 | E32: 24.32
A33: ED-48509 | B33: REMOÇÃO MANUAL DE TELHA METÁLICA OU PVC, COM REAPROVEITAMENTO, INCLUSIVE AFASTAMENTO E EMPILHAMENTO, EXCLUSIVE TRANSPORTE E RETIRADA DO MATERIAL REMOVIDO NÃO REAPROVEITÁVEL | C33: m2 | D33: 8.26 | E33: 8.88
A34: 8707 | B34: DEMOLIÇÃO E REMOÇÃO DE INSTALAÇÃO
A35: ED-48500 | B35: DEMOLIÇÃO MANUAL DE TUBULAÇÕES EMBUTIDAS DE REDE (ÁGUA, ELÉTRICA, GASES, ETC.), INCLUSIVE RASGO EM ALVENARIA, REMOÇÃO DE ACESSÓRIOS DE FIXAÇÃO, AFASTAMENTO E EMPILHAMENTO, EXCLUSIVE TRANSPORTE E RETIRADA DO MATERIAL DEMOLIDO | C35: m | D35: 7.72 | E35: 8.31
A36: ED-48466 | B36: REMOÇÃO MANUAL DE INTERFONE, COM REAPROVEITAMENTO, INCLUSIVE AFASTAMENTO E EMPILHAMENTO, EXCLUSIVE TRANSPORTE E RETIRADA DO MATERIAL REMOVIDO NÃO REAPROVEITÁVEL | C36: un | D36: 40.48 | E36: 43.49
A37: ED-48468 | B37: REMOÇÃO MANUAL DE LUMINÁRIA COMERCIAL, EMBUTIDA OU SOBREPOR, COM REAPROVEITAMENTO, INCLUSIVE AFASTAMENTO E EMPILHAMENTO, EXCLUSIVE TRANSPORTE E RETIRADA DO MATERIAL REMOVIDO NÃO REAPROVEITÁVEL | C37: un | D37: 9.73 | E37: 10.47
A38: ED-48469 | B38: REMOÇÃO MANUAL DE LUMINÁRIA COMPACTA (PLAFON, PAINEL LED, ETC.) EMBUTIDA OU SOBREPOR, COM REAPROVEITAMENTO, INCLUSIVE AFASTAMENTO E EMPILHAMENTO, EXCLUSIVE TRANSPORTE E RETIRADA DO MATERIAL REMOVIDO NÃO REAPROVEITÁVEL | C38: un | D38: 5.68 | E38: 6.11
A39: ED-48499 | B39: REMOÇÃO MANUAL DE REDES DE DUTOS PARA CLIMATIZAÇÃO, INCLUSIVE AFASTAMENTO E EMPILHAMENTO, EXCLUSIVE TRANSPORTE E RETIRADA DO MATERIAL REMOVIDO NÃO REAPROVEITÁVEL | C39: m | D39: 8.58 | E39: 9.23
A40: ED-48515 | B40: REMOÇÃO MANUAL DE TUBULAÇÕES EMBUTIDAS DE REDE (ÁGUA, ELÉTRICA, GASES, ETC.), COM REAPROVEITAMENTO, INCLUSIVE RASGO EM ALVENARIA, REMOÇÃO DE ACESSÓRIOS DE FIXAÇÃO, AFASTAMENTO E EMPILHAMENTO, EXCLUSIVE TRANSPORTE E RETIRADA DO MATERIAL REMOVIDO NÃO REAPROVEITÁVEL | C40: m | D40: 11.14 | E40: 11.98
...

Sheet SINAPI JUN-24-DESONERADO
A1: CODIGO DA COMPOSICAO | B1: DESCRICAO DA COMPOSICAO | C1: UNIDADE | D1: CUSTO TOTAL
A3: 97141 | B3: ASSENTAMENTO DE TUBO DE FERRO FUNDIDO PARA REDE DE ÁGUA, DN 80 MM, JUNTA ELÁSTICA, INSTALADO EM LOCAL COM NÍVEL ALTO DE INTERFERÊNCIAS (NÃO INCLUI FORNECIMENTO). AF_05/2024 | C3: M | D3: 4,49
A4: 97142 | B4: ASSENTAMENTO DE TUBO DE FERRO FUNDIDO PARA REDE DE ÁGUA, DN 100 MM, JUNTA ELÁSTICA, INSTALADO EM LOCAL COM NÍVEL ALTO DE INTERFERÊNCIAS (NÃO INCLUI FORNECIMENTO). AF_05/2024 | C4: M | D4: 5,16
A5: 97143 | B5: ASSENTAMENTO DE TUBO DE FERRO FUNDIDO PARA REDE DE ÁGUA, DN 150 MM, JUNTA ELÁSTICA, INSTALADO EM LOCAL COM NÍVEL ALTO DE INTERFERÊNCIAS (NÃO INCLUI FORNECIMENTO). AF_05/2024 | C5: M | D5: 6,79
A6: 97144 | B6: ASSENTAMENTO DE TUBO DE FERRO FUNDIDO PARA REDE DE ÁGUA, DN 200 MM, JUNTA ELÁSTICA, INSTALADO EM LOCAL COM NÍVEL ALTO DE INTERFERÊNCIAS (NÃO INCLUI FORNECIMENTO). AF_05/2024 | C6: M | D6: 8,43
A7: 97145 | B7: ASSENTAMENTO DE TUBO DE FERRO FUNDIDO PARA REDE DE ÁGUA, DN 250 MM, JUNTA ELÁSTICA, INSTALADO EM LOCAL COM NÍVEL ALTO DE INTERFERÊNCIAS (NÃO INCLUI FORNECIMENTO). AF_05/2024 | C7: M | D7: 10,10
A8: 97146 | B8: ASSENTAMENTO DE TUBO DE FERRO FUNDIDO PARA REDE DE ÁGUA, DN 300 MM, JUNTA ELÁSTICA, INSTALADO EM LOCAL COM NÍVEL ALTO DE INTERFERÊNCIAS (NÃO INCLUI FORNECIMENTO). AF_05/2024 | C8: M | D8: 11,76
A9: 97147 | B9: ASSENTAMENTO DE TUBO DE FERRO FUNDIDO PARA REDE DE ÁGUA, DN 350 MM, JUNTA ELÁSTICA, INSTALADO EM LOCAL COM NÍVEL ALTO DE INTERFERÊNCIAS (NÃO INCLUI FORNECIMENTO). AF_05/2024 | C9: M | D9: 13,43
A10: 97148 | B10: ASSENTAMENTO DE TUBO DE FERRO FUNDIDO PARA REDE DE ÁGUA, DN 400 MM, JUNTA ELÁSTICA, INSTALADO EM LOCAL COM NÍVEL ALTO DE INTERFERÊNCIAS (NÃO INCLUI FORNECIMENTO). AF_05/2024 | C10: M | D10: 15,07
A11: 97149 | B11: ASSENTAMENTO DE TUBO DE FERRO FUNDIDO PARA REDE DE ÁGUA, DN 450 MM, JUNTA ELÁSTICA, INSTALADO EM LOCAL COM NÍVEL ALTO DE INTERFERÊNCIAS (NÃO INCLUI FORNECIMENTO). AF_05/2024 | C11: M | D11: 16,75
A12: 97150 | B12: ASSENTAMENTO DE TUBO DE FERRO FUNDIDO PARA REDE DE ÁGUA, DN 500 MM, JUNTA ELÁSTICA, INSTALADO EM LOCAL COM NÍVEL ALTO DE INTERFERÊNCIAS (NÃO INCLUI FORNECIMENTO). AF_05/2024 | C12: M | D12: 21,63
A13: 97151 | B13: ASSENTAMENTO DE TUBO DE FERRO FUNDIDO PARA REDE DE ÁGUA, DN 600 MM, JUNTA ELÁSTICA, INSTALADO EM LOCAL COM NÍVEL ALTO DE INTERFERÊNCIAS (NÃO INCLUI FORNECIMENTO). AF_05/2024 | C13: M | D13: 25,48
... A7675: 101460 | B7675: VIGIA DIURNO COM ENCARGOS COMPLEMENTARES | C7675: MES | D7675: 3.776,46

Sheet SINAPI JUN-24-ONERADO
A1: CODIGO DA COMPOSICAO | B1: DESCRICAO DA COMPOSICAO | C1: UNIDADE | D1: CUSTO TOTAL
A3: 97141 | B3: ASSENTAMENTO DE TUBO DE FERRO FUNDIDO PARA REDE DE ÁGUA, DN 80 MM, JUNTA ELÁSTICA, INSTALADO EM LOCAL COM NÍVEL ALTO DE INTERFERÊNCIAS (NÃO INCLUI FORNECIMENTO). AF_05/2024 | C3: M | D3: 8,56
A4: 97142 | B4: ASSENTAMENTO DE TUBO DE FERRO FUNDIDO PARA REDE DE ÁGUA, DN 100 MM, JUNTA ELÁSTICA, INSTALADO EM LOCAL COM NÍVEL ALTO DE INTERFERÊNCIAS (NÃO INCLUI FORNECIMENTO). AF_05/2024 | C4: M | D4: 9,50
A5: 97143 | B5: ASSENTAMENTO DE TUBO DE FERRO FUNDIDO PARA REDE DE ÁGUA, DN 150 MM, JUNTA ELÁSTICA, INSTALADO EM LOCAL COM NÍVEL ALTO DE INTERFERÊNCIAS (NÃO INCLUI FORNECIMENTO). AF_05/2024 | C5: M | D5: 11,83
A6: 97144 | B6: ASSENTAMENTO DE TUBO DE FERRO FUNDIDO PARA REDE DE ÁGUA, DN 200 MM, JUNTA ELÁSTICA, INSTALADO EM LOCAL COM NÍVEL ALTO DE INTERFERÊNCIAS (NÃO INCLUI FORNECIMENTO). AF_05/2024 | C6: M | D6: 14,17
A7: 97145 | B7: ASSENTAMENTO DE TUBO DE FERRO FUNDIDO PARA REDE DE ÁGUA, DN 250 MM, JUNTA ELÁSTICA, INSTALADO EM LOCAL COM NÍVEL ALTO DE INTERFERÊNCIAS (NÃO INCLUI FORNECIMENTO). AF_05/2024 | C7: M | D7: 16,52
A8: 97146 | B8: ASSENTAMENTO DE TUBO DE FERRO FUNDIDO PARA REDE DE ÁGUA, DN 300 MM, JUNTA ELÁSTICA, INSTALADO EM LOCAL COM NÍVEL ALTO DE INTERFERÊNCIAS (NÃO INCLUI FORNECIMENTO). AF_05/2024 | C8: M | D8: 18,87
A9: 97147 | B9: ASSENTAMENTO DE TUBO DE FERRO FUNDIDO PARA REDE DE ÁGUA, DN 350 MM, JUNTA ELÁSTICA, INSTALADO EM LOCAL COM NÍVEL ALTO DE INTERFERÊNCIAS (NÃO INCLUI FORNECIMENTO). AF_05/2024 | C9: M | D9: 21,22
A10: 97148 | B10: ASSENTAMENTO DE TUBO DE FERRO FUNDIDO PARA REDE DE ÁGUA, DN 400 MM, JUNTA ELÁSTICA, INSTALADO EM LOCAL COM NÍVEL ALTO DE INTERFERÊNCIAS (NÃO INCLUI FORNECIMENTO). AF_05/2024 | C10: M | D10: 23,57
A11: 97149 | B11: ASSENTAMENTO DE TUBO DE FERRO FUNDIDO PARA REDE DE ÁGUA, DN 450 MM, JUNTA ELÁSTICA, INSTALADO EM LOCAL COM NÍVEL ALTO DE INTERFERÊNCIAS (NÃO INCLUI FORNECIMENTO). AF_05/2024 | C11: M | D11: 25,95
A12: 97150 | B12: ASSENTAMENTO DE TUBO DE FERRO FUNDIDO PARA REDE DE ÁGUA, DN 500 MM, JUNTA ELÁSTICA, INSTALADO EM LOCAL COM NÍVEL ALTO DE INTERFERÊNCIAS (NÃO INCLUI FORNECIMENTO). AF_05/2024 | C12: M | D12: 33,91
A13: 97151 | B13: ASSENTAMENTO DE TUBO DE FERRO FUNDIDO PARA REDE DE ÁGUA, DN 600 MM, JUNTA ELÁSTICA, INSTALADO EM LOCAL COM NÍVEL ALTO DE INTERFERÊNCIAS (NÃO INCLUI FORNECIMENTO). AF_05/2024 | C13: M | D13: 39,46
... A7565: 101334 | B7565: CURSO DE CAPACITAÇÃO PARA MECÂNICO DE REFRIGERAÇÃO (ENCARGOS COMPLEMENTARES) - MENSALISTA | C7565: MES | D7565: 4.078,69
A7566: 101336 | B7566: CURSO DE CAPACITAÇÃO PARA MOTORISTA OPERADOR DE CAMINHAO COM MUNCK (ENCARGOS COMPLEMENTARES) - MENSALISTA | C7566: MES
A7567: 101337 | B7567: CURSO DE CAPACITAÇÃO PARA NIVELADOR (ENCARGOS COMPLEMENTARES) - MENSALISTA | C7567: MES
A7568: 101338 | B7568: CURSO DE CAPACITAÇÃO PARA OPERADOR DE BATE-ESTACAS (ENCARGOS COMPLEMENTARES) - MENSALISTA | C7568: MES
A7569: 101339 | B7569: CURSO DE CAPACITAÇÃO PARA OPERADOR DE BETONEIRA (ENCARGOS COMPLEMENTARES) - MENSALISTA | C7569: MES
A7570: 101340 | B7570: CURSO DE CAPACITAÇÃO PARA OPERADOR DE BETONEIRA ESTACIONARIA / MISTURADOR (ENCARGOS COMPLEMENTARES) - MENSALISTA | C7570: MES
A7571: 101341 | B7571: CURSO DE CAPACITAÇÃO PARA OPERADOR DE COMPRESSOR DE AR OU COMPRESSORISTA (ENCARGOS COMPLEMENTARES) - MENSALISTA | C7571: MES
A7572: 101342 | B7572: CURSO DE CAPACITAÇÃO PARA OPERADOR DE DEMARCADORA DE FAIXAS DE TRAFEGO (ENCARGOS COMPLEMENTARES) - MENSALISTA | C7572: MES
A7573: 101343 | B7573: CURSO DE CAPACITAÇÃO PARA OPERADOR DE ESCAVADEIRA (ENCARGOS COMPLEMENTARES) - MENSALISTA | C7573: MES
A7574: 101344 | B7574: CURSO DE CAPACITAÇÃO PARA OPERADOR DE GUINCHO OU GUINCHEIRO (ENCARGOS COMPLEMENTARES) - MENSALISTA | C7574: MES
A7575: 101345 | B7575: CURSO DE CAPACITAÇÃO PARA OPERADOR DE GUINDASTE (ENCARGOS COMPLEMENTARES) - MENSALISTA | C7575: MES
A7576: 101346 | B7576: CURSO DE CAPACITAÇÃO PARA OPERADOR DE JATO ABRASIVO OU JATISTA (ENCARGOS COMPLEMENTARES) - MENSALISTA | C7576: MES
A7577: 101347 | B7577: CURSO DE CAPACITAÇÃO PARA OPERADOR DE MAQUINAS E TRATORES DIVERSOS (ENCARGOS COMPLEMENTARES) - MENSALISTA | C7577: MES
... A7675: 101460 | B7675: VIGIA DIURNO COM ENCARGOS COMPLEMENTARES | C7675: MES

Sheet SUDECAP-ABRIL 24
A1: CÓDIGO | B1: DESCRICAO | C1: UND | D1: DESONERADO | E1: ONERADO
A2: 01 | B2: INSTALAÇAO DA OBRA
A3: 01.01 | B3: ESCRITORIO DE OBRA
A4: 01.01.13 | B4: LAVABO | C4: UN | D4: 3003.79 | E4: 3141.27
A5: 01.01.20 | B5: ESCRITORIO DA CONTRATADA - ATÉ 15 M2 | C5: M2 | D5: 502.71 | E5: 522.6
A6: 01.01.21 | B6: ESCRITORIO DA CONTRATADA - ATÉ 22 M2 | C6: M2 | D6: 457.39 | E6: 475.57
A7: 01.01.22 | B7: ESCRITORIO DA FISCALIZAÇÃO - ATÉ 15 M2 | C7: M2 | D7: 502.71 | E7: 522.6
A8: 01.01.23 | B8: ESCRITORIO DA FISCALIZAÇÃO - ATÉ 22 M2 | C8: M2 | D8: 457.39 | E8: 475.57
A9: 01.02 | B9: BARRACAO DE OBRA
A10: 01.02.30 | B10: VESTIARIO PARA ATÉ 20 PESSOAS | C10: M2 | D10: 320.18 | E10: 332.25
A11: 01.02.31 | B11: VESTIÁRIO PARA ATÉ 30 PESSOAS | C11: M2 | D11: 301.33 | E11: 312.68
A12: 01.02.32 | B12: VESTIÁRIO PARA ATÉ 40 PESSOAS | C12: M2 | D12: 287.23 | E12: 298.1
A13: 01.02.35 | B13: DEPÓSITO E FERRAMENTARIA - ATÉ 15 M2 | C13: M2 | D13: 445.07 | E13: 463.44
A14: 01.02.36 | B14: DEPÓSITO E FERRAMENTARIA - ATÉ 26M2 | C14: M2 | D14: 397.11 | E14: 413.73
A15: 01.02.37 | B15: DEPÓSITO E FERRAMENTARIA - ATÉ 33M2 | C15: M2 | D15: 385.51 | E15: 401.68
A16: 01.02.38 | B16: DEPÓSITO DE MATERIAIS ENSACADOS - ATÉ 15 M2 | C16: M2 | D16: 364.26 | E16: 378.99
A17: 01.02.40 | B17: REFEITÓRIO - ATÉ 19M2 | C17: M2 | D17: 421.7 | E17: 439.51
A18: 01.02.41 | B18: REFEITÓRIO- ATÉ 26M2 | C18: M2 | D18: 409.37 | E18: 426.29
A19: 01.02.45 | B19: INSTALAÇÃO SANITÁRIA / VESTIÁRIO PARA ATÉ 4 PESSOAS | C19: M2 | D19: 609.98 | E19: 633.79
A20: 01.02.46 | B20: INSTALAÇÃO SANITÁRIA - ATÉ 15M2 | C20: M2 | D20: 531.55 | E20: 554.47
A21: 01.02.47 | B21: INSTALAÇÃO SANITÁRIA - ATÉ 22M2 | C21: M2 | D21: 510.93 | E21: 532.76
A22: 01.02.48 | B22: INSTALAÇÃO SANITÁRIA - ATÉ 33M2 | C22: M2 | D22: 475.29 | E22: 496.46
A23: 01.03 | B23: PLACA DE OBRA AFIXADA COM PEÇAS DE MADEIRA
A24: 01.03.01 | B24: 3,00 X 2,00 M EM LONA IMPRESSAO DIGITAL P.SUDECAP | C24: UN | D24: 2491.94 | E24: 2497.64
A25: 01.03.02 | B25: PLACA DE OBRA EM LONA IMPRESSAO DIGITAL P. SUDECAP | C25: M2 | D25: 358.39 | E25: 359.93
A26: 01.03.03 | B26: PLACA DE OBRA EM CHAPA GALVANIZADA ADESIVADA, DIMENSÕES 2,40 X 1,20 M, PADRÃO CEF | C26: M2 | D26: 397.62 | E26: 399.27
A27: 01.04 | B27: TAPUME PADRAO SUDECAP (TIPO I, II E III)
A28: 01.04.01 | B28: TAPUME PADRÃO SUDECAP DE COMPENSADO 10MM COM FIXAÇAO ENTERRADA | C28: M | D28: 93.18 | E28: 98.59
A29: 01.04.03 | B29: TAPUME PADRÃO SUDECAP DE COMPENSADO 10MM COM BASE DE CONCRETO | C29: M | D29: 99.3 | E29: 104.88
A30: 01.04.05 | B30: INFORME PUBLIC.LONA IMP.DIGITAL APLICADO EM TAPUME | C30: M2 | D30: 428.1 | E30: 430.36
A31: 01.04.06 | B31: DE TELA GALVANIZADA #2" FIO 14 C/FIXAÇAO ENTERRADA | C31: M | D31: 61.55 | E31: 64.59
A32: 01.04.07 | B32: DE TELA GALVANIZADA #2" FIO 14 C/BASE DE CONCRETO | C32: M | D32: 65.36 | E32: 68.3
A33: 01.04.09 | B33: TELA-TAPUME DE POLIPROPILENO H= 1,20 M, INCL. BASE | C33: M | D33: 12.32 | E33: 12.5
A34: 01.04.10 | B34: PROTEÇAO COM FITA ZEBRADA AMARELA L=7CM E PEÇA 7X7 | C34: M | D34: 7.93 | E34: 8.48
A35: 01.04.11 | B35: FITA ZEBRADA AMARELA PARA SINALIZAÇAO L= 7CM | C35: M | D35: 2.94 | E35: 3.3
A36: 01.04.16 | B36: TAPUME METÁLICO COM BASE DE CONCRETO (M) | C36: M | D36: 97.39 | E36: 101.46
A37: 01.04.17 | B37: TAPUME METÁLICO COM BASE ENTERRADA (M) | C37: M | D37: 84.13 | E37: 87.87
A38: 01.04.18 | B38: TAPUME METÁLICO COM TELA E BASE DE CONCRETO (M) | C38: M | D38: 116.5 | E38: 120.57
A39: 01.04.19 | B39: TAPUME METÁLICO COM TELA E BASE ENTERRADA (M) | C39: M | D39: 103.21 | E39: 106.95
A40: 01.04.20 | B40: REMANEJAMENTO DE TAPUME | C40: M | D40: 7.71 | E40: 8.66
...

Sheet SINAPI-INSUMOS-DESONERADO
A1: CODIGO | B1: DESCRICAO DO INSUMO | C1: UNIDADE DE MEDIDA | D1: PRECO MEDIANO R$
A2: 38605 | B2: ABERTURA PARA ENCAIXE DE CUBA OU LAVATORIO EM BANCADA DE MARMORE/ GRANITO OU OUTRO TIPO DE PEDRA NATURAL | C2: UN | D2: 118,65
A3: 11270 | B3: ABRACADEIRA DE LATAO PARA FIXACAO DE CABO PARA-RAIO, DIMENSOES 32 X 24 X 24 MM | C3: UN | D3: 3,54
A4: 412 | B4: ABRACADEIRA DE NYLON PARA AMARRACAO DE CABOS, COMPRIMENTO DE *230* X *7,6* MM | C4: UN | D4: 0,97
A5: 414 | B5: ABRACADEIRA DE NYLON PARA AMARRACAO DE CABOS, COMPRIMENTO DE 100 X 2,5 MM | C5: UN | D5: 0,06
A6: 410 | B6: ABRACADEIRA DE NYLON PARA AMARRACAO DE CABOS, COMPRIMENTO DE 150 X *3,6* MM | C6: UN | D6: 0,15
A7: 411 | B7: ABRACADEIRA DE NYLON PARA AMARRACAO DE CABOS, COMPRIMENTO DE 200 X *4,6* MM | C7: UN | D7: 0,19
A8: ED-50391 | B8: ABRACADEIRA DE NYLON PARA AMARRACAO DE CABOS, COMPRIMENTO DE 390 X *4,6* MM | C8: UN | D8: 0,94
A9: 39131 | B9: ABRACADEIRA EM ACO PARA AMARRACAO DE ELETRODUTOS, TIPO D, COM 1 1/2" E CUNHA DE FIXACAO | C9: UN | D9: 3,16
A10: 394 | B10: ABRACADEIRA EM ACO PARA AMARRACAO DE ELETRODUTOS, TIPO D, COM 1 1/2" E PARAFUSO DE FIXACAO | C10: UN | D10: 3,20
A11: 39130 | B11: ABRACADEIRA EM ACO PARA AMARRACAO DE ELETRODUTOS, TIPO D, COM 1 1/4" E CUNHA DE FIXACAO | C11: UN | D11: 2,88
A12: 395 | B12: ABRACADEIRA EM ACO PARA AMARRACAO DE ELETRODUTOS, TIPO D, COM 1 1/4" E PARAFUSO DE FIXACAO | C12: UN | D12: 3,08
A13: 39127 | B13: ABRACADEIRA EM ACO PARA AMARRACAO DE ELETRODUTOS, TIPO D, COM 1/2" E CUNHA DE FIXACAO | C13: UN | D13: 1,52
A14: 392 | B14: ABRACADEIRA EM ACO PARA AMARRACAO DE ELETRODUTOS, TIPO D, COM 1/2" E PARAFUSO DE FIXACAO | C14: UN | D14: 1,56
A15: 39129 | B15: ABRACADEIRA EM ACO PARA AMARRACAO DE ELETRODUTOS, TIPO D, COM 1" E CUNHA DE FIXACAO | C15: UN | D15: 1,78
A16: 393 | B16: ABRACADEIRA EM ACO PARA AMARRACAO DE ELETRODUTOS, TIPO D, COM 1" E PARAFUSO DE FIXACAO | C16: UN | D16: 1,86
A17: 39133 | B17: ABRACADEIRA EM ACO PARA AMARRACAO DE ELETRODUTOS, TIPO D, COM 2 1/2" E CUNHA DE FIXACAO | C17: UN | D17: 4,15
A18: 397 | B18: ABRACADEIRA EM ACO PARA AMARRACAO DE ELETRODUTOS, TIPO D, COM 2 1/2" E PARAFUSO DE FIXACAO | C18: UN | D18: 4,59
A19: 39132 | B19: ABRACADEIRA EM ACO PARA AMARRACAO DE ELETRODUTOS, TIPO D, COM 2" E CUNHA DE FIXACAO | C19: UN | D19: 3,32
A20: 396 | B20: ABRACADEIRA EM ACO PARA AMARRACAO DE ELETRODUTOS, TIPO D, COM 2" E PARAFUSO DE FIXACAO | C20: UN | D20: 3,56
... A4911: 41096 | B4911: VIGIA DIURNO (MENSALISTA) | C4911: MES | D4911: 2.569,71
A4913: TOTAL DE INSUMOS : 4910

Sheet SINAPI-INSUMOS-NAO DESONERADO
A1: PRECOS DE INSUMOS - BANCO NACIONAL
A3: MES DE COLETA: 01/2024
A4: LOCALIDADE: 1950 - BELO HORIZONTE
A5: ENCARGOS SOCIAIS (%) HORISTA 108,90 MENSALISTA 67,79
A7: CODIGO | B7: DESCRICAO DO INSUMO | C7: UNIDADE DE MEDIDA | D7: PRECO MEDIANO R$
A8: ED-50391 | B8: ABERTURA PARA ENCAIXE DE CUBA OU LAVATORIO EM BANCADA DE MARMORE/ GRANITO OU OUTRO TIPO DE PEDRA NATURAL | C8: UN | D8: 118,65
A9: 11270 | B9: ABRACADEIRA DE LATAO PARA FIXACAO DE CABO PARA-RAIO, DIMENSOES 32 X 24 X 24 MM | C9: UN | D9: 3,54
A10: 412 | B10: ABRACADEIRA DE NYLON PARA AMARRACAO DE CABOS, COMPRIMENTO DE *230* X *7,6* MM | C10: UN | D10: 0,97
A11: 414 | B11: ABRACADEIRA DE NYLON PARA AMARRACAO DE CABOS, COMPRIMENTO DE 100 X 2,5 MM | C11: UN | D11: 0,06
A12: 410 | B12: ABRACADEIRA DE NYLON PARA AMARRACAO DE CABOS, COMPRIMENTO DE 150 X *3,6* MM | C12: UN | D12: 0,15
A13: 411 | B13: ABRACADEIRA DE NYLON PARA AMARRACAO DE CABOS, COMPRIMENTO DE 200 X *4,6* MM | C13: UN | D13: 0,19
A14: 408 | B14: ABRACADEIRA DE NYLON PARA AMARRACAO DE CABOS, COMPRIMENTO DE 390 X *4,6* MM | C14: UN | D14: 0,94
A15: 39131 | B15: ABRACADEIRA EM ACO PARA AMARRACAO DE ELETRODUTOS, TIPO D, COM 1 1/2" E CUNHA DE FIXACAO | C15: UN | D15: 3,16
A16: 394 | B16: ABRACADEIRA EM ACO PARA AMARRACAO DE ELETRODUTOS, TIPO D, COM 1 1/2" E PARAFUSO DE FIXACAO | C16: UN | D16: 3,20
A17: 39130 | B17: ABRACADEIRA EM ACO PARA AMARRACAO DE ELETRODUTOS, TIPO D, COM 1 1/4" E CUNHA DE FIXACAO | C17: UN | D17: 2,88
A18: 395 | B18: ABRACADEIRA EM ACO PARA AMARRACAO DE ELETRODUTOS, TIPO D, COM 1 1/4" E PARAFUSO DE FIXACAO | C18: UN | D18: 3,08
A19: 39127 | B19: ABRACADEIRA EM ACO PARA AMARRACAO DE ELETRODUTOS, TIPO D, COM 1/2" E CUNHA DE FIXACAO | C19: UN | D19: 1,52
A20: 392 | B20: ABRACADEIRA EM ACO PARA AMARRACAO DE ELETRODUTOS, TIPO D, COM 1/2" E PARAFUSO DE FIXACAO | C20: UN | D20: 1,56
... A4917: 41096 | B4917: VIGIA DIURNO (MENSALISTA) | C4917: MES | D4917: 2.956,67
A4919: TOTAL DE INSUMOS : 4910

Sheet CAPA
A1: Cliente
A2: PREFEITURA MUNICIPAL DE TUNÁPOLIS - SC
A3: Empreendimento
A4: ENDEREÇO: RUA JOÃO CASTILHO, 298, CENTRO, TUNÁPOLIS - SC
A5: Especialidade | D5: ENTIDADE | F5: Revisão
A6: Reforma / Obra | F6: 0
A7: Título do Projeto: REFORMA DO MUSEU PÚBLICO MUNICIPAL IDA SCHNEIDER
E8: VALOR TOTAL PREVISTO | G8: ='ORÇAMENTO SINTETICO'!H77 -> 0
A9: Leis Sociais | E9: Data:
A10: Horista | D10: Mensalista | E10: 46161
A11: ='Leis Sociais'!C9 -> 0.8444 | D11: ='Leis Sociais'!F9 -> 0.4748
A12: Título do Documento
A13: Tabelas Referenciais (Nome e Data Base): | E13: Data Base do Orçamento:
A14: SINAPI desonerada 03/2026
A15: SICRO desonerada 03/2026
A21: Controle de Revisões
A22: Revisão | B22: Data | C22: Histórico
A23: 0 | B23: XX/XX/XX | C23: CAPA
A24: 0 | B24: XX/XX/XX | C24: BDI
A25: 0 | B25: XX/XX/XX | C25: LEIS SOCIAIS
A26: 0 | B26: XX/XX/XX | C26: PLANILHA ORÇAMENTÁRIA SINTÉTICA
A27: 0 | B27: XX/XX/XX | C27: CRONOGRAMA
A28: 0 | B28: XX/XX/XX | C28: PLANILHA ORÇAMENTÁRIA ANALÍTICA - COMPOSIÇÕES
A29: 0 | B29: XX/XX/XX | C29: PLANILHA ORÇAMENTÁRIA ANALÍTICA - COMPOSIÇÕES TABELAS
A30: 0 | B30: XX/XX/XX | C30: COTAÇÕES
A34: Observação:

Sheet RESUMO
B1: #VALUE! | F1: SERIVÇO SOCIAL DO TRANSPORTE SERVIÇO NACIONAL DE APRENDIZAGEM DO TRANSPORTE | G1: REVISÃO: | I1: =CAPA!F6 -> 0
G2: DATA: | I2: =CAPA!E10 -> 46161
G3: BASE ORÇAMENTO: | I3: =CAPA!G13 -> 0
B5: OBRA: | F5: =CAPA!A6&" - "&CAPA!A2 -> Reforma / Obra - PREFEITURA MUNICIPAL DE TUNÁPOLIS - SC | G5: RESPONSÁVEL TÉCNICO ORÇAMENTO:
B6: ENDEREÇO: | F6: =CAPA!A4 -> ENDEREÇO: RUA JOÃO CASTILHO, 298, CENTRO, TUNÁPOLIS - SC
G7: NASSER - CREA/MG
B8: PLANILHA ORÇAMENTÁRIA - RESUMO | G8: ART:
A9: l | B9: ITEM | F9: DESCRIÇÃO DO SERVIÇO | I9: VALOR TOTAL | J9: PESO
A10: l
B11: 01. | F11: SERVICIOS GERAIS | I11: =VLOOKUP(F11,'ORÇAMENTO SINTETICO'!$D$12:$H$12,5,FALSE) -> #N/A | J11: =I11/$I$42 -> #N/A
B12: 02. | F12: SERVICOS PRELIMINARES | I12: =VLOOKUP(F12,'ORÇAMENTO SINTETICO'!$D$12:$H$12,5,FALSE) -> #N/A | J12: =I12/$I$42 -> #N/A
B13: 03. | F13: SERVICOS COMPLEMENTARES | I13: =VLOOKUP(F13,'ORÇAMENTO SINTETICO'!$D$12:$H$12,5,FALSE) -> #N/A | J13: =I13/$I$42 -> #N/A
B14: 04. | F14: SERVICOS AUXILIARES ADMINISTRA TIVOS | I14: =VLOOKUP(F14,'ORÇAMENTO SINTETICO'!$D$12:$H$12,5,FALSE) -> #N/A | J14: =I14/$I$42 -> #N/A
B15: 05. | F15: DEPOSITO E OFICINA 02 | I15: =VLOOKUP(F15,'ORÇAMENTO SINTETICO'!$D$12:$H$12,5,FALSE) -> #N/A | J15: =I15/$I$42 -> #N/A
B16: 06. | F16: BIBLIOTECA, LABORATÓRIO INFORMÁTICA, SALAS DE TREINAMENTO, SALA SIMULADOR EMPILHADEIRA E OFICINA 01 | I16: =VLOOKUP(F16,'ORÇAMENTO SINTETICO'!$D$12:$H$12,5,FALSE) -> #N/A | J16: =I16/$I$42 -> #N/A
B17: 07. | F17: SALA DO SIMULADOR | I17: =VLOOKUP(F17,'ORÇAMENTO SINTETICO'!$D$12:$H$12,5,FALSE) -> #N/A | J17: =I17/$I$42 -> #N/A
B18: 08. | F18: COFFEE BREACK | I18: =VLOOKUP(F18,'ORÇAMENTO SINTETICO'!$D$12:$H$12,5,FALSE) -> #N/A | J18: =I18/$I$42 -> #N/A
B19: 09. | F19: BANHEIRO PCD | I19: =VLOOKUP(F19,'ORÇAMENTO SINTETICO'!$D$12:$H$12,5,FALSE) -> #N/A | J19: =I19/$I$42 -> #N/A
B20: 10. | F20: HALL ACESSO / BANHEIRO PCD | I20: =VLOOKUP(F20,'ORÇAMENTO SINTETICO'!$D$12:$H$12,5,FALSE) -> #N/A | J20: =I20/$I$42 -> #N/A
B21: 11. | F21: BANHEIRO MASCULINO | I21: =VLOOKUP(F21,'ORÇAMENTO SINTETICO'!$D$12:$H$12,5,FALSE) -> #N/A | J21: =I21/$I$42 -> #N/A
B22: 12. | F22: BANHEIRO FEMININO | I22: =VLOOKUP(F22,'ORÇAMENTO SINTETICO'!$D$12:$H$12,5,FALSE) -> #N/A | J22: =I22/$I$42 -> #N/A
... B40: 30. | F40: INSTALACOES | I40: =VLOOKUP(F40,'ORÇAMENTO SINTETICO'!$D$12:$H$12,5,FALSE) -> #N/A | J40: =I40/$I$42 -> #N/A
G42: TOTAL: | I42: =SUM(I11:I40) -> #N/A
G43: BDI: | H43: 0.3541 | I43: =TRUNC((I42*$H$43),2) -> #N/A
G44: TOTAL GERAL: | I44: =I42+I43 -> #N/A

Sheet Leis Sociais
A5: =CAPA!A2 -> PREFEITURA MUNICIPAL DE TUNÁPOLIS - SC
A6: ENCARGOS SOCIAIS
A8: Leis Sociais Desoneradas (referência horista e mensalista SINAPI): LS
B9: Horista: | C9: 0.8444 | E9: Mensalista: | F9: 0.4748
A10: Benefícios e Despesas Indiretas: BDI | H10: ='Anexo BDI'!D26 -> 0.23535496

Sheet Anexo BDI
A5: PREFEITURA MUNICIPAL DE TUNÁPOLIS - SC
A6: REFORMA DO MUSEU PÚBLICO MUNICIPAL IDA SCHNEIDER
A7: TAXAS: COMPOSIÇÃO - LEIS SOCIAIS E BDI
A9: BONIFICAÇÃO E DESPESAS INDIRETAS - BDI
A12: Item | B12: LEIS SOCIAIS (LS) - SINAPI
A13: 1 | B13: HORISTA (taxa já inclusa nos valores unitários de mão-de-obra) | C13: LS | D13: ='Leis Sociais'!C9 -> 0.8444
A14: 2 | B14: MENSALISTA (taxa já inclusa nos valores unitários de mão-de-obra) | D14: ='Leis Sociais'!F9 -> 0.4748
A16: Item | B16: BONIFICAÇÃO DE DESPESAS INDIRETAS - BDI
A17: 1 | B17: RISCO | C17: R | D17: 0.0127
A18: 2 | B18: SEGUROS + GARANTIAS | C18: SG | D18: 0.008
A19: 3 | B19: DESPESAS FINANCEIRAS | C19: DF | D19: 0.0123
A20: 4 | B20: ADMINISTRAÇÃO CENTRAL | C20: AC | D20: 0.04
A21: 5 | B21: LUCRO | C21: L | D21: 0.074
A22: 6 | B22: COFINS | C22: I | D22: 0.03
A23: 7 | B23: PIS | D23: 0.0065
A24: 8 | B24: CPRB | D24: 0
A25: 9 | B25: ISS | D25: 0.03
A26: Fórmula: | B26: BDI = { [ (1+(R+S+G+AC)).(1+DF).(1+L) ] -1 } x 100 1 - ( I ) | C26: BDI = | D26: =(((1+(D17+D18+D20))*(1+D19)*(1+D21))/(1-(SUM(D22:D25))))-1 -> 0.23535496

Sheet ORÇAMENTO SINTETICO
A1: #VALUE! | C1: PREFEITURA MUNICIPAL DE TUNÁPOLIS - SC
A5: OBRA: | D5: PROJETO DE REFORMA DO MUSEU PÚBLICO MUNICIPAL IDA SCHNEIDER
A6: ENDEREÇO: | D6: RUA JOÃO CASTILHO, 298, CENTRO | E6: REVISÃO: | G6: =CAPA!F11 -> 0
A7: RESPONSÁVEL TÉCNICO ORÇAMENTO: | D7: =RESUMO!G7 -> NASSER - CREA/MG | E7: DATA: | G7: 46161
A8: ART: | D8: =RESUMO!H8 -> 0 | E8: BASE ORÇAMENTO: | G8: SINAPI SINCRO DESONERADA
A9: PLANILHA ORÇAMENTÁRIA SINTÉTICA - MUSEU PÚBLICO MUNICIPAL IDA SCHNEIDER | E9: TABELAS REFERÊNCIAS: SINAPI, SICRO DESONERADA
A10: ITEM | B10: BASE COMP. | C10: CÓDIGO | D10: DESCRIÇÃO DO SERVIÇO | E10: UND | F10: QUANT. | G10: R$ UNIT | H10: VALOR TOTAL
A12: 01. | D12: CUSTOS GERAIS | H12: =SUM(,H13,H15,H41,H65) -> 63377.527
A13: 01.02 | D13: PLACA DA OBRA | H13: =H14 -> 1437.47
A14: 01.02.01 | B14: SINAPI | C14: 103689 | D14: FORNECIMENTO E INSTALAÇÃO DE PLACA DE OBRA COM CHAPA GALVANIZADA E ESTRUTURA DE MADEIRA. AF_03/2022_PS | E14: M2 | F14: 2.88 | G14: 499.12 | H14: =ROUND(F14*G14,2) -> 1437.47
A15: 02. | D15: SALA 1 | H15: =SUM(H16,H20,H24,H29,H36,) -> 27775.191
A16: 02.01.01 | D16: PORTAS | H16: =SUM(H17:H19) -> 5852.8662
A17: 02.01.02 | B17: SINAPI | C17: 97644 | D17: REMOÇÃO DE PORTAS, DE FORMA MANUAL, SEM REAPROVEITAMENTO. AF_09/2023 | E17: M2 | F17: 2.1 | G17: 11.39 | H17: =F17*G17 -> 23.919
A18: 02.01.03 | B18: SINAPI | C18: 100702 | D18: PORTA DE CORRER DE ALUMÍNIO, COM DUAS FOLHAS PARA VIDRO, INCLUSO VIDRO LISO INCOLOR, FECHADURA E PUXADOR, SEM ALIZAR. AF_10/2025 | E18: M2 | F18: 4.8 | G18: 818.71 | H18: =F18*G18 -> 3929.808
A19: 02.01.04 | B19: SINAPI | C19: 4914 | D19: PORTA DE ABRIR EM ALUMINIO COM LAMBRI HORIZONTAL/LAMINADA, ACABAMENTO ANODIZADO NATURAL, SEM GUARNICAO/ALIZAR/VISTA | E19: M2 | F19: 1.68 | G19: 1130.44 | H19: =F19*G19 -> 1899.1392
A20: 02.02 | D20: JANELAS | H20: =SUM(H21:H23) -> 7036.137
A21: 02.02.01 | B21: SINAPI | C21: 97645 | D21: REMOÇÃO DE JANELAS, DE FORMA MANUAL, SEM REAPROVEITAMENTO. AF_09/2023 | E21: M2 | F21: 12.5 | G21: 29.41 | H21: =F21*G21 -> 367.625
A22: 02.02.02 | B22: SINAPI | C22: 94570 | D22: JANELA DE ALUMÍNIO DE CORRER COM 2 FOLHAS PARA VIDROS (VIDROS INCLUSOS), BATENTE/ REQUADRO 6 A 14 CM, ACABAMENTO COM ACETATO OU BRILHANTE, FIXAÇÃO COM PARAFUSO, SEM GUARNIÇÃO/ ALIZAR, DIMENSÕES 100X120 CM, VEDAÇÃO COM SILICONE, EXCLUSIVE CONTRAMARCO - FORNECIMENTO E INSTALAÇÃO. AF_11/2024 | E22: M2 | F22: 12.8 | G22: 406.54 | H22: =F22*G22 -> 5203.712
A23: 02.02.03 | B23: SINAPI | C23: 101965 | D23: PEITORIL LINEAR EM GRANITO OU MÁRMORE, L = 15CM, ASSENTADO COM ARGAMASSA 1:6 COM ADITIVO. AF_11/2020 | E23: M | F23: 8 | G23: 183.1 | H23: =F23*G23 -> 1464.8
A24: 02.03 | D24: PISO | H24: =SUM(H25:H28) -> 8433.6935
A25: 02.03.01 | B25: SINAPI | C25: 97633 | D25: DEMOLIÇÃO DE REVESTIMENTO CERÂMICO, DE FORMA MANUAL, SEM REAPROVEITAMENTO. AF_09/2023 | E25: M2 | F25: 46.65 | G25: 27.16 | H25: =F25*G25 -> 1267.014
A26: 02.03.02 | B26: SINAPI | C26: 87622 | D26: CONTRAPISO EM ARGAMASSA TRAÇO 1:4 (CIMENTO E AREIA), PREPARO MANUAL, APLICADO EM ÁREAS SECAS SOBRE LAJE, ADERIDO, ACABAMENTO NÃO REFORÇADO, ESPESSURA 2CM. AF_07/2021 | E26: M2 | F26: 46.65 | G26: 41.66 | H26: =F26*G26 -> 1943.439
A27: 02.03.03 | B27: SINAPI | C27: 87263 | D27: REVESTIMENTO CERÂMICO PARA PISO COM PLACAS TIPO PORCELANATO DE DIMENSÕES 60X60 CM APLICADA EM AMBIENTES DE ÁREA MAIOR QUE 10 M². AF_02/2023_PE | E27: M2 | F27: 46.65 | G27: 105.97 | H27: =F27*G27 -> 4943.5005
A28: 02.03.04 | B28: SINAPI | C28: 98689 | D28: SOLEIRA EM GRANITO, LARGURA 15 CM, ESPESSURA 2,0 CM. AF_02/2026 | E28: M | F28: 2 | G28: 139.87 | H28: =F28*G28 -> 279.74
A29: 02.04 | D29: VEDAÇÕES | H29: =SUM(H30:H35) -> 2686.2646
A30: 02.04.01 | B30: SINAPI | C30: 97622 | D30: DEMOLIÇÃO DE ALVENARIA DE BLOCO FURADO, DE FORMA MANUAL, SEM REAPROVEITAMENTO. AF_09/2023 | E30: M3 | F30: 1.31 | G30: 67.08 | H30: =F30*G30 -> 87.8748
A31: 02.04.02 | B31: SINAPI | C31: 103355 | D31: ALVENARIA DE VEDAÇÃO DE BLOCOS CERÂMICOS FURADOS NA HORIZONTAL DE 11,5X14X24 CM (ESPESSURA 11,5 CM) E ARGAMASSA DE ASSENTAMENTO COM PREPARO MANUAL. AF_12/2021 | E31: M2 | F31: 6.85 | G31: 107.69 | H31: =F31*G31 -> 737.6765
A32: 02.04.03 | B32: SINAPI | C32: 87878 | D32: CHAPISCO APLICADO EM ALVENARIAS E ESTRUTURAS DE CONCRETO INTERNAS, COM COLHER DE PEDREIRO. ARGAMASSA TRAÇO 1:3 COM PREPARO MANUAL. AF_10/2022 | E32: M2 | F32: 13.7 | G32: 5.86 | H32: =F32*G32 -> 80.282
A33: 02.04.04 | B33: SINAPI | C33: 87368 | D33: ARGAMASSA TRAÇO 1:1,5:7,5 (EM VOLUME DE CIMENTO, CAL E AREIA MÉDIA ÚMIDA) PARA EMBOÇO/MASSA ÚNICA/ASSENTAMENTO DE ALVENARIA DE VEDAÇÃO, PREPARO MANUAL. AF_08/2019 | E33: M3 | F33: 0.274 | G33: 781.61 | H33: =G33*F33 -> 214.16114
A34: 02.04.05 | B34: SINAPI | C34: 88495 | D34: EMASSAMENTO COM MASSA LÁTEX, APLICAÇÃO EM PAREDE, UMA DEMÃO, LIXAMENTO MANUAL. AF_04/2023 | E34: M2 | F34: 57.86 | G34: 13.49 | H34: =F34*G34 -> 780.5314
A35: 02.04.06 | B35: SINAPI | C35: 88489 | D35: PINTURA LÁTEX ACRÍLICA PREMIUM, APLICAÇÃO MANUAL EM PAREDES, DUAS DEMÃOS. AF_04/2023 | E35: M2 | F35: 57.86 | G35: 13.58 | H35: =F35*G35 -> 785.7388
A36: 02.05 | D36: TETO | H36: =SUM(H37:H40) -> 3766.23
A37: 02.05.01 | B37: SINAPI | C37: 97640 | D37: REMOÇÃO DE FORROS DE DRYWALL, PVC E FIBROMINERAL, DE FORMA MANUAL, SEM REAPROVEITAMENTO. AF_09/2023 | E37: M2 | F37: 46.65 | G37: 2.35 | H37: =F37*G37 -> 109.6275
A38: 02.05.02 | B38: SINAPI | C38: 96486 | D38: FORRO EM RÉGUAS DE PVC, LISO, PARA AMBIENTES COMERCIAIS, INCLUSIVE ESTRUTURA BIDIRECIONAL DE FIXAÇÃO. AF_08/2023_PS | E38: M2 | F38: 46.65 | G38: 74.65 | H38: =F38*G38 -> 3482.4225
A39: 02.05.03 | B39: SINAPI | C39: 97665 | D39: REMOÇÃO DE LUMINÁRIAS, DE FORMA MANUAL, SEM REAPROVEITAMENTO. AF_09/2023 | E39: UN | F39: 4 | G39: 2.34 | H39: =F39*G39 -> 9.36
A40: 02.05.04 | B40: SINAPI | C40: 103785 | D40: LUMINÁRIA TIPO PLAFON QUADRADA, DE SOBREPOR, COM LED DE 24 W - FORNECIMENTO E INSTALAÇÃO. AF_09/2024 | E40: UN | F40: 6 | G40: 27.47 | H40: =F40*G40 -> 164.82
A41: 03. | D41: SALA 2 | H41: =SUM(H42,H45,H49,H53,H60) -> 19717.563
A42: 03.01 | D42: PORTAS | H42: =SUM(H43:H44) -> 1918.2744
A43: 03.01.01 | B43: SINAPI | C43: 97644 | D43: REMOÇÃO DE PORTAS, DE FORMA MANUAL, SEM REAPROVEITAMENTO. AF_09/2023 | E43: M2 | F43: 1.68 | G43: 11.39 | H43: =F43*G43 -> 19.1352
A44: 03.01.02 | B44: SINAPI | C44: 4914 | D44: PORTA DE ABRIR EM ALUMINIO COM LAMBRI HORIZONTAL/LAMINADA, ACABAMENTO ANODIZADO NATURAL, SEM GUARNICAO/ALIZAR/VISTA | E44: M2 | F44: 1.68 | G44: 1130.44 | H44: =F44*G44 -> 1899.1392
...

Sheet ORC ANALITICO
E1: SERIVÇO SOCIAL DO TRANSPORTE SERVIÇO NACIONAL DE APRENDIZAGEM DO TRANSPORTE | K1: REVISÃO: | M1: =CAPA!H6 -> 0
K2: DATA: | M2: =CAPA!G10 -> 0
K3: BASE ORÇAMENTO: | M3: =CAPA!I13 -> 0
B5: OBRA: | E5: =RESUMO!C5 -> 0 | K5: TABELAS REFERÊNCIAS: SINAPI, SEINFRA, ORSE, SUDECAP, SETOP, SCO, CREA, COMPESA E CELPE
B6: ENDEREÇO: | E6: =RESUMO!C6 -> 0
B7: RESPONSÁVEL TÉCNICO ORÇAMENTO: | E7: =RESUMO!D7 -> 0
B8: ART: | E8: =RESUMO!E8 -> 0
B9: PLANILHA ORÇAMENTÁRIA ANALÍTICA
A10: L | B10: ITEM | F10: UND | G10: QUANT | H10: R$ UNIT | I10: R$ CUSTO TOTAL | K10: Descricao | L10: UND | M10: R$ UNIT | N10: INDICE | O10: QUANT NO ITEM | P10: TOTAL NO ITEM
A11: L
A12: L | B12: 01. | E12: SERVICIOS GERAIS
A13: L | B13: 01.01. | E13: SERVIOS TECNICOS-PROFISSIONAIS
A14: L | B14: 01.01.01. | E14: RELATORIO E MANUAL PROPRIET.
A15: L | B15: 01.01.01.01. | C15: SINAPI | D15: 90770 | E15: ARQUITETO DE OBRA SENIOR COM ENCARGOS COMPLEMENTARES | F15: H | G15: 220 | H15: 100.33 | I15: 22072.6 | J15: SINAPI - 88237 | K15: EPI (ENCARGOS COMPLEMENTARES) - HORISTA | L15: H | M15: 0.86 | N15: 0.05 | O15: 11 | P15: 8.8
A16: L | J16: SINAPI - 95396 | K16: CURSO DE CAPACITAÇÃO PARA ARQUITETO DE OBRA SÊNIOR (ENCARGOS COMPLEMENTARES) - HORISTA | L16: H | M16: 0.67 | N16: 1 | O16: 220 | P16: 147.4
A17: L | J17: SINAPI - 33953 | K17: ARQUITETO SENIOR | L17: H | M17: 99.27 | N17: 1 | O17: 220 | P17: 21839.4
A18: L | J18: SINAPI - 37372 | K18: EXAMES - HORISTA (COLETADO CAIXA) | L18: H | M18: 0.34 | N18: 1 | O18: 220 | P18: 74.8
A19: L | J19: SINAPI - 37373 | K19: SEGURO - HORISTA (COLETADO CAIXA) | L19: H | M19: 0.01 | N19: 1 | O19: 220 | P19: 2.2
A20: L
A21: L
A22: L
A23: L
A24: L
A25: L
A26: L
A27: L
A28: L
A29: L
A30: L
A31: L
... A872: L

Sheet COTAÇÕES
A1: #VALUE! | B1: MAPA DE COTAÇÃO PROJETO DE REFORMA DO MUSEU PÚBLICO MUNICIPAL IDA SCHNEIDER PREÇOS DESONERADOS
A2: CONTRATANTE: | B2: PREFEITURA MUNICIPAL DE TUNÁPOLIS - SC
A3: CONTRATADA: | B3: VERUM ENGENHARIA E CONSULTORIA
A4: N° Contrato: | D4: BDI Diferencial:
A5: Planilhas Referência: | B5: SINAPI e SINCRO | D5: Data : | E5: =TODAY() -> 46245
A6: Data Base: | B6: MARÇO/2026 | D6: Versão: | E6: R.01
A7: BDI: | B7: ='Anexo BDI'!D26 -> 0.23535496
A8: ##0001 | B8: Forro de alumínio lambri ripado - perfil 6m alumínio liga 6060 | F8: UN | G8: M2
A9: DATA | B9: EMPRESA | C9: CNPJ | D9: TIPO | E9: CONTATO | F9: OBSERVAÇÃO | G9: VALOR (R$)
A10: 46161 | B10: Bogoni Aluminios Ltda | C10: 04.224.629/0001-76 | E10: https://www.bogonialuminios.com.br/lb015-perfil-aluminio-lambri-ripado-6-metros?utm_source=google&utm_medium=shopping&utm_campaign=lb015-perfil-aluminio-lambri-ripado-6-metros&inStock&gad_source=4&gad_campaignid=21375467653&gbraid=0AAAAADkoshqYv58WvoZcf76qo__S9FAAD&gclid=EAIaIQobChMIpIyywcLFlAMVVExIAB2AmDISEAQYAiABEgLr6fD_BwE#derivacao=434 | G10: 671.14
A11: 46161 | B11: Caraíba Alumínio | C11: 25.166.424/0002-32 | E11: https://www.mercadolivre.com.br/promocao-de-painel-ripado-em-aluminio-amadeirado/up/MLBU2320017643?pdp_filters=item_id%3AMLB3698729324&from=gshop&matt_tool=77625077&matt_word=&matt_source=google&matt_campaign_id=22120855431&matt_ad_group_id=179138689131&matt_match_type=&matt_network=g&matt_device=c&matt_creative=729092955298&matt_keyword=&matt_ad_position=&matt_ad_type=pla&matt_merchant_id=666865838&matt_product_id=MLBU2320017643&matt_product_partition_id=2392813519383&matt_target_id=pla-2392813519383&cq_src=google_ads&cq_cmp=22120855431&cq_net=g&cq_plt=gp&cq_med=pla&gad_source=4&gad_campaignid=22120855431&gbraid=0AAAAAD93qcCD8p9bO3FJgqvZwAKIwiCBB&gclid=EAIaIQobChMIpIyywcLFlAMVVExIAB2AmDISEAQYASABEgLxFvD_BwE | G11: 649.26

Sheet MEMORIA
C1: SERIVIÇO SOCIAL DO TRANSPORTE SERVIÇO NACIONAL DE APRENDIZAGEM DO TRANSPORTE | E1: REVISÃO: | H1: =CAPA!F6 -> 0
E2: DATA: | H2: =CAPA!E10 -> 46161
E3: BASE ORÇAMENTO: | H3: =CAPA!G13 -> 0
A5: OBRA: | D5: =RESUMO!F5 -> Reforma / Obra - PREFEITURA MUNICIPAL DE TUNÁPOLIS - SC | E5: TABELAS REFERÊNCIAS: SINAPI, SEINFRA, ORSE, SUDECAP, SETOP, SCO, CREA, COMPESA E CELPE
A6: ENDEREÇO: | D6: =RESUMO!F6 -> ENDEREÇO: RUA JOÃO CASTILHO, 298, CENTRO, TUNÁPOLIS - SC
A7: RESPONSÁVEL TÉCNICO ORÇAMENTO: | D7: =RESUMO!G7 -> NASSER - CREA/MG
A8: ART: | D8: =RESUMO!H8 -> 0
A9: PLANILHA ORÇAMENTÁRIA SINTÉTICA
A10: ITEM | B10: BASE COMP. | C10: CÓDIGO | D10: DESCRIÇÃO DO SERVIÇO | E10: UND | F10: QUANT. | G10: MEMÓRIA | H10: OBSERVAÇÃO
A12: ='ORÇAMENTO SINTETICO'!A12 -> 01. | D12: ='ORÇAMENTO SINTETICO'!D12 -> CUSTOS GERAIS
A13: ='ORÇAMENTO SINTETICO'!#REF! -> #REF! | D13: ='ORÇAMENTO SINTETICO'!#REF! -> #REF!
A14: ='ORÇAMENTO SINTETICO'!#REF! -> #REF! | B14: ='ORÇAMENTO SINTETICO'!#REF! -> #REF! | C14: ='ORÇAMENTO SINTETICO'!#REF! -> #REF! | D14: ='ORÇAMENTO SINTETICO'!#REF! -> #REF! | E14: ='ORÇAMENTO SINTETICO'!#REF! -> #REF!
A15: ='ORÇAMENTO SINTETICO'!A13 -> 01.02 | B15: ='ORÇAMENTO SINTETICO'!B13 -> 0 | C15: ='ORÇAMENTO SINTETICO'!C13 -> 0 | D15: ='ORÇAMENTO SINTETICO'!D13 -> PLACA DA OBRA | E15: ='ORÇAMENTO SINTETICO'!E13
A16: ='ORÇAMENTO SINTETICO'!A14 -> 01.02.01 | B16: ='ORÇAMENTO SINTETICO'!B14 -> SINAPI | C16: ='ORÇAMENTO SINTETICO'!C14 -> 103689 | D16: ='ORÇAMENTO SINTETICO'!D14 -> FORNECIMENTO E INSTALAÇÃO DE PLACA DE OBRA COM CHAPA GALVANIZADA E ESTRUTURA DE MADEIRA. AF_03/2022_PS | E16: ='ORÇAMENTO SINTETICO'!E14 -> M2
A17: ='ORÇAMENTO SINTETICO'!#REF! -> #REF! | B17: ='ORÇAMENTO SINTETICO'!#REF! -> #REF! | C17: ='ORÇAMENTO SINTETICO'!#REF! -> #REF! | D17: ='ORÇAMENTO SINTETICO'!#REF! -> #REF! | E17: ='ORÇAMENTO SINTETICO'!#REF! -> #REF!
A18: ='ORÇAMENTO SINTETICO'!#REF! -> #REF! | B18: ='ORÇAMENTO SINTETICO'!#REF! -> #REF! | C18: ='ORÇAMENTO SINTETICO'!#REF! -> #REF! | D18: ='ORÇAMENTO SINTETICO'!#REF! -> #REF! | E18: ='ORÇAMENTO SINTETICO'!#REF! -> #REF!
A19: ='ORÇAMENTO SINTETICO'!#REF! -> #REF! | B19: ='ORÇAMENTO SINTETICO'!#REF! -> #REF! | C19: ='ORÇAMENTO SINTETICO'!#REF! -> #REF! | D19: ='ORÇAMENTO SINTETICO'!#REF! -> #REF! | E19: ='ORÇAMENTO SINTETICO'!#REF! -> #REF!
A20: ='ORÇAMENTO SINTETICO'!#REF! -> #REF! | B20: ='ORÇAMENTO SINTETICO'!#REF! -> #REF! | C20: ='ORÇAMENTO SINTETICO'!#REF! -> #REF! | D20: ='ORÇAMENTO SINTETICO'!#REF! -> #REF! | E20: ='ORÇAMENTO SINTETICO'!#REF! -> #REF!
A21: ='ORÇAMENTO SINTETICO'!#REF! -> #REF! | B21: ='ORÇAMENTO SINTETICO'!#REF! -> #REF! | C21: ='ORÇAMENTO SINTETICO'!#REF! -> #REF! | D21: ='ORÇAMENTO SINTETICO'!#REF! -> #REF! | E21: ='ORÇAMENTO SINTETICO'!#REF! -> #REF!
A22: ='ORÇAMENTO SINTETICO'!#REF! -> #REF! | B22: ='ORÇAMENTO SINTETICO'!#REF! -> #REF! | C22: ='ORÇAMENTO SINTETICO'!#REF! -> #REF! | D22: ='ORÇAMENTO SINTETICO'!#REF! -> #REF! | E22: ='ORÇAMENTO SINTETICO'!#REF! -> #REF!
E26: TOTAL:
E27: BDI: | F27: 0.3541
E29: TOTAL GERAL:

Sheet ITENS E MOD
A3: ITENS/MÓDULOS | B3: GUARITA | C3: MÓDULO TREINAMENTO | D3: MÓDULO CULTURAL | E3: PASSARELA | F3: MÓDULO SAÚDE | G3: MÓDULO RESTAURANTE | H3: MÓDULO ADMINISTRAÇÃO | I3: ÁREA EXTERNA | J3: CAMPO | K3: GERADOR E SUBESTAÇÃO | L3: NÚCLEO CENTRAL | M3: PISCINA | N3: OFICINA PEDAGÓGICA | O3: COBERTURA | P3: CALÇADA | Q3: RAMPA | R3: AUDITÓRIO | S3: CASTELA DÁGUA | T3: DECK
A4: CLIMATIZAÇÃO | B4: X | C4: X | D4: X | E4: X | F4: X | G4: X
A5: CONTENÇÃO
A6: DRENAGEM | G6: X | I6: X | J6: X | K6: X | L6: X | M6: X | N6: X | O6: X | P6: X
A7: ELÉTRICO
A8: ENGRADAMENTO | B8: X | C8: X | D8: X | F8: X | G8: X | H8: X | N8: X | O8: X
A9: ESTRUTURAL | B9: X | K9: X | P9: X | Q9: X | R9: X | S9: X | T9: X
A10: GÁS | B10: X | C10: X | D10: X | E10: X | F10: X | G10: X | H10: X | N10: X
A11: HIDRÁULICO | B11: X | C11: X | D11: X | E11: X | F11: X | H11: X | N11: X
A12: PCIP | B12: X | C12: X | D12: X | F12: X | G12: X | H12: X | I12: X | N12: X
A13: REDE ESTRUTURADA | C13: X | E13: X | F13: X | G13: X | H13: X | I13: X | N13: X
A14: SANITÁRIO | B14: X | C14: X | D14: X | E14: X | G14: X | H14: X | N14: X
A15: SPDA | B15: X | C15: X | D15: X | E15: X | F15: X | G15: X | H15: X | N15: X | R15: X | S15: X | T15: X

Sheet CONTROLE
A3: MÓDULOS | ITENS | B3: CLIMATIZAÇÃO | C3: CONTENÇÃO | D3: DRENAGEM | E3: ELÉTRICO | F3: ENGRADAMENTO | G3: ESTRUTURAL | H3: GÁS | I3: HIDRÁULICO | J3: PCIP | K3: REDE ESTRUTURADA | L3: SANITÁRIO | M3: SPDA | N3: ARQUITETÔNICO
A4: GUARITA | B4: X | E4: X | F4: X | I4: X | J4: X | K4: X | M4: X
A5: TREINAMENTO | B5: X | E5: X | F5: X | I5: X | J5: X | K5: X | L5: X | M5: X
A6: CULTURAL | B6: X | E6: X | F6: X | I6: X | J6: X | K6: X | L6: X | M6: X
A7: PASSARELA | B7: X | E7: X (ADM) | K7: X | M7: X
A8: SAÚDE | B8: X | E8: X | F8: X | H8: X | I8: X | J8: X | K8: X | L8: X | M8: X
A9: RESTAURANTE | B9: X | E9: X | F9: X | I9: X | J9: X | K9: X | L9: X | M9: X
A10: ADMINISTRAÇÃO | E10: X (PASSAR.) | F10: X | I10: X | J10: X | K10: X | L10: X | M10: X
A11: ÁREA EXTERNA | E11: X | J11: X | K11: X | L11: X
A12: CAMPO | E12: X (2)
A13: GERADOR E SUB
A14: CENTRAL
A15: PISCINA
A16: OFIC. PEDAGÓGICA | E16: X | F16: X | I16: X | J16: X | K16: X | L16: X
A17: COBERTURA | F17: X
A18: CALÇADA
A19: RAMPA
A20: AUDITÓRIO | M20: X
A21: CASTELO D'ÁGUA | M21: X
A22: DECK | M22: X
A23: QUIOSQUES | E23: X | I23: X
A24: I. S. QUADRA | E24: X (2) | I24: X

Sheet Plan2
C2: CA0001 | D2: 97141
C3: CA0002 | D3: 97142
C4: CA0003 | D4: 97143
C5: CA0004 | D5: 97144
C6: CA0005 | D6: 97145
C7: CA0006 | D7: 97146
C8: CA0007 | D8: 97147
C9: CA0008 | D9: 97148
C10: CA0009 | D10: 97149
C11: CA0010 | D11: 97150
C12: CA0011 | D12: 97151
C13: CA0012 | D13: 97152
... C286: CA0285 | D286: 98462
C287: CA0286 | D287: 74209/1
C288: CA0287 | D288: 5631
C289: CA0288 | D289: 5678
C290: CA0289 | D290: 5680
C291: CA0290 | D291: 5684
C292: CA0291 | D292: 5689
C293: CA0292 | D293: 5795
C294: CA0293 | D294: 5811
C295: CA0294 | D295: 5823
C296: CA0295 | D296: 5824
C297: CA0296 | D297: 5835
C298: CA0297 | D298: 5839
C299: CA0298 | D299: 5843
... C1211: CA1210 | D1211: 94218
C1212: CA1211 | D1212: 73866/4
C1213: CA1212 | D1213: 73866/5
C1214: CA1213 | D1214: 73866/6
C1215: CA1214 | D1215: 73866/7
C1216: CA1215 | D1216: 73866/8
C1217: CA1216 | D1217: 73866/9
C1218: CA1217 | D1218: 73867/1
C1219: CA1218 | D1219: 73867/2
C1220: CA1219 | D1220: 73867/3
C1221: CA1220 | D1221: 73867/4
C1222: CA1221 | D1222: 75220
C1223: CA1222 | D1223: 94213
C1224: CA1223 | D1224: 94216
...

Sheet COMPOSIÇÃO
B1: #VALUE!
B6: CLIENTE: | C6: PREFEITURA MUNICIPAL DE TUNÁPOLIS - SC | H6: DATA: | I6: 46161
B7: OBRA: | C7: PROJETO DE REFORMA DO MUSEU PÚBLICO MUNICIPAL IDA SCHNEIDER | H7: REVISÃO:
B8: LOCAL: AV. | C8: RUA JOÃO CASTILHO, 298, CENTRO | H8: BDI:
B9: MUNICÍPIO: | C9: TUNÁPOLIS - SC | H9: ENCARGOS SOCIAIS:
B10: ÁREA: | M10: PLANILHA EXEMPLO DE COMPOSIÇÕES RETIRADA DE ORÇAMENTO DA UO FLORIANÓPOLIS
B12: COMPOSIÇÕES UNITÁRIAS
B14: ITEM | E14: DESCRIÇÃO | I14: UNIDADE
A15: CODIGO E BANCO BASE UTILIZADO COMO REFERÊNCIA | B15: CPU 01 | I15: UNIDADE
B16: FONTE | C16: ITEM | D16: CÓDIGO | E16: DESCRIÇÃO | F16: UNID | G16: COEF. | H16: PREÇO
H17: UNITÁRIO | I17: TOTAL
H20: CUSTO UNITÁRIO MATERIAL | I20: =SUM(I19:I19) -> 0
H24: CUSTO UNITÁRIO MDO | I24: =SUM(I22:I23) -> 0
B26: RESUMO DO CUSTO
G27: CUSTO UNITÁRIO MATERIAL | H27: CUSTO UNITÁRIO MDO | I27: TOTAL
C28: CPU 01 | G28: =I20 -> 0 | H28: =I24 -> 0 | I28: =SUM(G28:H28) -> 0
B29: Descrição de como foi feita a composição

Sheet CURVA ABC
A1: #VALUE!
E2: 20% DO TOTAL DA OBRA
E3: 21% A 40% DO TOTAL DA OBRA
E4: 40% A 100% DO TOTAL DA OBRA
A6: OBRA: REFORMA DO MUSEU PÚBLICO MUNICIPAL IDA SCHNEIDER
A7: ENDEREÇO: RUA JOÃO CASTILHO, 298, CENTRO, TUNÁPOLIS - SC
A8: RESPONSÁVEL TÉCNICO ORÇAMENTO:
A9: ART:
A10: CURVA ABC DE SERVIÇO
A11: Codigo | B11: Descricao | C11: Unid | D11: Qtde | E11: Preco Unit. | F11: Preco Tot | G11: % | H11: % Acum.
A13: ='ORÇAMENTO SINTETICO'!#REF! -> #REF! | B13: ='ORÇAMENTO SINTETICO'!#REF! -> #REF! | C13: ='ORÇAMENTO SINTETICO'!#REF! -> #REF! | D13: 0 | E13: ='ORÇAMENTO SINTETICO'!#REF! -> #REF! | F13: =D13*E13 -> #REF! | G13: =F13/'ORÇAMENTO SINTETICO'!$G$74 -> #REF!
A14: ='ORÇAMENTO SINTETICO'!#REF! -> #REF! | B14: ='ORÇAMENTO SINTETICO'!#REF! -> #REF! | C14: ='ORÇAMENTO SINTETICO'!#REF! -> #REF! | D14: 0 | E14: ='ORÇAMENTO SINTETICO'!#REF! -> #REF! | F14: =D14*E14 -> #REF! | G14: =F14/'ORÇAMENTO SINTETICO'!$G$74 -> #REF!
A15: ='ORÇAMENTO SINTETICO'!#REF! -> #REF! | B15: ='ORÇAMENTO SINTETICO'!#REF! -> #REF! | C15: ='ORÇAMENTO SINTETICO'!#REF! -> #REF! | D15: 0 | E15: ='ORÇAMENTO SINTETICO'!#REF! -> #REF! | F15: =D15*E15 -> #REF! | G15: =F15/'ORÇAMENTO SINTETICO'!$G$74 -> #REF!
A16: ='ORÇAMENTO SINTETICO'!#REF! -> #REF! | B16: ='ORÇAMENTO SINTETICO'!#REF! -> #REF! | C16: ='ORÇAMENTO SINTETICO'!#REF! -> #REF! | D16: 0 | E16: ='ORÇAMENTO SINTETICO'!#REF! -> #REF! | F16: =D16*E16 -> #REF! | G16: =F16/'ORÇAMENTO SINTETICO'!$G$74 -> #REF!
A17: ='ORÇAMENTO SINTETICO'!#REF! -> #REF! | B17: ='ORÇAMENTO SINTETICO'!#REF! -> #REF! | C17: ='ORÇAMENTO SINTETICO'!#REF! -> #REF! | D17: ='ORÇAMENTO SINTETICO'!#REF! -> #REF! | E17: ='ORÇAMENTO SINTETICO'!#REF! -> #REF! | F17: =D17*E17 -> #REF! | G17: =F17/'ORÇAMENTO SINTETICO'!$G$74 -> #REF!
A18: ='ORÇAMENTO SINTETICO'!#REF! -> #REF! | B18: ='ORÇAMENTO SINTETICO'!#REF! -> #REF! | C18: ='ORÇAMENTO SINTETICO'!#REF! -> #REF! | D18: ='ORÇAMENTO SINTETICO'!#REF! -> #REF! | E18: ='ORÇAMENTO SINTETICO'!#REF! -> #REF! | F18: =D18*E18 -> #REF! | G18: =F18/'ORÇAMENTO SINTETICO'!$G$74 -> #REF!
A19: ='ORÇAMENTO SINTETICO'!#REF! -> #REF! | B19: ='ORÇAMENTO SINTETICO'!#REF! -> #REF! | C19: ='ORÇAMENTO SINTETICO'!#REF! -> #REF! | D19: ='ORÇAMENTO SINTETICO'!#REF! -> #REF! | E19: ='ORÇAMENTO SINTETICO'!#REF! -> #REF! | F19: =D19*E19 -> #REF! | G19: =F19/'ORÇAMENTO SINTETICO'!$G$74 -> #REF!
A20: ='ORÇAMENTO SINTETICO'!#REF! -> #REF! | B20: ='ORÇAMENTO SINTETICO'!#REF! -> #REF! | C20: ='ORÇAMENTO SINTETICO'!#REF! -> #REF! | D20: ='ORÇAMENTO SINTETICO'!#REF! -> #REF! | E20: ='ORÇAMENTO SINTETICO'!#REF! -> #REF! | F20: =D20*E20 -> #REF! | G20: =F20/'ORÇAMENTO SINTETICO'!$G$74 -> #REF!
A21: ='ORÇAMENTO SINTETICO'!#REF! -> #REF! | B21: ='ORÇAMENTO SINTETICO'!#REF! -> #REF! | C21: ='ORÇAMENTO SINTETICO'!#REF! -> #REF! | D21: ='ORÇAMENTO SINTETICO'!#REF! -> #REF! | E21: ='ORÇAMENTO SINTETICO'!#REF! -> #REF! | F21: =D21*E21 -> #REF! | G21: =F21/'ORÇAMENTO SINTETICO'!$G$74 -> #REF!
A22: ='ORÇAMENTO SINTETICO'!#REF! -> #REF! | B22: ='ORÇAMENTO SINTETICO'!#REF! -> #REF! | C22: ='ORÇAMENTO SINTETICO'!#REF! -> #REF! | D22: ='ORÇAMENTO SINTETICO'!#REF! -> #REF! | E22: ='ORÇAMENTO SINTETICO'!#REF! -> #REF! | F22: =D22*E22 -> #REF! | G22: =F22/'ORÇAMENTO SINTETICO'!$G$74 -> #REF!
A23: ='ORÇAMENTO SINTETICO'!#REF! -> #REF! | B23: ='ORÇAMENTO SINTETICO'!#REF! -> #REF! | C23: ='ORÇAMENTO SINTETICO'!#REF! -> #REF! | D23: ='ORÇAMENTO SINTETICO'!#REF! -> #REF! | E23: ='ORÇAMENTO SINTETICO'!#REF! -> #REF! | F23: =D23*E23 -> #REF! | G23: =F23/'ORÇAMENTO SINTETICO'!$G$74 -> #REF!
A24: ='ORÇAMENTO SINTETICO'!#REF! -> #REF! | B24: ='ORÇAMENTO SINTETICO'!#REF! -> #REF! | C24: ='ORÇAMENTO SINTETICO'!#REF! -> #REF! | D24: ='ORÇAMENTO SINTETICO'!#REF! -> #REF! | E24: ='ORÇAMENTO SINTETICO'!#REF! -> #REF! | F24: =D24*E24 -> #REF! | G24: =F24/'ORÇAMENTO SINTETICO'!$G$74 -> #REF!
A25: ='ORÇAMENTO SINTETICO'!#REF! -> #REF! | B25: ='ORÇAMENTO SINTETICO'!#REF! -> #REF! | C25: ='ORÇAMENTO SINTETICO'!#REF! -> #REF! | D25: ='ORÇAMENTO SINTETICO'!#REF! -> #REF! | E25: ='ORÇAMENTO SINTETICO'!#REF! -> #REF! | F25: =D25*E25 -> #REF! | G25: =F25/'ORÇAMENTO SINTETICO'!$G$74 -> #REF!
A26: ='ORÇAMENTO SINTETICO'!#REF! -> #REF! | B26: ='ORÇAMENTO SINTETICO'!#REF! -> #REF! | C26: ='ORÇAMENTO SINTETICO'!#REF! -> #REF! | D26: ='ORÇAMENTO SINTETICO'!#REF! -> #REF! | E26: ='ORÇAMENTO SINTETICO'!#REF! -> #REF! | F26: =D26*E26 -> #REF! | G26: =F26/'ORÇAMENTO SINTETICO'!$G$74 -> #REF!
A27: ='ORÇAMENTO SINTETICO'!#REF! -> #REF! | B27: ='ORÇAMENTO SINTETICO'!#REF! -> #REF! | C27: ='ORÇAMENTO SINTETICO'!#REF! -> #REF! | D27: ='ORÇAMENTO SINTETICO'!#REF! -> #REF! | E27: ='ORÇAMENTO SINTETICO'!#REF! -> #REF! | F27: =D27*E27 -> #REF! | G27: =F27/'ORÇAMENTO SINTETICO'!$G$74 -> #REF!
A28: ='ORÇAMENTO SINTETICO'!#REF! -> #REF! | B28: ='ORÇAMENTO SINTETICO'!#REF! -> #REF! | C28: ='ORÇAMENTO SINTETICO'!#REF! -> #REF! | D28: ='ORÇAMENTO SINTETICO'!#REF! -> #REF! | E28: ='ORÇAMENTO SINTETICO'!#REF! -> #REF! | F28: =D28*E28 -> #REF! | G28: =F28/'ORÇAMENTO SINTETICO'!$G$74 -> #REF!
... A70: ='ORÇAMENTO SINTETICO'!#REF! -> #REF! | B70: ='ORÇAMENTO SINTETICO'!#REF! -> #REF! | C70: ='ORÇAMENTO SINTETICO'!#REF! -> #REF! | D70: ='ORÇAMENTO SINTETICO'!#REF! -> #REF! | E70: ='ORÇAMENTO SINTETICO'!#REF! -> #REF! | F70: =D70*E70 -> #REF! | G70: =F70/'ORÇAMENTO SINTETICO'!$G$74 -> #REF!
A71: ='ORÇAMENTO SINTETICO'!#REF! -> #REF! | B71: ='ORÇAMENTO SINTETICO'!#REF! -> #REF! | C71: ='ORÇAMENTO SINTETICO'!#REF! -> #REF! | D71: ='ORÇAMENTO SINTETICO'!#REF! -> #REF! | E71: ='ORÇAMENTO SINTETICO'!#REF! -> #REF! | F71: ='ORÇAMENTO SINTETICO'!#REF! -> #REF! | G71: =F71/'ORÇAMENTO SINTETICO'!$G$74 -> #REF!
A72: ='ORÇAMENTO SINTETICO'!#REF! -> #REF! | B72: ='ORÇAMENTO SINTETICO'!#REF! -> #REF! | C72: ='ORÇAMENTO SINTETICO'!#REF! -> #REF! | D72: ='ORÇAMENTO SINTETICO'!#REF! -> #REF! | E72: ='ORÇAMENTO SINTETICO'!#REF! -> #REF! | F72: =D72*E72 -> #REF! | G72: =F72/'ORÇAMENTO SINTETICO'!$G$74 -> #REF!
A73: ='ORÇAMENTO SINTETICO'!#REF! -> #REF! | B73: ='ORÇAMENTO SINTETICO'!#REF! -> #REF! | C73: ='ORÇAMENTO SINTETICO'!#REF! -> #REF! | D73: ='ORÇAMENTO SINTETICO'!#REF! -> #REF! | E73: ='ORÇAMENTO SINTETICO'!#REF! -> #REF! | F73: =D73*E73 -> #REF! | G73: =F73/'ORÇAMENTO SINTETICO'!$G$74 -> #REF!
A74: ='ORÇAMENTO SINTETICO'!#REF! -> #REF! | B74: ='ORÇAMENTO SINTETICO'!#REF! -> #REF! | C74: ='ORÇAMENTO SINTETICO'!#REF! -> #REF! | D74: ='ORÇAMENTO SINTETICO'!#REF! -> #REF! | E74: ='ORÇAMENTO SINTETICO'!#REF! -> #REF! | F74: =D74*E74 -> #REF! | G74: =F74/'ORÇAMENTO SINTETICO'!$G$74 -> #REF!
A75: ='ORÇAMENTO SINTETICO'!#REF! -> #REF! | B75: ='ORÇAMENTO SINTETICO'!#REF! -> #REF! | C75: ='ORÇAMENTO SINTETICO'!#REF! -> #REF! | D75: ='ORÇAMENTO SINTETICO'!#REF! -> #REF! | E75: ='ORÇAMENTO SINTETICO'!#REF! -> #REF! | F75: =D75*E75 -> #REF! | G75: =F75/'ORÇAMENTO SINTETICO'!$G$74 -> #REF!
A76: ='ORÇAMENTO SINTETICO'!#REF! -> #REF! | B76: ='ORÇAMENTO SINTETICO'!#REF! -> #REF! | C76: ='ORÇAMENTO SINTETICO'!#REF! -> #REF! | D76: ='ORÇAMENTO SINTETICO'!#REF! -> #REF! | E76: ='ORÇAMENTO SINTETICO'!#REF! -> #REF! | F76: =D76*E76 -> #REF! | G76: =F76/'ORÇAMENTO SINTETICO'!$G$74 -> #REF!
A77: ='ORÇAMENTO SINTETICO'!#REF! -> #REF! | B77: ='ORÇAMENTO SINTETICO'!#REF! -> #REF! | C77: ='ORÇAMENTO SINTETICO'!#REF! -> #REF! | D77: ='ORÇAMENTO SINTETICO'!#REF! -> #REF! | E77: ='ORÇAMENTO SINTETICO'!#REF! -> #REF! | F77: =D77*E77 -> #REF! | G77: =F77/'ORÇAMENTO SINTETICO'!$G$74 -> #REF!
A78: ='ORÇAMENTO SINTETICO'!#REF! -> #REF! | B78: ='ORÇAMENTO SINTETICO'!#REF! -> #REF! | C78: ='ORÇAMENTO SINTETICO'!#REF! -> #REF! | D78: ='ORÇAMENTO SINTETICO'!#REF! -> #REF! | E78: ='ORÇAMENTO SINTETICO'!#REF! -> #REF! | F78: =D78*E78 -> #REF! | G78: =F78/'ORÇAMENTO SINTETICO'!$G$74 -> #REF!
A79: ='ORÇAMENTO SINTETICO'!#REF! -> #REF! | B79: ='ORÇAMENTO SINTETICO'!#REF! -> #REF! | C79: ='ORÇAMENTO SINTETICO'!#REF! -> #REF! | D79: ='ORÇAMENTO SINTETICO'!#REF! -> #REF! | E79: ='ORÇAMENTO SINTETICO'!#REF! -> #REF! | F79: =D79*E79 -> #REF! | G79: =F79/'ORÇAMENTO SINTETICO'!$G$74 -> #REF!
A80: ='ORÇAMENTO SINTETICO'!#REF! -> #REF! | B80: ='ORÇAMENTO SINTETICO'!#REF! -> #REF! | C80: ='ORÇAMENTO SINTETICO'!#REF! -> #REF! | D80: ='ORÇAMENTO SINTETICO'!#REF! -> #REF! | E80: ='ORÇAMENTO SINTETICO'!#REF! -> #REF! | F80: =D80*E80 -> #REF! | G80: =F80/'ORÇAMENTO SINTETICO'!$G$74 -> #REF!
A81: ='ORÇAMENTO SINTETICO'!#REF! -> #REF! | B81: ='ORÇAMENTO SINTETICO'!#REF! -> #REF! | C81: ='ORÇAMENTO SINTETICO'!#REF! -> #REF! | D81: ='ORÇAMENTO SINTETICO'!#REF! -> #REF! | E81: ='ORÇAMENTO SINTETICO'!#REF! -> #REF! | F81: =D81*E81 -> #REF! | G81: =F81/'ORÇAMENTO SINTETICO'!$G$74 -> #REF!
A82: ='ORÇAMENTO SINTETICO'!#REF! -> #REF! | B82: ='ORÇAMENTO SINTETICO'!#REF! -> #REF! | C82: ='ORÇAMENTO SINTETICO'!#REF! -> #REF! | D82: ='ORÇAMENTO SINTETICO'!#REF! -> #REF! | E82: ='ORÇAMENTO SINTETICO'!#REF! -> #REF! | F82: =D82*E82 -> #REF! | G82: =F82/'ORÇAMENTO SINTETICO'!$G$74 -> #REF!
A83: ='ORÇAMENTO SINTETICO'!#REF! -> #REF! | B83: ='ORÇAMENTO SINTETICO'!#REF! -> #REF! | C83: ='ORÇAMENTO SINTETICO'!#REF! -> #REF! | D83: ='ORÇAMENTO SINTETICO'!#REF! -> #REF! | E83: ='ORÇAMENTO SINTETICO'!#REF! -> #REF! | F83: =D83*E83 -> #REF! | G83: =F83/'ORÇAMENTO SINTETICO'!$G$74 -> #REF!
...

Sheet SINAPI
A1: PCI.817.01 - CUSTO DE COMPOSIÇÕES - SINTÉTICO DATA DE EMISSÃO: 16/04/2019 00:11:54 DATA DE RT: 13/04/2019
A2: ENCARGOS SOCIAIS DESONERADOS: 86,01%(HORA) 47,91%(MÊS)
A3: ABRANGÊNCIA : NACIONAL LOCALIDADE : RECIFE DATA DE PREÇO : 03/2019 REFERÊNCIA COLETA : MEDIANO
A5: DESCRICAO DA CLASSE | B5: SIGLA DA CLASSE | C5: DESCRICAO DO TIPO 1 | D5: SIGLA DO TIPO 1 | E5: CODIGO DO AGRUPADOR | F5: DESCRICAO DO AGRUPADOR | G5: CODIGO DA COMPOSICAO | H5: DESCRICAO DA COMPOSICAO | I5: UNIDADE | J5: ORIGEM DE PREÇO | K5: CUSTO TOTAL | L5: VINCULO
A7: ASSENTAMENTO DE TUBOS E PECAS | B7: ASTU | C7: FORNEC E/OU ASSENT DE TUBO DE FERRO FUNDIDO JUNTA ELASTICA | D7: 0045 | G7: 97141 | H7: ASSENTAMENTO DE TUBO DE FERRO FUNDIDO PARA REDE DE ÁGUA, DN 80 MM, JUNTA ELÁSTICA, INSTALADO EM LOCAL COM NÍVEL ALTO DE INTERFERÊNCIAS (NÃO INCLUI FORNECIMENTO). AF_11/2017 | I7: M | J7: ATRIBUÍDO SÃO PAULO | K7: 6,95 | L7: CAIXA REFERENCIAL
A8: ASSENTAMENTO DE TUBOS E PECAS | B8: ASTU | C8: FORNEC E/OU ASSENT DE TUBO DE FERRO FUNDIDO JUNTA ELASTICA | D8: 0045 | G8: 97142 | H8: ASSENTAMENTO DE TUBO DE FERRO FUNDIDO PARA REDE DE ÁGUA, DN 100 MM, JUNTA ELÁSTICA, INSTALADO EM LOCAL COM NÍVEL ALTO DE INTERFERÊNCIAS (NÃO INCLUI FORNECIMENTO). AF_11/2017 | I8: M | J8: ATRIBUÍDO SÃO PAULO | K8: 7,75 | L8: CAIXA REFERENCIAL
A9: ASSENTAMENTO DE TUBOS E PECAS | B9: ASTU | C9: FORNEC E/OU ASSENT DE TUBO DE FERRO FUNDIDO JUNTA ELASTICA | D9: 0045 | G9: 97143 | H9: ASSENTAMENTO DE TUBO DE FERRO FUNDIDO PARA REDE DE ÁGUA, DN 150 MM, JUNTA ELÁSTICA, INSTALADO EM LOCAL COM NÍVEL ALTO DE INTERFERÊNCIAS (NÃO INCLUI FORNECIMENTO). AF_11/2017 | I9: M | J9: ATRIBUÍDO SÃO PAULO | K9: 9,74 | L9: CAIXA REFERENCIAL
A10: ASSENTAMENTO DE TUBOS E PECAS | B10: ASTU | C10: FORNEC E/OU ASSENT DE TUBO DE FERRO FUNDIDO JUNTA ELASTICA | D10: 0045 | G10: 97144 | H10: ASSENTAMENTO DE TUBO DE FERRO FUNDIDO PARA REDE DE ÁGUA, DN 200 MM, JUNTA ELÁSTICA, INSTALADO EM LOCAL COM NÍVEL ALTO DE INTERFERÊNCIAS (NÃO INCLUI FORNECIMENTO). AF_11/2017 | I10: M | J10: ATRIBUÍDO SÃO PAULO | K10: 11,72 | L10: CAIXA REFERENCIAL
A11: ASSENTAMENTO DE TUBOS E PECAS | B11: ASTU | C11: FORNEC E/OU ASSENT DE TUBO DE FERRO FUNDIDO JUNTA ELASTICA | D11: 0045 | G11: 97145 | H11: ASSENTAMENTO DE TUBO DE FERRO FUNDIDO PARA REDE DE ÁGUA, DN 250 MM, JUNTA ELÁSTICA, INSTALADO EM LOCAL COM NÍVEL ALTO DE INTERFERÊNCIAS (NÃO INCLUI FORNECIMENTO). AF_11/2017 | I11: M | J11: ATRIBUÍDO SÃO PAULO | K11: 13,73 | L11: CAIXA REFERENCIAL
A12: ASSENTAMENTO DE TUBOS E PECAS | B12: ASTU | C12: FORNEC E/OU ASSENT DE TUBO DE FERRO FUNDIDO JUNTA ELASTICA | D12: 0045 | G12: 97146 | H12: ASSENTAMENTO DE TUBO DE FERRO FUNDIDO PARA REDE DE ÁGUA, DN 300 MM, JUNTA ELÁSTICA, INSTALADO EM LOCAL COM NÍVEL ALTO DE INTERFERÊNCIAS (NÃO INCLUI FORNECIMENTO). AF_11/2017 | I12: M | J12: ATRIBUÍDO SÃO PAULO | K12: 15,73 | L12: CAIXA REFERENCIAL
A13: ASSENTAMENTO DE TUBOS E PECAS | B13: ASTU | C13: FORNEC E/OU ASSENT DE TUBO DE FERRO FUNDIDO JUNTA ELASTICA | D13: 0045 | G13: 97147 | H13: ASSENTAMENTO DE TUBO DE FERRO FUNDIDO PARA REDE DE ÁGUA, DN 350 MM, JUNTA ELÁSTICA, INSTALADO EM LOCAL COM NÍVEL ALTO DE INTERFERÊNCIAS (NÃO INCLUI FORNECIMENTO). AF_11/2017 | I13: M | J13: ATRIBUÍDO SÃO PAULO | K13: 17,75 | L13: CAIXA REFERENCIAL
A14: ASSENTAMENTO DE TUBOS E PECAS | B14: ASTU | C14: FORNEC E/OU ASSENT DE TUBO DE FERRO FUNDIDO JUNTA ELASTICA | D14: 0045 | G14: 97148 | H14: ASSENTAMENTO DE TUBO DE FERRO FUNDIDO PARA REDE DE ÁGUA, DN 400 MM, JUNTA ELÁSTICA, INSTALADO EM LOCAL COM NÍVEL ALTO DE INTERFERÊNCIAS (NÃO INCLUI FORNECIMENTO). AF_11/2017 | I14: M | J14: ATRIBUÍDO SÃO PAULO | K14: 19,75 | L14: CAIXA REFERENCIAL
A15: ASSENTAMENTO DE TUBOS E PECAS | B15: ASTU | C15: FORNEC E/OU ASSENT DE TUBO DE FERRO FUNDIDO JUNTA ELASTICA | D15: 0045 | G15: 97149 | H15: ASSENTAMENTO DE TUBO DE FERRO FUNDIDO PARA REDE DE ÁGUA, DN 450 MM, JUNTA ELÁSTICA, INSTALADO EM LOCAL COM NÍVEL ALTO DE INTERFERÊNCIAS (NÃO INCLUI FORNECIMENTO). AF_11/2017 | I15: M | J15: ATRIBUÍDO SÃO PAULO | K15: 21,75 | L15: CAIXA REFERENCIAL
A16: ASSENTAMENTO DE TUBOS E PECAS | B16: ASTU | C16: FORNEC E/OU ASSENT DE TUBO DE FERRO FUNDIDO JUNTA ELASTICA | D16: 0045 | G16: 97150 | H16: ASSENTAMENTO DE TUBO DE FERRO FUNDIDO PARA REDE DE ÁGUA, DN 500 MM, JUNTA ELÁSTICA, INSTALADO EM LOCAL COM NÍVEL ALTO DE INTERFERÊNCIAS (NÃO INCLUI FORNECIMENTO). AF_11/2017 | I16: M | J16: ATRIBUÍDO SÃO PAULO | K16: 25,99 | L16: CAIXA REFERENCIAL
A17: ASSENTAMENTO DE TUBOS E PECAS | B17: ASTU | C17: FORNEC E/OU ASSENT DE TUBO DE FERRO FUNDIDO JUNTA ELASTICA | D17: 0045 | G17: 97151 | H17: ASSENTAMENTO DE TUBO DE FERRO FUNDIDO PARA REDE DE ÁGUA, DN 600 MM, JUNTA ELÁSTICA, INSTALADO EM LOCAL COM NÍVEL ALTO DE INTERFERÊNCIAS (NÃO INCLUI FORNECIMENTO). AF_11/2017 | I17: M | J17: ATRIBUÍDO SÃO PAULO | K17: 30,34 | L17: CAIXA REFERENCIAL
A18: ASSENTAMENTO DE TUBOS E PECAS | B18: ASTU | C18: FORNEC E/OU ASSENT DE TUBO DE FERRO FUNDIDO JUNTA ELASTICA | D18: 0045 | G18: 97152 | H18: ASSENTAMENTO DE TUBO DE FERRO FUNDIDO PARA REDE DE ÁGUA, DN 700 MM, JUNTA ELÁSTICA, INSTALADO EM LOCAL COM NÍVEL ALTO DE INTERFERÊNCIAS (NÃO INCLUI FORNECIMENTO). AF_11/2017 | I18: M | J18: ATRIBUÍDO SÃO PAULO | K18: 34,54 | L18: CAIXA REFERENCIAL
... A291: CANTEIRO DE OBRAS | B291: CANT | C291: CONSTRUCAO DO CANTEIRO | D291: 0001 | G291: 98462 | H291: ESTRUTURA DE MADEIRA PROVISÓRIA PARA SUPORTE DE CAIXA DÁGUA ELEVADA DE 3000 LITROS. AF_05/2018 | I291: UN | J291: ATRIBUÍDO SÃO PAULO | K291: 4.871,24 | L291: CAIXA REFERENCIAL
A292: CANTEIRO DE OBRAS | B292: CANT | C292: PLACA DE OBRA | D292: 0002 | E292: 74209 | F292: AQUISICAO E ASSENTAMENTO PLACA DE OBRA | G292: 74209/1 | H292: PLACA DE OBRA EM CHAPA DE ACO GALVANIZADO | I292: M2 | J292: ATRIBUÍDO SÃO PAULO | K292: 314,52 | L292: CAIXA REFERENCIAL
A293: CUSTOS HORÁRIOS DE MÁQUINAS E EQUIPAMENTOS | B293: CHOR | C293: CUSTO HORÁRIO PRODUTIVO DIURNO | D293: 0325 | G293: 5631 | H293: ESCAVADEIRA HIDRÁULICA SOBRE ESTEIRAS, CAÇAMBA 0,80 M3, PESO OPERACIONAL 17 T, POTENCIA BRUTA 111 HP - CHP DIURNO. AF_06/2014 | I293: CHP | J293: ATRIBUÍDO SÃO PAULO | K293: 143,76 | L293: CAIXA REFERENCIAL
