Workbook
Name d: [1]proposta!#REF!
Name d: [1]proposta!#REF!
Name d: [1]proposta!#REF!
Name j: ORÇAMENTO!$B$1

Sheet base_cron_sfm
A1: N | B1: 3
A2: =CONCATENATE($B$1,"|",B2) -> 3|1 | B2: 1 | C2: SERVIÇOS PRELIMINARES | D2: 1 | E2: 50 | F2: 50 | S2: =SUM(E2:P2) -> 100
A3: =CONCATENATE($B$1,"|",B3) -> 3|2 | B3: 2 | C3: TERRAPLENAGEM | D3: 2 | E3: 50 | F3: 50 | S3: =SUM(E3:P3) -> 100
A4: =CONCATENATE($B$1,"|",B4) -> 3|3 | B4: 3 | C4: BASE / SUB-BASE | D4: 3 | E4: 25 | F4: 60 | G4: 15 | S4: =SUM(E4:P4) -> 100
A5: =CONCATENATE($B$1,"|",B5) -> 3|4 | B5: 4 | C5: REVESTIMENTO | D5: 4 | F5: 50 | G5: 50 | S5: =SUM(E5:P5) -> 100
A6: =CONCATENATE($B$1,"|",B6) -> 3|5 | B6: 5 | C6: MEIO-FIO E SARJETA | D6: 5 | E6: 20 | F6: 50 | G6: 30 | S6: =SUM(E6:P6) -> 100
A7: =CONCATENATE($B$1,"|",B7) -> 3|6 | B7: 6 | C7: PAISAGISMO / URBANISMO | D7: 3 | F7: 50 | G7: 50 | S7: =SUM(E7:P7) -> 100
A8: =CONCATENATE($B$1,"|",B8) -> 3|7 | B8: 7 | C8: SINALIZAÇÃO DE TRÂNSITO | D8: 5 | F8: 20 | G8: 80 | S8: =SUM(E8:P8) -> 100
A9: =CONCATENATE($B$1,"|",B9) -> 3|8 | B9: 8 | C9: ILUMINAÇÃO PÚBLICA | D9: 6 | F9: 50 | G9: 50 | S9: =SUM(E9:P9) -> 100
A10: =CONCATENATE($B$1,"|",B10) -> 3|9 | B10: 9 | C10: SERVIÇOS DIVERSOS | D10: 6 | E10: 30 | F10: 40 | G10: 30 | S10: =SUM(E10:P10) -> 100
A11: =CONCATENATE($B$1,"|",B11) -> 3|10 | B11: 10 | C11: DRENAGEM | E11: 60 | F11: 40 | S11: =SUM(E11:P11) -> 100
A12: =CONCATENATE($B$1,"|",B12) -> 3|11 | B12: 11 | C12: ENSAIOS TECNOLÓGICOS | E12: 15 | F12: 60 | G12: 25 | S12: =SUM(E12:P12) -> 100
A14: N | B14: 4
A15: =CONCATENATE($B$14,"|",B15) -> 4|1 | B15: 1 | C15: SERVIÇOS PRELIMINARES | D15: 1 | E15: 45 | F15: 45 | G15: 10 | S15: =SUM(E15:P15) -> 100
A16: =CONCATENATE($B$14,"|",B16) -> 4|2 | B16: 2 | C16: TERRAPLENAGEM | D16: 2 | E16: 40 | F16: 40 | G16: 20 | S16: =SUM(E16:P16) -> 100
A17: =CONCATENATE($B$14,"|",B17) -> 4|3 | B17: 3 | C17: BASE / SUB-BASE | D17: 3 | E17: 20 | F17: 35 | G17: 35 | H17: 10 | S17: =SUM(E17:P17) -> 100
A18: =CONCATENATE($B$14,"|",B18) -> 4|4 | B18: 4 | C18: REVESTIMENTO | D18: 4 | F18: 35 | G18: 35 | H18: 30 | S18: =SUM(E18:P18) -> 100
A19: =CONCATENATE($B$14,"|",B19) -> 4|5 | B19: 5 | C19: MEIO-FIO E SARJETA | D19: 5 | E19: 10 | F19: 35 | G19: 35 | H19: 20 | S19: =SUM(E19:P19) -> 100
A20: =CONCATENATE($B$14,"|",B20) -> 4|6 | B20: 6 | C20: PAISAGISMO / URBANISMO | D20: 3 | F20: 35 | G20: 35 | H20: 30 | S20: =SUM(E20:P20) -> 100
A21: =CONCATENATE($B$14,"|",B21) -> 4|7 | B21: 7 | C21: SINALIZAÇÃO DE TRÂNSITO | D21: 5 | F21: 15 | G21: 60 | H21: 25 | S21: =SUM(E21:P21) -> 100
A22: =CONCATENATE($B$14,"|",B22) -> 4|8 | B22: 8 | C22: ILUMINAÇÃO PÚBLICA | D22: 6 | F22: 30 | G22: 40 | H22: 30 | S22: =SUM(E22:P22) -> 100
A23: =CONCATENATE($B$14,"|",B23) -> 4|9 | B23: 9 | C23: SERVIÇOS DIVERSOS | D23: 6 | E23: 10 | F23: 35 | G23: 35 | H23: 20 | S23: =SUM(E23:P23) -> 100
A24: =CONCATENATE($B$14,"|",B24) -> 4|10 | B24: 10 | C24: DRENAGEM | E24: 40 | F24: 40 | G24: 20 | S24: =SUM(E24:P24) -> 100
A25: =CONCATENATE($B$14,"|",B25) -> 4|11 | B25: 11 | C25: ENSAIOS TECNOLÓGICOS | E25: 10 | F25: 35 | G25: 35 | H25: 20 | S25: =SUM(E25:P25) -> 100
A27: N | B27: 5
A28: =CONCATENATE($B$27,"|",B28) -> 5|1 | B28: 1 | C28: SERVIÇOS PRELIMINARES | D28: 1 | E28: 40 | F28: 30 | G28: 25 | H28: 5 | S28: =SUM(E28:P28) -> 100
A29: =CONCATENATE($B$27,"|",B29) -> 5|2 | B29: 2 | C29: TERRAPLENAGEM | D29: 2 | E29: 30 | F29: 30 | G29: 30 | H29: 10 | S29: =SUM(E29:P29) -> 100
A30: =CONCATENATE($B$27,"|",B30) -> 5|3 | B30: 3 | C30: BASE / SUB-BASE | D30: 3 | E30: 10 | F30: 30 | G30: 30 | H30: 25 | I30: 5 | S30: =SUM(E30:P30) -> 100
A31: =CONCATENATE($B$27,"|",B31) -> 5|4 | B31: 4 | C31: REVESTIMENTO | D31: 4 | F31: 15 | G31: 30 | H31: 30 | I31: 25 | S31: =SUM(E31:P31) -> 100
A32: =CONCATENATE($B$27,"|",B32) -> 5|5 | B32: 5 | C32: MEIO-FIO E SARJETA | D32: 5 | F32: 25 | G32: 35 | H32: 35 | I32: 5 | S32: =SUM(E32:P32) -> 100
A33: =CONCATENATE($B$27,"|",B33) -> 5|6 | B33: 6 | C33: PAISAGISMO / URBANISMO | D33: 3 | F33: 5 | G33: 40 | H33: 30 | I33: 25 | S33: =SUM(E33:P33) -> 100
A34: =CONCATENATE($B$27,"|",B34) -> 5|7 | B34: 7 | C34: SINALIZAÇÃO DE TRÂNSITO | D34: 5 | F34: 10 | G34: 35 | H34: 35 | I34: 20 | S34: =SUM(E34:P34) -> 100
A35: =CONCATENATE($B$27,"|",B35) -> 5|8 | B35: 8 | C35: ILUMINAÇÃO PÚBLICA | D35: 6 | F35: 10 | G35: 35 | H35: 35 | I35: 20 | S35: =SUM(E35:P35) -> 100
A36: =CONCATENATE($B$27,"|",B36) -> 5|9 | B36: 9 | C36: SERVIÇOS DIVERSOS | D36: 6 | E36: 5 | F36: 25 | G36: 25 | H36: 25 | I36: 20 | S36: =SUM(E36:P36) -> 100
A37: =CONCATENATE($B$27,"|",B37) -> 5|10 | B37: 10 | C37: DRENAGEM | E37: 25 | F37: 30 | G37: 30 | H37: 15 | S37: =SUM(E37:P37) -> 100
A38: =CONCATENATE($B$27,"|",B38) -> 5|11 | B38: 11 | C38: ENSAIOS TECNOLÓGICOS | E38: 7 | F38: 21 | G38: 27 | H38: 28 | I38: 17 | S38: =SUM(E38:P38) -> 100
A40: N | B40: 6
A41: =CONCATENATE($B$40,"|",B41) -> 6|1 | B41: 1 | C41: SERVIÇOS PRELIMINARES | D41: 1 | E41: 20 | F41: 30 | G41: 30 | H41: 20 | S41: =SUM(E41:P41) -> 100
A42: =CONCATENATE($B$40,"|",B42) -> 6|2 | B42: 2 | C42: TERRAPLENAGEM | D42: 2 | E42: 15 | F42: 25 | G42: 30 | H42: 25 | I42: 5 | S42: =SUM(E42:P42) -> 100
A43: =CONCATENATE($B$40,"|",B43) -> 6|3 | B43: 3 | C43: BASE / SUB-BASE | D43: 3 | E43: 5 | F43: 20 | G43: 30 | H43: 25 | I43: 20 | S43: =SUM(E43:P43) -> 100
...

Sheet _base_cron_fp
A1: N | B1: 3
A2: =CONCATENATE($B$1,"|",B2) -> 3|1 | B2: 1 | C2: SERVIÇOS PRELIMINARES | D2: 1 | E2: 50 | F2: 50 | S2: =SUM(E2:P2) -> 100
A3: =CONCATENATE($B$1,"|",B3) -> 3|2 | B3: 2 | C3: TERRAPLENAGEM | D3: 2 | E3: 50 | F3: 50 | S3: =SUM(E3:P3) -> 100
A4: =CONCATENATE($B$1,"|",B4) -> 3|3 | B4: 3 | C4: BASE / SUB-BASE | D4: 3 | E4: 25 | F4: 60 | G4: 15 | S4: =SUM(E4:P4) -> 100
A5: =CONCATENATE($B$1,"|",B5) -> 3|4 | B5: 4 | C5: REVESTIMENTO | D5: 4 | F5: 50 | G5: 50 | S5: =SUM(E5:P5) -> 100
A6: =CONCATENATE($B$1,"|",B6) -> 3|5 | B6: 5 | C6: MEIO-FIO E SARJETA | D6: 5 | E6: 20 | F6: 50 | G6: 30 | S6: =SUM(E6:P6) -> 100
A7: =CONCATENATE($B$1,"|",B7) -> 3|6 | B7: 6 | C7: PAISAGISMO / URBANISMO | D7: 3 | F7: 50 | G7: 50 | S7: =SUM(E7:P7) -> 100
A8: =CONCATENATE($B$1,"|",B8) -> 3|7 | B8: 7 | C8: SINALIZAÇÃO DE TRÂNSITO | D8: 5 | F8: 20 | G8: 80 | S8: =SUM(E8:P8) -> 100
A9: =CONCATENATE($B$1,"|",B9) -> 3|8 | B9: 8 | C9: ILUMINAÇÃO PÚBLICA | D9: 6 | F9: 50 | G9: 50 | S9: =SUM(E9:P9) -> 100
A10: =CONCATENATE($B$1,"|",B10) -> 3|9 | B10: 9 | C10: SERVIÇOS DIVERSOS | D10: 6 | E10: 30 | F10: 40 | G10: 30 | S10: =SUM(E10:P10) -> 100
A11: =CONCATENATE($B$1,"|",B11) -> 3|10 | B11: 10 | C11: DRENAGEM | E11: 60 | F11: 40 | S11: =SUM(E11:P11) -> 100
A12: =CONCATENATE($B$1,"|",B12) -> 3|11 | B12: 11 | C12: ENSAIOS TECNOLÓGICOS | E12: 15 | F12: 60 | G12: 25 | S12: =SUM(E12:P12) -> 100
A14: N | B14: 4
A15: =CONCATENATE($B$14,"|",B15) -> 4|1 | B15: 1 | C15: SERVIÇOS PRELIMINARES | D15: 1 | E15: 45 | F15: 45 | G15: 10 | S15: =SUM(E15:P15) -> 100
A16: =CONCATENATE($B$14,"|",B16) -> 4|2 | B16: 2 | C16: TERRAPLENAGEM | D16: 2 | E16: 40 | F16: 40 | G16: 20 | S16: =SUM(E16:P16) -> 100
A17: =CONCATENATE($B$14,"|",B17) -> 4|3 | B17: 3 | C17: BASE / SUB-BASE | D17: 3 | E17: 20 | F17: 35 | G17: 35 | H17: 10 | S17: =SUM(E17:P17) -> 100
A18: =CONCATENATE($B$14,"|",B18) -> 4|4 | B18: 4 | C18: REVESTIMENTO | D18: 4 | F18: 35 | G18: 35 | H18: 30 | S18: =SUM(E18:P18) -> 100
A19: =CONCATENATE($B$14,"|",B19) -> 4|5 | B19: 5 | C19: MEIO-FIO E SARJETA | D19: 5 | E19: 10 | F19: 35 | G19: 35 | H19: 20 | S19: =SUM(E19:P19) -> 100
A20: =CONCATENATE($B$14,"|",B20) -> 4|6 | B20: 6 | C20: PAISAGISMO / URBANISMO | D20: 3 | F20: 35 | G20: 35 | H20: 30 | S20: =SUM(E20:P20) -> 100
A21: =CONCATENATE($B$14,"|",B21) -> 4|7 | B21: 7 | C21: SINALIZAÇÃO DE TRÂNSITO | D21: 5 | F21: 15 | G21: 60 | H21: 25 | S21: =SUM(E21:P21) -> 100
A22: =CONCATENATE($B$14,"|",B22) -> 4|8 | B22: 8 | C22: ILUMINAÇÃO PÚBLICA | D22: 6 | F22: 30 | G22: 40 | H22: 30 | S22: =SUM(E22:P22) -> 100
A23: =CONCATENATE($B$14,"|",B23) -> 4|9 | B23: 9 | C23: SERVIÇOS DIVERSOS | D23: 6 | E23: 10 | F23: 35 | G23: 35 | H23: 20 | S23: =SUM(E23:P23) -> 100
A24: =CONCATENATE($B$14,"|",B24) -> 4|10 | B24: 10 | C24: DRENAGEM | E24: 40 | F24: 40 | G24: 20 | S24: =SUM(E24:P24) -> 100
A25: =CONCATENATE($B$14,"|",B25) -> 4|11 | B25: 11 | C25: ENSAIOS TECNOLÓGICOS | E25: 10 | F25: 35 | G25: 35 | H25: 20 | S25: =SUM(E25:P25) -> 100
A27: N | B27: 5
A28: =CONCATENATE($B$27,"|",B28) -> 5|1 | B28: 1 | C28: SERVIÇOS PRELIMINARES | D28: 1 | E28: 40 | F28: 30 | G28: 25 | H28: 5 | S28: =SUM(E28:P28) -> 100
A29: =CONCATENATE($B$27,"|",B29) -> 5|2 | B29: 2 | C29: TERRAPLENAGEM | D29: 2 | E29: 30 | F29: 30 | G29: 30 | H29: 10 | S29: =SUM(E29:P29) -> 100
A30: =CONCATENATE($B$27,"|",B30) -> 5|3 | B30: 3 | C30: BASE / SUB-BASE | D30: 3 | E30: 10 | F30: 30 | G30: 30 | H30: 25 | I30: 5 | S30: =SUM(E30:P30) -> 100
A31: =CONCATENATE($B$27,"|",B31) -> 5|4 | B31: 4 | C31: REVESTIMENTO | D31: 4 | F31: 15 | G31: 30 | H31: 30 | I31: 25 | S31: =SUM(E31:P31) -> 100
A32: =CONCATENATE($B$27,"|",B32) -> 5|5 | B32: 5 | C32: MEIO-FIO E SARJETA | D32: 5 | F32: 25 | G32: 35 | H32: 35 | I32: 5 | S32: =SUM(E32:P32) -> 100
A33: =CONCATENATE($B$27,"|",B33) -> 5|6 | B33: 6 | C33: PAISAGISMO / URBANISMO | D33: 3 | F33: 5 | G33: 40 | H33: 30 | I33: 25 | S33: =SUM(E33:P33) -> 100
A34: =CONCATENATE($B$27,"|",B34) -> 5|7 | B34: 7 | C34: SINALIZAÇÃO DE TRÂNSITO | D34: 5 | F34: 10 | G34: 35 | H34: 35 | I34: 20 | S34: =SUM(E34:P34) -> 100
A35: =CONCATENATE($B$27,"|",B35) -> 5|8 | B35: 8 | C35: ILUMINAÇÃO PÚBLICA | D35: 6 | F35: 10 | G35: 35 | H35: 35 | I35: 20 | S35: =SUM(E35:P35) -> 100
A36: =CONCATENATE($B$27,"|",B36) -> 5|9 | B36: 9 | C36: SERVIÇOS DIVERSOS | D36: 6 | E36: 5 | F36: 25 | G36: 25 | H36: 25 | I36: 20 | S36: =SUM(E36:P36) -> 100
A37: =CONCATENATE($B$27,"|",B37) -> 5|10 | B37: 10 | C37: DRENAGEM | E37: 25 | F37: 30 | G37: 30 | H37: 15 | S37: =SUM(E37:P37) -> 100
A38: =CONCATENATE($B$27,"|",B38) -> 5|11 | B38: 11 | C38: ENSAIOS TECNOLÓGICOS | E38: 7 | F38: 21 | G38: 27 | H38: 28 | I38: 17 | S38: =SUM(E38:P38) -> 100
A40: N | B40: 6
A41: =CONCATENATE($B$40,"|",B41) -> 6|1 | B41: 1 | C41: SERVIÇOS PRELIMINARES | D41: 1 | E41: 20 | F41: 30 | G41: 30 | H41: 20 | S41: =SUM(E41:P41) -> 100
A42: =CONCATENATE($B$40,"|",B42) -> 6|2 | B42: 2 | C42: TERRAPLENAGEM | D42: 2 | E42: 15 | F42: 25 | G42: 30 | H42: 25 | I42: 5 | S42: =SUM(E42:P42) -> 100
A43: =CONCATENATE($B$40,"|",B43) -> 6|3 | B43: 3 | C43: BASE / SUB-BASE | D43: 3 | E43: 5 | F43: 20 | G43: 30 | H43: 25 | I43: 20 | S43: =SUM(E43:P43) -> 100
...

Sheet BDI
A1: BDI - ACÓRDÃO Nº 2622/2013 – TCU PAVIMENTAÇÃO
A2: IMPOSTOS | B2: ISS = | C2: =B24 -> 0.2
B3: PIS = | C3: 0.65
B4: COFINS = | C4: 3
B5: CPMF = | C5: 0
B6: TOTAL = | C6: =SUM(C2:C5) -> 3.85
A7: TIPO DE SERVIÇO | B7: OBRAS | C7: MATERIAIS
A8: ADMINISTRAÇÃO CENTRAL | B8: 4.2 | C8: 3.454
A9: RISCOS | B9: 0.97 | C9: 0.48
A10: SEGUROS E GARANTIAS | B10: 0.74 | C10: 0.85
A11: DESPESAS FINANCEIRAS | B11: 1.21 | C11: 0.85
A12: LUCRO | B12: 7.3 | C12: 5.11
A13: BDI (OBRA OU MATERIAIS/EQUIP.) | B13: =(((((1+(B8+B9+B10)/100)*(1+B11/100)*(1+B12/100))/(1-C6/100))-1)*100) -> 19.621936 | C13: =(((((1+(C8+C9+C10)/100)*(1+C11/100)*(1+C12/100))/(1-(C3+C4+C5)/100))-1)*100) -> 15.282449
A14: BDI=(((((1+(C8+C9+C10)/100)*(1+C11/100)*(1+C12/100))/(1-C6/100))-1)*100)
A15: BDI (OBRA) | B15: =IF(D15="X",0,ROUND(B13,2)/100) -> 0.1962 | F15: Digite "X" para obter Valor Total sem BDI
A17: BDI (MATERIAIS E EQUIPAMENTOS) | B17: =IF(D15="X",0,ROUND(C13,2)/100) -> 0.1528
A21: ISS Município | B21: 2 | C21: %
A22: Base de Cálculo (% de mão de Obra) | B22: 10 | C22: %
A23: 3- Fórmula de cálculo do ISS | B23: =ISS x base de cálculo | C23: %
A24: 4- Valor do ISS calculado (Máximo : 2,50%) | B24: =ROUND(B21*B22/100,4) -> 0.2 | C24: %
A26: VALORES DO BDI POR TIPO DE OBRA
A27: TIPOS DE OBRA | B27: 1º Quartil | C27: Médio | D27: 3º Quartil
A28: CONSTRUÇÃO DE EDIFÍCIOS | B28: 0.2034 | C28: 0.2212 | D28: 0.25
A29: CONSTRUÇÃO DE RODOVIAS E FERROVIAS | B29: 0.196 | C29: 0.2095 | D29: 0.2423
A30: CONSTRUÇÃO DE REDES DE ABASTECIMENTO DE ÁGUA, COLETA DE ESGOTO E CONSTRUÇÕES CORRELATAS | B30: 0.2076 | C30: 0.2418 | D30: 0.2644
A31: CONSTRUÇÃO E MANUTENÇÃO DE ESTAÇÕES E REDES DE DISTRIBUIÇÃO DE ENERGIA ELÉTRICA | B31: 0.24 | C31: 0.2584 | D31: 0.2786
A32: OBRAS PORTUÁRIAS, MARÍTIMAS E FLUVIAIS | B32: 0.228 | C32: 0.2748 | D32: 0.3095
A35: BDI PARA ITENS DE MERO FORNECIMENTO DE MATERIAIS E EQUIPAMENTOS | B35: 1º Quartil | C35: Médio | D35: 3º Quartil
B36: 0.111 | C36: 0.1402 | D36: 0.168
A39: TIPOS DE OBRA | B39: ADMINISTRAÇÃO CENTRAL | E39: RISCO | H39: SEGURO + GARANTIA | K39: DESPESA FINANCEIRA | N39: LUCRO
B40: 1º Quartil | C40: Médio | D40: 3º Quartil | E40: 1º Quartil | F40: Médio | G40: 3º Quartil | H40: 1º Quartil | I40: Médio | J40: 3º Quartil | K40: 1º Quartil | L40: Médio | M40: 3º Quartil | N40: 1º Quartil | O40: Médio | P40: 3º Quartil
A41: CONSTRUÇÃO DE EDIFÍCIOS | B41: 0.03 | C41: 0.04 | D41: 0.055 | E41: 0.0097 | F41: 0.0127 | G41: 0.0127 | H41: 0.008 | I41: 0.008 | J41: 0.01 | K41: 0.0059 | L41: 0.0123 | M41: 0.0139 | N41: 0.0616 | O41: 0.074 | P41: 0.0896
A42: CONSTRUÇÃO DE RODOVIAS E FERROVIAS | B42: 0.038 | C42: 0.0401 | D42: 0.0467 | E42: 0.005 | F42: 0.0056 | G42: 0.0097 | H42: 0.0032 | I42: 0.004 | J42: 0.0074 | K42: 0.0102 | L42: 0.0111 | M42: 0.0121 | N42: 0.0664 | O42: 0.073 | P42: 0.0869
A43: CONSTRUÇÃO DE REDES DE ABASTECIMENTO DE ÁGUA, COLETA DE ESGOTO E CONSTRUÇÕES CORRELATAS | B43: 0.0343 | C43: 0.0493 | D43: 0.0671 | E43: 0.01 | F43: 0.0139 | G43: 0.0174 | H43: 0.0028 | I43: 0.0049 | J43: 0.0075 | K43: 0.0094 | L43: 0.0099 | M43: 0.0117 | N43: 0.0674 | O43: 0.0804 | P43: 0.094
A44: CONSTRUÇÃO E MANUTENÇÃO DE ESTAÇÕES E REDES DE DISTRIBUIÇÃO DE ENERGIA ELÉTRICA | B44: 0.0529 | C44: 0.0592 | D44: 0.0793 | E44: 0.01 | F44: 0.0148 | G44: 0.0197 | H44: 0.0025 | I44: 0.0051 | J44: 0.0056 | K44: 0.0101 | L44: 0.0107 | M44: 0.0111 | N44: 0.08 | O44: 0.0831 | P44: 0.0951
A45: OBRAS PORTUÁRIAS, MARÍTIMAS E FLUVIAIS | B45: 0.04 | C45: 0.0552 | D45: 0.0785 | E45: 0.0146 | F45: 0.0232 | G45: 0.0316 | H45: 0.0081 | I45: 0.0122 | J45: 0.0199 | K45: 0.0094 | L45: 0.0102 | M45: 0.0133 | N45: 0.0714 | O45: 0.084 | P45: 0.1043
A48: BDI PARA ITENS DE MERO FORNECIMENTO DE MATERIAIS E EQUIPAMENTOS
A49: PARCELA DO BDI | B49: 1º Quartil | C49: Médio | D49: 3º Quartil
A50: ADMINISTRAÇÃO CENTRAL | B50: 0.015 | C50: 0.0345 | D50: 0.0449
A51: SEGURO + GARANTIA | B51: 0.003 | C51: 0.0048 | D51: 0.0082
...

Sheet ORÇAMENTO
B2: x | D2: REFERÊNCIAS | F2: DER OUTUBRO 2024 / SINAPI JANEIRO 2025 / SEINFRA/ ORÇACIVIL/ PM Curitiba/ SANEPAR/ DAER-RS/ SEIL
D3: Anexo
A4: x | D4: ESCRITÓRIO REGIONAL | E4: :
A5: x | D5: SUBPROJETO | E5: : | F5: PAVIMENTAÇÃO
A6: x | D6: PROTOCOLO | E6: :
A7: x | D7: ARQ Nº | E7: :
D8: LOCAL | E8: :
D9: BDI (%) - MATERIAIS | E9: : | F9: =IF(BDI!B17<0,0,BDI!B17) -> 0.1528
D10: BDI (%) - SERVIÇOS | E10: : | F10: =BDI!B15 -> 0.1962
D11: ENSAIOS (%) | E11: :
D12: LOTEAMENTO SONHO MEU
D13: Município: Bituruna
D14: Projeto: Loteamento Sonho meu e recape asfáltico em vias do Bairro São João
D15: Local da Obra: Rua Lídio Perizollo
B16: Código | C16: Orígem | D16: DESCRIÇÃO DOS SERVIÇOS | F16: DMT | G16: CONSUMO | H16: CUSTOS UNITÁRIOS - ( R$ ) | L16: UD | M16: ORÇAMENTO LICITAÇÃO | R16: PROPOSTA DE PREÇO | T16: IMPRIMIR
F17: km | G17: ( ton ) | H17: TRANSP | I17: EXEC. | J17: S/BDI | K17: C/BDI | M17: QUANT | N17: UNIT | O17: ( R$ ) - PM | P17: ( R$ ) - PM TOTAIS | Q17: CUSTO UNITÁRIO | R17: CUSTO TOTAL PROPONENTE | S17: PREÇO TOTAL PROPONENTE | T17: ITENS | U17: Arquivo | V17: ANEXO | W17: Cartilha
A18: 1 | B18: 1 | D18: SERVIÇOS PRELIMINARES | P18: =SUM(O19:O28) -> 88179.93 | S18: =SUM(R19:R28) -> 0 | T18: x | U18: x | V18: =IF(T18="X","x",IF(T18="y","x",IF(T18="xx","x",IF(#REF!>0,"x","")))) -> x | W18: =IF(T18="X","x",IF(#REF!>0,"x","")) -> x
B19: 74209/1 | C19: Orçacivil | D19: PLACA DE OBRA 4,00 X 2,00 M, EM CHAPA DE ACO GALVANIZADO, INCLUSIVE ARMAÇÃO EM MADEIRA E PONTALETES | I19: 3199.34 | J19: =IF(ISBLANK(I19),"",SUM(H19:I19)) -> 3199.34 | K19: =IF(ISBLANK(I19),0,ROUND(J19*(1+$F$10)*(1+$F$11*E19),2)) -> 3827.05 | L19: un | M19: 1 | N19: =K19 -> 3827.05 | O19: =IF(ISBLANK(N19),0,ROUND(M19*N19,2)) -> 3827.05 | R19: =ROUND(Q19*M19,2) -> 0 | T19: x | U19: x | V19: x | W19: x
B20: C2850 | C20: SEINFRA | D20: INSTALAÇÕES PROVISÓRIAS DE LUZ, FORÇA, TELEFONE E LÓGICA | I20: 1676.69 | J20: =IF(ISBLANK(I20),"",SUM(H20:I20)) -> 1676.69 | K20: =IF(ISBLANK(I20),0,ROUND(J20*(1+$F$10)*(1+$F$11*E20),2)) -> 2005.66 | L20: un | M20: 1 | N20: =K20 -> 2005.66 | O20: =IF(ISBLANK(N20),0,ROUND(M20*N20,2)) -> 2005.66 | R20: =ROUND(Q20*M20,2) -> 0 | T20: X | U20: X | V20: X | W20: X
B21: C1622 | C21: SEINFRA | D21: Instalação provisória de água e sanitário | I21: 3512.61 | J21: =IF(ISBLANK(I21),"",SUM(H21:I21)) -> 3512.61 | K21: =IF(ISBLANK(I21),0,ROUND(J21*(1+$F$10)*(1+$F$11*E21),2)) -> 4201.78 | L21: un | M21: 1 | N21: =K21 -> 4201.78 | O21: =IF(ISBLANK(N21),0,ROUND(M21*N21,2)) -> 4201.78 | R21: =ROUND(Q21*M21,2) -> 0 | T21: X | U21: X | V21: X | W21: X
B22: C2831 | C22: SEINFRA | D22: FOSSA SUMIDOURO PARA BARRACÃO | I22: 2511.33 | J22: =IF(ISBLANK(I22),"",SUM(H22:I22)) -> 2511.33 | K22: =IF(ISBLANK(I22),0,ROUND(J22*(1+$F$10)*(1+$F$11*E22),2)) -> 3004.05 | L22: un | M22: 1 | N22: =K22 -> 3004.05 | O22: =IF(ISBLANK(N22),0,ROUND(M22*N22,2)) -> 3004.05 | R22: =ROUND(Q22*M22,2) -> 0 | T22: X | U22: X | V22: X | W22: X
B23: C2946 | C23: SEINFRA | D23: Sanitários e chuveiros | I23: 270.58 | J23: =IF(ISBLANK(I23),"",SUM(H23:I23)) -> 270.58 | K23: =IF(ISBLANK(I23),0,ROUND(J23*(1+$F$10)*(1+$F$11*E23),2)) -> 323.67 | L23: m² | M23: 6 | N23: =K23 -> 323.67 | O23: =IF(ISBLANK(N23),0,ROUND(M23*N23,2)) -> 1942.02 | R23: =ROUND(Q23*M23,2) -> 0 | T23: X | U23: X | V23: X | W23: X
B24: C0370 | C24: SEINFRA | D24: Barracão para escritório | I24: 6807.23 | J24: =IF(ISBLANK(I24),"",SUM(H24:I24)) -> 6807.23 | K24: =IF(ISBLANK(J24),0,ROUND(J24*(1+$F$10)*(1+$F$11*E24),2)) -> 8142.81 | L24: un | M24: 1 | N24: =K24 -> 8142.81 | O24: =IF(ISBLANK(N24),0,ROUND(M24*N24,2)) -> 8142.81 | R24: =ROUND(Q24*M24,2) -> 0 | T24: x | U24: x | V24: x | W24: x
B25: C2936 | C25: SEINFRA | D25: Local para refeições / Refeitório | I25: 353.19 | J25: =IF(ISBLANK(I25),"",SUM(H25:I25)) -> 353.19 | K25: =IF(ISBLANK(J25),0,ROUND(J25*(1+$F$10)*(1+$F$11*E25),2)) -> 422.49 | L25: m² | M25: 15 | N25: =K25 -> 422.49 | O25: =IF(ISBLANK(N25),0,ROUND(M25*N25,2)) -> 6337.35 | R25: =ROUND(Q25*M25,2) -> 0 | T25: x | U25: x | V25: x | W25: x
B26: 1001004 | C26: SANEPAR | D26: Barracão fechado para materiais | I26: 500.18 | J26: =IF(ISBLANK(I26),"",SUM(H26:I26)) -> 500.18 | K26: =IF(ISBLANK(J26),0,ROUND(J26*(1+$F$10)*(1+$F$11*E26),2)) -> 598.32 | L26: m² | M26: 72 | N26: =K26 -> 598.32 | O26: =IF(ISBLANK(N26),0,ROUND(M26*N26,2)) -> 43079.04 | R26: =ROUND(Q26*M26,2) -> 0 | T26: x | U26: x | V26: x | W26: x
B27: 1001005 | C27: SANEPAR | D27: Barracão aberto | I27: 232.87 | J27: =IF(ISBLANK(I27),"",SUM(H27:I27)) -> 232.87 | K27: =IF(ISBLANK(J27),0,ROUND(J27*(1+$F$10)*(1+$F$11*E27),2)) -> 278.56 | L27: m² | M27: 40 | N27: =K27 -> 278.56 | O27: =IF(ISBLANK(N27),0,ROUND(M27*N27,2)) -> 11142.4 | R27: =ROUND(Q27*M27,2) -> 0 | T27: x | U27: x | V27: x | W27: x
B28: 98525 | C28: SINAPI | D28: Limpeza mecanizada de camada vegetal | I28: 0.69 | J28: =IF(ISBLANK(I28),"",SUM(H28:I28)) -> 0.69 | K28: =IF(ISBLANK(I28),0,ROUND(J28*(1+$F$10)*(1+$F$11*E28),2)) -> 0.83 | L28: m2 | M28: 5419 | N28: =K28 -> 0.83 | O28: =IF(ISBLANK(N28),0,ROUND(M28*N28,2)) -> 4497.77 | R28: =ROUND(Q28*M28,2) -> 0 | T28: x | U28: x | V28: x | W28: x
R29: =ROUND(Q29*M29,2) -> 0
B30: 2 | D30: ADMINISTRAÇÃO LOCAL | P30: =SUM(O31:O32) -> 195350.4 | S30: =SUM(R31:R32) -> 0 | T30: X | U30: X | V30: X | W30: X
B31: 90777 | C31: SINAPI | D31: ENGENHEIRO CIVIL DE OBRA JUNIOR COM ENCARGOS COMPLEMENTARES (20Hrs/semana) | I31: 113.41 | J31: =IF(ISBLANK(I31),"",SUM(H31:I31)) -> 113.41 | K31: =IF(ISBLANK(J31),0,ROUND(J31*(1+$F$10)*(1+$F$11*E31),2)) -> 135.66 | L31: H | M31: 1440 | N31: =K31 -> 135.66 | O31: =IF(ISBLANK(N31),0,ROUND(M31*N31,2)) -> 195350.4 | R31: =ROUND(Q31*M31,2) -> 0 | T31: X | U31: X | V31: X | W31: X
K32: =IF(ISBLANK(J32),0,ROUND(J32*(1+$F$10)*(1+$F$11*E32),2)) -> 0 | N32: =K32 -> 0 | O32: =IF(ISBLANK(N32),0,ROUND(M32*N32,2)) -> 0
A33: 2 | B33: 3 | D33: TERRAPLENAGEM | N33: =K33 -> 0 | P33: =SUM(O34:O40) -> 107440.57 | S33: =SUM(R34:R40) -> 0 | T33: x | U33: =IF(T33="X","x",IF(T33="xx","x",IF(T33="xy","x",IF(T33="y","x",IF(OR(O33>0,#REF!>0),"x",""))))) -> x | V33: =IF(T33="X","x",IF(T33="y","x",IF(T33="xx","x",IF(#REF!>0,"x","")))) -> x | W33: =IF(T33="X","x",IF(#REF!>0,"x","")) -> x
A34: 401200 | B34: 105137 | C34: SINAPI | D34: Locação de pavimentação.AF_03/2024 | I34: 0.72 | J34: =IF(ISBLANK(I34),"",SUM(H34:I34)) -> 0.72 | K34: =IF(ISBLANK(I34),0,ROUND(J34*(1+$F$10)*(1+$F$11*E34),2)) -> 0.86 | L34: m | M34: 1694.23 | N34: =K34 -> 0.86 | O34: =IF(ISBLANK(N34),0,ROUND(M34*N34,2)) -> 1457.04 | R34: =ROUND(Q34*M34,2) -> 0 | T34: x | U34: x | V34: x | W34: x
A35: 101114 | B35: 520100A | C35: DER | D35: Escavação e carga mat. 1a. cat./sem transporte | G35: 0 | I35: 5.62 | J35: =IF(ISBLANK(I35),"",SUM(H35:I35)) -> 5.62 | K35: =IF(ISBLANK(I35),0,ROUND(J35*(1+$F$10)*(1+$F$11*E35),2)) -> 6.72 | L35: m3 | M35: =897.76+320.93 -> 1218.69 | N35: =K35 -> 6.72 | O35: =IF(ISBLANK(N35),0,ROUND(M35*N35,2)) -> 8189.6 | R35: =ROUND(Q35*M35,2) -> 0 | T35: X | U35: =IF(T35="X","x",IF(T35="xx","x",IF(T35="xy","x",IF(T35="y","x",IF(OR(O35>0,#REF!>0),"x",""))))) -> x | V35: =IF(T35="X","x",IF(T35="y","x",IF(T35="xx","x",IF(#REF!>0,"x","")))) -> x | W35: =IF(T35="X","x",IF(#REF!>0,"x","")) -> x
A36: 101119 | B36: 95875 | C36: SINAPI | D36: Transporte com caminhão basculante de 10m³, em via urbana pavimentada, DMT até 30km (DMT de projeto 6km - trecho até Reciclinho) | I36: 2.53 | J36: =IF(ISBLANK(I36),"",SUM(H36:I36)) -> 2.53 | K36: =IF(ISBLANK(I36),0,ROUND(J36*(1+$F$10)*(1+$F$11*E36),2)) -> 3.03 | L36: m3X km | M36: =ROUND(M35*7.1,2) -> 8652.7 | N36: =K36 -> 3.03 | O36: =IF(ISBLANK(N36),0,ROUND(M36*N36,2)) -> 26217.68 | R36: =ROUND(Q36*M36,2) -> 0 | T36: x | U36: =IF(T36="X","x",IF(T36="xx","x",IF(T36="xy","x",IF(T36="y","x",IF(OR(O36>0,#REF!>0),"x",""))))) -> x | V36: =IF(T36="X","x",IF(T36="y","x",IF(T36="xx","x",IF(#REF!>0,"x","")))) -> x | W36: =IF(T36="X","x",IF(#REF!>0,"x","")) -> x
B37: 94306 | C37: SINAPI | D37: ATERRO MECANIZADO COM ESCAVADEIRA HIDRÁULICA (CAPACIDADE DA CAÇAMBA: 0,8 M³ / POTÊNCIA: 111 HP), LARGURA ATÉ 2,5 M, PROFUNDIDADE DE 1,5 A 3,0 M, COM SOLO ARGILO-ARENOSO. AF_08/2023 | I37: 70.51 | J37: =IF(ISBLANK(I37),"",SUM(H37:I37)) -> 70.51 | K37: =IF(ISBLANK(I37),0,ROUND(J37*(1+$F$10)*(1+$F$11*E37),2)) -> 84.34 | L37: m3 | M37: =888.8-320.93 -> 567.87 | N37: =K37 -> 84.34 | O37: =IF(ISBLANK(N37),0,ROUND(M37*N37,2)) -> 47894.16 | R37: =ROUND(Q37*M37,2) -> 0 | T37: x | U37: x | V37: x | W37: x
A38: 430210 | B38: C3210 | C38: SEINFRA | D38: Escavação, Carga e Transporte 3ª Cat. (ROCHA) | H38: =IF(F38<=30,(1.07*F38+2.68)*G38,((1.07*30+2.68)+1.07*(F38-30))*G38) -> 0 | I38: 50.58 | J38: =IF(ISBLANK(I38),"",SUM(H38:I38)) -> 50.58 | K38: =IF(ISBLANK(I38),0,ROUND(J38*(1+$F$10)*(1+$F$11*E38),2)) -> 60.5 | L38: m3 | M38: 288.76 | N38: =K38 -> 60.5 | O38: =IF(ISBLANK(N38),0,ROUND(M38*N38,2)) -> 17469.98 | R38: =ROUND(Q38*M38,2) -> 0 | T38: x | U38: =IF(T38="X","x",IF(T38="xx","x",IF(T38="xy","x",IF(T38="y","x",IF(OR(O38>0,#REF!>0),"x",""))))) -> x | V38: =IF(T38="X","x",IF(T38="y","x",IF(T38="xx","x",IF(#REF!>0,"x","")))) -> x | W38: =IF(T38="X","x",IF(#REF!>0,"x","")) -> x
B39: 95875 | C39: SINAPI | D39: TRANSPORTE COM CAMINHÃO BASCULANTE DE 10 M³, EM VIA URBANA PAVIMENTADA, DMT ATÉ 30 KM (UNIDADE: M3XKM). AF_07/2020 (DMT = 7,1KM / TRECHO ATÉ BOTA FORA) | I39: 2.53 | J39: =IF(ISBLANK(I39),"",SUM(H39:I39)) -> 2.53 | K39: =IF(ISBLANK(I39),0,ROUND(J39*(1+$F$10)*(1+$F$11*E39),2)) -> 3.03 | L39: m3XKm | M39: =ROUND(M38*7.1,2) -> 2050.2 | N39: =K39 -> 3.03 | O39: =IF(ISBLANK(N39),0,ROUND(M39*N39,2)) -> 6212.11 | R39: =ROUND(Q39*M39,2) -> 0 | T39: x | U39: x | V39: x | W39: x
K40: =IF(ISBLANK(J40),0,ROUND(J40*(1+$F$10)*(1+$F$11*E40),2)) -> 0 | N40: =K40 -> 0 | O40: =IF(ISBLANK(N40),0,ROUND(M40*N40,2)) -> 0 | R40: =ROUND(Q40*M40,2) -> 0
A41: 3 | B41: 4 | D41: BASE / SUB-BASE | N41: =K41 -> 0 | P41: =SUM(O42:O47) -> 838301.35 | S41: =SUM(R42:R47) -> 0 | T41: x | U41: =IF(T41="X","x",IF(T41="xx","x",IF(T41="xy","x",IF(T41="y","x",IF(OR(O41>0,#REF!>0),"x",""))))) -> x | V41: =IF(T41="X","x",IF(T41="y","x",IF(T41="xx","x",IF(#REF!>0,"x","")))) -> x | W41: =IF(T41="X","x",IF(#REF!>0,"x","")) -> x
...

Sheet CRONOGRAMA
B2: Município: | C2: Bituruna | Z2: =IF(Y4=0,0,Y2/Y4) -> 0
B3: Projeto: | C3: Infraestrutura Loteamento Sonho Meu e Recape de vias no Bairro São João | Z3: =IF(Y3=0,0,1-Z2) -> 0
E4: CRONOGRAMA FÍSICO FINANCEIRO | P4: Valor Total | Y4: =SUM(Y9:Y22) -> 9032977.2 | Z4: =SUM(Z2:Z3) -> 0
B5: ITEM | C5: SERVIÇOS | E5: N | F5: PARCELAS (%) | Y5: TOTAL | Z5: % S/ | AC5: Controle | AD5: =IF(Y4=#REF!,"OK","erro") -> #REF!
E6: 18 | F6: 1 | G6: 2 | H6: 3 | I6: 4 | J6: 5 | K6: 6 | L6: 7 | M6: 8 | N6: 9 | O6: 10 | P6: 11 | Q6: 12 | R6: 13 | S6: 14 | T6: 15 | U6: 16 | V6: 17 | W6: 18 | Y6: ITEM (R$) | Z6: TOTAL
C7: Data Início | F7: 45810 | G7: =IF(G6=0,0,F8+1) -> 45841 | H7: =IF(H6=0,0,G8+1) -> 45872 | I7: =IF(I6=0,0,H8+1) -> 45903 | J7: =IF(J6=0,0,I8+1) -> 45934 | K7: =IF(K6=0,0,J8+1) -> 45965 | L7: =IF(L6=0,0,K8+1) -> 45996 | M7: =IF(M6=0,0,L8+1) -> 46027 | N7: =IF(N6=0,0,M8+1) -> 46058 | ... W7: =IF(W6=0,0,V8+1) -> 46337 | X7: =IF(X6=0,0,P8+1) -> 0
C8: Data Fim | F8: =IF(E6=0,0,F7+30) -> 45840 | G8: =IF(G6=0,0,G7+30) -> 45871 | H8: =IF(H6=0,0,H7+30) -> 45902 | I8: =IF(I6=0,0,I7+30) -> 45933 | J8: =IF(J6=0,0,J7+30) -> 45964 | K8: =IF(K6=0,0,K7+30) -> 45995 | L8: =IF(L6=0,0,L7+30) -> 46026 | M8: =IF(M6=0,0,M7+30) -> 46057 | N8: =IF(N6=0,0,N7+30) -> 46088 | ... X8: =IF(X6=0,0,X7+30) -> 0
A9: =CONCATENATE($E$6,"|",B9) -> 18|1 | B9: 1 | C9: SERVIÇOS PRELIMINARES | E9: 1 | F9: 100 | X9: =IF(X$6=0,0,VLOOKUP($A9,_base_cron_fp!$A:$P,X$6+4,FALSE)) -> 0 | Y9: =ORÇAMENTO!P18 -> 88179.93 | Z9: =IF($Y$24=0,0,(Y9/$Y$24)*100) -> 0.97620007 | AC9: =SUM(F9:X9) -> 100
A10: =CONCATENATE($E$6,"|",B10) -> 18|2 | B10: 2 | C10: ADMINISTRAÇÃO LOCAL | E10: 2 | F10: =100/18 -> 5.5555556 | G10: =100/18 -> 5.5555556 | H10: =100/18 -> 5.5555556 | I10: =100/18 -> 5.5555556 | J10: =100/18 -> 5.5555556 | K10: =100/18 -> 5.5555556 | L10: =100/18 -> 5.5555556 | M10: =100/18 -> 5.5555556 | ... W10: =100/18 -> 5.5555556 | X10: =IF(X$6=0,0,VLOOKUP($A10,_base_cron_fp!$A:$P,X$6+4,FALSE)) -> 0 | Y10: =ORÇAMENTO!P30 -> 195350.4 | Z10: =IF($Y$24=0,0,(Y10/$Y$24)*100) -> 2.1626358 | AC10: =SUM(F10:X10) -> 100
A11: =CONCATENATE($E$6,"|",B11) -> 18|3 | B11: 3 | C11: TERRAPLENAGEM | E11: 3 | F11: 30 | G11: 20 | H11: 20 | K11: 20 | L11: 10 | X11: =IF(X$6=0,0,VLOOKUP($A11,_base_cron_fp!$A:$P,X$6+4,FALSE)) -> 0 | Y11: =ORÇAMENTO!P33 -> 107440.57 | Z11: =IF($Y$24=0,0,(Y11/$Y$24)*100) -> 1.1894259 | AC11: =SUM(F11:X11) -> 100
A12: =CONCATENATE($E$6,"|",B12) -> 18|4 | B12: 4 | C12: BASE/ SUB-BASE | E12: 4 | K12: 20 | L12: 20 | M12: 20 | N12: 20 | O12: 20 | X12: =IF(X$6=0,0,VLOOKUP($A12,_base_cron_fp!$A:$P,X$6+4,FALSE)) -> 0 | Y12: =ORÇAMENTO!P41 -> 838301.35 | Z12: =IF($Y$24=0,0,(Y12/$Y$24)*100) -> 9.2804546 | AC12: =SUM(F12:X12) -> 100
A13: =CONCATENATE($E$6,"|",B13) -> 18|5 | B13: 5 | C13: PAVIMENTAÇÃO | E13: 5 | N13: 10 | O13: 20 | S13: 20 | T13: 20 | U13: 15 | V13: 15 | X13: =IF(X$6=0,0,VLOOKUP($A13,_base_cron_fp!$A:$P,X$6+4,FALSE)) -> 0 | Y13: =ORÇAMENTO!P48 -> 3223426 | Z13: =IF($Y$24=0,0,(Y13/$Y$24)*100) -> 35.68509 | AC13: =SUM(F13:X13) -> 100
A14: =CONCATENATE($E$6,"|",B14) -> 18|6 | B14: 6 | C14: MEIO FIO E SARJETAS | E14: 3 | M14: 10 | N14: 15 | O14: 15 | P14: 15 | Q14: 15 | R14: 15 | S14: 15 | X14: =IF(X$6=0,0,VLOOKUP($A14,_base_cron_fp!$A:$P,X$6+4,FALSE)) -> 0 | Y14: =ORÇAMENTO!P66 -> 324370.25 | Z14: =IF($Y$24=0,0,(Y14/$Y$24)*100) -> 3.5909562 | AC14: =SUM(F14:X14) -> 100
A15: =CONCATENATE($E$6,"|",B15) -> 18|7 | B15: 7 | C15: SERVIÇOS DE URBANIZAÇÃO | E15: 5 | N15: 5 | O15: 10 | P15: 10 | Q15: 15 | R15: 15 | S15: 15 | T15: 15 | U15: 10 | V15: 5 | X15: =IF(X$6=0,0,VLOOKUP($A15,_base_cron_fp!$A:$P,X$6+4,FALSE)) -> 0 | Y15: =ORÇAMENTO!P72 -> 680805 | Z15: =IF($Y$24=0,0,(Y15/$Y$24)*100) -> 7.5368839 | AC15: =SUM(F15:X15) -> 100
A16: =CONCATENATE($E$6,"|",B16) -> 18|8 | B16: 8 | C16: SINALIZAÇÃO DE TRÂNSITO | E16: 6 | U16: 10 | V16: 10 | W16: 80 | X16: =IF(X$6=0,0,VLOOKUP($A16,_base_cron_fp!$A:$P,X$6+4,FALSE)) -> 0 | Y16: =ORÇAMENTO!P84 -> 115091.76 | Z16: =IF($Y$24=0,0,(Y16/$Y$24)*100) -> 1.2741288 | AC16: =SUM(F16:X16) -> 100
A17: =CONCATENATE($E$6,"|",B17) -> 18|9 | B17: 9 | C17: MURO DE CONTENÇÃO | E17: 6 | F17: 20 | G17: 20 | H17: 30 | I17: 15 | J17: 15 | X17: =IF(X$6=0,0,VLOOKUP($A17,_base_cron_fp!$A:$P,X$6+4,FALSE)) -> 0 | Y17: =ORÇAMENTO!P92 -> 66126.71 | Z17: =IF($Y$24=0,0,(Y17/$Y$24)*100) -> 0.73205886 | AC17: =SUM(F17:X17) -> 100
C18: MURO DE GABIÃO | L18: 20 | M18: 30 | N18: 30 | O18: 20 | Y18: =ORÇAMENTO!P126 -> 877510.42 | Z18: =IF($Y$24=0,0,(Y18/$Y$24)*100) -> 9.7145205 | AC18: =SUM(F18:X18) -> 100
A19: =CONCATENATE($E$6,"|",B19) -> 18|10 | B19: 10 | C19: REDE DE ABASTECIMENTO DE ÁGUA | H19: 10 | I19: 20 | J19: 30 | K19: 20 | L19: 20 | X19: =IF(X$6=0,0,VLOOKUP($A19,_base_cron_fp!$A:$P,X$6+4,FALSE)) -> 0 | Y19: =ORÇAMENTO!P135 -> 260540.01 | Z19: =IF($Y$24=0,0,(Y19/$Y$24)*100) -> 2.8843205 | AC19: =SUM(F19:X19) -> 100
C20: REDE COLETORA DE ESGOTO | G20: 10 | H20: 20 | I20: 20 | J20: 20 | K20: 20 | L20: 10 | Y20: =ORÇAMENTO!P153 -> 1010474.8 | Z20: =IF($Y$24=0,0,(Y20/$Y$24)*100) -> 11.186509 | AC20: =SUM(F20:X20) -> 100
C21: REDE DE DRENAGEM | I21: 20 | J21: 25 | K21: 25 | L21: 20 | M21: 10 | Y21: =ORÇAMENTO!P188 -> 1227903.2 | Z21: =IF($Y$24=0,0,(Y21/$Y$24)*100) -> 13.59356 | AC21: =SUM(F21:X21) -> 100
A22: =CONCATENATE($E$6,"|",B22) -> 18| | C22: ENSAIOS TECNOLÓGICOS | O22: 3 | T22: 12 | V22: 21 | W22: 64 | X22: =IF(X$6=0,0,VLOOKUP($A22,_base_cron_fp!$A:$P,X$6+4,FALSE)) -> 0 | Y22: =ORÇAMENTO!P269 -> 17456.77 | Z22: =IF($Y$24=0,0,(Y22/$Y$24)*100) -> 0.193256 | AC22: =SUM(F22:X22) -> 100
C24: TOTAIS | D24: TOTAIS | Y24: =SUM(Y9:Y23) -> 9032977.2 | Z24: =SUM(Z9:Z22) -> 100
B25: Resp. Técnico: | F25: Assinatura: | X25: data: XX/XX/2025
G26: ___________________________
